{"text_format":"1","workbook":"xlsx","n_sheets":12,"sheets":["Cover Sheet","QNST01","QNST02","QNST03","QNST04","QNST05_A","QNST05_B","Matrix_Schema","L5A","L5B","CBM","List"],"not_rendered":{"charts":0,"images":34,"macros":1,"external_links":0,"defined_names":5,"comments":1,"pivot_tables":0},"unopened":[],"bounds":{"document_bytes":16777216,"sheet_cells":100000,"rows_first":2000,"rows_last":500,"rows_between":2000,"halvings":0,"cell_chars":16384,"cell_head_chars":4096},"cells_cut":0,"cells_raw":0,"read":"row_number_cap","date_system":"1900"}

{"sheet":"Cover Sheet","index":0,"n_rows":41,"n_cols":4,"rows_kept":41,"cut":false,"hidden":false,"merged":[[4,1,4,2],[5,0,5,4],[6,0,6,4],[9,1,10,2]]}
[]
[]
[]
[]
[]
["MFSA"]
["MALTA FINANCIAL SERVICES AUTHORITY"]
[]
[]
[null,"Quarterly National Specific Templates"]
[]
[]
[]
["1(a)","Name of Licence Holder"]
[]
["1(b)","Code"]
[]
[2,"Type of business carried out","General Business",""]
[]
[]
[3,"   For the period from:"]
[null,"   to:"]
[]
[4,"Currency in which accounts are reported","EUR"]
[null,"Exchange Rate to Euro at period end "]
[]
[]
[null,"Version 09/2024"]
[]
[]
[]
[]
[]
[]
[null,null,"Long Term Business"]
[null,null,"General Business"]
[null,null,"Pure Reinsurance Business"]
[null,"EUR","Composite"]
[null,"GBP"]
[null,"USD"]
[null,"SEK"]

{"sheet":"QNST01","index":1,"n_rows":35,"n_cols":6,"rows_kept":35,"cut":false,"hidden":false,"merged":[[30,0,30,4],[31,1,31,3],[32,0,32,4],[34,1,34,4],[22,0,22,4],[23,1,23,3],[24,1,24,3],[28,1,28,3],[13,0,13,4],[14,1,14,3],[18,1,18,3],[29,1,29,3],[19,1,19,3],[15,1,15,3],[16,1,16,3],[17,1,17,3],[21,1,21,3],[12,1,12,3],[0,2,0,4],[1,2,1,4],[3,2,3,4],[4,2,4,4],[6,0,6,4]]}
["Name of licenceholder:",null,{"$f":"'Cover Sheet'!C14","v":0}]
["Type of business carried out:",null,"General Business"]
["Period from:",null,{"$f":"'Cover Sheet'!C21","v":"00:00:00"},"to",{"$f":"'Cover Sheet'!C22","v":"00:00:00"}]
["Document type:",null,"MFSA National Specific Templates"]
["Sheet Code:",null,"QNST01"]
[]
["Technical Account - General Business"]
[]
[null,null,null,null,"Amount"]
[null,"Currency",null,null,"EUR"]
[1.1000000000000001,"Contracts measured under the Premium Allocation Approach",null,null,0]
[1.1100000000000001,"Contracts not measured under the Premium Allocation Approach",null,null,0]
[1,"Insurance revenue",null,null,{"$f":"SUM(E11:E12)","v":0},"calc."]
[]
[2.1,"Incurred claims and insurance services expenses",null,null,0]
[2.11,"Amortisation of insurance acquisition cash flows",null,null,0]
[2.12,"Losses and reversals of losses on onerous contracts",null,null,0]
[2.13,"Adjustments to liabilities for incurred claims",null,null,0]
[2.14,"(Impairment losses) and reversals of Insurance Acquisition Cash flows assets",null,null,0]
[2,"Insurance service expenses",null,null,{"$f":"SUM(E15:E19)","v":0},"calc."]
[]
[3,"Insurance service result before reinsurance contracts held",null,null,{"$f":"E13-E20","v":0},"calc."]
[]
[4.0999999999999996,"Allocation of reinsurance premiums paid",null,null,0]
[4.1100000000000003,"Amounts recoverable from reinsurers",null,null,0]
[4.12,"        Recoveries of incurred claims and other insurance service expenses",null,null,0]
[4.13,"        Recoveries and reversals of recoveries of losses on onerous underlying contracts",null,null,0]
[4.1399999999999997,"        Adjustments to assets for incurred claims"]
[4.1500000000000004,"Effect of changes in non-performance risk of reinsurers",null,null,0]
[4,"Net expenses from reinsurance contracts",null,null,{"$f":"SUM(E24:E29)","v":0},"calc."]
[]
[5,"Insurance Service Result - General Business",null,null,{"$f":"E22-E30","v":0},"calc."]
[]
[null,"Notes"]
["i","Please key in a value for each cell in the table where there is a validation. Where the cell contains no value, a value of zero is to be keyed in."]

{"sheet":"QNST02","index":2,"n_rows":35,"n_cols":6,"rows_kept":35,"cut":false,"hidden":false,"merged":[[32,0,32,4],[34,1,34,4],[13,0,13,4],[14,1,14,3],[15,1,15,3],[16,1,16,3],[17,1,17,3],[18,1,18,3],[24,1,24,3],[19,1,19,3],[21,1,21,3],[22,0,22,4],[23,1,23,3],[28,1,28,3],[29,1,29,3],[30,0,30,4],[31,1,31,3],[12,1,12,3],[0,2,0,4],[1,2,1,4],[3,2,3,4],[4,2,4,4],[6,0,6,4]]}
["Name of licenceholder:",null,{"$f":"'Cover Sheet'!C14","v":0}]
["Type of business carried out:",null,"Life Business"]
["Period from:",null,{"$f":"'Cover Sheet'!C21","v":"00:00:00"},"to",{"$f":"'Cover Sheet'!C22","v":"00:00:00"}]
["Document type:",null,"MFSA National Specific Templates"]
["Sheet Code:",null,"QNST02"]
[]
["Technical Account - Life Business"]
[]
[null,null,null,null,"Amount"]
[null,"Currency",null,null,"EUR"]
[1.1000000000000001,"Contracts measured under the Premium Allocation Approach",null,null,0]
[1.1100000000000001,"Contracts not measured under the Premium Allocation Approach",null,null,0]
[1,"Insurance revenue",null,null,{"$f":"SUM(E11:E12)","v":0},"calc."]
[]
[2.1,"Incurred claims and insurance services expenses",null,null,0]
[2.11,"Amortisation of insurance acquisition cash flows",null,null,0]
[2.12,"Losses and reversals of losses on onerous contracts",null,null,0]
[2.13,"Adjustments to liabilities for incurred claims",null,null,0]
[2.14,"(Impairment losses) and reversals of Insurance Acquisition Cash flows assets",null,null,0]
[2,"Insurance service expenses",null,null,{"$f":"SUM(E15:E19)","v":0},"calc."]
[]
[3,"Insurance service result before reinsurance contracts held",null,null,{"$f":"E13-E20","v":0},"calc."]
[]
[4.0999999999999996,"Allocation of reinsurance premiums paid",null,null,0]
[4.1100000000000003,"Amounts recoverable from reinsurers",null,null,0]
[4.12,"        Recoveries of incurred claims and other insurance service expenses",null,null,0]
[4.13,"        Recoveries and reversals of recoveries of losses on onerous underlying contracts",null,null,0]
[4.1399999999999997,"        Adjustments to assets for incurred claims",null,null,0]
[4.1500000000000004,"Effect of changes in non-performance risk of reinsurers",null,null,0]
[4,"Net expenses from reinsurance contracts",null,null,{"$f":"SUM(E24:E29)","v":0},"calc."]
[]
[5,"Insurance Service Result - Life Business",null,null,{"$f":"E22-E30","v":0},"calc."]
[]
[null,"Notes"]
["i","Please key in a value for each cell in the table where there is a validation. Where the cell contains no value, a value of zero is to be keyed in."]

{"sheet":"QNST03","index":3,"n_rows":43,"n_cols":6,"rows_kept":43,"cut":false,"hidden":false,"merged":[[26,1,26,3],[27,1,27,3],[28,1,28,3],[29,1,29,3],[35,1,35,3],[30,1,30,3],[31,1,31,3],[32,1,32,3],[33,1,33,3],[34,1,34,3],[36,1,36,3],[37,1,37,3],[39,1,39,3],[42,1,42,4],[15,1,15,3],[16,1,16,3],[18,1,18,3],[38,1,38,3],[19,1,19,3],[17,1,17,3],[20,1,20,3],[21,1,21,3],[22,1,22,3],[24,1,24,3],[23,1,23,3],[25,1,25,3],[14,1,14,3],[0,2,0,4],[1,2,1,4],[3,2,3,4],[4,2,4,4],[6,0,6,4],[9,1,9,3],[10,1,10,3],[11,1,11,3],[12,1,12,3],[13,1,13,3]]}
["Name of licenceholder:",null,{"$f":"'Cover Sheet'!C14","v":0}]
["Type of business carried out:",null,{"$f":"'Cover Sheet'!C18","v":"General Business"}]
["Period from:",null,{"$f":"'Cover Sheet'!C21","v":"00:00:00"},"to",{"$f":"'Cover Sheet'!C22","v":"00:00:00"}]
["Document type:",null,"MFSA National Specific Templates"]
["Sheet Code:",null,"QNST03"]
[]
["Non-Technical Account"]
[]
[null,null,null,null,"Amount"]
[null,"Currency",null,null,"EUR"]
[1.1000000000000001,"Insurance Service Result - General Business",null,null,{"$f":"QNST01!E32","v":0}]
[1.1100000000000001,"Insurance Service Result - Life Business",null,null,{"$f":"QNST02!E32","v":0}]
[]
[1,"Insurance Service Result - Total",null,null,{"$f":"SUM(E11:E12)","v":0},"calc."]
[]
[2.1,"Interest revenue calculated using the effective interest method"]
[2.11,"Other investment revenue"]
[2.12,"Net impairment gain/(loss) on financial assets"]
[2,"Investment return",null,null,{"$f":"SUM(E16:E18)","v":0},"calc."]
[]
[3.1,"Net finance expenses from insurance contracts"]
[3.11,"Net finance income from reinsurance contracts"]
[3.12,"Movement in investment contract liabilities"]
[3.13,"Movement in third party interests in consolidated funds"]
[3,"Other financial expenses",null,null,{"$f":"SUM(E21:E24)","v":0},"calc."]
[]
[4,"Net financial result",null,null,{"$f":"E19-E25","v":0},"calc."]
[]
[5.0999999999999996,"Revenue from investment management services"]
[5.1100000000000003,"Other income"]
[5.12,"Other operating expenses"]
[5.13,"Other finance costs"]
[5.14,"Share of profit for equity-accounted investees, net of tax"]
[5,"Other income/expenses",null,null,{"$f":"SUM(E29:E33)","v":0},"calc."]
[]
[6,"Profit before tax",null,null,{"$f":"E14+E27+E34","v":0},"calc."]
[]
[7,"Income tax expense"]
[]
[8,"Profit after tax",null,null,{"$f":"E36+E38","v":0},"calc."]
[]
[null,"Notes"]
["i","Please key in a value for each cell in the table. Where the cell contains no value, a value of zero is to be keyed in."]

{"sheet":"QNST04","index":4,"n_rows":143,"n_cols":5,"rows_kept":143,"cut":false,"hidden":false,"merged":[[58,1,58,2],[119,1,119,2],[120,1,120,2],[64,1,64,2],[66,1,66,2],[67,1,67,2],[68,1,68,2],[111,1,111,2],[112,1,112,2],[113,1,113,2],[114,1,114,2],[109,1,109,2],[106,1,106,2],[107,1,107,2],[108,1,108,2],[99,1,99,2],[100,1,100,2],[101,1,101,2],[102,1,102,2],[103,1,103,2],[97,1,97,2],[98,1,98,2],[104,1,104,2],[105,1,105,2],[51,1,51,2],[52,1,52,2],[75,1,75,2],[78,1,78,2],[82,1,82,2],[93,1,93,2],[94,1,94,2],[95,1,95,2],[96,1,96,2],[59,1,59,2],[60,1,60,2],[61,1,61,2],[62,1,62,2],[63,1,63,2],[56,1,56,2],[57,1,57,2],[81,1,81,2],[88,1,88,2],[89,1,89,2],[71,1,71,2],[74,1,74,2],[91,1,91,2],[92,1,92,2],[90,1,90,2],[126,1,126,2],[115,1,115,2],[116,1,116,2],[117,1,117,2],[118,1,118,2],[142,1,142,4],[134,1,134,2],[135,1,135,2],[136,1,136,2],[137,1,137,2],[138,1,138,2],[141,1,141,4],[127,0,127,4],[128,1,128,2],[130,1,130,2],[131,1,131,2],[132,1,132,2],[133,1,133,2],[121,1,121,2],[122,1,122,2],[123,1,123,2],[124,1,124,2],[125,1,125,2],[28,1,28,2],[29,1,29,2],[30,1,30,2],[31,1,31,2],[32,1,32,2],[33,1,33,2],[43,1,43,2],[44,1,44,2],[47,1,47,2],[34,1,34,2],[41,1,41,2],[40,1,40,2],[42,1,42,2],[35,1,35,2],[36,1,36,2],[37,1,37,2],[38,1,38,2],[39,1,39,2],[45,1,45,2],[46,1,46,2],[22,1,22,2],[23,1,23,2],[24,1,24,2],[25,1,25,2],[26,1,26,2],[27,1,27,2],[16,1,16,2],[17,1,17,2],[18,1,18,2],[19,1,19,2],[20,1,20,2],[21,1,21,2],[9,1,9,2],[10,1,10,2],[12,1,12,2],[13,1,13,2],[14,1,14,2],[15,1,15,2],[0,2,0,4],[1,2,1,4],[3,2,3,4],[4,2,4,4],[7,1,7,2],[8,1,8,2],[11,1,11,2]]}
["Name of licenceholder:",null,{"$f":"'Cover Sheet'!C14","v":0}]
["Type of business carried out:",null,{"$f":"'Cover Sheet'!C18","v":"General Business"}]
["Period from:",null,{"$f":"'Cover Sheet'!C21","v":"00:00:00"},"to",{"$f":"'Cover Sheet'!C22","v":"00:00:00"}]
["Document type:",null,"MFSA National Specific Templates"]
["Sheet Code:",null,"QNST04"]
[]
[null,null,null,"Solvency II Value","Management Accounts - Balance Sheet Value"]
[null,"Currency",null,"EUR","EUR"]
[null,"Assets"]
[1,"Goodwill"]
[2,"Intangible assets"]
[3,"   Right-of-use assets"]
[4,"Deferred tax assets"]
[5,"Employee benefit surplus"]
[6,"Property, plant & equipment held for own use"]
[7,"Investments (other than assets held for index-linked and unit-linked contracts) ",null,{"$f":"D17+D18+D19+D22+D27+D28+D29+D30","v":0},{"$f":"E17+E18+E19+E22+E27+E28+E29+E30","v":0}]
[8,"Property (other than for own use)"]
[9,"Holdings in related undertakings, including participations"]
[10,"Equities",null,{"$f":"SUM(D20:D21)","v":0},{"$f":"SUM(E20:E21)","v":0}]
[11,"Equities - listed"]
[12,"Equities - unlisted"]
[13,"Bonds",null,{"$f":"SUM(D23:D26)","v":0},{"$f":"SUM(E23:E26)","v":0}]
[14,"Government Bonds"]
[15,"Corporate Bonds"]
[16,"Structured notes"]
[17,"Collateralised securities"]
[18,"Collective Investments Undertakings"]
[19,"Derivatives"]
[20,"Deposits other than cash equivalents"]
[21,"Other investments"]
[22,"Assets held for index-linked and unit-linked contracts"]
[23,"Loans and mortgages",null,{"$f":"SUM(D33:D35)","v":0},{"$f":"SUM(E33:E35)","v":0}]
[24,"Loans on policies"]
[25,"Loans and mortgages to individuals"]
[26,"Other loans and mortgages"]
[27,"Reinsurance recoverables ",null,{"$f":"D37+D40+D43","v":0},{"$f":"E37+E40+E43","v":0}]
[28,"Non-life and health similar to non-life",null,{"$f":"SUM(D38:D39)","v":0},{"$f":"SUM(E38:E39)","v":0}]
[29,"Non-life excluding health"]
[30,"Health similar to non-life"]
[31,"Life and health similar to life, excluding health and index-linked and unit-linked",null,{"$f":"SUM(D41:D42)","v":0},{"$f":"SUM(E41:E42)","v":0}]
[32,"Health similar to life"]
[33,"Life excluding health and index-linked and unit-linked"]
[34,"Life index-linked and unit-linked"]
[35,"  Insurance Contract Assets",null,null,{"$f":"E45+E46","v":0}]
[36,"    Assets for insurance acquisition cash flows"]
[37,"    Insurance contract balances"]
[38,"  Reinsurance Contract Assets (Premium Allocation Approach)",null,null,{"$f":"E48+E51","v":0}]
[39,"       Assets for remaining coverage",null,null,{"$f":"SUM(E49:E50)","v":0}]
[40,"        Excluding loss recovery component"]
[41,"        Loss recovery component"]
[42,"    Asset for incurred claims"]
[43,"  Reinsurance Contract Assets (General Measurement Model)",null,null,{"$f":"E53+E56","v":0}]
[44,"       Assets for remaining coverage",null,null,{"$f":"E54+E55","v":0}]
[45,"        Excluding loss recovery component"]
[46,"        Loss recovery component"]
[47,"    Asset for incurred claims"]
[48,"Deposits to cedants"]
[49,"Receivables due from intermediaries acting on behalf of the insurer"]
[50,"Reinsurance receivables"]
[51,"Receivables (trade, not insurance)"]
[52,"Own shares (held directly)"]
[53,"Amounts due in respect of own fund items or initial fund called up but not yet paid in"]
[54,"Cash and cash equivalents"]
[55,"Any other assets, not elsewhere shown"]
[56,"Total assets",null,{"$f":"D11+D13+D14+D15+D16+D31+D32+D36+D57+D58+D59+D60+D61+D62+D63+D64","v":0},{"$f":"E10+E11+E12+E13+E14+E15+E16+E31+E32+E36+E44+E47+E52+E57+E58+E60+E61+E62+E63+E64","v":0}]
[]
[null,"Liabilities"]
[57,"Insurance contract liabilities (Premium Allocation Approach)",null,null,{"$f":"E69+E72","v":0}]
[58,"Liability for remaining coverage",null,null,{"$f":"SUM(E70:E71)","v":0}]
[59,"   Excluding Loss component"]
[60,"   Loss component"]
[61,"Liability for incurred claims",null,null,{"$f":"SUM(E73:E74)","v":0}]
[62,"  Estimates of the present value of future cash flows"]
[63,"  Risk adjustment"]
[64,"Insurance contract liabilities (General Measurement Model/Variable Fee Approach)",null,null,{"$f":"E76+E79","v":0}]
[65,"Liability for remaining coverage",null,null,{"$f":"SUM(E77:E78)","v":0}]
[66,"   Excluding Loss component"]
[67,"   Loss component"]
[68,"Liability for incurred claims",null,null,{"$f":"SUM(E80:E81)","v":0}]
[69,"  Estimates of the present value of future cash flows"]
[70,"  Risk adjustment"]
[71,"Reinsurance Contract Liabilities",null,null,{"$f":"E83+E86","v":0}]
[72,"     Assets for remaining coverage",null,null,{"$f":"SUM(E84:E85)","v":0}]
[73,"    Excluding loss recovery component"]
[74,"    Loss recovery component"]
[75,"  Asset for incurred claims",null,null,{"$f":"SUM(E87:E88)","v":0}]
[76,"     Estimates of the present value of future cash flows"]
[77,"     Risk adjustment"]
[78,"Technical provisions – non-life (SII Basis)",null,{"$f":"D90+D94","v":0}]
[79,"Technical provisions – non-life (excluding health)",null,{"$f":"SUM(D91:D93)","v":0}]
[80,"TP calculated as a whole"]
[81,"Best Estimate"]
[82,"Risk margin"]
[83,"Technical provisions - health (similar to non-life)",null,{"$f":"SUM(D95:D97)","v":0}]
[84,"TP calculated as a whole"]
[85,"Best Estimate"]
[86,"Risk margin"]
[87,"Technical provisions - life (excluding index-linked and unit-linked)",null,{"$f":"D99+D103+D107","v":0}]
[88,"Technical provisions - health (similar to life)",null,{"$f":"SUM(D100:D102)","v":0}]
[89,"TP calculated as a whole"]
[90,"Best Estimate"]
[91,"Risk margin"]
[92,"Technical provisions – life (excluding health and index-linked and unit-linked)",null,{"$f":"SUM(D104:D106)","v":0}]
[93,"TP calculated as a whole"]
[94,"Best Estimate"]
[95,"Risk margin"]
[96,"Technical provisions – index-linked and unit-linked",null,{"$f":"SUM(D108:D110)","v":0}]
[97,"TP calculated as a whole"]
[98,"Best Estimate"]
[99,"Risk margin"]
[100,"Lease liabilities"]
[101,"Contingent liabilities"]
[102,"Provisions other than technical provisions"]
[103,"Employee benefit obligation"]
[104,"Deposits from reinsurers"]
[105,"Deferred tax liabilities"]
[106,"Derivatives"]
[107,"Debts owed to credit institutions"]
[108,"Financial liabilities other than debts owed to credit institutions"]
[109,"Insurance & intermediaries payables"]
[110,"Reinsurance payables"]
[111,"Payables (trade, not insurance)"]
[112,"Subordinated liabilities",null,{"$f":"SUM(D124:D125)","v":0},{"$f":"SUM(E124:E125)","v":0}]
[113,"Subordinated liabilities not in basic own funds"]
[114,"Subordinated liabilities in basic own funds"]
[115,"Any other liabilities, not elsewhere shown"]
[116,"Total liabilities",null,{"$f":"D89+D98+D112+D113+D114+D115+D116+D117+D118+D119+D122+D123+D126+D120+D121","v":0},{"$f":"E68+E75+E82+E111+E113+E114+E115+E116+E117+E118+E119+E122+E126+E123","v":0}]
[]
[117,"Excess of assets over liabilities",null,{"$f":"D65-D127","v":0}]
[]
[null,"Equity and Reserves"]
[118,"Share capital"]
[119,"Share premium"]
[120,"Capital Contribution"]
[121,"Other reserves"]
[122,"Retained earnings"]
[123,"Profit for the year"]
[124,"Dividend paid"]
[125,"Total Equity and Reserves",null,null,{"$f":"SUM(E132:E138)","v":0}]
[]
[null,"Notes"]
["i","Please key in a value for each cell in the table where there is a validation. Where the cell contains no value, a value of zero is to be keyed in."]
["ii","The deduction of Total Assets less Total Liabilities should be equal to the Total Equity and Reserves for the values in the Management Accounts - Balance Sheet Value column."]

{"sheet":"QNST05_A","index":5,"n_rows":54,"n_cols":9,"rows_kept":54,"cut":false,"hidden":false,"merged":[[9,6,11,6],[9,7,11,7],[9,8,11,8],[1,2,1,4],[2,2,2,4],[4,2,4,4],[5,2,5,4],[9,1,11,1],[9,2,11,2],[9,3,11,3],[9,4,11,4],[9,5,11,5]]}
[]
[null,"Name of licenceholder:",{"$f":"'Cover Sheet'!C14","v":0}]
[null,"Type of business carried out:",{"$f":"'Cover Sheet'!C18","v":"General Business"}]
[null,"Period from:",{"$f":"'Cover Sheet'!C21","v":"00:00:00"},"to",{"$f":"'Cover Sheet'!C22","v":"00:00:00"}]
[null,"Document type:","MFSA National Specific Templates"]
[null,"Sheet Code:","QNST05_A"]
[]
[null,"Activity by Country - General Business - This sheet is to be completed by all insurance undertakings carrying out insurance/reinsurance business activities inside and outside Malta."]
[]
[null,"Jurisdiction","Line of business","FOS / FOE / Non-EEA / Not applicable *","Gross Premiums Written **","Gross Claims Incurred ***","Gross Commissions ****","Number of contracts *****"]
[]
[]
[]
[]
[]
[]
[]
[]
[]
[]
[]
[]
[]
[]
[]
[null,null,null,null,null,null,null,null," "]
[]
[]
[]
[]
[]
[]
[]
[]
[]
[]
[]
[]
[]
[]
[]
[]
[]
[]
[]
[null,"Total",null,null,{"$f":"SUM(E13:E45)","v":0},{"$f":"SUM(F13:F45)","v":0},{"$f":"SUM(G13:G45)","v":0},{"$f":"SUM(H13:H45)","v":0}]
[]
[null,"* Not applicable is to be selected for insurance and reinsurance business carried out in Malta. "]
[null,"** Gross Premiums Written shall comprise all amounts due during the financial year in respect of insurance contracts, regardless of the fact that such amounts may relate in whole or in part to a later financial year. "]
[null,"*** Gross Claims Incurred means the sum of the claims paid and the change in the provision for claims during the financial year related to insurance contracts. This shall exclude claims management expenses. "]
[null,"**** Gross Commissions are commission costs, costs of selling, underwriting and initiating an insurance contract that has been issued."]
[null,"***** For insurance undertakings carrying out insurance business this should be the number of policies issues. This is not applicable for insurance undertakings carrying out reinsurance business."]
[]
[null,"N.B - You may add more activities by inserting new rows."]

{"sheet":"QNST05_B","index":6,"n_rows":51,"n_cols":8,"rows_kept":51,"cut":false,"hidden":false,"merged":[[9,5,11,5],[9,6,11,6],[9,7,11,7],[47,1,47,6],[1,2,1,4],[2,2,2,4],[4,2,4,4],[5,2,5,4],[9,1,11,1],[9,2,11,2],[9,3,11,3],[9,4,11,4]]}
[]
[null,"Name of licenceholder:",{"$f":"'Cover Sheet'!C14","v":0}]
[null,"Type of business carried out:",{"$f":"'Cover Sheet'!C18","v":"General Business"}]
[null,"Period from:",{"$f":"'Cover Sheet'!C21","v":"00:00:00"},"to",{"$f":"'Cover Sheet'!C22","v":"00:00:00"}]
[null,"Document type:","MFSA National Specific Templates"]
[null,"Sheet Code:","QNST05_B"]
[]
[null,"Activity by Country - Life Business - This sheet is to be completed by all insurance undertakings carrying out insurance/reinsurance business activities inside and outside Malta."]
[]
[null,"Jurisdiction","Line of business","FOS / FOE / Non-EEA / Not applicable *","Gross Premiums Written **","Number of contracts ","Gross Commissions ***"]
[]
[]
[]
[]
[]
[]
[]
[]
[]
[]
[]
[]
[]
[]
[null,null,null,null,null,null,null," "]
[]
[]
[]
[]
[]
[]
[]
[]
[]
[]
[]
[]
[]
[]
[]
[]
[]
[]
[]
[null,"Total",null,null,{"$f":"SUM(E13:E44)","v":0},{"$f":"SUM(F13:F44)","v":0},{"$f":"SUM(G13:G44)","v":0}]
[]
[null,"* Not applicable is to be selected for insurance and reinsurance business carried out in Malta. "]
[null,"** Gross Premiums Written shall comprise all amounts due during the financial year in respect of insurance contracts, regardless of the fact that such amounts may relate in whole or in part to a later financial year. "]
[null,"*** Gross Commissions are commission costs, costs of selling, underwriting and initiating an insurance contract that has been issued."]
[]
[null,"N.B - You may add more activities by inserting new rows."]

{"sheet":"Matrix_Schema","index":7,"n_rows":1048572,"n_cols":16381,"rows_kept":1125,"cut":true,"hidden":true,"merged":[],"bounds":{"rows_first":500,"rows_last":125,"rows_between":500,"halvings":2}}
["CUBEiD","REPCUR","ENTITYID","GEOAREA","REFERENCE_DATE","TYPINS","AMOUNT","CLAIMS","MGTACC","PREMIUMS","RATIO","SOLVII","INCOME","EXPENDITURE","JURISDICTION","LINEOFBUSINESS","LICENSE","GPW","GCI","GCP","NOCONTRACTS"]
["CMQNT_50800","¬+'Cover Sheet'!$C$24","ENTITY_ID","--- na ---","¬TEXT(+'Cover Sheet'!C$22,\"yyyymmdd\")",50800,"¬IF(ISERROR(TRUNC(+QNST01!E11,4))¬TRUE,\"\",TRUNC(+QNST01!E11,4))","--- na ---","--- na ---","--- na ---","--- na ---","--- na ---","--- na ---","--- na ---","--- na ---","--- na ---","--- na ---","--- na ---","--- na ---","--- na ---","--- na ---"]
["CMQNT_50820","¬+'Cover Sheet'!$C$24","ENTITY_ID","--- na ---","¬TEXT(+'Cover Sheet'!C$22,\"yyyymmdd\")",50820,"¬IF(ISERROR(TRUNC(+QNST01!E12,4))¬TRUE,\"\",TRUNC(+QNST01!E12,4))","--- na ---","--- na ---","--- na ---","--- na ---","--- na ---","--- na ---","--- na ---","--- na ---","--- na ---","--- na ---","--- na ---","--- na ---","--- na ---","--- na ---"]
["CMQNT_50840","¬+'Cover Sheet'!$C$24","ENTITY_ID","--- na ---","¬TEXT(+'Cover Sheet'!C$22,\"yyyymmdd\")",50840,"¬IF(ISERROR(TRUNC(+QNST01!E13,4))¬TRUE,\"\",TRUNC(+QNST01!E13,4))","--- na ---","--- na ---","--- na ---","--- na ---","--- na ---","--- na ---","--- na ---","--- na ---","--- na ---","--- na ---","--- na ---","--- na ---","--- na ---","--- na ---"]
["CMQNT_50860","¬+'Cover Sheet'!$C$24","ENTITY_ID","--- na ---","¬TEXT(+'Cover Sheet'!C$22,\"yyyymmdd\")",50860,"¬IF(ISERROR(TRUNC(+QNST01!E15,4))¬TRUE,\"\",TRUNC(+QNST01!E15,4))","--- na ---","--- na ---","--- na ---","--- na ---","--- na ---","--- na ---","--- na ---","--- na ---","--- na ---","--- na ---","--- na ---","--- na ---","--- na ---","--- na ---"]
["CMQNT_50880","¬+'Cover Sheet'!$C$24","ENTITY_ID","--- na ---","¬TEXT(+'Cover Sheet'!C$22,\"yyyymmdd\")",50880,"¬IF(ISERROR(TRUNC(+QNST01!E16,4))¬TRUE,\"\",TRUNC(+QNST01!E16,4))","--- na ---","--- na ---","--- na ---","--- na ---","--- na ---","--- na ---","--- na ---","--- na ---","--- na ---","--- na ---","--- na ---","--- na ---","--- na ---","--- na ---"]
["CMQNT_50900","¬+'Cover Sheet'!$C$24","ENTITY_ID","--- na ---","¬TEXT(+'Cover Sheet'!C$22,\"yyyymmdd\")",50900,"¬IF(ISERROR(TRUNC(+QNST01!E17,4))¬TRUE,\"\",TRUNC(+QNST01!E17,4))","--- na ---","--- na ---","--- na ---","--- na ---","--- na ---","--- na ---","--- na ---","--- na ---","--- na ---","--- na ---","--- na ---","--- na ---","--- na ---","--- na ---"]
["CMQNT_50920","¬+'Cover Sheet'!$C$24","ENTITY_ID","--- na ---","¬TEXT(+'Cover Sheet'!C$22,\"yyyymmdd\")",50920,"¬IF(ISERROR(TRUNC(+QNST01!E18,4))¬TRUE,\"\",TRUNC(+QNST01!E18,4))","--- na ---","--- na ---","--- na ---","--- na ---","--- na ---","--- na ---","--- na ---","--- na ---","--- na ---","--- na ---","--- na ---","--- na ---","--- na ---","--- na ---"]
["CMQNT_50940","¬+'Cover Sheet'!$C$24","ENTITY_ID","--- na ---","¬TEXT(+'Cover Sheet'!C$22,\"yyyymmdd\")",50940,"¬IF(ISERROR(TRUNC(+QNST01!E19,4))¬TRUE,\"\",TRUNC(+QNST01!E19,4))","--- na ---","--- na ---","--- na ---","--- na ---","--- na ---","--- na ---","--- na ---","--- na ---","--- na ---","--- na ---","--- na ---","--- na ---","--- na ---","--- na ---"]
["CMQNT_50960","¬+'Cover Sheet'!$C$24","ENTITY_ID","--- na ---","¬TEXT(+'Cover Sheet'!C$22,\"yyyymmdd\")",50960,"¬IF(ISERROR(TRUNC(+QNST01!E20,4))¬TRUE,\"\",TRUNC(+QNST01!E20,4))","--- na ---","--- na ---","--- na ---","--- na ---","--- na ---","--- na ---","--- na ---","--- na ---","--- na ---","--- na ---","--- na ---","--- na ---","--- na ---","--- na ---"]
["CMQNT_50980","¬+'Cover Sheet'!$C$24","ENTITY_ID","--- na ---","¬TEXT(+'Cover Sheet'!C$22,\"yyyymmdd\")",50980,"¬IF(ISERROR(TRUNC(+QNST01!E22,4))¬TRUE,\"\",TRUNC(+QNST01!E22,4))","--- na ---","--- na ---","--- na ---","--- na ---","--- na ---","--- na ---","--- na ---","--- na ---","--- na ---","--- na ---","--- na ---","--- na ---","--- na ---","--- na ---"]
["CMQNT_51000","¬+'Cover Sheet'!$C$24","ENTITY_ID","--- na ---","¬TEXT(+'Cover Sheet'!C$22,\"yyyymmdd\")",51000,"¬IF(ISERROR(TRUNC(+QNST01!E24,4))¬TRUE,\"\",TRUNC(+QNST01!E24,4))","--- na ---","--- na ---","--- na ---","--- na ---","--- na ---","--- na ---","--- na ---","--- na ---","--- na ---","--- na ---","--- na ---","--- na ---","--- na ---","--- na ---"]
["CMQNT_51020","¬+'Cover Sheet'!$C$24","ENTITY_ID","--- na ---","¬TEXT(+'Cover Sheet'!C$22,\"yyyymmdd\")",51020,"¬IF(ISERROR(TRUNC(+QNST01!E25,4))¬TRUE,\"\",TRUNC(+QNST01!E25,4))","--- na ---","--- na ---","--- na ---","--- na ---","--- na ---","--- na ---","--- na ---","--- na ---","--- na ---","--- na ---","--- na ---","--- na ---","--- na ---","--- na ---"]
["CMQNT_51040","¬+'Cover Sheet'!$C$24","ENTITY_ID","--- na ---","¬TEXT(+'Cover Sheet'!C$22,\"yyyymmdd\")",51040,"¬IF(ISERROR(TRUNC(+QNST01!E26,4))¬TRUE,\"\",TRUNC(+QNST01!E26,4))","--- na ---","--- na ---","--- na ---","--- na ---","--- na ---","--- na ---","--- na ---","--- na ---","--- na ---","--- na ---","--- na ---","--- na ---","--- na ---","--- na ---"]
["CMQNT_51060","¬+'Cover Sheet'!$C$24","ENTITY_ID","--- na ---","¬TEXT(+'Cover Sheet'!C$22,\"yyyymmdd\")",51060,"¬IF(ISERROR(TRUNC(+QNST01!E27,4))¬TRUE,\"\",TRUNC(+QNST01!E27,4))","--- na ---","--- na ---","--- na ---","--- na ---","--- na ---","--- na ---","--- na ---","--- na ---","--- na ---","--- na ---","--- na ---","--- na ---","--- na ---","--- na ---"]
["CMQNT_51080","¬+'Cover Sheet'!$C$24","ENTITY_ID","--- na ---","¬TEXT(+'Cover Sheet'!C$22,\"yyyymmdd\")",51080,"¬IF(ISERROR(TRUNC(+QNST01!E28,4))¬TRUE,\"\",TRUNC(+QNST01!E28,4))","--- na ---","--- na ---","--- na ---","--- na ---","--- na ---","--- na ---","--- na ---","--- na ---","--- na ---","--- na ---","--- na ---","--- na ---","--- na ---","--- na ---"]
["CMQNT_51100","¬+'Cover Sheet'!$C$24","ENTITY_ID","--- na ---","¬TEXT(+'Cover Sheet'!C$22,\"yyyymmdd\")",51100,"¬IF(ISERROR(TRUNC(+QNST01!E29,4))¬TRUE,\"\",TRUNC(+QNST01!E29,4))","--- na ---","--- na ---","--- na ---","--- na ---","--- na ---","--- na ---","--- na ---","--- na ---","--- na ---","--- na ---","--- na ---","--- na ---","--- na ---","--- na ---"]
["CMQNT_51120","¬+'Cover Sheet'!$C$24","ENTITY_ID","--- na ---","¬TEXT(+'Cover Sheet'!C$22,\"yyyymmdd\")",51120,"¬IF(ISERROR(TRUNC(+QNST01!E30,4))¬TRUE,\"\",TRUNC(+QNST01!E30,4))","--- na ---","--- na ---","--- na ---","--- na ---","--- na ---","--- na ---","--- na ---","--- na ---","--- na ---","--- na ---","--- na ---","--- na ---","--- na ---","--- na ---"]
["CMQNT_51140","¬+'Cover Sheet'!$C$24","ENTITY_ID","--- na ---","¬TEXT(+'Cover Sheet'!C$22,\"yyyymmdd\")",51140,"¬IF(ISERROR(TRUNC(+QNST01!E32,4))¬TRUE,\"\",TRUNC(+QNST01!E32,4))","--- na ---","--- na ---","--- na ---","--- na ---","--- na ---","--- na ---","--- na ---","--- na ---","--- na ---","--- na ---","--- na ---","--- na ---","--- na ---","--- na ---"]
["CMQNT_51160","¬+'Cover Sheet'!$C$24","ENTITY_ID","--- na ---","¬TEXT(+'Cover Sheet'!C$22,\"yyyymmdd\")",51160,"¬IF(ISERROR(TRUNC(+QNST02!E11,4))¬TRUE,\"\",TRUNC(+QNST02!E11,4))","--- na ---","--- na ---","--- na ---","--- na ---","--- na ---","--- na ---","--- na ---","--- na ---","--- na ---","--- na ---","--- na ---","--- na ---","--- na ---","--- na ---"]
["CMQNT_51180","¬+'Cover Sheet'!$C$24","ENTITY_ID","--- na ---","¬TEXT(+'Cover Sheet'!C$22,\"yyyymmdd\")",51180,"¬IF(ISERROR(TRUNC(+QNST02!E12,4))¬TRUE,\"\",TRUNC(+QNST02!E12,4))","--- na ---","--- na ---","--- na ---","--- na ---","--- na ---","--- na ---","--- na ---","--- na ---","--- na ---","--- na ---","--- na ---","--- na ---","--- na ---","--- na ---"]
["CMQNT_51200","¬+'Cover Sheet'!$C$24","ENTITY_ID","--- na ---","¬TEXT(+'Cover Sheet'!C$22,\"yyyymmdd\")",51200,"¬IF(ISERROR(TRUNC(+QNST02!E13,4))¬TRUE,\"\",TRUNC(+QNST02!E13,4))","--- na ---","--- na ---","--- na ---","--- na ---","--- na ---","--- na ---","--- na ---","--- na ---","--- na ---","--- na ---","--- na ---","--- na ---","--- na ---","--- na ---"]
["CMQNT_51220","¬+'Cover Sheet'!$C$24","ENTITY_ID","--- na ---","¬TEXT(+'Cover Sheet'!C$22,\"yyyymmdd\")",51220,"¬IF(ISERROR(TRUNC(+QNST02!E15,4))¬TRUE,\"\",TRUNC(+QNST02!E15,4))","--- na ---","--- na ---","--- na ---","--- na ---","--- na ---","--- na ---","--- na ---","--- na ---","--- na ---","--- na ---","--- na ---","--- na ---","--- na ---","--- na ---"]
["CMQNT_51240","¬+'Cover Sheet'!$C$24","ENTITY_ID","--- na ---","¬TEXT(+'Cover Sheet'!C$22,\"yyyymmdd\")",51240,"¬IF(ISERROR(TRUNC(+QNST02!E16,4))¬TRUE,\"\",TRUNC(+QNST02!E16,4))","--- na ---","--- na ---","--- na ---","--- na ---","--- na ---","--- na ---","--- na ---","--- na ---","--- na ---","--- na ---","--- na ---","--- na ---","--- na ---","--- na ---"]
["CMQNT_51260","¬+'Cover Sheet'!$C$24","ENTITY_ID","--- na ---","¬TEXT(+'Cover Sheet'!C$22,\"yyyymmdd\")",51260,"¬IF(ISERROR(TRUNC(+QNST02!E17,4))¬TRUE,\"\",TRUNC(+QNST02!E17,4))","--- na ---","--- na ---","--- na ---","--- na ---","--- na ---","--- na ---","--- na ---","--- na ---","--- na ---","--- na ---","--- na ---","--- na ---","--- na ---","--- na ---"]
["CMQNT_51280","¬+'Cover Sheet'!$C$24","ENTITY_ID","--- na ---","¬TEXT(+'Cover Sheet'!C$22,\"yyyymmdd\")",51280,"¬IF(ISERROR(TRUNC(+QNST02!E18,4))¬TRUE,\"\",TRUNC(+QNST02!E18,4))","--- na ---","--- na ---","--- na ---","--- na ---","--- na ---","--- na ---","--- na ---","--- na ---","--- na ---","--- na ---","--- na ---","--- na ---","--- na ---","--- na ---"]
["CMQNT_51300","¬+'Cover Sheet'!$C$24","ENTITY_ID","--- na ---","¬TEXT(+'Cover Sheet'!C$22,\"yyyymmdd\")",51300,"¬IF(ISERROR(TRUNC(+QNST02!E19,4))¬TRUE,\"\",TRUNC(+QNST02!E19,4))","--- na ---","--- na ---","--- na ---","--- na ---","--- na ---","--- na ---","--- na ---","--- na ---","--- na ---","--- na ---","--- na ---","--- na ---","--- na ---","--- na ---"]
["CMQNT_51320","¬+'Cover Sheet'!$C$24","ENTITY_ID","--- na ---","¬TEXT(+'Cover Sheet'!C$22,\"yyyymmdd\")",51320,"¬IF(ISERROR(TRUNC(+QNST02!E20,4))¬TRUE,\"\",TRUNC(+QNST02!E20,4))","--- na ---","--- na ---","--- na ---","--- na ---","--- na ---","--- na ---","--- na ---","--- na ---","--- na ---","--- na ---","--- na ---","--- na ---","--- na ---","--- na ---"]
["CMQNT_51340","¬+'Cover Sheet'!$C$24","ENTITY_ID","--- na ---","¬TEXT(+'Cover Sheet'!C$22,\"yyyymmdd\")",51340,"¬IF(ISERROR(TRUNC(+QNST02!E22,4))¬TRUE,\"\",TRUNC(+QNST02!E22,4))","--- na ---","--- na ---","--- na ---","--- na ---","--- na ---","--- na ---","--- na ---","--- na ---","--- na ---","--- na ---","--- na ---","--- na ---","--- na ---","--- na ---"]
["CMQNT_51360","¬+'Cover Sheet'!$C$24","ENTITY_ID","--- na ---","¬TEXT(+'Cover Sheet'!C$22,\"yyyymmdd\")",51360,"¬IF(ISERROR(TRUNC(+QNST02!E24,4))¬TRUE,\"\",TRUNC(+QNST02!E24,4))","--- na ---","--- na ---","--- na ---","--- na ---","--- na ---","--- na ---","--- na ---","--- na ---","--- na ---","--- na ---","--- na ---","--- na ---","--- na ---","--- na ---"]
["CMQNT_51380","¬+'Cover Sheet'!$C$24","ENTITY_ID","--- na ---","¬TEXT(+'Cover Sheet'!C$22,\"yyyymmdd\")",51380,"¬IF(ISERROR(TRUNC(+QNST02!E25,4))¬TRUE,\"\",TRUNC(+QNST02!E25,4))","--- na ---","--- na ---","--- na ---","--- na ---","--- na ---","--- na ---","--- na ---","--- na ---","--- na ---","--- na ---","--- na ---","--- na ---","--- na ---","--- na ---"]
["CMQNT_51400","¬+'Cover Sheet'!$C$24","ENTITY_ID","--- na ---","¬TEXT(+'Cover Sheet'!C$22,\"yyyymmdd\")",51400,"¬IF(ISERROR(TRUNC(+QNST02!E26,4))¬TRUE,\"\",TRUNC(+QNST02!E26,4))","--- na ---","--- na ---","--- na ---","--- na ---","--- na ---","--- na ---","--- na ---","--- na ---","--- na ---","--- na ---","--- na ---","--- na ---","--- na ---","--- na ---"]
["CMQNT_51420","¬+'Cover Sheet'!$C$24","ENTITY_ID","--- na ---","¬TEXT(+'Cover Sheet'!C$22,\"yyyymmdd\")",51420,"¬IF(ISERROR(TRUNC(+QNST02!E27,4))¬TRUE,\"\",TRUNC(+QNST02!E27,4))","--- na ---","--- na ---","--- na ---","--- na ---","--- na ---","--- na ---","--- na ---","--- na ---","--- na ---","--- na ---","--- na ---","--- na ---","--- na ---","--- na ---"]
["CMQNT_51440","¬+'Cover Sheet'!$C$24","ENTITY_ID","--- na ---","¬TEXT(+'Cover Sheet'!C$22,\"yyyymmdd\")",51440,"¬IF(ISERROR(TRUNC(+QNST02!E28,4))¬TRUE,\"\",TRUNC(+QNST02!E28,4))","--- na ---","--- na ---","--- na ---","--- na ---","--- na ---","--- na ---","--- na ---","--- na ---","--- na ---","--- na ---","--- na ---","--- na ---","--- na ---","--- na ---"]
["CMQNT_51460","¬+'Cover Sheet'!$C$24","ENTITY_ID","--- na ---","¬TEXT(+'Cover Sheet'!C$22,\"yyyymmdd\")",51460,"¬IF(ISERROR(TRUNC(+QNST02!E29,4))¬TRUE,\"\",TRUNC(+QNST02!E29,4))","--- na ---","--- na ---","--- na ---","--- na ---","--- na ---","--- na ---","--- na ---","--- na ---","--- na ---","--- na ---","--- na ---","--- na ---","--- na ---","--- na ---"]
["CMQNT_51480","¬+'Cover Sheet'!$C$24","ENTITY_ID","--- na ---","¬TEXT(+'Cover Sheet'!C$22,\"yyyymmdd\")",51480,"¬IF(ISERROR(TRUNC(+QNST02!E30,4))¬TRUE,\"\",TRUNC(+QNST02!E30,4))","--- na ---","--- na ---","--- na ---","--- na ---","--- na ---","--- na ---","--- na ---","--- na ---","--- na ---","--- na ---","--- na ---","--- na ---","--- na ---","--- na ---"]
["CMQNT_51500","¬+'Cover Sheet'!$C$24","ENTITY_ID","--- na ---","¬TEXT(+'Cover Sheet'!C$22,\"yyyymmdd\")",51500,"¬IF(ISERROR(TRUNC(+QNST02!E32,4))¬TRUE,\"\",TRUNC(+QNST02!E32,4))","--- na ---","--- na ---","--- na ---","--- na ---","--- na ---","--- na ---","--- na ---","--- na ---","--- na ---","--- na ---","--- na ---","--- na ---","--- na ---","--- na ---"]
["CMQNT_51520","¬+'Cover Sheet'!$C$24","ENTITY_ID","--- na ---","¬TEXT(+'Cover Sheet'!C$22,\"yyyymmdd\")",51520,"¬IF(ISERROR(TRUNC(+QNST03!E14,4))¬TRUE,\"\",TRUNC(+QNST03!E14,4))","--- na ---","--- na ---","--- na ---","--- na ---","--- na ---","--- na ---","--- na ---","--- na ---","--- na ---","--- na ---","--- na ---","--- na ---","--- na ---","--- na ---"]
["CMQNT_51540","¬+'Cover Sheet'!$C$24","ENTITY_ID","--- na ---","¬TEXT(+'Cover Sheet'!C$22,\"yyyymmdd\")",51540,"¬IF(ISERROR(TRUNC(+QNST03!E16,4))¬TRUE,\"\",TRUNC(+QNST03!E16,4))","--- na ---","--- na ---","--- na ---","--- na ---","--- na ---","--- na ---","--- na ---","--- na ---","--- na ---","--- na ---","--- na ---","--- na ---","--- na ---","--- na ---"]
["CMQNT_51560","¬+'Cover Sheet'!$C$24","ENTITY_ID","--- na ---","¬TEXT(+'Cover Sheet'!C$22,\"yyyymmdd\")",51560,"¬IF(ISERROR(TRUNC(+QNST03!E17,4))¬TRUE,\"\",TRUNC(+QNST03!E17,4))","--- na ---","--- na ---","--- na ---","--- na ---","--- na ---","--- na ---","--- na ---","--- na ---","--- na ---","--- na ---","--- na ---","--- na ---","--- na ---","--- na ---"]
["CMQNT_51580","¬+'Cover Sheet'!$C$24","ENTITY_ID","--- na ---","¬TEXT(+'Cover Sheet'!C$22,\"yyyymmdd\")",51580,"¬IF(ISERROR(TRUNC(+QNST03!E18,4))¬TRUE,\"\",TRUNC(+QNST03!E18,4))","--- na ---","--- na ---","--- na ---","--- na ---","--- na ---","--- na ---","--- na ---","--- na ---","--- na ---","--- na ---","--- na ---","--- na ---","--- na ---","--- na ---"]
["CMQNT_51600","¬+'Cover Sheet'!$C$24","ENTITY_ID","--- na ---","¬TEXT(+'Cover Sheet'!C$22,\"yyyymmdd\")",51600,"¬IF(ISERROR(TRUNC(+QNST03!E19,4))¬TRUE,\"\",TRUNC(+QNST03!E19,4))","--- na ---","--- na ---","--- na ---","--- na ---","--- na ---","--- na ---","--- na ---","--- na ---","--- na ---","--- na ---","--- na ---","--- na ---","--- na ---","--- na ---"]
["CMQNT_51620","¬+'Cover Sheet'!$C$24","ENTITY_ID","--- na ---","¬TEXT(+'Cover Sheet'!C$22,\"yyyymmdd\")",51620,"¬IF(ISERROR(TRUNC(+QNST03!E21,4))¬TRUE,\"\",TRUNC(+QNST03!E21,4))","--- na ---","--- na ---","--- na ---","--- na ---","--- na ---","--- na ---","--- na ---","--- na ---","--- na ---","--- na ---","--- na ---","--- na ---","--- na ---","--- na ---"]
["CMQNT_51640","¬+'Cover Sheet'!$C$24","ENTITY_ID","--- na ---","¬TEXT(+'Cover Sheet'!C$22,\"yyyymmdd\")",51640,"¬IF(ISERROR(TRUNC(+QNST03!E22,4))¬TRUE,\"\",TRUNC(+QNST03!E22,4))","--- na ---","--- na ---","--- na ---","--- na ---","--- na ---","--- na ---","--- na ---","--- na ---","--- na ---","--- na ---","--- na ---","--- na ---","--- na ---","--- na ---"]
["CMQNT_51660","¬+'Cover Sheet'!$C$24","ENTITY_ID","--- na ---","¬TEXT(+'Cover Sheet'!C$22,\"yyyymmdd\")",51660,"¬IF(ISERROR(TRUNC(+QNST03!E23,4))¬TRUE,\"\",TRUNC(+QNST03!E23,4))","--- na ---","--- na ---","--- na ---","--- na ---","--- na ---","--- na ---","--- na ---","--- na ---","--- na ---","--- na ---","--- na ---","--- na ---","--- na ---","--- na ---"]
["CMQNT_51680","¬+'Cover Sheet'!$C$24","ENTITY_ID","--- na ---","¬TEXT(+'Cover Sheet'!C$22,\"yyyymmdd\")",51680,"¬IF(ISERROR(TRUNC(+QNST03!E24,4))¬TRUE,\"\",TRUNC(+QNST03!E24,4))","--- na ---","--- na ---","--- na ---","--- na ---","--- na ---","--- na ---","--- na ---","--- na ---","--- na ---","--- na ---","--- na ---","--- na ---","--- na ---","--- na ---"]
["CMQNT_51700","¬+'Cover Sheet'!$C$24","ENTITY_ID","--- na ---","¬TEXT(+'Cover Sheet'!C$22,\"yyyymmdd\")",51700,"¬IF(ISERROR(TRUNC(+QNST03!E25,4))¬TRUE,\"\",TRUNC(+QNST03!E25,4))","--- na ---","--- na ---","--- na ---","--- na ---","--- na ---","--- na ---","--- na ---","--- na ---","--- na ---","--- na ---","--- na ---","--- na ---","--- na ---","--- na ---"]
["CMQNT_51720","¬+'Cover Sheet'!$C$24","ENTITY_ID","--- na ---","¬TEXT(+'Cover Sheet'!C$22,\"yyyymmdd\")",51720,"¬IF(ISERROR(TRUNC(+QNST03!E27,4))¬TRUE,\"\",TRUNC(+QNST03!E27,4))","--- na ---","--- na ---","--- na ---","--- na ---","--- na ---","--- na ---","--- na ---","--- na ---","--- na ---","--- na ---","--- na ---","--- na ---","--- na ---","--- na ---"]
["CMQNT_51740","¬+'Cover Sheet'!$C$24","ENTITY_ID","--- na ---","¬TEXT(+'Cover Sheet'!C$22,\"yyyymmdd\")",51740,"¬IF(ISERROR(TRUNC(+QNST03!E29,4))¬TRUE,\"\",TRUNC(+QNST03!E29,4))","--- na ---","--- na ---","--- na ---","--- na ---","--- na ---","--- na ---","--- na ---","--- na ---","--- na ---","--- na ---","--- na ---","--- na ---","--- na ---","--- na ---"]
["CMQNT_51760","¬+'Cover Sheet'!$C$24","ENTITY_ID","--- na ---","¬TEXT(+'Cover Sheet'!C$22,\"yyyymmdd\")",51760,"¬IF(ISERROR(TRUNC(+QNST03!E30,4))¬TRUE,\"\",TRUNC(+QNST03!E30,4))","--- na ---","--- na ---","--- na ---","--- na ---","--- na ---","--- na ---","--- na ---","--- na ---","--- na ---","--- na ---","--- na ---","--- na ---","--- na ---","--- na ---"]
["CMQNT_51780","¬+'Cover Sheet'!$C$24","ENTITY_ID","--- na ---","¬TEXT(+'Cover Sheet'!C$22,\"yyyymmdd\")",51780,"¬IF(ISERROR(TRUNC(+QNST03!E31,4))¬TRUE,\"\",TRUNC(+QNST03!E31,4))","--- na ---","--- na ---","--- na ---","--- na ---","--- na ---","--- na ---","--- na ---","--- na ---","--- na ---","--- na ---","--- na ---","--- na ---","--- na ---","--- na ---"]
["CMQNT_51800","¬+'Cover Sheet'!$C$24","ENTITY_ID","--- na ---","¬TEXT(+'Cover Sheet'!C$22,\"yyyymmdd\")",51800,"¬IF(ISERROR(TRUNC(+QNST03!E32,4))¬TRUE,\"\",TRUNC(+QNST03!E32,4))","--- na ---","--- na ---","--- na ---","--- na ---","--- na ---","--- na ---","--- na ---","--- na ---","--- na ---","--- na ---","--- na ---","--- na ---","--- na ---","--- na ---"]
["CMQNT_51820","¬+'Cover Sheet'!$C$24","ENTITY_ID","--- na ---","¬TEXT(+'Cover Sheet'!C$22,\"yyyymmdd\")",51820,"¬IF(ISERROR(TRUNC(+QNST03!E33,4))¬TRUE,\"\",TRUNC(+QNST03!E33,4))","--- na ---","--- na ---","--- na ---","--- na ---","--- na ---","--- na ---","--- na ---","--- na ---","--- na ---","--- na ---","--- na ---","--- na ---","--- na ---","--- na ---"]
["CMQNT_51840","¬+'Cover Sheet'!$C$24","ENTITY_ID","--- na ---","¬TEXT(+'Cover Sheet'!C$22,\"yyyymmdd\")",51840,"¬IF(ISERROR(TRUNC(+QNST03!E34,4))¬TRUE,\"\",TRUNC(+QNST03!E34,4))","--- na ---","--- na ---","--- na ---","--- na ---","--- na ---","--- na ---","--- na ---","--- na ---","--- na ---","--- na ---","--- na ---","--- na ---","--- na ---","--- na ---"]
["CMQNT_51860","¬+'Cover Sheet'!$C$24","ENTITY_ID","--- na ---","¬TEXT(+'Cover Sheet'!C$22,\"yyyymmdd\")",51860,"¬IF(ISERROR(TRUNC(+QNST03!E36,4))¬TRUE,\"\",TRUNC(+QNST03!E36,4))","--- na ---","--- na ---","--- na ---","--- na ---","--- na ---","--- na ---","--- na ---","--- na ---","--- na ---","--- na ---","--- na ---","--- na ---","--- na ---","--- na ---"]
["CMQNT_51880","¬+'Cover Sheet'!$C$24","ENTITY_ID","--- na ---","¬TEXT(+'Cover Sheet'!C$22,\"yyyymmdd\")",51880,"¬IF(ISERROR(TRUNC(+QNST03!E38,4))¬TRUE,\"\",TRUNC(+QNST03!E38,4))","--- na ---","--- na ---","--- na ---","--- na ---","--- na ---","--- na ---","--- na ---","--- na ---","--- na ---","--- na ---","--- na ---","--- na ---","--- na ---","--- na ---"]
["CMQNT_51900","¬+'Cover Sheet'!$C$24","ENTITY_ID","--- na ---","¬TEXT(+'Cover Sheet'!C$22,\"yyyymmdd\")",51900,"¬IF(ISERROR(TRUNC(+QNST03!E40,4))¬TRUE,\"\",TRUNC(+QNST03!E40,4))","--- na ---","--- na ---","--- na ---","--- na ---","--- na ---","--- na ---","--- na ---","--- na ---","--- na ---","--- na ---","--- na ---","--- na ---","--- na ---","--- na ---"]
["CMQNT_22000","¬+'Cover Sheet'!$C$24","ENTITY_ID","--- na ---","¬TEXT(+'Cover Sheet'!C$22,\"yyyymmdd\")",22000,"--- na ---","--- na ---","¬IF(ISERROR(TRUNC(QNST04!E10,4))¬TRUE,\"\",TRUNC(QNST04!E10,4))","--- na ---","--- na ---","--- na ---","--- na ---","--- na ---","--- na ---","--- na ---","--- na ---","--- na ---","--- na ---","--- na ---","--- na ---"]
["CMQNT_22020","¬+'Cover Sheet'!$C$24","ENTITY_ID","--- na ---","¬TEXT(+'Cover Sheet'!C$22,\"yyyymmdd\")",22020,"--- na ---","--- na ---","¬IF(ISERROR(TRUNC(QNST04!E11,4))¬TRUE,\"\",TRUNC(QNST04!E11,4))","--- na ---","--- na ---","¬IF(ISERROR(TRUNC(+QNST04!D11,4))¬TRUE,\"\",TRUNC(+QNST04!D11,4))","--- na ---","--- na ---","--- na ---","--- na ---","--- na ---","--- na ---","--- na ---","--- na ---","--- na ---"]
["CMQNT_22021","¬+'Cover Sheet'!$C$24","ENTITY_ID","--- na ---","¬TEXT(+'Cover Sheet'!C$22,\"yyyymmdd\")",22021,"--- na ---","--- na ---","¬IF(ISERROR(TRUNC(QNST04!E12,4))¬TRUE,\"\",TRUNC(QNST04!E12,4))","--- na ---","--- na ---","--- na ---","--- na ---","--- na ---","--- na ---","--- na ---","--- na ---","--- na ---","--- na ---","--- na ---","--- na ---"]
["CMQNT_22030","¬+'Cover Sheet'!$C$24","ENTITY_ID","--- na ---","¬TEXT(+'Cover Sheet'!C$22,\"yyyymmdd\")",22030,"--- na ---","--- na ---","¬IF(ISERROR(TRUNC(QNST04!E13,4))¬TRUE,\"\",TRUNC(QNST04!E13,4))","--- na ---","--- na ---","¬IF(ISERROR(TRUNC(+QNST04!D13,4))¬TRUE,\"\",TRUNC(+QNST04!D13,4))","--- na ---","--- na ---","--- na ---","--- na ---","--- na ---","--- na ---","--- na ---","--- na ---","--- na ---"]
["CMQNT_22040","¬+'Cover Sheet'!$C$24","ENTITY_ID","--- na ---","¬TEXT(+'Cover Sheet'!C$22,\"yyyymmdd\")",22040,"--- na ---","--- na ---","¬IF(ISERROR(TRUNC(QNST04!E14,4))¬TRUE,\"\",TRUNC(QNST04!E14,4))","--- na ---","--- na ---","¬IF(ISERROR(TRUNC(+QNST04!D14,4))¬TRUE,\"\",TRUNC(+QNST04!D14,4))","--- na ---","--- na ---","--- na ---","--- na ---","--- na ---","--- na ---","--- na ---","--- na ---","--- na ---"]
["CMQNT_22050","¬+'Cover Sheet'!$C$24","ENTITY_ID","--- na ---","¬TEXT(+'Cover Sheet'!C$22,\"yyyymmdd\")",22050,"--- na ---","--- na ---","¬IF(ISERROR(TRUNC(QNST04!E15,4))¬TRUE,\"\",TRUNC(QNST04!E15,4))","--- na ---","--- na ---","¬IF(ISERROR(TRUNC(+QNST04!D15,4))¬TRUE,\"\",TRUNC(+QNST04!D15,4))","--- na ---","--- na ---","--- na ---","--- na ---","--- na ---","--- na ---","--- na ---","--- na ---","--- na ---"]
["CMQNT_22060","¬+'Cover Sheet'!$C$24","ENTITY_ID","--- na ---","¬TEXT(+'Cover Sheet'!C$22,\"yyyymmdd\")",22060,"--- na ---","--- na ---","¬IF(ISERROR(TRUNC(QNST04!E16,4))¬TRUE,\"\",TRUNC(QNST04!E16,4))","--- na ---","--- na ---","¬IF(ISERROR(TRUNC(+QNST04!D16,4))¬TRUE,\"\",TRUNC(+QNST04!D16,4))","--- na ---","--- na ---","--- na ---","--- na ---","--- na ---","--- na ---","--- na ---","--- na ---","--- na ---"]
["CMQNT_22070","¬+'Cover Sheet'!$C$24","ENTITY_ID","--- na ---","¬TEXT(+'Cover Sheet'!C$22,\"yyyymmdd\")",22070,"--- na ---","--- na ---","¬IF(ISERROR(TRUNC(QNST04!E17,4))¬TRUE,\"\",TRUNC(QNST04!E17,4))","--- na ---","--- na ---","¬IF(ISERROR(TRUNC(+QNST04!D17,4))¬TRUE,\"\",TRUNC(+QNST04!D17,4))","--- na ---","--- na ---","--- na ---","--- na ---","--- na ---","--- na ---","--- na ---","--- na ---","--- na ---"]
["CMQNT_22080","¬+'Cover Sheet'!$C$24","ENTITY_ID","--- na ---","¬TEXT(+'Cover Sheet'!C$22,\"yyyymmdd\")",22080,"--- na ---","--- na ---","¬IF(ISERROR(TRUNC(QNST04!E18,4))¬TRUE,\"\",TRUNC(QNST04!E18,4))","--- na ---","--- na ---","¬IF(ISERROR(TRUNC(+QNST04!D18,4))¬TRUE,\"\",TRUNC(+QNST04!D18,4))","--- na ---","--- na ---","--- na ---","--- na ---","--- na ---","--- na ---","--- na ---","--- na ---","--- na ---"]
["CMQNT_22090","¬+'Cover Sheet'!$C$24","ENTITY_ID","--- na ---","¬TEXT(+'Cover Sheet'!C$22,\"yyyymmdd\")",22090,"--- na ---","--- na ---","¬IF(ISERROR(TRUNC(QNST04!E19,4))¬TRUE,\"\",TRUNC(QNST04!E19,4))","--- na ---","--- na ---","¬IF(ISERROR(TRUNC(+QNST04!D19,4))¬TRUE,\"\",TRUNC(+QNST04!D19,4))","--- na ---","--- na ---","--- na ---","--- na ---","--- na ---","--- na ---","--- na ---","--- na ---","--- na ---"]
["CMQNT_22100","¬+'Cover Sheet'!$C$24","ENTITY_ID","--- na ---","¬TEXT(+'Cover Sheet'!C$22,\"yyyymmdd\")",22100,"--- na ---","--- na ---","¬IF(ISERROR(TRUNC(QNST04!E20,4))¬TRUE,\"\",TRUNC(QNST04!E20,4))","--- na ---","--- na ---","¬IF(ISERROR(TRUNC(+QNST04!D20,4))¬TRUE,\"\",TRUNC(+QNST04!D20,4))","--- na ---","--- na ---","--- na ---","--- na ---","--- na ---","--- na ---","--- na ---","--- na ---","--- na ---"]
["CMQNT_22110","¬+'Cover Sheet'!$C$24","ENTITY_ID","--- na ---","¬TEXT(+'Cover Sheet'!C$22,\"yyyymmdd\")",22110,"--- na ---","--- na ---","¬IF(ISERROR(TRUNC(QNST04!E21,4))¬TRUE,\"\",TRUNC(QNST04!E21,4))","--- na ---","--- na ---","¬IF(ISERROR(TRUNC(+QNST04!D21,4))¬TRUE,\"\",TRUNC(+QNST04!D21,4))","--- na ---","--- na ---","--- na ---","--- na ---","--- na ---","--- na ---","--- na ---","--- na ---","--- na ---"]
["CMQNT_22120","¬+'Cover Sheet'!$C$24","ENTITY_ID","--- na ---","¬TEXT(+'Cover Sheet'!C$22,\"yyyymmdd\")",22120,"--- na ---","--- na ---","¬IF(ISERROR(TRUNC(QNST04!E22,4))¬TRUE,\"\",TRUNC(QNST04!E22,4))","--- na ---","--- na ---","¬IF(ISERROR(TRUNC(+QNST04!D22,4))¬TRUE,\"\",TRUNC(+QNST04!D22,4))","--- na ---","--- na ---","--- na ---","--- na ---","--- na ---","--- na ---","--- na ---","--- na ---","--- na ---"]
["CMQNT_22130","¬+'Cover Sheet'!$C$24","ENTITY_ID","--- na ---","¬TEXT(+'Cover Sheet'!C$22,\"yyyymmdd\")",22130,"--- na ---","--- na ---","¬IF(ISERROR(TRUNC(QNST04!E23,4))¬TRUE,\"\",TRUNC(QNST04!E23,4))","--- na ---","--- na ---","¬IF(ISERROR(TRUNC(+QNST04!D23,4))¬TRUE,\"\",TRUNC(+QNST04!D23,4))","--- na ---","--- na ---","--- na ---","--- na ---","--- na ---","--- na ---","--- na ---","--- na ---","--- na ---"]
["CMQNT_22140","¬+'Cover Sheet'!$C$24","ENTITY_ID","--- na ---","¬TEXT(+'Cover Sheet'!C$22,\"yyyymmdd\")",22140,"--- na ---","--- na ---","¬IF(ISERROR(TRUNC(QNST04!E24,4))¬TRUE,\"\",TRUNC(QNST04!E24,4))","--- na ---","--- na ---","¬IF(ISERROR(TRUNC(+QNST04!D24,4))¬TRUE,\"\",TRUNC(+QNST04!D24,4))","--- na ---","--- na ---","--- na ---","--- na ---","--- na ---","--- na ---","--- na ---","--- na ---","--- na ---"]
["CMQNT_22150","¬+'Cover Sheet'!$C$24","ENTITY_ID","--- na ---","¬TEXT(+'Cover Sheet'!C$22,\"yyyymmdd\")",22150,"--- na ---","--- na ---","¬IF(ISERROR(TRUNC(QNST04!E25,4))¬TRUE,\"\",TRUNC(QNST04!E25,4))","--- na ---","--- na ---","¬IF(ISERROR(TRUNC(+QNST04!D25,4))¬TRUE,\"\",TRUNC(+QNST04!D25,4))","--- na ---","--- na ---","--- na ---","--- na ---","--- na ---","--- na ---","--- na ---","--- na ---","--- na ---"]
["CMQNT_22160","¬+'Cover Sheet'!$C$24","ENTITY_ID","--- na ---","¬TEXT(+'Cover Sheet'!C$22,\"yyyymmdd\")",22160,"--- na ---","--- na ---","¬IF(ISERROR(TRUNC(QNST04!E26,4))¬TRUE,\"\",TRUNC(QNST04!E26,4))","--- na ---","--- na ---","¬IF(ISERROR(TRUNC(+QNST04!D26,4))¬TRUE,\"\",TRUNC(+QNST04!D26,4))","--- na ---","--- na ---","--- na ---","--- na ---","--- na ---","--- na ---","--- na ---","--- na ---","--- na ---"]
["CMQNT_22170","¬+'Cover Sheet'!$C$24","ENTITY_ID","--- na ---","¬TEXT(+'Cover Sheet'!C$22,\"yyyymmdd\")",22170,"--- na ---","--- na ---","¬IF(ISERROR(TRUNC(QNST04!E27,4))¬TRUE,\"\",TRUNC(QNST04!E27,4))","--- na ---","--- na ---","¬IF(ISERROR(TRUNC(+QNST04!D27,4))¬TRUE,\"\",TRUNC(+QNST04!D27,4))","--- na ---","--- na ---","--- na ---","--- na ---","--- na ---","--- na ---","--- na ---","--- na ---","--- na ---"]
["CMQNT_22180","¬+'Cover Sheet'!$C$24","ENTITY_ID","--- na ---","¬TEXT(+'Cover Sheet'!C$22,\"yyyymmdd\")",22180,"--- na ---","--- na ---","¬IF(ISERROR(TRUNC(QNST04!E28,4))¬TRUE,\"\",TRUNC(QNST04!E28,4))","--- na ---","--- na ---","¬IF(ISERROR(TRUNC(+QNST04!D28,4))¬TRUE,\"\",TRUNC(+QNST04!D28,4))","--- na ---","--- na ---","--- na ---","--- na ---","--- na ---","--- na ---","--- na ---","--- na ---","--- na ---"]
["CMQNT_22190","¬+'Cover Sheet'!$C$24","ENTITY_ID","--- na ---","¬TEXT(+'Cover Sheet'!C$22,\"yyyymmdd\")",22190,"--- na ---","--- na ---","¬IF(ISERROR(TRUNC(QNST04!E29,4))¬TRUE,\"\",TRUNC(QNST04!E29,4))","--- na ---","--- na ---","¬IF(ISERROR(TRUNC(+QNST04!D29,4))¬TRUE,\"\",TRUNC(+QNST04!D29,4))","--- na ---","--- na ---","--- na ---","--- na ---","--- na ---","--- na ---","--- na ---","--- na ---","--- na ---"]
["CMQNT_22200","¬+'Cover Sheet'!$C$24","ENTITY_ID","--- na ---","¬TEXT(+'Cover Sheet'!C$22,\"yyyymmdd\")",22200,"--- na ---","--- na ---","¬IF(ISERROR(TRUNC(QNST04!E30,4))¬TRUE,\"\",TRUNC(QNST04!E30,4))","--- na ---","--- na ---","¬IF(ISERROR(TRUNC(+QNST04!D30,4))¬TRUE,\"\",TRUNC(+QNST04!D30,4))","--- na ---","--- na ---","--- na ---","--- na ---","--- na ---","--- na ---","--- na ---","--- na ---","--- na ---"]
["CMQNT_22210","¬+'Cover Sheet'!$C$24","ENTITY_ID","--- na ---","¬TEXT(+'Cover Sheet'!C$22,\"yyyymmdd\")",22210,"--- na ---","--- na ---","¬IF(ISERROR(TRUNC(QNST04!E31,4))¬TRUE,\"\",TRUNC(QNST04!E31,4))","--- na ---","--- na ---","¬IF(ISERROR(TRUNC(+QNST04!D31,4))¬TRUE,\"\",TRUNC(+QNST04!D31,4))","--- na ---","--- na ---","--- na ---","--- na ---","--- na ---","--- na ---","--- na ---","--- na ---","--- na ---"]
["CMQNT_22220","¬+'Cover Sheet'!$C$24","ENTITY_ID","--- na ---","¬TEXT(+'Cover Sheet'!C$22,\"yyyymmdd\")",22220,"--- na ---","--- na ---","¬IF(ISERROR(TRUNC(QNST04!E32,4))¬TRUE,\"\",TRUNC(QNST04!E32,4))","--- na ---","--- na ---","¬IF(ISERROR(TRUNC(+QNST04!D32,4))¬TRUE,\"\",TRUNC(+QNST04!D32,4))","--- na ---","--- na ---","--- na ---","--- na ---","--- na ---","--- na ---","--- na ---","--- na ---","--- na ---"]
["CMQNT_22230","¬+'Cover Sheet'!$C$24","ENTITY_ID","--- na ---","¬TEXT(+'Cover Sheet'!C$22,\"yyyymmdd\")",22230,"--- na ---","--- na ---","¬IF(ISERROR(TRUNC(QNST04!E33,4))¬TRUE,\"\",TRUNC(QNST04!E33,4))","--- na ---","--- na ---","¬IF(ISERROR(TRUNC(+QNST04!D33,4))¬TRUE,\"\",TRUNC(+QNST04!D33,4))","--- na ---","--- na ---","--- na ---","--- na ---","--- na ---","--- na ---","--- na ---","--- na ---","--- na ---"]
["CMQNT_22240","¬+'Cover Sheet'!$C$24","ENTITY_ID","--- na ---","¬TEXT(+'Cover Sheet'!C$22,\"yyyymmdd\")",22240,"--- na ---","--- na ---","¬IF(ISERROR(TRUNC(QNST04!E34,4))¬TRUE,\"\",TRUNC(QNST04!E34,4))","--- na ---","--- na ---","¬IF(ISERROR(TRUNC(+QNST04!D34,4))¬TRUE,\"\",TRUNC(+QNST04!D34,4))","--- na ---","--- na ---","--- na ---","--- na ---","--- na ---","--- na ---","--- na ---","--- na ---","--- na ---"]
["CMQNT_22250","¬+'Cover Sheet'!$C$24","ENTITY_ID","--- na ---","¬TEXT(+'Cover Sheet'!C$22,\"yyyymmdd\")",22250,"--- na ---","--- na ---","¬IF(ISERROR(TRUNC(QNST04!E35,4))¬TRUE,\"\",TRUNC(QNST04!E35,4))","--- na ---","--- na ---","¬IF(ISERROR(TRUNC(+QNST04!D35,4))¬TRUE,\"\",TRUNC(+QNST04!D35,4))","--- na ---","--- na ---","--- na ---","--- na ---","--- na ---","--- na ---","--- na ---","--- na ---","--- na ---"]
["CMQNT_22260","¬+'Cover Sheet'!$C$24","ENTITY_ID","--- na ---","¬TEXT(+'Cover Sheet'!C$22,\"yyyymmdd\")",22260,"--- na ---","--- na ---","¬IF(ISERROR(TRUNC(QNST04!E36,4))¬TRUE,\"\",TRUNC(QNST04!E36,4))","--- na ---","--- na ---","¬IF(ISERROR(TRUNC(+QNST04!D36,4))¬TRUE,\"\",TRUNC(+QNST04!D36,4))","--- na ---","--- na ---","--- na ---","--- na ---","--- na ---","--- na ---","--- na ---","--- na ---","--- na ---"]
["CMQNT_22270","¬+'Cover Sheet'!$C$24","ENTITY_ID","--- na ---","¬TEXT(+'Cover Sheet'!C$22,\"yyyymmdd\")",22270,"--- na ---","--- na ---","¬IF(ISERROR(TRUNC(QNST04!E37,4))¬TRUE,\"\",TRUNC(QNST04!E37,4))","--- na ---","--- na ---","¬IF(ISERROR(TRUNC(+QNST04!D37,4))¬TRUE,\"\",TRUNC(+QNST04!D37,4))","--- na ---","--- na ---","--- na ---","--- na ---","--- na ---","--- na ---","--- na ---","--- na ---","--- na ---"]
["CMQNT_22280","¬+'Cover Sheet'!$C$24","ENTITY_ID","--- na ---","¬TEXT(+'Cover Sheet'!C$22,\"yyyymmdd\")",22280,"--- na ---","--- na ---","¬IF(ISERROR(TRUNC(+QNST04!E38,4))¬TRUE,\"\",TRUNC(+QNST04!E38,4))","--- na ---","--- na ---","¬IF(ISERROR(TRUNC(+QNST04!D38,4))¬TRUE,\"\",TRUNC(+QNST04!D38,4))","--- na ---","--- na ---","--- na ---","--- na ---","--- na ---","--- na ---","--- na ---","--- na ---","--- na ---"]
["CMQNT_22290","¬+'Cover Sheet'!$C$24","ENTITY_ID","--- na ---","¬TEXT(+'Cover Sheet'!C$22,\"yyyymmdd\")",22290,"--- na ---","--- na ---","¬IF(ISERROR(TRUNC(+QNST04!E39,4))¬TRUE,\"\",TRUNC(+QNST04!E39,4))","--- na ---","--- na ---","¬IF(ISERROR(TRUNC(+QNST04!D39,4))¬TRUE,\"\",TRUNC(+QNST04!D39,4))","--- na ---","--- na ---","--- na ---","--- na ---","--- na ---","--- na ---","--- na ---","--- na ---","--- na ---"]
["CMQNT_22300","¬+'Cover Sheet'!$C$24","ENTITY_ID","--- na ---","¬TEXT(+'Cover Sheet'!C$22,\"yyyymmdd\")",22300,"--- na ---","--- na ---","¬IF(ISERROR(TRUNC(QNST04!E40,4))¬TRUE,\"\",TRUNC(QNST04!E40,4))","--- na ---","--- na ---","¬IF(ISERROR(TRUNC(+QNST04!D40,4))¬TRUE,\"\",TRUNC(+QNST04!D40,4))","--- na ---","--- na ---","--- na ---","--- na ---","--- na ---","--- na ---","--- na ---","--- na ---","--- na ---"]
["CMQNT_22310","¬+'Cover Sheet'!$C$24","ENTITY_ID","--- na ---","¬TEXT(+'Cover Sheet'!C$22,\"yyyymmdd\")",22310,"--- na ---","--- na ---","¬IF(ISERROR(TRUNC(+QNST04!E41,4))¬TRUE,\"\",TRUNC(+QNST04!E41,4))","--- na ---","--- na ---","¬IF(ISERROR(TRUNC(+QNST04!D41,4))¬TRUE,\"\",TRUNC(+QNST04!D41,4))","--- na ---","--- na ---","--- na ---","--- na ---","--- na ---","--- na ---","--- na ---","--- na ---","--- na ---"]
["CMQNT_22320","¬+'Cover Sheet'!$C$24","ENTITY_ID","--- na ---","¬TEXT(+'Cover Sheet'!C$22,\"yyyymmdd\")",22320,"--- na ---","--- na ---","¬IF(ISERROR(TRUNC(+QNST04!E42,4))¬TRUE,\"\",TRUNC(+QNST04!E42,4))","--- na ---","--- na ---","¬IF(ISERROR(TRUNC(+QNST04!D42,4))¬TRUE,\"\",TRUNC(+QNST04!D42,4))","--- na ---","--- na ---","--- na ---","--- na ---","--- na ---","--- na ---","--- na ---","--- na ---","--- na ---"]
["CMQNT_22330","¬+'Cover Sheet'!$C$24","ENTITY_ID","--- na ---","¬TEXT(+'Cover Sheet'!C$22,\"yyyymmdd\")",22330,"--- na ---","--- na ---","¬IF(ISERROR(TRUNC(+QNST04!E43,4))¬TRUE,\"\",TRUNC(+QNST04!E43,4))","--- na ---","--- na ---","¬IF(ISERROR(TRUNC(+QNST04!D43,4))¬TRUE,\"\",TRUNC(+QNST04!D43,4))","--- na ---","--- na ---","--- na ---","--- na ---","--- na ---","--- na ---","--- na ---","--- na ---","--- na ---"]
["CMQNT_22251","¬+'Cover Sheet'!$C$24","ENTITY_ID","--- na ---","¬TEXT(+'Cover Sheet'!C$22,\"yyyymmdd\")",22251,"--- na ---","--- na ---","¬IF(ISERROR(TRUNC(QNST04!E44,4))¬TRUE,\"\",TRUNC(QNST04!E44,4))","--- na ---","--- na ---","--- na ---","--- na ---","--- na ---","--- na ---","--- na ---","--- na ---","--- na ---","--- na ---","--- na ---","--- na ---"]
["CMQNT_22252","¬+'Cover Sheet'!$C$24","ENTITY_ID","--- na ---","¬TEXT(+'Cover Sheet'!C$22,\"yyyymmdd\")",22252,"--- na ---","--- na ---","¬IF(ISERROR(TRUNC(QNST04!E45,4))¬TRUE,\"\",TRUNC(QNST04!E45,4))","--- na ---","--- na ---","--- na ---","--- na ---","--- na ---","--- na ---","--- na ---","--- na ---","--- na ---","--- na ---","--- na ---","--- na ---"]
["CMQNT_22253","¬+'Cover Sheet'!$C$24","ENTITY_ID","--- na ---","¬TEXT(+'Cover Sheet'!C$22,\"yyyymmdd\")",22253,"--- na ---","--- na ---","¬IF(ISERROR(TRUNC(QNST04!E46,4))¬TRUE,\"\",TRUNC(QNST04!E46,4))","--- na ---","--- na ---","--- na ---","--- na ---","--- na ---","--- na ---","--- na ---","--- na ---","--- na ---","--- na ---","--- na ---","--- na ---"]
["CMQNT_22331","¬+'Cover Sheet'!$C$24","ENTITY_ID","--- na ---","¬TEXT(+'Cover Sheet'!C$22,\"yyyymmdd\")",22331,"--- na ---","--- na ---","¬IF(ISERROR(TRUNC(QNST04!E47,4))¬TRUE,\"\",TRUNC(QNST04!E47,4))","--- na ---","--- na ---","--- na ---","--- na ---","--- na ---","--- na ---","--- na ---","--- na ---","--- na ---","--- na ---","--- na ---","--- na ---"]
["CMQNT_22332","¬+'Cover Sheet'!$C$24","ENTITY_ID","--- na ---","¬TEXT(+'Cover Sheet'!C$22,\"yyyymmdd\")",22332,"--- na ---","--- na ---","¬IF(ISERROR(TRUNC(QNST04!E48,4))¬TRUE,\"\",TRUNC(QNST04!E48,4))","--- na ---","--- na ---","--- na ---","--- na ---","--- na ---","--- na ---","--- na ---","--- na ---","--- na ---","--- na ---","--- na ---","--- na ---"]
["CMQNT_22333","¬+'Cover Sheet'!$C$24","ENTITY_ID","--- na ---","¬TEXT(+'Cover Sheet'!C$22,\"yyyymmdd\")",22333,"--- na ---","--- na ---","¬IF(ISERROR(TRUNC(QNST04!E49,4))¬TRUE,\"\",TRUNC(QNST04!E49,4))","--- na ---","--- na ---","--- na ---","--- na ---","--- na ---","--- na ---","--- na ---","--- na ---","--- na ---","--- na ---","--- na ---","--- na ---"]
["CMQNT_22334","¬+'Cover Sheet'!$C$24","ENTITY_ID","--- na ---","¬TEXT(+'Cover Sheet'!C$22,\"yyyymmdd\")",22334,"--- na ---","--- na ---","¬IF(ISERROR(TRUNC(QNST04!E50,4))¬TRUE,\"\",TRUNC(QNST04!E50,4))","--- na ---","--- na ---","--- na ---","--- na ---","--- na ---","--- na ---","--- na ---","--- na ---","--- na ---","--- na ---","--- na ---","--- na ---"]
["CMQNT_22335","¬+'Cover Sheet'!$C$24","ENTITY_ID","--- na ---","¬TEXT(+'Cover Sheet'!C$22,\"yyyymmdd\")",22335,"--- na ---","--- na ---","¬IF(ISERROR(TRUNC(QNST04!E51,4))¬TRUE,\"\",TRUNC(QNST04!E51,4))","--- na ---","--- na ---","--- na ---","--- na ---","--- na ---","--- na ---","--- na ---","--- na ---","--- na ---","--- na ---","--- na ---","--- na ---"]
["CMQNT_22341","¬+'Cover Sheet'!$C$24","ENTITY_ID","--- na ---","¬TEXT(+'Cover Sheet'!C$22,\"yyyymmdd\")",22341,"--- na ---","--- na ---","¬IF(ISERROR(TRUNC(QNST04!E52,4))¬TRUE,\"\",TRUNC(QNST04!E52,4))","--- na ---","--- na ---","--- na ---","--- na ---","--- na ---","--- na ---","--- na ---","--- na ---","--- na ---","--- na ---","--- na ---","--- na ---"]
["CMQNT_22342","¬+'Cover Sheet'!$C$24","ENTITY_ID","--- na ---","¬TEXT(+'Cover Sheet'!C$22,\"yyyymmdd\")",22342,"--- na ---","--- na ---","¬IF(ISERROR(TRUNC(QNST04!E53,4))¬TRUE,\"\",TRUNC(QNST04!E53,4))","--- na ---","--- na ---","--- na ---","--- na ---","--- na ---","--- na ---","--- na ---","--- na ---","--- na ---","--- na ---","--- na ---","--- na ---"]
["CMQNT_22343","¬+'Cover Sheet'!$C$24","ENTITY_ID","--- na ---","¬TEXT(+'Cover Sheet'!C$22,\"yyyymmdd\")",22343,"--- na ---","--- na ---","¬IF(ISERROR(TRUNC(QNST04!E54,4))¬TRUE,\"\",TRUNC(QNST04!E54,4))","--- na ---","--- na ---","--- na ---","--- na ---","--- na ---","--- na ---","--- na ---","--- na ---","--- na ---","--- na ---","--- na ---","--- na ---"]
["CMQNT_22344","¬+'Cover Sheet'!$C$24","ENTITY_ID","--- na ---","¬TEXT(+'Cover Sheet'!C$22,\"yyyymmdd\")",22344,"--- na ---","--- na ---","¬IF(ISERROR(TRUNC(QNST04!E55,4))¬TRUE,\"\",TRUNC(QNST04!E55,4))","--- na ---","--- na ---","--- na ---","--- na ---","--- na ---","--- na ---","--- na ---","--- na ---","--- na ---","--- na ---","--- na ---","--- na ---"]
["CMQNT_22345","¬+'Cover Sheet'!$C$24","ENTITY_ID","--- na ---","¬TEXT(+'Cover Sheet'!C$22,\"yyyymmdd\")",22345,"--- na ---","--- na ---","¬IF(ISERROR(TRUNC(QNST04!E56,4))¬TRUE,\"\",TRUNC(QNST04!E56,4))","--- na ---","--- na ---","--- na ---","--- na ---","--- na ---","--- na ---","--- na ---","--- na ---","--- na ---","--- na ---","--- na ---","--- na ---"]
["CMQNT_22340","¬+'Cover Sheet'!$C$24","ENTITY_ID","--- na ---","¬TEXT(+'Cover Sheet'!C$22,\"yyyymmdd\")",22340,"--- na ---","--- na ---","¬IF(ISERROR(TRUNC(QNST04!E57,4))¬TRUE,\"\",TRUNC(QNST04!E57,4))","--- na ---","--- na ---","¬IF(ISERROR(TRUNC(+QNST04!D57,4))¬TRUE,\"\",TRUNC(+QNST04!D57,4))","--- na ---","--- na ---","--- na ---","--- na ---","--- na ---","--- na ---","--- na ---","--- na ---","--- na ---"]
["CMQNT_22346","¬+'Cover Sheet'!$C$24","ENTITY_ID","--- na ---","¬TEXT(+'Cover Sheet'!C$22,\"yyyymmdd\")",22346,"--- na ---","--- na ---","¬IF(ISERROR(TRUNC(QNST04!E58,4))¬TRUE,\"\",TRUNC(QNST04!E58,4))","--- na ---","--- na ---","¬IF(ISERROR(TRUNC(+QNST04!D58,4))¬TRUE,\"\",TRUNC(+QNST04!D58,4))","--- na ---","--- na ---","--- na ---","--- na ---","--- na ---","--- na ---","--- na ---","--- na ---","--- na ---"]
["CMQNT_22360","¬+'Cover Sheet'!$C$24","ENTITY_ID","--- na ---","¬TEXT(+'Cover Sheet'!C$22,\"yyyymmdd\")",22360,"--- na ---","--- na ---",null,"--- na ---","--- na ---","¬IF(ISERROR(TRUNC(QNST04!D59,4))¬TRUE,\"\",TRUNC(QNST04!D59,4))","--- na ---","--- na ---","--- na ---","--- na ---","--- na ---","--- na ---","--- na ---","--- na ---","--- na ---"]
["CMQNT_22370","¬+'Cover Sheet'!$C$24","ENTITY_ID","--- na ---","¬TEXT(+'Cover Sheet'!C$22,\"yyyymmdd\")",22370,"--- na ---","--- na ---","¬IF(ISERROR(TRUNC(QNST04!E60,4))¬TRUE,\"\",TRUNC(QNST04!E60,4))","--- na ---","--- na ---","¬IF(ISERROR(TRUNC(+QNST04!D60,4))¬TRUE,\"\",TRUNC(+QNST04!D60,4))","--- na ---","--- na ---","--- na ---","--- na ---","--- na ---","--- na ---","--- na ---","--- na ---","--- na ---"]
["CMQNT_22380","¬+'Cover Sheet'!$C$24","ENTITY_ID","--- na ---","¬TEXT(+'Cover Sheet'!C$22,\"yyyymmdd\")",22380,"--- na ---","--- na ---","¬IF(ISERROR(TRUNC(QNST04!E61,4))¬TRUE,\"\",TRUNC(QNST04!E61,4))","--- na ---","--- na ---","¬IF(ISERROR(TRUNC(+QNST04!D61,4))¬TRUE,\"\",TRUNC(+QNST04!D61,4))","--- na ---","--- na ---","--- na ---","--- na ---","--- na ---","--- na ---","--- na ---","--- na ---","--- na ---"]
["CMQNT_22390","¬+'Cover Sheet'!$C$24","ENTITY_ID","--- na ---","¬TEXT(+'Cover Sheet'!C$22,\"yyyymmdd\")",22390,"--- na ---","--- na ---","¬IF(ISERROR(TRUNC(QNST04!E62,4))¬TRUE,\"\",TRUNC(QNST04!E62,4))","--- na ---","--- na ---","¬IF(ISERROR(TRUNC(+QNST04!D62,4))¬TRUE,\"\",TRUNC(+QNST04!D62,4))","--- na ---","--- na ---","--- na ---","--- na ---","--- na ---","--- na ---","--- na ---","--- na ---","--- na ---"]
["CMQNT_22400","¬+'Cover Sheet'!$C$24","ENTITY_ID","--- na ---","¬TEXT(+'Cover Sheet'!C$22,\"yyyymmdd\")",22400,"--- na ---","--- na ---","¬IF(ISERROR(TRUNC(QNST04!E63,4))¬TRUE,\"\",TRUNC(QNST04!E63,4))","--- na ---","--- na ---","¬IF(ISERROR(TRUNC(+QNST04!D63,4))¬TRUE,\"\",TRUNC(+QNST04!D63,4))","--- na ---","--- na ---","--- na ---","--- na ---","--- na ---","--- na ---","--- na ---","--- na ---","--- na ---"]
["CMQNT_22410","¬+'Cover Sheet'!$C$24","ENTITY_ID","--- na ---","¬TEXT(+'Cover Sheet'!C$22,\"yyyymmdd\")",22410,"--- na ---","--- na ---","¬IF(ISERROR(TRUNC(QNST04!E64,4))¬TRUE,\"\",TRUNC(QNST04!E64,4))","--- na ---","--- na ---","¬IF(ISERROR(TRUNC(+QNST04!D64,4))¬TRUE,\"\",TRUNC(+QNST04!D64,4))","--- na ---","--- na ---","--- na ---","--- na ---","--- na ---","--- na ---","--- na ---","--- na ---","--- na ---"]
["CMQNT_22420","¬+'Cover Sheet'!$C$24","ENTITY_ID","--- na ---","¬TEXT(+'Cover Sheet'!C$22,\"yyyymmdd\")",22420,"--- na ---","--- na ---","¬IF(ISERROR(TRUNC(QNST04!E65,4))¬TRUE,\"\",TRUNC(QNST04!E65,4))","--- na ---","--- na ---","¬IF(ISERROR(TRUNC(+QNST04!D65,4))¬TRUE,\"\",TRUNC(+QNST04!D65,4))","--- na ---","--- na ---","--- na ---","--- na ---","--- na ---","--- na ---","--- na ---","--- na ---","--- na ---"]
["CMQNT_22421","¬+'Cover Sheet'!$C$24","ENTITY_ID","--- na ---","¬TEXT(+'Cover Sheet'!C$22,\"yyyymmdd\")",22421,"--- na ---","--- na ---","¬IF(ISERROR(TRUNC(QNST04!E68,4))¬TRUE,\"\",TRUNC(QNST04!E68,4))","--- na ---","--- na ---","--- na ---","--- na ---","--- na ---","--- na ---","--- na ---","--- na ---","--- na ---","--- na ---","--- na ---","--- na ---"]
["CMQNT_22422","¬+'Cover Sheet'!$C$24","ENTITY_ID","--- na ---","¬TEXT(+'Cover Sheet'!C$22,\"yyyymmdd\")",22422,"--- na ---","--- na ---","¬IF(ISERROR(TRUNC(QNST04!E69,4))¬TRUE,\"\",TRUNC(QNST04!E69,4))","--- na ---","--- na ---","--- na ---","--- na ---","--- na ---","--- na ---","--- na ---","--- na ---","--- na ---","--- na ---","--- na ---","--- na ---"]
["CMQNT_22423","¬+'Cover Sheet'!$C$24","ENTITY_ID","--- na ---","¬TEXT(+'Cover Sheet'!C$22,\"yyyymmdd\")",22423,"--- na ---","--- na ---","¬IF(ISERROR(TRUNC(QNST04!E70,4))¬TRUE,\"\",TRUNC(QNST04!E70,4))","--- na ---","--- na ---","--- na ---","--- na ---","--- na ---","--- na ---","--- na ---","--- na ---","--- na ---","--- na ---","--- na ---","--- na ---"]
["CMQNT_22424","¬+'Cover Sheet'!$C$24","ENTITY_ID","--- na ---","¬TEXT(+'Cover Sheet'!C$22,\"yyyymmdd\")",22424,"--- na ---","--- na ---","¬IF(ISERROR(TRUNC(QNST04!E71,4))¬TRUE,\"\",TRUNC(QNST04!E71,4))","--- na ---","--- na ---","--- na ---","--- na ---","--- na ---","--- na ---","--- na ---","--- na ---","--- na ---","--- na ---","--- na ---","--- na ---"]
["CMQNT_22425","¬+'Cover Sheet'!$C$24","ENTITY_ID","--- na ---","¬TEXT(+'Cover Sheet'!C$22,\"yyyymmdd\")",22425,"--- na ---","--- na ---","¬IF(ISERROR(TRUNC(QNST04!E72,4))¬TRUE,\"\",TRUNC(QNST04!E72,4))","--- na ---","--- na ---","--- na ---","--- na ---","--- na ---","--- na ---","--- na ---","--- na ---","--- na ---","--- na ---","--- na ---","--- na ---"]
["CMQNT_22426","¬+'Cover Sheet'!$C$24","ENTITY_ID","--- na ---","¬TEXT(+'Cover Sheet'!C$22,\"yyyymmdd\")",22426,"--- na ---","--- na ---","¬IF(ISERROR(TRUNC(QNST04!E73,4))¬TRUE,\"\",TRUNC(QNST04!E73,4))","--- na ---","--- na ---","--- na ---","--- na ---","--- na ---","--- na ---","--- na ---","--- na ---","--- na ---","--- na ---","--- na ---","--- na ---"]
["CMQNT_22427","¬+'Cover Sheet'!$C$24","ENTITY_ID","--- na ---","¬TEXT(+'Cover Sheet'!C$22,\"yyyymmdd\")",22427,"--- na ---","--- na ---","¬IF(ISERROR(TRUNC(QNST04!E74,4))¬TRUE,\"\",TRUNC(QNST04!E74,4))","--- na ---","--- na ---","--- na ---","--- na ---","--- na ---","--- na ---","--- na ---","--- na ---","--- na ---","--- na ---","--- na ---","--- na ---"]
["CMQNT_22471","¬+'Cover Sheet'!$C$24","ENTITY_ID","--- na ---","¬TEXT(+'Cover Sheet'!C$22,\"yyyymmdd\")",22471,"--- na ---","--- na ---","¬IF(ISERROR(TRUNC(QNST04!E75,4))¬TRUE,\"\",TRUNC(QNST04!E75,4))","--- na ---","--- na ---","--- na ---","--- na ---","--- na ---","--- na ---","--- na ---","--- na ---","--- na ---","--- na ---","--- na ---","--- na ---"]
["CMQNT_22472","¬+'Cover Sheet'!$C$24","ENTITY_ID","--- na ---","¬TEXT(+'Cover Sheet'!C$22,\"yyyymmdd\")",22472,"--- na ---","--- na ---","¬IF(ISERROR(TRUNC(QNST04!E76,4))¬TRUE,\"\",TRUNC(QNST04!E76,4))","--- na ---","--- na ---","--- na ---","--- na ---","--- na ---","--- na ---","--- na ---","--- na ---","--- na ---","--- na ---","--- na ---","--- na ---"]
["CMQNT_22473","¬+'Cover Sheet'!$C$24","ENTITY_ID","--- na ---","¬TEXT(+'Cover Sheet'!C$22,\"yyyymmdd\")",22473,"--- na ---","--- na ---","¬IF(ISERROR(TRUNC(QNST04!E77,4))¬TRUE,\"\",TRUNC(QNST04!E77,4))","--- na ---","--- na ---","--- na ---","--- na ---","--- na ---","--- na ---","--- na ---","--- na ---","--- na ---","--- na ---","--- na ---","--- na ---"]
["CMQNT_22474","¬+'Cover Sheet'!$C$24","ENTITY_ID","--- na ---","¬TEXT(+'Cover Sheet'!C$22,\"yyyymmdd\")",22474,"--- na ---","--- na ---","¬IF(ISERROR(TRUNC(QNST04!E78,4))¬TRUE,\"\",TRUNC(QNST04!E78,4))","--- na ---","--- na ---","--- na ---","--- na ---","--- na ---","--- na ---","--- na ---","--- na ---","--- na ---","--- na ---","--- na ---","--- na ---"]
["CMQNT_22475","¬+'Cover Sheet'!$C$24","ENTITY_ID","--- na ---","¬TEXT(+'Cover Sheet'!C$22,\"yyyymmdd\")",22475,"--- na ---","--- na ---","¬IF(ISERROR(TRUNC(QNST04!E79,4))¬TRUE,\"\",TRUNC(QNST04!E79,4))","--- na ---","--- na ---","--- na ---","--- na ---","--- na ---","--- na ---","--- na ---","--- na ---","--- na ---","--- na ---","--- na ---","--- na ---"]
["CMQNT_22476","¬+'Cover Sheet'!$C$24","ENTITY_ID","--- na ---","¬TEXT(+'Cover Sheet'!C$22,\"yyyymmdd\")",22476,"--- na ---","--- na ---","¬IF(ISERROR(TRUNC(QNST04!E80,4))¬TRUE,\"\",TRUNC(QNST04!E80,4))","--- na ---","--- na ---","--- na ---","--- na ---","--- na ---","--- na ---","--- na ---","--- na ---","--- na ---","--- na ---","--- na ---","--- na ---"]
["CMQNT_22477","¬+'Cover Sheet'!$C$24","ENTITY_ID","--- na ---","¬TEXT(+'Cover Sheet'!C$22,\"yyyymmdd\")",22477,"--- na ---","--- na ---","¬IF(ISERROR(TRUNC(QNST04!E81,4))¬TRUE,\"\",TRUNC(QNST04!E81,4))","--- na ---","--- na ---","--- na ---","--- na ---","--- na ---","--- na ---","--- na ---","--- na ---","--- na ---","--- na ---","--- na ---","--- na ---"]
["CMQNT_22561","¬+'Cover Sheet'!$C$24","ENTITY_ID","--- na ---","¬TEXT(+'Cover Sheet'!C$22,\"yyyymmdd\")",22561,"--- na ---","--- na ---","¬IF(ISERROR(TRUNC(QNST04!E82,4))¬TRUE,\"\",TRUNC(QNST04!E82,4))","--- na ---","--- na ---","--- na ---","--- na ---","--- na ---","--- na ---","--- na ---","--- na ---","--- na ---","--- na ---","--- na ---","--- na ---"]
["CMQNT_22562","¬+'Cover Sheet'!$C$24","ENTITY_ID","--- na ---","¬TEXT(+'Cover Sheet'!C$22,\"yyyymmdd\")",22562,"--- na ---","--- na ---","¬IF(ISERROR(TRUNC(QNST04!E83,4))¬TRUE,\"\",TRUNC(QNST04!E83,4))","--- na ---","--- na ---","--- na ---","--- na ---","--- na ---","--- na ---","--- na ---","--- na ---","--- na ---","--- na ---","--- na ---","--- na ---"]
["CMQNT_22563","¬+'Cover Sheet'!$C$24","ENTITY_ID","--- na ---","¬TEXT(+'Cover Sheet'!C$22,\"yyyymmdd\")",22563,"--- na ---","--- na ---","¬IF(ISERROR(TRUNC(QNST04!E84,4))¬TRUE,\"\",TRUNC(QNST04!E84,4))","--- na ---","--- na ---","--- na ---","--- na ---","--- na ---","--- na ---","--- na ---","--- na ---","--- na ---","--- na ---","--- na ---","--- na ---"]
["CMQNT_22564","¬+'Cover Sheet'!$C$24","ENTITY_ID","--- na ---","¬TEXT(+'Cover Sheet'!C$22,\"yyyymmdd\")",22564,"--- na ---","--- na ---","¬IF(ISERROR(TRUNC(QNST04!E85,4))¬TRUE,\"\",TRUNC(QNST04!E85,4))","--- na ---","--- na ---","--- na ---","--- na ---","--- na ---","--- na ---","--- na ---","--- na ---","--- na ---","--- na ---","--- na ---","--- na ---"]
["CMQNT_22565","¬+'Cover Sheet'!$C$24","ENTITY_ID","--- na ---","¬TEXT(+'Cover Sheet'!C$22,\"yyyymmdd\")",22565,"--- na ---","--- na ---","¬IF(ISERROR(TRUNC(QNST04!E86,4))¬TRUE,\"\",TRUNC(QNST04!E86,4))","--- na ---","--- na ---","--- na ---","--- na ---","--- na ---","--- na ---","--- na ---","--- na ---","--- na ---","--- na ---","--- na ---","--- na ---"]
["CMQNT_22566","¬+'Cover Sheet'!$C$24","ENTITY_ID","--- na ---","¬TEXT(+'Cover Sheet'!C$22,\"yyyymmdd\")",22566,"--- na ---","--- na ---","¬IF(ISERROR(TRUNC(QNST04!E87,4))¬TRUE,\"\",TRUNC(QNST04!E87,4))","--- na ---","--- na ---","--- na ---","--- na ---","--- na ---","--- na ---","--- na ---","--- na ---","--- na ---","--- na ---","--- na ---","--- na ---"]
["CMQNT_22567","¬+'Cover Sheet'!$C$24","ENTITY_ID","--- na ---","¬TEXT(+'Cover Sheet'!C$22,\"yyyymmdd\")",22567,"--- na ---","--- na ---","¬IF(ISERROR(TRUNC(QNST04!E88,4))¬TRUE,\"\",TRUNC(QNST04!E88,4))","--- na ---","--- na ---","--- na ---","--- na ---","--- na ---","--- na ---","--- na ---","--- na ---","--- na ---","--- na ---","--- na ---","--- na ---"]
["CMQNT_22480","¬+'Cover Sheet'!$C$24","ENTITY_ID","--- na ---","¬TEXT(+'Cover Sheet'!C$22,\"yyyymmdd\")",22480,"--- na ---","--- na ---","--- na ---","--- na ---","--- na ---","¬IF(ISERROR(TRUNC(QNST04!D89,4))¬TRUE,\"\",TRUNC(QNST04!D89,4))","--- na ---","--- na ---","--- na ---","--- na ---","--- na ---","--- na ---","--- na ---","--- na ---","--- na ---"]
["CMQNT_22490","¬+'Cover Sheet'!$C$24","ENTITY_ID","--- na ---","¬TEXT(+'Cover Sheet'!C$22,\"yyyymmdd\")",22490,"--- na ---","--- na ---","--- na ---","--- na ---","--- na ---","¬IF(ISERROR(TRUNC(QNST04!D90,4))¬TRUE,\"\",TRUNC(QNST04!D90,4))","--- na ---","--- na ---","--- na ---","--- na ---","--- na ---","--- na ---","--- na ---","--- na ---","--- na ---"]
["CMQNT_22500","¬+'Cover Sheet'!$C$24","ENTITY_ID","--- na ---","¬TEXT(+'Cover Sheet'!C$22,\"yyyymmdd\")",22500,"--- na ---","--- na ---","--- na ---","--- na ---","--- na ---","¬IF(ISERROR(TRUNC(QNST04!D91,4))¬TRUE,\"\",TRUNC(QNST04!D91,4))","--- na ---","--- na ---","--- na ---","--- na ---","--- na ---","--- na ---","--- na ---","--- na ---","--- na ---"]
["CMQNT_22510","¬+'Cover Sheet'!$C$24","ENTITY_ID","--- na ---","¬TEXT(+'Cover Sheet'!C$22,\"yyyymmdd\")",22510,"--- na ---","--- na ---","--- na ---","--- na ---","--- na ---","¬IF(ISERROR(TRUNC(QNST04!D92,4))¬TRUE,\"\",TRUNC(QNST04!D92,4))","--- na ---","--- na ---","--- na ---","--- na ---","--- na ---","--- na ---","--- na ---","--- na ---","--- na ---"]
["CMQNT_22520","¬+'Cover Sheet'!$C$24","ENTITY_ID","--- na ---","¬TEXT(+'Cover Sheet'!C$22,\"yyyymmdd\")",22520,"--- na ---","--- na ---","--- na ---","--- na ---","--- na ---","¬IF(ISERROR(TRUNC(QNST04!D93,4))¬TRUE,\"\",TRUNC(QNST04!D93,4))","--- na ---","--- na ---","--- na ---","--- na ---","--- na ---","--- na ---","--- na ---","--- na ---","--- na ---"]
["CMQNT_22530","¬+'Cover Sheet'!$C$24","ENTITY_ID","--- na ---","¬TEXT(+'Cover Sheet'!C$22,\"yyyymmdd\")",22530,"--- na ---","--- na ---","--- na ---","--- na ---","--- na ---","¬IF(ISERROR(TRUNC(QNST04!D94,4))¬TRUE,\"\",TRUNC(QNST04!D94,4))","--- na ---","--- na ---","--- na ---","--- na ---","--- na ---","--- na ---","--- na ---","--- na ---","--- na ---"]
["CMQNT_22540","¬+'Cover Sheet'!$C$24","ENTITY_ID","--- na ---","¬TEXT(+'Cover Sheet'!C$22,\"yyyymmdd\")",22540,"--- na ---","--- na ---","--- na ---","--- na ---","--- na ---","¬IF(ISERROR(TRUNC(QNST04!D95,4))¬TRUE,\"\",TRUNC(QNST04!D95,4))","--- na ---","--- na ---","--- na ---","--- na ---","--- na ---","--- na ---","--- na ---","--- na ---","--- na ---"]
["CMQNT_22550","¬+'Cover Sheet'!$C$24","ENTITY_ID","--- na ---","¬TEXT(+'Cover Sheet'!C$22,\"yyyymmdd\")",22550,"--- na ---","--- na ---","--- na ---","--- na ---","--- na ---","¬IF(ISERROR(TRUNC(QNST04!D96,4))¬TRUE,\"\",TRUNC(QNST04!D96,4))","--- na ---","--- na ---","--- na ---","--- na ---","--- na ---","--- na ---","--- na ---","--- na ---","--- na ---"]
["CMQNT_22560","¬+'Cover Sheet'!$C$24","ENTITY_ID","--- na ---","¬TEXT(+'Cover Sheet'!C$22,\"yyyymmdd\")",22560,"--- na ---","--- na ---","--- na ---","--- na ---","--- na ---","¬IF(ISERROR(TRUNC(QNST04!D97,4))¬TRUE,\"\",TRUNC(QNST04!D97,4))","--- na ---","--- na ---","--- na ---","--- na ---","--- na ---","--- na ---","--- na ---","--- na ---","--- na ---"]
["CMQNT_22690","¬+'Cover Sheet'!$C$24","ENTITY_ID","--- na ---","¬TEXT(+'Cover Sheet'!C$22,\"yyyymmdd\")",22690,"--- na ---","--- na ---","--- na ---","--- na ---","--- na ---","¬IF(ISERROR(TRUNC(QNST04!D98,4))¬TRUE,\"\",TRUNC(QNST04!D98,4))","--- na ---","--- na ---","--- na ---","--- na ---","--- na ---","--- na ---","--- na ---","--- na ---","--- na ---"]
["CMQNT_22700","¬+'Cover Sheet'!$C$24","ENTITY_ID","--- na ---","¬TEXT(+'Cover Sheet'!C$22,\"yyyymmdd\")",22700,"--- na ---","--- na ---","--- na ---","--- na ---","--- na ---","¬IF(ISERROR(TRUNC(QNST04!D99,4))¬TRUE,\"\",TRUNC(QNST04!D99,4))","--- na ---","--- na ---","--- na ---","--- na ---","--- na ---","--- na ---","--- na ---","--- na ---","--- na ---"]
["CMQNT_22710","¬+'Cover Sheet'!$C$24","ENTITY_ID","--- na ---","¬TEXT(+'Cover Sheet'!C$22,\"yyyymmdd\")",22710,"--- na ---","--- na ---","--- na ---","--- na ---","--- na ---","¬IF(ISERROR(TRUNC(QNST04!D100,4))¬TRUE,\"\",TRUNC(QNST04!D100,4))","--- na ---","--- na ---","--- na ---","--- na ---","--- na ---","--- na ---","--- na ---","--- na ---","--- na ---"]
["CMQNT_22720","¬+'Cover Sheet'!$C$24","ENTITY_ID","--- na ---","¬TEXT(+'Cover Sheet'!C$22,\"yyyymmdd\")",22720,"--- na ---","--- na ---","--- na ---","--- na ---","--- na ---","¬IF(ISERROR(TRUNC(QNST04!D101,4))¬TRUE,\"\",TRUNC(QNST04!D101,4))","--- na ---","--- na ---","--- na ---","--- na ---","--- na ---","--- na ---","--- na ---","--- na ---","--- na ---"]
["CMQNT_22730","¬+'Cover Sheet'!$C$24","ENTITY_ID","--- na ---","¬TEXT(+'Cover Sheet'!C$22,\"yyyymmdd\")",22730,"--- na ---","--- na ---","--- na ---","--- na ---","--- na ---","¬IF(ISERROR(TRUNC(QNST04!D102,4))¬TRUE,\"\",TRUNC(QNST04!D102,4))","--- na ---","--- na ---","--- na ---","--- na ---","--- na ---","--- na ---","--- na ---","--- na ---","--- na ---"]
["CMQNT_22740","¬+'Cover Sheet'!$C$24","ENTITY_ID","--- na ---","¬TEXT(+'Cover Sheet'!C$22,\"yyyymmdd\")",22740,"--- na ---","--- na ---","--- na ---","--- na ---","--- na ---","¬IF(ISERROR(TRUNC(QNST04!D103,4))¬TRUE,\"\",TRUNC(QNST04!D103,4))","--- na ---","--- na ---","--- na ---","--- na ---","--- na ---","--- na ---","--- na ---","--- na ---","--- na ---"]
["CMQNT_22750","¬+'Cover Sheet'!$C$24","ENTITY_ID","--- na ---","¬TEXT(+'Cover Sheet'!C$22,\"yyyymmdd\")",22750,"--- na ---","--- na ---","--- na ---","--- na ---","--- na ---","¬IF(ISERROR(TRUNC(QNST04!D104,4))¬TRUE,\"\",TRUNC(QNST04!D104,4))","--- na ---","--- na ---","--- na ---","--- na ---","--- na ---","--- na ---","--- na ---","--- na ---","--- na ---"]
["CMQNT_22760","¬+'Cover Sheet'!$C$24","ENTITY_ID","--- na ---","¬TEXT(+'Cover Sheet'!C$22,\"yyyymmdd\")",22760,"--- na ---","--- na ---","--- na ---","--- na ---","--- na ---","¬IF(ISERROR(TRUNC(QNST04!D105,4))¬TRUE,\"\",TRUNC(QNST04!D105,4))","--- na ---","--- na ---","--- na ---","--- na ---","--- na ---","--- na ---","--- na ---","--- na ---","--- na ---"]
["CMQNT_22770","¬+'Cover Sheet'!$C$24","ENTITY_ID","--- na ---","¬TEXT(+'Cover Sheet'!C$22,\"yyyymmdd\")",22770,"--- na ---","--- na ---","--- na ---","--- na ---","--- na ---","¬IF(ISERROR(TRUNC(QNST04!D106,4))¬TRUE,\"\",TRUNC(QNST04!D106,4))","--- na ---","--- na ---","--- na ---","--- na ---","--- na ---","--- na ---","--- na ---","--- na ---","--- na ---"]
["CMQNT_22780","¬+'Cover Sheet'!$C$24","ENTITY_ID","--- na ---","¬TEXT(+'Cover Sheet'!C$22,\"yyyymmdd\")",22780,"--- na ---","--- na ---","--- na ---","--- na ---","--- na ---","¬IF(ISERROR(TRUNC(QNST04!D107,4))¬TRUE,\"\",TRUNC(QNST04!D107,4))","--- na ---","--- na ---","--- na ---","--- na ---","--- na ---","--- na ---","--- na ---","--- na ---","--- na ---"]
["CMQNT_22790","¬+'Cover Sheet'!$C$24","ENTITY_ID","--- na ---","¬TEXT(+'Cover Sheet'!C$22,\"yyyymmdd\")",22790,"--- na ---","--- na ---","--- na ---","--- na ---","--- na ---","¬IF(ISERROR(TRUNC(QNST04!D108,4))¬TRUE,\"\",TRUNC(QNST04!D108,4))","--- na ---","--- na ---","--- na ---","--- na ---","--- na ---","--- na ---","--- na ---","--- na ---","--- na ---"]
["CMQNT_22800","¬+'Cover Sheet'!$C$24","ENTITY_ID","--- na ---","¬TEXT(+'Cover Sheet'!C$22,\"yyyymmdd\")",22800,"--- na ---","--- na ---","--- na ---","--- na ---","--- na ---","¬IF(ISERROR(TRUNC(QNST04!D109,4))¬TRUE,\"\",TRUNC(QNST04!D109,4))","--- na ---","--- na ---","--- na ---","--- na ---","--- na ---","--- na ---","--- na ---","--- na ---","--- na ---"]
["CMQNT_22810","¬+'Cover Sheet'!$C$24","ENTITY_ID","--- na ---","¬TEXT(+'Cover Sheet'!C$22,\"yyyymmdd\")",22810,"--- na ---","--- na ---","--- na ---","--- na ---","--- na ---","¬IF(ISERROR(TRUNC(QNST04!D110,4))¬TRUE,\"\",TRUNC(QNST04!D110,4))","--- na ---","--- na ---","--- na ---","--- na ---","--- na ---","--- na ---","--- na ---","--- na ---","--- na ---"]
["CMQNT_22821","¬+'Cover Sheet'!$C$24","ENTITY_ID","--- na ---","¬TEXT(+'Cover Sheet'!C$22,\"yyyymmdd\")",22821,"--- na ---","--- na ---","¬IF(ISERROR(TRUNC(QNST04!E111,4))¬TRUE,\"\",TRUNC(QNST04!E111,4))","--- na ---","--- na ---","--- na ---","--- na ---","--- na ---","--- na ---","--- na ---","--- na ---","--- na ---","--- na ---","--- na ---","--- na ---"]
["CMQNT_22830","¬+'Cover Sheet'!$C$24","ENTITY_ID","--- na ---","¬TEXT(+'Cover Sheet'!C$22,\"yyyymmdd\")",22830,"--- na ---","--- na ---","--- na ---","--- na ---","--- na ---","¬IF(ISERROR(TRUNC(QNST04!D112,4))¬TRUE,\"\",TRUNC(QNST04!D112,4))","--- na ---","--- na ---","--- na ---","--- na ---","--- na ---","--- na ---","--- na ---","--- na ---","--- na ---"]
["CMQNT_22840","¬+'Cover Sheet'!$C$24","ENTITY_ID","--- na ---","¬TEXT(+'Cover Sheet'!C$22,\"yyyymmdd\")",22840,"--- na ---","--- na ---","¬IF(ISERROR(TRUNC(QNST04!E113,4))¬TRUE,\"\",TRUNC(QNST04!E113,4))","--- na ---","--- na ---","¬IF(ISERROR(TRUNC(QNST04!D113,4))¬TRUE,\"\",TRUNC(QNST04!D113,4))","--- na ---","--- na ---","--- na ---","--- na ---","--- na ---","--- na ---","--- na ---","--- na ---","--- na ---"]
["CMQNT_22850","¬+'Cover Sheet'!$C$24","ENTITY_ID","--- na ---","¬TEXT(+'Cover Sheet'!C$22,\"yyyymmdd\")",22850,"--- na ---","--- na ---","¬IF(ISERROR(TRUNC(QNST04!E114,4))¬TRUE,\"\",TRUNC(QNST04!E114,4))","--- na ---","--- na ---","¬IF(ISERROR(TRUNC(QNST04!D114,4))¬TRUE,\"\",TRUNC(QNST04!D114,4))","--- na ---","--- na ---","--- na ---","--- na ---","--- na ---","--- na ---","--- na ---","--- na ---","--- na ---"]
["CMQNT_22860","¬+'Cover Sheet'!$C$24","ENTITY_ID","--- na ---","¬TEXT(+'Cover Sheet'!C$22,\"yyyymmdd\")",22860,"--- na ---","--- na ---","¬IF(ISERROR(TRUNC(QNST04!E115,4))¬TRUE,\"\",TRUNC(QNST04!E115,4))","--- na ---","--- na ---","¬IF(ISERROR(TRUNC(QNST04!D115,4))¬TRUE,\"\",TRUNC(QNST04!D115,4))","--- na ---","--- na ---","--- na ---","--- na ---","--- na ---","--- na ---","--- na ---","--- na ---","--- na ---"]
["CMQNT_22870","¬+'Cover Sheet'!$C$24","ENTITY_ID","--- na ---","¬TEXT(+'Cover Sheet'!C$22,\"yyyymmdd\")",22870,"--- na ---","--- na ---","¬IF(ISERROR(TRUNC(QNST04!E116,4))¬TRUE,\"\",TRUNC(QNST04!E116,4))","--- na ---","--- na ---","¬IF(ISERROR(TRUNC(QNST04!D116,4))¬TRUE,\"\",TRUNC(QNST04!D116,4))","--- na ---","--- na ---","--- na ---","--- na ---","--- na ---","--- na ---","--- na ---","--- na ---","--- na ---"]
["CMQNT_22880","¬+'Cover Sheet'!$C$24","ENTITY_ID","--- na ---","¬TEXT(+'Cover Sheet'!C$22,\"yyyymmdd\")",22880,"--- na ---","--- na ---","¬IF(ISERROR(TRUNC(QNST04!E117,4))¬TRUE,\"\",TRUNC(QNST04!E117,4))","--- na ---","--- na ---","¬IF(ISERROR(TRUNC(QNST04!D117,4))¬TRUE,\"\",TRUNC(QNST04!D117,4))","--- na ---","--- na ---","--- na ---","--- na ---","--- na ---","--- na ---","--- na ---","--- na ---","--- na ---"]
["CMQNT_22890","¬+'Cover Sheet'!$C$24","ENTITY_ID","--- na ---","¬TEXT(+'Cover Sheet'!C$22,\"yyyymmdd\")",22890,"--- na ---","--- na ---","¬IF(ISERROR(TRUNC(QNST04!E118,4))¬TRUE,\"\",TRUNC(QNST04!E118,4))","--- na ---","--- na ---","¬IF(ISERROR(TRUNC(QNST04!D118,4))¬TRUE,\"\",TRUNC(QNST04!D118,4))","--- na ---","--- na ---","--- na ---","--- na ---","--- na ---","--- na ---","--- na ---","--- na ---","--- na ---"]
["CMQNT_22900","¬+'Cover Sheet'!$C$24","ENTITY_ID","--- na ---","¬TEXT(+'Cover Sheet'!C$22,\"yyyymmdd\")",22900,"--- na ---","--- na ---","¬IF(ISERROR(TRUNC(QNST04!E119,4))¬TRUE,\"\",TRUNC(QNST04!E119,4))","--- na ---","--- na ---","¬IF(ISERROR(TRUNC(QNST04!D119,4))¬TRUE,\"\",TRUNC(QNST04!D119,4))","--- na ---","--- na ---","--- na ---","--- na ---","--- na ---","--- na ---","--- na ---","--- na ---","--- na ---"]
["CMQNT_22910","¬+'Cover Sheet'!$C$24","ENTITY_ID","--- na ---","¬TEXT(+'Cover Sheet'!C$22,\"yyyymmdd\")",22910,"--- na ---","--- na ---",null,"--- na ---","--- na ---","¬IF(ISERROR(TRUNC(QNST04!D120,4))¬TRUE,\"\",TRUNC(QNST04!D120,4))","--- na ---","--- na ---","--- na ---","--- na ---","--- na ---","--- na ---","--- na ---","--- na ---","--- na ---"]
["CMQNT_22920","¬+'Cover Sheet'!$C$24","ENTITY_ID","--- na ---","¬TEXT(+'Cover Sheet'!C$22,\"yyyymmdd\")",22920,"--- na ---","--- na ---",null,"--- na ---","--- na ---","¬IF(ISERROR(TRUNC(QNST04!D121,4))¬TRUE,\"\",TRUNC(QNST04!D121,4))","--- na ---","--- na ---","--- na ---","--- na ---","--- na ---","--- na ---","--- na ---","--- na ---","--- na ---"]
["CMQNT_22930","¬+'Cover Sheet'!$C$24","ENTITY_ID","--- na ---","¬TEXT(+'Cover Sheet'!C$22,\"yyyymmdd\")",22930,"--- na ---","--- na ---","¬IF(ISERROR(TRUNC(QNST04!E122,4))¬TRUE,\"\",TRUNC(QNST04!E122,4))","--- na ---","--- na ---","¬IF(ISERROR(TRUNC(QNST04!D122,4))¬TRUE,\"\",TRUNC(QNST04!D122,4))","--- na ---","--- na ---","--- na ---","--- na ---","--- na ---","--- na ---","--- na ---","--- na ---","--- na ---"]
["CMQNT_22940","¬+'Cover Sheet'!$C$24","ENTITY_ID","--- na ---","¬TEXT(+'Cover Sheet'!C$22,\"yyyymmdd\")",22940,"--- na ---","--- na ---","¬IF(ISERROR(TRUNC(QNST04!E123,4))¬TRUE,\"\",TRUNC(QNST04!E123,4))","--- na ---","--- na ---","¬IF(ISERROR(TRUNC(QNST04!D123,4))¬TRUE,\"\",TRUNC(QNST04!D123,4))","--- na ---","--- na ---","--- na ---","--- na ---","--- na ---","--- na ---","--- na ---","--- na ---","--- na ---"]
["CMQNT_22950","¬+'Cover Sheet'!$C$24","ENTITY_ID","--- na ---","¬TEXT(+'Cover Sheet'!C$22,\"yyyymmdd\")",22950,"--- na ---","--- na ---","¬IF(ISERROR(TRUNC(QNST04!E124,4))¬TRUE,\"\",TRUNC(QNST04!E124,4))","--- na ---","--- na ---","¬IF(ISERROR(TRUNC(QNST04!D124,4))¬TRUE,\"\",TRUNC(QNST04!D124,4))","--- na ---","--- na ---","--- na ---","--- na ---","--- na ---","--- na ---","--- na ---","--- na ---","--- na ---"]
["CMQNT_22960","¬+'Cover Sheet'!$C$24","ENTITY_ID","--- na ---","¬TEXT(+'Cover Sheet'!C$22,\"yyyymmdd\")",22960,"--- na ---","--- na ---","¬IF(ISERROR(TRUNC(QNST04!E125,4))¬TRUE,\"\",TRUNC(QNST04!E125,4))","--- na ---","--- na ---","¬IF(ISERROR(TRUNC(QNST04!D125,4))¬TRUE,\"\",TRUNC(QNST04!D125,4))","--- na ---","--- na ---","--- na ---","--- na ---","--- na ---","--- na ---","--- na ---","--- na ---","--- na ---"]
["CMQNT_22970","¬+'Cover Sheet'!$C$24","ENTITY_ID","--- na ---","¬TEXT(+'Cover Sheet'!C$22,\"yyyymmdd\")",22970,"--- na ---","--- na ---","¬IF(ISERROR(TRUNC(QNST04!E126,4))¬TRUE,\"\",TRUNC(QNST04!E126,4))","--- na ---","--- na ---","¬IF(ISERROR(TRUNC(QNST04!D126,4))¬TRUE,\"\",TRUNC(QNST04!D126,4))","--- na ---","--- na ---","--- na ---","--- na ---","--- na ---","--- na ---","--- na ---","--- na ---","--- na ---"]
["CMQNT_22980","¬+'Cover Sheet'!$C$24","ENTITY_ID","--- na ---","¬TEXT(+'Cover Sheet'!C$22,\"yyyymmdd\")",22980,"--- na ---","--- na ---","¬IF(ISERROR(TRUNC(QNST04!E127,4))¬TRUE,\"\",TRUNC(QNST04!E127,4))","--- na ---","--- na ---","¬IF(ISERROR(TRUNC(QNST04!D127,4))¬TRUE,\"\",TRUNC(QNST04!D127,4))","--- na ---","--- na ---","--- na ---","--- na ---","--- na ---","--- na ---","--- na ---","--- na ---","--- na ---"]
["CMQNT_22990","¬+'Cover Sheet'!$C$24","ENTITY_ID","--- na ---","¬TEXT(+'Cover Sheet'!C$22,\"yyyymmdd\")",22990,"--- na ---","--- na ---","--- na ---","--- na ---","--- na ---","¬IF(ISERROR(TRUNC(QNST04!D129,4))¬TRUE,\"\",TRUNC(QNST04!D129,4))","--- na ---","--- na ---","--- na ---","--- na ---","--- na ---","--- na ---","--- na ---","--- na ---","--- na ---"]
["CMQNT_23000","¬+'Cover Sheet'!$C$24","ENTITY_ID","--- na ---","¬TEXT(+'Cover Sheet'!C$22,\"yyyymmdd\")",23000,"--- na ---","--- na ---","¬IF(ISERROR(TRUNC(QNST04!E132,4))¬TRUE,\"\",TRUNC(QNST04!E132,4))","--- na ---","--- na ---","--- na ---","--- na ---","--- na ---","--- na ---","--- na ---","--- na ---","--- na ---","--- na ---","--- na ---","--- na ---"]
["CMQNT_23010","¬+'Cover Sheet'!$C$24","ENTITY_ID","--- na ---","¬TEXT(+'Cover Sheet'!C$22,\"yyyymmdd\")",23010,"--- na ---","--- na ---","¬IF(ISERROR(TRUNC(QNST04!E133,4))¬TRUE,\"\",TRUNC(QNST04!E133,4))","--- na ---","--- na ---","--- na ---","--- na ---","--- na ---","--- na ---","--- na ---","--- na ---","--- na ---","--- na ---","--- na ---","--- na ---"]
["CMQNT_23020","¬+'Cover Sheet'!$C$24","ENTITY_ID","--- na ---","¬TEXT(+'Cover Sheet'!C$22,\"yyyymmdd\")",23020,"--- na ---","--- na ---","¬IF(ISERROR(TRUNC(QNST04!E134,4))¬TRUE,\"\",TRUNC(QNST04!E134,4))","--- na ---","--- na ---","--- na ---","--- na ---","--- na ---","--- na ---","--- na ---","--- na ---","--- na ---","--- na ---","--- na ---","--- na ---"]
["CMQNT_23030","¬+'Cover Sheet'!$C$24","ENTITY_ID","--- na ---","¬TEXT(+'Cover Sheet'!C$22,\"yyyymmdd\")",23030,"--- na ---","--- na ---","¬IF(ISERROR(TRUNC(QNST04!E135,4))¬TRUE,\"\",TRUNC(QNST04!E135,4))","--- na ---","--- na ---","--- na ---","--- na ---","--- na ---","--- na ---","--- na ---","--- na ---","--- na ---","--- na ---","--- na ---","--- na ---"]
["CMQNT_23040","¬+'Cover Sheet'!$C$24","ENTITY_ID","--- na ---","¬TEXT(+'Cover Sheet'!C$22,\"yyyymmdd\")",23040,"--- na ---","--- na ---","¬IF(ISERROR(TRUNC(QNST04!E136,4))¬TRUE,\"\",TRUNC(QNST04!E136,4))","--- na ---","--- na ---","--- na ---","--- na ---","--- na ---","--- na ---","--- na ---","--- na ---","--- na ---","--- na ---","--- na ---","--- na ---"]
["CMQNT_23050","¬+'Cover Sheet'!$C$24","ENTITY_ID","--- na ---","¬TEXT(+'Cover Sheet'!C$22,\"yyyymmdd\")",23050,"--- na ---","--- na ---","¬IF(ISERROR(TRUNC(QNST04!E137,4))¬TRUE,\"\",TRUNC(QNST04!E137,4))","--- na ---","--- na ---","--- na ---","--- na ---","--- na ---","--- na ---","--- na ---","--- na ---","--- na ---","--- na ---","--- na ---","--- na ---"]
["CMQNT_23060","¬+'Cover Sheet'!$C$24","ENTITY_ID","--- na ---","¬TEXT(+'Cover Sheet'!C$22,\"yyyymmdd\")",23060,"--- na ---","--- na ---","¬IF(ISERROR(TRUNC(QNST04!E138,4))¬TRUE,\"\",TRUNC(QNST04!E138,4))","--- na ---","--- na ---","--- na ---","--- na ---","--- na ---","--- na ---","--- na ---","--- na ---","--- na ---","--- na ---","--- na ---","--- na ---"]
["CMQNT_23070","¬+'Cover Sheet'!$C$24","ENTITY_ID","--- na ---","¬TEXT(+'Cover Sheet'!C$22,\"yyyymmdd\")",23070,"--- na ---","--- na ---","¬IF(ISERROR(TRUNC(QNST04!E139,4))¬TRUE,\"\",TRUNC(QNST04!E139,4))","--- na ---","--- na ---","--- na ---","--- na ---","--- na ---","--- na ---","--- na ---","--- na ---","--- na ---","--- na ---","--- na ---","--- na ---"]
["CMQNT_14090","¬+'Cover Sheet'!$C$24","ENTITY_ID","--- na ---","¬TEXT(+'Cover Sheet'!C$22,\"yyyymmdd\")",14090,"¬IF(ISERROR(TRUNC(+CBM!G28,4))¬TRUE,\"\",TRUNC(+CBM!G28,4))","--- na ---","--- na ---","--- na ---","--- na ---","--- na ---","--- na ---","--- na ---","--- na ---","--- na ---","--- na ---","--- na ---","--- na ---","--- na ---","--- na ---"]
["CMQNT_14100","¬+'Cover Sheet'!$C$24","ENTITY_ID","--- na ---","¬TEXT(+'Cover Sheet'!C$22,\"yyyymmdd\")",14100,"¬IF(ISERROR(TRUNC(+CBM!G29,4))¬TRUE,\"\",TRUNC(+CBM!G29,4))","--- na ---","--- na ---","--- na ---","--- na ---","--- na ---","--- na ---","--- na ---","--- na ---","--- na ---","--- na ---","--- na ---","--- na ---","--- na ---","--- na ---"]
["CMQNT_14110","--- na ---","ENTITY_ID","--- na ---","¬TEXT(+'Cover Sheet'!C$22,\"yyyymmdd\")",14110,"¬IF(ISERROR(TRUNC(+CBM!G33,4))¬TRUE,\"\",TRUNC(+CBM!G33,4))","--- na ---","--- na ---","--- na ---","--- na ---","--- na ---","--- na ---","--- na ---","--- na ---","--- na ---","--- na ---","--- na ---","--- na ---","--- na ---","--- na ---"]
["CMQNT_14120","--- na ---","ENTITY_ID","--- na ---","¬TEXT(+'Cover Sheet'!C$22,\"yyyymmdd\")",14120,"¬IF(ISERROR(TRUNC(+CBM!G34,4))¬TRUE,\"\",TRUNC(+CBM!G34,4))","--- na ---","--- na ---","--- na ---","--- na ---","--- na ---","--- na ---","--- na ---","--- na ---","--- na ---","--- na ---","--- na ---","--- na ---","--- na ---","--- na ---"]
["CMQNT_14130","--- na ---","ENTITY_ID","--- na ---","¬TEXT(+'Cover Sheet'!C$22,\"yyyymmdd\")",14130,"¬IF(ISERROR(TRUNC(+CBM!G35,4))¬TRUE,\"\",TRUNC(+CBM!G35,4))","--- na ---","--- na ---","--- na ---","--- na ---","--- na ---","--- na ---","--- na ---","--- na ---","--- na ---","--- na ---","--- na ---","--- na ---","--- na ---","--- na ---"]
["CMQNT_14180","¬+'Cover Sheet'!$C$24","ENTITY_ID","W1","¬TEXT(+'Cover Sheet'!C$22,\"yyyymmdd\")",14180,"--- na ---","¬IF(+CBM!H40¬\"--- na ---\",\"--- na ---\",IF(ISERROR(TRUNC(+CBM!H40,4))¬TRUE,\"\",TRUNC(+CBM!H40,4)))","--- na ---","¬IF(ISERROR(TRUNC(+CBM!G40,4))¬TRUE,\"\",TRUNC(+CBM!G40,4))","--- na ---","--- na ---","--- na ---","--- na ---","--- na ---","--- na ---","--- na ---","--- na ---","--- na ---","--- na ---","--- na ---"]
["CMQNT_14180","¬+'Cover Sheet'!$C$24","ENTITY_ID","¬+CBM!F41","¬TEXT(+'Cover Sheet'!C$22,\"yyyymmdd\")",14180,"--- na ---","¬IF(+CBM!H41¬\"--- na ---\",\"--- na ---\",IF(ISERROR(TRUNC(+CBM!H41,4))¬TRUE,\"\",TRUNC(+CBM!H41,4)))","--- na ---","¬IF(ISERROR(TRUNC(+CBM!G41,4))¬TRUE,\"\",TRUNC(+CBM!G41,4))","--- na ---","--- na ---","--- na ---","--- na ---","--- na ---","--- na ---","--- na ---","--- na ---","--- na ---","--- na ---","--- na ---"]
["CMQNT_14180","¬+'Cover Sheet'!$C$24","ENTITY_ID","¬+CBM!F42","¬TEXT(+'Cover Sheet'!C$22,\"yyyymmdd\")",14180,"--- na ---","¬IF(+CBM!H42¬\"--- na ---\",\"--- na ---\",IF(ISERROR(TRUNC(+CBM!H42,4))¬TRUE,\"\",TRUNC(+CBM!H42,4)))","--- na ---","¬IF(ISERROR(TRUNC(+CBM!G42,4))¬TRUE,\"\",TRUNC(+CBM!G42,4))","--- na ---","--- na ---","--- na ---","--- na ---","--- na ---","--- na ---","--- na ---","--- na ---","--- na ---","--- na ---","--- na ---"]
["CMQNT_14180","¬+'Cover Sheet'!$C$24","ENTITY_ID","¬+CBM!F43","¬TEXT(+'Cover Sheet'!C$22,\"yyyymmdd\")",14180,"--- na ---","¬IF(+CBM!H43¬\"--- na ---\",\"--- na ---\",IF(ISERROR(TRUNC(+CBM!H43,4))¬TRUE,\"\",TRUNC(+CBM!H43,4)))","--- na ---","¬IF(ISERROR(TRUNC(+CBM!G43,4))¬TRUE,\"\",TRUNC(+CBM!G43,4))","--- na ---","--- na ---","--- na ---","--- na ---","--- na ---","--- na ---","--- na ---","--- na ---","--- na ---","--- na ---","--- na ---"]
["CMQNT_14180","¬+'Cover Sheet'!$C$24","ENTITY_ID","¬+CBM!F44","¬TEXT(+'Cover Sheet'!C$22,\"yyyymmdd\")",14180,"--- na ---","¬IF(+CBM!H44¬\"--- na ---\",\"--- na ---\",IF(ISERROR(TRUNC(+CBM!H44,4))¬TRUE,\"\",TRUNC(+CBM!H44,4)))","--- na ---","¬IF(ISERROR(TRUNC(+CBM!G44,4))¬TRUE,\"\",TRUNC(+CBM!G44,4))","--- na ---","--- na ---","--- na ---","--- na ---","--- na ---","--- na ---","--- na ---","--- na ---","--- na ---","--- na ---","--- na ---"]
["CMQNT_14180","¬+'Cover Sheet'!$C$24","ENTITY_ID","¬+CBM!F45","¬TEXT(+'Cover Sheet'!C$22,\"yyyymmdd\")",14180,"--- na ---","¬IF(+CBM!H45¬\"--- na ---\",\"--- na ---\",IF(ISERROR(TRUNC(+CBM!H45,4))¬TRUE,\"\",TRUNC(+CBM!H45,4)))","--- na ---","¬IF(ISERROR(TRUNC(+CBM!G45,4))¬TRUE,\"\",TRUNC(+CBM!G45,4))","--- na ---","--- na ---","--- na ---","--- na ---","--- na ---","--- na ---","--- na ---","--- na ---","--- na ---","--- na ---","--- na ---"]
["CMQNT_14180","¬+'Cover Sheet'!$C$24","ENTITY_ID","¬+CBM!F46","¬TEXT(+'Cover Sheet'!C$22,\"yyyymmdd\")",14180,"--- na ---","¬IF(+CBM!H46¬\"--- na ---\",\"--- na ---\",IF(ISERROR(TRUNC(+CBM!H46,4))¬TRUE,\"\",TRUNC(+CBM!H46,4)))","--- na ---","¬IF(ISERROR(TRUNC(+CBM!G46,4))¬TRUE,\"\",TRUNC(+CBM!G46,4))","--- na ---","--- na ---","--- na ---","--- na ---","--- na ---","--- na ---","--- na ---","--- na ---","--- na ---","--- na ---","--- na ---"]
["CMQNT_14180","¬+'Cover Sheet'!$C$24","ENTITY_ID","¬+CBM!F47","¬TEXT(+'Cover Sheet'!C$22,\"yyyymmdd\")",14180,"--- na ---","¬IF(+CBM!H47¬\"--- na ---\",\"--- na ---\",IF(ISERROR(TRUNC(+CBM!H47,4))¬TRUE,\"\",TRUNC(+CBM!H47,4)))","--- na ---","¬IF(ISERROR(TRUNC(+CBM!G47,4))¬TRUE,\"\",TRUNC(+CBM!G47,4))","--- na ---","--- na ---","--- na ---","--- na ---","--- na ---","--- na ---","--- na ---","--- na ---","--- na ---","--- na ---","--- na ---"]
["CMQNT_14180","¬+'Cover Sheet'!$C$24","ENTITY_ID","¬+CBM!F48","¬TEXT(+'Cover Sheet'!C$22,\"yyyymmdd\")",14180,"--- na ---","¬IF(+CBM!H48¬\"--- na ---\",\"--- na ---\",IF(ISERROR(TRUNC(+CBM!H48,4))¬TRUE,\"\",TRUNC(+CBM!H48,4)))","--- na ---","¬IF(ISERROR(TRUNC(+CBM!G48,4))¬TRUE,\"\",TRUNC(+CBM!G48,4))","--- na ---","--- na ---","--- na ---","--- na ---","--- na ---","--- na ---","--- na ---","--- na ---","--- na ---","--- na ---","--- na ---"]
["CMQNT_14180","¬+'Cover Sheet'!$C$24","ENTITY_ID","¬+CBM!F49","¬TEXT(+'Cover Sheet'!C$22,\"yyyymmdd\")",14180,"--- na ---","¬IF(+CBM!H49¬\"--- na ---\",\"--- na ---\",IF(ISERROR(TRUNC(+CBM!H49,4))¬TRUE,\"\",TRUNC(+CBM!H49,4)))","--- na ---","¬IF(ISERROR(TRUNC(+CBM!G49,4))¬TRUE,\"\",TRUNC(+CBM!G49,4))","--- na ---","--- na ---","--- na ---","--- na ---","--- na ---","--- na ---","--- na ---","--- na ---","--- na ---","--- na ---","--- na ---"]
["CMQNT_14180","¬+'Cover Sheet'!$C$24","ENTITY_ID","¬+CBM!F50","¬TEXT(+'Cover Sheet'!C$22,\"yyyymmdd\")",14180,"--- na ---","¬IF(+CBM!H50¬\"--- na ---\",\"--- na ---\",IF(ISERROR(TRUNC(+CBM!H50,4))¬TRUE,\"\",TRUNC(+CBM!H50,4)))","--- na ---","¬IF(ISERROR(TRUNC(+CBM!G50,4))¬TRUE,\"\",TRUNC(+CBM!G50,4))","--- na ---","--- na ---","--- na ---","--- na ---","--- na ---","--- na ---","--- na ---","--- na ---","--- na ---","--- na ---","--- na ---"]
["CMQNT_14180","¬+'Cover Sheet'!$C$24","ENTITY_ID","¬+CBM!F51","¬TEXT(+'Cover Sheet'!C$22,\"yyyymmdd\")",14180,"--- na ---","¬IF(+CBM!H51¬\"--- na ---\",\"--- na ---\",IF(ISERROR(TRUNC(+CBM!H51,4))¬TRUE,\"\",TRUNC(+CBM!H51,4)))","--- na ---","¬IF(ISERROR(TRUNC(+CBM!G51,4))¬TRUE,\"\",TRUNC(+CBM!G51,4))","--- na ---","--- na ---","--- na ---","--- na ---","--- na ---","--- na ---","--- na ---","--- na ---","--- na ---","--- na ---","--- na ---"]
["CMQNT_14180","¬+'Cover Sheet'!$C$24","ENTITY_ID","¬+CBM!F52","¬TEXT(+'Cover Sheet'!C$22,\"yyyymmdd\")",14180,"--- na ---","¬IF(+CBM!H52¬\"--- na ---\",\"--- na ---\",IF(ISERROR(TRUNC(+CBM!H52,4))¬TRUE,\"\",TRUNC(+CBM!H52,4)))","--- na ---","¬IF(ISERROR(TRUNC(+CBM!G52,4))¬TRUE,\"\",TRUNC(+CBM!G52,4))","--- na ---","--- na ---","--- na ---","--- na ---","--- na ---","--- na ---","--- na ---","--- na ---","--- na ---","--- na ---","--- na ---"]
["CMQNT_14180","¬+'Cover Sheet'!$C$24","ENTITY_ID","¬+CBM!F53","¬TEXT(+'Cover Sheet'!C$22,\"yyyymmdd\")",14180,"--- na ---","¬IF(+CBM!H53¬\"--- na ---\",\"--- na ---\",IF(ISERROR(TRUNC(+CBM!H53,4))¬TRUE,\"\",TRUNC(+CBM!H53,4)))","--- na ---","¬IF(ISERROR(TRUNC(+CBM!G53,4))¬TRUE,\"\",TRUNC(+CBM!G53,4))","--- na ---","--- na ---","--- na ---","--- na ---","--- na ---","--- na ---","--- na ---","--- na ---","--- na ---","--- na ---","--- na ---"]
["CMQNT_14180","¬+'Cover Sheet'!$C$24","ENTITY_ID","¬+CBM!F54","¬TEXT(+'Cover Sheet'!C$22,\"yyyymmdd\")",14180,"--- na ---","¬IF(+CBM!H54¬\"--- na ---\",\"--- na ---\",IF(ISERROR(TRUNC(+CBM!H54,4))¬TRUE,\"\",TRUNC(+CBM!H54,4)))","--- na ---","¬IF(ISERROR(TRUNC(+CBM!G54,4))¬TRUE,\"\",TRUNC(+CBM!G54,4))","--- na ---","--- na ---","--- na ---","--- na ---","--- na ---","--- na ---","--- na ---","--- na ---","--- na ---","--- na ---","--- na ---"]
["CMQNT_14180","¬+'Cover Sheet'!$C$24","ENTITY_ID","¬+CBM!F55","¬TEXT(+'Cover Sheet'!C$22,\"yyyymmdd\")",14180,"--- na ---","¬IF(+CBM!H55¬\"--- na ---\",\"--- na ---\",IF(ISERROR(TRUNC(+CBM!H55,4))¬TRUE,\"\",TRUNC(+CBM!H55,4)))","--- na ---","¬IF(ISERROR(TRUNC(+CBM!G55,4))¬TRUE,\"\",TRUNC(+CBM!G55,4))","--- na ---","--- na ---","--- na ---","--- na ---","--- na ---","--- na ---","--- na ---","--- na ---","--- na ---","--- na ---","--- na ---"]
["CMQNT_14180","¬+'Cover Sheet'!$C$24","ENTITY_ID","¬+CBM!F56","¬TEXT(+'Cover Sheet'!C$22,\"yyyymmdd\")",14180,"--- na ---","¬IF(+CBM!H56¬\"--- na ---\",\"--- na ---\",IF(ISERROR(TRUNC(+CBM!H56,4))¬TRUE,\"\",TRUNC(+CBM!H56,4)))","--- na ---","¬IF(ISERROR(TRUNC(+CBM!G56,4))¬TRUE,\"\",TRUNC(+CBM!G56,4))","--- na ---","--- na ---","--- na ---","--- na ---","--- na ---","--- na ---","--- na ---","--- na ---","--- na ---","--- na ---","--- na ---"]
["CMQNT_14180","¬+'Cover Sheet'!$C$24","ENTITY_ID","¬+CBM!F57","¬TEXT(+'Cover Sheet'!C$22,\"yyyymmdd\")",14180,"--- na ---","¬IF(+CBM!H57¬\"--- na ---\",\"--- na ---\",IF(ISERROR(TRUNC(+CBM!H57,4))¬TRUE,\"\",TRUNC(+CBM!H57,4)))","--- na ---","¬IF(ISERROR(TRUNC(+CBM!G57,4))¬TRUE,\"\",TRUNC(+CBM!G57,4))","--- na ---","--- na ---","--- na ---","--- na ---","--- na ---","--- na ---","--- na ---","--- na ---","--- na ---","--- na ---","--- na ---"]
["CMQNT_14180","¬+'Cover Sheet'!$C$24","ENTITY_ID","¬+CBM!F58","¬TEXT(+'Cover Sheet'!C$22,\"yyyymmdd\")",14180,"--- na ---","¬IF(+CBM!H58¬\"--- na ---\",\"--- na ---\",IF(ISERROR(TRUNC(+CBM!H58,4))¬TRUE,\"\",TRUNC(+CBM!H58,4)))","--- na ---","¬IF(ISERROR(TRUNC(+CBM!G58,4))¬TRUE,\"\",TRUNC(+CBM!G58,4))","--- na ---","--- na ---","--- na ---","--- na ---","--- na ---","--- na ---","--- na ---","--- na ---","--- na ---","--- na ---","--- na ---"]
["CMQNT_14180","¬+'Cover Sheet'!$C$24","ENTITY_ID","¬+CBM!F59","¬TEXT(+'Cover Sheet'!C$22,\"yyyymmdd\")",14180,"--- na ---","¬IF(+CBM!H59¬\"--- na ---\",\"--- na ---\",IF(ISERROR(TRUNC(+CBM!H59,4))¬TRUE,\"\",TRUNC(+CBM!H59,4)))","--- na ---","¬IF(ISERROR(TRUNC(+CBM!G59,4))¬TRUE,\"\",TRUNC(+CBM!G59,4))","--- na ---","--- na ---","--- na ---","--- na ---","--- na ---","--- na ---","--- na ---","--- na ---","--- na ---","--- na ---","--- na ---"]
["CMQNT_14180","¬+'Cover Sheet'!$C$24","ENTITY_ID","¬+CBM!F60","¬TEXT(+'Cover Sheet'!C$22,\"yyyymmdd\")",14180,"--- na ---","¬IF(+CBM!H60¬\"--- na ---\",\"--- na ---\",IF(ISERROR(TRUNC(+CBM!H60,4))¬TRUE,\"\",TRUNC(+CBM!H60,4)))","--- na ---","¬IF(ISERROR(TRUNC(+CBM!G60,4))¬TRUE,\"\",TRUNC(+CBM!G60,4))","--- na ---","--- na ---","--- na ---","--- na ---","--- na ---","--- na ---","--- na ---","--- na ---","--- na ---","--- na ---","--- na ---"]
["CMQNT_14180","¬+'Cover Sheet'!$C$24","ENTITY_ID","¬+CBM!F61","¬TEXT(+'Cover Sheet'!C$22,\"yyyymmdd\")",14180,"--- na ---","¬IF(+CBM!H61¬\"--- na ---\",\"--- na ---\",IF(ISERROR(TRUNC(+CBM!H61,4))¬TRUE,\"\",TRUNC(+CBM!H61,4)))","--- na ---","¬IF(ISERROR(TRUNC(+CBM!G61,4))¬TRUE,\"\",TRUNC(+CBM!G61,4))","--- na ---","--- na ---","--- na ---","--- na ---","--- na ---","--- na ---","--- na ---","--- na ---","--- na ---","--- na ---","--- na ---"]
["CMQNT_14180","¬+'Cover Sheet'!$C$24","ENTITY_ID","¬+CBM!F62","¬TEXT(+'Cover Sheet'!C$22,\"yyyymmdd\")",14180,"--- na ---","¬IF(+CBM!H62¬\"--- na ---\",\"--- na ---\",IF(ISERROR(TRUNC(+CBM!H62,4))¬TRUE,\"\",TRUNC(+CBM!H62,4)))","--- na ---","¬IF(ISERROR(TRUNC(+CBM!G62,4))¬TRUE,\"\",TRUNC(+CBM!G62,4))","--- na ---","--- na ---","--- na ---","--- na ---","--- na ---","--- na ---","--- na ---","--- na ---","--- na ---","--- na ---","--- na ---"]
["CMQNT_14180","¬+'Cover Sheet'!$C$24","ENTITY_ID","¬+CBM!F63","¬TEXT(+'Cover Sheet'!C$22,\"yyyymmdd\")",14180,"--- na ---","¬IF(+CBM!H63¬\"--- na ---\",\"--- na ---\",IF(ISERROR(TRUNC(+CBM!H63,4))¬TRUE,\"\",TRUNC(+CBM!H63,4)))","--- na ---","¬IF(ISERROR(TRUNC(+CBM!G63,4))¬TRUE,\"\",TRUNC(+CBM!G63,4))","--- na ---","--- na ---","--- na ---","--- na ---","--- na ---","--- na ---","--- na ---","--- na ---","--- na ---","--- na ---","--- na ---"]
["CMQNT_14180","¬+'Cover Sheet'!$C$24","ENTITY_ID","¬+CBM!F64","¬TEXT(+'Cover Sheet'!C$22,\"yyyymmdd\")",14180,"--- na ---","¬IF(+CBM!H64¬\"--- na ---\",\"--- na ---\",IF(ISERROR(TRUNC(+CBM!H64,4))¬TRUE,\"\",TRUNC(+CBM!H64,4)))","--- na ---","¬IF(ISERROR(TRUNC(+CBM!G64,4))¬TRUE,\"\",TRUNC(+CBM!G64,4))","--- na ---","--- na ---","--- na ---","--- na ---","--- na ---","--- na ---","--- na ---","--- na ---","--- na ---","--- na ---","--- na ---"]
["CMQNT_14180","¬+'Cover Sheet'!$C$24","ENTITY_ID","¬+CBM!F65","¬TEXT(+'Cover Sheet'!C$22,\"yyyymmdd\")",14180,"--- na ---","¬IF(+CBM!H65¬\"--- na ---\",\"--- na ---\",IF(ISERROR(TRUNC(+CBM!H65,4))¬TRUE,\"\",TRUNC(+CBM!H65,4)))","--- na ---","¬IF(ISERROR(TRUNC(+CBM!G65,4))¬TRUE,\"\",TRUNC(+CBM!G65,4))","--- na ---","--- na ---","--- na ---","--- na ---","--- na ---","--- na ---","--- na ---","--- na ---","--- na ---","--- na ---","--- na ---"]
["CMQNT_14180","¬+'Cover Sheet'!$C$24","ENTITY_ID","¬+CBM!F66","¬TEXT(+'Cover Sheet'!C$22,\"yyyymmdd\")",14180,"--- na ---","¬IF(+CBM!H66¬\"--- na ---\",\"--- na ---\",IF(ISERROR(TRUNC(+CBM!H66,4))¬TRUE,\"\",TRUNC(+CBM!H66,4)))","--- na ---","¬IF(ISERROR(TRUNC(+CBM!G66,4))¬TRUE,\"\",TRUNC(+CBM!G66,4))","--- na ---","--- na ---","--- na ---","--- na ---","--- na ---","--- na ---","--- na ---","--- na ---","--- na ---","--- na ---","--- na ---"]
["CMQNT_14180","¬+'Cover Sheet'!$C$24","ENTITY_ID","¬+CBM!F67","¬TEXT(+'Cover Sheet'!C$22,\"yyyymmdd\")",14180,"--- na ---","¬IF(+CBM!H67¬\"--- na ---\",\"--- na ---\",IF(ISERROR(TRUNC(+CBM!H67,4))¬TRUE,\"\",TRUNC(+CBM!H67,4)))","--- na ---","¬IF(ISERROR(TRUNC(+CBM!G67,4))¬TRUE,\"\",TRUNC(+CBM!G67,4))","--- na ---","--- na ---","--- na ---","--- na ---","--- na ---","--- na ---","--- na ---","--- na ---","--- na ---","--- na ---","--- na ---"]
["CMQNT_14180","¬+'Cover Sheet'!$C$24","ENTITY_ID","¬+CBM!F68","¬TEXT(+'Cover Sheet'!C$22,\"yyyymmdd\")",14180,"--- na ---","¬IF(+CBM!H68¬\"--- na ---\",\"--- na ---\",IF(ISERROR(TRUNC(+CBM!H68,4))¬TRUE,\"\",TRUNC(+CBM!H68,4)))","--- na ---","¬IF(ISERROR(TRUNC(+CBM!G68,4))¬TRUE,\"\",TRUNC(+CBM!G68,4))","--- na ---","--- na ---","--- na ---","--- na ---","--- na ---","--- na ---","--- na ---","--- na ---","--- na ---","--- na ---","--- na ---"]
["CMQNT_14180","¬+'Cover Sheet'!$C$24","ENTITY_ID","¬+CBM!F69","¬TEXT(+'Cover Sheet'!C$22,\"yyyymmdd\")",14180,"--- na ---","¬IF(+CBM!H69¬\"--- na ---\",\"--- na ---\",IF(ISERROR(TRUNC(+CBM!H69,4))¬TRUE,\"\",TRUNC(+CBM!H69,4)))","--- na ---","¬IF(ISERROR(TRUNC(+CBM!G69,4))¬TRUE,\"\",TRUNC(+CBM!G69,4))","--- na ---","--- na ---","--- na ---","--- na ---","--- na ---","--- na ---","--- na ---","--- na ---","--- na ---","--- na ---","--- na ---"]
["CMQNT_14180","¬+'Cover Sheet'!$C$24","ENTITY_ID","¬+CBM!F70","¬TEXT(+'Cover Sheet'!C$22,\"yyyymmdd\")",14180,"--- na ---","¬IF(+CBM!H70¬\"--- na ---\",\"--- na ---\",IF(ISERROR(TRUNC(+CBM!H70,4))¬TRUE,\"\",TRUNC(+CBM!H70,4)))","--- na ---","¬IF(ISERROR(TRUNC(+CBM!G70,4))¬TRUE,\"\",TRUNC(+CBM!G70,4))","--- na ---","--- na ---","--- na ---","--- na ---","--- na ---","--- na ---","--- na ---","--- na ---","--- na ---","--- na ---","--- na ---"]
["CMQNT_14180","¬+'Cover Sheet'!$C$24","ENTITY_ID","¬+CBM!F71","¬TEXT(+'Cover Sheet'!C$22,\"yyyymmdd\")",14180,"--- na ---","¬IF(+CBM!H71¬\"--- na ---\",\"--- na ---\",IF(ISERROR(TRUNC(+CBM!H71,4))¬TRUE,\"\",TRUNC(+CBM!H71,4)))","--- na ---","¬IF(ISERROR(TRUNC(+CBM!G71,4))¬TRUE,\"\",TRUNC(+CBM!G71,4))","--- na ---","--- na ---","--- na ---","--- na ---","--- na ---","--- na ---","--- na ---","--- na ---","--- na ---","--- na ---","--- na ---"]
["CMQNT_14180","¬+'Cover Sheet'!$C$24","ENTITY_ID","¬+CBM!F72","¬TEXT(+'Cover Sheet'!C$22,\"yyyymmdd\")",14180,"--- na ---","¬IF(+CBM!H72¬\"--- na ---\",\"--- na ---\",IF(ISERROR(TRUNC(+CBM!H72,4))¬TRUE,\"\",TRUNC(+CBM!H72,4)))","--- na ---","¬IF(ISERROR(TRUNC(+CBM!G72,4))¬TRUE,\"\",TRUNC(+CBM!G72,4))","--- na ---","--- na ---","--- na ---","--- na ---","--- na ---","--- na ---","--- na ---","--- na ---","--- na ---","--- na ---","--- na ---"]
["CMQNT_14180","¬+'Cover Sheet'!$C$24","ENTITY_ID","¬+CBM!F73","¬TEXT(+'Cover Sheet'!C$22,\"yyyymmdd\")",14180,"--- na ---","¬IF(+CBM!H73¬\"--- na ---\",\"--- na ---\",IF(ISERROR(TRUNC(+CBM!H73,4))¬TRUE,\"\",TRUNC(+CBM!H73,4)))","--- na ---","¬IF(ISERROR(TRUNC(+CBM!G73,4))¬TRUE,\"\",TRUNC(+CBM!G73,4))","--- na ---","--- na ---","--- na ---","--- na ---","--- na ---","--- na ---","--- na ---","--- na ---","--- na ---","--- na ---","--- na ---"]
["CMQNT_14180","¬+'Cover Sheet'!$C$24","ENTITY_ID","¬+CBM!F74","¬TEXT(+'Cover Sheet'!C$22,\"yyyymmdd\")",14180,"--- na ---","¬IF(+CBM!H74¬\"--- na ---\",\"--- na ---\",IF(ISERROR(TRUNC(+CBM!H74,4))¬TRUE,\"\",TRUNC(+CBM!H74,4)))","--- na ---","¬IF(ISERROR(TRUNC(+CBM!G74,4))¬TRUE,\"\",TRUNC(+CBM!G74,4))","--- na ---","--- na ---","--- na ---","--- na ---","--- na ---","--- na ---","--- na ---","--- na ---","--- na ---","--- na ---","--- na ---"]
["CMQNT_14180","¬+'Cover Sheet'!$C$24","ENTITY_ID","¬+CBM!F75","¬TEXT(+'Cover Sheet'!C$22,\"yyyymmdd\")",14180,"--- na ---","¬IF(+CBM!H75¬\"--- na ---\",\"--- na ---\",IF(ISERROR(TRUNC(+CBM!H75,4))¬TRUE,\"\",TRUNC(+CBM!H75,4)))","--- na ---","¬IF(ISERROR(TRUNC(+CBM!G75,4))¬TRUE,\"\",TRUNC(+CBM!G75,4))","--- na ---","--- na ---","--- na ---","--- na ---","--- na ---","--- na ---","--- na ---","--- na ---","--- na ---","--- na ---","--- na ---"]
["CMQNT_14180","¬+'Cover Sheet'!$C$24","ENTITY_ID","¬+CBM!F76","¬TEXT(+'Cover Sheet'!C$22,\"yyyymmdd\")",14180,"--- na ---","¬IF(+CBM!H76¬\"--- na ---\",\"--- na ---\",IF(ISERROR(TRUNC(+CBM!H76,4))¬TRUE,\"\",TRUNC(+CBM!H76,4)))","--- na ---","¬IF(ISERROR(TRUNC(+CBM!G76,4))¬TRUE,\"\",TRUNC(+CBM!G76,4))","--- na ---","--- na ---","--- na ---","--- na ---","--- na ---","--- na ---","--- na ---","--- na ---","--- na ---","--- na ---","--- na ---"]
["CMQNT_14180","¬+'Cover Sheet'!$C$24","ENTITY_ID","¬+CBM!F77","¬TEXT(+'Cover Sheet'!C$22,\"yyyymmdd\")",14180,"--- na ---","¬IF(+CBM!H77¬\"--- na ---\",\"--- na ---\",IF(ISERROR(TRUNC(+CBM!H77,4))¬TRUE,\"\",TRUNC(+CBM!H77,4)))","--- na ---","¬IF(ISERROR(TRUNC(+CBM!G77,4))¬TRUE,\"\",TRUNC(+CBM!G77,4))","--- na ---","--- na ---","--- na ---","--- na ---","--- na ---","--- na ---","--- na ---","--- na ---","--- na ---","--- na ---","--- na ---"]
["CMQNT_14180","¬+'Cover Sheet'!$C$24","ENTITY_ID","¬+CBM!F78","¬TEXT(+'Cover Sheet'!C$22,\"yyyymmdd\")",14180,"--- na ---","¬IF(+CBM!H78¬\"--- na ---\",\"--- na ---\",IF(ISERROR(TRUNC(+CBM!H78,4))¬TRUE,\"\",TRUNC(+CBM!H78,4)))","--- na ---","¬IF(ISERROR(TRUNC(+CBM!G78,4))¬TRUE,\"\",TRUNC(+CBM!G78,4))","--- na ---","--- na ---","--- na ---","--- na ---","--- na ---","--- na ---","--- na ---","--- na ---","--- na ---","--- na ---","--- na ---"]
["CMQNT_14180","¬+'Cover Sheet'!$C$24","ENTITY_ID","¬+CBM!F79","¬TEXT(+'Cover Sheet'!C$22,\"yyyymmdd\")",14180,"--- na ---","¬IF(+CBM!H79¬\"--- na ---\",\"--- na ---\",IF(ISERROR(TRUNC(+CBM!H79,4))¬TRUE,\"\",TRUNC(+CBM!H79,4)))","--- na ---","¬IF(ISERROR(TRUNC(+CBM!G79,4))¬TRUE,\"\",TRUNC(+CBM!G79,4))","--- na ---","--- na ---","--- na ---","--- na ---","--- na ---","--- na ---","--- na ---","--- na ---","--- na ---","--- na ---","--- na ---"]
["CMQNT_14180","¬+'Cover Sheet'!$C$24","ENTITY_ID","¬+CBM!F80","¬TEXT(+'Cover Sheet'!C$22,\"yyyymmdd\")",14180,"--- na ---","¬IF(+CBM!H80¬\"--- na ---\",\"--- na ---\",IF(ISERROR(TRUNC(+CBM!H80,4))¬TRUE,\"\",TRUNC(+CBM!H80,4)))","--- na ---","¬IF(ISERROR(TRUNC(+CBM!G80,4))¬TRUE,\"\",TRUNC(+CBM!G80,4))","--- na ---","--- na ---","--- na ---","--- na ---","--- na ---","--- na ---","--- na ---","--- na ---","--- na ---","--- na ---","--- na ---"]
["CMQNT_14180","¬+'Cover Sheet'!$C$24","ENTITY_ID","¬+CBM!F81","¬TEXT(+'Cover Sheet'!C$22,\"yyyymmdd\")",14180,"--- na ---","¬IF(+CBM!H81¬\"--- na ---\",\"--- na ---\",IF(ISERROR(TRUNC(+CBM!H81,4))¬TRUE,\"\",TRUNC(+CBM!H81,4)))","--- na ---","¬IF(ISERROR(TRUNC(+CBM!G81,4))¬TRUE,\"\",TRUNC(+CBM!G81,4))","--- na ---","--- na ---","--- na ---","--- na ---","--- na ---","--- na ---","--- na ---","--- na ---","--- na ---","--- na ---","--- na ---"]
["CMQNT_14180","¬+'Cover Sheet'!$C$24","ENTITY_ID","¬+CBM!F82","¬TEXT(+'Cover Sheet'!C$22,\"yyyymmdd\")",14180,"--- na ---","¬IF(+CBM!H82¬\"--- na ---\",\"--- na ---\",IF(ISERROR(TRUNC(+CBM!H82,4))¬TRUE,\"\",TRUNC(+CBM!H82,4)))","--- na ---","¬IF(ISERROR(TRUNC(+CBM!G82,4))¬TRUE,\"\",TRUNC(+CBM!G82,4))","--- na ---","--- na ---","--- na ---","--- na ---","--- na ---","--- na ---","--- na ---","--- na ---","--- na ---","--- na ---","--- na ---"]
["CMQNT_14180","¬+'Cover Sheet'!$C$24","ENTITY_ID","¬+CBM!F83","¬TEXT(+'Cover Sheet'!C$22,\"yyyymmdd\")",14180,"--- na ---","¬IF(+CBM!H83¬\"--- na ---\",\"--- na ---\",IF(ISERROR(TRUNC(+CBM!H83,4))¬TRUE,\"\",TRUNC(+CBM!H83,4)))","--- na ---","¬IF(ISERROR(TRUNC(+CBM!G83,4))¬TRUE,\"\",TRUNC(+CBM!G83,4))","--- na ---","--- na ---","--- na ---","--- na ---","--- na ---","--- na ---","--- na ---","--- na ---","--- na ---","--- na ---","--- na ---"]
["CMQNT_14180","¬+'Cover Sheet'!$C$24","ENTITY_ID","¬+CBM!F84","¬TEXT(+'Cover Sheet'!C$22,\"yyyymmdd\")",14180,"--- na ---","¬IF(+CBM!H84¬\"--- na ---\",\"--- na ---\",IF(ISERROR(TRUNC(+CBM!H84,4))¬TRUE,\"\",TRUNC(+CBM!H84,4)))","--- na ---","¬IF(ISERROR(TRUNC(+CBM!G84,4))¬TRUE,\"\",TRUNC(+CBM!G84,4))","--- na ---","--- na ---","--- na ---","--- na ---","--- na ---","--- na ---","--- na ---","--- na ---","--- na ---","--- na ---","--- na ---"]
["CMQNT_14190","¬+'Cover Sheet'!$C$24","ENTITY_ID","W1","¬TEXT(+'Cover Sheet'!C$22,\"yyyymmdd\")",14190,"--- na ---","¬IF(+CBM!H85¬\"--- na ---\",\"--- na ---\",IF(ISERROR(TRUNC(+CBM!H85,4))¬TRUE,\"\",TRUNC(+CBM!H85,4)))","--- na ---","¬IF(ISERROR(TRUNC(+CBM!G85,4))¬TRUE,\"\",TRUNC(+CBM!G85,4))","--- na ---","--- na ---","--- na ---","--- na ---","--- na ---","--- na ---","--- na ---","--- na ---","--- na ---","--- na ---","--- na ---"]
["CMQNT_14190","¬+'Cover Sheet'!$C$24","ENTITY_ID","¬+CBM!F86","¬TEXT(+'Cover Sheet'!C$22,\"yyyymmdd\")",14190,"--- na ---","¬IF(+CBM!H86¬\"--- na ---\",\"--- na ---\",IF(ISERROR(TRUNC(+CBM!H86,4))¬TRUE,\"\",TRUNC(+CBM!H86,4)))","--- na ---","¬IF(ISERROR(TRUNC(+CBM!G86,4))¬TRUE,\"\",TRUNC(+CBM!G86,4))","--- na ---","--- na ---","--- na ---","--- na ---","--- na ---","--- na ---","--- na ---","--- na ---","--- na ---","--- na ---","--- na ---"]
["CMQNT_14190","¬+'Cover Sheet'!$C$24","ENTITY_ID","¬+CBM!F87","¬TEXT(+'Cover Sheet'!C$22,\"yyyymmdd\")",14190,"--- na ---","¬IF(+CBM!H87¬\"--- na ---\",\"--- na ---\",IF(ISERROR(TRUNC(+CBM!H87,4))¬TRUE,\"\",TRUNC(+CBM!H87,4)))","--- na ---","¬IF(ISERROR(TRUNC(+CBM!G87,4))¬TRUE,\"\",TRUNC(+CBM!G87,4))","--- na ---","--- na ---","--- na ---","--- na ---","--- na ---","--- na ---","--- na ---","--- na ---","--- na ---","--- na ---","--- na ---"]
["CMQNT_14190","¬+'Cover Sheet'!$C$24","ENTITY_ID","¬+CBM!F88","¬TEXT(+'Cover Sheet'!C$22,\"yyyymmdd\")",14190,"--- na ---","¬IF(+CBM!H88¬\"--- na ---\",\"--- na ---\",IF(ISERROR(TRUNC(+CBM!H88,4))¬TRUE,\"\",TRUNC(+CBM!H88,4)))","--- na ---","¬IF(ISERROR(TRUNC(+CBM!G88,4))¬TRUE,\"\",TRUNC(+CBM!G88,4))","--- na ---","--- na ---","--- na ---","--- na ---","--- na ---","--- na ---","--- na ---","--- na ---","--- na ---","--- na ---","--- na ---"]
["CMQNT_14190","¬+'Cover Sheet'!$C$24","ENTITY_ID","¬+CBM!F89","¬TEXT(+'Cover Sheet'!C$22,\"yyyymmdd\")",14190,"--- na ---","¬IF(+CBM!H89¬\"--- na ---\",\"--- na ---\",IF(ISERROR(TRUNC(+CBM!H89,4))¬TRUE,\"\",TRUNC(+CBM!H89,4)))","--- na ---","¬IF(ISERROR(TRUNC(+CBM!G89,4))¬TRUE,\"\",TRUNC(+CBM!G89,4))","--- na ---","--- na ---","--- na ---","--- na ---","--- na ---","--- na ---","--- na ---","--- na ---","--- na ---","--- na ---","--- na ---"]
["CMQNT_14190","¬+'Cover Sheet'!$C$24","ENTITY_ID","¬+CBM!F90","¬TEXT(+'Cover Sheet'!C$22,\"yyyymmdd\")",14190,"--- na ---","¬IF(+CBM!H90¬\"--- na ---\",\"--- na ---\",IF(ISERROR(TRUNC(+CBM!H90,4))¬TRUE,\"\",TRUNC(+CBM!H90,4)))","--- na ---","¬IF(ISERROR(TRUNC(+CBM!G90,4))¬TRUE,\"\",TRUNC(+CBM!G90,4))","--- na ---","--- na ---","--- na ---","--- na ---","--- na ---","--- na ---","--- na ---","--- na ---","--- na ---","--- na ---","--- na ---"]
["CMQNT_14190","¬+'Cover Sheet'!$C$24","ENTITY_ID","¬+CBM!F91","¬TEXT(+'Cover Sheet'!C$22,\"yyyymmdd\")",14190,"--- na ---","¬IF(+CBM!H91¬\"--- na ---\",\"--- na ---\",IF(ISERROR(TRUNC(+CBM!H91,4))¬TRUE,\"\",TRUNC(+CBM!H91,4)))","--- na ---","¬IF(ISERROR(TRUNC(+CBM!G91,4))¬TRUE,\"\",TRUNC(+CBM!G91,4))","--- na ---","--- na ---","--- na ---","--- na ---","--- na ---","--- na ---","--- na ---","--- na ---","--- na ---","--- na ---","--- na ---"]
["CMQNT_14190","¬+'Cover Sheet'!$C$24","ENTITY_ID","¬+CBM!F92","¬TEXT(+'Cover Sheet'!C$22,\"yyyymmdd\")",14190,"--- na ---","¬IF(+CBM!H92¬\"--- na ---\",\"--- na ---\",IF(ISERROR(TRUNC(+CBM!H92,4))¬TRUE,\"\",TRUNC(+CBM!H92,4)))","--- na ---","¬IF(ISERROR(TRUNC(+CBM!G92,4))¬TRUE,\"\",TRUNC(+CBM!G92,4))","--- na ---","--- na ---","--- na ---","--- na ---","--- na ---","--- na ---","--- na ---","--- na ---","--- na ---","--- na ---","--- na ---"]
["CMQNT_14190","¬+'Cover Sheet'!$C$24","ENTITY_ID","¬+CBM!F93","¬TEXT(+'Cover Sheet'!C$22,\"yyyymmdd\")",14190,"--- na ---","¬IF(+CBM!H93¬\"--- na ---\",\"--- na ---\",IF(ISERROR(TRUNC(+CBM!H93,4))¬TRUE,\"\",TRUNC(+CBM!H93,4)))","--- na ---","¬IF(ISERROR(TRUNC(+CBM!G93,4))¬TRUE,\"\",TRUNC(+CBM!G93,4))","--- na ---","--- na ---","--- na ---","--- na ---","--- na ---","--- na ---","--- na ---","--- na ---","--- na ---","--- na ---","--- na ---"]
["CMQNT_14190","¬+'Cover Sheet'!$C$24","ENTITY_ID","¬+CBM!F94","¬TEXT(+'Cover Sheet'!C$22,\"yyyymmdd\")",14190,"--- na ---","¬IF(+CBM!H94¬\"--- na ---\",\"--- na ---\",IF(ISERROR(TRUNC(+CBM!H94,4))¬TRUE,\"\",TRUNC(+CBM!H94,4)))","--- na ---","¬IF(ISERROR(TRUNC(+CBM!G94,4))¬TRUE,\"\",TRUNC(+CBM!G94,4))","--- na ---","--- na ---","--- na ---","--- na ---","--- na ---","--- na ---","--- na ---","--- na ---","--- na ---","--- na ---","--- na ---"]
["CMQNT_14190","¬+'Cover Sheet'!$C$24","ENTITY_ID","¬+CBM!F95","¬TEXT(+'Cover Sheet'!C$22,\"yyyymmdd\")",14190,"--- na ---","¬IF(+CBM!H95¬\"--- na ---\",\"--- na ---\",IF(ISERROR(TRUNC(+CBM!H95,4))¬TRUE,\"\",TRUNC(+CBM!H95,4)))","--- na ---","¬IF(ISERROR(TRUNC(+CBM!G95,4))¬TRUE,\"\",TRUNC(+CBM!G95,4))","--- na ---","--- na ---","--- na ---","--- na ---","--- na ---","--- na ---","--- na ---","--- na ---","--- na ---","--- na ---","--- na ---"]
["CMQNT_14190","¬+'Cover Sheet'!$C$24","ENTITY_ID","¬+CBM!F96","¬TEXT(+'Cover Sheet'!C$22,\"yyyymmdd\")",14190,"--- na ---","¬IF(+CBM!H96¬\"--- na ---\",\"--- na ---\",IF(ISERROR(TRUNC(+CBM!H96,4))¬TRUE,\"\",TRUNC(+CBM!H96,4)))","--- na ---","¬IF(ISERROR(TRUNC(+CBM!G96,4))¬TRUE,\"\",TRUNC(+CBM!G96,4))","--- na ---","--- na ---","--- na ---","--- na ---","--- na ---","--- na ---","--- na ---","--- na ---","--- na ---","--- na ---","--- na ---"]
["CMQNT_14190","¬+'Cover Sheet'!$C$24","ENTITY_ID","¬+CBM!F97","¬TEXT(+'Cover Sheet'!C$22,\"yyyymmdd\")",14190,"--- na ---","¬IF(+CBM!H97¬\"--- na ---\",\"--- na ---\",IF(ISERROR(TRUNC(+CBM!H97,4))¬TRUE,\"\",TRUNC(+CBM!H97,4)))","--- na ---","¬IF(ISERROR(TRUNC(+CBM!G97,4))¬TRUE,\"\",TRUNC(+CBM!G97,4))","--- na ---","--- na ---","--- na ---","--- na ---","--- na ---","--- na ---","--- na ---","--- na ---","--- na ---","--- na ---","--- na ---"]
["CMQNT_14190","¬+'Cover Sheet'!$C$24","ENTITY_ID","¬+CBM!F98","¬TEXT(+'Cover Sheet'!C$22,\"yyyymmdd\")",14190,"--- na ---","¬IF(+CBM!H98¬\"--- na ---\",\"--- na ---\",IF(ISERROR(TRUNC(+CBM!H98,4))¬TRUE,\"\",TRUNC(+CBM!H98,4)))","--- na ---","¬IF(ISERROR(TRUNC(+CBM!G98,4))¬TRUE,\"\",TRUNC(+CBM!G98,4))","--- na ---","--- na ---","--- na ---","--- na ---","--- na ---","--- na ---","--- na ---","--- na ---","--- na ---","--- na ---","--- na ---"]
["CMQNT_14190","¬+'Cover Sheet'!$C$24","ENTITY_ID","¬+CBM!F99","¬TEXT(+'Cover Sheet'!C$22,\"yyyymmdd\")",14190,"--- na ---","¬IF(+CBM!H99¬\"--- na ---\",\"--- na ---\",IF(ISERROR(TRUNC(+CBM!H99,4))¬TRUE,\"\",TRUNC(+CBM!H99,4)))","--- na ---","¬IF(ISERROR(TRUNC(+CBM!G99,4))¬TRUE,\"\",TRUNC(+CBM!G99,4))","--- na ---","--- na ---","--- na ---","--- na ---","--- na ---","--- na ---","--- na ---","--- na ---","--- na ---","--- na ---","--- na ---"]
["CMQNT_14190","¬+'Cover Sheet'!$C$24","ENTITY_ID","¬+CBM!F100","¬TEXT(+'Cover Sheet'!C$22,\"yyyymmdd\")",14190,"--- na ---","¬IF(+CBM!H100¬\"--- na ---\",\"--- na ---\",IF(ISERROR(TRUNC(+CBM!H100,4))¬TRUE,\"\",TRUNC(+CBM!H100,4)))","--- na ---","¬IF(ISERROR(TRUNC(+CBM!G100,4))¬TRUE,\"\",TRUNC(+CBM!G100,4))","--- na ---","--- na ---","--- na ---","--- na ---","--- na ---","--- na ---","--- na ---","--- na ---","--- na ---","--- na ---","--- na ---"]
["CMQNT_14190","¬+'Cover Sheet'!$C$24","ENTITY_ID","¬+CBM!F101","¬TEXT(+'Cover Sheet'!C$22,\"yyyymmdd\")",14190,"--- na ---","¬IF(+CBM!H101¬\"--- na ---\",\"--- na ---\",IF(ISERROR(TRUNC(+CBM!H101,4))¬TRUE,\"\",TRUNC(+CBM!H101,4)))","--- na ---","¬IF(ISERROR(TRUNC(+CBM!G101,4))¬TRUE,\"\",TRUNC(+CBM!G101,4))","--- na ---","--- na ---","--- na ---","--- na ---","--- na ---","--- na ---","--- na ---","--- na ---","--- na ---","--- na ---","--- na ---"]
["CMQNT_14190","¬+'Cover Sheet'!$C$24","ENTITY_ID","¬+CBM!F102","¬TEXT(+'Cover Sheet'!C$22,\"yyyymmdd\")",14190,"--- na ---","¬IF(+CBM!H102¬\"--- na ---\",\"--- na ---\",IF(ISERROR(TRUNC(+CBM!H102,4))¬TRUE,\"\",TRUNC(+CBM!H102,4)))","--- na ---","¬IF(ISERROR(TRUNC(+CBM!G102,4))¬TRUE,\"\",TRUNC(+CBM!G102,4))","--- na ---","--- na ---","--- na ---","--- na ---","--- na ---","--- na ---","--- na ---","--- na ---","--- na ---","--- na ---","--- na ---"]
["CMQNT_14190","¬+'Cover Sheet'!$C$24","ENTITY_ID","¬+CBM!F103","¬TEXT(+'Cover Sheet'!C$22,\"yyyymmdd\")",14190,"--- na ---","¬IF(+CBM!H103¬\"--- na ---\",\"--- na ---\",IF(ISERROR(TRUNC(+CBM!H103,4))¬TRUE,\"\",TRUNC(+CBM!H103,4)))","--- na ---","¬IF(ISERROR(TRUNC(+CBM!G103,4))¬TRUE,\"\",TRUNC(+CBM!G103,4))","--- na ---","--- na ---","--- na ---","--- na ---","--- na ---","--- na ---","--- na ---","--- na ---","--- na ---","--- na ---","--- na ---"]
["CMQNT_14190","¬+'Cover Sheet'!$C$24","ENTITY_ID","¬+CBM!F104","¬TEXT(+'Cover Sheet'!C$22,\"yyyymmdd\")",14190,"--- na ---","¬IF(+CBM!H104¬\"--- na ---\",\"--- na ---\",IF(ISERROR(TRUNC(+CBM!H104,4))¬TRUE,\"\",TRUNC(+CBM!H104,4)))","--- na ---","¬IF(ISERROR(TRUNC(+CBM!G104,4))¬TRUE,\"\",TRUNC(+CBM!G104,4))","--- na ---","--- na ---","--- na ---","--- na ---","--- na ---","--- na ---","--- na ---","--- na ---","--- na ---","--- na ---","--- na ---"]
["CMQNT_14190","¬+'Cover Sheet'!$C$24","ENTITY_ID","¬+CBM!F105","¬TEXT(+'Cover Sheet'!C$22,\"yyyymmdd\")",14190,"--- na ---","¬IF(+CBM!H105¬\"--- na ---\",\"--- na ---\",IF(ISERROR(TRUNC(+CBM!H105,4))¬TRUE,\"\",TRUNC(+CBM!H105,4)))","--- na ---","¬IF(ISERROR(TRUNC(+CBM!G105,4))¬TRUE,\"\",TRUNC(+CBM!G105,4))","--- na ---","--- na ---","--- na ---","--- na ---","--- na ---","--- na ---","--- na ---","--- na ---","--- na ---","--- na ---","--- na ---"]
["CMQNT_14190","¬+'Cover Sheet'!$C$24","ENTITY_ID","¬+CBM!F106","¬TEXT(+'Cover Sheet'!C$22,\"yyyymmdd\")",14190,"--- na ---","¬IF(+CBM!H106¬\"--- na ---\",\"--- na ---\",IF(ISERROR(TRUNC(+CBM!H106,4))¬TRUE,\"\",TRUNC(+CBM!H106,4)))","--- na ---","¬IF(ISERROR(TRUNC(+CBM!G106,4))¬TRUE,\"\",TRUNC(+CBM!G106,4))","--- na ---","--- na ---","--- na ---","--- na ---","--- na ---","--- na ---","--- na ---","--- na ---","--- na ---","--- na ---","--- na ---"]
["CMQNT_14190","¬+'Cover Sheet'!$C$24","ENTITY_ID","¬+CBM!F107","¬TEXT(+'Cover Sheet'!C$22,\"yyyymmdd\")",14190,"--- na ---","¬IF(+CBM!H107¬\"--- na ---\",\"--- na ---\",IF(ISERROR(TRUNC(+CBM!H107,4))¬TRUE,\"\",TRUNC(+CBM!H107,4)))","--- na ---","¬IF(ISERROR(TRUNC(+CBM!G107,4))¬TRUE,\"\",TRUNC(+CBM!G107,4))","--- na ---","--- na ---","--- na ---","--- na ---","--- na ---","--- na ---","--- na ---","--- na ---","--- na ---","--- na ---","--- na ---"]
["CMQNT_14190","¬+'Cover Sheet'!$C$24","ENTITY_ID","¬+CBM!F108","¬TEXT(+'Cover Sheet'!C$22,\"yyyymmdd\")",14190,"--- na ---","¬IF(+CBM!H108¬\"--- na ---\",\"--- na ---\",IF(ISERROR(TRUNC(+CBM!H108,4))¬TRUE,\"\",TRUNC(+CBM!H108,4)))","--- na ---","¬IF(ISERROR(TRUNC(+CBM!G108,4))¬TRUE,\"\",TRUNC(+CBM!G108,4))","--- na ---","--- na ---","--- na ---","--- na ---","--- na ---","--- na ---","--- na ---","--- na ---","--- na ---","--- na ---","--- na ---"]
["CMQNT_14190","¬+'Cover Sheet'!$C$24","ENTITY_ID","¬+CBM!F109","¬TEXT(+'Cover Sheet'!C$22,\"yyyymmdd\")",14190,"--- na ---","¬IF(+CBM!H109¬\"--- na ---\",\"--- na ---\",IF(ISERROR(TRUNC(+CBM!H109,4))¬TRUE,\"\",TRUNC(+CBM!H109,4)))","--- na ---","¬IF(ISERROR(TRUNC(+CBM!G109,4))¬TRUE,\"\",TRUNC(+CBM!G109,4))","--- na ---","--- na ---","--- na ---","--- na ---","--- na ---","--- na ---","--- na ---","--- na ---","--- na ---","--- na ---","--- na ---"]
["CMQNT_14190","¬+'Cover Sheet'!$C$24","ENTITY_ID","¬+CBM!F110","¬TEXT(+'Cover Sheet'!C$22,\"yyyymmdd\")",14190,"--- na ---","¬IF(+CBM!H110¬\"--- na ---\",\"--- na ---\",IF(ISERROR(TRUNC(+CBM!H110,4))¬TRUE,\"\",TRUNC(+CBM!H110,4)))","--- na ---","¬IF(ISERROR(TRUNC(+CBM!G110,4))¬TRUE,\"\",TRUNC(+CBM!G110,4))","--- na ---","--- na ---","--- na ---","--- na ---","--- na ---","--- na ---","--- na ---","--- na ---","--- na ---","--- na ---","--- na ---"]
["CMQNT_14190","¬+'Cover Sheet'!$C$24","ENTITY_ID","¬+CBM!F111","¬TEXT(+'Cover Sheet'!C$22,\"yyyymmdd\")",14190,"--- na ---","¬IF(+CBM!H111¬\"--- na ---\",\"--- na ---\",IF(ISERROR(TRUNC(+CBM!H111,4))¬TRUE,\"\",TRUNC(+CBM!H111,4)))","--- na ---","¬IF(ISERROR(TRUNC(+CBM!G111,4))¬TRUE,\"\",TRUNC(+CBM!G111,4))","--- na ---","--- na ---","--- na ---","--- na ---","--- na ---","--- na ---","--- na ---","--- na ---","--- na ---","--- na ---","--- na ---"]
["CMQNT_14190","¬+'Cover Sheet'!$C$24","ENTITY_ID","¬+CBM!F112","¬TEXT(+'Cover Sheet'!C$22,\"yyyymmdd\")",14190,"--- na ---","¬IF(+CBM!H112¬\"--- na ---\",\"--- na ---\",IF(ISERROR(TRUNC(+CBM!H112,4))¬TRUE,\"\",TRUNC(+CBM!H112,4)))","--- na ---","¬IF(ISERROR(TRUNC(+CBM!G112,4))¬TRUE,\"\",TRUNC(+CBM!G112,4))","--- na ---","--- na ---","--- na ---","--- na ---","--- na ---","--- na ---","--- na ---","--- na ---","--- na ---","--- na ---","--- na ---"]
["CMQNT_14190","¬+'Cover Sheet'!$C$24","ENTITY_ID","¬+CBM!F113","¬TEXT(+'Cover Sheet'!C$22,\"yyyymmdd\")",14190,"--- na ---","¬IF(+CBM!H113¬\"--- na ---\",\"--- na ---\",IF(ISERROR(TRUNC(+CBM!H113,4))¬TRUE,\"\",TRUNC(+CBM!H113,4)))","--- na ---","¬IF(ISERROR(TRUNC(+CBM!G113,4))¬TRUE,\"\",TRUNC(+CBM!G113,4))","--- na ---","--- na ---","--- na ---","--- na ---","--- na ---","--- na ---","--- na ---","--- na ---","--- na ---","--- na ---","--- na ---"]
["CMQNT_14190","¬+'Cover Sheet'!$C$24","ENTITY_ID","¬+CBM!F114","¬TEXT(+'Cover Sheet'!C$22,\"yyyymmdd\")",14190,"--- na ---","¬IF(+CBM!H114¬\"--- na ---\",\"--- na ---\",IF(ISERROR(TRUNC(+CBM!H114,4))¬TRUE,\"\",TRUNC(+CBM!H114,4)))","--- na ---","¬IF(ISERROR(TRUNC(+CBM!G114,4))¬TRUE,\"\",TRUNC(+CBM!G114,4))","--- na ---","--- na ---","--- na ---","--- na ---","--- na ---","--- na ---","--- na ---","--- na ---","--- na ---","--- na ---","--- na ---"]
["CMQNT_14190","¬+'Cover Sheet'!$C$24","ENTITY_ID","¬+CBM!F115","¬TEXT(+'Cover Sheet'!C$22,\"yyyymmdd\")",14190,"--- na ---","¬IF(+CBM!H115¬\"--- na ---\",\"--- na ---\",IF(ISERROR(TRUNC(+CBM!H115,4))¬TRUE,\"\",TRUNC(+CBM!H115,4)))","--- na ---","¬IF(ISERROR(TRUNC(+CBM!G115,4))¬TRUE,\"\",TRUNC(+CBM!G115,4))","--- na ---","--- na ---","--- na ---","--- na ---","--- na ---","--- na ---","--- na ---","--- na ---","--- na ---","--- na ---","--- na ---"]
["CMQNT_14190","¬+'Cover Sheet'!$C$24","ENTITY_ID","¬+CBM!F116","¬TEXT(+'Cover Sheet'!C$22,\"yyyymmdd\")",14190,"--- na ---","¬IF(+CBM!H116¬\"--- na ---\",\"--- na ---\",IF(ISERROR(TRUNC(+CBM!H116,4))¬TRUE,\"\",TRUNC(+CBM!H116,4)))","--- na ---","¬IF(ISERROR(TRUNC(+CBM!G116,4))¬TRUE,\"\",TRUNC(+CBM!G116,4))","--- na ---","--- na ---","--- na ---","--- na ---","--- na ---","--- na ---","--- na ---","--- na ---","--- na ---","--- na ---","--- na ---"]
["CMQNT_14190","¬+'Cover Sheet'!$C$24","ENTITY_ID","¬+CBM!F117","¬TEXT(+'Cover Sheet'!C$22,\"yyyymmdd\")",14190,"--- na ---","¬IF(+CBM!H117¬\"--- na ---\",\"--- na ---\",IF(ISERROR(TRUNC(+CBM!H117,4))¬TRUE,\"\",TRUNC(+CBM!H117,4)))","--- na ---","¬IF(ISERROR(TRUNC(+CBM!G117,4))¬TRUE,\"\",TRUNC(+CBM!G117,4))","--- na ---","--- na ---","--- na ---","--- na ---","--- na ---","--- na ---","--- na ---","--- na ---","--- na ---","--- na ---","--- na ---"]
["CMQNT_14190","¬+'Cover Sheet'!$C$24","ENTITY_ID","¬+CBM!F118","¬TEXT(+'Cover Sheet'!C$22,\"yyyymmdd\")",14190,"--- na ---","¬IF(+CBM!H118¬\"--- na ---\",\"--- na ---\",IF(ISERROR(TRUNC(+CBM!H118,4))¬TRUE,\"\",TRUNC(+CBM!H118,4)))","--- na ---","¬IF(ISERROR(TRUNC(+CBM!G118,4))¬TRUE,\"\",TRUNC(+CBM!G118,4))","--- na ---","--- na ---","--- na ---","--- na ---","--- na ---","--- na ---","--- na ---","--- na ---","--- na ---","--- na ---","--- na ---"]
["CMQNT_14190","¬+'Cover Sheet'!$C$24","ENTITY_ID","¬+CBM!F119","¬TEXT(+'Cover Sheet'!C$22,\"yyyymmdd\")",14190,"--- na ---","¬IF(+CBM!H119¬\"--- na ---\",\"--- na ---\",IF(ISERROR(TRUNC(+CBM!H119,4))¬TRUE,\"\",TRUNC(+CBM!H119,4)))","--- na ---","¬IF(ISERROR(TRUNC(+CBM!G119,4))¬TRUE,\"\",TRUNC(+CBM!G119,4))","--- na ---","--- na ---","--- na ---","--- na ---","--- na ---","--- na ---","--- na ---","--- na ---","--- na ---","--- na ---","--- na ---"]
["CMQNT_14190","¬+'Cover Sheet'!$C$24","ENTITY_ID","¬+CBM!F120","¬TEXT(+'Cover Sheet'!C$22,\"yyyymmdd\")",14190,"--- na ---","¬IF(+CBM!H120¬\"--- na ---\",\"--- na ---\",IF(ISERROR(TRUNC(+CBM!H120,4))¬TRUE,\"\",TRUNC(+CBM!H120,4)))","--- na ---","¬IF(ISERROR(TRUNC(+CBM!G120,4))¬TRUE,\"\",TRUNC(+CBM!G120,4))","--- na ---","--- na ---","--- na ---","--- na ---","--- na ---","--- na ---","--- na ---","--- na ---","--- na ---","--- na ---","--- na ---"]
["CMQNT_14190","¬+'Cover Sheet'!$C$24","ENTITY_ID","¬+CBM!F121","¬TEXT(+'Cover Sheet'!C$22,\"yyyymmdd\")",14190,"--- na ---","¬IF(+CBM!H121¬\"--- na ---\",\"--- na ---\",IF(ISERROR(TRUNC(+CBM!H121,4))¬TRUE,\"\",TRUNC(+CBM!H121,4)))","--- na ---","¬IF(ISERROR(TRUNC(+CBM!G121,4))¬TRUE,\"\",TRUNC(+CBM!G121,4))","--- na ---","--- na ---","--- na ---","--- na ---","--- na ---","--- na ---","--- na ---","--- na ---","--- na ---","--- na ---","--- na ---"]
["CMQNT_14190","¬+'Cover Sheet'!$C$24","ENTITY_ID","¬+CBM!F122","¬TEXT(+'Cover Sheet'!C$22,\"yyyymmdd\")",14190,"--- na ---","¬IF(+CBM!H122¬\"--- na ---\",\"--- na ---\",IF(ISERROR(TRUNC(+CBM!H122,4))¬TRUE,\"\",TRUNC(+CBM!H122,4)))","--- na ---","¬IF(ISERROR(TRUNC(+CBM!G122,4))¬TRUE,\"\",TRUNC(+CBM!G122,4))","--- na ---","--- na ---","--- na ---","--- na ---","--- na ---","--- na ---","--- na ---","--- na ---","--- na ---","--- na ---","--- na ---"]
["CMQNT_14190","¬+'Cover Sheet'!$C$24","ENTITY_ID","¬+CBM!F123","¬TEXT(+'Cover Sheet'!C$22,\"yyyymmdd\")",14190,"--- na ---","¬IF(+CBM!H123¬\"--- na ---\",\"--- na ---\",IF(ISERROR(TRUNC(+CBM!H123,4))¬TRUE,\"\",TRUNC(+CBM!H123,4)))","--- na ---","¬IF(ISERROR(TRUNC(+CBM!G123,4))¬TRUE,\"\",TRUNC(+CBM!G123,4))","--- na ---","--- na ---","--- na ---","--- na ---","--- na ---","--- na ---","--- na ---","--- na ---","--- na ---","--- na ---","--- na ---"]
["CMQNT_14190","¬+'Cover Sheet'!$C$24","ENTITY_ID","¬+CBM!F124","¬TEXT(+'Cover Sheet'!C$22,\"yyyymmdd\")",14190,"--- na ---","¬IF(+CBM!H124¬\"--- na ---\",\"--- na ---\",IF(ISERROR(TRUNC(+CBM!H124,4))¬TRUE,\"\",TRUNC(+CBM!H124,4)))","--- na ---","¬IF(ISERROR(TRUNC(+CBM!G124,4))¬TRUE,\"\",TRUNC(+CBM!G124,4))","--- na ---","--- na ---","--- na ---","--- na ---","--- na ---","--- na ---","--- na ---","--- na ---","--- na ---","--- na ---","--- na ---"]
["CMQNT_14190","¬+'Cover Sheet'!$C$24","ENTITY_ID","¬+CBM!F125","¬TEXT(+'Cover Sheet'!C$22,\"yyyymmdd\")",14190,"--- na ---","¬IF(+CBM!H125¬\"--- na ---\",\"--- na ---\",IF(ISERROR(TRUNC(+CBM!H125,4))¬TRUE,\"\",TRUNC(+CBM!H125,4)))","--- na ---","¬IF(ISERROR(TRUNC(+CBM!G125,4))¬TRUE,\"\",TRUNC(+CBM!G125,4))","--- na ---","--- na ---","--- na ---","--- na ---","--- na ---","--- na ---","--- na ---","--- na ---","--- na ---","--- na ---","--- na ---"]
["CMQNT_14190","¬+'Cover Sheet'!$C$24","ENTITY_ID","¬+CBM!F126","¬TEXT(+'Cover Sheet'!C$22,\"yyyymmdd\")",14190,"--- na ---","¬IF(+CBM!H126¬\"--- na ---\",\"--- na ---\",IF(ISERROR(TRUNC(+CBM!H126,4))¬TRUE,\"\",TRUNC(+CBM!H126,4)))","--- na ---","¬IF(ISERROR(TRUNC(+CBM!G126,4))¬TRUE,\"\",TRUNC(+CBM!G126,4))","--- na ---","--- na ---","--- na ---","--- na ---","--- na ---","--- na ---","--- na ---","--- na ---","--- na ---","--- na ---","--- na ---"]
["CMQNT_14190","¬+'Cover Sheet'!$C$24","ENTITY_ID","¬+CBM!F127","¬TEXT(+'Cover Sheet'!C$22,\"yyyymmdd\")",14190,"--- na ---","¬IF(+CBM!H127¬\"--- na ---\",\"--- na ---\",IF(ISERROR(TRUNC(+CBM!H127,4))¬TRUE,\"\",TRUNC(+CBM!H127,4)))","--- na ---","¬IF(ISERROR(TRUNC(+CBM!G127,4))¬TRUE,\"\",TRUNC(+CBM!G127,4))","--- na ---","--- na ---","--- na ---","--- na ---","--- na ---","--- na ---","--- na ---","--- na ---","--- na ---","--- na ---","--- na ---"]
["CMQNT_14190","¬+'Cover Sheet'!$C$24","ENTITY_ID","¬+CBM!F128","¬TEXT(+'Cover Sheet'!C$22,\"yyyymmdd\")",14190,"--- na ---","¬IF(+CBM!H128¬\"--- na ---\",\"--- na ---\",IF(ISERROR(TRUNC(+CBM!H128,4))¬TRUE,\"\",TRUNC(+CBM!H128,4)))","--- na ---","¬IF(ISERROR(TRUNC(+CBM!G128,4))¬TRUE,\"\",TRUNC(+CBM!G128,4))","--- na ---","--- na ---","--- na ---","--- na ---","--- na ---","--- na ---","--- na ---","--- na ---","--- na ---","--- na ---","--- na ---"]
["CMQNT_14190","¬+'Cover Sheet'!$C$24","ENTITY_ID","¬+CBM!F129","¬TEXT(+'Cover Sheet'!C$22,\"yyyymmdd\")",14190,"--- na ---","¬IF(+CBM!H129¬\"--- na ---\",\"--- na ---\",IF(ISERROR(TRUNC(+CBM!H129,4))¬TRUE,\"\",TRUNC(+CBM!H129,4)))","--- na ---","¬IF(ISERROR(TRUNC(+CBM!G129,4))¬TRUE,\"\",TRUNC(+CBM!G129,4))","--- na ---","--- na ---","--- na ---","--- na ---","--- na ---","--- na ---","--- na ---","--- na ---","--- na ---","--- na ---","--- na ---"]
["CMQNT_14200","¬+'Cover Sheet'!$C$24","ENTITY_ID","W1","¬TEXT(+'Cover Sheet'!C$22,\"yyyymmdd\")",14200,"--- na ---","¬IF(+CBM!H130¬\"--- na ---\",\"--- na ---\",IF(ISERROR(TRUNC(+CBM!H130,4))¬TRUE,\"\",TRUNC(+CBM!H130,4)))","--- na ---","¬IF(ISERROR(TRUNC(+CBM!G130,4))¬TRUE,\"\",TRUNC(+CBM!G130,4))","--- na ---","--- na ---","--- na ---","--- na ---","--- na ---","--- na ---","--- na ---","--- na ---","--- na ---","--- na ---","--- na ---"]
["CMQNT_14200","¬+'Cover Sheet'!$C$24","ENTITY_ID","¬+CBM!F131","¬TEXT(+'Cover Sheet'!C$22,\"yyyymmdd\")",14200,"--- na ---","¬IF(+CBM!H131¬\"--- na ---\",\"--- na ---\",IF(ISERROR(TRUNC(+CBM!H131,4))¬TRUE,\"\",TRUNC(+CBM!H131,4)))","--- na ---","¬IF(ISERROR(TRUNC(+CBM!G131,4))¬TRUE,\"\",TRUNC(+CBM!G131,4))","--- na ---","--- na ---","--- na ---","--- na ---","--- na ---","--- na ---","--- na ---","--- na ---","--- na ---","--- na ---","--- na ---"]
["CMQNT_14200","¬+'Cover Sheet'!$C$24","ENTITY_ID","¬+CBM!F132","¬TEXT(+'Cover Sheet'!C$22,\"yyyymmdd\")",14200,"--- na ---","¬IF(+CBM!H132¬\"--- na ---\",\"--- na ---\",IF(ISERROR(TRUNC(+CBM!H132,4))¬TRUE,\"\",TRUNC(+CBM!H132,4)))","--- na ---","¬IF(ISERROR(TRUNC(+CBM!G132,4))¬TRUE,\"\",TRUNC(+CBM!G132,4))","--- na ---","--- na ---","--- na ---","--- na ---","--- na ---","--- na ---","--- na ---","--- na ---","--- na ---","--- na ---","--- na ---"]
["CMQNT_14200","¬+'Cover Sheet'!$C$24","ENTITY_ID","¬+CBM!F133","¬TEXT(+'Cover Sheet'!C$22,\"yyyymmdd\")",14200,"--- na ---","¬IF(+CBM!H133¬\"--- na ---\",\"--- na ---\",IF(ISERROR(TRUNC(+CBM!H133,4))¬TRUE,\"\",TRUNC(+CBM!H133,4)))","--- na ---","¬IF(ISERROR(TRUNC(+CBM!G133,4))¬TRUE,\"\",TRUNC(+CBM!G133,4))","--- na ---","--- na ---","--- na ---","--- na ---","--- na ---","--- na ---","--- na ---","--- na ---","--- na ---","--- na ---","--- na ---"]
["CMQNT_14200","¬+'Cover Sheet'!$C$24","ENTITY_ID","¬+CBM!F134","¬TEXT(+'Cover Sheet'!C$22,\"yyyymmdd\")",14200,"--- na ---","¬IF(+CBM!H134¬\"--- na ---\",\"--- na ---\",IF(ISERROR(TRUNC(+CBM!H134,4))¬TRUE,\"\",TRUNC(+CBM!H134,4)))","--- na ---","¬IF(ISERROR(TRUNC(+CBM!G134,4))¬TRUE,\"\",TRUNC(+CBM!G134,4))","--- na ---","--- na ---","--- na ---","--- na ---","--- na ---","--- na ---","--- na ---","--- na ---","--- na ---","--- na ---","--- na ---"]
["CMQNT_14200","¬+'Cover Sheet'!$C$24","ENTITY_ID","¬+CBM!F135","¬TEXT(+'Cover Sheet'!C$22,\"yyyymmdd\")",14200,"--- na ---","¬IF(+CBM!H135¬\"--- na ---\",\"--- na ---\",IF(ISERROR(TRUNC(+CBM!H135,4))¬TRUE,\"\",TRUNC(+CBM!H135,4)))","--- na ---","¬IF(ISERROR(TRUNC(+CBM!G135,4))¬TRUE,\"\",TRUNC(+CBM!G135,4))","--- na ---","--- na ---","--- na ---","--- na ---","--- na ---","--- na ---","--- na ---","--- na ---","--- na ---","--- na ---","--- na ---"]
["CMQNT_14200","¬+'Cover Sheet'!$C$24","ENTITY_ID","¬+CBM!F136","¬TEXT(+'Cover Sheet'!C$22,\"yyyymmdd\")",14200,"--- na ---","¬IF(+CBM!H136¬\"--- na ---\",\"--- na ---\",IF(ISERROR(TRUNC(+CBM!H136,4))¬TRUE,\"\",TRUNC(+CBM!H136,4)))","--- na ---","¬IF(ISERROR(TRUNC(+CBM!G136,4))¬TRUE,\"\",TRUNC(+CBM!G136,4))","--- na ---","--- na ---","--- na ---","--- na ---","--- na ---","--- na ---","--- na ---","--- na ---","--- na ---","--- na ---","--- na ---"]
["CMQNT_14200","¬+'Cover Sheet'!$C$24","ENTITY_ID","¬+CBM!F137","¬TEXT(+'Cover Sheet'!C$22,\"yyyymmdd\")",14200,"--- na ---","¬IF(+CBM!H137¬\"--- na ---\",\"--- na ---\",IF(ISERROR(TRUNC(+CBM!H137,4))¬TRUE,\"\",TRUNC(+CBM!H137,4)))","--- na ---","¬IF(ISERROR(TRUNC(+CBM!G137,4))¬TRUE,\"\",TRUNC(+CBM!G137,4))","--- na ---","--- na ---","--- na ---","--- na ---","--- na ---","--- na ---","--- na ---","--- na ---","--- na ---","--- na ---","--- na ---"]
["CMQNT_14200","¬+'Cover Sheet'!$C$24","ENTITY_ID","¬+CBM!F138","¬TEXT(+'Cover Sheet'!C$22,\"yyyymmdd\")",14200,"--- na ---","¬IF(+CBM!H138¬\"--- na ---\",\"--- na ---\",IF(ISERROR(TRUNC(+CBM!H138,4))¬TRUE,\"\",TRUNC(+CBM!H138,4)))","--- na ---","¬IF(ISERROR(TRUNC(+CBM!G138,4))¬TRUE,\"\",TRUNC(+CBM!G138,4))","--- na ---","--- na ---","--- na ---","--- na ---","--- na ---","--- na ---","--- na ---","--- na ---","--- na ---","--- na ---","--- na ---"]
["CMQNT_14200","¬+'Cover Sheet'!$C$24","ENTITY_ID","¬+CBM!F139","¬TEXT(+'Cover Sheet'!C$22,\"yyyymmdd\")",14200,"--- na ---","¬IF(+CBM!H139¬\"--- na ---\",\"--- na ---\",IF(ISERROR(TRUNC(+CBM!H139,4))¬TRUE,\"\",TRUNC(+CBM!H139,4)))","--- na ---","¬IF(ISERROR(TRUNC(+CBM!G139,4))¬TRUE,\"\",TRUNC(+CBM!G139,4))","--- na ---","--- na ---","--- na ---","--- na ---","--- na ---","--- na ---","--- na ---","--- na ---","--- na ---","--- na ---","--- na ---"]
["CMQNT_14200","¬+'Cover Sheet'!$C$24","ENTITY_ID","¬+CBM!F140","¬TEXT(+'Cover Sheet'!C$22,\"yyyymmdd\")",14200,"--- na ---","¬IF(+CBM!H140¬\"--- na ---\",\"--- na ---\",IF(ISERROR(TRUNC(+CBM!H140,4))¬TRUE,\"\",TRUNC(+CBM!H140,4)))","--- na ---","¬IF(ISERROR(TRUNC(+CBM!G140,4))¬TRUE,\"\",TRUNC(+CBM!G140,4))","--- na ---","--- na ---","--- na ---","--- na ---","--- na ---","--- na ---","--- na ---","--- na ---","--- na ---","--- na ---","--- na ---"]
["CMQNT_14200","¬+'Cover Sheet'!$C$24","ENTITY_ID","¬+CBM!F141","¬TEXT(+'Cover Sheet'!C$22,\"yyyymmdd\")",14200,"--- na ---","¬IF(+CBM!H141¬\"--- na ---\",\"--- na ---\",IF(ISERROR(TRUNC(+CBM!H141,4))¬TRUE,\"\",TRUNC(+CBM!H141,4)))","--- na ---","¬IF(ISERROR(TRUNC(+CBM!G141,4))¬TRUE,\"\",TRUNC(+CBM!G141,4))","--- na ---","--- na ---","--- na ---","--- na ---","--- na ---","--- na ---","--- na ---","--- na ---","--- na ---","--- na ---","--- na ---"]
["CMQNT_14200","¬+'Cover Sheet'!$C$24","ENTITY_ID","¬+CBM!F142","¬TEXT(+'Cover Sheet'!C$22,\"yyyymmdd\")",14200,"--- na ---","¬IF(+CBM!H142¬\"--- na ---\",\"--- na ---\",IF(ISERROR(TRUNC(+CBM!H142,4))¬TRUE,\"\",TRUNC(+CBM!H142,4)))","--- na ---","¬IF(ISERROR(TRUNC(+CBM!G142,4))¬TRUE,\"\",TRUNC(+CBM!G142,4))","--- na ---","--- na ---","--- na ---","--- na ---","--- na ---","--- na ---","--- na ---","--- na ---","--- na ---","--- na ---","--- na ---"]
["CMQNT_14200","¬+'Cover Sheet'!$C$24","ENTITY_ID","¬+CBM!F143","¬TEXT(+'Cover Sheet'!C$22,\"yyyymmdd\")",14200,"--- na ---","¬IF(+CBM!H143¬\"--- na ---\",\"--- na ---\",IF(ISERROR(TRUNC(+CBM!H143,4))¬TRUE,\"\",TRUNC(+CBM!H143,4)))","--- na ---","¬IF(ISERROR(TRUNC(+CBM!G143,4))¬TRUE,\"\",TRUNC(+CBM!G143,4))","--- na ---","--- na ---","--- na ---","--- na ---","--- na ---","--- na ---","--- na ---","--- na ---","--- na ---","--- na ---","--- na ---"]
["CMQNT_14200","¬+'Cover Sheet'!$C$24","ENTITY_ID","¬+CBM!F144","¬TEXT(+'Cover Sheet'!C$22,\"yyyymmdd\")",14200,"--- na ---","¬IF(+CBM!H144¬\"--- na ---\",\"--- na ---\",IF(ISERROR(TRUNC(+CBM!H144,4))¬TRUE,\"\",TRUNC(+CBM!H144,4)))","--- na ---","¬IF(ISERROR(TRUNC(+CBM!G144,4))¬TRUE,\"\",TRUNC(+CBM!G144,4))","--- na ---","--- na ---","--- na ---","--- na ---","--- na ---","--- na ---","--- na ---","--- na ---","--- na ---","--- na ---","--- na ---"]
["CMQNT_14200","¬+'Cover Sheet'!$C$24","ENTITY_ID","¬+CBM!F145","¬TEXT(+'Cover Sheet'!C$22,\"yyyymmdd\")",14200,"--- na ---","¬IF(+CBM!H145¬\"--- na ---\",\"--- na ---\",IF(ISERROR(TRUNC(+CBM!H145,4))¬TRUE,\"\",TRUNC(+CBM!H145,4)))","--- na ---","¬IF(ISERROR(TRUNC(+CBM!G145,4))¬TRUE,\"\",TRUNC(+CBM!G145,4))","--- na ---","--- na ---","--- na ---","--- na ---","--- na ---","--- na ---","--- na ---","--- na ---","--- na ---","--- na ---","--- na ---"]
["CMQNT_14200","¬+'Cover Sheet'!$C$24","ENTITY_ID","¬+CBM!F146","¬TEXT(+'Cover Sheet'!C$22,\"yyyymmdd\")",14200,"--- na ---","¬IF(+CBM!H146¬\"--- na ---\",\"--- na ---\",IF(ISERROR(TRUNC(+CBM!H146,4))¬TRUE,\"\",TRUNC(+CBM!H146,4)))","--- na ---","¬IF(ISERROR(TRUNC(+CBM!G146,4))¬TRUE,\"\",TRUNC(+CBM!G146,4))","--- na ---","--- na ---","--- na ---","--- na ---","--- na ---","--- na ---","--- na ---","--- na ---","--- na ---","--- na ---","--- na ---"]
["CMQNT_14200","¬+'Cover Sheet'!$C$24","ENTITY_ID","¬+CBM!F147","¬TEXT(+'Cover Sheet'!C$22,\"yyyymmdd\")",14200,"--- na ---","¬IF(+CBM!H147¬\"--- na ---\",\"--- na ---\",IF(ISERROR(TRUNC(+CBM!H147,4))¬TRUE,\"\",TRUNC(+CBM!H147,4)))","--- na ---","¬IF(ISERROR(TRUNC(+CBM!G147,4))¬TRUE,\"\",TRUNC(+CBM!G147,4))","--- na ---","--- na ---","--- na ---","--- na ---","--- na ---","--- na ---","--- na ---","--- na ---","--- na ---","--- na ---","--- na ---"]
["CMQNT_14200","¬+'Cover Sheet'!$C$24","ENTITY_ID","¬+CBM!F148","¬TEXT(+'Cover Sheet'!C$22,\"yyyymmdd\")",14200,"--- na ---","¬IF(+CBM!H148¬\"--- na ---\",\"--- na ---\",IF(ISERROR(TRUNC(+CBM!H148,4))¬TRUE,\"\",TRUNC(+CBM!H148,4)))","--- na ---","¬IF(ISERROR(TRUNC(+CBM!G148,4))¬TRUE,\"\",TRUNC(+CBM!G148,4))","--- na ---","--- na ---","--- na ---","--- na ---","--- na ---","--- na ---","--- na ---","--- na ---","--- na ---","--- na ---","--- na ---"]
["CMQNT_14200","¬+'Cover Sheet'!$C$24","ENTITY_ID","¬+CBM!F149","¬TEXT(+'Cover Sheet'!C$22,\"yyyymmdd\")",14200,"--- na ---","¬IF(+CBM!H149¬\"--- na ---\",\"--- na ---\",IF(ISERROR(TRUNC(+CBM!H149,4))¬TRUE,\"\",TRUNC(+CBM!H149,4)))","--- na ---","¬IF(ISERROR(TRUNC(+CBM!G149,4))¬TRUE,\"\",TRUNC(+CBM!G149,4))","--- na ---","--- na ---","--- na ---","--- na ---","--- na ---","--- na ---","--- na ---","--- na ---","--- na ---","--- na ---","--- na ---"]
["CMQNT_14200","¬+'Cover Sheet'!$C$24","ENTITY_ID","¬+CBM!F150","¬TEXT(+'Cover Sheet'!C$22,\"yyyymmdd\")",14200,"--- na ---","¬IF(+CBM!H150¬\"--- na ---\",\"--- na ---\",IF(ISERROR(TRUNC(+CBM!H150,4))¬TRUE,\"\",TRUNC(+CBM!H150,4)))","--- na ---","¬IF(ISERROR(TRUNC(+CBM!G150,4))¬TRUE,\"\",TRUNC(+CBM!G150,4))","--- na ---","--- na ---","--- na ---","--- na ---","--- na ---","--- na ---","--- na ---","--- na ---","--- na ---","--- na ---","--- na ---"]
["CMQNT_14200","¬+'Cover Sheet'!$C$24","ENTITY_ID","¬+CBM!F151","¬TEXT(+'Cover Sheet'!C$22,\"yyyymmdd\")",14200,"--- na ---","¬IF(+CBM!H151¬\"--- na ---\",\"--- na ---\",IF(ISERROR(TRUNC(+CBM!H151,4))¬TRUE,\"\",TRUNC(+CBM!H151,4)))","--- na ---","¬IF(ISERROR(TRUNC(+CBM!G151,4))¬TRUE,\"\",TRUNC(+CBM!G151,4))","--- na ---","--- na ---","--- na ---","--- na ---","--- na ---","--- na ---","--- na ---","--- na ---","--- na ---","--- na ---","--- na ---"]
["CMQNT_14200","¬+'Cover Sheet'!$C$24","ENTITY_ID","¬+CBM!F152","¬TEXT(+'Cover Sheet'!C$22,\"yyyymmdd\")",14200,"--- na ---","¬IF(+CBM!H152¬\"--- na ---\",\"--- na ---\",IF(ISERROR(TRUNC(+CBM!H152,4))¬TRUE,\"\",TRUNC(+CBM!H152,4)))","--- na ---","¬IF(ISERROR(TRUNC(+CBM!G152,4))¬TRUE,\"\",TRUNC(+CBM!G152,4))","--- na ---","--- na ---","--- na ---","--- na ---","--- na ---","--- na ---","--- na ---","--- na ---","--- na ---","--- na ---","--- na ---"]
["CMQNT_14200","¬+'Cover Sheet'!$C$24","ENTITY_ID","¬+CBM!F153","¬TEXT(+'Cover Sheet'!C$22,\"yyyymmdd\")",14200,"--- na ---","¬IF(+CBM!H153¬\"--- na ---\",\"--- na ---\",IF(ISERROR(TRUNC(+CBM!H153,4))¬TRUE,\"\",TRUNC(+CBM!H153,4)))","--- na ---","¬IF(ISERROR(TRUNC(+CBM!G153,4))¬TRUE,\"\",TRUNC(+CBM!G153,4))","--- na ---","--- na ---","--- na ---","--- na ---","--- na ---","--- na ---","--- na ---","--- na ---","--- na ---","--- na ---","--- na ---"]
["CMQNT_14200","¬+'Cover Sheet'!$C$24","ENTITY_ID","¬+CBM!F154","¬TEXT(+'Cover Sheet'!C$22,\"yyyymmdd\")",14200,"--- na ---","¬IF(+CBM!H154¬\"--- na ---\",\"--- na ---\",IF(ISERROR(TRUNC(+CBM!H154,4))¬TRUE,\"\",TRUNC(+CBM!H154,4)))","--- na ---","¬IF(ISERROR(TRUNC(+CBM!G154,4))¬TRUE,\"\",TRUNC(+CBM!G154,4))","--- na ---","--- na ---","--- na ---","--- na ---","--- na ---","--- na ---","--- na ---","--- na ---","--- na ---","--- na ---","--- na ---"]
["CMQNT_14200","¬+'Cover Sheet'!$C$24","ENTITY_ID","¬+CBM!F155","¬TEXT(+'Cover Sheet'!C$22,\"yyyymmdd\")",14200,"--- na ---","¬IF(+CBM!H155¬\"--- na ---\",\"--- na ---\",IF(ISERROR(TRUNC(+CBM!H155,4))¬TRUE,\"\",TRUNC(+CBM!H155,4)))","--- na ---","¬IF(ISERROR(TRUNC(+CBM!G155,4))¬TRUE,\"\",TRUNC(+CBM!G155,4))","--- na ---","--- na ---","--- na ---","--- na ---","--- na ---","--- na ---","--- na ---","--- na ---","--- na ---","--- na ---","--- na ---"]
["CMQNT_14200","¬+'Cover Sheet'!$C$24","ENTITY_ID","¬+CBM!F156","¬TEXT(+'Cover Sheet'!C$22,\"yyyymmdd\")",14200,"--- na ---","¬IF(+CBM!H156¬\"--- na ---\",\"--- na ---\",IF(ISERROR(TRUNC(+CBM!H156,4))¬TRUE,\"\",TRUNC(+CBM!H156,4)))","--- na ---","¬IF(ISERROR(TRUNC(+CBM!G156,4))¬TRUE,\"\",TRUNC(+CBM!G156,4))","--- na ---","--- na ---","--- na ---","--- na ---","--- na ---","--- na ---","--- na ---","--- na ---","--- na ---","--- na ---","--- na ---"]
["CMQNT_14200","¬+'Cover Sheet'!$C$24","ENTITY_ID","¬+CBM!F157","¬TEXT(+'Cover Sheet'!C$22,\"yyyymmdd\")",14200,"--- na ---","¬IF(+CBM!H157¬\"--- na ---\",\"--- na ---\",IF(ISERROR(TRUNC(+CBM!H157,4))¬TRUE,\"\",TRUNC(+CBM!H157,4)))","--- na ---","¬IF(ISERROR(TRUNC(+CBM!G157,4))¬TRUE,\"\",TRUNC(+CBM!G157,4))","--- na ---","--- na ---","--- na ---","--- na ---","--- na ---","--- na ---","--- na ---","--- na ---","--- na ---","--- na ---","--- na ---"]
["CMQNT_14200","¬+'Cover Sheet'!$C$24","ENTITY_ID","¬+CBM!F158","¬TEXT(+'Cover Sheet'!C$22,\"yyyymmdd\")",14200,"--- na ---","¬IF(+CBM!H158¬\"--- na ---\",\"--- na ---\",IF(ISERROR(TRUNC(+CBM!H158,4))¬TRUE,\"\",TRUNC(+CBM!H158,4)))","--- na ---","¬IF(ISERROR(TRUNC(+CBM!G158,4))¬TRUE,\"\",TRUNC(+CBM!G158,4))","--- na ---","--- na ---","--- na ---","--- na ---","--- na ---","--- na ---","--- na ---","--- na ---","--- na ---","--- na ---","--- na ---"]
["CMQNT_14200","¬+'Cover Sheet'!$C$24","ENTITY_ID","¬+CBM!F159","¬TEXT(+'Cover Sheet'!C$22,\"yyyymmdd\")",14200,"--- na ---","¬IF(+CBM!H159¬\"--- na ---\",\"--- na ---\",IF(ISERROR(TRUNC(+CBM!H159,4))¬TRUE,\"\",TRUNC(+CBM!H159,4)))","--- na ---","¬IF(ISERROR(TRUNC(+CBM!G159,4))¬TRUE,\"\",TRUNC(+CBM!G159,4))","--- na ---","--- na ---","--- na ---","--- na ---","--- na ---","--- na ---","--- na ---","--- na ---","--- na ---","--- na ---","--- na ---"]
["CMQNT_14200","¬+'Cover Sheet'!$C$24","ENTITY_ID","¬+CBM!F160","¬TEXT(+'Cover Sheet'!C$22,\"yyyymmdd\")",14200,"--- na ---","¬IF(+CBM!H160¬\"--- na ---\",\"--- na ---\",IF(ISERROR(TRUNC(+CBM!H160,4))¬TRUE,\"\",TRUNC(+CBM!H160,4)))","--- na ---","¬IF(ISERROR(TRUNC(+CBM!G160,4))¬TRUE,\"\",TRUNC(+CBM!G160,4))","--- na ---","--- na ---","--- na ---","--- na ---","--- na ---","--- na ---","--- na ---","--- na ---","--- na ---","--- na ---","--- na ---"]
["CMQNT_14200","¬+'Cover Sheet'!$C$24","ENTITY_ID","¬+CBM!F161","¬TEXT(+'Cover Sheet'!C$22,\"yyyymmdd\")",14200,"--- na ---","¬IF(+CBM!H161¬\"--- na ---\",\"--- na ---\",IF(ISERROR(TRUNC(+CBM!H161,4))¬TRUE,\"\",TRUNC(+CBM!H161,4)))","--- na ---","¬IF(ISERROR(TRUNC(+CBM!G161,4))¬TRUE,\"\",TRUNC(+CBM!G161,4))","--- na ---","--- na ---","--- na ---","--- na ---","--- na ---","--- na ---","--- na ---","--- na ---","--- na ---","--- na ---","--- na ---"]
["CMQNT_14200","¬+'Cover Sheet'!$C$24","ENTITY_ID","¬+CBM!F162","¬TEXT(+'Cover Sheet'!C$22,\"yyyymmdd\")",14200,"--- na ---","¬IF(+CBM!H162¬\"--- na ---\",\"--- na ---\",IF(ISERROR(TRUNC(+CBM!H162,4))¬TRUE,\"\",TRUNC(+CBM!H162,4)))","--- na ---","¬IF(ISERROR(TRUNC(+CBM!G162,4))¬TRUE,\"\",TRUNC(+CBM!G162,4))","--- na ---","--- na ---","--- na ---","--- na ---","--- na ---","--- na ---","--- na ---","--- na ---","--- na ---","--- na ---","--- na ---"]
["CMQNT_14200","¬+'Cover Sheet'!$C$24","ENTITY_ID","¬+CBM!F163","¬TEXT(+'Cover Sheet'!C$22,\"yyyymmdd\")",14200,"--- na ---","¬IF(+CBM!H163¬\"--- na ---\",\"--- na ---\",IF(ISERROR(TRUNC(+CBM!H163,4))¬TRUE,\"\",TRUNC(+CBM!H163,4)))","--- na ---","¬IF(ISERROR(TRUNC(+CBM!G163,4))¬TRUE,\"\",TRUNC(+CBM!G163,4))","--- na ---","--- na ---","--- na ---","--- na ---","--- na ---","--- na ---","--- na ---","--- na ---","--- na ---","--- na ---","--- na ---"]
["CMQNT_14200","¬+'Cover Sheet'!$C$24","ENTITY_ID","¬+CBM!F164","¬TEXT(+'Cover Sheet'!C$22,\"yyyymmdd\")",14200,"--- na ---","¬IF(+CBM!H164¬\"--- na ---\",\"--- na ---\",IF(ISERROR(TRUNC(+CBM!H164,4))¬TRUE,\"\",TRUNC(+CBM!H164,4)))","--- na ---","¬IF(ISERROR(TRUNC(+CBM!G164,4))¬TRUE,\"\",TRUNC(+CBM!G164,4))","--- na ---","--- na ---","--- na ---","--- na ---","--- na ---","--- na ---","--- na ---","--- na ---","--- na ---","--- na ---","--- na ---"]
["CMQNT_14200","¬+'Cover Sheet'!$C$24","ENTITY_ID","¬+CBM!F165","¬TEXT(+'Cover Sheet'!C$22,\"yyyymmdd\")",14200,"--- na ---","¬IF(+CBM!H165¬\"--- na ---\",\"--- na ---\",IF(ISERROR(TRUNC(+CBM!H165,4))¬TRUE,\"\",TRUNC(+CBM!H165,4)))","--- na ---","¬IF(ISERROR(TRUNC(+CBM!G165,4))¬TRUE,\"\",TRUNC(+CBM!G165,4))","--- na ---","--- na ---","--- na ---","--- na ---","--- na ---","--- na ---","--- na ---","--- na ---","--- na ---","--- na ---","--- na ---"]
["CMQNT_14200","¬+'Cover Sheet'!$C$24","ENTITY_ID","¬+CBM!F166","¬TEXT(+'Cover Sheet'!C$22,\"yyyymmdd\")",14200,"--- na ---","¬IF(+CBM!H166¬\"--- na ---\",\"--- na ---\",IF(ISERROR(TRUNC(+CBM!H166,4))¬TRUE,\"\",TRUNC(+CBM!H166,4)))","--- na ---","¬IF(ISERROR(TRUNC(+CBM!G166,4))¬TRUE,\"\",TRUNC(+CBM!G166,4))","--- na ---","--- na ---","--- na ---","--- na ---","--- na ---","--- na ---","--- na ---","--- na ---","--- na ---","--- na ---","--- na ---"]
["CMQNT_14200","¬+'Cover Sheet'!$C$24","ENTITY_ID","¬+CBM!F167","¬TEXT(+'Cover Sheet'!C$22,\"yyyymmdd\")",14200,"--- na ---","¬IF(+CBM!H167¬\"--- na ---\",\"--- na ---\",IF(ISERROR(TRUNC(+CBM!H167,4))¬TRUE,\"\",TRUNC(+CBM!H167,4)))","--- na ---","¬IF(ISERROR(TRUNC(+CBM!G167,4))¬TRUE,\"\",TRUNC(+CBM!G167,4))","--- na ---","--- na ---","--- na ---","--- na ---","--- na ---","--- na ---","--- na ---","--- na ---","--- na ---","--- na ---","--- na ---"]
["CMQNT_14200","¬+'Cover Sheet'!$C$24","ENTITY_ID","¬+CBM!F168","¬TEXT(+'Cover Sheet'!C$22,\"yyyymmdd\")",14200,"--- na ---","¬IF(+CBM!H168¬\"--- na ---\",\"--- na ---\",IF(ISERROR(TRUNC(+CBM!H168,4))¬TRUE,\"\",TRUNC(+CBM!H168,4)))","--- na ---","¬IF(ISERROR(TRUNC(+CBM!G168,4))¬TRUE,\"\",TRUNC(+CBM!G168,4))","--- na ---","--- na ---","--- na ---","--- na ---","--- na ---","--- na ---","--- na ---","--- na ---","--- na ---","--- na ---","--- na ---"]
["CMQNT_14200","¬+'Cover Sheet'!$C$24","ENTITY_ID","¬+CBM!F169","¬TEXT(+'Cover Sheet'!C$22,\"yyyymmdd\")",14200,"--- na ---","¬IF(+CBM!H169¬\"--- na ---\",\"--- na ---\",IF(ISERROR(TRUNC(+CBM!H169,4))¬TRUE,\"\",TRUNC(+CBM!H169,4)))","--- na ---","¬IF(ISERROR(TRUNC(+CBM!G169,4))¬TRUE,\"\",TRUNC(+CBM!G169,4))","--- na ---","--- na ---","--- na ---","--- na ---","--- na ---","--- na ---","--- na ---","--- na ---","--- na ---","--- na ---","--- na ---"]
["CMQNT_14200","¬+'Cover Sheet'!$C$24","ENTITY_ID","¬+CBM!F170","¬TEXT(+'Cover Sheet'!C$22,\"yyyymmdd\")",14200,"--- na ---","¬IF(+CBM!H170¬\"--- na ---\",\"--- na ---\",IF(ISERROR(TRUNC(+CBM!H170,4))¬TRUE,\"\",TRUNC(+CBM!H170,4)))","--- na ---","¬IF(ISERROR(TRUNC(+CBM!G170,4))¬TRUE,\"\",TRUNC(+CBM!G170,4))","--- na ---","--- na ---","--- na ---","--- na ---","--- na ---","--- na ---","--- na ---","--- na ---","--- na ---","--- na ---","--- na ---"]
["CMQNT_14200","¬+'Cover Sheet'!$C$24","ENTITY_ID","¬+CBM!F171","¬TEXT(+'Cover Sheet'!C$22,\"yyyymmdd\")",14200,"--- na ---","¬IF(+CBM!H171¬\"--- na ---\",\"--- na ---\",IF(ISERROR(TRUNC(+CBM!H171,4))¬TRUE,\"\",TRUNC(+CBM!H171,4)))","--- na ---","¬IF(ISERROR(TRUNC(+CBM!G171,4))¬TRUE,\"\",TRUNC(+CBM!G171,4))","--- na ---","--- na ---","--- na ---","--- na ---","--- na ---","--- na ---","--- na ---","--- na ---","--- na ---","--- na ---","--- na ---"]
["CMQNT_14200","¬+'Cover Sheet'!$C$24","ENTITY_ID","¬+CBM!F172","¬TEXT(+'Cover Sheet'!C$22,\"yyyymmdd\")",14200,"--- na ---","¬IF(+CBM!H172¬\"--- na ---\",\"--- na ---\",IF(ISERROR(TRUNC(+CBM!H172,4))¬TRUE,\"\",TRUNC(+CBM!H172,4)))","--- na ---","¬IF(ISERROR(TRUNC(+CBM!G172,4))¬TRUE,\"\",TRUNC(+CBM!G172,4))","--- na ---","--- na ---","--- na ---","--- na ---","--- na ---","--- na ---","--- na ---","--- na ---","--- na ---","--- na ---","--- na ---"]
["CMQNT_14200","¬+'Cover Sheet'!$C$24","ENTITY_ID","¬+CBM!F173","¬TEXT(+'Cover Sheet'!C$22,\"yyyymmdd\")",14200,"--- na ---","¬IF(+CBM!H173¬\"--- na ---\",\"--- na ---\",IF(ISERROR(TRUNC(+CBM!H173,4))¬TRUE,\"\",TRUNC(+CBM!H173,4)))","--- na ---","¬IF(ISERROR(TRUNC(+CBM!G173,4))¬TRUE,\"\",TRUNC(+CBM!G173,4))","--- na ---","--- na ---","--- na ---","--- na ---","--- na ---","--- na ---","--- na ---","--- na ---","--- na ---","--- na ---","--- na ---"]
["CMQNT_14200","¬+'Cover Sheet'!$C$24","ENTITY_ID","¬+CBM!F174","¬TEXT(+'Cover Sheet'!C$22,\"yyyymmdd\")",14200,"--- na ---","¬IF(+CBM!H174¬\"--- na ---\",\"--- na ---\",IF(ISERROR(TRUNC(+CBM!H174,4))¬TRUE,\"\",TRUNC(+CBM!H174,4)))","--- na ---","¬IF(ISERROR(TRUNC(+CBM!G174,4))¬TRUE,\"\",TRUNC(+CBM!G174,4))","--- na ---","--- na ---","--- na ---","--- na ---","--- na ---","--- na ---","--- na ---","--- na ---","--- na ---","--- na ---","--- na ---"]
["CMQNT_14210","¬+'Cover Sheet'!$C$24","ENTITY_ID","W1","¬TEXT(+'Cover Sheet'!C$22,\"yyyymmdd\")",14210,"--- na ---","¬IF(+CBM!H175¬\"--- na ---\",\"--- na ---\",IF(ISERROR(TRUNC(+CBM!H175,4))¬TRUE,\"\",TRUNC(+CBM!H175,4)))","--- na ---","¬IF(ISERROR(TRUNC(+CBM!G175,4))¬TRUE,\"\",TRUNC(+CBM!G175,4))","--- na ---","--- na ---","--- na ---","--- na ---","--- na ---","--- na ---","--- na ---","--- na ---","--- na ---","--- na ---","--- na ---"]
["CMQNT_14210","¬+'Cover Sheet'!$C$24","ENTITY_ID","¬+CBM!F176","¬TEXT(+'Cover Sheet'!C$22,\"yyyymmdd\")",14210,"--- na ---","¬IF(+CBM!H176¬\"--- na ---\",\"--- na ---\",IF(ISERROR(TRUNC(+CBM!H176,4))¬TRUE,\"\",TRUNC(+CBM!H176,4)))","--- na ---","¬IF(ISERROR(TRUNC(+CBM!G176,4))¬TRUE,\"\",TRUNC(+CBM!G176,4))","--- na ---","--- na ---","--- na ---","--- na ---","--- na ---","--- na ---","--- na ---","--- na ---","--- na ---","--- na ---","--- na ---"]
["CMQNT_14210","¬+'Cover Sheet'!$C$24","ENTITY_ID","¬+CBM!F177","¬TEXT(+'Cover Sheet'!C$22,\"yyyymmdd\")",14210,"--- na ---","¬IF(+CBM!H177¬\"--- na ---\",\"--- na ---\",IF(ISERROR(TRUNC(+CBM!H177,4))¬TRUE,\"\",TRUNC(+CBM!H177,4)))","--- na ---","¬IF(ISERROR(TRUNC(+CBM!G177,4))¬TRUE,\"\",TRUNC(+CBM!G177,4))","--- na ---","--- na ---","--- na ---","--- na ---","--- na ---","--- na ---","--- na ---","--- na ---","--- na ---","--- na ---","--- na ---"]
["CMQNT_14210","¬+'Cover Sheet'!$C$24","ENTITY_ID","¬+CBM!F178","¬TEXT(+'Cover Sheet'!C$22,\"yyyymmdd\")",14210,"--- na ---","¬IF(+CBM!H178¬\"--- na ---\",\"--- na ---\",IF(ISERROR(TRUNC(+CBM!H178,4))¬TRUE,\"\",TRUNC(+CBM!H178,4)))","--- na ---","¬IF(ISERROR(TRUNC(+CBM!G178,4))¬TRUE,\"\",TRUNC(+CBM!G178,4))","--- na ---","--- na ---","--- na ---","--- na ---","--- na ---","--- na ---","--- na ---","--- na ---","--- na ---","--- na ---","--- na ---"]
["CMQNT_14210","¬+'Cover Sheet'!$C$24","ENTITY_ID","¬+CBM!F179","¬TEXT(+'Cover Sheet'!C$22,\"yyyymmdd\")",14210,"--- na ---","¬IF(+CBM!H179¬\"--- na ---\",\"--- na ---\",IF(ISERROR(TRUNC(+CBM!H179,4))¬TRUE,\"\",TRUNC(+CBM!H179,4)))","--- na ---","¬IF(ISERROR(TRUNC(+CBM!G179,4))¬TRUE,\"\",TRUNC(+CBM!G179,4))","--- na ---","--- na ---","--- na ---","--- na ---","--- na ---","--- na ---","--- na ---","--- na ---","--- na ---","--- na ---","--- na ---"]
["CMQNT_14210","¬+'Cover Sheet'!$C$24","ENTITY_ID","¬+CBM!F180","¬TEXT(+'Cover Sheet'!C$22,\"yyyymmdd\")",14210,"--- na ---","¬IF(+CBM!H180¬\"--- na ---\",\"--- na ---\",IF(ISERROR(TRUNC(+CBM!H180,4))¬TRUE,\"\",TRUNC(+CBM!H180,4)))","--- na ---","¬IF(ISERROR(TRUNC(+CBM!G180,4))¬TRUE,\"\",TRUNC(+CBM!G180,4))","--- na ---","--- na ---","--- na ---","--- na ---","--- na ---","--- na ---","--- na ---","--- na ---","--- na ---","--- na ---","--- na ---"]
["CMQNT_14210","¬+'Cover Sheet'!$C$24","ENTITY_ID","¬+CBM!F181","¬TEXT(+'Cover Sheet'!C$22,\"yyyymmdd\")",14210,"--- na ---","¬IF(+CBM!H181¬\"--- na ---\",\"--- na ---\",IF(ISERROR(TRUNC(+CBM!H181,4))¬TRUE,\"\",TRUNC(+CBM!H181,4)))","--- na ---","¬IF(ISERROR(TRUNC(+CBM!G181,4))¬TRUE,\"\",TRUNC(+CBM!G181,4))","--- na ---","--- na ---","--- na ---","--- na ---","--- na ---","--- na ---","--- na ---","--- na ---","--- na ---","--- na ---","--- na ---"]
["CMQNT_14210","¬+'Cover Sheet'!$C$24","ENTITY_ID","¬+CBM!F182","¬TEXT(+'Cover Sheet'!C$22,\"yyyymmdd\")",14210,"--- na ---","¬IF(+CBM!H182¬\"--- na ---\",\"--- na ---\",IF(ISERROR(TRUNC(+CBM!H182,4))¬TRUE,\"\",TRUNC(+CBM!H182,4)))","--- na ---","¬IF(ISERROR(TRUNC(+CBM!G182,4))¬TRUE,\"\",TRUNC(+CBM!G182,4))","--- na ---","--- na ---","--- na ---","--- na ---","--- na ---","--- na ---","--- na ---","--- na ---","--- na ---","--- na ---","--- na ---"]
["CMQNT_14210","¬+'Cover Sheet'!$C$24","ENTITY_ID","¬+CBM!F183","¬TEXT(+'Cover Sheet'!C$22,\"yyyymmdd\")",14210,"--- na ---","¬IF(+CBM!H183¬\"--- na ---\",\"--- na ---\",IF(ISERROR(TRUNC(+CBM!H183,4))¬TRUE,\"\",TRUNC(+CBM!H183,4)))","--- na ---","¬IF(ISERROR(TRUNC(+CBM!G183,4))¬TRUE,\"\",TRUNC(+CBM!G183,4))","--- na ---","--- na ---","--- na ---","--- na ---","--- na ---","--- na ---","--- na ---","--- na ---","--- na ---","--- na ---","--- na ---"]
["CMQNT_14210","¬+'Cover Sheet'!$C$24","ENTITY_ID","¬+CBM!F184","¬TEXT(+'Cover Sheet'!C$22,\"yyyymmdd\")",14210,"--- na ---","¬IF(+CBM!H184¬\"--- na ---\",\"--- na ---\",IF(ISERROR(TRUNC(+CBM!H184,4))¬TRUE,\"\",TRUNC(+CBM!H184,4)))","--- na ---","¬IF(ISERROR(TRUNC(+CBM!G184,4))¬TRUE,\"\",TRUNC(+CBM!G184,4))","--- na ---","--- na ---","--- na ---","--- na ---","--- na ---","--- na ---","--- na ---","--- na ---","--- na ---","--- na ---","--- na ---"]
["CMQNT_14210","¬+'Cover Sheet'!$C$24","ENTITY_ID","¬+CBM!F185","¬TEXT(+'Cover Sheet'!C$22,\"yyyymmdd\")",14210,"--- na ---","¬IF(+CBM!H185¬\"--- na ---\",\"--- na ---\",IF(ISERROR(TRUNC(+CBM!H185,4))¬TRUE,\"\",TRUNC(+CBM!H185,4)))","--- na ---","¬IF(ISERROR(TRUNC(+CBM!G185,4))¬TRUE,\"\",TRUNC(+CBM!G185,4))","--- na ---","--- na ---","--- na ---","--- na ---","--- na ---","--- na ---","--- na ---","--- na ---","--- na ---","--- na ---","--- na ---"]
["CMQNT_14210","¬+'Cover Sheet'!$C$24","ENTITY_ID","¬+CBM!F186","¬TEXT(+'Cover Sheet'!C$22,\"yyyymmdd\")",14210,"--- na ---","¬IF(+CBM!H186¬\"--- na ---\",\"--- na ---\",IF(ISERROR(TRUNC(+CBM!H186,4))¬TRUE,\"\",TRUNC(+CBM!H186,4)))","--- na ---","¬IF(ISERROR(TRUNC(+CBM!G186,4))¬TRUE,\"\",TRUNC(+CBM!G186,4))","--- na ---","--- na ---","--- na ---","--- na ---","--- na ---","--- na ---","--- na ---","--- na ---","--- na ---","--- na ---","--- na ---"]
["CMQNT_14210","¬+'Cover Sheet'!$C$24","ENTITY_ID","¬+CBM!F187","¬TEXT(+'Cover Sheet'!C$22,\"yyyymmdd\")",14210,"--- na ---","¬IF(+CBM!H187¬\"--- na ---\",\"--- na ---\",IF(ISERROR(TRUNC(+CBM!H187,4))¬TRUE,\"\",TRUNC(+CBM!H187,4)))","--- na ---","¬IF(ISERROR(TRUNC(+CBM!G187,4))¬TRUE,\"\",TRUNC(+CBM!G187,4))","--- na ---","--- na ---","--- na ---","--- na ---","--- na ---","--- na ---","--- na ---","--- na ---","--- na ---","--- na ---","--- na ---"]
["CMQNT_14210","¬+'Cover Sheet'!$C$24","ENTITY_ID","¬+CBM!F188","¬TEXT(+'Cover Sheet'!C$22,\"yyyymmdd\")",14210,"--- na ---","¬IF(+CBM!H188¬\"--- na ---\",\"--- na ---\",IF(ISERROR(TRUNC(+CBM!H188,4))¬TRUE,\"\",TRUNC(+CBM!H188,4)))","--- na ---","¬IF(ISERROR(TRUNC(+CBM!G188,4))¬TRUE,\"\",TRUNC(+CBM!G188,4))","--- na ---","--- na ---","--- na ---","--- na ---","--- na ---","--- na ---","--- na ---","--- na ---","--- na ---","--- na ---","--- na ---"]
["CMQNT_14210","¬+'Cover Sheet'!$C$24","ENTITY_ID","¬+CBM!F189","¬TEXT(+'Cover Sheet'!C$22,\"yyyymmdd\")",14210,"--- na ---","¬IF(+CBM!H189¬\"--- na ---\",\"--- na ---\",IF(ISERROR(TRUNC(+CBM!H189,4))¬TRUE,\"\",TRUNC(+CBM!H189,4)))","--- na ---","¬IF(ISERROR(TRUNC(+CBM!G189,4))¬TRUE,\"\",TRUNC(+CBM!G189,4))","--- na ---","--- na ---","--- na ---","--- na ---","--- na ---","--- na ---","--- na ---","--- na ---","--- na ---","--- na ---","--- na ---"]
["CMQNT_14210","¬+'Cover Sheet'!$C$24","ENTITY_ID","¬+CBM!F190","¬TEXT(+'Cover Sheet'!C$22,\"yyyymmdd\")",14210,"--- na ---","¬IF(+CBM!H190¬\"--- na ---\",\"--- na ---\",IF(ISERROR(TRUNC(+CBM!H190,4))¬TRUE,\"\",TRUNC(+CBM!H190,4)))","--- na ---","¬IF(ISERROR(TRUNC(+CBM!G190,4))¬TRUE,\"\",TRUNC(+CBM!G190,4))","--- na ---","--- na ---","--- na ---","--- na ---","--- na ---","--- na ---","--- na ---","--- na ---","--- na ---","--- na ---","--- na ---"]
["CMQNT_14210","¬+'Cover Sheet'!$C$24","ENTITY_ID","¬+CBM!F191","¬TEXT(+'Cover Sheet'!C$22,\"yyyymmdd\")",14210,"--- na ---","¬IF(+CBM!H191¬\"--- na ---\",\"--- na ---\",IF(ISERROR(TRUNC(+CBM!H191,4))¬TRUE,\"\",TRUNC(+CBM!H191,4)))","--- na ---","¬IF(ISERROR(TRUNC(+CBM!G191,4))¬TRUE,\"\",TRUNC(+CBM!G191,4))","--- na ---","--- na ---","--- na ---","--- na ---","--- na ---","--- na ---","--- na ---","--- na ---","--- na ---","--- na ---","--- na ---"]
["CMQNT_14210","¬+'Cover Sheet'!$C$24","ENTITY_ID","¬+CBM!F192","¬TEXT(+'Cover Sheet'!C$22,\"yyyymmdd\")",14210,"--- na ---","¬IF(+CBM!H192¬\"--- na ---\",\"--- na ---\",IF(ISERROR(TRUNC(+CBM!H192,4))¬TRUE,\"\",TRUNC(+CBM!H192,4)))","--- na ---","¬IF(ISERROR(TRUNC(+CBM!G192,4))¬TRUE,\"\",TRUNC(+CBM!G192,4))","--- na ---","--- na ---","--- na ---","--- na ---","--- na ---","--- na ---","--- na ---","--- na ---","--- na ---","--- na ---","--- na ---"]
["CMQNT_14210","¬+'Cover Sheet'!$C$24","ENTITY_ID","¬+CBM!F193","¬TEXT(+'Cover Sheet'!C$22,\"yyyymmdd\")",14210,"--- na ---","¬IF(+CBM!H193¬\"--- na ---\",\"--- na ---\",IF(ISERROR(TRUNC(+CBM!H193,4))¬TRUE,\"\",TRUNC(+CBM!H193,4)))","--- na ---","¬IF(ISERROR(TRUNC(+CBM!G193,4))¬TRUE,\"\",TRUNC(+CBM!G193,4))","--- na ---","--- na ---","--- na ---","--- na ---","--- na ---","--- na ---","--- na ---","--- na ---","--- na ---","--- na ---","--- na ---"]
["CMQNT_14210","¬+'Cover Sheet'!$C$24","ENTITY_ID","¬+CBM!F194","¬TEXT(+'Cover Sheet'!C$22,\"yyyymmdd\")",14210,"--- na ---","¬IF(+CBM!H194¬\"--- na ---\",\"--- na ---\",IF(ISERROR(TRUNC(+CBM!H194,4))¬TRUE,\"\",TRUNC(+CBM!H194,4)))","--- na ---","¬IF(ISERROR(TRUNC(+CBM!G194,4))¬TRUE,\"\",TRUNC(+CBM!G194,4))","--- na ---","--- na ---","--- na ---","--- na ---","--- na ---","--- na ---","--- na ---","--- na ---","--- na ---","--- na ---","--- na ---"]
["CMQNT_14210","¬+'Cover Sheet'!$C$24","ENTITY_ID","¬+CBM!F195","¬TEXT(+'Cover Sheet'!C$22,\"yyyymmdd\")",14210,"--- na ---","¬IF(+CBM!H195¬\"--- na ---\",\"--- na ---\",IF(ISERROR(TRUNC(+CBM!H195,4))¬TRUE,\"\",TRUNC(+CBM!H195,4)))","--- na ---","¬IF(ISERROR(TRUNC(+CBM!G195,4))¬TRUE,\"\",TRUNC(+CBM!G195,4))","--- na ---","--- na ---","--- na ---","--- na ---","--- na ---","--- na ---","--- na ---","--- na ---","--- na ---","--- na ---","--- na ---"]
["CMQNT_14210","¬+'Cover Sheet'!$C$24","ENTITY_ID","¬+CBM!F196","¬TEXT(+'Cover Sheet'!C$22,\"yyyymmdd\")",14210,"--- na ---","¬IF(+CBM!H196¬\"--- na ---\",\"--- na ---\",IF(ISERROR(TRUNC(+CBM!H196,4))¬TRUE,\"\",TRUNC(+CBM!H196,4)))","--- na ---","¬IF(ISERROR(TRUNC(+CBM!G196,4))¬TRUE,\"\",TRUNC(+CBM!G196,4))","--- na ---","--- na ---","--- na ---","--- na ---","--- na ---","--- na ---","--- na ---","--- na ---","--- na ---","--- na ---","--- na ---"]
["CMQNT_14210","¬+'Cover Sheet'!$C$24","ENTITY_ID","¬+CBM!F197","¬TEXT(+'Cover Sheet'!C$22,\"yyyymmdd\")",14210,"--- na ---","¬IF(+CBM!H197¬\"--- na ---\",\"--- na ---\",IF(ISERROR(TRUNC(+CBM!H197,4))¬TRUE,\"\",TRUNC(+CBM!H197,4)))","--- na ---","¬IF(ISERROR(TRUNC(+CBM!G197,4))¬TRUE,\"\",TRUNC(+CBM!G197,4))","--- na ---","--- na ---","--- na ---","--- na ---","--- na ---","--- na ---","--- na ---","--- na ---","--- na ---","--- na ---","--- na ---"]
["CMQNT_14210","¬+'Cover Sheet'!$C$24","ENTITY_ID","¬+CBM!F198","¬TEXT(+'Cover Sheet'!C$22,\"yyyymmdd\")",14210,"--- na ---","¬IF(+CBM!H198¬\"--- na ---\",\"--- na ---\",IF(ISERROR(TRUNC(+CBM!H198,4))¬TRUE,\"\",TRUNC(+CBM!H198,4)))","--- na ---","¬IF(ISERROR(TRUNC(+CBM!G198,4))¬TRUE,\"\",TRUNC(+CBM!G198,4))","--- na ---","--- na ---","--- na ---","--- na ---","--- na ---","--- na ---","--- na ---","--- na ---","--- na ---","--- na ---","--- na ---"]
["CMQNT_14210","¬+'Cover Sheet'!$C$24","ENTITY_ID","¬+CBM!F199","¬TEXT(+'Cover Sheet'!C$22,\"yyyymmdd\")",14210,"--- na ---","¬IF(+CBM!H199¬\"--- na ---\",\"--- na ---\",IF(ISERROR(TRUNC(+CBM!H199,4))¬TRUE,\"\",TRUNC(+CBM!H199,4)))","--- na ---","¬IF(ISERROR(TRUNC(+CBM!G199,4))¬TRUE,\"\",TRUNC(+CBM!G199,4))","--- na ---","--- na ---","--- na ---","--- na ---","--- na ---","--- na ---","--- na ---","--- na ---","--- na ---","--- na ---","--- na ---"]
["CMQNT_14210","¬+'Cover Sheet'!$C$24","ENTITY_ID","¬+CBM!F200","¬TEXT(+'Cover Sheet'!C$22,\"yyyymmdd\")",14210,"--- na ---","¬IF(+CBM!H200¬\"--- na ---\",\"--- na ---\",IF(ISERROR(TRUNC(+CBM!H200,4))¬TRUE,\"\",TRUNC(+CBM!H200,4)))","--- na ---","¬IF(ISERROR(TRUNC(+CBM!G200,4))¬TRUE,\"\",TRUNC(+CBM!G200,4))","--- na ---","--- na ---","--- na ---","--- na ---","--- na ---","--- na ---","--- na ---","--- na ---","--- na ---","--- na ---","--- na ---"]
["CMQNT_14210","¬+'Cover Sheet'!$C$24","ENTITY_ID","¬+CBM!F201","¬TEXT(+'Cover Sheet'!C$22,\"yyyymmdd\")",14210,"--- na ---","¬IF(+CBM!H201¬\"--- na ---\",\"--- na ---\",IF(ISERROR(TRUNC(+CBM!H201,4))¬TRUE,\"\",TRUNC(+CBM!H201,4)))","--- na ---","¬IF(ISERROR(TRUNC(+CBM!G201,4))¬TRUE,\"\",TRUNC(+CBM!G201,4))","--- na ---","--- na ---","--- na ---","--- na ---","--- na ---","--- na ---","--- na ---","--- na ---","--- na ---","--- na ---","--- na ---"]
["CMQNT_14210","¬+'Cover Sheet'!$C$24","ENTITY_ID","¬+CBM!F202","¬TEXT(+'Cover Sheet'!C$22,\"yyyymmdd\")",14210,"--- na ---","¬IF(+CBM!H202¬\"--- na ---\",\"--- na ---\",IF(ISERROR(TRUNC(+CBM!H202,4))¬TRUE,\"\",TRUNC(+CBM!H202,4)))","--- na ---","¬IF(ISERROR(TRUNC(+CBM!G202,4))¬TRUE,\"\",TRUNC(+CBM!G202,4))","--- na ---","--- na ---","--- na ---","--- na ---","--- na ---","--- na ---","--- na ---","--- na ---","--- na ---","--- na ---","--- na ---"]
["CMQNT_14210","¬+'Cover Sheet'!$C$24","ENTITY_ID","¬+CBM!F203","¬TEXT(+'Cover Sheet'!C$22,\"yyyymmdd\")",14210,"--- na ---","¬IF(+CBM!H203¬\"--- na ---\",\"--- na ---\",IF(ISERROR(TRUNC(+CBM!H203,4))¬TRUE,\"\",TRUNC(+CBM!H203,4)))","--- na ---","¬IF(ISERROR(TRUNC(+CBM!G203,4))¬TRUE,\"\",TRUNC(+CBM!G203,4))","--- na ---","--- na ---","--- na ---","--- na ---","--- na ---","--- na ---","--- na ---","--- na ---","--- na ---","--- na ---","--- na ---"]
["CMQNT_14210","¬+'Cover Sheet'!$C$24","ENTITY_ID","¬+CBM!F204","¬TEXT(+'Cover Sheet'!C$22,\"yyyymmdd\")",14210,"--- na ---","¬IF(+CBM!H204¬\"--- na ---\",\"--- na ---\",IF(ISERROR(TRUNC(+CBM!H204,4))¬TRUE,\"\",TRUNC(+CBM!H204,4)))","--- na ---","¬IF(ISERROR(TRUNC(+CBM!G204,4))¬TRUE,\"\",TRUNC(+CBM!G204,4))","--- na ---","--- na ---","--- na ---","--- na ---","--- na ---","--- na ---","--- na ---","--- na ---","--- na ---","--- na ---","--- na ---"]
["CMQNT_14210","¬+'Cover Sheet'!$C$24","ENTITY_ID","¬+CBM!F205","¬TEXT(+'Cover Sheet'!C$22,\"yyyymmdd\")",14210,"--- na ---","¬IF(+CBM!H205¬\"--- na ---\",\"--- na ---\",IF(ISERROR(TRUNC(+CBM!H205,4))¬TRUE,\"\",TRUNC(+CBM!H205,4)))","--- na ---","¬IF(ISERROR(TRUNC(+CBM!G205,4))¬TRUE,\"\",TRUNC(+CBM!G205,4))","--- na ---","--- na ---","--- na ---","--- na ---","--- na ---","--- na ---","--- na ---","--- na ---","--- na ---","--- na ---","--- na ---"]
["CMQNT_14210","¬+'Cover Sheet'!$C$24","ENTITY_ID","¬+CBM!F206","¬TEXT(+'Cover Sheet'!C$22,\"yyyymmdd\")",14210,"--- na ---","¬IF(+CBM!H206¬\"--- na ---\",\"--- na ---\",IF(ISERROR(TRUNC(+CBM!H206,4))¬TRUE,\"\",TRUNC(+CBM!H206,4)))","--- na ---","¬IF(ISERROR(TRUNC(+CBM!G206,4))¬TRUE,\"\",TRUNC(+CBM!G206,4))","--- na ---","--- na ---","--- na ---","--- na ---","--- na ---","--- na ---","--- na ---","--- na ---","--- na ---","--- na ---","--- na ---"]
["CMQNT_14210","¬+'Cover Sheet'!$C$24","ENTITY_ID","¬+CBM!F207","¬TEXT(+'Cover Sheet'!C$22,\"yyyymmdd\")",14210,"--- na ---","¬IF(+CBM!H207¬\"--- na ---\",\"--- na ---\",IF(ISERROR(TRUNC(+CBM!H207,4))¬TRUE,\"\",TRUNC(+CBM!H207,4)))","--- na ---","¬IF(ISERROR(TRUNC(+CBM!G207,4))¬TRUE,\"\",TRUNC(+CBM!G207,4))","--- na ---","--- na ---","--- na ---","--- na ---","--- na ---","--- na ---","--- na ---","--- na ---","--- na ---","--- na ---","--- na ---"]
["CMQNT_14210","¬+'Cover Sheet'!$C$24","ENTITY_ID","¬+CBM!F208","¬TEXT(+'Cover Sheet'!C$22,\"yyyymmdd\")",14210,"--- na ---","¬IF(+CBM!H208¬\"--- na ---\",\"--- na ---\",IF(ISERROR(TRUNC(+CBM!H208,4))¬TRUE,\"\",TRUNC(+CBM!H208,4)))","--- na ---","¬IF(ISERROR(TRUNC(+CBM!G208,4))¬TRUE,\"\",TRUNC(+CBM!G208,4))","--- na ---","--- na ---","--- na ---","--- na ---","--- na ---","--- na ---","--- na ---","--- na ---","--- na ---","--- na ---","--- na ---"]
["CMQNT_14210","¬+'Cover Sheet'!$C$24","ENTITY_ID","¬+CBM!F209","¬TEXT(+'Cover Sheet'!C$22,\"yyyymmdd\")",14210,"--- na ---","¬IF(+CBM!H209¬\"--- na ---\",\"--- na ---\",IF(ISERROR(TRUNC(+CBM!H209,4))¬TRUE,\"\",TRUNC(+CBM!H209,4)))","--- na ---","¬IF(ISERROR(TRUNC(+CBM!G209,4))¬TRUE,\"\",TRUNC(+CBM!G209,4))","--- na ---","--- na ---","--- na ---","--- na ---","--- na ---","--- na ---","--- na ---","--- na ---","--- na ---","--- na ---","--- na ---"]
["CMQNT_14210","¬+'Cover Sheet'!$C$24","ENTITY_ID","¬+CBM!F210","¬TEXT(+'Cover Sheet'!C$22,\"yyyymmdd\")",14210,"--- na ---","¬IF(+CBM!H210¬\"--- na ---\",\"--- na ---\",IF(ISERROR(TRUNC(+CBM!H210,4))¬TRUE,\"\",TRUNC(+CBM!H210,4)))","--- na ---","¬IF(ISERROR(TRUNC(+CBM!G210,4))¬TRUE,\"\",TRUNC(+CBM!G210,4))","--- na ---","--- na ---","--- na ---","--- na ---","--- na ---","--- na ---","--- na ---","--- na ---","--- na ---","--- na ---","--- na ---"]
["CMQNT_14210","¬+'Cover Sheet'!$C$24","ENTITY_ID","¬+CBM!F211","¬TEXT(+'Cover Sheet'!C$22,\"yyyymmdd\")",14210,"--- na ---","¬IF(+CBM!H211¬\"--- na ---\",\"--- na ---\",IF(ISERROR(TRUNC(+CBM!H211,4))¬TRUE,\"\",TRUNC(+CBM!H211,4)))","--- na ---","¬IF(ISERROR(TRUNC(+CBM!G211,4))¬TRUE,\"\",TRUNC(+CBM!G211,4))","--- na ---","--- na ---","--- na ---","--- na ---","--- na ---","--- na ---","--- na ---","--- na ---","--- na ---","--- na ---","--- na ---"]
["CMQNT_14210","¬+'Cover Sheet'!$C$24","ENTITY_ID","¬+CBM!F212","¬TEXT(+'Cover Sheet'!C$22,\"yyyymmdd\")",14210,"--- na ---","¬IF(+CBM!H212¬\"--- na ---\",\"--- na ---\",IF(ISERROR(TRUNC(+CBM!H212,4))¬TRUE,\"\",TRUNC(+CBM!H212,4)))","--- na ---","¬IF(ISERROR(TRUNC(+CBM!G212,4))¬TRUE,\"\",TRUNC(+CBM!G212,4))","--- na ---","--- na ---","--- na ---","--- na ---","--- na ---","--- na ---","--- na ---","--- na ---","--- na ---","--- na ---","--- na ---"]
["CMQNT_14210","¬+'Cover Sheet'!$C$24","ENTITY_ID","¬+CBM!F213","¬TEXT(+'Cover Sheet'!C$22,\"yyyymmdd\")",14210,"--- na ---","¬IF(+CBM!H213¬\"--- na ---\",\"--- na ---\",IF(ISERROR(TRUNC(+CBM!H213,4))¬TRUE,\"\",TRUNC(+CBM!H213,4)))","--- na ---","¬IF(ISERROR(TRUNC(+CBM!G213,4))¬TRUE,\"\",TRUNC(+CBM!G213,4))","--- na ---","--- na ---","--- na ---","--- na ---","--- na ---","--- na ---","--- na ---","--- na ---","--- na ---","--- na ---","--- na ---"]
["CMQNT_14210","¬+'Cover Sheet'!$C$24","ENTITY_ID","¬+CBM!F214","¬TEXT(+'Cover Sheet'!C$22,\"yyyymmdd\")",14210,"--- na ---","¬IF(+CBM!H214¬\"--- na ---\",\"--- na ---\",IF(ISERROR(TRUNC(+CBM!H214,4))¬TRUE,\"\",TRUNC(+CBM!H214,4)))","--- na ---","¬IF(ISERROR(TRUNC(+CBM!G214,4))¬TRUE,\"\",TRUNC(+CBM!G214,4))","--- na ---","--- na ---","--- na ---","--- na ---","--- na ---","--- na ---","--- na ---","--- na ---","--- na ---","--- na ---","--- na ---"]
["CMQNT_14210","¬+'Cover Sheet'!$C$24","ENTITY_ID","¬+CBM!F215","¬TEXT(+'Cover Sheet'!C$22,\"yyyymmdd\")",14210,"--- na ---","¬IF(+CBM!H215¬\"--- na ---\",\"--- na ---\",IF(ISERROR(TRUNC(+CBM!H215,4))¬TRUE,\"\",TRUNC(+CBM!H215,4)))","--- na ---","¬IF(ISERROR(TRUNC(+CBM!G215,4))¬TRUE,\"\",TRUNC(+CBM!G215,4))","--- na ---","--- na ---","--- na ---","--- na ---","--- na ---","--- na ---","--- na ---","--- na ---","--- na ---","--- na ---","--- na ---"]
["CMQNT_14210","¬+'Cover Sheet'!$C$24","ENTITY_ID","¬+CBM!F216","¬TEXT(+'Cover Sheet'!C$22,\"yyyymmdd\")",14210,"--- na ---","¬IF(+CBM!H216¬\"--- na ---\",\"--- na ---\",IF(ISERROR(TRUNC(+CBM!H216,4))¬TRUE,\"\",TRUNC(+CBM!H216,4)))","--- na ---","¬IF(ISERROR(TRUNC(+CBM!G216,4))¬TRUE,\"\",TRUNC(+CBM!G216,4))","--- na ---","--- na ---","--- na ---","--- na ---","--- na ---","--- na ---","--- na ---","--- na ---","--- na ---","--- na ---","--- na ---"]
["CMQNT_14210","¬+'Cover Sheet'!$C$24","ENTITY_ID","¬+CBM!F217","¬TEXT(+'Cover Sheet'!C$22,\"yyyymmdd\")",14210,"--- na ---","¬IF(+CBM!H217¬\"--- na ---\",\"--- na ---\",IF(ISERROR(TRUNC(+CBM!H217,4))¬TRUE,\"\",TRUNC(+CBM!H217,4)))","--- na ---","¬IF(ISERROR(TRUNC(+CBM!G217,4))¬TRUE,\"\",TRUNC(+CBM!G217,4))","--- na ---","--- na ---","--- na ---","--- na ---","--- na ---","--- na ---","--- na ---","--- na ---","--- na ---","--- na ---","--- na ---"]
["CMQNT_14210","¬+'Cover Sheet'!$C$24","ENTITY_ID","¬+CBM!F218","¬TEXT(+'Cover Sheet'!C$22,\"yyyymmdd\")",14210,"--- na ---","¬IF(+CBM!H218¬\"--- na ---\",\"--- na ---\",IF(ISERROR(TRUNC(+CBM!H218,4))¬TRUE,\"\",TRUNC(+CBM!H218,4)))","--- na ---","¬IF(ISERROR(TRUNC(+CBM!G218,4))¬TRUE,\"\",TRUNC(+CBM!G218,4))","--- na ---","--- na ---","--- na ---","--- na ---","--- na ---","--- na ---","--- na ---","--- na ---","--- na ---","--- na ---","--- na ---"]
["CMQNT_14210","¬+'Cover Sheet'!$C$24","ENTITY_ID","¬+CBM!F219","¬TEXT(+'Cover Sheet'!C$22,\"yyyymmdd\")",14210,"--- na ---","¬IF(+CBM!H219¬\"--- na ---\",\"--- na ---\",IF(ISERROR(TRUNC(+CBM!H219,4))¬TRUE,\"\",TRUNC(+CBM!H219,4)))","--- na ---","¬IF(ISERROR(TRUNC(+CBM!G219,4))¬TRUE,\"\",TRUNC(+CBM!G219,4))","--- na ---","--- na ---","--- na ---","--- na ---","--- na ---","--- na ---","--- na ---","--- na ---","--- na ---","--- na ---","--- na ---"]
["CMQNT_14220","¬+'Cover Sheet'!$C$24","ENTITY_ID","W1","¬TEXT(+'Cover Sheet'!C$22,\"yyyymmdd\")",14220,"--- na ---","¬IF(+CBM!H220¬\"--- na ---\",\"--- na ---\",IF(ISERROR(TRUNC(+CBM!H220,4))¬TRUE,\"\",TRUNC(+CBM!H220,4)))","--- na ---","¬IF(ISERROR(TRUNC(+CBM!G220,4))¬TRUE,\"\",TRUNC(+CBM!G220,4))","--- na ---","--- na ---","--- na ---","--- na ---","--- na ---","--- na ---","--- na ---","--- na ---","--- na ---","--- na ---","--- na ---"]
["CMQNT_14220","¬+'Cover Sheet'!$C$24","ENTITY_ID","¬+CBM!F221","¬TEXT(+'Cover Sheet'!C$22,\"yyyymmdd\")",14220,"--- na ---","¬IF(+CBM!H221¬\"--- na ---\",\"--- na ---\",IF(ISERROR(TRUNC(+CBM!H221,4))¬TRUE,\"\",TRUNC(+CBM!H221,4)))","--- na ---","¬IF(ISERROR(TRUNC(+CBM!G221,4))¬TRUE,\"\",TRUNC(+CBM!G221,4))","--- na ---","--- na ---","--- na ---","--- na ---","--- na ---","--- na ---","--- na ---","--- na ---","--- na ---","--- na ---","--- na ---"]
["CMQNT_14220","¬+'Cover Sheet'!$C$24","ENTITY_ID","¬+CBM!F222","¬TEXT(+'Cover Sheet'!C$22,\"yyyymmdd\")",14220,"--- na ---","¬IF(+CBM!H222¬\"--- na ---\",\"--- na ---\",IF(ISERROR(TRUNC(+CBM!H222,4))¬TRUE,\"\",TRUNC(+CBM!H222,4)))","--- na ---","¬IF(ISERROR(TRUNC(+CBM!G222,4))¬TRUE,\"\",TRUNC(+CBM!G222,4))","--- na ---","--- na ---","--- na ---","--- na ---","--- na ---","--- na ---","--- na ---","--- na ---","--- na ---","--- na ---","--- na ---"]
["CMQNT_14220","¬+'Cover Sheet'!$C$24","ENTITY_ID","¬+CBM!F223","¬TEXT(+'Cover Sheet'!C$22,\"yyyymmdd\")",14220,"--- na ---","¬IF(+CBM!H223¬\"--- na ---\",\"--- na ---\",IF(ISERROR(TRUNC(+CBM!H223,4))¬TRUE,\"\",TRUNC(+CBM!H223,4)))","--- na ---","¬IF(ISERROR(TRUNC(+CBM!G223,4))¬TRUE,\"\",TRUNC(+CBM!G223,4))","--- na ---","--- na ---","--- na ---","--- na ---","--- na ---","--- na ---","--- na ---","--- na ---","--- na ---","--- na ---","--- na ---"]
["CMQNT_14220","¬+'Cover Sheet'!$C$24","ENTITY_ID","¬+CBM!F224","¬TEXT(+'Cover Sheet'!C$22,\"yyyymmdd\")",14220,"--- na ---","¬IF(+CBM!H224¬\"--- na ---\",\"--- na ---\",IF(ISERROR(TRUNC(+CBM!H224,4))¬TRUE,\"\",TRUNC(+CBM!H224,4)))","--- na ---","¬IF(ISERROR(TRUNC(+CBM!G224,4))¬TRUE,\"\",TRUNC(+CBM!G224,4))","--- na ---","--- na ---","--- na ---","--- na ---","--- na ---","--- na ---","--- na ---","--- na ---","--- na ---","--- na ---","--- na ---"]
["CMQNT_14220","¬+'Cover Sheet'!$C$24","ENTITY_ID","¬+CBM!F225","¬TEXT(+'Cover Sheet'!C$22,\"yyyymmdd\")",14220,"--- na ---","¬IF(+CBM!H225¬\"--- na ---\",\"--- na ---\",IF(ISERROR(TRUNC(+CBM!H225,4))¬TRUE,\"\",TRUNC(+CBM!H225,4)))","--- na ---","¬IF(ISERROR(TRUNC(+CBM!G225,4))¬TRUE,\"\",TRUNC(+CBM!G225,4))","--- na ---","--- na ---","--- na ---","--- na ---","--- na ---","--- na ---","--- na ---","--- na ---","--- na ---","--- na ---","--- na ---"]
["CMQNT_14220","¬+'Cover Sheet'!$C$24","ENTITY_ID","¬+CBM!F226","¬TEXT(+'Cover Sheet'!C$22,\"yyyymmdd\")",14220,"--- na ---","¬IF(+CBM!H226¬\"--- na ---\",\"--- na ---\",IF(ISERROR(TRUNC(+CBM!H226,4))¬TRUE,\"\",TRUNC(+CBM!H226,4)))","--- na ---","¬IF(ISERROR(TRUNC(+CBM!G226,4))¬TRUE,\"\",TRUNC(+CBM!G226,4))","--- na ---","--- na ---","--- na ---","--- na ---","--- na ---","--- na ---","--- na ---","--- na ---","--- na ---","--- na ---","--- na ---"]
["CMQNT_14220","¬+'Cover Sheet'!$C$24","ENTITY_ID","¬+CBM!F227","¬TEXT(+'Cover Sheet'!C$22,\"yyyymmdd\")",14220,"--- na ---","¬IF(+CBM!H227¬\"--- na ---\",\"--- na ---\",IF(ISERROR(TRUNC(+CBM!H227,4))¬TRUE,\"\",TRUNC(+CBM!H227,4)))","--- na ---","¬IF(ISERROR(TRUNC(+CBM!G227,4))¬TRUE,\"\",TRUNC(+CBM!G227,4))","--- na ---","--- na ---","--- na ---","--- na ---","--- na ---","--- na ---","--- na ---","--- na ---","--- na ---","--- na ---","--- na ---"]
["CMQNT_14220","¬+'Cover Sheet'!$C$24","ENTITY_ID","¬+CBM!F228","¬TEXT(+'Cover Sheet'!C$22,\"yyyymmdd\")",14220,"--- na ---","¬IF(+CBM!H228¬\"--- na ---\",\"--- na ---\",IF(ISERROR(TRUNC(+CBM!H228,4))¬TRUE,\"\",TRUNC(+CBM!H228,4)))","--- na ---","¬IF(ISERROR(TRUNC(+CBM!G228,4))¬TRUE,\"\",TRUNC(+CBM!G228,4))","--- na ---","--- na ---","--- na ---","--- na ---","--- na ---","--- na ---","--- na ---","--- na ---","--- na ---","--- na ---","--- na ---"]
["CMQNT_14220","¬+'Cover Sheet'!$C$24","ENTITY_ID","¬+CBM!F229","¬TEXT(+'Cover Sheet'!C$22,\"yyyymmdd\")",14220,"--- na ---","¬IF(+CBM!H229¬\"--- na ---\",\"--- na ---\",IF(ISERROR(TRUNC(+CBM!H229,4))¬TRUE,\"\",TRUNC(+CBM!H229,4)))","--- na ---","¬IF(ISERROR(TRUNC(+CBM!G229,4))¬TRUE,\"\",TRUNC(+CBM!G229,4))","--- na ---","--- na ---","--- na ---","--- na ---","--- na ---","--- na ---","--- na ---","--- na ---","--- na ---","--- na ---","--- na ---"]
["CMQNT_14220","¬+'Cover Sheet'!$C$24","ENTITY_ID","¬+CBM!F230","¬TEXT(+'Cover Sheet'!C$22,\"yyyymmdd\")",14220,"--- na ---","¬IF(+CBM!H230¬\"--- na ---\",\"--- na ---\",IF(ISERROR(TRUNC(+CBM!H230,4))¬TRUE,\"\",TRUNC(+CBM!H230,4)))","--- na ---","¬IF(ISERROR(TRUNC(+CBM!G230,4))¬TRUE,\"\",TRUNC(+CBM!G230,4))","--- na ---","--- na ---","--- na ---","--- na ---","--- na ---","--- na ---","--- na ---","--- na ---","--- na ---","--- na ---","--- na ---"]
["CMQNT_14220","¬+'Cover Sheet'!$C$24","ENTITY_ID","¬+CBM!F231","¬TEXT(+'Cover Sheet'!C$22,\"yyyymmdd\")",14220,"--- na ---","¬IF(+CBM!H231¬\"--- na ---\",\"--- na ---\",IF(ISERROR(TRUNC(+CBM!H231,4))¬TRUE,\"\",TRUNC(+CBM!H231,4)))","--- na ---","¬IF(ISERROR(TRUNC(+CBM!G231,4))¬TRUE,\"\",TRUNC(+CBM!G231,4))","--- na ---","--- na ---","--- na ---","--- na ---","--- na ---","--- na ---","--- na ---","--- na ---","--- na ---","--- na ---","--- na ---"]
["CMQNT_14220","¬+'Cover Sheet'!$C$24","ENTITY_ID","¬+CBM!F232","¬TEXT(+'Cover Sheet'!C$22,\"yyyymmdd\")",14220,"--- na ---","¬IF(+CBM!H232¬\"--- na ---\",\"--- na ---\",IF(ISERROR(TRUNC(+CBM!H232,4))¬TRUE,\"\",TRUNC(+CBM!H232,4)))","--- na ---","¬IF(ISERROR(TRUNC(+CBM!G232,4))¬TRUE,\"\",TRUNC(+CBM!G232,4))","--- na ---","--- na ---","--- na ---","--- na ---","--- na ---","--- na ---","--- na ---","--- na ---","--- na ---","--- na ---","--- na ---"]
["CMQNT_14220","¬+'Cover Sheet'!$C$24","ENTITY_ID","¬+CBM!F233","¬TEXT(+'Cover Sheet'!C$22,\"yyyymmdd\")",14220,"--- na ---","¬IF(+CBM!H233¬\"--- na ---\",\"--- na ---\",IF(ISERROR(TRUNC(+CBM!H233,4))¬TRUE,\"\",TRUNC(+CBM!H233,4)))","--- na ---","¬IF(ISERROR(TRUNC(+CBM!G233,4))¬TRUE,\"\",TRUNC(+CBM!G233,4))","--- na ---","--- na ---","--- na ---","--- na ---","--- na ---","--- na ---","--- na ---","--- na ---","--- na ---","--- na ---","--- na ---"]
["CMQNT_14220","¬+'Cover Sheet'!$C$24","ENTITY_ID","¬+CBM!F234","¬TEXT(+'Cover Sheet'!C$22,\"yyyymmdd\")",14220,"--- na ---","¬IF(+CBM!H234¬\"--- na ---\",\"--- na ---\",IF(ISERROR(TRUNC(+CBM!H234,4))¬TRUE,\"\",TRUNC(+CBM!H234,4)))","--- na ---","¬IF(ISERROR(TRUNC(+CBM!G234,4))¬TRUE,\"\",TRUNC(+CBM!G234,4))","--- na ---","--- na ---","--- na ---","--- na ---","--- na ---","--- na ---","--- na ---","--- na ---","--- na ---","--- na ---","--- na ---"]
["CMQNT_14220","¬+'Cover Sheet'!$C$24","ENTITY_ID","¬+CBM!F235","¬TEXT(+'Cover Sheet'!C$22,\"yyyymmdd\")",14220,"--- na ---","¬IF(+CBM!H235¬\"--- na ---\",\"--- na ---\",IF(ISERROR(TRUNC(+CBM!H235,4))¬TRUE,\"\",TRUNC(+CBM!H235,4)))","--- na ---","¬IF(ISERROR(TRUNC(+CBM!G235,4))¬TRUE,\"\",TRUNC(+CBM!G235,4))","--- na ---","--- na ---","--- na ---","--- na ---","--- na ---","--- na ---","--- na ---","--- na ---","--- na ---","--- na ---","--- na ---"]
["CMQNT_14220","¬+'Cover Sheet'!$C$24","ENTITY_ID","¬+CBM!F236","¬TEXT(+'Cover Sheet'!C$22,\"yyyymmdd\")",14220,"--- na ---","¬IF(+CBM!H236¬\"--- na ---\",\"--- na ---\",IF(ISERROR(TRUNC(+CBM!H236,4))¬TRUE,\"\",TRUNC(+CBM!H236,4)))","--- na ---","¬IF(ISERROR(TRUNC(+CBM!G236,4))¬TRUE,\"\",TRUNC(+CBM!G236,4))","--- na ---","--- na ---","--- na ---","--- na ---","--- na ---","--- na ---","--- na ---","--- na ---","--- na ---","--- na ---","--- na ---"]
["CMQNT_14220","¬+'Cover Sheet'!$C$24","ENTITY_ID","¬+CBM!F237","¬TEXT(+'Cover Sheet'!C$22,\"yyyymmdd\")",14220,"--- na ---","¬IF(+CBM!H237¬\"--- na ---\",\"--- na ---\",IF(ISERROR(TRUNC(+CBM!H237,4))¬TRUE,\"\",TRUNC(+CBM!H237,4)))","--- na ---","¬IF(ISERROR(TRUNC(+CBM!G237,4))¬TRUE,\"\",TRUNC(+CBM!G237,4))","--- na ---","--- na ---","--- na ---","--- na ---","--- na ---","--- na ---","--- na ---","--- na ---","--- na ---","--- na ---","--- na ---"]
["CMQNT_14220","¬+'Cover Sheet'!$C$24","ENTITY_ID","¬+CBM!F238","¬TEXT(+'Cover Sheet'!C$22,\"yyyymmdd\")",14220,"--- na ---","¬IF(+CBM!H238¬\"--- na ---\",\"--- na ---\",IF(ISERROR(TRUNC(+CBM!H238,4))¬TRUE,\"\",TRUNC(+CBM!H238,4)))","--- na ---","¬IF(ISERROR(TRUNC(+CBM!G238,4))¬TRUE,\"\",TRUNC(+CBM!G238,4))","--- na ---","--- na ---","--- na ---","--- na ---","--- na ---","--- na ---","--- na ---","--- na ---","--- na ---","--- na ---","--- na ---"]
["CMQNT_14220","¬+'Cover Sheet'!$C$24","ENTITY_ID","¬+CBM!F239","¬TEXT(+'Cover Sheet'!C$22,\"yyyymmdd\")",14220,"--- na ---","¬IF(+CBM!H239¬\"--- na ---\",\"--- na ---\",IF(ISERROR(TRUNC(+CBM!H239,4))¬TRUE,\"\",TRUNC(+CBM!H239,4)))","--- na ---","¬IF(ISERROR(TRUNC(+CBM!G239,4))¬TRUE,\"\",TRUNC(+CBM!G239,4))","--- na ---","--- na ---","--- na ---","--- na ---","--- na ---","--- na ---","--- na ---","--- na ---","--- na ---","--- na ---","--- na ---"]
["CMQNT_14220","¬+'Cover Sheet'!$C$24","ENTITY_ID","¬+CBM!F240","¬TEXT(+'Cover Sheet'!C$22,\"yyyymmdd\")",14220,"--- na ---","¬IF(+CBM!H240¬\"--- na ---\",\"--- na ---\",IF(ISERROR(TRUNC(+CBM!H240,4))¬TRUE,\"\",TRUNC(+CBM!H240,4)))","--- na ---","¬IF(ISERROR(TRUNC(+CBM!G240,4))¬TRUE,\"\",TRUNC(+CBM!G240,4))","--- na ---","--- na ---","--- na ---","--- na ---","--- na ---","--- na ---","--- na ---","--- na ---","--- na ---","--- na ---","--- na ---"]
["CMQNT_14220","¬+'Cover Sheet'!$C$24","ENTITY_ID","¬+CBM!F241","¬TEXT(+'Cover Sheet'!C$22,\"yyyymmdd\")",14220,"--- na ---","¬IF(+CBM!H241¬\"--- na ---\",\"--- na ---\",IF(ISERROR(TRUNC(+CBM!H241,4))¬TRUE,\"\",TRUNC(+CBM!H241,4)))","--- na ---","¬IF(ISERROR(TRUNC(+CBM!G241,4))¬TRUE,\"\",TRUNC(+CBM!G241,4))","--- na ---","--- na ---","--- na ---","--- na ---","--- na ---","--- na ---","--- na ---","--- na ---","--- na ---","--- na ---","--- na ---"]
["CMQNT_14220","¬+'Cover Sheet'!$C$24","ENTITY_ID","¬+CBM!F242","¬TEXT(+'Cover Sheet'!C$22,\"yyyymmdd\")",14220,"--- na ---","¬IF(+CBM!H242¬\"--- na ---\",\"--- na ---\",IF(ISERROR(TRUNC(+CBM!H242,4))¬TRUE,\"\",TRUNC(+CBM!H242,4)))","--- na ---","¬IF(ISERROR(TRUNC(+CBM!G242,4))¬TRUE,\"\",TRUNC(+CBM!G242,4))","--- na ---","--- na ---","--- na ---","--- na ---","--- na ---","--- na ---","--- na ---","--- na ---","--- na ---","--- na ---","--- na ---"]
["CMQNT_14220","¬+'Cover Sheet'!$C$24","ENTITY_ID","¬+CBM!F243","¬TEXT(+'Cover Sheet'!C$22,\"yyyymmdd\")",14220,"--- na ---","¬IF(+CBM!H243¬\"--- na ---\",\"--- na ---\",IF(ISERROR(TRUNC(+CBM!H243,4))¬TRUE,\"\",TRUNC(+CBM!H243,4)))","--- na ---","¬IF(ISERROR(TRUNC(+CBM!G243,4))¬TRUE,\"\",TRUNC(+CBM!G243,4))","--- na ---","--- na ---","--- na ---","--- na ---","--- na ---","--- na ---","--- na ---","--- na ---","--- na ---","--- na ---","--- na ---"]
["CMQNT_14220","¬+'Cover Sheet'!$C$24","ENTITY_ID","¬+CBM!F244","¬TEXT(+'Cover Sheet'!C$22,\"yyyymmdd\")",14220,"--- na ---","¬IF(+CBM!H244¬\"--- na ---\",\"--- na ---\",IF(ISERROR(TRUNC(+CBM!H244,4))¬TRUE,\"\",TRUNC(+CBM!H244,4)))","--- na ---","¬IF(ISERROR(TRUNC(+CBM!G244,4))¬TRUE,\"\",TRUNC(+CBM!G244,4))","--- na ---","--- na ---","--- na ---","--- na ---","--- na ---","--- na ---","--- na ---","--- na ---","--- na ---","--- na ---","--- na ---"]
["CMQNT_14220","¬+'Cover Sheet'!$C$24","ENTITY_ID","¬+CBM!F245","¬TEXT(+'Cover Sheet'!C$22,\"yyyymmdd\")",14220,"--- na ---","¬IF(+CBM!H245¬\"--- na ---\",\"--- na ---\",IF(ISERROR(TRUNC(+CBM!H245,4))¬TRUE,\"\",TRUNC(+CBM!H245,4)))","--- na ---","¬IF(ISERROR(TRUNC(+CBM!G245,4))¬TRUE,\"\",TRUNC(+CBM!G245,4))","--- na ---","--- na ---","--- na ---","--- na ---","--- na ---","--- na ---","--- na ---","--- na ---","--- na ---","--- na ---","--- na ---"]
["CMQNT_14220","¬+'Cover Sheet'!$C$24","ENTITY_ID","¬+CBM!F246","¬TEXT(+'Cover Sheet'!C$22,\"yyyymmdd\")",14220,"--- na ---","¬IF(+CBM!H246¬\"--- na ---\",\"--- na ---\",IF(ISERROR(TRUNC(+CBM!H246,4))¬TRUE,\"\",TRUNC(+CBM!H246,4)))","--- na ---","¬IF(ISERROR(TRUNC(+CBM!G246,4))¬TRUE,\"\",TRUNC(+CBM!G246,4))","--- na ---","--- na ---","--- na ---","--- na ---","--- na ---","--- na ---","--- na ---","--- na ---","--- na ---","--- na ---","--- na ---"]
["CMQNT_14220","¬+'Cover Sheet'!$C$24","ENTITY_ID","¬+CBM!F247","¬TEXT(+'Cover Sheet'!C$22,\"yyyymmdd\")",14220,"--- na ---","¬IF(+CBM!H247¬\"--- na ---\",\"--- na ---\",IF(ISERROR(TRUNC(+CBM!H247,4))¬TRUE,\"\",TRUNC(+CBM!H247,4)))","--- na ---","¬IF(ISERROR(TRUNC(+CBM!G247,4))¬TRUE,\"\",TRUNC(+CBM!G247,4))","--- na ---","--- na ---","--- na ---","--- na ---","--- na ---","--- na ---","--- na ---","--- na ---","--- na ---","--- na ---","--- na ---"]
["CMQNT_14220","¬+'Cover Sheet'!$C$24","ENTITY_ID","¬+CBM!F248","¬TEXT(+'Cover Sheet'!C$22,\"yyyymmdd\")",14220,"--- na ---","¬IF(+CBM!H248¬\"--- na ---\",\"--- na ---\",IF(ISERROR(TRUNC(+CBM!H248,4))¬TRUE,\"\",TRUNC(+CBM!H248,4)))","--- na ---","¬IF(ISERROR(TRUNC(+CBM!G248,4))¬TRUE,\"\",TRUNC(+CBM!G248,4))","--- na ---","--- na ---","--- na ---","--- na ---","--- na ---","--- na ---","--- na ---","--- na ---","--- na ---","--- na ---","--- na ---"]
["CMQNT_14220","¬+'Cover Sheet'!$C$24","ENTITY_ID","¬+CBM!F249","¬TEXT(+'Cover Sheet'!C$22,\"yyyymmdd\")",14220,"--- na ---","¬IF(+CBM!H249¬\"--- na ---\",\"--- na ---\",IF(ISERROR(TRUNC(+CBM!H249,4))¬TRUE,\"\",TRUNC(+CBM!H249,4)))","--- na ---","¬IF(ISERROR(TRUNC(+CBM!G249,4))¬TRUE,\"\",TRUNC(+CBM!G249,4))","--- na ---","--- na ---","--- na ---","--- na ---","--- na ---","--- na ---","--- na ---","--- na ---","--- na ---","--- na ---","--- na ---"]
["CMQNT_14220","¬+'Cover Sheet'!$C$24","ENTITY_ID","¬+CBM!F250","¬TEXT(+'Cover Sheet'!C$22,\"yyyymmdd\")",14220,"--- na ---","¬IF(+CBM!H250¬\"--- na ---\",\"--- na ---\",IF(ISERROR(TRUNC(+CBM!H250,4))¬TRUE,\"\",TRUNC(+CBM!H250,4)))","--- na ---","¬IF(ISERROR(TRUNC(+CBM!G250,4))¬TRUE,\"\",TRUNC(+CBM!G250,4))","--- na ---","--- na ---","--- na ---","--- na ---","--- na ---","--- na ---","--- na ---","--- na ---","--- na ---","--- na ---","--- na ---"]
["CMQNT_14220","¬+'Cover Sheet'!$C$24","ENTITY_ID","¬+CBM!F251","¬TEXT(+'Cover Sheet'!C$22,\"yyyymmdd\")",14220,"--- na ---","¬IF(+CBM!H251¬\"--- na ---\",\"--- na ---\",IF(ISERROR(TRUNC(+CBM!H251,4))¬TRUE,\"\",TRUNC(+CBM!H251,4)))","--- na ---","¬IF(ISERROR(TRUNC(+CBM!G251,4))¬TRUE,\"\",TRUNC(+CBM!G251,4))","--- na ---","--- na ---","--- na ---","--- na ---","--- na ---","--- na ---","--- na ---","--- na ---","--- na ---","--- na ---","--- na ---"]
["CMQNT_14220","¬+'Cover Sheet'!$C$24","ENTITY_ID","¬+CBM!F252","¬TEXT(+'Cover Sheet'!C$22,\"yyyymmdd\")",14220,"--- na ---","¬IF(+CBM!H252¬\"--- na ---\",\"--- na ---\",IF(ISERROR(TRUNC(+CBM!H252,4))¬TRUE,\"\",TRUNC(+CBM!H252,4)))","--- na ---","¬IF(ISERROR(TRUNC(+CBM!G252,4))¬TRUE,\"\",TRUNC(+CBM!G252,4))","--- na ---","--- na ---","--- na ---","--- na ---","--- na ---","--- na ---","--- na ---","--- na ---","--- na ---","--- na ---","--- na ---"]
["CMQNT_14220","¬+'Cover Sheet'!$C$24","ENTITY_ID","¬+CBM!F253","¬TEXT(+'Cover Sheet'!C$22,\"yyyymmdd\")",14220,"--- na ---","¬IF(+CBM!H253¬\"--- na ---\",\"--- na ---\",IF(ISERROR(TRUNC(+CBM!H253,4))¬TRUE,\"\",TRUNC(+CBM!H253,4)))","--- na ---","¬IF(ISERROR(TRUNC(+CBM!G253,4))¬TRUE,\"\",TRUNC(+CBM!G253,4))","--- na ---","--- na ---","--- na ---","--- na ---","--- na ---","--- na ---","--- na ---","--- na ---","--- na ---","--- na ---","--- na ---"]
["CMQNT_14220","¬+'Cover Sheet'!$C$24","ENTITY_ID","¬+CBM!F254","¬TEXT(+'Cover Sheet'!C$22,\"yyyymmdd\")",14220,"--- na ---","¬IF(+CBM!H254¬\"--- na ---\",\"--- na ---\",IF(ISERROR(TRUNC(+CBM!H254,4))¬TRUE,\"\",TRUNC(+CBM!H254,4)))","--- na ---","¬IF(ISERROR(TRUNC(+CBM!G254,4))¬TRUE,\"\",TRUNC(+CBM!G254,4))","--- na ---","--- na ---","--- na ---","--- na ---","--- na ---","--- na ---","--- na ---","--- na ---","--- na ---","--- na ---","--- na ---"]
["CMQNT_14220","¬+'Cover Sheet'!$C$24","ENTITY_ID","¬+CBM!F255","¬TEXT(+'Cover Sheet'!C$22,\"yyyymmdd\")",14220,"--- na ---","¬IF(+CBM!H255¬\"--- na ---\",\"--- na ---\",IF(ISERROR(TRUNC(+CBM!H255,4))¬TRUE,\"\",TRUNC(+CBM!H255,4)))","--- na ---","¬IF(ISERROR(TRUNC(+CBM!G255,4))¬TRUE,\"\",TRUNC(+CBM!G255,4))","--- na ---","--- na ---","--- na ---","--- na ---","--- na ---","--- na ---","--- na ---","--- na ---","--- na ---","--- na ---","--- na ---"]
["CMQNT_14220","¬+'Cover Sheet'!$C$24","ENTITY_ID","¬+CBM!F256","¬TEXT(+'Cover Sheet'!C$22,\"yyyymmdd\")",14220,"--- na ---","¬IF(+CBM!H256¬\"--- na ---\",\"--- na ---\",IF(ISERROR(TRUNC(+CBM!H256,4))¬TRUE,\"\",TRUNC(+CBM!H256,4)))","--- na ---","¬IF(ISERROR(TRUNC(+CBM!G256,4))¬TRUE,\"\",TRUNC(+CBM!G256,4))","--- na ---","--- na ---","--- na ---","--- na ---","--- na ---","--- na ---","--- na ---","--- na ---","--- na ---","--- na ---","--- na ---"]
["CMQNT_14220","¬+'Cover Sheet'!$C$24","ENTITY_ID","¬+CBM!F257","¬TEXT(+'Cover Sheet'!C$22,\"yyyymmdd\")",14220,"--- na ---","¬IF(+CBM!H257¬\"--- na ---\",\"--- na ---\",IF(ISERROR(TRUNC(+CBM!H257,4))¬TRUE,\"\",TRUNC(+CBM!H257,4)))","--- na ---","¬IF(ISERROR(TRUNC(+CBM!G257,4))¬TRUE,\"\",TRUNC(+CBM!G257,4))","--- na ---","--- na ---","--- na ---","--- na ---","--- na ---","--- na ---","--- na ---","--- na ---","--- na ---","--- na ---","--- na ---"]
["CMQNT_14220","¬+'Cover Sheet'!$C$24","ENTITY_ID","¬+CBM!F258","¬TEXT(+'Cover Sheet'!C$22,\"yyyymmdd\")",14220,"--- na ---","¬IF(+CBM!H258¬\"--- na ---\",\"--- na ---\",IF(ISERROR(TRUNC(+CBM!H258,4))¬TRUE,\"\",TRUNC(+CBM!H258,4)))","--- na ---","¬IF(ISERROR(TRUNC(+CBM!G258,4))¬TRUE,\"\",TRUNC(+CBM!G258,4))","--- na ---","--- na ---","--- na ---","--- na ---","--- na ---","--- na ---","--- na ---","--- na ---","--- na ---","--- na ---","--- na ---"]
["CMQNT_14220","¬+'Cover Sheet'!$C$24","ENTITY_ID","¬+CBM!F259","¬TEXT(+'Cover Sheet'!C$22,\"yyyymmdd\")",14220,"--- na ---","¬IF(+CBM!H259¬\"--- na ---\",\"--- na ---\",IF(ISERROR(TRUNC(+CBM!H259,4))¬TRUE,\"\",TRUNC(+CBM!H259,4)))","--- na ---","¬IF(ISERROR(TRUNC(+CBM!G259,4))¬TRUE,\"\",TRUNC(+CBM!G259,4))","--- na ---","--- na ---","--- na ---","--- na ---","--- na ---","--- na ---","--- na ---","--- na ---","--- na ---","--- na ---","--- na ---"]
["CMQNT_14220","¬+'Cover Sheet'!$C$24","ENTITY_ID","¬+CBM!F260","¬TEXT(+'Cover Sheet'!C$22,\"yyyymmdd\")",14220,"--- na ---","¬IF(+CBM!H260¬\"--- na ---\",\"--- na ---\",IF(ISERROR(TRUNC(+CBM!H260,4))¬TRUE,\"\",TRUNC(+CBM!H260,4)))","--- na ---","¬IF(ISERROR(TRUNC(+CBM!G260,4))¬TRUE,\"\",TRUNC(+CBM!G260,4))","--- na ---","--- na ---","--- na ---","--- na ---","--- na ---","--- na ---","--- na ---","--- na ---","--- na ---","--- na ---","--- na ---"]
["CMQNT_14220","¬+'Cover Sheet'!$C$24","ENTITY_ID","¬+CBM!F261","¬TEXT(+'Cover Sheet'!C$22,\"yyyymmdd\")",14220,"--- na ---","¬IF(+CBM!H261¬\"--- na ---\",\"--- na ---\",IF(ISERROR(TRUNC(+CBM!H261,4))¬TRUE,\"\",TRUNC(+CBM!H261,4)))","--- na ---","¬IF(ISERROR(TRUNC(+CBM!G261,4))¬TRUE,\"\",TRUNC(+CBM!G261,4))","--- na ---","--- na ---","--- na ---","--- na ---","--- na ---","--- na ---","--- na ---","--- na ---","--- na ---","--- na ---","--- na ---"]
["CMQNT_14220","¬+'Cover Sheet'!$C$24","ENTITY_ID","¬+CBM!F262","¬TEXT(+'Cover Sheet'!C$22,\"yyyymmdd\")",14220,"--- na ---","¬IF(+CBM!H262¬\"--- na ---\",\"--- na ---\",IF(ISERROR(TRUNC(+CBM!H262,4))¬TRUE,\"\",TRUNC(+CBM!H262,4)))","--- na ---","¬IF(ISERROR(TRUNC(+CBM!G262,4))¬TRUE,\"\",TRUNC(+CBM!G262,4))","--- na ---","--- na ---","--- na ---","--- na ---","--- na ---","--- na ---","--- na ---","--- na ---","--- na ---","--- na ---","--- na ---"]
["CMQNT_14220","¬+'Cover Sheet'!$C$24","ENTITY_ID","¬+CBM!F263","¬TEXT(+'Cover Sheet'!C$22,\"yyyymmdd\")",14220,"--- na ---","¬IF(+CBM!H263¬\"--- na ---\",\"--- na ---\",IF(ISERROR(TRUNC(+CBM!H263,4))¬TRUE,\"\",TRUNC(+CBM!H263,4)))","--- na ---","¬IF(ISERROR(TRUNC(+CBM!G263,4))¬TRUE,\"\",TRUNC(+CBM!G263,4))","--- na ---","--- na ---","--- na ---","--- na ---","--- na ---","--- na ---","--- na ---","--- na ---","--- na ---","--- na ---","--- na ---"]
["CMQNT_14220","¬+'Cover Sheet'!$C$24","ENTITY_ID","¬+CBM!F264","¬TEXT(+'Cover Sheet'!C$22,\"yyyymmdd\")",14220,"--- na ---","¬IF(+CBM!H264¬\"--- na ---\",\"--- na ---\",IF(ISERROR(TRUNC(+CBM!H264,4))¬TRUE,\"\",TRUNC(+CBM!H264,4)))","--- na ---","¬IF(ISERROR(TRUNC(+CBM!G264,4))¬TRUE,\"\",TRUNC(+CBM!G264,4))","--- na ---","--- na ---","--- na ---","--- na ---","--- na ---","--- na ---","--- na ---","--- na ---","--- na ---","--- na ---","--- na ---"]
["CMQNT_14230","¬+'Cover Sheet'!$C$24","ENTITY_ID","W1","¬TEXT(+'Cover Sheet'!C$22,\"yyyymmdd\")",14230,"--- na ---","--- na ---","--- na ---","--- na ---","--- na ---","--- na ---","¬IF(ISERROR(TRUNC(+CBM!G266,4))¬TRUE,\"\",TRUNC(+CBM!G266,4))","¬IF(+CBM!H266¬\"--- na ---\",\"--- na ---\",IF(ISERROR(TRUNC(+CBM!H266,4))¬TRUE,\"\",TRUNC(+CBM!H266,4)))","--- na ---","--- na ---","--- na ---","--- na ---","--- na ---","--- na ---","--- na ---"]
["CMQNT_14230","¬+'Cover Sheet'!$C$24","ENTITY_ID","¬+CBM!F267","¬TEXT(+'Cover Sheet'!C$22,\"yyyymmdd\")",14230,"--- na ---","--- na ---","--- na ---","--- na ---","--- na ---","--- na ---","¬IF(ISERROR(TRUNC(+CBM!G267,4))¬TRUE,\"\",TRUNC(+CBM!G267,4))","¬IF(+CBM!H267¬\"--- na ---\",\"--- na ---\",IF(ISERROR(TRUNC(+CBM!H267,4))¬TRUE,\"\",TRUNC(+CBM!H267,4)))","--- na ---","--- na ---","--- na ---","--- na ---","--- na ---","--- na ---","--- na ---"]
["CMQNT_14230","¬+'Cover Sheet'!$C$24","ENTITY_ID","¬+CBM!F268","¬TEXT(+'Cover Sheet'!C$22,\"yyyymmdd\")",14230,"--- na ---","--- na ---","--- na ---","--- na ---","--- na ---","--- na ---","¬IF(ISERROR(TRUNC(+CBM!G268,4))¬TRUE,\"\",TRUNC(+CBM!G268,4))","¬IF(+CBM!H268¬\"--- na ---\",\"--- na ---\",IF(ISERROR(TRUNC(+CBM!H268,4))¬TRUE,\"\",TRUNC(+CBM!H268,4)))","--- na ---","--- na ---","--- na ---","--- na ---","--- na ---","--- na ---","--- na ---"]
["CMQNT_14230","¬+'Cover Sheet'!$C$24","ENTITY_ID","¬+CBM!F269","¬TEXT(+'Cover Sheet'!C$22,\"yyyymmdd\")",14230,"--- na ---","--- na ---","--- na ---","--- na ---","--- na ---","--- na ---","¬IF(ISERROR(TRUNC(+CBM!G269,4))¬TRUE,\"\",TRUNC(+CBM!G269,4))","¬IF(+CBM!H269¬\"--- na ---\",\"--- na ---\",IF(ISERROR(TRUNC(+CBM!H269,4))¬TRUE,\"\",TRUNC(+CBM!H269,4)))","--- na ---","--- na ---","--- na ---","--- na ---","--- na ---","--- na ---","--- na ---"]
["CMQNT_14230","¬+'Cover Sheet'!$C$24","ENTITY_ID","¬+CBM!F270","¬TEXT(+'Cover Sheet'!C$22,\"yyyymmdd\")",14230,"--- na ---","--- na ---","--- na ---","--- na ---","--- na ---","--- na ---","¬IF(ISERROR(TRUNC(+CBM!G270,4))¬TRUE,\"\",TRUNC(+CBM!G270,4))","¬IF(+CBM!H270¬\"--- na ---\",\"--- na ---\",IF(ISERROR(TRUNC(+CBM!H270,4))¬TRUE,\"\",TRUNC(+CBM!H270,4)))","--- na ---","--- na ---","--- na ---","--- na ---","--- na ---","--- na ---","--- na ---"]
["CMQNT_14230","¬+'Cover Sheet'!$C$24","ENTITY_ID","¬+CBM!F271","¬TEXT(+'Cover Sheet'!C$22,\"yyyymmdd\")",14230,"--- na ---","--- na ---","--- na ---","--- na ---","--- na ---","--- na ---","¬IF(ISERROR(TRUNC(+CBM!G271,4))¬TRUE,\"\",TRUNC(+CBM!G271,4))","¬IF(+CBM!H271¬\"--- na ---\",\"--- na ---\",IF(ISERROR(TRUNC(+CBM!H271,4))¬TRUE,\"\",TRUNC(+CBM!H271,4)))","--- na ---","--- na ---","--- na ---","--- na ---","--- na ---","--- na ---","--- na ---"]
["CMQNT_14230","¬+'Cover Sheet'!$C$24","ENTITY_ID","¬+CBM!F272","¬TEXT(+'Cover Sheet'!C$22,\"yyyymmdd\")",14230,"--- na ---","--- na ---","--- na ---","--- na ---","--- na ---","--- na ---","¬IF(ISERROR(TRUNC(+CBM!G272,4))¬TRUE,\"\",TRUNC(+CBM!G272,4))","¬IF(+CBM!H272¬\"--- na ---\",\"--- na ---\",IF(ISERROR(TRUNC(+CBM!H272,4))¬TRUE,\"\",TRUNC(+CBM!H272,4)))","--- na ---","--- na ---","--- na ---","--- na ---","--- na ---","--- na ---","--- na ---"]
["CMQNT_14230","¬+'Cover Sheet'!$C$24","ENTITY_ID","¬+CBM!F273","¬TEXT(+'Cover Sheet'!C$22,\"yyyymmdd\")",14230,"--- na ---","--- na ---","--- na ---","--- na ---","--- na ---","--- na ---","¬IF(ISERROR(TRUNC(+CBM!G273,4))¬TRUE,\"\",TRUNC(+CBM!G273,4))","¬IF(+CBM!H273¬\"--- na ---\",\"--- na ---\",IF(ISERROR(TRUNC(+CBM!H273,4))¬TRUE,\"\",TRUNC(+CBM!H273,4)))","--- na ---","--- na ---","--- na ---","--- na ---","--- na ---","--- na ---","--- na ---"]
["CMQNT_14230","¬+'Cover Sheet'!$C$24","ENTITY_ID","¬+CBM!F274","¬TEXT(+'Cover Sheet'!C$22,\"yyyymmdd\")",14230,"--- na ---","--- na ---","--- na ---","--- na ---","--- na ---","--- na ---","¬IF(ISERROR(TRUNC(+CBM!G274,4))¬TRUE,\"\",TRUNC(+CBM!G274,4))","¬IF(+CBM!H274¬\"--- na ---\",\"--- na ---\",IF(ISERROR(TRUNC(+CBM!H274,4))¬TRUE,\"\",TRUNC(+CBM!H274,4)))","--- na ---","--- na ---","--- na ---","--- na ---","--- na ---","--- na ---","--- na ---"]
["CMQNT_14230","¬+'Cover Sheet'!$C$24","ENTITY_ID","¬+CBM!F275","¬TEXT(+'Cover Sheet'!C$22,\"yyyymmdd\")",14230,"--- na ---","--- na ---","--- na ---","--- na ---","--- na ---","--- na ---","¬IF(ISERROR(TRUNC(+CBM!G275,4))¬TRUE,\"\",TRUNC(+CBM!G275,4))","¬IF(+CBM!H275¬\"--- na ---\",\"--- na ---\",IF(ISERROR(TRUNC(+CBM!H275,4))¬TRUE,\"\",TRUNC(+CBM!H275,4)))","--- na ---","--- na ---","--- na ---","--- na ---","--- na ---","--- na ---","--- na ---"]
["CMQNT_14230","¬+'Cover Sheet'!$C$24","ENTITY_ID","¬+CBM!F276","¬TEXT(+'Cover Sheet'!C$22,\"yyyymmdd\")",14230,"--- na ---","--- na ---","--- na ---","--- na ---","--- na ---","--- na ---","¬IF(ISERROR(TRUNC(+CBM!G276,4))¬TRUE,\"\",TRUNC(+CBM!G276,4))","¬IF(+CBM!H276¬\"--- na ---\",\"--- na ---\",IF(ISERROR(TRUNC(+CBM!H276,4))¬TRUE,\"\",TRUNC(+CBM!H276,4)))","--- na ---","--- na ---","--- na ---","--- na ---","--- na ---","--- na ---","--- na ---"]
["CMQNT_14230","¬+'Cover Sheet'!$C$24","ENTITY_ID","¬+CBM!F277","¬TEXT(+'Cover Sheet'!C$22,\"yyyymmdd\")",14230,"--- na ---","--- na ---","--- na ---","--- na ---","--- na ---","--- na ---","¬IF(ISERROR(TRUNC(+CBM!G277,4))¬TRUE,\"\",TRUNC(+CBM!G277,4))","¬IF(+CBM!H277¬\"--- na ---\",\"--- na ---\",IF(ISERROR(TRUNC(+CBM!H277,4))¬TRUE,\"\",TRUNC(+CBM!H277,4)))","--- na ---","--- na ---","--- na ---","--- na ---","--- na ---","--- na ---","--- na ---"]
["CMQNT_14230","¬+'Cover Sheet'!$C$24","ENTITY_ID","¬+CBM!F278","¬TEXT(+'Cover Sheet'!C$22,\"yyyymmdd\")",14230,"--- na ---","--- na ---","--- na ---","--- na ---","--- na ---","--- na ---","¬IF(ISERROR(TRUNC(+CBM!G278,4))¬TRUE,\"\",TRUNC(+CBM!G278,4))","¬IF(+CBM!H278¬\"--- na ---\",\"--- na ---\",IF(ISERROR(TRUNC(+CBM!H278,4))¬TRUE,\"\",TRUNC(+CBM!H278,4)))","--- na ---","--- na ---","--- na ---","--- na ---","--- na ---","--- na ---","--- na ---"]
["CMQNT_14230","¬+'Cover Sheet'!$C$24","ENTITY_ID","¬+CBM!F279","¬TEXT(+'Cover Sheet'!C$22,\"yyyymmdd\")",14230,"--- na ---","--- na ---","--- na ---","--- na ---","--- na ---","--- na ---","¬IF(ISERROR(TRUNC(+CBM!G279,4))¬TRUE,\"\",TRUNC(+CBM!G279,4))","¬IF(+CBM!H279¬\"--- na ---\",\"--- na ---\",IF(ISERROR(TRUNC(+CBM!H279,4))¬TRUE,\"\",TRUNC(+CBM!H279,4)))","--- na ---","--- na ---","--- na ---","--- na ---","--- na ---","--- na ---","--- na ---"]
["CMQNT_14230","¬+'Cover Sheet'!$C$24","ENTITY_ID","¬+CBM!F280","¬TEXT(+'Cover Sheet'!C$22,\"yyyymmdd\")",14230,"--- na ---","--- na ---","--- na ---","--- na ---","--- na ---","--- na ---","¬IF(ISERROR(TRUNC(+CBM!G280,4))¬TRUE,\"\",TRUNC(+CBM!G280,4))","¬IF(+CBM!H280¬\"--- na ---\",\"--- na ---\",IF(ISERROR(TRUNC(+CBM!H280,4))¬TRUE,\"\",TRUNC(+CBM!H280,4)))","--- na ---","--- na ---","--- na ---","--- na ---","--- na ---","--- na ---","--- na ---"]
["CMQNT_14230","¬+'Cover Sheet'!$C$24","ENTITY_ID","¬+CBM!F281","¬TEXT(+'Cover Sheet'!C$22,\"yyyymmdd\")",14230,"--- na ---","--- na ---","--- na ---","--- na ---","--- na ---","--- na ---","¬IF(ISERROR(TRUNC(+CBM!G281,4))¬TRUE,\"\",TRUNC(+CBM!G281,4))","¬IF(+CBM!H281¬\"--- na ---\",\"--- na ---\",IF(ISERROR(TRUNC(+CBM!H281,4))¬TRUE,\"\",TRUNC(+CBM!H281,4)))","--- na ---","--- na ---","--- na ---","--- na ---","--- na ---","--- na ---","--- na ---"]
["CMQNT_14230","¬+'Cover Sheet'!$C$24","ENTITY_ID","¬+CBM!F282","¬TEXT(+'Cover Sheet'!C$22,\"yyyymmdd\")",14230,"--- na ---","--- na ---","--- na ---","--- na ---","--- na ---","--- na ---","¬IF(ISERROR(TRUNC(+CBM!G282,4))¬TRUE,\"\",TRUNC(+CBM!G282,4))","¬IF(+CBM!H282¬\"--- na ---\",\"--- na ---\",IF(ISERROR(TRUNC(+CBM!H282,4))¬TRUE,\"\",TRUNC(+CBM!H282,4)))","--- na ---","--- na ---","--- na ---","--- na ---","--- na ---","--- na ---","--- na ---"]
["CMQNT_14230","¬+'Cover Sheet'!$C$24","ENTITY_ID","¬+CBM!F283","¬TEXT(+'Cover Sheet'!C$22,\"yyyymmdd\")",14230,"--- na ---","--- na ---","--- na ---","--- na ---","--- na ---","--- na ---","¬IF(ISERROR(TRUNC(+CBM!G283,4))¬TRUE,\"\",TRUNC(+CBM!G283,4))","¬IF(+CBM!H283¬\"--- na ---\",\"--- na ---\",IF(ISERROR(TRUNC(+CBM!H283,4))¬TRUE,\"\",TRUNC(+CBM!H283,4)))","--- na ---","--- na ---","--- na ---","--- na ---","--- na ---","--- na ---","--- na ---"]
["CMQNT_14230","¬+'Cover Sheet'!$C$24","ENTITY_ID","¬+CBM!F284","¬TEXT(+'Cover Sheet'!C$22,\"yyyymmdd\")",14230,"--- na ---","--- na ---","--- na ---","--- na ---","--- na ---","--- na ---","¬IF(ISERROR(TRUNC(+CBM!G284,4))¬TRUE,\"\",TRUNC(+CBM!G284,4))","¬IF(+CBM!H284¬\"--- na ---\",\"--- na ---\",IF(ISERROR(TRUNC(+CBM!H284,4))¬TRUE,\"\",TRUNC(+CBM!H284,4)))","--- na ---","--- na ---","--- na ---","--- na ---","--- na ---","--- na ---","--- na ---"]
["CMQNT_14230","¬+'Cover Sheet'!$C$24","ENTITY_ID","¬+CBM!F285","¬TEXT(+'Cover Sheet'!C$22,\"yyyymmdd\")",14230,"--- na ---","--- na ---","--- na ---","--- na ---","--- na ---","--- na ---","¬IF(ISERROR(TRUNC(+CBM!G285,4))¬TRUE,\"\",TRUNC(+CBM!G285,4))","¬IF(+CBM!H285¬\"--- na ---\",\"--- na ---\",IF(ISERROR(TRUNC(+CBM!H285,4))¬TRUE,\"\",TRUNC(+CBM!H285,4)))","--- na ---","--- na ---","--- na ---","--- na ---","--- na ---","--- na ---","--- na ---"]
["CMQNT_14230","¬+'Cover Sheet'!$C$24","ENTITY_ID","¬+CBM!F286","¬TEXT(+'Cover Sheet'!C$22,\"yyyymmdd\")",14230,"--- na ---","--- na ---","--- na ---","--- na ---","--- na ---","--- na ---","¬IF(ISERROR(TRUNC(+CBM!G286,4))¬TRUE,\"\",TRUNC(+CBM!G286,4))","¬IF(+CBM!H286¬\"--- na ---\",\"--- na ---\",IF(ISERROR(TRUNC(+CBM!H286,4))¬TRUE,\"\",TRUNC(+CBM!H286,4)))","--- na ---","--- na ---","--- na ---","--- na ---","--- na ---","--- na ---","--- na ---"]
["CMQNT_14230","¬+'Cover Sheet'!$C$24","ENTITY_ID","¬+CBM!F287","¬TEXT(+'Cover Sheet'!C$22,\"yyyymmdd\")",14230,"--- na ---","--- na ---","--- na ---","--- na ---","--- na ---","--- na ---","¬IF(ISERROR(TRUNC(+CBM!G287,4))¬TRUE,\"\",TRUNC(+CBM!G287,4))","¬IF(+CBM!H287¬\"--- na ---\",\"--- na ---\",IF(ISERROR(TRUNC(+CBM!H287,4))¬TRUE,\"\",TRUNC(+CBM!H287,4)))","--- na ---","--- na ---","--- na ---","--- na ---","--- na ---","--- na ---","--- na ---"]
["CMQNT_14230","¬+'Cover Sheet'!$C$24","ENTITY_ID","¬+CBM!F288","¬TEXT(+'Cover Sheet'!C$22,\"yyyymmdd\")",14230,"--- na ---","--- na ---","--- na ---","--- na ---","--- na ---","--- na ---","¬IF(ISERROR(TRUNC(+CBM!G288,4))¬TRUE,\"\",TRUNC(+CBM!G288,4))","¬IF(+CBM!H288¬\"--- na ---\",\"--- na ---\",IF(ISERROR(TRUNC(+CBM!H288,4))¬TRUE,\"\",TRUNC(+CBM!H288,4)))","--- na ---","--- na ---","--- na ---","--- na ---","--- na ---","--- na ---","--- na ---"]
["CMQNT_14230","¬+'Cover Sheet'!$C$24","ENTITY_ID","¬+CBM!F289","¬TEXT(+'Cover Sheet'!C$22,\"yyyymmdd\")",14230,"--- na ---","--- na ---","--- na ---","--- na ---","--- na ---","--- na ---","¬IF(ISERROR(TRUNC(+CBM!G289,4))¬TRUE,\"\",TRUNC(+CBM!G289,4))","¬IF(+CBM!H289¬\"--- na ---\",\"--- na ---\",IF(ISERROR(TRUNC(+CBM!H289,4))¬TRUE,\"\",TRUNC(+CBM!H289,4)))","--- na ---","--- na ---","--- na ---","--- na ---","--- na ---","--- na ---","--- na ---"]
["CMQNT_14230","¬+'Cover Sheet'!$C$24","ENTITY_ID","¬+CBM!F290","¬TEXT(+'Cover Sheet'!C$22,\"yyyymmdd\")",14230,"--- na ---","--- na ---","--- na ---","--- na ---","--- na ---","--- na ---","¬IF(ISERROR(TRUNC(+CBM!G290,4))¬TRUE,\"\",TRUNC(+CBM!G290,4))","¬IF(+CBM!H290¬\"--- na ---\",\"--- na ---\",IF(ISERROR(TRUNC(+CBM!H290,4))¬TRUE,\"\",TRUNC(+CBM!H290,4)))","--- na ---","--- na ---","--- na ---","--- na ---","--- na ---","--- na ---","--- na ---"]
["CMQNT_14230","¬+'Cover Sheet'!$C$24","ENTITY_ID","¬+CBM!F291","¬TEXT(+'Cover Sheet'!C$22,\"yyyymmdd\")",14230,"--- na ---","--- na ---","--- na ---","--- na ---","--- na ---","--- na ---","¬IF(ISERROR(TRUNC(+CBM!G291,4))¬TRUE,\"\",TRUNC(+CBM!G291,4))","¬IF(+CBM!H291¬\"--- na ---\",\"--- na ---\",IF(ISERROR(TRUNC(+CBM!H291,4))¬TRUE,\"\",TRUNC(+CBM!H291,4)))","--- na ---","--- na ---","--- na ---","--- na ---","--- na ---","--- na ---","--- na ---"]
["CMQNT_14230","¬+'Cover Sheet'!$C$24","ENTITY_ID","¬+CBM!F292","¬TEXT(+'Cover Sheet'!C$22,\"yyyymmdd\")",14230,"--- na ---","--- na ---","--- na ---","--- na ---","--- na ---","--- na ---","¬IF(ISERROR(TRUNC(+CBM!G292,4))¬TRUE,\"\",TRUNC(+CBM!G292,4))","¬IF(+CBM!H292¬\"--- na ---\",\"--- na ---\",IF(ISERROR(TRUNC(+CBM!H292,4))¬TRUE,\"\",TRUNC(+CBM!H292,4)))","--- na ---","--- na ---","--- na ---","--- na ---","--- na ---","--- na ---","--- na ---"]
["CMQNT_14230","¬+'Cover Sheet'!$C$24","ENTITY_ID","¬+CBM!F293","¬TEXT(+'Cover Sheet'!C$22,\"yyyymmdd\")",14230,"--- na ---","--- na ---","--- na ---","--- na ---","--- na ---","--- na ---","¬IF(ISERROR(TRUNC(+CBM!G293,4))¬TRUE,\"\",TRUNC(+CBM!G293,4))","¬IF(+CBM!H293¬\"--- na ---\",\"--- na ---\",IF(ISERROR(TRUNC(+CBM!H293,4))¬TRUE,\"\",TRUNC(+CBM!H293,4)))","--- na ---","--- na ---","--- na ---","--- na ---","--- na ---","--- na ---","--- na ---"]
["CMQNT_14230","¬+'Cover Sheet'!$C$24","ENTITY_ID","¬+CBM!F294","¬TEXT(+'Cover Sheet'!C$22,\"yyyymmdd\")",14230,"--- na ---","--- na ---","--- na ---","--- na ---","--- na ---","--- na ---","¬IF(ISERROR(TRUNC(+CBM!G294,4))¬TRUE,\"\",TRUNC(+CBM!G294,4))","¬IF(+CBM!H294¬\"--- na ---\",\"--- na ---\",IF(ISERROR(TRUNC(+CBM!H294,4))¬TRUE,\"\",TRUNC(+CBM!H294,4)))","--- na ---","--- na ---","--- na ---","--- na ---","--- na ---","--- na ---","--- na ---"]
["CMQNT_14230","¬+'Cover Sheet'!$C$24","ENTITY_ID","¬+CBM!F295","¬TEXT(+'Cover Sheet'!C$22,\"yyyymmdd\")",14230,"--- na ---","--- na ---","--- na ---","--- na ---","--- na ---","--- na ---","¬IF(ISERROR(TRUNC(+CBM!G295,4))¬TRUE,\"\",TRUNC(+CBM!G295,4))","¬IF(+CBM!H295¬\"--- na ---\",\"--- na ---\",IF(ISERROR(TRUNC(+CBM!H295,4))¬TRUE,\"\",TRUNC(+CBM!H295,4)))","--- na ---","--- na ---","--- na ---","--- na ---","--- na ---","--- na ---","--- na ---"]
["CMQNT_14230","¬+'Cover Sheet'!$C$24","ENTITY_ID","¬+CBM!F296","¬TEXT(+'Cover Sheet'!C$22,\"yyyymmdd\")",14230,"--- na ---","--- na ---","--- na ---","--- na ---","--- na ---","--- na ---","¬IF(ISERROR(TRUNC(+CBM!G296,4))¬TRUE,\"\",TRUNC(+CBM!G296,4))","¬IF(+CBM!H296¬\"--- na ---\",\"--- na ---\",IF(ISERROR(TRUNC(+CBM!H296,4))¬TRUE,\"\",TRUNC(+CBM!H296,4)))","--- na ---","--- na ---","--- na ---","--- na ---","--- na ---","--- na ---","--- na ---"]
["CMQNT_14230","¬+'Cover Sheet'!$C$24","ENTITY_ID","¬+CBM!F297","¬TEXT(+'Cover Sheet'!C$22,\"yyyymmdd\")",14230,"--- na ---","--- na ---","--- na ---","--- na ---","--- na ---","--- na ---","¬IF(ISERROR(TRUNC(+CBM!G297,4))¬TRUE,\"\",TRUNC(+CBM!G297,4))","¬IF(+CBM!H297¬\"--- na ---\",\"--- na ---\",IF(ISERROR(TRUNC(+CBM!H297,4))¬TRUE,\"\",TRUNC(+CBM!H297,4)))","--- na ---","--- na ---","--- na ---","--- na ---","--- na ---","--- na ---","--- na ---"]
["CMQNT_14230","¬+'Cover Sheet'!$C$24","ENTITY_ID","¬+CBM!F298","¬TEXT(+'Cover Sheet'!C$22,\"yyyymmdd\")",14230,"--- na ---","--- na ---","--- na ---","--- na ---","--- na ---","--- na ---","¬IF(ISERROR(TRUNC(+CBM!G298,4))¬TRUE,\"\",TRUNC(+CBM!G298,4))","¬IF(+CBM!H298¬\"--- na ---\",\"--- na ---\",IF(ISERROR(TRUNC(+CBM!H298,4))¬TRUE,\"\",TRUNC(+CBM!H298,4)))","--- na ---","--- na ---","--- na ---","--- na ---","--- na ---","--- na ---","--- na ---"]
["CMQNT_14230","¬+'Cover Sheet'!$C$24","ENTITY_ID","¬+CBM!F299","¬TEXT(+'Cover Sheet'!C$22,\"yyyymmdd\")",14230,"--- na ---","--- na ---","--- na ---","--- na ---","--- na ---","--- na ---","¬IF(ISERROR(TRUNC(+CBM!G299,4))¬TRUE,\"\",TRUNC(+CBM!G299,4))","¬IF(+CBM!H299¬\"--- na ---\",\"--- na ---\",IF(ISERROR(TRUNC(+CBM!H299,4))¬TRUE,\"\",TRUNC(+CBM!H299,4)))","--- na ---","--- na ---","--- na ---","--- na ---","--- na ---","--- na ---","--- na ---"]
["CMQNT_14230","¬+'Cover Sheet'!$C$24","ENTITY_ID","¬+CBM!F300","¬TEXT(+'Cover Sheet'!C$22,\"yyyymmdd\")",14230,"--- na ---","--- na ---","--- na ---","--- na ---","--- na ---","--- na ---","¬IF(ISERROR(TRUNC(+CBM!G300,4))¬TRUE,\"\",TRUNC(+CBM!G300,4))","¬IF(+CBM!H300¬\"--- na ---\",\"--- na ---\",IF(ISERROR(TRUNC(+CBM!H300,4))¬TRUE,\"\",TRUNC(+CBM!H300,4)))","--- na ---","--- na ---","--- na ---","--- na ---","--- na ---","--- na ---","--- na ---"]
["CMQNT_14230","¬+'Cover Sheet'!$C$24","ENTITY_ID","¬+CBM!F301","¬TEXT(+'Cover Sheet'!C$22,\"yyyymmdd\")",14230,"--- na ---","--- na ---","--- na ---","--- na ---","--- na ---","--- na ---","¬IF(ISERROR(TRUNC(+CBM!G301,4))¬TRUE,\"\",TRUNC(+CBM!G301,4))","¬IF(+CBM!H301¬\"--- na ---\",\"--- na ---\",IF(ISERROR(TRUNC(+CBM!H301,4))¬TRUE,\"\",TRUNC(+CBM!H301,4)))","--- na ---","--- na ---","--- na ---","--- na ---","--- na ---","--- na ---","--- na ---"]
["CMQNT_14230","¬+'Cover Sheet'!$C$24","ENTITY_ID","¬+CBM!F302","¬TEXT(+'Cover Sheet'!C$22,\"yyyymmdd\")",14230,"--- na ---","--- na ---","--- na ---","--- na ---","--- na ---","--- na ---","¬IF(ISERROR(TRUNC(+CBM!G302,4))¬TRUE,\"\",TRUNC(+CBM!G302,4))","¬IF(+CBM!H302¬\"--- na ---\",\"--- na ---\",IF(ISERROR(TRUNC(+CBM!H302,4))¬TRUE,\"\",TRUNC(+CBM!H302,4)))","--- na ---","--- na ---","--- na ---","--- na ---","--- na ---","--- na ---","--- na ---"]
["CMQNT_14230","¬+'Cover Sheet'!$C$24","ENTITY_ID","¬+CBM!F303","¬TEXT(+'Cover Sheet'!C$22,\"yyyymmdd\")",14230,"--- na ---","--- na ---","--- na ---","--- na ---","--- na ---","--- na ---","¬IF(ISERROR(TRUNC(+CBM!G303,4))¬TRUE,\"\",TRUNC(+CBM!G303,4))","¬IF(+CBM!H303¬\"--- na ---\",\"--- na ---\",IF(ISERROR(TRUNC(+CBM!H303,4))¬TRUE,\"\",TRUNC(+CBM!H303,4)))","--- na ---","--- na ---","--- na ---","--- na ---","--- na ---","--- na ---","--- na ---"]
["CMQNT_14230","¬+'Cover Sheet'!$C$24","ENTITY_ID","¬+CBM!F304","¬TEXT(+'Cover Sheet'!C$22,\"yyyymmdd\")",14230,"--- na ---","--- na ---","--- na ---","--- na ---","--- na ---","--- na ---","¬IF(ISERROR(TRUNC(+CBM!G304,4))¬TRUE,\"\",TRUNC(+CBM!G304,4))","¬IF(+CBM!H304¬\"--- na ---\",\"--- na ---\",IF(ISERROR(TRUNC(+CBM!H304,4))¬TRUE,\"\",TRUNC(+CBM!H304,4)))","--- na ---","--- na ---","--- na ---","--- na ---","--- na ---","--- na ---","--- na ---"]
["CMQNT_14230","¬+'Cover Sheet'!$C$24","ENTITY_ID","¬+CBM!F305","¬TEXT(+'Cover Sheet'!C$22,\"yyyymmdd\")",14230,"--- na ---","--- na ---","--- na ---","--- na ---","--- na ---","--- na ---","¬IF(ISERROR(TRUNC(+CBM!G305,4))¬TRUE,\"\",TRUNC(+CBM!G305,4))","¬IF(+CBM!H305¬\"--- na ---\",\"--- na ---\",IF(ISERROR(TRUNC(+CBM!H305,4))¬TRUE,\"\",TRUNC(+CBM!H305,4)))","--- na ---","--- na ---","--- na ---","--- na ---","--- na ---","--- na ---","--- na ---"]
["CMQNT_14230","¬+'Cover Sheet'!$C$24","ENTITY_ID","¬+CBM!F306","¬TEXT(+'Cover Sheet'!C$22,\"yyyymmdd\")",14230,"--- na ---","--- na ---","--- na ---","--- na ---","--- na ---","--- na ---","¬IF(ISERROR(TRUNC(+CBM!G306,4))¬TRUE,\"\",TRUNC(+CBM!G306,4))","¬IF(+CBM!H306¬\"--- na ---\",\"--- na ---\",IF(ISERROR(TRUNC(+CBM!H306,4))¬TRUE,\"\",TRUNC(+CBM!H306,4)))","--- na ---","--- na ---","--- na ---","--- na ---","--- na ---","--- na ---","--- na ---"]
["CMQNT_14230","¬+'Cover Sheet'!$C$24","ENTITY_ID","¬+CBM!F307","¬TEXT(+'Cover Sheet'!C$22,\"yyyymmdd\")",14230,"--- na ---","--- na ---","--- na ---","--- na ---","--- na ---","--- na ---","¬IF(ISERROR(TRUNC(+CBM!G307,4))¬TRUE,\"\",TRUNC(+CBM!G307,4))","¬IF(+CBM!H307¬\"--- na ---\",\"--- na ---\",IF(ISERROR(TRUNC(+CBM!H307,4))¬TRUE,\"\",TRUNC(+CBM!H307,4)))","--- na ---","--- na ---","--- na ---","--- na ---","--- na ---","--- na ---","--- na ---"]
["CMQNT_14230","¬+'Cover Sheet'!$C$24","ENTITY_ID","¬+CBM!F308","¬TEXT(+'Cover Sheet'!C$22,\"yyyymmdd\")",14230,"--- na ---","--- na ---","--- na ---","--- na ---","--- na ---","--- na ---","¬IF(ISERROR(TRUNC(+CBM!G308,4))¬TRUE,\"\",TRUNC(+CBM!G308,4))","¬IF(+CBM!H308¬\"--- na ---\",\"--- na ---\",IF(ISERROR(TRUNC(+CBM!H308,4))¬TRUE,\"\",TRUNC(+CBM!H308,4)))","--- na ---","--- na ---","--- na ---","--- na ---","--- na ---","--- na ---","--- na ---"]
["CMQNT_14230","¬+'Cover Sheet'!$C$24","ENTITY_ID","¬+CBM!F309","¬TEXT(+'Cover Sheet'!C$22,\"yyyymmdd\")",14230,"--- na ---","--- na ---","--- na ---","--- na ---","--- na ---","--- na ---","¬IF(ISERROR(TRUNC(+CBM!G309,4))¬TRUE,\"\",TRUNC(+CBM!G309,4))","¬IF(+CBM!H309¬\"--- na ---\",\"--- na ---\",IF(ISERROR(TRUNC(+CBM!H309,4))¬TRUE,\"\",TRUNC(+CBM!H309,4)))","--- na ---","--- na ---","--- na ---","--- na ---","--- na ---","--- na ---","--- na ---"]
["CMQNT_14230","¬+'Cover Sheet'!$C$24","ENTITY_ID","¬+CBM!F310","¬TEXT(+'Cover Sheet'!C$22,\"yyyymmdd\")",14230,"--- na ---","--- na ---","--- na ---","--- na ---","--- na ---","--- na ---","¬IF(ISERROR(TRUNC(+CBM!G310,4))¬TRUE,\"\",TRUNC(+CBM!G310,4))","¬IF(+CBM!H310¬\"--- na ---\",\"--- na ---\",IF(ISERROR(TRUNC(+CBM!H310,4))¬TRUE,\"\",TRUNC(+CBM!H310,4)))","--- na ---","--- na ---","--- na ---","--- na ---","--- na ---","--- na ---","--- na ---"]
["CMQNT_14240","¬+'Cover Sheet'!$C$24","ENTITY_ID","W1","¬TEXT(+'Cover Sheet'!C$22,\"yyyymmdd\")",14240,"--- na ---","--- na ---","--- na ---","--- na ---","--- na ---","--- na ---","¬IF(ISERROR(TRUNC(+CBM!G311,4))¬TRUE,\"\",TRUNC(+CBM!G311,4))","¬IF(+CBM!H311¬\"--- na ---\",\"--- na ---\",IF(ISERROR(TRUNC(+CBM!H311,4))¬TRUE,\"\",TRUNC(+CBM!H311,4)))","--- na ---","--- na ---","--- na ---","--- na ---","--- na ---","--- na ---","--- na ---"]
["CMQNT_14240","¬+'Cover Sheet'!$C$24","ENTITY_ID","¬+CBM!F312","¬TEXT(+'Cover Sheet'!C$22,\"yyyymmdd\")",14240,"--- na ---","--- na ---","--- na ---","--- na ---","--- na ---","--- na ---","¬IF(ISERROR(TRUNC(+CBM!G312,4))¬TRUE,\"\",TRUNC(+CBM!G312,4))","¬IF(+CBM!H312¬\"--- na ---\",\"--- na ---\",IF(ISERROR(TRUNC(+CBM!H312,4))¬TRUE,\"\",TRUNC(+CBM!H312,4)))","--- na ---","--- na ---","--- na ---","--- na ---","--- na ---","--- na ---","--- na ---"]
["CMQNT_14240","¬+'Cover Sheet'!$C$24","ENTITY_ID","¬+CBM!F313","¬TEXT(+'Cover Sheet'!C$22,\"yyyymmdd\")",14240,"--- na ---","--- na ---","--- na ---","--- na ---","--- na ---","--- na ---","¬IF(ISERROR(TRUNC(+CBM!G313,4))¬TRUE,\"\",TRUNC(+CBM!G313,4))","¬IF(+CBM!H313¬\"--- na ---\",\"--- na ---\",IF(ISERROR(TRUNC(+CBM!H313,4))¬TRUE,\"\",TRUNC(+CBM!H313,4)))","--- na ---","--- na ---","--- na ---","--- na ---","--- na ---","--- na ---","--- na ---"]
["CMQNT_14240","¬+'Cover Sheet'!$C$24","ENTITY_ID","¬+CBM!F314","¬TEXT(+'Cover Sheet'!C$22,\"yyyymmdd\")",14240,"--- na ---","--- na ---","--- na ---","--- na ---","--- na ---","--- na ---","¬IF(ISERROR(TRUNC(+CBM!G314,4))¬TRUE,\"\",TRUNC(+CBM!G314,4))","¬IF(+CBM!H314¬\"--- na ---\",\"--- na ---\",IF(ISERROR(TRUNC(+CBM!H314,4))¬TRUE,\"\",TRUNC(+CBM!H314,4)))","--- na ---","--- na ---","--- na ---","--- na ---","--- na ---","--- na ---","--- na ---"]
["CMQNT_14240","¬+'Cover Sheet'!$C$24","ENTITY_ID","¬+CBM!F315","¬TEXT(+'Cover Sheet'!C$22,\"yyyymmdd\")",14240,"--- na ---","--- na ---","--- na ---","--- na ---","--- na ---","--- na ---","¬IF(ISERROR(TRUNC(+CBM!G315,4))¬TRUE,\"\",TRUNC(+CBM!G315,4))","¬IF(+CBM!H315¬\"--- na ---\",\"--- na ---\",IF(ISERROR(TRUNC(+CBM!H315,4))¬TRUE,\"\",TRUNC(+CBM!H315,4)))","--- na ---","--- na ---","--- na ---","--- na ---","--- na ---","--- na ---","--- na ---"]
["CMQNT_14240","¬+'Cover Sheet'!$C$24","ENTITY_ID","¬+CBM!F316","¬TEXT(+'Cover Sheet'!C$22,\"yyyymmdd\")",14240,"--- na ---","--- na ---","--- na ---","--- na ---","--- na ---","--- na ---","¬IF(ISERROR(TRUNC(+CBM!G316,4))¬TRUE,\"\",TRUNC(+CBM!G316,4))","¬IF(+CBM!H316¬\"--- na ---\",\"--- na ---\",IF(ISERROR(TRUNC(+CBM!H316,4))¬TRUE,\"\",TRUNC(+CBM!H316,4)))","--- na ---","--- na ---","--- na ---","--- na ---","--- na ---","--- na ---","--- na ---"]
["CMQNT_14240","¬+'Cover Sheet'!$C$24","ENTITY_ID","¬+CBM!F317","¬TEXT(+'Cover Sheet'!C$22,\"yyyymmdd\")",14240,"--- na ---","--- na ---","--- na ---","--- na ---","--- na ---","--- na ---","¬IF(ISERROR(TRUNC(+CBM!G317,4))¬TRUE,\"\",TRUNC(+CBM!G317,4))","¬IF(+CBM!H317¬\"--- na ---\",\"--- na ---\",IF(ISERROR(TRUNC(+CBM!H317,4))¬TRUE,\"\",TRUNC(+CBM!H317,4)))","--- na ---","--- na ---","--- na ---","--- na ---","--- na ---","--- na ---","--- na ---"]
["CMQNT_14240","¬+'Cover Sheet'!$C$24","ENTITY_ID","¬+CBM!F318","¬TEXT(+'Cover Sheet'!C$22,\"yyyymmdd\")",14240,"--- na ---","--- na ---","--- na ---","--- na ---","--- na ---","--- na ---","¬IF(ISERROR(TRUNC(+CBM!G318,4))¬TRUE,\"\",TRUNC(+CBM!G318,4))","¬IF(+CBM!H318¬\"--- na ---\",\"--- na ---\",IF(ISERROR(TRUNC(+CBM!H318,4))¬TRUE,\"\",TRUNC(+CBM!H318,4)))","--- na ---","--- na ---","--- na ---","--- na ---","--- na ---","--- na ---","--- na ---"]
["CMQNT_14240","¬+'Cover Sheet'!$C$24","ENTITY_ID","¬+CBM!F319","¬TEXT(+'Cover Sheet'!C$22,\"yyyymmdd\")",14240,"--- na ---","--- na ---","--- na ---","--- na ---","--- na ---","--- na ---","¬IF(ISERROR(TRUNC(+CBM!G319,4))¬TRUE,\"\",TRUNC(+CBM!G319,4))","¬IF(+CBM!H319¬\"--- na ---\",\"--- na ---\",IF(ISERROR(TRUNC(+CBM!H319,4))¬TRUE,\"\",TRUNC(+CBM!H319,4)))","--- na ---","--- na ---","--- na ---","--- na ---","--- na ---","--- na ---","--- na ---"]
["CMQNT_14240","¬+'Cover Sheet'!$C$24","ENTITY_ID","¬+CBM!F320","¬TEXT(+'Cover Sheet'!C$22,\"yyyymmdd\")",14240,"--- na ---","--- na ---","--- na ---","--- na ---","--- na ---","--- na ---","¬IF(ISERROR(TRUNC(+CBM!G320,4))¬TRUE,\"\",TRUNC(+CBM!G320,4))","¬IF(+CBM!H320¬\"--- na ---\",\"--- na ---\",IF(ISERROR(TRUNC(+CBM!H320,4))¬TRUE,\"\",TRUNC(+CBM!H320,4)))","--- na ---","--- na ---","--- na ---","--- na ---","--- na ---","--- na ---","--- na ---"]
["CMQNT_14240","¬+'Cover Sheet'!$C$24","ENTITY_ID","¬+CBM!F321","¬TEXT(+'Cover Sheet'!C$22,\"yyyymmdd\")",14240,"--- na ---","--- na ---","--- na ---","--- na ---","--- na ---","--- na ---","¬IF(ISERROR(TRUNC(+CBM!G321,4))¬TRUE,\"\",TRUNC(+CBM!G321,4))","¬IF(+CBM!H321¬\"--- na ---\",\"--- na ---\",IF(ISERROR(TRUNC(+CBM!H321,4))¬TRUE,\"\",TRUNC(+CBM!H321,4)))","--- na ---","--- na ---","--- na ---","--- na ---","--- na ---","--- na ---","--- na ---"]
["CMQNT_14240","¬+'Cover Sheet'!$C$24","ENTITY_ID","¬+CBM!F322","¬TEXT(+'Cover Sheet'!C$22,\"yyyymmdd\")",14240,"--- na ---","--- na ---","--- na ---","--- na ---","--- na ---","--- na ---","¬IF(ISERROR(TRUNC(+CBM!G322,4))¬TRUE,\"\",TRUNC(+CBM!G322,4))","¬IF(+CBM!H322¬\"--- na ---\",\"--- na ---\",IF(ISERROR(TRUNC(+CBM!H322,4))¬TRUE,\"\",TRUNC(+CBM!H322,4)))","--- na ---","--- na ---","--- na ---","--- na ---","--- na ---","--- na ---","--- na ---"]
["CMQNT_14240","¬+'Cover Sheet'!$C$24","ENTITY_ID","¬+CBM!F323","¬TEXT(+'Cover Sheet'!C$22,\"yyyymmdd\")",14240,"--- na ---","--- na ---","--- na ---","--- na ---","--- na ---","--- na ---","¬IF(ISERROR(TRUNC(+CBM!G323,4))¬TRUE,\"\",TRUNC(+CBM!G323,4))","¬IF(+CBM!H323¬\"--- na ---\",\"--- na ---\",IF(ISERROR(TRUNC(+CBM!H323,4))¬TRUE,\"\",TRUNC(+CBM!H323,4)))","--- na ---","--- na ---","--- na ---","--- na ---","--- na ---","--- na ---","--- na ---"]
["CMQNT_14240","¬+'Cover Sheet'!$C$24","ENTITY_ID","¬+CBM!F324","¬TEXT(+'Cover Sheet'!C$22,\"yyyymmdd\")",14240,"--- na ---","--- na ---","--- na ---","--- na ---","--- na ---","--- na ---","¬IF(ISERROR(TRUNC(+CBM!G324,4))¬TRUE,\"\",TRUNC(+CBM!G324,4))","¬IF(+CBM!H324¬\"--- na ---\",\"--- na ---\",IF(ISERROR(TRUNC(+CBM!H324,4))¬TRUE,\"\",TRUNC(+CBM!H324,4)))","--- na ---","--- na ---","--- na ---","--- na ---","--- na ---","--- na ---","--- na ---"]
["CMQNT_14240","¬+'Cover Sheet'!$C$24","ENTITY_ID","¬+CBM!F325","¬TEXT(+'Cover Sheet'!C$22,\"yyyymmdd\")",14240,"--- na ---","--- na ---","--- na ---","--- na ---","--- na ---","--- na ---","¬IF(ISERROR(TRUNC(+CBM!G325,4))¬TRUE,\"\",TRUNC(+CBM!G325,4))","¬IF(+CBM!H325¬\"--- na ---\",\"--- na ---\",IF(ISERROR(TRUNC(+CBM!H325,4))¬TRUE,\"\",TRUNC(+CBM!H325,4)))","--- na ---","--- na ---","--- na ---","--- na ---","--- na ---","--- na ---","--- na ---"]
["CMQNT_14240","¬+'Cover Sheet'!$C$24","ENTITY_ID","¬+CBM!F326","¬TEXT(+'Cover Sheet'!C$22,\"yyyymmdd\")",14240,"--- na ---","--- na ---","--- na ---","--- na ---","--- na ---","--- na ---","¬IF(ISERROR(TRUNC(+CBM!G326,4))¬TRUE,\"\",TRUNC(+CBM!G326,4))","¬IF(+CBM!H326¬\"--- na ---\",\"--- na ---\",IF(ISERROR(TRUNC(+CBM!H326,4))¬TRUE,\"\",TRUNC(+CBM!H326,4)))","--- na ---","--- na ---","--- na ---","--- na ---","--- na ---","--- na ---","--- na ---"]
["CMQNT_14240","¬+'Cover Sheet'!$C$24","ENTITY_ID","¬+CBM!F327","¬TEXT(+'Cover Sheet'!C$22,\"yyyymmdd\")",14240,"--- na ---","--- na ---","--- na ---","--- na ---","--- na ---","--- na ---","¬IF(ISERROR(TRUNC(+CBM!G327,4))¬TRUE,\"\",TRUNC(+CBM!G327,4))","¬IF(+CBM!H327¬\"--- na ---\",\"--- na ---\",IF(ISERROR(TRUNC(+CBM!H327,4))¬TRUE,\"\",TRUNC(+CBM!H327,4)))","--- na ---","--- na ---","--- na ---","--- na ---","--- na ---","--- na ---","--- na ---"]
["CMQNT_14240","¬+'Cover Sheet'!$C$24","ENTITY_ID","¬+CBM!F328","¬TEXT(+'Cover Sheet'!C$22,\"yyyymmdd\")",14240,"--- na ---","--- na ---","--- na ---","--- na ---","--- na ---","--- na ---","¬IF(ISERROR(TRUNC(+CBM!G328,4))¬TRUE,\"\",TRUNC(+CBM!G328,4))","¬IF(+CBM!H328¬\"--- na ---\",\"--- na ---\",IF(ISERROR(TRUNC(+CBM!H328,4))¬TRUE,\"\",TRUNC(+CBM!H328,4)))","--- na ---","--- na ---","--- na ---","--- na ---","--- na ---","--- na ---","--- na ---"]
["CMQNT_14240","¬+'Cover Sheet'!$C$24","ENTITY_ID","¬+CBM!F329","¬TEXT(+'Cover Sheet'!C$22,\"yyyymmdd\")",14240,"--- na ---","--- na ---","--- na ---","--- na ---","--- na ---","--- na ---","¬IF(ISERROR(TRUNC(+CBM!G329,4))¬TRUE,\"\",TRUNC(+CBM!G329,4))","¬IF(+CBM!H329¬\"--- na ---\",\"--- na ---\",IF(ISERROR(TRUNC(+CBM!H329,4))¬TRUE,\"\",TRUNC(+CBM!H329,4)))","--- na ---","--- na ---","--- na ---","--- na ---","--- na ---","--- na ---","--- na ---"]
["CMQNT_14240","¬+'Cover Sheet'!$C$24","ENTITY_ID","¬+CBM!F330","¬TEXT(+'Cover Sheet'!C$22,\"yyyymmdd\")",14240,"--- na ---","--- na ---","--- na ---","--- na ---","--- na ---","--- na ---","¬IF(ISERROR(TRUNC(+CBM!G330,4))¬TRUE,\"\",TRUNC(+CBM!G330,4))","¬IF(+CBM!H330¬\"--- na ---\",\"--- na ---\",IF(ISERROR(TRUNC(+CBM!H330,4))¬TRUE,\"\",TRUNC(+CBM!H330,4)))","--- na ---","--- na ---","--- na ---","--- na ---","--- na ---","--- na ---","--- na ---"]
["CMQNT_14240","¬+'Cover Sheet'!$C$24","ENTITY_ID","¬+CBM!F331","¬TEXT(+'Cover Sheet'!C$22,\"yyyymmdd\")",14240,"--- na ---","--- na ---","--- na ---","--- na ---","--- na ---","--- na ---","¬IF(ISERROR(TRUNC(+CBM!G331,4))¬TRUE,\"\",TRUNC(+CBM!G331,4))","¬IF(+CBM!H331¬\"--- na ---\",\"--- na ---\",IF(ISERROR(TRUNC(+CBM!H331,4))¬TRUE,\"\",TRUNC(+CBM!H331,4)))","--- na ---","--- na ---","--- na ---","--- na ---","--- na ---","--- na ---","--- na ---"]
["CMQNT_14240","¬+'Cover Sheet'!$C$24","ENTITY_ID","¬+CBM!F332","¬TEXT(+'Cover Sheet'!C$22,\"yyyymmdd\")",14240,"--- na ---","--- na ---","--- na ---","--- na ---","--- na ---","--- na ---","¬IF(ISERROR(TRUNC(+CBM!G332,4))¬TRUE,\"\",TRUNC(+CBM!G332,4))","¬IF(+CBM!H332¬\"--- na ---\",\"--- na ---\",IF(ISERROR(TRUNC(+CBM!H332,4))¬TRUE,\"\",TRUNC(+CBM!H332,4)))","--- na ---","--- na ---","--- na ---","--- na ---","--- na ---","--- na ---","--- na ---"]
["CMQNT_14240","¬+'Cover Sheet'!$C$24","ENTITY_ID","¬+CBM!F333","¬TEXT(+'Cover Sheet'!C$22,\"yyyymmdd\")",14240,"--- na ---","--- na ---","--- na ---","--- na ---","--- na ---","--- na ---","¬IF(ISERROR(TRUNC(+CBM!G333,4))¬TRUE,\"\",TRUNC(+CBM!G333,4))","¬IF(+CBM!H333¬\"--- na ---\",\"--- na ---\",IF(ISERROR(TRUNC(+CBM!H333,4))¬TRUE,\"\",TRUNC(+CBM!H333,4)))","--- na ---","--- na ---","--- na ---","--- na ---","--- na ---","--- na ---","--- na ---"]
["CMQNT_14240","¬+'Cover Sheet'!$C$24","ENTITY_ID","¬+CBM!F334","¬TEXT(+'Cover Sheet'!C$22,\"yyyymmdd\")",14240,"--- na ---","--- na ---","--- na ---","--- na ---","--- na ---","--- na ---","¬IF(ISERROR(TRUNC(+CBM!G334,4))¬TRUE,\"\",TRUNC(+CBM!G334,4))","¬IF(+CBM!H334¬\"--- na ---\",\"--- na ---\",IF(ISERROR(TRUNC(+CBM!H334,4))¬TRUE,\"\",TRUNC(+CBM!H334,4)))","--- na ---","--- na ---","--- na ---","--- na ---","--- na ---","--- na ---","--- na ---"]
["CMQNT_14240","¬+'Cover Sheet'!$C$24","ENTITY_ID","¬+CBM!F335","¬TEXT(+'Cover Sheet'!C$22,\"yyyymmdd\")",14240,"--- na ---","--- na ---","--- na ---","--- na ---","--- na ---","--- na ---","¬IF(ISERROR(TRUNC(+CBM!G335,4))¬TRUE,\"\",TRUNC(+CBM!G335,4))","¬IF(+CBM!H335¬\"--- na ---\",\"--- na ---\",IF(ISERROR(TRUNC(+CBM!H335,4))¬TRUE,\"\",TRUNC(+CBM!H335,4)))","--- na ---","--- na ---","--- na ---","--- na ---","--- na ---","--- na ---","--- na ---"]
["CMQNT_14240","¬+'Cover Sheet'!$C$24","ENTITY_ID","¬+CBM!F336","¬TEXT(+'Cover Sheet'!C$22,\"yyyymmdd\")",14240,"--- na ---","--- na ---","--- na ---","--- na ---","--- na ---","--- na ---","¬IF(ISERROR(TRUNC(+CBM!G336,4))¬TRUE,\"\",TRUNC(+CBM!G336,4))","¬IF(+CBM!H336¬\"--- na ---\",\"--- na ---\",IF(ISERROR(TRUNC(+CBM!H336,4))¬TRUE,\"\",TRUNC(+CBM!H336,4)))","--- na ---","--- na ---","--- na ---","--- na ---","--- na ---","--- na ---","--- na ---"]
["CMQNT_14240","¬+'Cover Sheet'!$C$24","ENTITY_ID","¬+CBM!F337","¬TEXT(+'Cover Sheet'!C$22,\"yyyymmdd\")",14240,"--- na ---","--- na ---","--- na ---","--- na ---","--- na ---","--- na ---","¬IF(ISERROR(TRUNC(+CBM!G337,4))¬TRUE,\"\",TRUNC(+CBM!G337,4))","¬IF(+CBM!H337¬\"--- na ---\",\"--- na ---\",IF(ISERROR(TRUNC(+CBM!H337,4))¬TRUE,\"\",TRUNC(+CBM!H337,4)))","--- na ---","--- na ---","--- na ---","--- na ---","--- na ---","--- na ---","--- na ---"]
["CMQNT_14240","¬+'Cover Sheet'!$C$24","ENTITY_ID","¬+CBM!F338","¬TEXT(+'Cover Sheet'!C$22,\"yyyymmdd\")",14240,"--- na ---","--- na ---","--- na ---","--- na ---","--- na ---","--- na ---","¬IF(ISERROR(TRUNC(+CBM!G338,4))¬TRUE,\"\",TRUNC(+CBM!G338,4))","¬IF(+CBM!H338¬\"--- na ---\",\"--- na ---\",IF(ISERROR(TRUNC(+CBM!H338,4))¬TRUE,\"\",TRUNC(+CBM!H338,4)))","--- na ---","--- na ---","--- na ---","--- na ---","--- na ---","--- na ---","--- na ---"]
["CMQNT_14240","¬+'Cover Sheet'!$C$24","ENTITY_ID","¬+CBM!F339","¬TEXT(+'Cover Sheet'!C$22,\"yyyymmdd\")",14240,"--- na ---","--- na ---","--- na ---","--- na ---","--- na ---","--- na ---","¬IF(ISERROR(TRUNC(+CBM!G339,4))¬TRUE,\"\",TRUNC(+CBM!G339,4))","¬IF(+CBM!H339¬\"--- na ---\",\"--- na ---\",IF(ISERROR(TRUNC(+CBM!H339,4))¬TRUE,\"\",TRUNC(+CBM!H339,4)))","--- na ---","--- na ---","--- na ---","--- na ---","--- na ---","--- na ---","--- na ---"]
["CMQNT_14240","¬+'Cover Sheet'!$C$24","ENTITY_ID","¬+CBM!F340","¬TEXT(+'Cover Sheet'!C$22,\"yyyymmdd\")",14240,"--- na ---","--- na ---","--- na ---","--- na ---","--- na ---","--- na ---","¬IF(ISERROR(TRUNC(+CBM!G340,4))¬TRUE,\"\",TRUNC(+CBM!G340,4))","¬IF(+CBM!H340¬\"--- na ---\",\"--- na ---\",IF(ISERROR(TRUNC(+CBM!H340,4))¬TRUE,\"\",TRUNC(+CBM!H340,4)))","--- na ---","--- na ---","--- na ---","--- na ---","--- na ---","--- na ---","--- na ---"]
["CMQNT_14240","¬+'Cover Sheet'!$C$24","ENTITY_ID","¬+CBM!F341","¬TEXT(+'Cover Sheet'!C$22,\"yyyymmdd\")",14240,"--- na ---","--- na ---","--- na ---","--- na ---","--- na ---","--- na ---","¬IF(ISERROR(TRUNC(+CBM!G341,4))¬TRUE,\"\",TRUNC(+CBM!G341,4))","¬IF(+CBM!H341¬\"--- na ---\",\"--- na ---\",IF(ISERROR(TRUNC(+CBM!H341,4))¬TRUE,\"\",TRUNC(+CBM!H341,4)))","--- na ---","--- na ---","--- na ---","--- na ---","--- na ---","--- na ---","--- na ---"]
["CMQNT_14240","¬+'Cover Sheet'!$C$24","ENTITY_ID","¬+CBM!F342","¬TEXT(+'Cover Sheet'!C$22,\"yyyymmdd\")",14240,"--- na ---","--- na ---","--- na ---","--- na ---","--- na ---","--- na ---","¬IF(ISERROR(TRUNC(+CBM!G342,4))¬TRUE,\"\",TRUNC(+CBM!G342,4))","¬IF(+CBM!H342¬\"--- na ---\",\"--- na ---\",IF(ISERROR(TRUNC(+CBM!H342,4))¬TRUE,\"\",TRUNC(+CBM!H342,4)))","--- na ---","--- na ---","--- na ---","--- na ---","--- na ---","--- na ---","--- na ---"]
["CMQNT_14240","¬+'Cover Sheet'!$C$24","ENTITY_ID","¬+CBM!F343","¬TEXT(+'Cover Sheet'!C$22,\"yyyymmdd\")",14240,"--- na ---","--- na ---","--- na ---","--- na ---","--- na ---","--- na ---","¬IF(ISERROR(TRUNC(+CBM!G343,4))¬TRUE,\"\",TRUNC(+CBM!G343,4))","¬IF(+CBM!H343¬\"--- na ---\",\"--- na ---\",IF(ISERROR(TRUNC(+CBM!H343,4))¬TRUE,\"\",TRUNC(+CBM!H343,4)))","--- na ---","--- na ---","--- na ---","--- na ---","--- na ---","--- na ---","--- na ---"]
["CMQNT_14240","¬+'Cover Sheet'!$C$24","ENTITY_ID","¬+CBM!F344","¬TEXT(+'Cover Sheet'!C$22,\"yyyymmdd\")",14240,"--- na ---","--- na ---","--- na ---","--- na ---","--- na ---","--- na ---","¬IF(ISERROR(TRUNC(+CBM!G344,4))¬TRUE,\"\",TRUNC(+CBM!G344,4))","¬IF(+CBM!H344¬\"--- na ---\",\"--- na ---\",IF(ISERROR(TRUNC(+CBM!H344,4))¬TRUE,\"\",TRUNC(+CBM!H344,4)))","--- na ---","--- na ---","--- na ---","--- na ---","--- na ---","--- na ---","--- na ---"]
["CMQNT_14240","¬+'Cover Sheet'!$C$24","ENTITY_ID","¬+CBM!F345","¬TEXT(+'Cover Sheet'!C$22,\"yyyymmdd\")",14240,"--- na ---","--- na ---","--- na ---","--- na ---","--- na ---","--- na ---","¬IF(ISERROR(TRUNC(+CBM!G345,4))¬TRUE,\"\",TRUNC(+CBM!G345,4))","¬IF(+CBM!H345¬\"--- na ---\",\"--- na ---\",IF(ISERROR(TRUNC(+CBM!H345,4))¬TRUE,\"\",TRUNC(+CBM!H345,4)))","--- na ---","--- na ---","--- na ---","--- na ---","--- na ---","--- na ---","--- na ---"]
["CMQNT_14240","¬+'Cover Sheet'!$C$24","ENTITY_ID","¬+CBM!F346","¬TEXT(+'Cover Sheet'!C$22,\"yyyymmdd\")",14240,"--- na ---","--- na ---","--- na ---","--- na ---","--- na ---","--- na ---","¬IF(ISERROR(TRUNC(+CBM!G346,4))¬TRUE,\"\",TRUNC(+CBM!G346,4))","¬IF(+CBM!H346¬\"--- na ---\",\"--- na ---\",IF(ISERROR(TRUNC(+CBM!H346,4))¬TRUE,\"\",TRUNC(+CBM!H346,4)))","--- na ---","--- na ---","--- na ---","--- na ---","--- na ---","--- na ---","--- na ---"]
["CMQNT_14240","¬+'Cover Sheet'!$C$24","ENTITY_ID","¬+CBM!F347","¬TEXT(+'Cover Sheet'!C$22,\"yyyymmdd\")",14240,"--- na ---","--- na ---","--- na ---","--- na ---","--- na ---","--- na ---","¬IF(ISERROR(TRUNC(+CBM!G347,4))¬TRUE,\"\",TRUNC(+CBM!G347,4))","¬IF(+CBM!H347¬\"--- na ---\",\"--- na ---\",IF(ISERROR(TRUNC(+CBM!H347,4))¬TRUE,\"\",TRUNC(+CBM!H347,4)))","--- na ---","--- na ---","--- na ---","--- na ---","--- na ---","--- na ---","--- na ---"]
["CMQNT_14240","¬+'Cover Sheet'!$C$24","ENTITY_ID","¬+CBM!F348","¬TEXT(+'Cover Sheet'!C$22,\"yyyymmdd\")",14240,"--- na ---","--- na ---","--- na ---","--- na ---","--- na ---","--- na ---","¬IF(ISERROR(TRUNC(+CBM!G348,4))¬TRUE,\"\",TRUNC(+CBM!G348,4))","¬IF(+CBM!H348¬\"--- na ---\",\"--- na ---\",IF(ISERROR(TRUNC(+CBM!H348,4))¬TRUE,\"\",TRUNC(+CBM!H348,4)))","--- na ---","--- na ---","--- na ---","--- na ---","--- na ---","--- na ---","--- na ---"]
["CMQNT_14240","¬+'Cover Sheet'!$C$24","ENTITY_ID","¬+CBM!F349","¬TEXT(+'Cover Sheet'!C$22,\"yyyymmdd\")",14240,"--- na ---","--- na ---","--- na ---","--- na ---","--- na ---","--- na ---","¬IF(ISERROR(TRUNC(+CBM!G349,4))¬TRUE,\"\",TRUNC(+CBM!G349,4))","¬IF(+CBM!H349¬\"--- na ---\",\"--- na ---\",IF(ISERROR(TRUNC(+CBM!H349,4))¬TRUE,\"\",TRUNC(+CBM!H349,4)))","--- na ---","--- na ---","--- na ---","--- na ---","--- na ---","--- na ---","--- na ---"]
["CMQNT_14240","¬+'Cover Sheet'!$C$24","ENTITY_ID","¬+CBM!F350","¬TEXT(+'Cover Sheet'!C$22,\"yyyymmdd\")",14240,"--- na ---","--- na ---","--- na ---","--- na ---","--- na ---","--- na ---","¬IF(ISERROR(TRUNC(+CBM!G350,4))¬TRUE,\"\",TRUNC(+CBM!G350,4))","¬IF(+CBM!H350¬\"--- na ---\",\"--- na ---\",IF(ISERROR(TRUNC(+CBM!H350,4))¬TRUE,\"\",TRUNC(+CBM!H350,4)))","--- na ---","--- na ---","--- na ---","--- na ---","--- na ---","--- na ---","--- na ---"]
["CMQNT_14240","¬+'Cover Sheet'!$C$24","ENTITY_ID","¬+CBM!F351","¬TEXT(+'Cover Sheet'!C$22,\"yyyymmdd\")",14240,"--- na ---","--- na ---","--- na ---","--- na ---","--- na ---","--- na ---","¬IF(ISERROR(TRUNC(+CBM!G351,4))¬TRUE,\"\",TRUNC(+CBM!G351,4))","¬IF(+CBM!H351¬\"--- na ---\",\"--- na ---\",IF(ISERROR(TRUNC(+CBM!H351,4))¬TRUE,\"\",TRUNC(+CBM!H351,4)))","--- na ---","--- na ---","--- na ---","--- na ---","--- na ---","--- na ---","--- na ---"]
["CMQNT_14240","¬+'Cover Sheet'!$C$24","ENTITY_ID","¬+CBM!F352","¬TEXT(+'Cover Sheet'!C$22,\"yyyymmdd\")",14240,"--- na ---","--- na ---","--- na ---","--- na ---","--- na ---","--- na ---","¬IF(ISERROR(TRUNC(+CBM!G352,4))¬TRUE,\"\",TRUNC(+CBM!G352,4))","¬IF(+CBM!H352¬\"--- na ---\",\"--- na ---\",IF(ISERROR(TRUNC(+CBM!H352,4))¬TRUE,\"\",TRUNC(+CBM!H352,4)))","--- na ---","--- na ---","--- na ---","--- na ---","--- na ---","--- na ---","--- na ---"]
["CMQNT_14240","¬+'Cover Sheet'!$C$24","ENTITY_ID","¬+CBM!F353","¬TEXT(+'Cover Sheet'!C$22,\"yyyymmdd\")",14240,"--- na ---","--- na ---","--- na ---","--- na ---","--- na ---","--- na ---","¬IF(ISERROR(TRUNC(+CBM!G353,4))¬TRUE,\"\",TRUNC(+CBM!G353,4))","¬IF(+CBM!H353¬\"--- na ---\",\"--- na ---\",IF(ISERROR(TRUNC(+CBM!H353,4))¬TRUE,\"\",TRUNC(+CBM!H353,4)))","--- na ---","--- na ---","--- na ---","--- na ---","--- na ---","--- na ---","--- na ---"]
[]
[]
[]
[]
[]
[]
[]
[]
[]
[]
[]
[]
[]
[]
[]
[]
[]
[]
[]
[]
[]
[]
[]
[]
[]
[]
[]
[]
[]
[]
[]
[]
[]
[]
[]
[]
[]
[]
[]
[]
[]
[]
[]
[]
[]
[]
[]
[]
[]
[]
[]
[]
[]
[]
[]
[]
[]
[]
[]
[]
[]
[]
[]
[]
[]
[]
[]
[]
[]
[]
[]
[]
[]
[]
[]
[]
[]
[]
[]
[]
[]
[]
[]
[]
[]
[]
[]
[]
[]
[]
[]
[]
[]
[]
[]
[]
[]
[]
[]
[]
[]
[]
[]
[]
[]
[]
[]
[]
[]
[]
[]
[]
[]
[]
[]
[]
[]
[]
[]
[]
[]
[]
[]
[]
[]
[]
[]
[]
[]
[]
[]
[]
[]
[]
[]
[]
[]
[]
[]
[]
[]
[]
[]
[]
[]
[]
[]
[]
[]
[]
[]
[]
[]
[]
[]
[]
[]
[]
[]
[]
[]
[]
[]
[]
[]
[]
[]
[]
[]
[]
[]
[]
[]
[]
[]
[]
[]
[]
[]
[]
[]
[]
[]
[]
[]
[]
[]
[]
[]
[]
[]
[]
[]
[]
[]
[]
[]
[]
[]
[]
[]
[]
[]
[]
[]
[]
[]
[]
[]
[]
[]
[]
[]
[]
[]
[]
[]
[]
[]
[]
[]
[]
[]
[]
[]
[]
[]
[]
[]
[]
[]
[]
[]
[]
[]
[]
[]
[]
[]
[]
[]
[]
[]
[]
[]
[]
[]
[]
[]
[]
[]
[]
[]
[]
[]
[]
[]
[]
[]
[]
[]
[]
[]
[]
[]
[]
[]
[]
[]
[]
[]
[]
[]
[]
[]
[]
[]
[]
[]
[]
[]
[]
[]
[]
[]
[]
[]
[]
[]
[]
[]
[]
[]
[]
[]
[]
[]
[]
[]
[]
[]
[]
[]
[]
[]
[]
[]
[]
[]
[]
[]
[]
[]
[]
[]
[]
[]
[]
[]
[]
[]
[]
[]
[]
[]
[]
[]
[]
[]
[]
[]
[]
[]
[]
[]
[]
[]
[]
[]
[]
[]
[]
[]
[]
[]
[]
[]
[]
[]
[]
[]
[]
[]
[]
[]
[]
[]
[]
[]
[]
[]
[]
[]
[]
[]
[]
[]
[]
[]
[]
[]
[]
[]
[]
[]
[]
[]
[]
[]
[]
[]
[]
[]
[]
[]
[]
[]
[]
[]
[]
[]
[]
[]
[]
[]
[]
[]
[]
[]
[]
[]
[]
[]
[]
[]
[]
[]
[]
[]
[]
[]
[]
[]
[]
[]
[]
[]
[]
[]
[]
[]
[]
[]
[]
[]
[]
[]
[]
[]
[]
[]
[]
[]
[]
[]
[]
[]
[]
[]
[]
[]
[]
[]
[]
[]
[]
[]
[]
[]
[]
[]
[]
[]
[]
[]
[]
[]
[]
[]
[]
[]
[]
[]
[]
[]
[]
[]
[]
[]
[]
[]
[]
[]
[]
[]
[]
[]
[]
[]
[]
[]
[]
[]
[]
[]
[]
[]
[]
[]
[]
[]
[]
[]
[]
[]
[]
[]
[]
[]
[]
[]
[]
[]
[]
[]
[]
[]
[]
[]
[]
[]
[]
[]
[]
[]
[]
[]
[]
[]
[]
[]
[]
[]
[]
[]
[]
[]
[]
[]
[]
[]
[]
[]
[]
[]
[]
[]
[]
[]
[]
[]
[]
[]
[]
[]
[]
[]
[]
[]
[]
[]
[]
[]
[]
[]
[]
[]
[]
[]
[]
[]
[]
[]
[]
[]
[]
[]
[]
[]
[]
[]
[]
[]
[]
[]
[]
[]
[]
[]
[]
[]
[]
[]
[]
[]
[]
[]
[]
[]
[]
[]
[]
[]
[]
[]
[]
[]
[]
[]
[]
[]
[]
[]
[]
[]
[]
[]
[]
[]
[]
[]
[]
[]
[]
[]
[]
[]
[]
[]
[]
[null,null,null,null,null,null,null,null,null,null,null,null,null,null,null,null,null,null,null,null,null,null,null,null,null,null,null,null,null,null,null,null,null,null,null,null,null,null,null,null,null,null,null,null,null,null,null,null,null,null,null,null,null,null,null,null,null,null,null,null,null,null,null,null,null,null,null,null,null,null,null,null,null,null,null,null,null,null,null,null,null,null,null,null,null,null,null,null,null,null,null,null,null,null,null,null,null,null,null,null,null,null,null,null,null,null,null,null,null,null,null,null,null,null,null,null,null,null,null,null,null,null,null,null,null,null,null,null,null,null,null,null,null,null,null,null,null,null,null,null,null,null,null,null,null,null,null,null,null,null,null,null,null,null,null,null,null,null,null,null,null,null,null,null,null,null,null,null,null,null,null,null,null,null,null,null,null,null,null,null,null,null,null,null,null,null,null,null,null,null,null,null,null,null,null,null,null,null,null,null,null,null,null,null,null,null,null,null,null,null,null,null,null,null,null,null,null,null,null,null,null,null,null,null,null,null,null,null,null,null,null,null,null,null,null,null,null,null,null,null,null,null,null,null,null,null,null,null,null,null,null,null,null,null,null,null,null,null,null,null,null,null,null,null,null,null,null,null,null,null,null,null,null,null,null,null,null,null,null,null,null,null,null,null,null,null,null,null,null,null,null,null,null,null,null,null,null,null,null,null,null,null,null,null,null,null,null,null,null,null,null,null,null,null,null,null,null,null,null,null,null,null,null,null,null,null,null,null,null,null,null,null,null,null,null,null,null,null,null,null,null,null,null,null,null,null,null,null,null,null,null,null,null,null,null,null,null,null,null,null,null,null,null,null,null,null,null,null,null,null,null,null,null,null,null,null,null,null,null,null,null,null,null,null,null,null,null,null,null,null,null,null,null,null,null,null,null,null,null,null,null,null,null,null,null,null,null,null,null,null,null,null,null,null,null,null,null,null,null,null,null,null,null,null,null,null,null,null,null,null,null,null,null,null,null,null,null,null,null,null,null,null,null,null,null,null,null,null,null,null,null,null,null,null,null,null,null,null,null,null,null,null,null,null,null,null,null,null,null,null,null,null,null,null,null,null,null,null,null,null,null,null,null,null,null,null,null,null,null,null,null,null,null,null,null,null,null,null,null,null,null,null,null,null,null,null,null,null,null,null,null,null,null,null,null,null,null,null,null,null,null,null,null,null,null,null,null,null,null,null,null,null,null,null,null,null,null,null,null,null,null,null,null,null,null,null,null,null,null,null,null,null,null,null,null,null,null,null,null,null,null,null,null,null,null,null,null,null,null,null,null,null,null,null,null,null,null,null,null,null,null,null,null,null,null,null,null,null,null,null,null,null,null,null,null,null,null,null,null,null,null,null,null,null,null,null,null,null,null,null,null,null,null,null,null,null,null,null,null,null,null,null,null,null,null,null,null,null,null,null,null,null,null,null,null,null,null,null,null,null,null,null,null,null,null,null,null,null,null,null,null,null,null,null,null,null,null,null,null,null,null,null,null,null,null,null,null,null,null,null,null,null,null,null,null,null,null,null,null,null,null,null,null,null,null,null,null,null,null,null,null,null,null,null,null,null,null,null,null,null,null,null,null,null,null,null,null,null,null,null,null,null,null,null,null,null,null,null,null,null,null,null,null,null,null,null,null,null,null,null,null,null,null,null,null,null,null,null,null,null,null,null,null,null,null,null,null,null,null,null,null,null,null,null,null,null,null,null,null,null,null,null,null,null,null,null,null,null,null,null,null,null,null,null,null,null,null,null,null,null,null,null,null,null,null,null,null,null,null,null,null,null,null,null,null,null,null,null,null,null,null,null,null,null,null,null,null,null,null,null,null,null,null,null,null,null,null,null,null,null,null,null,null,null,null,null,null,null,null,null,null,null,null,null,null,null,null,null,null,null,null,null,null,null,null,null,null,null,null,null,null,null,null,null,null,null,null,null,null,null,null,null,null,null,null,null,null,null,null,null,null,null,null,null,null,null,null,null,null,null,null,null,null,null,null,null,null,null,null,null,null,null,null,null,null,null,null,null,null,null,null,null,null,null,null,null,null,null,null,null,null,null,null,null,null,null,null,null,null,null,null,null,null,null,null,null,null,null,null,null,null,null,null,null,null,null,null,null,null,null,null,null,null,null,null,null,null,null,null,null,null,null,null,null,null,null,null,null,null,null,null,null,null,null,null,null,null,null,null,null,null,null,null,null,null,null,null,null,null,null,null,null,null,null,null,null,null,null,null,null,null,null,null,null,null,null,null,null,null,null,null,null,null,null,null,null,null,null,null,null,null,null,null,null,null,null,null,null,null,null,null,null,null,null,null,null,null,null,null,null,null,null,null,null,null,null,null,null,null,null,null,null,null,null,null,null,null,null,null,null,null,null,null,null,null,null,null,null,null,null,null,null,null,null,null,null,null,null,null,null,null,null,null,null,null,null,null,null,null,null,null,null,null,null,null,null,null,null,null,null,null,null,null,null,null,null,null,null,null,null,null,null,null,null,null,null,null,null,null,null,null,null,null,null,null,null,null,null,null,null,null,null,null,null,null,null,null,null,null,null,null,null,null,null,null,null,null,null,null,null,null,null,null,null,null,null,null,null,null,null,null,null,null,null,null,null,null,null,null,null,null,null,null,null,null,null,null,null,null,null,null,null,null,null,null,null,null,null,null,null,null,null,null,null,null,null,null,null,null,null,null,null,null,null,null,null,null,null,null,null,null,null,null,null,null,null,null,null,null,null,null,null,null,null,null,null,null,null,null,null,null,null,null,null,null,null,null,null,null,null,null,null,null,null,null,null,null,null,null,null,null,null,null,null,null,null,null,null,null,null,null,null,null,null,null,null,null,null,null,null,null,null,null,null,null,null,null,null,null,null,null,null,null,null,null,null,null,null,null,null,null,null,null,null,null,null,null,null,null,null,null,null,null,null,null,null,null,null,null,null,null,null,null,null,null,null,null,null,null,null,null,null,null,null,null,null,null,null,null,null,null,null,null,null,null,null,null,null,null,null,null,null,null,null,null,null,null,null,null,null,null,null,null,null,null,null,null,null,null,null,null,null,null,null,null,null,null,null,null,null,null,null,null,null,null,null,null,null,null,null,null,null,null,null,null,null,null,null,null,null,null,null,null,null,null,null,null,null,null,null,null,null,null,null,null,null,null,null,null,null,null,null,null,null,null,null,null,null,null,null,null,null,null,null,null,null,null,null,null,null,null,null,null,null,null,null,null,null,null,null,null,null,null,null,null,null,null,null,null,null,null,null,null,null,null,null,null,null,null,null,null,null,null,null,null,null,null,null,null,null,null,null,null,null,null,null,null,null,null,null,null,null,null,null,null,null,null,null,null,null,null,null,null,null,null,null,null,null,null,null,null,null,null,null,null,null,null,null,null,null,null,null,null,null,null,null,null,null,null,null,null,null,null,null,null,null,null,null,null,null,null,null,null,null,null,null,null,null,null,null,null,null,null,null,null,null,null,null,null,null,null,null,null,null,null,null,null,null,null,null,null,null,null,null,null,null,null,null,null,null,null,null,null,null,null,null,null,null,null,null,null,null,null,null,null,null,null,null,null,null,null,null,null,null,null,null,null,null,null,null,null,null,null,null,null,null,null,null,null,null,null,null,null,null,null,null,null,null,null,null,null,null,null,null,null,null,null,null,null,null,null,null,null,null,null,null,null,null,null,null,null,null,null,null,null,null,null,null,null,null,null,null,null,null,null,null,null,null,null,null,null,null,null,null,null,null,null,null,null,null,null,null,null,null,null,null,null,null,null,null,null,null,null,null,null,null,null,null,null,null,null,null,null,null,null,null,null,null,null,null,null,null,null,null,null,null,null,null,null,null,null,null,null,null,null,null,null,null,null,null,null,null,null,null,null,null,null,null,null,null,null,null,null,null,null,null,null,null,null,null,null,null,null,null,null,null,null,null,null,null,null,null,null,null,null,null,null,null,null,null,null,null,null,null,null,null,null,null,null,null,null,null,null,null,null,null,null,null,null,null,null,null,null,null,null,null,null,null,null,null,null,null,null,null,null,null,null,null,null,null,null,null,null,null,null,null,null,null,null,null,null,null,null,null,null,null,null,null,null,null,null,null,null,null,null,null,null,null,null,null,null,null,null,null,null,null,null,null,null,null,null,null,null,null,null,null,null,null,null,null,null,null,null,null,null,null,null,null,null,null,null,null,null,null,null,null,null,null,null,null,null,null,null,null,null,null,null,null,null,null,null,null,null,null,null,null,null,null,null,null,null,null,null,null,null,null,null,null,null,null,null,null,null,null,null,null,null,null,null,null,null,null,null,null,null,null,null,null,null,null,null,null,null,null,null,null,null,null,null,null,null,null,null,null,null,null,null,null,null,null,null,null,null,null,null,null,null,null,null,null,null,null,null,null,null,null,null,null,null,null,null,null,null,null,null,null,null,null,null,null,null,null,null,null,null,null,null,null,null,null,null,null,null,null,null,null,null,null,null,null,null,null,null,null,null,null,null,null,null,null,null,null,null,null,null,null,null,null,null,null,null,null,null,null,null,null,null,null,null,null,null,null,null,null,null,null,null,null,null,null,null,null,null,null,null,null,null,null,null,null,null,null,null,null,null,null,null,null,null,null,null,null,null,null,null,null,null,null,null,null,null,null,null,null,null,null,null,null,null,null,null,null,null,null,null,null,null,null,null,null,null,null,null,null,null,null,null,null,null,null,null,null,null,null,null,null,null,null,null,null,null,null,null,null,null,null,null,null,null,null,null,null,null,null,null,null,null,null,null,null,null,null,null,null,null,null,null,null,null,null,null,null,null,null,null,null,null,null,null,null,null,null,null,null,null,null,null,null,null,null,null,null,null,null,null,null,null,null,null,null,null,null,null,null,null,null,null,null,null,null,null,null,null,null,null,null,null,null,null,null,null,null,null,null,null,null,null,null,null,null,null,null,null,null,null,null,null,null,null,null,null,null,null,null,null,null,null,null,null,null,null,null,null,null,null,null,null,null,null,null,null,null,null,null,null,null,null,null,null,null,null,null,null,null,null,null,null,null,null,null,null,null,null,null,null,null,null,null,null,null,null,null,null,null,null,null,null,null,null,null,null,null,null,null,null,null,null,null,null,null,null,null,null,null,null,null,null,null,null,null,null,null,null,null,null,null,null,null,null,null,null,null,null,null,null,null,null,null,null,null,null,null,null,null,null,null,null,null,null,null,null,null,null,null,null,null,null,null,null,null,null,null,null,null,null,null,null,null,null,null,null,null,null,null,null,null,null,null,null,null,null,null,null,null,null,null,null,null,null,null,null,null,null,null,null,null,null,null,null,null,null,null,null,null,null,null,null,null,null,null,null,null,null,null,null,null,null,null,null,null,null,null,null,null,null,null,null,null,null,null,null,null,null,null,null,null,null,null,null,null,null,null,null,null,null,null,null,null,null,null,null,null,null,null,null,null,null,null,null,null,null,null,null,null,null,null,null,null,null,null,null,null,null,null,null,null,null,null,null,null,null,null,null,null,null,null,null,null,null,null,null,null,null,null,null,null,null,null,null,null,null,null,null,null,null,null,null,null,null,null,null,null,null,null,null,null,null,null,null,null,null,null,null,null,null,null,null,null,null,null,null,null,null,null,null,null,null,null,null,null,null,null,null,null,null,null,null,null,null,null,null,null,null,null,null,null,null,null,null,null,null,null,null,null,null,null,null,null,null,null,null,null,null,null,null,null,null,null,null,null,null,null,null,null,null,null,null,null,null,null,null,null,null,null,null,null,null,null,null,null,null,null,null,null,null,null,null,null,null,null,null,null,null,null,null,null,null,null,null,null,null,null,null,null,null,null,null,null,null,null,null,null,null,null,null,null,null,null,null,null,null,null,null,null,null,null,null,null,null,null,null,null,null,null,null,null,null,null,null,null,null,null,null,null,null,null,null,null,null,null,null,null,null,null,null,null,null,null,null,null,null,null,null,null,null,null,null,null,null,null,null,null,null,null,null,null,null,null,null,null,null,null,null,null,null,null,null,null,null,null,null,null,null,null,null,null,null,null,null,null,null,null,null,null,null,null,null,null,null,null,null,null,null,null,null,null,null,null,null,null,null,null,null,null,null,null,null,null,null,null,null,null,null,null,null,null,null,null,null,null,null,null,null,null,null,null,null,null,null,null,null,null,null,null,null,null,null,null,null,null,null,null,null,null,null,null,null,null,null,null,null,null,null,null,null,null,null,null,null,null,null,null,null,null,null,null,null,null,null,null,null,null,null,null,null,null,null,null,null,null,null,null,null,null,null,null,null,null,null,null,null,null,null,null,null,null,null,null,null,null,null,null,null,null,null,null,null,null,null,null,null,null,null,null,null,null,null,null,null,null,null,null,null,null,null,null,null,null,null,null,null,null,null,null,null,null,null,null,null,null,null,null,null,null,null,null,null,null,null,null,null,null,null,null,null,null,null,null,null,null,null,null,null,null,null,null,null,null,null,null,null,null,null,null,null,null,null,null,null,null,null,null,null,null,null,null,null,null,null,null,null,null,null,null,null,null,null,null,null,null,null,null,null,null,null,null,null,null,null,null,null,null,null,null,null,null,null,null,null,null,null,null,null,null,null,null,null,null,null,null,null,null,null,null,null,null,null,null,null,null,null,null,null,null,null,null,null,null,null,null,null,null,null,null,null,null,null,null,null,null,null,null,null,null,null,null,null,null,null,null,null,null,null,null,null,null,null,null,null,null,null,null,null,null,null,null,null,null,null,null,null,null,null,null,null,null,null,null,null,null,null,null,null,null,null,null,null,null,null,null,null,null,null,null,null,null,null,null,null,null,null,null,null,null,null,null,null,null,null,null,null,null,null,null,null,null,null,null,null,null,null,null,null,null,null,null,null,null,null,null,null,null,null,null,null,null,null,null,null,null,null,null,null,null,null,null,null,null,null,null,null,null,null,null,null,null,null,null,null,null,null,null,null,null,null,null,null,null,null,null,null,null,null,null,null,null,null,null,null,null,null,null,null,null,null,null,null,null,null,null,null,null,null,null,null,null,null,null,null,null,null,null,null,null,null,null,null,null,null,null,null,null,null,null,null,null,null,null,null,null,null,null,null,null,null,null,null,null,null,null,null,null,null,null,null,null,null,null,null,null,null,null,null,null,null,null,null,null,null,null,null,null,null,null,null,null,null,null,null,null,null,null,null,null,null,null,null,null,null,null,null,null,null,null,null,null,null,null,null,null,null,null,null,null,null,null,null,null,null,null,null,null,null,null,null,null,null,null,null,null,null,null,null,null,null,null,null,null,null,null,null,null,null,null,null,null,null,null,null,null,null,null,null,null,null,null,null,null,null,null,null,null,null,null,null,null,null,null,null,null,null,null,null,null,null,null,null,null,null,null,null,null,null,null,null,null,null,null,null,null,null,null,null,null,null,null,null,null,null,null,null,null,null,null,null,null,null,null,null,null,null,null,null,null,null,null,null,null,null,null,null,null,null,null,null,null,null,null,null,null,null,null,null,null,null,null,null,null,null,null,null,null,null,null,null,null,null,null,null,null,null,null,null,null,null,null,null,null,null,null,null,null,null,null,null,null,null,null,null,null,null,null,null,null,null,null,null,null,null,null,null,null,null,null,null,null,null,null,null,null,null,null,null,null,null,null,null,null,null,null,null,null,null,null,null,null,null,null,null,null,null,null,null,null,null,null,null,null,null,null,null,null,null,null,null,null,null,null,null,null,null,null,null,null,null,null,null,null,null,null,null,null,null,null,null,null,null,null,null,null,null,null,null,null,null,null,null,null,null,null,null,null,null,null,null,null,null,null,null,null,null,null,null,null,null,null,null,null,null,null,null,null,null,null,null,null,null,null,null,null,null,null,null,null,null,null,null,null,null,null,null,null,null,null,null,null,null,null,null,null,null,null,null,null,null,null,null,null,null,null,null,null,null,null,null,null,null,null,null,null,null,null,null,null,null,null,null,null,null,null,null,null,null,null,null,null,null,null,null,null,null,null,null,null,null,null,null,null,null,null,null,null,null,null,null,null,null,null,null,null,null,null,null,null,null,null,null,null,null,null,null,null,null,null,null,null,null,null,null,null,null,null,null,null,null,null,null,null,null,null,null,null,null,null,null,null,null,null,null,null,null,null,null,null,null,null,null,null,null,null,null,null,null,null,null,null,null,null,null,null,null,null,null,null,null,null,null,null,null,null,null,null,null,null,null,null,null,null,null,null,null,null,null,null,null,null,null,null,null,null,null,null,null,null,null,null,null,null,null,null,null,null,null,null,null,null,null,null,null,null,null,null,null,null,null,null,null,null,null,null,null,null,null,null,null,null,null,null,null,null,null,null,null,null,null,null,null,null,null,null,null,null,null,null,null,null,null,null,null,null,null,null,null,null,null,null,null,null,null,null,null,null,null,null,null,null,null,null,null,null,null,null,null,null,null,null,null,null,null,null,null,null,null,null,null,null,null,null,null,null,null,null,null,null,null,null,null,null,null,null,null,null,null,null,null,null,null,null,null,null,null,null,null,null,null,null,null,null,null,null,null,null,null,null,null,null,null,null,null,null,null,null,null,null,null,null,null,null,null,null,null,null,null,null,null,null,null,null,null,null,null,null,null,null,null,null,null,null,null,null,null,null,null,null,null,null,null,null,null,null,null,null,null,null,null,null,null,null,null,null,null,null,null,null,null,null,null,null,null,null,null,null,null,null,null,null,null,null,null,null,null,null,null,null,null,null,null,null,null,null,null,null,null,null,null,null,null,null,null,null,null,null,null,null,null,null,null,null,null,null,null,null,null,null,null,null,null,null,null,null,null,null,null,null,null,null,null,null,null,null,null,null,null,null,null,null,null,null,null,null,null,null,null,null,null,null,null,null,null,null,null,null,null,null,null,null,null,null,null,null,null,null,null,null,null,null,null,null,null,null,null,null,null,null,null,null,null,null,null,null,null,null,null,null,null,null,null,null,null,null,null,null,null,null,null,null,null,null,null,null,null,null,null,null,null,null,null,null,null,null,null,null,null,null,null,null,null,null,null,null,null,null,null,null,null,null,null,null,null,null,null,null,null,null,null,null,null,null,null,null,null,null,null,null,null,null,null,null,null,null,null,null,null,null,null,null,null,null,null,null,null,null,null,null,null,null,null,null,null,null,null,null,null,null,null,null,null,null,null,null,null,null,null,null,null,null,null,null,null,null,null,null,null,null,null,null,null,null,null,null,null,null,null,null,null,null,null,null,null,null,null,null,null,null,null,null,null,null,null,null,null,null,null,null,null,null,null,null,null,null,null,null,null,null,null,null,null,null,null,null,null,null,null,null,null,null,null,null,null,null,null,null,null,null,null,null,null,null,null,null,null,null,null,null,null,null,null,null,null,null,null,null,null,null,null,null,null,null,null,null,null,null,null,null,null,null,null,null,null,null,null,null,null,null,null,null,null,null,null,null,null,null,null,null,null,null,null,null,null,null,null,null,null,null,null,null,null,null,null,null,null,null,null,null,null,null,null,null,null,null,null,null,null,null,null,null,null,null,null,null,null,null,null,null,null,null,null,null,null,null,null,null,null,null,null,null,null,null,null,null,null,null,null,null,null,null,null,null,null,null,null,null,null,null,null,null,null,null,null,null,null,null,null,null,null,null,null,null,null,null,null,null,null,null,null,null,null,null,null,null,null,null,null,null,null,null,null,null,null,null,null,null,null,null,null,null,null,null,null,null,null,null,null,null,null,null,null,null,null,null,null,null,null,null,null,null,null,null,null,null,null,null,null,null,null,null,null,null,null,null,null,null,null,null,null,null,null,null,null,null,null,null,null,null,null,null,null,null,null,null,null,null,null,null,null,null,null,null,null,null,null,null,null,null,null,null,null,null,null,null,null,null,null,null,null,null,null,null,null,null,null,null,null,null,null,null,null,null,null,null,null,null,null,null,null,null,null,null,null,null,null,null,null,null,null,null,null,null,null,null,null,null,null,null,null,null,null,null,null,null,null,null,null,null,null,null,null,null,null,null,null,null,null,null,null,null,null,null,null,null,null,null,null,null,null,null,null,null,null,null,null,null,null,null,null,null,null,null,null,null,null,null,null,null,null,null,null,null,null,null,null,null,null,null,null,null,null,null,null,null,null,null,null,null,null,null,null,null,null,null,null,null,null,null,null,null,null,null,null,null,null,null,null,null,null,null,null,null,null,null,null,null,null,null,null,null,null,null,null,null,null,null,null,null,null,null,null,null,null,null,null,null,null,null,null,null,null,null,null,null,null,null,null,null,null,null,null,null,null,null,null,null,null,null,null,null,null,null,null,null,null,null,null,null,null,null,null,null,null,null,null,null,null,null,null,null,null,null,null,null,null,null,null,null,null,null,null,null,null,null,null,null,null,null,null,null,null,null,null,null,null,null,null,null,null,null,null,null,null,null,null,null,null,null,null,null,null,null,null,null,null,null,null,null,null,null,null,null,null,null,null,null,null,null,null,null,null,null,null,null,null,null,null,null,null,null,null,null,null,null,null,null,null,null,null,null,null,null,null,null,null,null,null,null,null,null,null,null,null,null,null,null,null,null,null,null,null,null,null,null,null,null,null,null,null,null,null,null,null,null,null,null,null,null,null,null,null,null,null,null,null,null,null,null,null,null,null,null,null,null,null,null,null,null,null,null,null,null,null,null,null,null,null,null,null,null,null,null,null,null,null,null,null,null,null,null,null,null,null,null,null,null,null,null,null,null,null,null,null,null,null,null,null,null,null,null,null,null,null,null,null,null,null,null,null,null,null,null,null,null,null,null,null,null,null,null,null,null,null,null,null,null,null,null,null,null,null,null,null,null,null,null,null,null,null,null,null,null,null,null,null,null,null,null,null,null,null,null,null,null,null,null,null,null,null,null,null,null,null,null,null,null,null,null,null,null,null,null,null,null,null,null,null,null,null,null,null,null,null,null,null,null,null,null,null,null,null,null,null,null,null,null,null,null,null,null,null,null,null,null,null,null,null,null,null,null,null,null,null,null,null,null,null,null,null,null,null,null,null,null,null,null,null,null,null,null,null,null,null,null,null,null,null,null,null,null,null,null,null,null,null,null,null,null,null,null,null,null,null,null,null,null,null,null,null,null,null,null,null,null,null,null,null,null,null,null,null,null,null,null,null,null,null,null,null,null,null,null,null,null,null,null,null,null,null,null,null,null,null,null,null,null,null,null,null,null,null,null,null,null,null,null,null,null,null,null,null,null,null,null,null,null,null,null,null,null,null,null,null,null,null,null,null,null,null,null,null,null,null,null,null,null,null,null,null,null,null,null,null,null,null,null,null,null,null,null,null,null,null,null,null,null,null,null,null,null,null,null,null,null,null,null,null,null,null,null,null,null,null,null,null,null,null,null,null,null,null,null,null,null,null,null,null,null,null,null,null,null,null,null,null,null,null,null,null,null,null,null,null,null,null,null,null,null,null,null,null,null,null,null,null,null,null,null,null,null,null,null,null,null,null,null,null,null,null,null,null,null,null,null,null,null,null,null,null,null,null,null,null,null,null,null,null,null,null,null,null,null,null,null,null,null,null,null,null,null,null,null,null,null,null,null,null,null,null,null,null,null,null,null,null,null,null,null,null,null,null,null,null,null,null,null,null,null,null,null,null,null,null,null,null,null,null,null,null,null,null,null,null,null,null,null,null,null,null,null,null,null,null,null,null,null,null,null,null,null,null,null,null,null,null,null,null,null,null,null,null,null,null,null,null,null,null,null,null,null,null,null,null,null,null,null,null,null,null,null,null,null,null,null,null,null,null,null,null,null,null,null,null,null,null,null,null,null,null,null,null,null,null,null,null,null,null,null,null,null,null,null,null,null,null,null,null,null,null,null,null,null,null,null,null,null,null,null,null,null,null,null,null,null,null,null,null,null,null,null,null,null,null,null,null,null,null,null,null,null,null,null,null,null,null,null,null,null,null,null,null,null,null,null,null,null,null,null,null,null,null,null,null,null,null,null,null,null,null,null,null,null,null,null,null,null,null,null,null,null,null,null,null,null,null,null,null,null,null,null,null,null,null,null,null,null,null,null,null,null,null,null,null,null,null,null,null,null,null,null,null,null,null,null,null,null,null,null,null,null,null,null,null,null,null,null,null,null,null,null,null,null,null,null,null,null,null,null,null,null,null,null,null,null,null,null,null,null,null,null,null,null,null,null,null,null,null,null,null,null,null,null,null,null,null,null,null,null,null,null,null,null,null,null,null,null,null,null,null,null,null,null,null,null,null,null,null,null,null,null,null,null,null,null,null,null,null,null,null,null,null,null,null,null,null,null,null,null,null,null,null,null,null,null,null,null,null,null,null,null,null,null,null,null,null,null,null,null,null,null,null,null,null,null,null,null,null,null,null,null,null,null,null,null,null,null,null,null,null,null,null,null,null,null,null,null,null,null,null,null,null,null,null,null,null,null,null,null,null,null,null,null,null,null,null,null,null,null,null,null,null,null,null,null,null,null,null,null,null,null,null,null,null,null,null,null,null,null,null,null,null,null,null,null,null,null,null,null,null,null,null,null,null,null,null,null,null,null,null,null,null,null,null,null,null,null,null,null,null,null,null,null,null,null,null,null,null,null,null,null,null,null,null,null,null,null,null,null,null,null,null,null,null,null,null,null,null,null,null,null,null,null,null,null,null,null,null,null,null,null,null,null,null,null,null,null,null,null,null,null,null,null,null,null,null,null,null,null,null,null,null,null,null,null,null,null,null,null,null,null,null,null,null,null,null,null,null,null,null,null,null,null,null,null,null,null,null,null,null,null,null,null,null,null,null,null,null,null,null,null,null,null,null,null,null,null,null,null,null,null,null,null,null,null,null,null,null,null,null,null,null,null,null,null,null,null,null,null,null,null,null,null,null,null,null,null,null,null,null,null,null,null,null,null,null,null,null,null,null,null,null,null,null,null,null,null,null,null,null,null,null,null,null,null,null,null,null,null,null,null,null,null,null,null,null,null,null,null,null,null,null,null,null,null,null,null,null,null,null,null,null,null,null,null,null,null,null,null,null,null,null,null,null,null,null,null,null,null,null,null,null,null,null,null,null,null,null,null,null,null,null,null,null,null,null,null,null,null,null,null,null,null,null,null,null,null,null,null,null,null,null,null,null,null,null,null,null,null,null,null,null,null,null,null,null,null,null,null,null,null,null,null,null,null,null,null,null,null,null,null,null,null,null,null,null,null,null,null,null,null,null,null,null,null,null,null,null,null,null,null,null,null,null,null,null,null,null,null,null,null,null,null,null,null,null,null,null,null,null,null,null,null,null,null,null,null,null,null,null,null,null,null,null,null,null,null,null,null,null,null,null,null,null,null,null,null,null,null,null,null,null,null,null,null,null,null,null,null,null,null,null,null,null,null,null,null,null,null,null,null,null,null,null,null,null,null,null,null,null,null,null,null,null,null,null,null,null,null,null,null,null,null,null,null,null,null,null,null,null,null,null,null,null,null,null,null,null,null,null,null,null,null,null,null,null,null,null,null,null,null,null,null,null,null,null,null,null,null,null,null,null,null,null,null,null,null,null,null,null,null,null,null,null,null,null,null,null,null,null,null,null,null,null,null,null,null,null,null,null,null,null,null,null,null,null,null,null,null,null,null,null,null,null,null,null,null,null,null,null,null,null,null,null,null,null,null,null,null,null,null,null,null,null,null,null,null,null,null,null,null,null,null,null,null,null,null,null,null,null,null,null,null,null,null,null,null,null,null,null,null,null,null,null,null,null,null,null,null,null,null,null,null,null,null,null,null,null,null,null,null,null,null,null,null,null,null,null,null,null,null,null,null,null,null,null,null,null,null,null,null,null,null,null,null,null,null,null,null,null,null,null,null,null,null,null,null,null,null,null,null,null,null,null,null,null,null,null,null,null,null,null,null,null,null,null,null,null,null,null,null,null,null,null,null,null,null,null,null,null,null,null,null,null,null,null,null,null,null,null,null,null,null,null,null,null,null,null,null,null,null,null,null,null,null,null,null,null,null,null,null,null,null,null,null,null,null,null,null,null,null,null,null,null,null,null,null,null,null,null,null,null,null,null,null,null,null,null,null,null,null,null,null,null,null,null,null,null,null,null,null,null,null,null,null,null,null,null,null,null,null,null,null,null,null,null,null,null,null,null,null,null,null,null,null,null,null,null,null,null,null,null,null,null,null,null,null,null,null,null,null,null,null,null,null,null,null,null,null,null,null,null,null,null,null,null,null,null,null,null,null,null,null,null,null,null,null,null,null,null,null,null,null,null,null,null,null,null,null,null,null,null,null,null,null,null,null,null,null,null,null,null,null,null,null,null,null,null,null,null,null,null,null,null,null,null,null,null,null,null,null,null,null,null,null,null,null,null,null,null,null,null,null,null,null,null,null,null,null,null,null,null,null,null,null,null,null,null,null,null,null,null,null,null,null,null,null,null,null,null,null,null,null,null,null,null,null,null,null,null,null,null,null,null,null,null,null,null,null,null,null,null,null,null,null,null,null,null,null,null,null,null,null,null,null,null,null,null,null,null,null,null,null,null,null,null,null,null,null,null,null,null,null,null,null,null,null,null,null,null,null,null,null,null,null,null,null,null,null,null,null,null,null,null,null,null,null,null,null,null,null,null,null,null,null,null,null,null,null,null,null,null,null,null,null,null,null,null,null,null,null,null,null,null,null,null,null,null,null,null,null,null,null,null,null,null,null,null,null,null,null,null,null,null,null,null,null,null,null,null,null,null,null,null,null,null,null,null,null,null,null,null,null,null,null,null,null,null,null,null,null,null,null,null,null,null,null,null,null,null,null,null,null,null,null,null,null,null,null,null,null,null,null,null,null,null,null,null,null,null,null,null,null,null,null,null,null,null,null,null,null,null,null,null,null,null,null,null,null,null,null,null,null,null,null,null,null,null,null,null,null,null,null,null,null,null,null,null,null,null,null,null,null,null,null,null,null,null,null,null,null,null,null,null,null,null,null,null,null,null,null,null,null,null,null,null,null,null,null,null,null,null,null,null,null,null,null,null,null,null,null,null,null,null,null,null,null,null,null,null,null,null,null,null,null,null,null,null,null,null,null,null,null,null,null,null,null,null,null,null,null,null,null,null,null,null,null,null,null,null,null,null,null,null,null,null,null,null,null,null,null,null,null,null,null,null,null,null,null,null,null,null,null,null,null,null,null,null,null,null,null,null,null,null,null,null,null,null,null,null,null,null,null,null,null,null,null,null,null,null,null,null,null,null,null,null,null,null,null,null,null,null,null,null,null,null,null,null,null,null,null,null,null,null,null,null,null,null,null,null,null,null,null,null,null,null,null,null,null,null,null,null,null,null,null,null,null,null,null,null,null,null,null,null,null,null,null,null,null,null,null,null,null,null,null,null,null,null,null,null,null,null,null,null,null,null,null,null,null,null,null,null,null,null,null,null,null,null,null,null,null,null,null,null,null,null,null,null,null,null,null,null,null,null,null,null,null,null,null,null,null,null,null,null,null,null,null,null,null,null,null,null,null,null,null,null,null,null,null,null,null,null,null,null,null,null,null,null,null,null,null,null,null,null,null,null,null,null,null,null,null,null,null,null,null,null,null,null,null,null,null,null,null,null,null,null,null,null,null,null,null,null,null,null,null,null,null,null,null,null,null,null,null,null,null,null,null,null,null,null,null,null,null,null,null,null,null,null,null,null,null,null,null,null,null,null,null,null,null,null,null,null,null,null,null,null,null,null,null,null,null,null,null,null,null,null,null,null,null,null,null,null,null,null,null,null,null,null,null,null,null,null,null,null,null,null,null,null,null,null,null,null,null,null,null,null,null,null,null,null,null,null,null,null,null,null,null,null,null,null,null,null,null,null,null,null,null,null,null,null,null,null,null,null,null,null,null,null,null,null,null,null,null,null,null,null,null,null,null,null,null,null,null,null,null,null,null,null,null,null,null,null,null,null,null,null,null,null,null,null,null,null,null,null,null,null,null,null,null,null,null,null,null,null,null,null,null,null,null,null,null,null,null,null,null,null,null,null,null,null,null,null,null,null,null,null,null,null,null,null,null,null,null,null,null,null,null,null,null,null,null,null,null,null,null,null,null,null,null,null,null,null,null,null,null,null,null,null,null,null,null,null,null,null,null,null,null,null,null,null,null,null,null,null,null,null,null,null,null,null,null,null,null,null,null,null,null,null,null,null,null,null,null,null,null,null,null,null,null,null,null,null,null,null,null,null,null,null,null,null,null,null,null,null,null,null,null,null,null,null,null,null,null,null,null,null,null,null,null,null,null,null,null,null,null,null,null,null,null,null,null,null,null,null,null,null,null,null,null,null,null,null,null,null,null,null,null,null,null,null,null,null,null,null,null,null,null,null,null,null,null,null,null,null,null,null,null,null,null,null,null,null,null,null,null,null,null,null,null,null,null,null,null,null,null,null,null,null,null,null,null,null,null,null,null,null,null,null,null,null,null,null,null,null,null,null,null,null,null,null,null,null,null,null,null,null,null,null,null,null,null,null,null,null,null,null,null,null,null,null,null,null,null,null,null,null,null,null,null,null,null,null,null,null,null,null,null,null,null,null,null,null,null,null,null,null,null,null,null,null,null,null,null,null,null,null,null,null,null,null,null,null,null,null,null,null,null,null,null,null,null,null,null,null,null,null,null,null,null,null,null,null,null,null,null,null,null,null,null,null,null,null,null,null,null,null,null,null,null,null,null,null,null,null,null,null,null,null,null,null,null,null,null,null,null,null,null,null,null,null,null,null,null,null,null,null,null,null,null,null,null,null,null,null,null,null,null,null,null,null,null,null,null,null,null,null,null,null,null,null,null,null,null,null,null,null,null,null,null,null,null,null,null,null,null,null,null,null,null,null,null,null,null,null,null,null,null,null,null,null,null,null,null,null,null,null,null,null,null,null,null,null,null,null,null,null,null,null,null,null,null,null,null,null,null,null,null,null,null,null,null,null,null,null,null,null,null,null,null,null,null,null,null,null,null,null,null,null,null,null,null,null,null,null,null,null,null,null,null,null,null,null,null,null,null,null,null,null,null,null,null,null,null,null,null,null,null,null,null,null,null,null,null,null,null,null,null,null,null,null,null,null,null,null,null,null,null,null,null,null,null,null,null,null,null,null,null,null,null,null,null,null,null,null,null,null,null,null,null,null,null,null,null,null,null,null,null,null,null,null,null,null,null,null,null,null,null,null,null,null,null,null,null,null,null,null,null,null,null,null,null,null,null,null,null,null,null,null,null,null,null,null,null,null,null,null,null,null,null,null,null,null,null,null,null,null,null,null,null,null,null,null,null,null,null,null,null,null,null,null,null,null,null,null,null,null,null,null,null,null,null,null,null,null,null,null,null,null,null,null,null,null,null,null,null,null,null,null,null,null,null,null,null,null,null,null,null,null,null,null,null,null,null,null,null,null,null,null,null,null,null,null,null,null,null,null,null,null,null,null,null,null,null,null,null,null,null,null,null,null,null,null,null,null,null,null,null,null,null,null,null,null,null,null,null,null,null,null,null,null,null,null,null,null,null,null,null,null,null,null,null,null,null,null,null,null,null,null,null,null,null,null,null,null,null,null,null,null,null,null,null,null,null,null,null,null,null,null,null,null,null,null,null,null,null,null,null,null,null,null,null,null,null,null,null,null,null,null,null,null,null,null,null,null,null,null,null,null,null,null,null,null,null,null,null,null,null,null,null,null,null,null,null,null,null,null,null,null,null,null,null,null,null,null,null,null,null,null,null,null,null,null,null,null,null,null,null,null,null,null,null,null,null,null,null,null,null,null,null,null,null,null,null,null,null,null,null,null,null,null,null,null,null,null,null,null,null,null,null,null,null,null,null,null,null,null,null,null,null,null,null,null,null,null,null,null,null,null,null,null,null,null,null,null,null,null,null,null,null,null,null,null,null,null,null,null,null,null,null,null,null,null,null,null,null,null,null,null,null,null,null,null,null,null,null,null,null,null,null,null,null,null,null,null,null,null,null,null,null,null,null,null,null,null,null,null,null,null,null,null,null,null,null,null,null,null,null,null,null,null,null,null,null,null,null,null,null,null,null,null,null,null,null,null,null,null,null,null,null,null,null,null,null,null,null,null,null,null,null,null,null,null,null,null,null,null,null,null,null,null,null,null,null,null,null,null,null,null,null,null,null,null,null,null,null,null,null,null,null,null,null,null,null,null,null,null,null,null,null,null,null,null,null,null,null,null,null,null,null,null,null,null,null,null,null,null,null,null,null,null,null,null,null,null,null,null,null,null,null,null,null,null,null,null,null,null,null,null,null,null,null,null,null,null,null,null,null,null,null,null,null,null,null,null,null,null,null,null,null,null,null,null,null,null,null,null,null,null,null,null,null,null,null,null,null,null,null,null,null,null,null,null,null,null,null,null,null,null,null,null,null,null,null,null,null,null,null,null,null,null,null,null,null,null,null,null,null,null,null,null,null,null,null,null,null,null,null,null,null,null,null,null,null,null,null,null,null,null,null,null,null,null,null,null,null,null,null,null,null,null,null,null,null,null,null,null,null,null,null,null,null,null,null,null,null,null,null,null,null,null,null,null,null,null,null,null,null,null,null,null,null,null,null,null,null,null,null,null,null,null,null,null,null,null,null,null,null,null,null,null,null,null,null,null,null,null,null,null,null,null,null,null,null,null,null,null,null,null,null,null,null,null,null,null,null,null,null,null,null,null,null,null,null,null,null,null,null,null,null,null,null,null,null,null,null,null,null,null,null,null,null,null,null,null,null,null,null,null,null,null,null,null,null,null,null,null,null,null,null,null,null,null,null,null,null,null,null,null,null,null,null,null,null,null,null,null,null,null,null,null,null,null,null,null,null,null,null,null,null,null,null,null,null,null,null,null,null,null,null,null,null,null,null,null,null,null,null,null,null,null,null,null,null,null,null,null,null,null,null,null,null,null,null,null,null,null,null,null,null,null,null,null,null,null,null,null,null,null,null,null,null,null,null,null,null,null,null,null,null,null,null,null,null,null,null,null,null,null,null,null,null,null,null,null,null,null,null,null,null,null,null,null,null,null,null,null,null,null,null,null,null,null,null,null,null,null,null,null,null,null,null,null,null,null,null,null,null,null,null,null,null,null,null,null,null,null,null,null,null,null,null,null,null,null,null,null,null,null,null,null,null,null,null,null,null,null,null,null,null,null,null,null,null,null,null,null,null,null,null,null,null,null,null,null,null,null,null,null,null,null,null,null,null,null,null,null,null,null,null,null,null,null,null,null,null,null,null,null,null,null,null,null,null,null,null,null,null,null,null,null,null,null,null,null,null,null,null,null,null,null,null,null,null,null,null,null,null,null,null,null,null,null,null,null,null,null,null,null,null,null,null,null,null,null,null,null,null,null,null,null,null,null,null,null,null,null,null,null,null,null,null,null,null,null,null,null,null,null,null,null,null,null,null,null,null,null,null,null,null,null,null,null,null,null,null,null,null,null,null,null,null,null,null,null,null,null,null,null,null,null,null,null,null,null,null,null,null,null,null,null,null,null,null,null,null,null,null,null,null,null,null,null,null,null,null,null,null,null,null,null,null,null,null,null,null,null,null,null,null,null,null,null,null,null,null,null,null,null,null,null,null,null,null,null,null,null,null,null,null,null,null,null,null,null,null,null,null,null,null,null,null,null,null,null,null,null,null,null,null,null,null,null,null,null,null,null,null,null,null,null,null,null,null,null,null,null,null,null,null,null,null,null,null,null,null,null,null,null,null,null,null,null,null,null,null,null,null,null,null,null,null,null,null,null,null,null,null,null,null,null,null,null,null,null,null,null,null,null,null,null,null,null,null,null,null,null,null,null,null,null,null,null,null,null,null,null,null,null,null,null,null,null,null,null,null,null,null,null,null,null,null,null,null,null,null,null,null,null,null,null,null,null,null,null,null,null,null,null,null,null,null,null,null,null,null,null,null,null,null,null,null,null,null,null,null,null,null,null,null,null,null,null,null,null,null,null,null,null,null,null,null,null,null,null,null,null,null,null,null,null,null,null,null,null,null,null,null,null,null,null,null,null,null,null,null,null,null,null,null,null,null,null,null,null,null,null,null,null,null,null,null,null,null,null,null,null,null,null,null,null,null,null,null,null,null,null,null,null,null,null,null,null,null,null,null,null,null,null,null,null,null,null,null,null,null,null,null,null,null,null,null,null,null,null,null,null,null,null,null,null,null,null,null,null,null,null,null,null,null,null,null,null,null,null,null,null,null,null,null,null,null,null,null,null,null,null,null,null,null,null,null,null,null,null,null,null,null,null,null,null,null,null,null,null,null,null,null,null,null,null,null,null,null,null,null,null,null,null,null,null,null,null,null,null,null,null,null,null,null,null,null,null,null,null,null,null,null,null,null,null,null,null,null,null,null,null,null,null,null,null,null,null,null,null,null,null,null,null,null,null,null,null,null,null,null,null,null,null,null,null,null,null,null,null,null,null,null,null,null,null,null,null,null,null,null,null,null,null,null,null,null,null,null,null,null,null,null,null,null,null,null,null,null,null,null,null,null,null,null,null,null,null,null,null,null,null,null,null,null,null,null,null,null,null,null,null,null,null,null,null,null,null,null,null,null,null,null,null,null,null,null,null,null,null,null,null,null,null,null,null,null,null,null,null,null,null,null,null,null,null,null,null,null,null,null,null,null,null,null,null,null,null,null,null,null,null,null,null,null,null,null,null,null,null,null,null,null,null,null,null,null,null,null,null,null,null,null,null,null,null,null,null,null,null,null,null,null,null,null,null,null,null,null,null,null,null,null,null,null,null,null,null,null,null,null,null,null,null,null,null,null,null,null,null,null,null,null,null,null,null,null,null,null,null,null,null,null,null,null,null,null,null,null,null,null,null,null,null,null,null,null,null,null,null,null,null,null,null,null,null,null,null,null,null,null,null,null,null,null,null,null,null,null,null,null,null,null,null,null,null,null,null,null,null,null,null,null,null,null,null,null,null,null,null,null,null,null,null,null,null,null,null,null,null,null,null,null,null,null,null,null,null,null,null,null,null,null,null,null,null,null,null,null,null,null,null,null,null,null,null,null,null,null,null,null,null,null,null,null,null,null,null,null,null,null,null,null,null,null,null,null,null,null,null,null,null,null,null,null,null,null,null,null,null,null,null,null,null,null,null,null,null,null,null,null,null,null,null,null,null,null,null,null,null,null,null,null,null,null,null,null,null,null,null,null,null,null,null,null,null,null,null,null,null,null,null,null,null,null,null,null,null,null,null,null,null,null,null,null,null,null,null,null,null,null,null,null,null,null,null,null,null,null,null,null,null,null,null,null,null,null,null,null,null,null,null,null,null,null,null,null,null,null,null,null,null,null,null,null,null,null,null,null,null,null,null,null,null,null,null,null,null,null,null,null,null,null,null,null,null,null,null,null,null,null,null,null,null,null,null,null,null,null,null,null,null,null,null,null,null,null,null,null,null,null,null,null,null,null,null,null,null,null,null,null,null,null,null,null,null,null,null,null,null,null,null,null,null,null,null,null,null,null,null,null,null,null,null,null,null,null,null,null,null,null,null,null,null,null,null,null,null,null,null,null,null,null,null,null,null,null,null,null,null,null,null,null,null,null,null,null,null,null,null,null,null,null,null,null,null,null,null,null,null,null,null,null,null,null,null,null,null,null,null,null,null,null,null,null,null,null,null,null,null,null,null,null,null,null,null,null,null,null,null,null,null,null,null,null,null,null,null,null,null,null,null,null,null,null,null,null,null,null,null,null,null,null,null,null,null,null,null,null,null,null,null,null,null,null,null,null,null,null,null,null,null,null,null,null,null,null,null,null,null,null,null,null,null,null,null,null,null,null,null,null,null,null,null,null,null,null,null,null,null,null,null,null,null,null,null,null,null,null,null,null,null,null,null,null,null,null,null,null,null,null,null,null,null,null,null,null,null,null,null,null,null,null,null,null,null,null,null,null,null,null,null,null,null,null,null,null,null,null,null,null,null,null,null,null,null,null,null,null,null,null,null,null,null,null,null,null,null,null,null,null,null,null,null,null,null,null,null,null,null,null,null,null,null,null,null,null,null,null,null,null,null,null,null,null,null,null,null,null,null,null,null,null,null,null,null,null,null,null,null,null,null,null,null,null,null,null,null,null,null,null,null,null,null,null,null,null,null,null,null,null,null,null,null,null,null,null,null,null,null,null,null,null,null,null,null,null,null,null,null,null,null,null,null,null,null,null,null,null,null,null,null,null,null,null,null,null,null,null,null,null,null,null,null,null,null,null,null,null,null,null,null,null,null,null,null,null,null,null,null,null,null,null,null,null,null,null,null,null,null,null,null,null,null,null,null,null,null,null,null,null,null,null,null,null,null,null,null,null,null,null,null,null,null,null,null,null,null,null,null,null,null,null,null,null,null,null,null,null,null,null,null,null,null,null,null,null,null,null,null,null,null,null,null,null,null,null,null,null,null,null,null,null,null,null,null,null,null,null,null,null,null,null,null,null,null,null,null,null,null,null,null,null,null,null,null,null,null,null,null,null,null,null,null,null,null,null,null,null,null,null,null,null,null,null,null,null,null,null,null,null,null,null,null,null,null,null,null,null,null,null,null,null,null,null,null,null,null,null,null,null,null,null,null,null,null,null,null,null,null,null,null,null,null,null,null,null,null,null,null,null,null,null,null,null,null,null,null,null,null,null,null,null,null,null,null,null,null,null,null,null,null,null,null,null,null,null,null,null,null,null,null,null,null,null,null,null,null,null,null,null,null,null,null,null,null,null,null,null,null,null,null,null,null,null,null,null,null,null,null,null,null,null,null,null,null,null,null,null,null,null,null,null,null,null,null,null,null,null,null,null,null,null,null,null,null,null,null,null,null,null,null,null,null,null,null,null,null,null,null,null,null,null,null,null,null,null,null,null,null,null,null,null,null,null,null,null,null,null,null,null,null,null,null,null,null,null,null,null,null,null,null,null,null,null,null,null,null,null,null,null,null,null,null,null,null,null,null,null,null,null,null,null,null,null,null,null,null,null,null,null,null,null,null,null,null,null,null,null,null,null,null,null,null,null,null,null,null,null,null,null,null,null,null,null,null,null,null,null,null,null,null,null,null,null,null,null,null,null,null,null,null,null,null,null,null,null,null,null,null,null,null,null,null,null,null,null,null,null,null,null,null,null,null,null,null,null,null,null,null,null,null,null,null,null,null,null,null,null,null,null,null,null,null,null,null,null,null,null,null,null,null,null,null,null,null,null,null,null,null,null,null,null,null,null,null,null,null,null,null,null,null,null,null,null,null,null,null,null,null,null,null,null,null,null,null,null,null,null,null,null,null,null,null,null,null,null,null,null,null,null,null,null,null,null,null,null,null,null,null,null,null,null,null,null,null,null,null,null,null,null,null,null,null,null,null,null,null,null,null,null,null,null,null,null,null,null,null,null,null,null,null,null,null,null,null,null,null,null,null,null,null,null,null,null,null,null,null,null,null,null,null,null,null,null,null,null,null,null,null,null,null,null,null,null,null,null,null,null,null,null,null,null,null,null,null,null,null,null,null,null,null,null,null,null,null,null,null,null,null,null,null,null,null,null,null,null,null,null,null,null,null,null,null,null,null,null,null,null,null,null,null,null,null,null,null,null,null,null,null,null,null,null,null,null,null,null,null,null,null,null,null,null,null,null,null,null,null,null,null,null,null,null,null,null,null,null,null,null,null,null,null,null,null,null,null,null,null,null,null,null,null,null,null,null,null,null,null,null,null,null,null,null,null,null,null,null,null,null,null,null,null,null,null,null,null,null,null,null,null,null,null,null,null,null,null,null,null,null,null,null,null,null,null,null,null,null,null,null,null,null,null,null,null,null,null,null,null,null,null,null,null,null,null,null,null,null,null,null,null,null,null,null,null,null,null,null,null,null,null,null,null,null,null,null,null,null,null,null,null,null,null,null,null,null,null,null,null,null,null,null,null,null,null,null,null,null,null,null,null,null,null,null,null,null,null,null,null,null,null,null,null,null,null,null,null,null,null,null,null,null,null,null,null,null,null,null,null,null,null,null,null,null,null,null,null,null,null,null,null,null,null,null,null,null,null,null,null,null,null,null,null,null,null,null,null,null,null,null,null,null,null,null,null,null,null,null,null,null,null,null,null,null,null,null,null,null,null,null,null,null,null,null,null,null,null,null,null,null,null,null,null,null,null,null,null,null,null,null,null,null,null,null,null,null,null,null,null,null,null,null,null,null,null,null,null,null,null,null,null,null,null,null,null,null,null,null,null,null,null,null,null,null,null,null,null,null,null,null,null,null,null,null,null,null,null,null,null,null,null,null,null,null,null,null,null,null,null,null,null,null,null,null,null,null,null,null,null,null,null,null,null,null,null,null,null,null,null,null,null,null,null,null,null,null,null,null,null,null,null,null,null,null,null,null,null,null,null,null,null,null,null,null,null,null,null,null,null,null,null,null,null,null,null,null,null,null,null,null,null,null,null,null,null,null,null,null,null,null,null,null,null,null,null,null,null,null,null,null,null,null,null,null,null,null,null,null,null,null,null,null,null,null,null,null,null,null,null,null,null,null,null,null,null,null,null,null,null,null,null,null,null,null,null,null,null,null,null,null,null,null,null,null,null,null,null,null,null,null,null,null,null,null,null,null,null,null,null,null,null,null,null,null,null,null,null,null,null,null,null,null,null,null,null,null,null,null,null,null,null,null,null,null,null,null,null,null,null,null,null,null,null,null,null,null,null,null,null,null,null,null,null,null,null,null,null,null,null,null,null,null,null,null,null,null,null,null,null,null,null,null,null,null,null,null,null,null,null,null,null,null,null,null,null,null,null,null,null,null,null,null,null,null,null,null,null,null,null,null,null,null,null,null,null,null,null,null,null,null,null,null,null,null,null,null,null,null,null,null,null,null,null,null,null,null,null,null,null,null,null,null,null,null,null,null,null,null,null,null,null,null,null,null,null,null,null,null,null,null,null,null,null,null,null,null,null,null,null,null,null,null,null,null,null,null,null,null,null,null,null,null,null,null,null,null,null,null,null,null,null,null,null,null,null,null,null,null,null,null,null,null,null,null,null,null,null,null,null,null,null,null,null,null,null,null,null,null,null,null,null,null,null,null,null,null,null,null,null,null,null,null,null,null,null,null,null,null,null,null,null,null,null,null,null,null,null,null,null,null,null,null,null,null,null,null,null,null,null,null,null,null,null,null,null,null,null,null,null,null,null,null,null,null,null,null,null,null,null,null,null,null,null,null,null,null,null,null,null,null,null,null,null,null,null,null,null,null,null,null,null,null,null,null,null,null,null,null,null,null,null,null,null,null,null,null,null,null,null,null,null,null,null,null,null,null,null,null,null,null,null,null,null,null,null,null,null,null,null,null,null,null,null,null,null,null,null,null,null,null,null,null,null,null,null,null,null,null,null,null,null,null,null,null,null,null,null,null,null,null,null,null,null,null,null,null,null,null,null,null,null,null,null,null,null,null,null,null,null,null,null,null,null,null,null,null,null,null,null,null,null,null,null,null,null,null,null,null,null,null,null,null,null,null,null,null,null,null,null,null,null,null,null,null,null,null,null,null,null,null,null,null,null,null,null,null,null,null,null,null,null,null,null,null,null,null,null,null,null,null,null,null,null,null,null,null,null,null,null,null,null,null,null,null,null,null,null,null,null,null,null,null,null,null,null,null,null,null,null,null,null,null,null,null,null,null,null,null,null,null,null,null,null,null,null,null,null,null,null,null,null,null,null,null,null,null,null,null,null,null,null,null,null,null,null,null,null,null,null,null,null,null,null,null,null,null,null,null,null,null,null,null,null,null,null,null,null,null,null,null,null,null,null,null,null,null,null,null,null,null,null,null,null,null,null,null,null,null,null,null,null,null,null,null,null,null,null,null,null,null,null,null,null,null,null,null,null,null,null,null,null,null,null,null,null,null,null,null,null,null,null,null,null,null,null,null,null,null,null,null,null,null,null,null,null,null,null,null,null,null,null,null,null,null,null,null,null,null,null,null,null,null,null,null,null,null,null,null,null,null,null,null,null,null,null,null,null,null,null,null,null,null,null,null,null,null,null,null,null,null,null,null,null,null,null,null,null,null,null,null,null,null,null,null,null,null,null,null,null,null,null,null,null,null,null,null,null,null,null,null,null,null,null,null,null,null,null,null,null,null,null,null,null,null,null,null,null,null,null,null,null,null,null,null,null,null,null,null,null,null,null,null,null,null,null,null,null,null,null,null,null,null,null,null,null,null,null,null,null,null,null,null,null,null,null,null,null,null,null,null,null,null,null,null,null,null,null,null,null,null,null,null,null,null,null,null,null,null,null,null,null,null,null,null,null,null,null,null,null,null,null,null,null,null,null,null,null,null,null,null,null,null,null,null,null,null,null,null,null,null,null,null,null,null,null,null,null,null,null,null,null,null,null,null,null,null,null,null,null,null,null,null,null,null,null,null,null,null,null,null,null,null,null,null,null,null,null,null,null,null,null,null,null,null,null,null,null,null,null,null,null,null,null,null,null,null,null,null,null,null,null,null,null,null,null,null,null,null,null,null,null,null,null,null,null,null,null,null,null,null,null,null,null,null,null,null,null,null,null,null,null,null,null,null,null,null,null,null,null,null,null,null,null,null,null,null,null,null,null,null,null,null,null,null,null,null,null,null,null,null,null,null,null,null,null,null,null,null,null,null,null,null,null,null,null,null,null,null,null,null,null,null,null,null,null,null,null,null,null,null,null,null,null,null,null,null,null,null,null,null,null,null,null,null,null,null,null,null,null,null,null,null,null,null,null,null,null,null,null,null,null,null,null,null,null,null,null,null,null,null,null,null,null,null,null,null,null,null,null,null,null,null,null,null,null,null,null,null,null,null,null,null,null,null,null,null,null,null,null,null,null,null,null,null,null,null,null,null,null,null,null,null,null,null,null,null,null,null,null,null,null,null,null,null,null,null,null,null,null,null,null,null,null,null,null,null,null,null,null,null,null,null,null,null,null,null,null,null,null,null,null,null,null,null,null,null,null,null,null,null,null,null,null,null,null,null,null,null,null,null,null,null,null,null,null,null,null,null,null,null,null,null,null,null,null,null,null,null,null,null,null,null,null,null,null,null,null,null,null,null,null,null,null,null,null,null,null,null,null,null,null,null,null,null,null,null,null,null,null,null,null,null,null,null,null,null,null,null,null,null,null,null,null,null,null,null,null,null,null,null,null,null,null,null,null,null,null,null,null,null,null,null,null,null,null,null,null,null,null,null,null,null,null,null,null,null,null,null,null,null,null,null,null,null,null,null,null,null,null,null,null,null,null,null,null,null,null,null,null,null,null,null,null,null,null,null,null,null,null,null,null,null,null,null,null,null,null,null,null,null,null,null,null,null,null,null,null,null,null,null,null,null,null,null,null,null,null,null,null,null,null,null,null,null,null,null,null,null,null,null,null,null,null,null,null,null,null,null,null,null,null,null,null,null,null,null,null,null,null,null,null,null,null,null,null,null,null,null,null,null,null,null,null,null,null,null,null,null,null,null,null,null,null,null,null,null,null,null,null,null,null,null,null,null,null,null,null,null,null,null,null,null,null,null,null,null,null,null,null,null,null,null,null,null,null,null,null,null,null,null,null,null,null,null,null,null,null,null,null,null,null,null,null,null,null,null,null,null,null,null,null,null,null,null,null,null,null,null,null,null,null,null,null,null,null,null,null,null,null,null,null,null,null,null,null,null,null,null,null,null,null,null,null,null,null,null,null,null,null,null,null,null,null,null,null,null,null,null,null,null,null,null,null,null,null,null,null,null,null,null,null,null,null,null,null,null,null,null,null,null,null,null,null,null,null,null,null,null,null,null,null,null,null,null,null,null,null,null,null,null,null,null,null,null,null,null,null,null,null,null,null,null,null,null,null,null,null,null,null,null,null,null,null,null,null,null,null,null,null,null,null,null,null,null,null,null,null,null,null,null,null,null,null,null,null,null,null,null,null,null,null,null,null,null,null,null,null,null,null,null,null,null,null,null,null,null,null,null,null,null,null,null,null,null,null,null,null,null,null,null,null,null,null,null,null,null,null,null,null,null,null,null,null,null,null,null,null,null,null,null,null,null,null,null,null,null,null,null,null,null,null,null,null,null,null,null,null,null,null,null,null,null,null,null,null,null,null,null,null,null,null,null,null,null,null,null,null,null,null,null,null,null,null,null,null,null,null,null,null,null,null,null,null,null,null,null,null,null,null,null,null,null,null,null,null,null,null,null,null,null,null,null,null,null,null,null,null,null,null,null,null,null,null,null,null,null,null,null,null,null,null,null,null,null,null,null,null,null,null,null,null,null,null,null,null,null,null,null,null,null,null,null,null,null,null,null,null,null,null,null,null,null,null,null,null,null,null,null,null,null,null,null,null,null,null,null,null,null,null,null,null,null,null,null,null,null,null,null,null,null,null,null,null,null,null,null,null,null,null,null,null,null,null,null,null,null,null,null,null,null,null,null,null,null,null,null,null,null,null,null,null,null,null,null,null,null,null,null,null,null,null,null,null,null,null,null,null,null,null,null,null,null,null,null,null,null,null,null,null,null,null,null,null,null,null,null,null,null,null,null,null,null,null,null,null,null,null,null,null,null,null,null,null,null,null,null,null,null,null,null,null,null,null,null,null,null,null,null,null,null,null,null,null,null,null,null,null,null,null,null,null,null,null,null,null,null,null,null,null,null,null,null,null,null,null,null,null,null,null,null,null,null,null,null,null,null,null,null,null,null,null,null,null,null,null,null,null,null,null,null,null,null,null,null,null,null,null,null,null,null,null,null,null,null,null,null,null,null,null,null,null,null,null,null,null,null,null,null,null,null,null,null,null,null,null,null,null,null,null,null,null,null,null,null,null,null,null,null,null,null,null,null,null,null,null,null,null,null,null,null,null,null,null,null,null,null,null,null,null,null,null,null,null,null,null,null,null,null,null,null,null,null,null,null,null,null,null,null,null,null,null,null,null,null,null,null,null,null,null,null,null,null,null,null,null,null,null,null,null,null,null,null,null,null,null,null,null,null,null,null,null,null,null,null,null,null,null,null,null,null,null,null,null,null,null,null,null,null,null,null,null,null,null,null,null,null,null,null,null,null,null,null,null,null,null,null,null,null,null,null,null,null,null,null,null,null,null,null,null,null,null,null,null,null,null,null,null,null,null,null,null,null,null,null,null,null,null,null,null,null,null,null,null,null,null,null,null,null,null,null,null,null,null,null,null,null,null,null,null,null,null,null,null,null,null,null,null,null,null,null,null,null,null,null,null,null,null,null,null,null,null,null,null,null,null,null,null,null,null,null,null,null,null,null,null,null,null,null,null,null,null,null,null,null,null,null,null,null,null,null,null,null,null,null,null,null,null,null,null,null,null,null,null,null,null,null,null,null,null,null,null,null,null,null,null,null,null,null,null,null,null,null,null,null,null,null,null,null,null,null,null,null,null,null,null,null,null,null,null,null,null,null,null,null,null,null,null,null,null,null,null,null,null,null,null,null,null,null,null,null,null,null,null,null,null,null,null,null,null,null,null,null,null,null,null,null,null,null,null,null,null,null,null,null,null,null,null,null,null,null,null,null,null,null,null,null,null,null,null,null,null,null,null,null,null,null,null,null,null,null,null,null,null,null,null,null,null,null,null,null,null,null,null,null,null,null,null,null,null,null,null,null,null,null,null,null,null,null,null,null,null,null,null,null,null,null,null,null,null,null,null,null,null,null,null,null,null,null,null,null,null,null,null,null,null,null,null,null,null,null,null,null,null,null,null,null,null,null,null,null,null,null,null,null,null,null,null,null,null,null,null,null,null,null,null,null,null,null,null,null,null,null,null,null,null,null,null,null,null,null,null,null,null,null,null,null,null,null,null,null,null,null,null,null,null,null,null,null,null,null,null,null,null,null,null,null,null,null,null,null,null,null,null,null,null,null,null,null,null,null,null,null,null,null,null,null,null,null,null,null,null,null,null,null,null,null,null,null,null,null,null,null,null,null,null,null,null,null,null,null,null,null,null,null,null,null,null,null,null,null,null,null,null,null,null,null,null,null,null,null,null,null,null,null,null,null,null,null,null,null,null,null,null,null,null,null,null,null,null,null,null,null,null,null,null,null,null,null,null,null,null,null,null,null,null,null,null,null,null,null,null,null,null,null,null,null,null,null,null,null,null,null,null,null,null,null,null,null,null,null,null,null,null,null,null,null,null,null,null,null,null,null,null,null,null,null,null,null,null,null,null,null,null,null,null,null,null,null,null,null,null,null,null,null,null,null,null,null,null,null,null,null,null,null,null,null,null,null,null,null,null,null,null,null,null,null,null,null,null,null,null,null,null,null,null,null,null,null,null,null,null,null,null,null,null,null,null,null,null,null,null,null,null,null,null,null,null,null,null,null,null,null,null,null,null,null,null,null,null,null,null,null,null,null,null,null,null,null,null,null,null,null,null,null,null,null,null,null,null,null,null,null,null,null,null,null,null,null,null,null,null,null,null,null,null,null,null,null,null,null,null,null,null,null,null,null,null,null,null,null,null,null,null,null,null,null,null,null,null,null,null,null,null,null,null,null,null,null,null,null,null,null,null,null,null,null,null,null,null,null,null,null,null,null,null,null,null,null,null,null,null,null,null,null,null,null,null,null,null,null,null,null,null,null,null,null,null,null,null,null,null,null,null,null,null,null,null,null,null,null,null,null,null,null,null,null,null,null,null,null,null,null,null,null,null,null,null,null,null,null,null,null,null,null,null,null,null,null,null,null,null,null,null,null,null,null,null,null,null,null,null,null,null,null,null,null,null,null,null,null,null,null,null,null,null,null,null,null,null,null,null,null,null,null,null,null,null,null,null,null,null,null,null,null,null,null,null,null,null,null,null,null,null,null,null,null,null,null,null,null,null,null,null,null,null,null,null,null,null,null,null,null,null,null,null,null,null,null,null,null,null,null,null,null,null,null,null,null,null,null,null,null,null,null,null,null,null,null,null,null,null,null,null,null,null,null,null,null,null,null,null,null,null,null,null,null,null,null,null,null,null,null,null,null,null,null,null,null,null,null,null,null,null,null,null,null,null,null,null,null,null,null,null,null,null,null,null,null,null,null,null,null,null,null,null,null,null,null,null,null,null,null,null,null,null,null,null,null,null,null,null,null,null,null,null,null,null,null,null,null,null,null,null,null,null,null,null,null,null,null,null,null,null,null,null,null,null,null,null,null,null,null,null,null,null,null,null,null,null,null,null,null,null,null,null,null,null,null,null,null,null,null,null,null,null,null,null,null,null,null,null,null,null,null,null,null,null,null,null,null,null,null,null,null,null,null,null,null,null,null,null,null,null,null,null,null,null,null,null,null,null,null,null,null,null,null,null,null,null,null,null,null,null,null,null,null,null,null,null,null,null,null,null,null,null,null,null,null,null,null,null,null,null,null,null,null,null,null,null,null,null,null,null,null,null,null,null,null,null,null,null,null,null,null,null,null,null,null,null,null,null,null,null,null,null,null,null,null,null,null,null,null,null,null,null,null,null,null,null,null,null,null,null,null,null,null,null,null,null,null,null,null,null,null,null,null,null,null,null,null,null,null,null,null,null,null,null,null,null,null,null,null,null,null,null,null,null,null,null,null,null,null,null,null,null,null,null,null,null,null,null,null,null,null,null,null,null,null,null,null,null,null,null,null,null,null,null,null,null,null,null,null,null,null,null,null,null,null,null,null,null,null,null,null,null,null,null,null,null,null,null,null,null,null,null,null,null,null,null,null,null,null,null,null,null,null,null,null,null,null,null,null,null,null,null,null,null,null,null,null,null,null,null,null,null,null,null,null,null,null,null,null,null,null,null,null,null,null,null,null,null,null,null,null,null,null,null,null,null,null,null,null,null,null,null,null,null,null,null,null,null,null,null,null,null,null,null,null,null,null,null,null,null,null,null,null,null,null,null,null,null,null,null,null,null,null,null,null,null,null,null,null,null,null,null,null,null,null,null,null,null,null,null,null,null,null,null,null,null,null,null,null,null,null,null,null,null,null,null,null,null,null,null,null,null,null,null,null,null,null,null,null,null,null,null,null,null,null,null,null,null,null,null,null,null,null,null,null,null,null,null,null,null,null,null,null,null,null,null,null,null,null,null,null,null,null,null,null,null,null,null,null,null,null,null,null,null,null,null,null,null,null,null,null,null,null,null,null,null,null,null,null,null,null,null,null,null,null,null,null,null,null,null,null,null,null,null,null,null,null,null,null,null,null,null,null,null,null,null,null,null,null,null,null,null,null,null,null,null,null,null,null,null,null,null,null,null,null,null,null,null,null,null,null,null,null,null,null,null,null,null,null,null,null,null,null,null,null,null,null,null,null,null,null,null,null,null,null,null,null,null,null,null,null,null,null,null,null,null,null,null,null,null,null,null,null,null,null,null,null,null,null,null,null,null,null,null,null,null,null,null,null,null,null,null,null,null,null,null,null,null,null,null,null,null,null,null,null,null,null,null,null,null,null,null,null,null,null,null,null,null,null,null,null,null,null,null,null,null,null,null,null,null,null,null,null,null,null,null,null,null,null,null,null,null,null,null,null,null,null,null,null,null,null,null,null,null,null,null,null,null,null,null,null,null,null,null,null,null,null,null,null,null,null,null,null,null,null,null,null,null,null,null,null,null,null,null,null,null,null,null,null,null,null,null,null,null,null,null,null,null,null,null,null,null,null,null,null,null,null,null,null,null,null,null,null,null,null,null,null,null,null,null,null,null,null,null,null,null,null,null,null,null,null,null,null,null,null,null,null,null,null,null,null,null,null,null,null,null,null,null,null,null,null,null,null,null,null,null,null,null,null,null,null,null,null,null,null,null,null,null,null,null,null,null,null,null,null,null,null,null,null,null,null,null,null,null,null,null,null,null,null,null,null,null,null,null,null,null,null,null,null,null,null,null,null,null,null,null,null,null,null,null,null,null,null,null,null,null,null,null,null,null,null,null,null,null,null,null,null,null,null,null,null,null,null,null,null,null,null,null,null,null,null,null,null,null,null,null,null,null,null,null,null,null,null,null,null,null,null,null,null,null,null,null,null,null,null,null,null,null,null,null,null,null,null,null,null,null,null,null,null,null,null,null,null,null,null,null,null,null,null,null,null,null,null,null,null,null,null,null,null,null,null,null,null,null,null,null,null,null,null,null,null,null,null,null,null,null,null,null,null,null,null,null,null,null,null,null,null,null,null,null,null,null,null,null,null,null,null,null,null,null,null,null,null,null,null,null,null,null,null,null,null,null,null,null,null,null,null,null,null,null,null,null,null,null,null,null,null,null,null,null,null,null,null,null,null,null,null,null,null,null,null,null,null,null,null,null,null,null,null,null,null,null,null,null,null,null,null,null,null,null,null,null,null,null,null,null,null,null,null,null,null,null,null,null,null,null,null,null,null,null,null,null,null,null,null,null,null,null,null,null,null,null,null,null,null,null,null,null,null,null,null,null,null,null,null,null,null,null,null,null,null,null,null,null,null,null,null,null,null,null,null,null,null,null,null,null,null,null,null,null,null,null,null,null,null,null,null,null,null,null,null,null,null,null,null,null,null,null,null,null,null,null,null,null,null,null,null,null,null,null,null,null,null,null,null,null,null,null,null,null,null,null,null,null,null,null,null,null,null,null,null,null,null,null,null,null,null,null,null,null,null,null,null,null,null,null,null,null,null,null,null,null,null,null,null,null,null,null,null,null,null,null,null,null,null,null,null,null,null,null,null,null,null,null,null,null,null,null,null,null,null,null,null,null,null,null,null,null,null,null,null,null,null,null,null,null,null,null,null,null,null,null,null,null,null,null,null,null,null,null,null,null,null,null,null,null,null,null,null,null,null,null,null,null,null,null,null,null,null,null,null,null,null,null,null,null,null,null,null,null,null,null,null,null,null,null,null,null,null,null,null,null,null,null,null,null,null,null,null,null,null,null,null,null,null,null,null,null,null,null,null,null,null,null,null,null,null,null,null,null,null,null,null,null,null,null,null,null,null,null,null,null,null,null,null,null,null,null,null,null,null,null,null,null,null,null,null,null,null,null,null,null,null,null,null,null,null,null,null,null,null,null,null,null,null,null,null,null,null,null,null,null,null,null,null,null,null,null,null,null,null,null,null,null,null,null,null,null,null,null,null,null,null,null,null,null,null,null,null,null,null,null,null,null,null,null,null,null,null,null,null,null,null,null,null,null,null,null,null,null,null,null,null,null,null,null,null,null,null,null,null,null,null,null,null,null,null,null,null,null,null,null,null,null,null,null,null,null,null,null,null,null,null,null,null,null,null,null,null,null,null,null,null,null,null,null,null,null,null,null,null,null,null,null,null,null,null,null,null,null,null,null,null,null,null,null,null,null,null,null,null,null,null,null,null,null,null,null,null,null,null,null,null,null,null,null,null,null,null,null,null,null,null,null,null,null,null,null,null,null,null,null,null,null,null,null,null,null,null,null,null,null,null,null,null,null,null,null,null,null,null,null,null,null,null,null,null,null,null,null,null,null,null,null,null,null,null,null,null,null,null,null,null,null,null,null,null,null,null,null,null,null,null,null,null,null,null,null,null,null,null,null,null,null,null,null,null,null,null,null,null,null,null,null,null,null,null,null,null,null,null,null,null,null,null,null,null,null,null,null,null,null,null,null,null,null,null,null,null,null,null,null,null,null,null,null,null,null,null,null,null,null,null,null,null,null,null,null,null,null,null,null,null,null,null,null,null,null,null,null,null,null,null,null,null,null,null,null,null,null,null,null,null,null,null,null,null,null,null,null,null,null,null,null,null,null,null,null,null,null,null,null,null,null,null,null,null,null,null,null,null,null,null,null,null,null,null,null,null,null,null,null,null,null,null,null,null,null,null,null,null,null,null,null,null,null,null,null,null,null,null,null,null,null,null,null,null,null,null,null,null,null,null,null,null,null,null,null,null,null,null,null,null,null,null,null,null,null,null,null,null,null,null,null,null,null,null,null,null,null,null,null,null,null,null,null,null,null,null,null,null,null,null,null,null,null,null,null,null,null,null,null,null,null,null,null,null,null,null,null,null,null,null,null,null,null,null,null,null,null,null,null,null,null,null,null,null,null,null,null,null,null,null,null,null,null,null,null,null,null,null,null,null,null,null,null,null,null,null,null,null,null,null,null,null,null,null,null,null,null,null,null,null,null,null,null,null,null,null,null,null,null,null,null,null,null,null,null,null,null,null,null,null,null,null,null,null,null,null,null,null,null,null,null,null,null,null,null,null,null,null,null,null,null,null,null,null,null,null,null,null,null,null,null,null,null,null,null,null,null,null,null,null,null,null,null,null,null,null,null,null,null,null,null,null,null,null,null,null,null,null,null,null,null,null,null,null,null,null,null,null,null,null,null,null,null,null,null,null,null,null,null,null,null,null,null,null,null,null,null,null,null,null,null,null,null,null,null,null,null,null,null,null,null,null,null,null,null,null,null,null,null,null,null,null,null,null,null,null,null,null,null,null,null,null,null,null,null,null,null,null,null,null,null,null,null,null,null,null,null,null,null,null,null,null,null,null,null,null,null,null,null,null,null,null,null,null,null,null,null,null,null,null,null,null,null,null,null,null,null,null,null,null,null,null,null,null,null,null,null,null,null,null,null,null,null,null,null,null,null,null,null,null,null,null,null,null,null,null,null,null,null,null,null,null,null,null,null,null,null,null,null,null,null,null,null,null,null,null,null,null,null,null,null,null,null,null,null,null,null,null,null,null,null,null,null,null,null,null,null,null,null,null,null,null,null,null,null,null,null,null,null,null,null,null,null,null,null,null,null,null,null,null,null,null,null,null,null,null,null,null,null,null,null,null,null,null,null,null,null,null,null,null,null,null,null,null,null,null,null,null,null,null,null,null,null,null,null,null,null,null,null,null,null,null,null,null,null,null,null,null,null,null,null,null,null,null,null,null,null,null,null,null,null,null,null,null,null,null,null,null,null,null,null,null,null,null,null,null,null,null,null,null,null,null,null,null,null,null,null,null,null,null,null,null,null,null,null,null,null,null,null,null,null,null,null,null,null,null,null,null,null,null,null,null,null,null,null,null,null,null,null,null,null,null,null,null,null,null,null,null,null,null,null,null,null,null,null,null,null,null,null,null,null,null,null,null,null,null,null,null,null,null,null,null,null,null,null,null,null,null,null,null,null,null,null,null,null,null,null,null,null,null,null,null,null,null,null,null,null,null,null,null,null,null,null,null,null,null,null,null,null,null,null,null,null,null,null,null,null,null,null,null,null,null,null,null,null,null,null,null,null,null,null,null,null,null,null,null,null,null,null,null,null,null,null,null,null,null,null,null,null,null,null,null,null,null,null,null,null,null,null,null,null,null,null,null,null,null,null,null,null,null,null,null,null,null,null,null,null,null,null,null,null,null,null,null,null,null,null,null,null,null,null,null,null,null,null,null,null,null,null,null,null,null,null,null,null,null,null,null,null,null,null,null,null,null,null,null,null,null,null,null,null,null,null,null,null,null,null,null,null,null,null,null,null,null,null,null,null,null,null,null,null,null,null,null,null,null,null,null,null,null,null,null,null,null,null,null,null,null,null,null,null,null,null,null,null,null,null,null,null,null,null,null,null,null,null,null,null,null,null,null,null,null,null,null,null,null,null,null,null,null,null,null,null,null,null,null,null,null,null,null,null,null,null,null,null,null,null,null,null,null,null,null,null,null,null,null,null,null,null,null,null,null,null,null,null,null,null,null,null,null,null,null,null,null,null,null,null,null,null,null,null,null,null,null,null,null,null,null,null,null,null,null,null,null,null,null,null,null,null,null,null,null,null,null,null,null,null,null,null,null,null,null,null,null,null,null,null,null,null,null,null,null,null,null,null,null,null,null,null,null,null,null,null,null,null,null,null,null,null,null,null,null,null,null,null,null,null,null,null,null,null,null,null,null,null,null,null,null,null,null,null,null,null,null,null,null,null,null,null,null,null,null,null,null,null,null,null,null,null,null,null,null,null,null,null,null,null,null,null,null,null,null,null,null,null,null,null,null,null,null,null,null,null,null,null,null,null,null,null,null,null,null,null,null,null,null,null,null,null,null,null,null,null,null,null,null,null,null,null,null,null,null,null,"Survey Name ",null,"CMQNT"]
[null,null,null,null,null,null,null,null,null,null,null,null,null,null,null,null,null,null,null,null,null,null,null,null,null,null,null,null,null,null,null,null,null,null,null,null,null,null,null,null,null,null,null,null,null,null,null,null,null,null,null,null,null,null,null,null,null,null,null,null,null,null,null,null,null,null,null,null,null,null,null,null,null,null,null,null,null,null,null,null,null,null,null,null,null,null,null,null,null,null,null,null,null,null,null,null,null,null,null,null,null,null,null,null,null,null,null,null,null,null,null,null,null,null,null,null,null,null,null,null,null,null,null,null,null,null,null,null,null,null,null,null,null,null,null,null,null,null,null,null,null,null,null,null,null,null,null,null,null,null,null,null,null,null,null,null,null,null,null,null,null,null,null,null,null,null,null,null,null,null,null,null,null,null,null,null,null,null,null,null,null,null,null,null,null,null,null,null,null,null,null,null,null,null,null,null,null,null,null,null,null,null,null,null,null,null,null,null,null,null,null,null,null,null,null,null,null,null,null,null,null,null,null,null,null,null,null,null,null,null,null,null,null,null,null,null,null,null,null,null,null,null,null,null,null,null,null,null,null,null,null,null,null,null,null,null,null,null,null,null,null,null,null,null,null,null,null,null,null,null,null,null,null,null,null,null,null,null,null,null,null,null,null,null,null,null,null,null,null,null,null,null,null,null,null,null,null,null,null,null,null,null,null,null,null,null,null,null,null,null,null,null,null,null,null,null,null,null,null,null,null,null,null,null,null,null,null,null,null,null,null,null,null,null,null,null,null,null,null,null,null,null,null,null,null,null,null,null,null,null,null,null,null,null,null,null,null,null,null,null,null,null,null,null,null,null,null,null,null,null,null,null,null,null,null,null,null,null,null,null,null,null,null,null,null,null,null,null,null,null,null,null,null,null,null,null,null,null,null,null,null,null,null,null,null,null,null,null,null,null,null,null,null,null,null,null,null,null,null,null,null,null,null,null,null,null,null,null,null,null,null,null,null,null,null,null,null,null,null,null,null,null,null,null,null,null,null,null,null,null,null,null,null,null,null,null,null,null,null,null,null,null,null,null,null,null,null,null,null,null,null,null,null,null,null,null,null,null,null,null,null,null,null,null,null,null,null,null,null,null,null,null,null,null,null,null,null,null,null,null,null,null,null,null,null,null,null,null,null,null,null,null,null,null,null,null,null,null,null,null,null,null,null,null,null,null,null,null,null,null,null,null,null,null,null,null,null,null,null,null,null,null,null,null,null,null,null,null,null,null,null,null,null,null,null,null,null,null,null,null,null,null,null,null,null,null,null,null,null,null,null,null,null,null,null,null,null,null,null,null,null,null,null,null,null,null,null,null,null,null,null,null,null,null,null,null,null,null,null,null,null,null,null,null,null,null,null,null,null,null,null,null,null,null,null,null,null,null,null,null,null,null,null,null,null,null,null,null,null,null,null,null,null,null,null,null,null,null,null,null,null,null,null,null,null,null,null,null,null,null,null,null,null,null,null,null,null,null,null,null,null,null,null,null,null,null,null,null,null,null,null,null,null,null,null,null,null,null,null,null,null,null,null,null,null,null,null,null,null,null,null,null,null,null,null,null,null,null,null,null,null,null,null,null,null,null,null,null,null,null,null,null,null,null,null,null,null,null,null,null,null,null,null,null,null,null,null,null,null,null,null,null,null,null,null,null,null,null,null,null,null,null,null,null,null,null,null,null,null,null,null,null,null,null,null,null,null,null,null,null,null,null,null,null,null,null,null,null,null,null,null,null,null,null,null,null,null,null,null,null,null,null,null,null,null,null,null,null,null,null,null,null,null,null,null,null,null,null,null,null,null,null,null,null,null,null,null,null,null,null,null,null,null,null,null,null,null,null,null,null,null,null,null,null,null,null,null,null,null,null,null,null,null,null,null,null,null,null,null,null,null,null,null,null,null,null,null,null,null,null,null,null,null,null,null,null,null,null,null,null,null,null,null,null,null,null,null,null,null,null,null,null,null,null,null,null,null,null,null,null,null,null,null,null,null,null,null,null,null,null,null,null,null,null,null,null,null,null,null,null,null,null,null,null,null,null,null,null,null,null,null,null,null,null,null,null,null,null,null,null,null,null,null,null,null,null,null,null,null,null,null,null,null,null,null,null,null,null,null,null,null,null,null,null,null,null,null,null,null,null,null,null,null,null,null,null,null,null,null,null,null,null,null,null,null,null,null,null,null,null,null,null,null,null,null,null,null,null,null,null,null,null,null,null,null,null,null,null,null,null,null,null,null,null,null,null,null,null,null,null,null,null,null,null,null,null,null,null,null,null,null,null,null,null,null,null,null,null,null,null,null,null,null,null,null,null,null,null,null,null,null,null,null,null,null,null,null,null,null,null,null,null,null,null,null,null,null,null,null,null,null,null,null,null,null,null,null,null,null,null,null,null,null,null,null,null,null,null,null,null,null,null,null,null,null,null,null,null,null,null,null,null,null,null,null,null,null,null,null,null,null,null,null,null,null,null,null,null,null,null,null,null,null,null,null,null,null,null,null,null,null,null,null,null,null,null,null,null,null,null,null,null,null,null,null,null,null,null,null,null,null,null,null,null,null,null,null,null,null,null,null,null,null,null,null,null,null,null,null,null,null,null,null,null,null,null,null,null,null,null,null,null,null,null,null,null,null,null,null,null,null,null,null,null,null,null,null,null,null,null,null,null,null,null,null,null,null,null,null,null,null,null,null,null,null,null,null,null,null,null,null,null,null,null,null,null,null,null,null,null,null,null,null,null,null,null,null,null,null,null,null,null,null,null,null,null,null,null,null,null,null,null,null,null,null,null,null,null,null,null,null,null,null,null,null,null,null,null,null,null,null,null,null,null,null,null,null,null,null,null,null,null,null,null,null,null,null,null,null,null,null,null,null,null,null,null,null,null,null,null,null,null,null,null,null,null,null,null,null,null,null,null,null,null,null,null,null,null,null,null,null,null,null,null,null,null,null,null,null,null,null,null,null,null,null,null,null,null,null,null,null,null,null,null,null,null,null,null,null,null,null,null,null,null,null,null,null,null,null,null,null,null,null,null,null,null,null,null,null,null,null,null,null,null,null,null,null,null,null,null,null,null,null,null,null,null,null,null,null,null,null,null,null,null,null,null,null,null,null,null,null,null,null,null,null,null,null,null,null,null,null,null,null,null,null,null,null,null,null,null,null,null,null,null,null,null,null,null,null,null,null,null,null,null,null,null,null,null,null,null,null,null,null,null,null,null,null,null,null,null,null,null,null,null,null,null,null,null,null,null,null,null,null,null,null,null,null,null,null,null,null,null,null,null,null,null,null,null,null,null,null,null,null,null,null,null,null,null,null,null,null,null,null,null,null,null,null,null,null,null,null,null,null,null,null,null,null,null,null,null,null,null,null,null,null,null,null,null,null,null,null,null,null,null,null,null,null,null,null,null,null,null,null,null,null,null,null,null,null,null,null,null,null,null,null,null,null,null,null,null,null,null,null,null,null,null,null,null,null,null,null,null,null,null,null,null,null,null,null,null,null,null,null,null,null,null,null,null,null,null,null,null,null,null,null,null,null,null,null,null,null,null,null,null,null,null,null,null,null,null,null,null,null,null,null,null,null,null,null,null,null,null,null,null,null,null,null,null,null,null,null,null,null,null,null,null,null,null,null,null,null,null,null,null,null,null,null,null,null,null,null,null,null,null,null,null,null,null,null,null,null,null,null,null,null,null,null,null,null,null,null,null,null,null,null,null,null,null,null,null,null,null,null,null,null,null,null,null,null,null,null,null,null,null,null,null,null,null,null,null,null,null,null,null,null,null,null,null,null,null,null,null,null,null,null,null,null,null,null,null,null,null,null,null,null,null,null,null,null,null,null,null,null,null,null,null,null,null,null,null,null,null,null,null,null,null,null,null,null,null,null,null,null,null,null,null,null,null,null,null,null,null,null,null,null,null,null,null,null,null,null,null,null,null,null,null,null,null,null,null,null,null,null,null,null,null,null,null,null,null,null,null,null,null,null,null,null,null,null,null,null,null,null,null,null,null,null,null,null,null,null,null,null,null,null,null,null,null,null,null,null,null,null,null,null,null,null,null,null,null,null,null,null,null,null,null,null,null,null,null,null,null,null,null,null,null,null,null,null,null,null,null,null,null,null,null,null,null,null,null,null,null,null,null,null,null,null,null,null,null,null,null,null,null,null,null,null,null,null,null,null,null,null,null,null,null,null,null,null,null,null,null,null,null,null,null,null,null,null,null,null,null,null,null,null,null,null,null,null,null,null,null,null,null,null,null,null,null,null,null,null,null,null,null,null,null,null,null,null,null,null,null,null,null,null,null,null,null,null,null,null,null,null,null,null,null,null,null,null,null,null,null,null,null,null,null,null,null,null,null,null,null,null,null,null,null,null,null,null,null,null,null,null,null,null,null,null,null,null,null,null,null,null,null,null,null,null,null,null,null,null,null,null,null,null,null,null,null,null,null,null,null,null,null,null,null,null,null,null,null,null,null,null,null,null,null,null,null,null,null,null,null,null,null,null,null,null,null,null,null,null,null,null,null,null,null,null,null,null,null,null,null,null,null,null,null,null,null,null,null,null,null,null,null,null,null,null,null,null,null,null,null,null,null,null,null,null,null,null,null,null,null,null,null,null,null,null,null,null,null,null,null,null,null,null,null,null,null,null,null,null,null,null,null,null,null,null,null,null,null,null,null,null,null,null,null,null,null,null,null,null,null,null,null,null,null,null,null,null,null,null,null,null,null,null,null,null,null,null,null,null,null,null,null,null,null,null,null,null,null,null,null,null,null,null,null,null,null,null,null,null,null,null,null,null,null,null,null,null,null,null,null,null,null,null,null,null,null,null,null,null,null,null,null,null,null,null,null,null,null,null,null,null,null,null,null,null,null,null,null,null,null,null,null,null,null,null,null,null,null,null,null,null,null,null,null,null,null,null,null,null,null,null,null,null,null,null,null,null,null,null,null,null,null,null,null,null,null,null,null,null,null,null,null,null,null,null,null,null,null,null,null,null,null,null,null,null,null,null,null,null,null,null,null,null,null,null,null,null,null,null,null,null,null,null,null,null,null,null,null,null,null,null,null,null,null,null,null,null,null,null,null,null,null,null,null,null,null,null,null,null,null,null,null,null,null,null,null,null,null,null,null,null,null,null,null,null,null,null,null,null,null,null,null,null,null,null,null,null,null,null,null,null,null,null,null,null,null,null,null,null,null,null,null,null,null,null,null,null,null,null,null,null,null,null,null,null,null,null,null,null,null,null,null,null,null,null,null,null,null,null,null,null,null,null,null,null,null,null,null,null,null,null,null,null,null,null,null,null,null,null,null,null,null,null,null,null,null,null,null,null,null,null,null,null,null,null,null,null,null,null,null,null,null,null,null,null,null,null,null,null,null,null,null,null,null,null,null,null,null,null,null,null,null,null,null,null,null,null,null,null,null,null,null,null,null,null,null,null,null,null,null,null,null,null,null,null,null,null,null,null,null,null,null,null,null,null,null,null,null,null,null,null,null,null,null,null,null,null,null,null,null,null,null,null,null,null,null,null,null,null,null,null,null,null,null,null,null,null,null,null,null,null,null,null,null,null,null,null,null,null,null,null,null,null,null,null,null,null,null,null,null,null,null,null,null,null,null,null,null,null,null,null,null,null,null,null,null,null,null,null,null,null,null,null,null,null,null,null,null,null,null,null,null,null,null,null,null,null,null,null,null,null,null,null,null,null,null,null,null,null,null,null,null,null,null,null,null,null,null,null,null,null,null,null,null,null,null,null,null,null,null,null,null,null,null,null,null,null,null,null,null,null,null,null,null,null,null,null,null,null,null,null,null,null,null,null,null,null,null,null,null,null,null,null,null,null,null,null,null,null,null,null,null,null,null,null,null,null,null,null,null,null,null,null,null,null,null,null,null,null,null,null,null,null,null,null,null,null,null,null,null,null,null,null,null,null,null,null,null,null,null,null,null,null,null,null,null,null,null,null,null,null,null,null,null,null,null,null,null,null,null,null,null,null,null,null,null,null,null,null,null,null,null,null,null,null,null,null,null,null,null,null,null,null,null,null,null,null,null,null,null,null,null,null,null,null,null,null,null,null,null,null,null,null,null,null,null,null,null,null,null,null,null,null,null,null,null,null,null,null,null,null,null,null,null,null,null,null,null,null,null,null,null,null,null,null,null,null,null,null,null,null,null,null,null,null,null,null,null,null,null,null,null,null,null,null,null,null,null,null,null,null,null,null,null,null,null,null,null,null,null,null,null,null,null,null,null,null,null,null,null,null,null,null,null,null,null,null,null,null,null,null,null,null,null,null,null,null,null,null,null,null,null,null,null,null,null,null,null,null,null,null,null,null,null,null,null,null,null,null,null,null,null,null,null,null,null,null,null,null,null,null,null,null,null,null,null,null,null,null,null,null,null,null,null,null,null,null,null,null,null,null,null,null,null,null,null,null,null,null,null,null,null,null,null,null,null,null,null,null,null,null,null,null,null,null,null,null,null,null,null,null,null,null,null,null,null,null,null,null,null,null,null,null,null,null,null,null,null,null,null,null,null,null,null,null,null,null,null,null,null,null,null,null,null,null,null,null,null,null,null,null,null,null,null,null,null,null,null,null,null,null,null,null,null,null,null,null,null,null,null,null,null,null,null,null,null,null,null,null,null,null,null,null,null,null,null,null,null,null,null,null,null,null,null,null,null,null,null,null,null,null,null,null,null,null,null,null,null,null,null,null,null,null,null,null,null,null,null,null,null,null,null,null,null,null,null,null,null,null,null,null,null,null,null,null,null,null,null,null,null,null,null,null,null,null,null,null,null,null,null,null,null,null,null,null,null,null,null,null,null,null,null,null,null,null,null,null,null,null,null,null,null,null,null,null,null,null,null,null,null,null,null,null,null,null,null,null,null,null,null,null,null,null,null,null,null,null,null,null,null,null,null,null,null,null,null,null,null,null,null,null,null,null,null,null,null,null,null,null,null,null,null,null,null,null,null,null,null,null,null,null,null,null,null,null,null,null,null,null,null,null,null,null,null,null,null,null,null,null,null,null,null,null,null,null,null,null,null,null,null,null,null,null,null,null,null,null,null,null,null,null,null,null,null,null,null,null,null,null,null,null,null,null,null,null,null,null,null,null,null,null,null,null,null,null,null,null,null,null,null,null,null,null,null,null,null,null,null,null,null,null,null,null,null,null,null,null,null,null,null,null,null,null,null,null,null,null,null,null,null,null,null,null,null,null,null,null,null,null,null,null,null,null,null,null,null,null,null,null,null,null,null,null,null,null,null,null,null,null,null,null,null,null,null,null,null,null,null,null,null,null,null,null,null,null,null,null,null,null,null,null,null,null,null,null,null,null,null,null,null,null,null,null,null,null,null,null,null,null,null,null,null,null,null,null,null,null,null,null,null,null,null,null,null,null,null,null,null,null,null,null,null,null,null,null,null,null,null,null,null,null,null,null,null,null,null,null,null,null,null,null,null,null,null,null,null,null,null,null,null,null,null,null,null,null,null,null,null,null,null,null,null,null,null,null,null,null,null,null,null,null,null,null,null,null,null,null,null,null,null,null,null,null,null,null,null,null,null,null,null,null,null,null,null,null,null,null,null,null,null,null,null,null,null,null,null,null,null,null,null,null,null,null,null,null,null,null,null,null,null,null,null,null,null,null,null,null,null,null,null,null,null,null,null,null,null,null,null,null,null,null,null,null,null,null,null,null,null,null,null,null,null,null,null,null,null,null,null,null,null,null,null,null,null,null,null,null,null,null,null,null,null,null,null,null,null,null,null,null,null,null,null,null,null,null,null,null,null,null,null,null,null,null,null,null,null,null,null,null,null,null,null,null,null,null,null,null,null,null,null,null,null,null,null,null,null,null,null,null,null,null,null,null,null,null,null,null,null,null,null,null,null,null,null,null,null,null,null,null,null,null,null,null,null,null,null,null,null,null,null,null,null,null,null,null,null,null,null,null,null,null,null,null,null,null,null,null,null,null,null,null,null,null,null,null,null,null,null,null,null,null,null,null,null,null,null,null,null,null,null,null,null,null,null,null,null,null,null,null,null,null,null,null,null,null,null,null,null,null,null,null,null,null,null,null,null,null,null,null,null,null,null,null,null,null,null,null,null,null,null,null,null,null,null,null,null,null,null,null,null,null,null,null,null,null,null,null,null,null,null,null,null,null,null,null,null,null,null,null,null,null,null,null,null,null,null,null,null,null,null,null,null,null,null,null,null,null,null,null,null,null,null,null,null,null,null,null,null,null,null,null,null,null,null,null,null,null,null,null,null,null,null,null,null,null,null,null,null,null,null,null,null,null,null,null,null,null,null,null,null,null,null,null,null,null,null,null,null,null,null,null,null,null,null,null,null,null,null,null,null,null,null,null,null,null,null,null,null,null,null,null,null,null,null,null,null,null,null,null,null,null,null,null,null,null,null,null,null,null,null,null,null,null,null,null,null,null,null,null,null,null,null,null,null,null,null,null,null,null,null,null,null,null,null,null,null,null,null,null,null,null,null,null,null,null,null,null,null,null,null,null,null,null,null,null,null,null,null,null,null,null,null,null,null,null,null,null,null,null,null,null,null,null,null,null,null,null,null,null,null,null,null,null,null,null,null,null,null,null,null,null,null,null,null,null,null,null,null,null,null,null,null,null,null,null,null,null,null,null,null,null,null,null,null,null,null,null,null,null,null,null,null,null,null,null,null,null,null,null,null,null,null,null,null,null,null,null,null,null,null,null,null,null,null,null,null,null,null,null,null,null,null,null,null,null,null,null,null,null,null,null,null,null,null,null,null,null,null,null,null,null,null,null,null,null,null,null,null,null,null,null,null,null,null,null,null,null,null,null,null,null,null,null,null,null,null,null,null,null,null,null,null,null,null,null,null,null,null,null,null,null,null,null,null,null,null,null,null,null,null,null,null,null,null,null,null,null,null,null,null,null,null,null,null,null,null,null,null,null,null,null,null,null,null,null,null,null,null,null,null,null,null,null,null,null,null,null,null,null,null,null,null,null,null,null,null,null,null,null,null,null,null,null,null,null,null,null,null,null,null,null,null,null,null,null,null,null,null,null,null,null,null,null,null,null,null,null,null,null,null,null,null,null,null,null,null,null,null,null,null,null,null,null,null,null,null,null,null,null,null,null,null,null,null,null,null,null,null,null,null,null,null,null,null,null,null,null,null,null,null,null,null,null,null,null,null,null,null,null,null,null,null,null,null,null,null,null,null,null,null,null,null,null,null,null,null,null,null,null,null,null,null,null,null,null,null,null,null,null,null,null,null,null,null,null,null,null,null,null,null,null,null,null,null,null,null,null,null,null,null,null,null,null,null,null,null,null,null,null,null,null,null,null,null,null,null,null,null,null,null,null,null,null,null,null,null,null,null,null,null,null,null,null,null,null,null,null,null,null,null,null,null,null,null,null,null,null,null,null,null,null,null,null,null,null,null,null,null,null,null,null,null,null,null,null,null,null,null,null,null,null,null,null,null,null,null,null,null,null,null,null,null,null,null,null,null,null,null,null,null,null,null,null,null,null,null,null,null,null,null,null,null,null,null,null,null,null,null,null,null,null,null,null,null,null,null,null,null,null,null,null,null,null,null,null,null,null,null,null,null,null,null,null,null,null,null,null,null,null,null,null,null,null,null,null,null,null,null,null,null,null,null,null,null,null,null,null,null,null,null,null,null,null,null,null,null,null,null,null,null,null,null,null,null,null,null,null,null,null,null,null,null,null,null,null,null,null,null,null,null,null,null,null,null,null,null,null,null,null,null,null,null,null,null,null,null,null,null,null,null,null,null,null,null,null,null,null,null,null,null,null,null,null,null,null,null,null,null,null,null,null,null,null,null,null,null,null,null,null,null,null,null,null,null,null,null,null,null,null,null,null,null,null,null,null,null,null,null,null,null,null,null,null,null,null,null,null,null,null,null,null,null,null,null,null,null,null,null,null,null,null,null,null,null,null,null,null,null,null,null,null,null,null,null,null,null,null,null,null,null,null,null,null,null,null,null,null,null,null,null,null,null,null,null,null,null,null,null,null,null,null,null,null,null,null,null,null,null,null,null,null,null,null,null,null,null,null,null,null,null,null,null,null,null,null,null,null,null,null,null,null,null,null,null,null,null,null,null,null,null,null,null,null,null,null,null,null,null,null,null,null,null,null,null,null,null,null,null,null,null,null,null,null,null,null,null,null,null,null,null,null,null,null,null,null,null,null,null,null,null,null,null,null,null,null,null,null,null,null,null,null,null,null,null,null,null,null,null,null,null,null,null,null,null,null,null,null,null,null,null,null,null,null,null,null,null,null,null,null,null,null,null,null,null,null,null,null,null,null,null,null,null,null,null,null,null,null,null,null,null,null,null,null,null,null,null,null,null,null,null,null,null,null,null,null,null,null,null,null,null,null,null,null,null,null,null,null,null,null,null,null,null,null,null,null,null,null,null,null,null,null,null,null,null,null,null,null,null,null,null,null,null,null,null,null,null,null,null,null,null,null,null,null,null,null,null,null,null,null,null,null,null,null,null,null,null,null,null,null,null,null,null,null,null,null,null,null,null,null,null,null,null,null,null,null,null,null,null,null,null,null,null,null,null,null,null,null,null,null,null,null,null,null,null,null,null,null,null,null,null,null,null,null,null,null,null,null,null,null,null,null,null,null,null,null,null,null,null,null,null,null,null,null,null,null,null,null,null,null,null,null,null,null,null,null,null,null,null,null,null,null,null,null,null,null,null,null,null,null,null,null,null,null,null,null,null,null,null,null,null,null,null,null,null,null,null,null,null,null,null,null,null,null,null,null,null,null,null,null,null,null,null,null,null,null,null,null,null,null,null,null,null,null,null,null,null,null,null,null,null,null,null,null,null,null,null,null,null,null,null,null,null,null,null,null,null,null,null,null,null,null,null,null,null,null,null,null,null,null,null,null,null,null,null,null,null,null,null,null,null,null,null,null,null,null,null,null,null,null,null,null,null,null,null,null,null,null,null,null,null,null,null,null,null,null,null,null,null,null,null,null,null,null,null,null,null,null,null,null,null,null,null,null,null,null,null,null,null,null,null,null,null,null,null,null,null,null,null,null,null,null,null,null,null,null,null,null,null,null,null,null,null,null,null,null,null,null,null,null,null,null,null,null,null,null,null,null,null,null,null,null,null,null,null,null,null,null,null,null,null,null,null,null,null,null,null,null,null,null,null,null,null,null,null,null,null,null,null,null,null,null,null,null,null,null,null,null,null,null,null,null,null,null,null,null,null,null,null,null,null,null,null,null,null,null,null,null,null,null,null,null,null,null,null,null,null,null,null,null,null,null,null,null,null,null,null,null,null,null,null,null,null,null,null,null,null,null,null,null,null,null,null,null,null,null,null,null,null,null,null,null,null,null,null,null,null,null,null,null,null,null,null,null,null,null,null,null,null,null,null,null,null,null,null,null,null,null,null,null,null,null,null,null,null,null,null,null,null,null,null,null,null,null,null,null,null,null,null,null,null,null,null,null,null,null,null,null,null,null,null,null,null,null,null,null,null,null,null,null,null,null,null,null,null,null,null,null,null,null,null,null,null,null,null,null,null,null,null,null,null,null,null,null,null,null,null,null,null,null,null,null,null,null,null,null,null,null,null,null,null,null,null,null,null,null,null,null,null,null,null,null,null,null,null,null,null,null,null,null,null,null,null,null,null,null,null,null,null,null,null,null,null,null,null,null,null,null,null,null,null,null,null,null,null,null,null,null,null,null,null,null,null,null,null,null,null,null,null,null,null,null,null,null,null,null,null,null,null,null,null,null,null,null,null,null,null,null,null,null,null,null,null,null,null,null,null,null,null,null,null,null,null,null,null,null,null,null,null,null,null,null,null,null,null,null,null,null,null,null,null,null,null,null,null,null,null,null,null,null,null,null,null,null,null,null,null,null,null,null,null,null,null,null,null,null,null,null,null,null,null,null,null,null,null,null,null,null,null,null,null,null,null,null,null,null,null,null,null,null,null,null,null,null,null,null,null,null,null,null,null,null,null,null,null,null,null,null,null,null,null,null,null,null,null,null,null,null,null,null,null,null,null,null,null,null,null,null,null,null,null,null,null,null,null,null,null,null,null,null,null,null,null,null,null,null,null,null,null,null,null,null,null,null,null,null,null,null,null,null,null,null,null,null,null,null,null,null,null,null,null,null,null,null,null,null,null,null,null,null,null,null,null,null,null,null,null,null,null,null,null,null,null,null,null,null,null,null,null,null,null,null,null,null,null,null,null,null,null,null,null,null,null,null,null,null,null,null,null,null,null,null,null,null,null,null,null,null,null,null,null,null,null,null,null,null,null,null,null,null,null,null,null,null,null,null,null,null,null,null,null,null,null,null,null,null,null,null,null,null,null,null,null,null,null,null,null,null,null,null,null,null,null,null,null,null,null,null,null,null,null,null,null,null,null,null,null,null,null,null,null,null,null,null,null,null,null,null,null,null,null,null,null,null,null,null,null,null,null,null,null,null,null,null,null,null,null,null,null,null,null,null,null,null,null,null,null,null,null,null,null,null,null,null,null,null,null,null,null,null,null,null,null,null,null,null,null,null,null,null,null,null,null,null,null,null,null,null,null,null,null,null,null,null,null,null,null,null,null,null,null,null,null,null,null,null,null,null,null,null,null,null,null,null,null,null,null,null,null,null,null,null,null,null,null,null,null,null,null,null,null,null,null,null,null,null,null,null,null,null,null,null,null,null,null,null,null,null,null,null,null,null,null,null,null,null,null,null,null,null,null,null,null,null,null,null,null,null,null,null,null,null,null,null,null,null,null,null,null,null,null,null,null,null,null,null,null,null,null,null,null,null,null,null,null,null,null,null,null,null,null,null,null,null,null,null,null,null,null,null,null,null,null,null,null,null,null,null,null,null,null,null,null,null,null,null,null,null,null,null,null,null,null,null,null,null,null,null,null,null,null,null,null,null,null,null,null,null,null,null,null,null,null,null,null,null,null,null,null,null,null,null,null,null,null,null,null,null,null,null,null,null,null,null,null,null,null,null,null,null,null,null,null,null,null,null,null,null,null,null,null,null,null,null,null,null,null,null,null,null,null,null,null,null,null,null,null,null,null,null,null,null,null,null,null,null,null,null,null,null,null,null,null,null,null,null,null,null,null,null,null,null,null,null,null,null,null,null,null,null,null,null,null,null,null,null,null,null,null,null,null,null,null,null,null,null,null,null,null,null,null,null,null,null,null,null,null,null,null,null,null,null,null,null,null,null,null,null,null,null,null,null,null,null,null,null,null,null,null,null,null,null,null,null,null,null,null,null,null,null,null,null,null,null,null,null,null,null,null,null,null,null,null,null,null,null,null,null,null,null,null,null,null,null,null,null,null,null,null,null,null,null,null,null,null,null,null,null,null,null,null,null,null,null,null,null,null,null,null,null,null,null,null,null,null,null,null,null,null,null,null,null,null,null,null,null,null,null,null,null,null,null,null,null,null,null,null,null,null,null,null,null,null,null,null,null,null,null,null,null,null,null,null,null,null,null,null,null,null,null,null,null,null,null,null,null,null,null,null,null,null,null,null,null,null,null,null,null,null,null,null,null,null,null,null,null,null,null,null,null,null,null,null,null,null,null,null,null,null,null,null,null,null,null,null,null,null,null,null,null,null,null,null,null,null,null,null,null,null,null,null,null,null,null,null,null,null,null,null,null,null,null,null,null,null,null,null,null,null,null,null,null,null,null,null,null,null,null,null,null,null,null,null,null,null,null,null,null,null,null,null,null,null,null,null,null,null,null,null,null,null,null,null,null,null,null,null,null,null,null,null,null,null,null,null,null,null,null,null,null,null,null,null,null,null,null,null,null,null,null,null,null,null,null,null,null,null,null,null,null,null,null,null,null,null,null,null,null,null,null,null,null,null,null,null,null,null,null,null,null,null,null,null,null,null,null,null,null,null,null,null,null,null,null,null,null,null,null,null,null,null,null,null,null,null,null,null,null,null,null,null,null,null,null,null,null,null,null,null,null,null,null,null,null,null,null,null,null,null,null,null,null,null,null,null,null,null,null,null,null,null,null,null,null,null,null,null,null,null,null,null,null,null,null,null,null,null,null,null,null,null,null,null,null,null,null,null,null,null,null,null,null,null,null,null,null,null,null,null,null,null,null,null,null,null,null,null,null,null,null,null,null,null,null,null,null,null,null,null,null,null,null,null,null,null,null,null,null,null,null,null,null,null,null,null,null,null,null,null,null,null,null,null,null,null,null,null,null,null,null,null,null,null,null,null,null,null,null,null,null,null,null,null,null,null,null,null,null,null,null,null,null,null,null,null,null,null,null,null,null,null,null,null,null,null,null,null,null,null,null,null,null,null,null,null,null,null,null,null,null,null,null,null,null,null,null,null,null,null,null,null,null,null,null,null,null,null,null,null,null,null,null,null,null,null,null,null,null,null,null,null,null,null,null,null,null,null,null,null,null,null,null,null,null,null,null,null,null,null,null,null,null,null,null,null,null,null,null,null,null,null,null,null,null,null,null,null,null,null,null,null,null,null,null,null,null,null,null,null,null,null,null,null,null,null,null,null,null,null,null,null,null,null,null,null,null,null,null,null,null,null,null,null,null,null,null,null,null,null,null,null,null,null,null,null,null,null,null,null,null,null,null,null,null,null,null,null,null,null,null,null,null,null,null,null,null,null,null,null,null,null,null,null,null,null,null,null,null,null,null,null,null,null,null,null,null,null,null,null,null,null,null,null,null,null,null,null,null,null,null,null,null,null,null,null,null,null,null,null,null,null,null,null,null,null,null,null,null,null,null,null,null,null,null,null,null,null,null,null,null,null,null,null,null,null,null,null,null,null,null,null,null,null,null,null,null,null,null,null,null,null,null,null,null,null,null,null,null,null,null,null,null,null,null,null,null,null,null,null,null,null,null,null,null,null,null,null,null,null,null,null,null,null,null,null,null,null,null,null,null,null,null,null,null,null,null,null,null,null,null,null,null,null,null,null,null,null,null,null,null,null,null,null,null,null,null,null,null,null,null,null,null,null,null,null,null,null,null,null,null,null,null,null,null,null,null,null,null,null,null,null,null,null,null,null,null,null,null,null,null,null,null,null,null,null,null,null,null,null,null,null,null,null,null,null,null,null,null,null,null,null,null,null,null,null,null,null,null,null,null,null,null,null,null,null,null,null,null,null,null,null,null,null,null,null,null,null,null,null,null,null,null,null,null,null,null,null,null,null,null,null,null,null,null,null,null,null,null,null,null,null,null,null,null,null,null,null,null,null,null,null,null,null,null,null,null,null,null,null,null,null,null,null,null,null,null,null,null,null,null,null,null,null,null,null,null,null,null,null,null,null,null,null,null,null,null,null,null,null,null,null,null,null,null,null,null,null,null,null,null,null,null,null,null,null,null,null,null,null,null,null,null,null,null,null,null,null,null,null,null,null,null,null,null,null,null,null,null,null,null,null,null,null,null,null,null,null,null,null,null,null,null,null,null,null,null,null,null,null,null,null,null,null,null,null,null,null,null,null,null,null,null,null,null,null,null,null,null,null,null,null,null,null,null,null,null,null,null,null,null,null,null,null,null,null,null,null,null,null,null,null,null,null,null,null,null,null,null,null,null,null,null,null,null,null,null,null,null,null,null,null,null,null,null,null,null,null,null,null,null,null,null,null,null,null,null,null,null,null,null,null,null,null,null,null,null,null,null,null,null,null,null,null,null,null,null,null,null,null,null,null,null,null,null,null,null,null,null,null,null,null,null,null,null,null,null,null,null,null,null,null,null,null,null,null,null,null,null,null,null,null,null,null,null,null,null,null,null,null,null,null,null,null,null,null,null,null,null,null,null,null,null,null,null,null,null,null,null,null,null,null,null,null,null,null,null,null,null,null,null,null,null,null,null,null,null,null,null,null,null,null,null,null,null,null,null,null,null,null,null,null,null,null,null,null,null,null,null,null,null,null,null,null,null,null,null,null,null,null,null,null,null,null,null,null,null,null,null,null,null,null,null,null,null,null,null,null,null,null,null,null,null,null,null,null,null,null,null,null,null,null,null,null,null,null,null,null,null,null,null,null,null,null,null,null,null,null,null,null,null,null,null,null,null,null,null,null,null,null,null,null,null,null,null,null,null,null,null,null,null,null,null,null,null,null,null,null,null,null,null,null,null,null,null,null,null,null,null,null,null,null,null,null,null,null,null,null,null,null,null,null,null,null,null,null,null,null,null,null,null,null,null,null,null,null,null,null,null,null,null,null,null,null,null,null,null,null,null,null,null,null,null,null,null,null,null,null,null,null,null,null,null,null,null,null,null,null,null,null,null,null,null,null,null,null,null,null,null,null,null,null,null,null,null,null,null,null,null,null,null,null,null,null,null,null,null,null,null,null,null,null,null,null,null,null,null,null,null,null,null,null,null,null,null,null,null,null,null,null,null,null,null,null,null,null,null,null,null,null,null,null,null,null,null,null,null,null,null,null,null,null,null,null,null,null,null,null,null,null,null,null,null,null,null,null,null,null,null,null,null,null,null,null,null,null,null,null,null,null,null,null,null,null,null,null,null,null,null,null,null,null,null,null,null,null,null,null,null,null,null,null,null,null,null,null,null,null,null,null,null,null,null,null,null,null,null,null,null,null,null,null,null,null,null,null,null,null,null,null,null,null,null,null,null,null,null,null,null,null,null,null,null,null,null,null,null,null,null,null,null,null,null,null,null,null,null,null,null,null,null,null,null,null,null,null,null,null,null,null,null,null,null,null,null,null,null,null,null,null,null,null,null,null,null,null,null,null,null,null,null,null,null,null,null,null,null,null,null,null,null,null,null,null,null,null,null,null,null,null,null,null,null,null,null,null,null,null,null,null,null,null,null,null,null,null,null,null,null,null,null,null,null,null,null,null,null,null,null,null,null,null,null,null,null,null,null,null,null,null,null,null,null,null,null,null,null,null,null,null,null,null,null,null,null,null,null,null,null,null,null,null,null,null,null,null,null,null,null,null,null,null,null,null,null,null,null,null,null,null,null,null,null,null,null,null,null,null,null,null,null,null,null,null,null,null,null,null,null,null,null,null,null,null,null,null,null,null,null,null,null,null,null,null,null,null,null,null,null,null,null,null,null,null,null,null,null,null,null,null,null,null,null,null,null,null,null,null,null,null,null,null,null,null,null,null,null,null,null,null,null,null,null,null,null,null,null,null,null,null,null,null,null,null,null,null,null,null,null,null,null,null,null,null,null,null,null,null,null,null,null,null,null,null,null,null,null,null,null,null,null,null,null,null,null,null,null,null,null,null,null,null,null,null,null,null,null,null,null,null,null,null,null,null,null,null,null,null,null,null,null,null,null,null,null,null,null,null,null,null,null,null,null,null,null,null,null,null,null,null,null,null,null,null,null,null,null,null,null,null,null,null,null,null,null,null,null,null,null,null,null,null,null,null,null,null,null,null,null,null,null,null,null,null,null,null,null,null,null,null,null,null,null,null,null,null,null,null,null,null,null,null,null,null,null,null,null,null,null,null,null,null,null,null,null,null,null,null,null,null,null,null,null,null,null,null,null,null,null,null,null,null,null,null,null,null,null,null,null,null,null,null,null,null,null,null,null,null,null,null,null,null,null,null,null,null,null,null,null,null,null,null,null,null,null,null,null,null,null,null,null,null,null,null,null,null,null,null,null,null,null,null,null,null,null,null,null,null,null,null,null,null,null,null,null,null,null,null,null,null,null,null,null,null,null,null,null,null,null,null,null,null,null,null,null,null,null,null,null,null,null,null,null,null,null,null,null,null,null,null,null,null,null,null,null,null,null,null,null,null,null,null,null,null,null,null,null,null,null,null,null,null,null,null,null,null,null,null,null,null,null,null,null,null,null,null,null,null,null,null,null,null,null,null,null,null,null,null,null,null,null,null,null,null,null,null,null,null,null,null,null,null,null,null,null,null,null,null,null,null,null,null,null,null,null,null,null,null,null,null,null,null,null,null,null,null,null,null,null,null,null,null,null,null,null,null,null,null,null,null,null,null,null,null,null,null,null,null,null,null,null,null,null,null,null,null,null,null,null,null,null,null,null,null,null,null,null,null,null,null,null,null,null,null,null,null,null,null,null,null,null,null,null,null,null,null,null,null,null,null,null,null,null,null,null,null,null,null,null,null,null,null,null,null,null,null,null,null,null,null,null,null,null,null,null,null,null,null,null,null,null,null,null,null,null,null,null,null,null,null,null,null,null,null,null,null,null,null,null,null,null,null,null,null,null,null,null,null,null,null,null,null,null,null,null,null,null,null,null,null,null,null,null,null,null,null,null,null,null,null,null,null,null,null,null,null,null,null,null,null,null,null,null,null,null,null,null,null,null,null,null,null,null,null,null,null,null,null,null,null,null,null,null,null,null,null,null,null,null,null,null,null,null,null,null,null,null,null,null,null,null,null,null,null,null,null,null,null,null,null,null,null,null,null,null,null,null,null,null,null,null,null,null,null,null,null,null,null,null,null,null,null,null,null,null,null,null,null,null,null,null,null,null,null,null,null,null,null,null,null,null,null,null,null,null,null,null,null,null,null,null,null,null,null,null,null,null,null,null,null,null,null,null,null,null,null,null,null,null,null,null,null,null,null,null,null,null,null,null,null,null,null,null,null,null,null,null,null,null,null,null,null,null,null,null,null,null,null,null,null,null,null,null,null,null,null,null,null,null,null,null,null,null,null,null,null,null,null,null,null,null,null,null,null,null,null,null,null,null,null,null,null,null,null,null,null,null,null,null,null,null,null,null,null,null,null,null,null,null,null,null,null,null,null,null,null,null,null,null,null,null,null,null,null,null,null,null,null,null,null,null,null,null,null,null,null,null,null,null,null,null,null,null,null,null,null,null,null,null,null,null,null,null,null,null,null,null,null,null,null,null,null,null,null,null,null,null,null,null,null,null,null,null,null,null,null,null,null,null,null,null,null,null,null,null,null,null,null,null,null,null,null,null,null,null,null,null,null,null,null,null,null,null,null,null,null,null,null,null,null,null,null,null,null,null,null,null,null,null,null,null,null,null,null,null,null,null,null,null,null,null,null,null,null,null,null,null,null,null,null,null,null,null,null,null,null,null,null,null,null,null,null,null,null,null,null,null,null,null,null,null,null,null,null,null,null,null,null,null,null,null,null,null,null,null,null,null,null,null,null,null,null,null,null,null,null,null,null,null,null,null,null,null,null,null,null,null,null,null,null,null,null,null,null,null,null,null,null,null,null,null,null,null,null,null,null,null,null,null,null,null,null,null,null,null,null,null,null,null,null,null,null,null,null,null,null,null,null,null,null,null,null,null,null,null,null,null,null,null,null,null,null,null,null,null,null,null,null,null,null,null,null,null,null,null,null,null,null,null,null,null,null,null,null,null,null,null,null,null,null,null,null,null,null,null,null,null,null,null,null,null,null,null,null,null,null,null,null,null,null,null,null,null,null,null,null,null,null,null,null,null,null,null,null,null,null,null,null,null,null,null,null,null,null,null,null,null,null,null,null,null,null,null,null,null,null,null,null,null,null,null,null,null,null,null,null,null,null,null,null,null,null,null,null,null,null,null,null,null,null,null,null,null,null,null,null,null,null,null,null,null,null,null,null,null,null,null,null,null,null,null,null,null,null,null,null,null,null,null,null,null,null,null,null,null,null,null,null,null,null,null,null,null,null,null,null,null,null,null,null,null,null,null,null,null,null,null,null,null,null,null,null,null,null,null,null,null,null,null,null,null,null,null,null,null,null,null,null,null,null,null,null,null,null,null,null,null,null,null,null,null,null,null,null,null,null,null,null,null,null,null,null,null,null,null,null,null,null,null,null,null,null,null,null,null,null,null,null,null,null,null,null,null,null,null,null,null,null,null,null,null,null,null,null,null,null,null,null,null,null,null,null,null,null,null,null,null,null,null,null,null,null,null,null,null,null,null,null,null,null,null,null,null,null,null,null,null,null,null,null,null,null,null,null,null,null,null,null,null,null,null,null,null,null,null,null,null,null,null,null,null,null,null,null,null,null,null,null,null,null,null,null,null,null,null,null,null,null,null,null,null,null,null,null,null,null,null,null,null,null,null,null,null,null,null,null,null,null,null,null,null,null,null,null,null,null,null,null,null,null,null,null,null,null,null,null,null,null,null,null,null,null,null,null,null,null,null,null,null,null,null,null,null,null,null,null,null,null,null,null,null,null,null,null,null,null,null,null,null,null,null,null,null,null,null,null,null,null,null,null,null,null,null,null,null,null,null,null,null,null,null,null,null,null,null,null,null,null,null,null,null,null,null,null,null,null,null,null,null,null,null,null,null,null,null,null,null,null,null,null,null,null,null,null,null,null,null,null,null,null,null,null,null,null,null,null,null,null,null,null,null,null,null,null,null,null,null,null,null,null,null,null,null,null,null,null,null,null,null,null,null,null,null,null,null,null,null,null,null,null,null,null,null,null,null,null,null,null,null,null,null,null,null,null,null,null,null,null,null,null,null,null,null,null,null,null,null,null,null,null,null,null,null,null,null,null,null,null,null,null,null,null,null,null,null,null,null,null,null,null,null,null,null,null,null,null,null,null,null,null,null,null,null,null,null,null,null,null,null,null,null,null,null,null,null,null,null,null,null,null,null,null,null,null,null,null,null,null,null,null,null,null,null,null,null,null,null,null,null,null,null,null,null,null,null,null,null,null,null,null,null,null,null,null,null,null,null,null,null,null,null,null,null,null,null,null,null,null,null,null,null,null,null,null,null,null,null,null,null,null,null,null,null,null,null,null,null,null,null,null,null,null,null,null,null,null,null,null,null,null,null,null,null,null,null,null,null,null,null,null,null,null,null,null,null,null,null,null,null,null,null,null,null,null,null,null,null,null,null,null,null,null,null,null,null,null,null,null,null,null,null,null,null,null,null,null,null,null,null,null,null,null,null,null,null,null,null,null,null,null,null,null,null,null,null,null,null,null,null,null,null,null,null,null,null,null,null,null,null,null,null,null,null,null,null,null,null,null,null,null,null,null,null,null,null,null,null,null,null,null,null,null,null,null,null,null,null,null,null,null,null,null,null,null,null,null,null,null,null,null,null,null,null,null,null,null,null,null,null,null,null,null,null,null,null,null,null,null,null,null,null,null,null,null,null,null,null,null,null,null,null,null,null,null,null,null,null,null,null,null,null,null,null,null,null,null,null,null,null,null,null,null,null,null,null,null,null,null,null,null,null,null,null,null,null,null,null,null,null,null,null,null,null,null,null,null,null,null,null,null,null,null,null,null,null,null,null,null,null,null,null,null,null,null,null,null,null,null,null,null,null,null,null,null,null,null,null,null,null,null,null,null,null,null,null,null,null,null,null,null,null,null,null,null,null,null,null,null,null,null,null,null,null,null,null,null,null,null,null,null,null,null,null,null,null,null,null,null,null,null,null,null,null,null,null,null,null,null,null,null,null,null,null,null,null,null,null,null,null,null,null,null,null,null,null,null,null,null,null,null,null,null,null,null,null,null,null,null,null,null,null,null,null,null,null,null,null,null,null,null,null,null,null,null,null,null,null,null,null,null,null,null,null,null,null,null,null,null,null,null,null,null,null,null,null,null,null,null,null,null,null,null,null,null,null,null,null,null,null,null,null,null,null,null,null,null,null,null,null,null,null,null,null,null,null,null,null,null,null,null,null,null,null,null,null,null,null,null,null,null,null,null,null,null,null,null,null,null,null,null,null,null,null,null,null,null,null,null,null,null,null,null,null,null,null,null,null,null,null,null,null,null,null,null,null,null,null,null,null,null,null,null,null,null,null,null,null,null,null,null,null,null,null,null,null,null,null,null,null,null,null,null,null,null,null,null,null,null,null,null,null,null,null,null,null,null,null,null,null,null,null,null,null,null,null,null,null,null,null,null,null,null,null,null,null,null,null,null,null,null,null,null,null,null,null,null,null,null,null,null,null,null,null,null,null,null,null,null,null,null,null,null,null,null,null,null,null,null,null,null,null,null,null,null,null,null,null,null,null,null,null,null,null,null,null,null,null,null,null,null,null,null,null,null,null,null,null,null,null,null,null,null,null,null,null,null,null,null,null,null,null,null,null,null,null,null,null,null,null,null,null,null,null,null,null,null,null,null,null,null,null,null,null,null,null,null,null,null,null,null,null,null,null,null,null,null,null,null,null,null,null,null,null,null,null,null,null,null,null,null,null,null,null,null,null,null,null,null,null,null,null,null,null,null,null,null,null,null,null,null,null,null,null,null,null,null,null,null,null,null,null,null,null,null,null,null,null,null,null,null,null,null,null,null,null,null,null,null,null,null,null,null,null,null,null,null,null,null,null,null,null,null,null,null,null,null,null,null,null,null,null,null,null,null,null,null,null,null,null,null,null,null,null,null,null,null,null,null,null,null,null,null,null,null,null,null,null,null,null,null,null,null,null,null,null,null,null,null,null,null,null,null,null,null,null,null,null,null,null,null,null,null,null,null,null,null,null,null,null,null,null,null,null,null,null,null,null,null,null,null,null,null,null,null,null,null,null,null,null,null,null,null,null,null,null,null,null,null,null,null,null,null,null,null,null,null,null,null,null,null,null,null,null,null,null,null,null,null,null,null,null,null,null,null,null,null,null,null,null,null,null,null,null,null,null,null,null,null,null,null,null,null,null,null,null,null,null,null,null,null,null,null,null,null,null,null,null,null,null,null,null,null,null,null,null,null,null,null,null,null,null,null,null,null,null,null,null,null,null,null,null,null,null,null,null,null,null,null,null,null,null,null,null,null,null,null,null,null,null,null,null,null,null,null,null,null,null,null,null,null,null,null,null,null,null,null,null,null,null,null,null,null,null,null,null,null,null,null,null,null,null,null,null,null,null,null,null,null,null,null,null,null,null,null,null,null,null,null,null,null,null,null,null,null,null,null,null,null,null,null,null,null,null,null,null,null,null,null,null,null,null,null,null,null,null,null,null,null,null,null,null,null,null,null,null,null,null,null,null,null,null,null,null,null,null,null,null,null,null,null,null,null,null,null,null,null,null,null,null,null,null,null,null,null,null,null,null,null,null,null,null,null,null,null,null,null,null,null,null,null,null,null,null,null,null,null,null,null,null,null,null,null,null,null,null,null,null,null,null,null,null,null,null,null,null,null,null,null,null,null,null,null,null,null,null,null,null,null,null,null,null,null,null,null,null,null,null,null,null,null,null,null,null,null,null,null,null,null,null,null,null,null,null,null,null,null,null,null,null,null,null,null,null,null,null,null,null,null,null,null,null,null,null,null,null,null,null,null,null,null,null,null,null,null,null,null,null,null,null,null,null,null,null,null,null,null,null,null,null,null,null,null,null,null,null,null,null,null,null,null,null,null,null,null,null,null,null,null,null,null,null,null,null,null,null,null,null,null,null,null,null,null,null,null,null,null,null,null,null,null,null,null,null,null,null,null,null,null,null,null,null,null,null,null,null,null,null,null,null,null,null,null,null,null,null,null,null,null,null,null,null,null,null,null,null,null,null,null,null,null,null,null,null,null,null,null,null,null,null,null,null,null,null,null,null,null,null,null,null,null,null,null,null,null,null,null,null,null,null,null,null,null,null,null,null,null,null,null,null,null,null,null,null,null,null,null,null,null,null,null,null,null,null,null,null,null,null,null,null,null,null,null,null,null,null,null,null,null,null,null,null,null,null,null,null,null,null,null,null,null,null,null,null,null,null,null,null,null,null,null,null,null,null,null,null,null,null,null,null,null,null,null,null,null,null,null,null,null,null,null,null,null,null,null,null,null,null,null,null,null,null,null,null,null,null,null,null,null,null,null,null,null,null,null,null,null,null,null,null,null,null,null,null,null,null,null,null,null,null,null,null,null,null,null,null,null,null,null,null,null,null,null,null,null,null,null,null,null,null,null,null,null,null,null,null,null,null,null,null,null,null,null,null,null,null,null,null,null,null,null,null,null,null,null,null,null,null,null,null,null,null,null,null,null,null,null,null,null,null,null,null,null,null,null,null,null,null,null,null,null,null,null,null,null,null,null,null,null,null,null,null,null,null,null,null,null,null,null,null,null,null,null,null,null,null,null,null,null,null,null,null,null,null,null,null,null,null,null,null,null,null,null,null,null,null,null,null,null,null,null,null,null,null,null,null,null,null,null,null,null,null,null,null,null,null,null,null,null,null,null,null,null,null,null,null,null,null,null,null,null,null,null,null,null,null,null,null,null,null,null,null,null,null,null,null,null,null,null,null,null,null,null,null,null,null,null,null,null,null,null,null,null,null,null,null,null,null,null,null,null,null,null,null,null,null,null,null,null,null,null,null,null,null,null,null,null,null,null,null,null,null,null,null,null,null,null,null,null,null,null,null,null,null,null,null,null,null,null,null,null,null,null,null,null,null,null,null,null,null,null,null,null,null,null,null,null,null,null,null,null,null,null,null,null,null,null,null,null,null,null,null,null,null,null,null,null,null,null,null,null,null,null,null,null,null,null,null,null,null,null,null,null,null,null,null,null,null,null,null,null,null,null,null,null,null,null,null,null,null,null,null,null,null,null,null,null,null,null,null,null,null,null,null,null,null,null,null,null,null,null,null,null,null,null,null,null,null,null,null,null,null,null,null,null,null,null,null,null,null,null,null,null,null,null,null,null,null,null,null,null,null,null,null,null,null,null,null,null,null,null,null,null,null,null,null,null,null,null,null,null,null,null,null,null,null,null,null,null,null,null,null,null,null,null,null,null,null,null,null,null,null,null,null,null,null,null,null,null,null,null,null,null,null,null,null,null,null,null,null,null,null,null,null,null,null,null,null,null,null,null,null,null,null,null,null,null,null,null,null,null,null,null,null,null,null,null,null,null,null,null,null,null,null,null,null,null,null,null,null,null,null,null,null,null,null,null,null,null,null,null,null,null,null,null,null,null,null,null,null,null,null,null,null,null,null,null,null,null,null,null,null,null,null,null,null,null,null,null,null,null,null,null,null,null,null,null,null,null,null,null,null,null,null,null,null,null,null,null,null,null,null,null,null,null,null,null,null,null,null,null,null,null,null,null,null,null,null,null,null,null,null,null,null,null,null,null,null,null,null,null,null,null,null,null,null,null,null,null,null,null,null,null,null,null,null,null,null,null,null,null,null,null,null,null,null,null,null,null,null,null,null,null,null,null,null,null,null,null,null,null,null,null,null,null,null,null,null,null,null,null,null,null,null,null,null,null,null,null,null,null,null,null,null,null,null,null,null,null,null,null,null,null,null,null,null,null,null,null,null,null,null,null,null,null,null,null,null,null,null,null,null,null,null,null,null,null,null,null,null,null,null,null,null,null,null,null,null,null,null,null,null,null,null,null,null,null,null,null,null,null,null,null,null,null,null,null,null,null,null,null,null,null,null,null,null,null,null,null,null,null,null,null,null,null,null,null,null,null,null,null,null,null,null,null,null,null,null,null,null,null,null,null,null,null,null,null,null,null,null,null,null,null,null,null,null,null,null,null,null,null,null,null,null,null,null,null,null,null,null,null,null,null,null,null,null,null,null,null,null,null,null,null,null,null,null,null,null,null,null,null,null,null,null,null,null,null,null,null,null,null,null,null,null,null,null,null,null,null,null,null,null,null,null,null,null,null,null,null,null,null,null,null,null,null,null,null,null,null,null,null,null,null,null,null,null,null,null,null,null,null,null,null,null,null,null,null,null,null,null,null,null,null,null,null,null,null,null,null,null,null,null,null,null,null,null,null,null,null,null,null,null,null,null,null,null,null,null,null,null,null,null,null,null,null,null,null,null,null,null,null,null,null,null,null,null,null,null,null,null,null,null,null,null,null,null,null,null,null,null,null,null,null,null,null,null,null,null,null,null,null,null,null,null,null,null,null,null,null,null,null,null,null,null,null,null,null,null,null,null,null,null,null,null,null,null,null,null,null,null,null,null,null,null,null,null,null,null,null,null,null,null,null,null,null,null,null,null,null,null,null,null,null,null,null,null,null,null,null,null,null,null,null,null,null,null,null,null,null,null,null,null,null,null,null,null,null,null,null,null,null,null,null,null,null,null,null,null,null,null,null,null,null,null,null,null,null,null,null,null,null,null,null,null,null,null,null,null,null,null,null,null,null,null,null,null,null,null,null,null,null,null,null,null,null,null,null,null,null,null,null,null,null,null,null,null,null,null,null,null,null,null,null,null,null,null,null,null,null,null,null,null,null,null,null,null,null,null,null,null,null,null,null,null,null,null,null,null,null,null,null,null,null,null,null,null,null,null,null,null,null,null,null,null,null,null,null,null,null,null,null,null,null,null,null,null,null,null,null,null,null,null,null,null,null,null,null,null,null,null,null,null,null,null,null,null,null,null,null,null,null,null,null,null,null,null,null,null,null,null,null,null,null,null,null,null,null,null,null,null,null,null,null,null,null,null,null,null,null,null,null,null,null,null,null,null,null,null,null,null,null,null,null,null,null,null,null,null,null,null,null,null,null,null,null,null,null,null,null,null,null,null,null,null,null,null,null,null,null,null,null,null,null,null,null,null,null,null,null,null,null,null,null,null,null,null,null,null,null,null,null,null,null,null,null,null,null,null,null,null,null,null,null,null,null,null,null,null,null,null,null,null,null,null,null,null,null,null,null,null,null,null,null,null,null,null,null,null,null,null,null,null,null,null,null,null,null,null,null,null,null,null,null,null,null,null,null,null,null,null,null,null,null,null,null,null,null,null,null,null,null,null,null,null,null,null,null,null,null,null,null,null,null,null,null,null,null,null,null,null,null,null,null,null,null,null,null,null,null,null,null,null,null,null,null,null,null,null,null,null,null,null,null,null,null,null,null,null,null,null,null,null,null,null,null,null,null,null,null,null,null,null,null,null,null,null,null,null,null,null,null,null,null,null,null,null,null,null,null,null,null,null,null,null,null,null,null,null,null,null,null,null,null,null,null,null,null,null,null,null,null,null,null,null,null,null,null,null,null,null,null,null,null,null,null,null,null,null,null,null,null,null,null,null,null,null,null,null,null,null,null,null,null,null,null,null,null,null,null,null,null,null,null,null,null,null,null,null,null,null,null,null,null,null,null,null,null,null,null,null,null,null,null,null,null,null,null,null,null,null,null,null,null,null,null,null,null,null,null,null,null,null,null,null,null,null,null,null,null,null,null,null,null,null,null,null,null,null,null,null,null,null,null,null,null,null,null,null,null,null,null,null,null,null,null,null,null,null,null,null,null,null,null,null,null,null,null,null,null,null,null,null,null,null,null,null,null,null,null,null,null,null,null,null,null,null,null,null,null,null,null,null,null,null,null,null,null,null,null,null,null,null,null,null,null,null,null,null,null,null,null,null,null,null,null,null,null,null,null,null,null,null,null,null,null,null,null,null,null,null,null,null,null,null,null,null,null,null,null,null,null,null,null,null,null,null,null,null,null,null,null,null,null,null,null,null,null,null,null,null,null,null,null,null,null,null,null,null,null,null,null,null,null,null,null,null,null,null,null,null,null,null,null,null,null,null,null,null,null,null,null,null,null,null,null,null,null,null,null,null,null,null,null,null,null,null,null,null,null,null,null,null,null,null,null,null,null,null,null,null,null,null,null,null,null,null,null,null,null,null,null,null,null,null,null,null,null,null,null,null,null,null,null,null,null,null,null,null,null,null,null,null,null,null,null,null,null,null,null,null,null,null,null,null,null,null,null,null,null,null,null,null,null,null,null,null,null,null,null,null,null,null,null,null,null,null,null,null,null,null,null,null,null,null,null,null,null,null,null,null,null,null,null,null,null,null,null,null,null,null,null,null,null,null,null,null,null,null,null,null,null,null,null,null,null,null,null,null,null,null,null,null,null,null,null,null,null,null,null,null,null,null,null,null,null,null,null,null,null,null,null,null,null,null,null,null,null,null,null,null,null,null,null,null,null,null,null,null,null,null,null,null,null,null,null,null,null,null,null,null,null,null,null,null,null,null,null,null,null,null,null,null,null,null,null,null,null,null,null,null,null,null,null,null,null,null,null,null,null,null,null,null,null,null,null,null,null,null,null,null,null,null,null,null,null,null,null,null,null,null,null,null,null,null,null,null,null,null,null,null,null,null,null,null,null,null,null,null,null,null,null,null,null,null,null,null,null,null,null,null,null,null,null,null,null,null,null,null,null,null,null,null,null,null,null,null,null,null,null,null,null,null,null,null,null,null,null,null,null,null,null,null,null,null,null,null,null,null,null,null,null,null,null,null,null,null,null,null,null,null,null,null,null,null,null,null,null,null,null,null,null,null,null,null,null,null,null,null,null,null,null,null,null,null,null,null,null,null,null,null,null,null,null,null,null,null,null,null,null,null,null,null,null,null,null,null,null,null,null,null,null,null,null,null,null,null,null,null,null,null,null,null,null,null,null,null,null,null,null,null,null,null,null,null,null,null,null,null,null,null,null,null,null,null,null,null,null,null,null,null,null,null,null,null,null,null,null,null,null,null,null,null,null,null,null,null,null,null,null,null,null,null,null,null,null,null,null,null,null,null,null,null,null,null,null,null,null,null,null,null,null,null,null,null,null,null,null,null,null,null,null,null,null,null,null,null,null,null,null,null,null,null,null,null,null,null,null,null,null,null,null,null,null,null,null,null,null,null,null,null,null,null,null,null,null,null,null,null,null,null,null,null,null,null,null,null,null,null,null,null,null,null,null,null,null,null,null,null,null,null,null,null,null,null,null,null,null,null,null,null,null,null,null,null,null,null,null,null,null,null,null,null,null,null,null,null,null,null,null,null,null,null,null,null,null,null,null,null,null,null,null,null,null,null,null,null,null,null,null,null,null,null,null,null,null,null,null,null,null,null,null,null,null,null,null,null,null,null,null,null,null,null,null,null,null,null,null,null,null,null,null,null,null,null,null,null,null,null,null,null,null,null,null,null,null,null,null,null,null,null,null,null,null,null,null,null,null,null,null,null,null,null,null,null,null,null,null,null,null,null,null,null,null,null,null,null,null,null,null,null,null,null,null,null,null,null,null,null,null,null,null,null,null,null,null,null,null,null,null,null,null,null,null,null,null,null,null,null,null,null,null,null,null,null,null,null,null,null,null,null,null,null,null,null,null,null,null,null,null,null,null,null,null,null,null,null,null,null,null,null,null,null,null,null,null,null,null,null,null,null,null,null,null,null,null,null,null,null,null,null,null,null,null,null,null,null,null,null,null,null,null,null,null,null,null,null,null,null,null,null,null,null,null,null,null,null,null,null,null,null,null,null,null,null,null,null,null,null,null,null,null,null,null,null,null,null,null,null,null,null,null,null,null,null,null,null,null,null,null,null,null,null,null,null,null,null,null,null,null,null,null,null,null,null,null,null,null,null,null,null,null,null,null,null,null,null,null,null,null,null,null,null,null,null,null,null,null,null,null,null,null,null,null,null,null,null,null,null,null,null,null,null,null,null,null,null,null,null,null,null,null,null,null,null,null,null,null,null,null,null,null,null,null,null,null,null,null,null,null,null,null,null,null,null,null,null,null,null,null,null,null,null,null,null,null,null,null,null,null,null,null,null,null,null,null,null,null,null,null,null,null,null,null,null,null,null,null,null,null,null,null,null,null,null,null,null,null,null,null,null,null,null,null,null,null,null,null,null,null,null,null,null,null,null,null,null,null,null,null,null,null,null,null,null,null,null,null,null,null,null,null,null,null,null,null,null,null,null,null,null,null,null,null,null,null,null,null,null,null,null,null,null,null,null,null,null,null,null,null,null,null,null,null,null,null,null,null,null,null,null,null,null,null,null,null,null,null,null,null,null,null,null,null,null,null,null,null,null,null,null,null,null,null,null,null,null,null,null,null,null,null,null,null,null,null,null,null,null,null,null,null,null,null,null,null,null,null,null,null,null,null,null,null,null,null,null,null,null,null,null,null,null,null,null,null,null,null,null,null,null,null,null,null,null,null,null,null,null,null,null,null,null,null,null,null,null,null,null,null,null,null,null,null,null,null,null,null,null,null,null,null,null,null,null,null,null,null,null,null,null,null,null,null,null,null,null,null,null,null,null,null,null,null,null,null,null,null,null,null,null,null,null,null,null,null,null,null,null,null,null,null,null,null,null,null,null,null,null,null,null,null,null,null,null,null,null,null,null,null,null,null,null,null,null,null,null,null,null,null,null,null,null,null,null,null,null,null,null,null,null,null,null,null,null,null,null,null,null,null,null,null,null,null,null,null,null,null,null,null,null,null,null,null,null,null,null,null,null,null,null,null,null,null,null,null,null,null,null,null,null,null,null,null,null,null,null,null,null,null,null,null,null,null,null,null,null,null,null,null,null,null,null,null,null,null,null,null,null,null,null,null,null,null,null,null,null,null,null,null,null,null,null,null,null,null,null,null,null,null,null,null,null,null,null,null,null,null,null,null,null,null,null,null,null,null,null,null,null,null,null,null,null,null,null,null,null,null,null,null,null,null,null,null,null,null,null,null,null,null,null,null,null,null,null,null,null,null,null,null,null,null,null,null,null,null,null,null,null,null,null,null,null,null,null,null,null,null,null,null,null,null,null,null,null,null,null,null,null,null,null,null,null,null,null,null,null,null,null,null,null,null,null,null,null,null,null,null,null,null,null,null,null,null,null,null,null,null,null,null,null,null,null,null,null,null,null,null,null,null,null,null,null,null,null,null,null,null,null,null,null,null,null,null,null,null,null,null,null,null,null,null,null,null,null,null,null,null,null,null,null,null,null,null,null,null,null,null,null,null,null,null,null,null,null,null,null,null,null,null,null,null,null,null,null,null,null,null,null,null,null,null,null,null,null,null,null,null,null,null,null,null,null,null,null,null,null,null,null,null,null,null,null,null,null,null,null,null,null,null,null,null,null,null,null,null,null,null,null,null,null,null,null,null,null,null,null,null,null,null,null,null,null,null,null,null,null,null,null,null,null,null,null,null,null,null,null,null,null,null,null,null,null,null,null,null,null,null,null,null,null,null,null,null,null,null,null,null,null,null,null,null,null,null,null,null,null,null,null,null,null,null,null,null,null,null,null,null,null,null,null,null,null,null,null,null,null,null,null,null,null,null,null,null,null,null,null,null,null,null,null,null,null,null,null,null,null,null,null,null,null,null,null,null,null,null,null,null,null,null,null,null,null,null,null,null,null,null,null,null,null,null,null,null,null,null,null,null,null,null,null,null,null,null,null,null,null,null,null,null,null,null,null,null,null,null,null,null,null,null,null,null,null,null,null,null,null,null,null,null,null,null,null,null,null,null,null,null,null,null,null,null,null,null,null,null,null,null,null,null,null,null,null,null,null,null,null,null,null,null,null,null,null,null,null,null,null,null,null,null,null,null,null,null,null,null,null,null,null,null,null,null,null,null,null,null,null,null,null,null,null,null,null,null,null,null,null,null,null,null,null,null,null,null,null,null,null,null,null,null,null,null,null,null,null,null,null,null,null,null,null,null,null,null,null,null,null,null,null,null,null,null,null,null,null,null,null,null,null,null,null,null,null,null,null,null,null,null,null,null,null,null,null,null,null,null,null,null,null,null,null,null,null,null,null,null,null,null,null,null,null,null,null,null,null,null,null,null,null,null,null,null,null,null,null,null,null,null,null,null,null,null,null,null,null,null,null,null,null,null,null,null,null,null,null,null,null,null,null,null,null,null,null,null,null,null,null,null,null,null,null,null,null,null,null,null,null,null,null,null,null,null,null,null,null,null,null,null,null,null,null,null,null,null,null,null,null,null,null,null,null,null,null,null,null,null,null,null,null,null,null,null,null,null,null,null,null,null,null,null,null,null,null,null,null,null,null,null,null,null,null,null,null,null,null,null,null,null,null,null,null,null,null,null,null,null,null,null,null,null,null,null,null,null,null,null,null,null,null,null,null,null,null,null,null,null,null,null,null,null,null,null,null,null,null,null,null,null,null,null,null,null,null,null,null,null,null,null,null,null,null,null,null,null,null,null,null,null,null,null,null,null,null,null,null,null,null,null,null,null,null,null,null,null,null,null,null,null,null,null,null,null,null,null,null,null,null,null,null,null,null,null,null,null,null,null,null,null,null,null,null,null,null,null,null,null,null,null,null,null,null,null,null,null,null,null,null,null,null,null,null,null,null,null,null,null,null,null,null,null,null,null,null,null,null,null,null,null,null,null,null,null,null,null,null,null,null,null,null,null,null,null,null,null,null,null,null,null,null,null,null,null,null,null,null,null,null,null,null,null,null,null,null,null,null,null,null,null,null,null,null,null,null,null,null,null,null,null,null,null,null,null,null,null,null,null,null,null,null,null,null,null,null,null,null,null,null,null,null,null,null,null,null,null,null,null,null,null,null,null,null,null,null,null,null,null,null,null,null,null,null,null,null,null,null,null,null,null,null,null,null,null,null,null,null,null,null,null,null,null,null,null,null,null,null,null,null,null,null,null,null,null,null,null,null,null,null,null,null,null,null,null,null,null,null,null,null,null,null,null,null,null,null,null,null,null,null,null,null,null,null,null,null,null,null,null,null,null,null,null,null,null,null,null,null,null,null,null,null,null,null,null,null,null,null,null,null,null,null,null,null,null,null,null,null,null,null,null,null,null,null,null,null,null,null,null,null,null,null,null,null,null,null,null,null,null,null,null,null,null,null,null,null,null,null,null,null,null,null,null,null,null,null,null,null,null,null,null,null,null,null,null,null,null,null,null,null,null,null,null,null,null,null,null,null,null,null,null,null,null,null,null,null,null,null,null,null,null,null,null,null,null,null,null,null,null,null,null,null,null,null,null,null,null,null,null,null,null,null,null,null,null,null,null,null,null,null,null,null,null,null,null,null,null,null,null,null,null,null,null,null,null,null,null,null,null,null,null,null,null,null,null,null,null,null,null,null,null,null,null,null,null,null,null,null,null,null,null,null,null,null,null,null,null,null,null,null,null,null,null,null,null,null,null,null,null,null,null,null,null,null,null,null,null,null,null,null,null,null,null,null,null,null,null,null,null,null,null,null,null,null,null,null,null,null,null,null,null,null,null,null,null,null,null,null,null,null,null,null,null,null,null,null,null,null,null,null,null,null,null,null,null,null,null,null,null,null,null,null,null,null,null,null,null,null,null,null,null,null,null,null,null,null,null,null,null,null,null,null,null,null,null,null,null,null,null,null,null,null,null,null,null,null,null,null,null,null,null,null,null,null,null,null,null,null,null,null,null,null,null,null,null,null,null,null,null,null,null,null,null,null,null,null,null,null,null,null,null,null,null,null,null,null,null,null,null,null,null,null,null,null,null,null,null,null,null,null,null,null,null,null,null,null,null,null,null,null,null,null,null,null,null,null,null,null,null,null,null,null,null,null,null,null,null,null,null,null,null,null,null,null,null,null,null,null,null,null,null,null,null,null,null,null,null,null,null,null,null,null,null,null,null,null,null,null,null,null,null,null,null,null,null,null,null,null,null,null,null,null,null,null,null,null,null,null,null,null,null,null,null,null,null,null,null,null,null,null,null,null,null,null,null,null,null,null,null,null,null,null,null,null,null,null,null,null,null,null,null,null,null,null,null,null,null,null,null,null,null,null,null,null,null,null,null,null,null,null,null,null,null,null,null,null,null,null,null,null,null,null,null,null,null,null,null,null,null,null,null,null,null,null,null,null,null,null,null,null,null,null,null,null,null,null,null,null,null,null,null,null,null,null,null,null,null,null,null,null,null,null,null,null,null,null,null,null,null,null,null,null,null,null,null,null,null,null,null,null,null,null,null,null,null,null,null,null,null,null,null,null,null,null,null,null,null,null,null,null,null,null,null,null,null,null,null,null,null,null,null,null,null,null,null,null,null,null,null,null,null,null,null,null,null,null,null,null,null,null,null,null,null,null,null,null,null,null,null,null,null,null,null,null,null,null,null,null,null,null,null,null,null,null,null,null,null,null,null,null,null,null,null,null,null,null,null,null,null,null,null,null,null,null,null,null,null,null,null,null,null,null,null,null,null,null,null,null,null,null,null,null,null,null,null,null,null,null,null,null,null,null,null,null,null,null,null,null,null,null,null,null,null,null,null,null,null,null,null,null,null,null,null,null,null,null,null,null,null,null,null,null,null,null,null,null,null,null,null,null,null,null,null,null,null,null,null,null,null,null,null,null,null,null,null,null,null,null,null,null,null,null,null,null,null,null,null,null,null,null,null,null,null,null,null,null,null,null,null,null,null,null,null,null,null,null,null,null,null,null,null,null,null,null,null,null,null,null,null,null,null,null,null,null,null,null,null,null,null,null,null,null,null,null,null,null,null,null,null,null,null,null,null,null,null,null,null,null,null,null,null,null,null,null,null,null,null,null,null,null,null,null,null,null,null,null,null,null,null,null,null,null,null,null,null,null,null,null,null,null,null,null,null,null,null,null,null,null,null,null,null,null,null,null,null,null,null,null,null,null,null,null,null,null,null,null,null,null,null,null,null,null,null,null,null,null,null,null,null,null,null,null,null,null,null,null,null,null,null,null,null,null,null,null,null,null,null,null,null,null,null,null,null,null,null,null,null,null,null,null,null,null,null,null,null,null,null,null,null,null,null,null,null,null,null,null,null,null,null,null,null,null,null,null,null,null,null,null,null,null,null,null,null,null,null,null,null,null,null,null,null,null,null,null,null,null,null,null,null,null,null,null,null,null,null,null,null,null,null,null,null,null,null,null,null,null,null,null,null,null,null,null,null,null,null,null,null,null,null,null,null,null,null,null,null,null,null,null,null,null,null,null,null,null,null,null,null,null,null,null,null,null,null,null,null,null,null,null,null,null,null,null,null,null,null,null,null,null,null,null,null,null,null,null,null,null,null,null,null,null,null,null,null,null,null,null,null,null,null,null,null,null,null,null,null,null,null,null,null,null,null,null,null,null,null,null,null,null,null,null,null,null,null,null,null,null,null,null,null,null,null,null,null,null,null,null,null,null,null,null,null,null,null,null,null,null,null,null,null,null,null,null,null,null,null,null,null,null,null,null,null,null,null,null,null,null,null,null,null,null,null,null,null,null,null,null,null,null,null,null,null,null,null,null,null,null,null,null,null,null,null,null,null,null,null,null,null,null,null,null,null,null,null,null,null,null,null,null,null,null,null,null,null,null,null,null,null,null,null,null,null,null,null,null,null,null,null,null,null,null,null,null,null,null,null,null,null,null,null,null,null,null,null,null,null,null,null,null,null,null,null,null,null,null,null,null,null,null,null,null,null,null,null,null,null,null,null,null,null,null,null,null,null,null,null,null,null,null,null,null,null,null,null,null,null,null,null,null,null,null,null,null,null,null,null,null,null,null,null,null,null,null,null,null,null,null,null,null,null,null,null,null,null,null,null,null,null,null,null,null,null,null,null,null,null,null,null,null,null,null,null,null,null,null,null,null,null,null,null,null,null,null,null,null,null,null,null,null,null,null,null,null,null,null,null,null,null,null,null,null,null,null,null,null,null,null,null,null,null,null,null,null,null,null,null,null,null,null,null,null,null,null,null,null,null,null,null,null,null,null,null,null,null,null,null,null,null,null,null,null,null,null,null,null,null,null,null,null,null,null,null,null,null,null,null,null,null,null,null,null,null,null,null,null,null,null,null,null,null,null,null,null,null,null,null,null,null,null,null,null,null,null,null,null,null,null,null,null,null,null,null,null,null,null,null,null,null,null,null,null,null,null,null,null,null,null,null,null,null,null,null,null,null,null,null,null,null,null,null,null,null,null,null,null,null,null,null,null,null,null,null,null,null,null,null,null,null,null,null,null,null,null,null,null,null,null,null,null,null,null,null,null,null,null,null,null,null,null,null,null,null,null,null,null,null,null,null,null,null,null,null,null,null,null,null,null,null,null,null,null,null,null,null,null,null,null,null,null,null,null,null,null,null,null,null,null,null,null,null,null,null,null,null,null,null,null,null,null,null,null,null,null,null,null,null,null,null,null,null,null,null,null,null,null,null,null,null,null,null,null,null,null,null,null,null,null,null,null,null,null,null,null,null,null,null,null,null,null,null,null,null,null,null,null,null,null,null,null,null,null,null,null,null,null,null,null,null,null,null,null,null,null,null,null,null,null,null,null,null,null,null,null,null,null,null,null,null,null,null,null,null,null,null,null,null,null,null,null,null,null,null,null,null,null,null,null,null,null,null,null,null,null,null,null,null,null,null,null,null,null,null,null,null,null,null,null,null,null,null,null,null,null,null,null,null,null,null,null,null,null,null,null,null,null,null,null,null,null,null,null,null,null,null,null,null,null,null,null,null,null,null,null,null,null,null,null,null,null,null,null,null,null,null,null,null,null,null,null,null,null,null,null,null,null,null,null,null,null,null,null,null,null,null,null,null,null,null,null,null,null,null,null,null,null,null,null,null,null,null,null,null,null,null,null,null,null,null,null,null,null,null,null,null,null,null,null,null,null,null,null,null,null,null,null,null,null,null,null,null,null,null,null,null,null,null,null,null,null,null,null,null,null,null,null,null,null,null,null,null,null,null,null,null,null,null,null,null,null,null,null,null,null,null,null,null,null,null,null,null,null,null,null,null,null,null,null,null,null,null,null,null,null,null,null,null,null,null,null,null,null,null,null,null,null,null,null,null,null,null,null,null,null,null,null,null,null,null,null,null,null,null,null,null,null,null,null,null,null,null,null,null,null,null,null,null,null,null,null,null,null,null,null,null,null,null,null,null,null,null,null,null,null,null,null,null,null,null,null,null,null,null,null,null,null,null,null,null,null,null,null,null,null,null,null,null,null,null,null,null,null,null,null,null,null,null,null,null,null,null,null,null,null,null,null,null,null,null,null,null,null,null,null,null,null,null,null,null,null,null,null,null,null,null,null,null,null,null,null,null,null,null,null,null,null,null,null,null,null,null,null,null,null,null,null,null,null,null,null,null,null,null,null,null,null,null,null,null,null,null,null,null,null,null,null,null,null,null,null,null,null,null,null,null,null,null,null,null,null,null,null,null,null,null,null,null,null,null,null,null,null,null,null,null,null,null,null,null,null,null,null,null,null,null,null,null,null,null,null,null,null,null,null,null,null,null,null,null,null,null,null,null,null,null,null,null,null,null,null,null,null,null,null,null,null,null,null,null,null,null,null,null,null,null,null,null,null,null,null,null,null,null,null,null,null,null,null,null,null,null,null,null,null,"Partner ID",null,123]
[null,null,null,null,null,null,null,null,null,null,null,null,null,null,null,null,null,null,null,null,null,null,null,null,null,null,null,null,null,null,null,null,null,null,null,null,null,null,null,null,null,null,null,null,null,null,null,null,null,null,null,null,null,null,null,null,null,null,null,null,null,null,null,null,null,null,null,null,null,null,null,null,null,null,null,null,null,null,null,null,null,null,null,null,null,null,null,null,null,null,null,null,null,null,null,null,null,null,null,null,null,null,null,null,null,null,null,null,null,null,null,null,null,null,null,null,null,null,null,null,null,null,null,null,null,null,null,null,null,null,null,null,null,null,null,null,null,null,null,null,null,null,null,null,null,null,null,null,null,null,null,null,null,null,null,null,null,null,null,null,null,null,null,null,null,null,null,null,null,null,null,null,null,null,null,null,null,null,null,null,null,null,null,null,null,null,null,null,null,null,null,null,null,null,null,null,null,null,null,null,null,null,null,null,null,null,null,null,null,null,null,null,null,null,null,null,null,null,null,null,null,null,null,null,null,null,null,null,null,null,null,null,null,null,null,null,null,null,null,null,null,null,null,null,null,null,null,null,null,null,null,null,null,null,null,null,null,null,null,null,null,null,null,null,null,null,null,null,null,null,null,null,null,null,null,null,null,null,null,null,null,null,null,null,null,null,null,null,null,null,null,null,null,null,null,null,null,null,null,null,null,null,null,null,null,null,null,null,null,null,null,null,null,null,null,null,null,null,null,null,null,null,null,null,null,null,null,null,null,null,null,null,null,null,null,null,null,null,null,null,null,null,null,null,null,null,null,null,null,null,null,null,null,null,null,null,null,null,null,null,null,null,null,null,null,null,null,null,null,null,null,null,null,null,null,null,null,null,null,null,null,null,null,null,null,null,null,null,null,null,null,null,null,null,null,null,null,null,null,null,null,null,null,null,null,null,null,null,null,null,null,null,null,null,null,null,null,null,null,null,null,null,null,null,null,null,null,null,null,null,null,null,null,null,null,null,null,null,null,null,null,null,null,null,null,null,null,null,null,null,null,null,null,null,null,null,null,null,null,null,null,null,null,null,null,null,null,null,null,null,null,null,null,null,null,null,null,null,null,null,null,null,null,null,null,null,null,null,null,null,null,null,null,null,null,null,null,null,null,null,null,null,null,null,null,null,null,null,null,null,null,null,null,null,null,null,null,null,null,null,null,null,null,null,null,null,null,null,null,null,null,null,null,null,null,null,null,null,null,null,null,null,null,null,null,null,null,null,null,null,null,null,null,null,null,null,null,null,null,null,null,null,null,null,null,null,null,null,null,null,null,null,null,null,null,null,null,null,null,null,null,null,null,null,null,null,null,null,null,null,null,null,null,null,null,null,null,null,null,null,null,null,null,null,null,null,null,null,null,null,null,null,null,null,null,null,null,null,null,null,null,null,null,null,null,null,null,null,null,null,null,null,null,null,null,null,null,null,null,null,null,null,null,null,null,null,null,null,null,null,null,null,null,null,null,null,null,null,null,null,null,null,null,null,null,null,null,null,null,null,null,null,null,null,null,null,null,null,null,null,null,null,null,null,null,null,null,null,null,null,null,null,null,null,null,null,null,null,null,null,null,null,null,null,null,null,null,null,null,null,null,null,null,null,null,null,null,null,null,null,null,null,null,null,null,null,null,null,null,null,null,null,null,null,null,null,null,null,null,null,null,null,null,null,null,null,null,null,null,null,null,null,null,null,null,null,null,null,null,null,null,null,null,null,null,null,null,null,null,null,null,null,null,null,null,null,null,null,null,null,null,null,null,null,null,null,null,null,null,null,null,null,null,null,null,null,null,null,null,null,null,null,null,null,null,null,null,null,null,null,null,null,null,null,null,null,null,null,null,null,null,null,null,null,null,null,null,null,null,null,null,null,null,null,null,null,null,null,null,null,null,null,null,null,null,null,null,null,null,null,null,null,null,null,null,null,null,null,null,null,null,null,null,null,null,null,null,null,null,null,null,null,null,null,null,null,null,null,null,null,null,null,null,null,null,null,null,null,null,null,null,null,null,null,null,null,null,null,null,null,null,null,null,null,null,null,null,null,null,null,null,null,null,null,null,null,null,null,null,null,null,null,null,null,null,null,null,null,null,null,null,null,null,null,null,null,null,null,null,null,null,null,null,null,null,null,null,null,null,null,null,null,null,null,null,null,null,null,null,null,null,null,null,null,null,null,null,null,null,null,null,null,null,null,null,null,null,null,null,null,null,null,null,null,null,null,null,null,null,null,null,null,null,null,null,null,null,null,null,null,null,null,null,null,null,null,null,null,null,null,null,null,null,null,null,null,null,null,null,null,null,null,null,null,null,null,null,null,null,null,null,null,null,null,null,null,null,null,null,null,null,null,null,null,null,null,null,null,null,null,null,null,null,null,null,null,null,null,null,null,null,null,null,null,null,null,null,null,null,null,null,null,null,null,null,null,null,null,null,null,null,null,null,null,null,null,null,null,null,null,null,null,null,null,null,null,null,null,null,null,null,null,null,null,null,null,null,null,null,null,null,null,null,null,null,null,null,null,null,null,null,null,null,null,null,null,null,null,null,null,null,null,null,null,null,null,null,null,null,null,null,null,null,null,null,null,null,null,null,null,null,null,null,null,null,null,null,null,null,null,null,null,null,null,null,null,null,null,null,null,null,null,null,null,null,null,null,null,null,null,null,null,null,null,null,null,null,null,null,null,null,null,null,null,null,null,null,null,null,null,null,null,null,null,null,null,null,null,null,null,null,null,null,null,null,null,null,null,null,null,null,null,null,null,null,null,null,null,null,null,null,null,null,null,null,null,null,null,null,null,null,null,null,null,null,null,null,null,null,null,null,null,null,null,null,null,null,null,null,null,null,null,null,null,null,null,null,null,null,null,null,null,null,null,null,null,null,null,null,null,null,null,null,null,null,null,null,null,null,null,null,null,null,null,null,null,null,null,null,null,null,null,null,null,null,null,null,null,null,null,null,null,null,null,null,null,null,null,null,null,null,null,null,null,null,null,null,null,null,null,null,null,null,null,null,null,null,null,null,null,null,null,null,null,null,null,null,null,null,null,null,null,null,null,null,null,null,null,null,null,null,null,null,null,null,null,null,null,null,null,null,null,null,null,null,null,null,null,null,null,null,null,null,null,null,null,null,null,null,null,null,null,null,null,null,null,null,null,null,null,null,null,null,null,null,null,null,null,null,null,null,null,null,null,null,null,null,null,null,null,null,null,null,null,null,null,null,null,null,null,null,null,null,null,null,null,null,null,null,null,null,null,null,null,null,null,null,null,null,null,null,null,null,null,null,null,null,null,null,null,null,null,null,null,null,null,null,null,null,null,null,null,null,null,null,null,null,null,null,null,null,null,null,null,null,null,null,null,null,null,null,null,null,null,null,null,null,null,null,null,null,null,null,null,null,null,null,null,null,null,null,null,null,null,null,null,null,null,null,null,null,null,null,null,null,null,null,null,null,null,null,null,null,null,null,null,null,null,null,null,null,null,null,null,null,null,null,null,null,null,null,null,null,null,null,null,null,null,null,null,null,null,null,null,null,null,null,null,null,null,null,null,null,null,null,null,null,null,null,null,null,null,null,null,null,null,null,null,null,null,null,null,null,null,null,null,null,null,null,null,null,null,null,null,null,null,null,null,null,null,null,null,null,null,null,null,null,null,null,null,null,null,null,null,null,null,null,null,null,null,null,null,null,null,null,null,null,null,null,null,null,null,null,null,null,null,null,null,null,null,null,null,null,null,null,null,null,null,null,null,null,null,null,null,null,null,null,null,null,null,null,null,null,null,null,null,null,null,null,null,null,null,null,null,null,null,null,null,null,null,null,null,null,null,null,null,null,null,null,null,null,null,null,null,null,null,null,null,null,null,null,null,null,null,null,null,null,null,null,null,null,null,null,null,null,null,null,null,null,null,null,null,null,null,null,null,null,null,null,null,null,null,null,null,null,null,null,null,null,null,null,null,null,null,null,null,null,null,null,null,null,null,null,null,null,null,null,null,null,null,null,null,null,null,null,null,null,null,null,null,null,null,null,null,null,null,null,null,null,null,null,null,null,null,null,null,null,null,null,null,null,null,null,null,null,null,null,null,null,null,null,null,null,null,null,null,null,null,null,null,null,null,null,null,null,null,null,null,null,null,null,null,null,null,null,null,null,null,null,null,null,null,null,null,null,null,null,null,null,null,null,null,null,null,null,null,null,null,null,null,null,null,null,null,null,null,null,null,null,null,null,null,null,null,null,null,null,null,null,null,null,null,null,null,null,null,null,null,null,null,null,null,null,null,null,null,null,null,null,null,null,null,null,null,null,null,null,null,null,null,null,null,null,null,null,null,null,null,null,null,null,null,null,null,null,null,null,null,null,null,null,null,null,null,null,null,null,null,null,null,null,null,null,null,null,null,null,null,null,null,null,null,null,null,null,null,null,null,null,null,null,null,null,null,null,null,null,null,null,null,null,null,null,null,null,null,null,null,null,null,null,null,null,null,null,null,null,null,null,null,null,null,null,null,null,null,null,null,null,null,null,null,null,null,null,null,null,null,null,null,null,null,null,null,null,null,null,null,null,null,null,null,null,null,null,null,null,null,null,null,null,null,null,null,null,null,null,null,null,null,null,null,null,null,null,null,null,null,null,null,null,null,null,null,null,null,null,null,null,null,null,null,null,null,null,null,null,null,null,null,null,null,null,null,null,null,null,null,null,null,null,null,null,null,null,null,null,null,null,null,null,null,null,null,null,null,null,null,null,null,null,null,null,null,null,null,null,null,null,null,null,null,null,null,null,null,null,null,null,null,null,null,null,null,null,null,null,null,null,null,null,null,null,null,null,null,null,null,null,null,null,null,null,null,null,null,null,null,null,null,null,null,null,null,null,null,null,null,null,null,null,null,null,null,null,null,null,null,null,null,null,null,null,null,null,null,null,null,null,null,null,null,null,null,null,null,null,null,null,null,null,null,null,null,null,null,null,null,null,null,null,null,null,null,null,null,null,null,null,null,null,null,null,null,null,null,null,null,null,null,null,null,null,null,null,null,null,null,null,null,null,null,null,null,null,null,null,null,null,null,null,null,null,null,null,null,null,null,null,null,null,null,null,null,null,null,null,null,null,null,null,null,null,null,null,null,null,null,null,null,null,null,null,null,null,null,null,null,null,null,null,null,null,null,null,null,null,null,null,null,null,null,null,null,null,null,null,null,null,null,null,null,null,null,null,null,null,null,null,null,null,null,null,null,null,null,null,null,null,null,null,null,null,null,null,null,null,null,null,null,null,null,null,null,null,null,null,null,null,null,null,null,null,null,null,null,null,null,null,null,null,null,null,null,null,null,null,null,null,null,null,null,null,null,null,null,null,null,null,null,null,null,null,null,null,null,null,null,null,null,null,null,null,null,null,null,null,null,null,null,null,null,null,null,null,null,null,null,null,null,null,null,null,null,null,null,null,null,null,null,null,null,null,null,null,null,null,null,null,null,null,null,null,null,null,null,null,null,null,null,null,null,null,null,null,null,null,null,null,null,null,null,null,null,null,null,null,null,null,null,null,null,null,null,null,null,null,null,null,null,null,null,null,null,null,null,null,null,null,null,null,null,null,null,null,null,null,null,null,null,null,null,null,null,null,null,null,null,null,null,null,null,null,null,null,null,null,null,null,null,null,null,null,null,null,null,null,null,null,null,null,null,null,null,null,null,null,null,null,null,null,null,null,null,null,null,null,null,null,null,null,null,null,null,null,null,null,null,null,null,null,null,null,null,null,null,null,null,null,null,null,null,null,null,null,null,null,null,null,null,null,null,null,null,null,null,null,null,null,null,null,null,null,null,null,null,null,null,null,null,null,null,null,null,null,null,null,null,null,null,null,null,null,null,null,null,null,null,null,null,null,null,null,null,null,null,null,null,null,null,null,null,null,null,null,null,null,null,null,null,null,null,null,null,null,null,null,null,null,null,null,null,null,null,null,null,null,null,null,null,null,null,null,null,null,null,null,null,null,null,null,null,null,null,null,null,null,null,null,null,null,null,null,null,null,null,null,null,null,null,null,null,null,null,null,null,null,null,null,null,null,null,null,null,null,null,null,null,null,null,null,null,null,null,null,null,null,null,null,null,null,null,null,null,null,null,null,null,null,null,null,null,null,null,null,null,null,null,null,null,null,null,null,null,null,null,null,null,null,null,null,null,null,null,null,null,null,null,null,null,null,null,null,null,null,null,null,null,null,null,null,null,null,null,null,null,null,null,null,null,null,null,null,null,null,null,null,null,null,null,null,null,null,null,null,null,null,null,null,null,null,null,null,null,null,null,null,null,null,null,null,null,null,null,null,null,null,null,null,null,null,null,null,null,null,null,null,null,null,null,null,null,null,null,null,null,null,null,null,null,null,null,null,null,null,null,null,null,null,null,null,null,null,null,null,null,null,null,null,null,null,null,null,null,null,null,null,null,null,null,null,null,null,null,null,null,null,null,null,null,null,null,null,null,null,null,null,null,null,null,null,null,null,null,null,null,null,null,null,null,null,null,null,null,null,null,null,null,null,null,null,null,null,null,null,null,null,null,null,null,null,null,null,null,null,null,null,null,null,null,null,null,null,null,null,null,null,null,null,null,null,null,null,null,null,null,null,null,null,null,null,null,null,null,null,null,null,null,null,null,null,null,null,null,null,null,null,null,null,null,null,null,null,null,null,null,null,null,null,null,null,null,null,null,null,null,null,null,null,null,null,null,null,null,null,null,null,null,null,null,null,null,null,null,null,null,null,null,null,null,null,null,null,null,null,null,null,null,null,null,null,null,null,null,null,null,null,null,null,null,null,null,null,null,null,null,null,null,null,null,null,null,null,null,null,null,null,null,null,null,null,null,null,null,null,null,null,null,null,null,null,null,null,null,null,null,null,null,null,null,null,null,null,null,null,null,null,null,null,null,null,null,null,null,null,null,null,null,null,null,null,null,null,null,null,null,null,null,null,null,null,null,null,null,null,null,null,null,null,null,null,null,null,null,null,null,null,null,null,null,null,null,null,null,null,null,null,null,null,null,null,null,null,null,null,null,null,null,null,null,null,null,null,null,null,null,null,null,null,null,null,null,null,null,null,null,null,null,null,null,null,null,null,null,null,null,null,null,null,null,null,null,null,null,null,null,null,null,null,null,null,null,null,null,null,null,null,null,null,null,null,null,null,null,null,null,null,null,null,null,null,null,null,null,null,null,null,null,null,null,null,null,null,null,null,null,null,null,null,null,null,null,null,null,null,null,null,null,null,null,null,null,null,null,null,null,null,null,null,null,null,null,null,null,null,null,null,null,null,null,null,null,null,null,null,null,null,null,null,null,null,null,null,null,null,null,null,null,null,null,null,null,null,null,null,null,null,null,null,null,null,null,null,null,null,null,null,null,null,null,null,null,null,null,null,null,null,null,null,null,null,null,null,null,null,null,null,null,null,null,null,null,null,null,null,null,null,null,null,null,null,null,null,null,null,null,null,null,null,null,null,null,null,null,null,null,null,null,null,null,null,null,null,null,null,null,null,null,null,null,null,null,null,null,null,null,null,null,null,null,null,null,null,null,null,null,null,null,null,null,null,null,null,null,null,null,null,null,null,null,null,null,null,null,null,null,null,null,null,null,null,null,null,null,null,null,null,null,null,null,null,null,null,null,null,null,null,null,null,null,null,null,null,null,null,null,null,null,null,null,null,null,null,null,null,null,null,null,null,null,null,null,null,null,null,null,null,null,null,null,null,null,null,null,null,null,null,null,null,null,null,null,null,null,null,null,null,null,null,null,null,null,null,null,null,null,null,null,null,null,null,null,null,null,null,null,null,null,null,null,null,null,null,null,null,null,null,null,null,null,null,null,null,null,null,null,null,null,null,null,null,null,null,null,null,null,null,null,null,null,null,null,null,null,null,null,null,null,null,null,null,null,null,null,null,null,null,null,null,null,null,null,null,null,null,null,null,null,null,null,null,null,null,null,null,null,null,null,null,null,null,null,null,null,null,null,null,null,null,null,null,null,null,null,null,null,null,null,null,null,null,null,null,null,null,null,null,null,null,null,null,null,null,null,null,null,null,null,null,null,null,null,null,null,null,null,null,null,null,null,null,null,null,null,null,null,null,null,null,null,null,null,null,null,null,null,null,null,null,null,null,null,null,null,null,null,null,null,null,null,null,null,null,null,null,null,null,null,null,null,null,null,null,null,null,null,null,null,null,null,null,null,null,null,null,null,null,null,null,null,null,null,null,null,null,null,null,null,null,null,null,null,null,null,null,null,null,null,null,null,null,null,null,null,null,null,null,null,null,null,null,null,null,null,null,null,null,null,null,null,null,null,null,null,null,null,null,null,null,null,null,null,null,null,null,null,null,null,null,null,null,null,null,null,null,null,null,null,null,null,null,null,null,null,null,null,null,null,null,null,null,null,null,null,null,null,null,null,null,null,null,null,null,null,null,null,null,null,null,null,null,null,null,null,null,null,null,null,null,null,null,null,null,null,null,null,null,null,null,null,null,null,null,null,null,null,null,null,null,null,null,null,null,null,null,null,null,null,null,null,null,null,null,null,null,null,null,null,null,null,null,null,null,null,null,null,null,null,null,null,null,null,null,null,null,null,null,null,null,null,null,null,null,null,null,null,null,null,null,null,null,null,null,null,null,null,null,null,null,null,null,null,null,null,null,null,null,null,null,null,null,null,null,null,null,null,null,null,null,null,null,null,null,null,null,null,null,null,null,null,null,null,null,null,null,null,null,null,null,null,null,null,null,null,null,null,null,null,null,null,null,null,null,null,null,null,null,null,null,null,null,null,null,null,null,null,null,null,null,null,null,null,null,null,null,null,null,null,null,null,null,null,null,null,null,null,null,null,null,null,null,null,null,null,null,null,null,null,null,null,null,null,null,null,null,null,null,null,null,null,null,null,null,null,null,null,null,null,null,null,null,null,null,null,null,null,null,null,null,null,null,null,null,null,null,null,null,null,null,null,null,null,null,null,null,null,null,null,null,null,null,null,null,null,null,null,null,null,null,null,null,null,null,null,null,null,null,null,null,null,null,null,null,null,null,null,null,null,null,null,null,null,null,null,null,null,null,null,null,null,null,null,null,null,null,null,null,null,null,null,null,null,null,null,null,null,null,null,null,null,null,null,null,null,null,null,null,null,null,null,null,null,null,null,null,null,null,null,null,null,null,null,null,null,null,null,null,null,null,null,null,null,null,null,null,null,null,null,null,null,null,null,null,null,null,null,null,null,null,null,null,null,null,null,null,null,null,null,null,null,null,null,null,null,null,null,null,null,null,null,null,null,null,null,null,null,null,null,null,null,null,null,null,null,null,null,null,null,null,null,null,null,null,null,null,null,null,null,null,null,null,null,null,null,null,null,null,null,null,null,null,null,null,null,null,null,null,null,null,null,null,null,null,null,null,null,null,null,null,null,null,null,null,null,null,null,null,null,null,null,null,null,null,null,null,null,null,null,null,null,null,null,null,null,null,null,null,null,null,null,null,null,null,null,null,null,null,null,null,null,null,null,null,null,null,null,null,null,null,null,null,null,null,null,null,null,null,null,null,null,null,null,null,null,null,null,null,null,null,null,null,null,null,null,null,null,null,null,null,null,null,null,null,null,null,null,null,null,null,null,null,null,null,null,null,null,null,null,null,null,null,null,null,null,null,null,null,null,null,null,null,null,null,null,null,null,null,null,null,null,null,null,null,null,null,null,null,null,null,null,null,null,null,null,null,null,null,null,null,null,null,null,null,null,null,null,null,null,null,null,null,null,null,null,null,null,null,null,null,null,null,null,null,null,null,null,null,null,null,null,null,null,null,null,null,null,null,null,null,null,null,null,null,null,null,null,null,null,null,null,null,null,null,null,null,null,null,null,null,null,null,null,null,null,null,null,null,null,null,null,null,null,null,null,null,null,null,null,null,null,null,null,null,null,null,null,null,null,null,null,null,null,null,null,null,null,null,null,null,null,null,null,null,null,null,null,null,null,null,null,null,null,null,null,null,null,null,null,null,null,null,null,null,null,null,null,null,null,null,null,null,null,null,null,null,null,null,null,null,null,null,null,null,null,null,null,null,null,null,null,null,null,null,null,null,null,null,null,null,null,null,null,null,null,null,null,null,null,null,null,null,null,null,null,null,null,null,null,null,null,null,null,null,null,null,null,null,null,null,null,null,null,null,null,null,null,null,null,null,null,null,null,null,null,null,null,null,null,null,null,null,null,null,null,null,null,null,null,null,null,null,null,null,null,null,null,null,null,null,null,null,null,null,null,null,null,null,null,null,null,null,null,null,null,null,null,null,null,null,null,null,null,null,null,null,null,null,null,null,null,null,null,null,null,null,null,null,null,null,null,null,null,null,null,null,null,null,null,null,null,null,null,null,null,null,null,null,null,null,null,null,null,null,null,null,null,null,null,null,null,null,null,null,null,null,null,null,null,null,null,null,null,null,null,null,null,null,null,null,null,null,null,null,null,null,null,null,null,null,null,null,null,null,null,null,null,null,null,null,null,null,null,null,null,null,null,null,null,null,null,null,null,null,null,null,null,null,null,null,null,null,null,null,null,null,null,null,null,null,null,null,null,null,null,null,null,null,null,null,null,null,null,null,null,null,null,null,null,null,null,null,null,null,null,null,null,null,null,null,null,null,null,null,null,null,null,null,null,null,null,null,null,null,null,null,null,null,null,null,null,null,null,null,null,null,null,null,null,null,null,null,null,null,null,null,null,null,null,null,null,null,null,null,null,null,null,null,null,null,null,null,null,null,null,null,null,null,null,null,null,null,null,null,null,null,null,null,null,null,null,null,null,null,null,null,null,null,null,null,null,null,null,null,null,null,null,null,null,null,null,null,null,null,null,null,null,null,null,null,null,null,null,null,null,null,null,null,null,null,null,null,null,null,null,null,null,null,null,null,null,null,null,null,null,null,null,null,null,null,null,null,null,null,null,null,null,null,null,null,null,null,null,null,null,null,null,null,null,null,null,null,null,null,null,null,null,null,null,null,null,null,null,null,null,null,null,null,null,null,null,null,null,null,null,null,null,null,null,null,null,null,null,null,null,null,null,null,null,null,null,null,null,null,null,null,null,null,null,null,null,null,null,null,null,null,null,null,null,null,null,null,null,null,null,null,null,null,null,null,null,null,null,null,null,null,null,null,null,null,null,null,null,null,null,null,null,null,null,null,null,null,null,null,null,null,null,null,null,null,null,null,null,null,null,null,null,null,null,null,null,null,null,null,null,null,null,null,null,null,null,null,null,null,null,null,null,null,null,null,null,null,null,null,null,null,null,null,null,null,null,null,null,null,null,null,null,null,null,null,null,null,null,null,null,null,null,null,null,null,null,null,null,null,null,null,null,null,null,null,null,null,null,null,null,null,null,null,null,null,null,null,null,null,null,null,null,null,null,null,null,null,null,null,null,null,null,null,null,null,null,null,null,null,null,null,null,null,null,null,null,null,null,null,null,null,null,null,null,null,null,null,null,null,null,null,null,null,null,null,null,null,null,null,null,null,null,null,null,null,null,null,null,null,null,null,null,null,null,null,null,null,null,null,null,null,null,null,null,null,null,null,null,null,null,null,null,null,null,null,null,null,null,null,null,null,null,null,null,null,null,null,null,null,null,null,null,null,null,null,null,null,null,null,null,null,null,null,null,null,null,null,null,null,null,null,null,null,null,null,null,null,null,null,null,null,null,null,null,null,null,null,null,null,null,null,null,null,null,null,null,null,null,null,null,null,null,null,null,null,null,null,null,null,null,null,null,null,null,null,null,null,null,null,null,null,null,null,null,null,null,null,null,null,null,null,null,null,null,null,null,null,null,null,null,null,null,null,null,null,null,null,null,null,null,null,null,null,null,null,null,null,null,null,null,null,null,null,null,null,null,null,null,null,null,null,null,null,null,null,null,null,null,null,null,null,null,null,null,null,null,null,null,null,null,null,null,null,null,null,null,null,null,null,null,null,null,null,null,null,null,null,null,null,null,null,null,null,null,null,null,null,null,null,null,null,null,null,null,null,null,null,null,null,null,null,null,null,null,null,null,null,null,null,null,null,null,null,null,null,null,null,null,null,null,null,null,null,null,null,null,null,null,null,null,null,null,null,null,null,null,null,null,null,null,null,null,null,null,null,null,null,null,null,null,null,null,null,null,null,null,null,null,null,null,null,null,null,null,null,null,null,null,null,null,null,null,null,null,null,null,null,null,null,null,null,null,null,null,null,null,null,null,null,null,null,null,null,null,null,null,null,null,null,null,null,null,null,null,null,null,null,null,null,null,null,null,null,null,null,null,null,null,null,null,null,null,null,null,null,null,null,null,null,null,null,null,null,null,null,null,null,null,null,null,null,null,null,null,null,null,null,null,null,null,null,null,null,null,null,null,null,null,null,null,null,null,null,null,null,null,null,null,null,null,null,null,null,null,null,null,null,null,null,null,null,null,null,null,null,null,null,null,null,null,null,null,null,null,null,null,null,null,null,null,null,null,null,null,null,null,null,null,null,null,null,null,null,null,null,null,null,null,null,null,null,null,null,null,null,null,null,null,null,null,null,null,null,null,null,null,null,null,null,null,null,null,null,null,null,null,null,null,null,null,null,null,null,null,null,null,null,null,null,null,null,null,null,null,null,null,null,null,null,null,null,null,null,null,null,null,null,null,null,null,null,null,null,null,null,null,null,null,null,null,null,null,null,null,null,null,null,null,null,null,null,null,null,null,null,null,null,null,null,null,null,null,null,null,null,null,null,null,null,null,null,null,null,null,null,null,null,null,null,null,null,null,null,null,null,null,null,null,null,null,null,null,null,null,null,null,null,null,null,null,null,null,null,null,null,null,null,null,null,null,null,null,null,null,null,null,null,null,null,null,null,null,null,null,null,null,null,null,null,null,null,null,null,null,null,null,null,null,null,null,null,null,null,null,null,null,null,null,null,null,null,null,null,null,null,null,null,null,null,null,null,null,null,null,null,null,null,null,null,null,null,null,null,null,null,null,null,null,null,null,null,null,null,null,null,null,null,null,null,null,null,null,null,null,null,null,null,null,null,null,null,null,null,null,null,null,null,null,null,null,null,null,null,null,null,null,null,null,null,null,null,null,null,null,null,null,null,null,null,null,null,null,null,null,null,null,null,null,null,null,null,null,null,null,null,null,null,null,null,null,null,null,null,null,null,null,null,null,null,null,null,null,null,null,null,null,null,null,null,null,null,null,null,null,null,null,null,null,null,null,null,null,null,null,null,null,null,null,null,null,null,null,null,null,null,null,null,null,null,null,null,null,null,null,null,null,null,null,null,null,null,null,null,null,null,null,null,null,null,null,null,null,null,null,null,null,null,null,null,null,null,null,null,null,null,null,null,null,null,null,null,null,null,null,null,null,null,null,null,null,null,null,null,null,null,null,null,null,null,null,null,null,null,null,null,null,null,null,null,null,null,null,null,null,null,null,null,null,null,null,null,null,null,null,null,null,null,null,null,null,null,null,null,null,null,null,null,null,null,null,null,null,null,null,null,null,null,null,null,null,null,null,null,null,null,null,null,null,null,null,null,null,null,null,null,null,null,null,null,null,null,null,null,null,null,null,null,null,null,null,null,null,null,null,null,null,null,null,null,null,null,null,null,null,null,null,null,null,null,null,null,null,null,null,null,null,null,null,null,null,null,null,null,null,null,null,null,null,null,null,null,null,null,null,null,null,null,null,null,null,null,null,null,null,null,null,null,null,null,null,null,null,null,null,null,null,null,null,null,null,null,null,null,null,null,null,null,null,null,null,null,null,null,null,null,null,null,null,null,null,null,null,null,null,null,null,null,null,null,null,null,null,null,null,null,null,null,null,null,null,null,null,null,null,null,null,null,null,null,null,null,null,null,null,null,null,null,null,null,null,null,null,null,null,null,null,null,null,null,null,null,null,null,null,null,null,null,null,null,null,null,null,null,null,null,null,null,null,null,null,null,null,null,null,null,null,null,null,null,null,null,null,null,null,null,null,null,null,null,null,null,null,null,null,null,null,null,null,null,null,null,null,null,null,null,null,null,null,null,null,null,null,null,null,null,null,null,null,null,null,null,null,null,null,null,null,null,null,null,null,null,null,null,null,null,null,null,null,null,null,null,null,null,null,null,null,null,null,null,null,null,null,null,null,null,null,null,null,null,null,null,null,null,null,null,null,null,null,null,null,null,null,null,null,null,null,null,null,null,null,null,null,null,null,null,null,null,null,null,null,null,null,null,null,null,null,null,null,null,null,null,null,null,null,null,null,null,null,null,null,null,null,null,null,null,null,null,null,null,null,null,null,null,null,null,null,null,null,null,null,null,null,null,null,null,null,null,null,null,null,null,null,null,null,null,null,null,null,null,null,null,null,null,null,null,null,null,null,null,null,null,null,null,null,null,null,null,null,null,null,null,null,null,null,null,null,null,null,null,null,null,null,null,null,null,null,null,null,null,null,null,null,null,null,null,null,null,null,null,null,null,null,null,null,null,null,null,null,null,null,null,null,null,null,null,null,null,null,null,null,null,null,null,null,null,null,null,null,null,null,null,null,null,null,null,null,null,null,null,null,null,null,null,null,null,null,null,null,null,null,null,null,null,null,null,null,null,null,null,null,null,null,null,null,null,null,null,null,null,null,null,null,null,null,null,null,null,null,null,null,null,null,null,null,null,null,null,null,null,null,null,null,null,null,null,null,null,null,null,null,null,null,null,null,null,null,null,null,null,null,null,null,null,null,null,null,null,null,null,null,null,null,null,null,null,null,null,null,null,null,null,null,null,null,null,null,null,null,null,null,null,null,null,null,null,null,null,null,null,null,null,null,null,null,null,null,null,null,null,null,null,null,null,null,null,null,null,null,null,null,null,null,null,null,null,null,null,null,null,null,null,null,null,null,null,null,null,null,null,null,null,null,null,null,null,null,null,null,null,null,null,null,null,null,null,null,null,null,null,null,null,null,null,null,null,null,null,null,null,null,null,null,null,null,null,null,null,null,null,null,null,null,null,null,null,null,null,null,null,null,null,null,null,null,null,null,null,null,null,null,null,null,null,null,null,null,null,null,null,null,null,null,null,null,null,null,null,null,null,null,null,null,null,null,null,null,null,null,null,null,null,null,null,null,null,null,null,null,null,null,null,null,null,null,null,null,null,null,null,null,null,null,null,null,null,null,null,null,null,null,null,null,null,null,null,null,null,null,null,null,null,null,null,null,null,null,null,null,null,null,null,null,null,null,null,null,null,null,null,null,null,null,null,null,null,null,null,null,null,null,null,null,null,null,null,null,null,null,null,null,null,null,null,null,null,null,null,null,null,null,null,null,null,null,null,null,null,null,null,null,null,null,null,null,null,null,null,null,null,null,null,null,null,null,null,null,null,null,null,null,null,null,null,null,null,null,null,null,null,null,null,null,null,null,null,null,null,null,null,null,null,null,null,null,null,null,null,null,null,null,null,null,null,null,null,null,null,null,null,null,null,null,null,null,null,null,null,null,null,null,null,null,null,null,null,null,null,null,null,null,null,null,null,null,null,null,null,null,null,null,null,null,null,null,null,null,null,null,null,null,null,null,null,null,null,null,null,null,null,null,null,null,null,null,null,null,null,null,null,null,null,null,null,null,null,null,null,null,null,null,null,null,null,null,null,null,null,null,null,null,null,null,null,null,null,null,null,null,null,null,null,null,null,null,null,null,null,null,null,null,null,null,null,null,null,null,null,null,null,null,null,null,null,null,null,null,null,null,null,null,null,null,null,null,null,null,null,null,null,null,null,null,null,null,null,null,null,null,null,null,null,null,null,null,null,null,null,null,null,null,null,null,null,null,null,null,null,null,null,null,null,null,null,null,null,null,null,null,null,null,null,null,null,null,null,null,null,null,null,null,null,null,null,null,null,null,null,null,null,null,null,null,null,null,null,null,null,null,null,null,null,null,null,null,null,null,null,null,null,null,null,null,null,null,null,null,null,null,null,null,null,null,null,null,null,null,null,null,null,null,null,null,null,null,null,null,null,null,null,null,null,null,null,null,null,null,null,null,null,null,null,null,null,null,null,null,null,null,null,null,null,null,null,null,null,null,null,null,null,null,null,null,null,null,null,null,null,null,null,null,null,null,null,null,null,null,null,null,null,null,null,null,null,null,null,null,null,null,null,null,null,null,null,null,null,null,null,null,null,null,null,null,null,null,null,null,null,null,null,null,null,null,null,null,null,null,null,null,null,null,null,null,null,null,null,null,null,null,null,null,null,null,null,null,null,null,null,null,null,null,null,null,null,null,null,null,null,null,null,null,null,null,null,null,null,null,null,null,null,null,null,null,null,null,null,null,null,null,null,null,null,null,null,null,null,null,null,null,null,null,null,null,null,null,null,null,null,null,null,null,null,null,null,null,null,null,null,null,null,null,null,null,null,null,null,null,null,null,null,null,null,null,null,null,null,null,null,null,null,null,null,null,null,null,null,null,null,null,null,null,null,null,null,null,null,null,null,null,null,null,null,null,null,null,null,null,null,null,null,null,null,null,null,null,null,null,null,null,null,null,null,null,null,null,null,null,null,null,null,null,null,null,null,null,null,null,null,null,null,null,null,null,null,null,null,null,null,null,null,null,null,null,null,null,null,null,null,null,null,null,null,null,null,null,null,null,null,null,null,null,null,null,null,null,null,null,null,null,null,null,null,null,null,null,null,null,null,null,null,null,null,null,null,null,null,null,null,null,null,null,null,null,null,null,null,null,null,null,null,null,null,null,null,null,null,null,null,null,null,null,null,null,null,null,null,null,null,null,null,null,null,null,null,null,null,null,null,null,null,null,null,null,null,null,null,null,null,null,null,null,null,null,null,null,null,null,null,null,null,null,null,null,null,null,null,null,null,null,null,null,null,null,null,null,null,null,null,null,null,null,null,null,null,null,null,null,null,null,null,null,null,null,null,null,null,null,null,null,null,null,null,null,null,null,null,null,null,null,null,null,null,null,null,null,null,null,null,null,null,null,null,null,null,null,null,null,null,null,null,null,null,null,null,null,null,null,null,null,null,null,null,null,null,null,null,null,null,null,null,null,null,null,null,null,null,null,null,null,null,null,null,null,null,null,null,null,null,null,null,null,null,null,null,null,null,null,null,null,null,null,null,null,null,null,null,null,null,null,null,null,null,null,null,null,null,null,null,null,null,null,null,null,null,null,null,null,null,null,null,null,null,null,null,null,null,null,null,null,null,null,null,null,null,null,null,null,null,null,null,null,null,null,null,null,null,null,null,null,null,null,null,null,null,null,null,null,null,null,null,null,null,null,null,null,null,null,null,null,null,null,null,null,null,null,null,null,null,null,null,null,null,null,null,null,null,null,null,null,null,null,null,null,null,null,null,null,null,null,null,null,null,null,null,null,null,null,null,null,null,null,null,null,null,null,null,null,null,null,null,null,null,null,null,null,null,null,null,null,null,null,null,null,null,null,null,null,null,null,null,null,null,null,null,null,null,null,null,null,null,null,null,null,null,null,null,null,null,null,null,null,null,null,null,null,null,null,null,null,null,null,null,null,null,null,null,null,null,null,null,null,null,null,null,null,null,null,null,null,null,null,null,null,null,null,null,null,null,null,null,null,null,null,null,null,null,null,null,null,null,null,null,null,null,null,null,null,null,null,null,null,null,null,null,null,null,null,null,null,null,null,null,null,null,null,null,null,null,null,null,null,null,null,null,null,null,null,null,null,null,null,null,null,null,null,null,null,null,null,null,null,null,null,null,null,null,null,null,null,null,null,null,null,null,null,null,null,null,null,null,null,null,null,null,null,null,null,null,null,null,null,null,null,null,null,null,null,null,null,null,null,null,null,null,null,null,null,null,null,null,null,null,null,null,null,null,null,null,null,null,null,null,null,null,null,null,null,null,null,null,null,null,null,null,null,null,null,null,null,null,null,null,null,null,null,null,null,null,null,null,null,null,null,null,null,null,null,null,null,null,null,null,null,null,null,null,null,null,null,null,null,null,null,null,null,null,null,null,null,null,null,null,null,null,null,null,null,null,null,null,null,null,null,null,null,null,null,null,null,null,null,null,null,null,null,null,null,null,null,null,null,null,null,null,null,null,null,null,null,null,null,null,null,null,null,null,null,null,null,null,null,null,null,null,null,null,null,null,null,null,null,null,null,null,null,null,null,null,null,null,null,null,null,null,null,null,null,null,null,null,null,null,null,null,null,null,null,null,null,null,null,null,null,null,null,null,null,null,null,null,null,null,null,null,null,null,null,null,null,null,null,null,null,null,null,null,null,null,null,null,null,null,null,null,null,null,null,null,null,null,null,null,null,null,null,null,null,null,null,null,null,null,null,null,null,null,null,null,null,null,null,null,null,null,null,null,null,null,null,null,null,null,null,null,null,null,null,null,null,null,null,null,null,null,null,null,null,null,null,null,null,null,null,null,null,null,null,null,null,null,null,null,null,null,null,null,null,null,null,null,null,null,null,null,null,null,null,null,null,null,null,null,null,null,null,null,null,null,null,null,null,null,null,null,null,null,null,null,null,null,null,null,null,null,null,null,null,null,null,null,null,null,null,null,null,null,null,null,null,null,null,null,null,null,null,null,null,null,null,null,null,null,null,null,null,null,null,null,null,null,null,null,null,null,null,null,null,null,null,null,null,null,null,null,null,null,null,null,null,null,null,null,null,null,null,null,null,null,null,null,null,null,null,null,null,null,null,null,null,null,null,null,null,null,null,null,null,null,null,null,null,null,null,null,null,null,null,null,null,null,null,null,null,null,null,null,null,null,null,null,null,null,null,null,null,null,null,null,null,null,null,null,null,null,null,null,null,null,null,null,null,null,null,null,null,null,null,null,null,null,null,null,null,null,null,null,null,null,null,null,null,null,null,null,null,null,null,null,null,null,null,null,null,null,null,null,null,null,null,null,null,null,null,null,null,null,null,null,null,null,null,null,null,null,null,null,null,null,null,null,null,null,null,null,null,null,null,null,null,null,null,null,null,null,null,null,null,null,null,null,null,null,null,null,null,null,null,null,null,null,null,null,null,null,null,null,null,null,null,null,null,null,null,null,null,null,null,null,null,null,null,null,null,null,null,null,null,null,null,null,null,null,null,null,null,null,null,null,null,null,null,null,null,null,null,null,null,null,null,null,null,null,null,null,null,null,null,null,null,null,null,null,null,null,null,null,null,null,null,null,null,null,null,null,null,null,null,null,null,null,null,null,null,null,null,null,null,null,null,null,null,null,null,null,null,null,null,null,null,null,null,null,null,null,null,null,null,null,null,null,null,null,null,null,null,null,null,null,null,null,null,null,null,null,null,null,null,null,null,null,null,null,null,null,null,null,null,null,null,null,null,null,null,null,null,null,null,null,null,null,null,null,null,null,null,null,null,null,null,null,null,null,null,null,null,null,null,null,null,null,null,null,null,null,null,null,null,null,null,null,null,null,null,null,null,null,null,null,null,null,null,null,null,null,null,null,null,null,null,null,null,null,null,null,null,null,null,null,null,null,null,null,null,null,null,null,null,null,null,null,null,null,null,null,null,null,null,null,null,null,null,null,null,null,null,null,null,null,null,null,null,null,null,null,null,null,null,null,null,null,null,null,null,null,null,null,null,null,null,null,null,null,null,null,null,null,null,null,null,null,null,null,null,null,null,null,null,null,null,null,null,null,null,null,null,null,null,null,null,null,null,null,null,null,null,null,null,null,null,null,null,null,null,null,null,null,null,null,null,null,null,null,null,null,null,null,null,null,null,null,null,null,null,null,null,null,null,null,null,null,null,null,null,null,null,null,null,null,null,null,null,null,null,null,null,null,null,null,null,null,null,null,null,null,null,null,null,null,null,null,null,null,null,null,null,null,null,null,null,null,null,null,null,null,null,null,null,null,null,null,null,null,null,null,null,null,null,null,null,null,null,null,null,null,null,null,null,null,null,null,null,null,null,null,null,null,null,null,null,null,null,null,null,null,null,null,null,null,null,null,null,null,null,null,null,null,null,null,null,null,null,null,null,null,null,null,null,null,null,null,null,null,null,null,null,null,null,null,null,null,null,null,null,null,null,null,null,null,null,null,null,null,null,null,null,null,null,null,null,null,null,null,null,null,null,null,null,null,null,null,null,null,null,null,null,null,null,null,null,null,null,null,null,null,null,null,null,null,null,null,null,null,null,null,null,null,null,null,null,null,null,null,null,null,null,null,null,null,null,null,null,null,null,null,null,null,null,null,null,null,null,null,null,null,null,null,null,null,null,null,null,null,null,null,null,null,null,null,null,null,null,null,null,null,null,null,null,null,null,null,null,null,null,null,null,null,null,null,null,null,null,null,null,null,null,null,null,null,null,null,null,null,null,null,null,null,null,null,null,null,null,null,null,null,null,null,null,null,null,null,null,null,null,null,null,null,null,null,null,null,null,null,null,null,null,null,null,null,null,null,null,null,null,null,null,null,null,null,null,null,null,null,null,null,null,null,null,null,null,null,null,null,null,null,null,null,null,null,null,null,null,null,null,null,null,null,null,null,null,null,null,null,null,null,null,null,null,null,null,null,null,null,null,null,null,null,null,null,null,null,null,null,null,null,null,null,null,null,null,null,null,null,null,null,null,null,null,null,null,null,null,null,null,null,null,null,null,null,null,null,null,null,null,null,null,null,null,null,null,null,null,null,null,null,null,null,null,null,null,null,null,null,null,null,null,null,null,null,null,null,null,null,null,null,null,null,null,null,null,null,null,null,null,null,null,null,null,null,null,null,null,null,null,null,null,null,null,null,null,null,null,null,null,null,null,null,null,null,null,null,null,null,null,null,null,null,null,null,null,null,null,null,null,null,null,null,null,null,null,null,null,null,null,null,null,null,null,null,null,null,null,null,null,null,null,null,null,null,null,null,null,null,null,null,null,null,null,null,null,null,null,null,null,null,null,null,null,null,null,null,null,null,null,null,null,null,null,null,null,null,null,null,null,null,null,null,null,null,null,null,null,null,null,null,null,null,null,null,null,null,null,null,null,null,null,null,null,null,null,null,null,null,null,null,null,null,null,null,null,null,null,null,null,null,null,null,null,null,null,null,null,null,null,null,null,null,null,null,null,null,null,null,null,null,null,null,null,null,null,null,null,null,null,null,null,null,null,null,null,null,null,null,null,null,null,null,null,null,null,null,null,null,null,null,null,null,null,null,null,null,null,null,null,null,null,null,null,null,null,null,null,null,null,null,null,null,null,null,null,null,null,null,null,null,null,null,null,null,null,null,null,null,null,null,null,null,null,null,null,null,null,null,null,null,null,null,null,null,null,null,null,null,null,null,null,null,null,null,null,null,null,null,null,null,null,null,null,null,null,null,null,null,null,null,null,null,null,null,null,null,null,null,null,null,null,null,null,null,null,null,null,null,null,null,null,null,null,null,null,null,null,null,null,null,null,null,null,null,null,null,null,null,null,null,null,null,null,null,null,null,null,null,null,null,null,null,null,null,null,null,null,null,null,null,null,null,null,null,null,null,null,null,null,null,null,null,null,null,null,null,null,null,null,null,null,null,null,null,null,null,null,null,null,null,null,null,null,null,null,null,null,null,null,null,null,null,null,null,null,null,null,null,null,null,null,null,null,null,null,null,null,null,null,null,null,null,null,null,null,null,null,null,null,null,null,null,null,null,null,null,null,null,null,null,null,null,null,null,null,null,null,null,null,null,null,null,null,null,null,null,null,null,null,null,null,null,null,null,null,null,null,null,null,null,null,null,null,null,null,null,null,null,null,null,null,null,null,null,null,null,null,null,null,null,null,null,null,null,null,null,null,null,null,null,null,null,null,null,null,null,null,null,null,null,null,null,null,null,null,null,null,null,null,null,null,null,null,null,null,null,null,null,null,null,null,null,null,null,null,null,null,null,null,null,null,null,null,null,null,null,null,null,null,null,null,null,null,null,null,null,null,null,null,null,null,null,null,null,null,null,null,null,null,null,null,null,null,null,null,null,null,null,null,null,null,null,null,null,null,null,null,null,null,null,null,null,null,null,null,null,null,null,null,null,null,null,null,null,null,null,null,null,null,null,null,null,null,null,null,null,null,null,null,null,null,null,null,null,null,null,null,null,null,null,null,null,null,null,null,null,null,null,null,null,null,null,null,null,null,null,null,null,null,null,null,null,null,null,null,null,null,null,null,null,null,null,null,null,null,null,null,null,null,null,null,null,null,null,null,null,null,null,null,null,null,null,null,null,null,null,null,null,null,null,null,null,null,null,null,null,null,null,null,null,null,null,null,null,null,null,null,null,null,null,null,null,null,null,null,null,null,null,null,null,null,null,null,null,null,null,null,null,null,null,null,null,null,null,null,null,null,null,null,null,null,null,null,null,null,null,null,null,null,null,null,null,null,null,null,null,null,null,null,null,null,null,null,null,null,null,null,null,null,null,null,null,null,null,null,null,null,null,null,null,null,null,null,null,null,null,null,null,null,null,null,null,null,null,null,null,null,null,null,null,null,null,null,null,null,null,null,null,null,null,null,null,null,null,null,null,null,null,null,null,null,null,null,null,null,null,null,null,null,null,null,null,null,null,null,null,null,null,null,null,null,null,null,null,null,null,null,null,null,null,null,null,null,null,null,null,null,null,null,null,null,null,null,null,null,null,null,null,null,null,null,null,null,null,null,null,null,null,null,null,null,null,null,null,null,null,null,null,null,null,null,null,null,null,null,null,null,null,null,null,null,null,null,null,null,null,null,null,null,null,null,null,null,null,null,null,null,null,null,null,null,null,null,null,null,null,null,null,null,null,null,null,null,null,null,null,null,null,null,null,null,null,null,null,null,null,null,null,null,null,null,null,null,null,null,null,null,null,null,null,null,null,null,null,null,null,null,null,null,null,null,null,null,null,null,null,null,null,null,null,null,null,null,null,null,null,null,null,null,null,null,null,null,null,null,null,null,null,null,null,null,null,null,null,null,null,null,null,null,null,null,null,null,null,null,null,null,null,null,null,null,null,null,null,null,null,null,null,null,null,null,null,null,null,null,null,null,null,null,null,null,null,null,null,null,null,null,null,null,null,null,null,null,null,null,null,null,null,null,null,null,null,null,null,null,null,null,null,null,null,null,null,null,null,null,null,null,null,null,null,null,null,null,null,null,null,null,null,null,null,null,null,null,null,null,null,null,null,null,null,null,null,null,null,null,null,null,null,null,null,null,null,null,null,null,null,null,null,null,null,null,null,null,null,null,null,null,null,null,null,null,null,null,null,null,null,null,null,null,null,null,null,null,null,null,null,null,null,null,null,null,null,null,null,null,null,null,null,null,null,null,null,null,null,null,null,null,null,null,null,null,null,null,null,null,null,null,null,null,null,null,null,null,null,null,null,null,null,null,null,null,null,null,null,null,null,null,null,null,null,null,null,null,null,null,null,null,null,null,null,null,null,null,null,null,null,null,null,null,null,null,null,null,null,null,null,null,null,null,null,null,null,null,null,null,null,null,null,null,null,null,null,null,null,null,null,null,null,null,null,null,null,null,null,null,null,null,null,null,null,null,null,null,null,null,null,null,null,null,null,null,null,null,null,null,null,null,null,null,null,null,null,null,null,null,null,null,null,null,null,null,null,null,null,null,null,null,null,null,null,null,null,null,null,null,null,null,null,null,null,null,null,null,null,null,null,null,null,null,null,null,null,null,null,null,null,null,null,null,null,null,null,null,null,null,null,null,null,null,null,null,null,null,null,null,null,null,null,null,null,null,null,null,null,null,null,null,null,null,null,null,null,null,null,null,null,null,null,null,null,null,null,null,null,null,null,null,null,null,null,null,null,null,null,null,null,null,null,null,null,null,null,null,null,null,null,null,null,null,null,null,null,null,null,null,null,null,null,null,null,null,null,null,null,null,null,null,null,null,null,null,null,null,null,null,null,null,null,null,null,null,null,null,null,null,null,null,null,null,null,null,null,null,null,null,null,null,null,null,null,null,null,null,null,null,null,null,null,null,null,null,null,null,null,null,null,null,null,null,null,null,null,null,null,null,null,null,null,null,null,null,null,null,null,null,null,null,null,null,null,null,null,null,null,null,null,null,null,null,null,null,null,null,null,null,null,null,null,null,null,null,null,null,null,null,null,null,null,null,null,null,null,null,null,null,null,null,null,null,null,null,null,null,null,null,null,null,null,null,null,null,null,null,null,null,null,null,null,null,null,null,null,null,null,null,null,null,null,null,null,null,null,null,null,null,null,null,null,null,null,null,null,null,null,null,null,null,null,null,null,null,null,null,null,null,null,null,null,null,null,null,null,null,null,null,null,null,null,null,null,null,null,null,null,null,null,null,null,null,null,null,null,null,null,null,null,null,null,null,null,null,null,null,null,null,null,null,null,null,null,null,null,null,null,null,null,null,null,null,null,null,null,null,null,null,null,null,null,null,null,null,null,null,null,null,null,null,null,null,null,null,null,null,null,null,null,null,null,null,null,null,null,null,null,null,null,null,null,null,null,null,null,null,null,null,null,null,null,null,null,null,null,null,null,null,null,null,null,null,null,null,null,null,null,null,null,null,null,null,null,null,null,null,null,null,null,null,null,null,null,null,null,null,null,null,null,null,null,null,null,null,null,null,null,null,null,null,null,null,null,null,null,null,null,null,null,null,null,null,null,null,null,null,null,null,null,null,null,null,null,null,null,null,null,null,null,null,null,null,null,null,null,null,null,null,null,null,null,null,null,null,null,null,null,null,null,null,null,null,null,null,null,null,null,null,null,null,null,null,null,null,null,null,null,null,null,null,null,null,null,null,null,null,null,null,null,null,null,null,null,null,null,null,null,null,null,null,null,null,null,null,null,null,null,null,null,null,null,null,null,null,null,null,null,null,null,null,null,null,null,null,null,null,null,null,null,null,null,null,null,null,null,null,null,null,null,null,null,null,null,null,null,null,null,null,null,null,null,null,null,null,null,null,null,null,null,null,null,null,null,null,null,null,null,null,null,null,null,null,null,null,null,null,null,null,null,null,null,null,null,null,null,null,null,null,null,null,null,null,null,null,null,null,null,null,null,null,null,null,null,null,null,null,null,null,null,null,null,null,null,null,null,null,null,null,null,null,null,null,null,null,null,null,null,null,null,null,null,null,null,null,null,null,null,null,null,null,null,null,null,null,null,null,null,null,null,null,null,null,null,null,null,null,null,null,null,null,null,null,null,null,null,null,null,null,null,null,null,null,null,null,null,null,null,null,null,null,null,null,null,null,null,null,null,null,null,null,null,null,null,null,null,null,null,null,null,null,null,null,null,null,null,null,null,null,null,null,null,null,null,null,null,null,null,null,null,null,null,null,null,null,null,null,null,null,null,null,null,null,null,null,null,null,null,null,null,null,null,null,null,null,null,null,null,null,null,null,null,null,null,null,null,null,null,null,null,null,null,null,null,null,null,null,null,null,null,null,null,null,null,null,null,null,null,null,null,null,null,null,null,null,null,null,null,null,null,null,null,null,null,null,null,null,null,null,null,null,null,null,null,null,null,null,null,null,null,null,null,null,null,null,null,null,null,null,null,null,null,null,null,null,null,null,null,null,null,null,null,null,null,null,null,null,null,null,null,null,null,null,null,null,null,null,null,null,null,null,null,null,null,null,null,null,null,null,null,null,null,null,null,null,null,null,null,null,null,null,null,null,null,null,null,null,null,null,null,null,null,null,null,null,null,null,null,null,null,null,null,null,null,null,null,null,null,null,null,null,null,null,null,null,null,null,null,null,null,null,null,null,null,null,null,null,null,null,null,null,null,null,null,null,null,null,null,null,null,null,null,null,null,null,null,null,null,null,null,null,null,null,null,null,null,null,null,null,null,null,null,null,null,null,null,null,null,null,null,null,null,null,null,null,null,null,null,null,null,null,null,null,null,null,null,null,null,null,null,null,null,null,null,null,null,null,null,null,null,null,null,null,null,null,null,null,null,null,null,null,null,null,null,null,null,null,null,null,null,null,null,null,null,null,null,null,null,null,null,null,null,null,null,null,null,null,null,null,null,null,null,null,null,null,null,null,null,null,null,null,null,null,null,null,null,null,null,null,null,null,null,null,null,null,null,null,null,null,null,null,null,null,null,null,null,null,null,null,null,null,null,null,null,null,null,null,null,null,null,null,null,null,null,null,null,null,null,null,null,null,null,null,null,null,null,null,null,null,null,null,null,null,null,null,null,null,null,null,null,null,null,null,null,null,null,null,null,null,null,null,null,null,null,null,null,null,null,null,null,null,null,null,null,null,null,null,null,null,null,null,null,null,null,null,null,null,null,null,null,null,null,null,null,null,null,null,null,null,null,null,null,null,null,null,null,null,null,null,null,null,null,null,null,null,null,null,null,null,null,null,null,null,null,null,null,null,null,null,null,null,null,null,null,null,null,null,null,null,null,null,null,null,null,null,null,null,null,null,null,null,null,null,null,null,null,null,null,null,null,null,null,null,null,null,null,null,null,null,null,null,null,null,null,null,null,null,null,null,null,null,null,null,null,null,null,null,null,null,null,null,null,null,null,null,null,null,null,null,null,null,null,null,null,null,null,null,null,null,null,null,null,null,null,null,null,null,null,null,null,null,null,null,null,null,null,null,null,null,null,null,null,null,null,null,null,null,null,null,null,null,null,null,null,null,null,null,null,null,null,null,null,null,null,null,null,null,null,null,null,null,null,null,null,null,null,null,null,null,null,null,null,null,null,null,null,null,null,null,null,null,null,null,null,null,null,null,null,null,null,null,null,null,null,null,null,null,null,null,null,null,null,null,null,null,null,null,null,null,null,null,null,null,null,null,null,null,null,null,null,null,null,null,null,null,null,null,null,null,null,null,null,null,null,null,null,null,null,null,null,null,null,null,null,null,null,null,null,null,null,null,null,null,null,null,null,null,null,null,null,null,null,null,null,null,null,null,null,null,null,null,null,null,null,null,null,null,null,null,null,null,null,null,null,null,null,null,null,null,null,null,null,null,null,null,null,null,null,null,null,null,null,null,null,null,null,null,null,null,null,null,null,null,null,null,null,null,null,null,null,null,null,null,null,null,null,null,null,null,null,null,null,null,null,null,null,null,null,null,null,null,null,null,null,null,null,null,null,null,null,null,null,null,null,null,null,null,null,null,null,null,null,null,null,null,null,null,null,null,null,null,null,null,null,null,null,null,null,null,null,null,null,null,null,null,null,null,null,null,null,null,null,null,null,null,null,null,null,null,null,null,null,null,null,null,null,null,null,null,null,null,null,null,null,null,null,null,null,null,null,null,null,null,null,null,null,null,null,null,null,null,null,null,null,null,null,null,null,null,null,null,null,null,null,null,null,null,null,null,null,null,null,null,null,null,null,null,null,null,null,null,null,null,null,null,null,null,null,null,null,null,null,null,null,null,null,null,null,null,null,null,null,null,null,null,null,null,null,null,null,null,null,null,null,null,null,null,null,null,null,null,null,null,null,null,null,null,null,null,null,null,null,null,null,null,null,null,null,null,null,null,null,null,null,null,null,null,null,null,null,null,null,null,null,null,null,null,null,null,null,null,null,null,null,null,null,null,null,null,null,null,null,null,null,null,null,null,null,null,null,null,null,null,null,null,null,null,null,null,null,null,null,null,null,null,null,null,null,null,null,null,null,null,null,null,null,null,null,null,null,null,null,null,null,null,null,null,null,null,null,null,null,null,null,null,null,null,null,null,null,null,null,null,null,null,null,null,null,null,null,null,null,null,null,null,null,null,null,null,null,null,null,null,null,null,null,null,null,null,null,null,null,null,null,null,null,null,null,null,null,null,null,null,null,null,null,null,null,null,null,null,null,null,null,null,null,null,null,null,null,null,null,null,null,null,null,null,null,null,null,null,null,null,null,null,null,null,null,null,null,null,null,null,null,null,null,null,null,null,null,null,null,null,null,null,null,null,null,null,null,null,null,null,null,null,null,null,null,null,null,null,null,null,null,null,null,null,null,null,null,null,null,null,null,null,null,null,null,null,null,null,null,null,null,null,null,null,null,null,null,null,null,null,null,null,null,null,null,null,null,null,null,null,null,null,null,null,null,null,null,null,null,null,null,null,null,null,null,null,null,null,null,null,null,null,null,null,null,null,null,null,null,null,null,null,null,null,null,null,null,null,null,null,null,null,null,null,null,null,null,null,null,null,null,null,null,null,null,null,null,null,null,null,null,null,null,null,null,null,null,null,null,null,null,null,null,null,null,null,null,null,null,null,null,null,null,null,null,null,null,null,null,null,null,null,null,null,null,null,null,null,null,null,null,null,null,null,null,null,null,null,null,null,null,null,null,null,null,null,null,null,null,null,null,null,null,null,null,null,null,null,null,null,null,null,null,null,null,null,null,null,null,null,null,null,null,null,null,null,null,null,null,null,null,null,null,null,null,null,null,null,null,null,null,null,null,null,null,null,null,null,null,null,null,null,null,null,null,null,null,null,null,null,null,null,null,null,null,null,null,null,null,null,null,null,null,null,null,null,null,null,null,null,null,null,null,null,null,null,null,null,null,null,null,null,null,null,null,null,null,null,null,null,null,null,null,null,null,null,null,null,null,null,null,null,null,null,null,null,null,null,null,null,null,null,null,null,null,null,null,null,null,null,null,null,null,null,null,null,null,null,null,null,null,null,null,null,null,null,null,null,null,null,null,null,null,null,null,null,null,null,null,null,null,null,null,null,null,null,null,null,null,null,null,null,null,null,null,null,null,null,null,null,null,null,null,null,null,null,null,null,null,null,null,null,null,null,null,null,null,null,null,null,null,null,null,null,null,null,null,null,null,null,null,null,null,null,null,null,null,null,null,null,null,null,null,null,null,null,null,null,null,null,null,null,null,null,null,null,null,null,null,null,null,null,null,null,null,null,null,null,null,null,null,null,null,null,null,null,null,null,null,null,null,null,null,null,null,null,null,null,null,null,null,null,null,null,null,null,null,null,null,null,null,null,null,null,null,null,null,null,null,null,null,null,null,null,null,null,null,null,null,null,null,null,null,null,null,null,null,null,null,null,null,null,null,null,null,null,null,null,null,null,null,null,null,null,null,null,null,null,null,null,null,null,null,null,null,null,null,null,null,null,null,null,null,null,null,null,null,null,null,null,null,null,null,null,null,null,null,null,null,null,null,null,null,null,null,null,null,null,null,null,null,null,null,null,null,null,null,null,null,null,null,null,null,null,null,null,null,null,null,null,null,null,null,null,null,null,null,null,null,null,null,null,null,null,null,null,null,null,null,null,null,null,null,null,null,null,null,null,null,null,null,null,null,null,null,null,null,null,null,null,null,null,null,null,null,null,null,null,null,null,null,null,null,null,null,null,null,null,null,null,null,null,null,null,null,null,null,null,null,null,null,null,null,null,null,null,null,null,null,null,null,null,null,null,null,null,null,null,null,null,null,null,null,null,null,null,null,null,null,null,null,null,null,null,null,null,null,null,null,null,null,null,null,null,null,null,null,null,null,null,null,null,null,null,null,null,null,null,null,null,null,null,null,null,null,null,null,null,null,null,null,null,null,null,null,null,null,null,null,null,null,null,null,null,null,null,null,null,null,null,null,null,null,null,null,null,null,null,null,null,null,null,null,null,null,null,null,null,null,null,null,null,null,null,null,null,null,null,null,null,null,null,null,null,null,null,null,null,null,null,null,null,null,null,null,null,null,null,null,null,null,null,null,null,null,null,null,null,null,null,null,null,null,null,null,null,null,null,null,null,null,null,null,null,null,null,null,null,null,null,null,null,null,null,null,null,null,null,null,null,null,null,null,null,null,null,null,null,null,null,null,null,null,null,null,null,null,null,null,null,null,null,null,null,null,null,null,null,null,null,null,null,null,null,null,null,null,null,null,null,null,null,null,null,null,null,null,null,null,null,null,null,null,null,null,null,null,null,null,null,null,null,null,null,null,null,null,null,null,null,null,null,null,null,null,null,null,null,null,null,null,null,null,null,null,null,null,null,null,null,null,null,null,null,null,null,null,null,null,null,null,null,null,null,null,null,null,null,null,null,null,null,null,null,null,null,null,null,null,null,null,null,null,null,null,null,null,null,null,null,null,null,null,null,null,null,null,null,null,null,null,null,null,null,null,null,null,null,null,null,null,null,null,null,null,null,null,null,null,null,null,null,null,null,null,null,null,null,null,null,null,null,null,null,null,null,null,null,null,null,null,null,null,null,null,null,null,null,null,null,null,null,null,null,null,null,null,null,null,null,null,null,null,null,null,null,null,null,null,null,null,null,null,null,null,null,null,null,null,null,null,null,null,null,null,null,null,null,null,null,null,null,null,null,null,null,null,null,null,null,null,null,null,null,null,null,null,null,null,null,null,null,null,null,null,null,null,null,null,null,null,null,null,null,null,null,null,null,null,null,null,null,null,null,null,null,null,null,null,null,null,null,null,null,null,null,null,null,null,null,null,null,null,null,null,null,null,null,null,null,null,null,null,null,null,null,null,null,null,null,null,null,null,null,null,null,null,null,null,null,null,null,null,null,null,null,null,null,null,null,null,null,null,null,null,null,null,null,null,null,null,null,null,null,null,null,null,null,null,null,null,null,null,null,null,null,null,null,null,null,null,null,null,null,null,null,null,null,null,null,null,null,null,null,null,null,null,null,null,null,null,null,null,null,null,null,null,null,null,null,null,null,null,null,null,null,null,null,null,null,null,null,null,null,null,null,null,null,null,null,null,null,null,null,null,null,null,null,null,null,null,null,null,null,null,null,null,null,null,null,null,null,null,null,null,null,null,null,null,null,null,null,null,null,null,null,null,null,null,null,null,null,null,null,null,null,null,null,null,null,null,null,null,null,null,null,null,null,null,null,null,null,null,null,null,null,null,null,null,null,null,null,null,null,null,null,null,null,null,null,null,null,null,null,null,null,null,null,null,null,null,null,null,null,null,null,null,null,null,null,null,null,null,null,null,null,null,null,null,null,null,null,null,null,null,null,null,null,null,null,null,null,null,null,null,null,null,null,null,null,null,null,null,null,null,null,null,null,null,null,null,null,null,null,null,null,null,null,null,null,null,null,null,null,null,null,null,null,null,null,null,null,null,null,null,null,null,null,null,null,null,null,null,null,null,null,null,null,null,null,null,null,null,null,null,null,null,null,null,null,null,null,null,null,null,null,null,null,null,null,null,null,null,null,null,null,null,null,null,null,null,null,null,null,null,null,null,null,null,null,null,null,null,null,null,null,null,null,null,null,null,null,null,null,null,null,null,null,null,null,null,null,null,null,null,null,null,null,null,null,null,null,null,null,null,null,null,null,null,null,null,null,null,null,null,null,null,null,null,null,null,null,null,null,null,null,null,null,null,null,null,null,null,null,null,null,null,null,null,null,null,null,null,null,null,null,null,null,null,null,null,null,null,null,null,null,null,null,null,null,null,null,null,null,null,null,null,null,null,null,null,null,null,null,null,null,null,null,null,null,null,null,null,null,null,null,null,null,null,null,null,null,null,null,null,null,null,null,null,null,null,null,null,null,null,null,null,null,null,null,null,null,null,null,null,null,null,null,null,null,null,null,null,null,null,null,null,null,null,null,null,null,null,null,null,null,null,null,null,null,null,null,null,null,null,null,null,null,null,null,null,null,null,null,null,null,null,null,null,null,null,null,null,null,null,null,null,null,null,null,null,null,null,null,null,null,null,null,null,null,null,null,null,null,null,null,null,null,null,null,null,null,null,null,null,null,null,null,null,null,null,null,null,null,null,null,null,null,null,null,null,null,null,null,null,null,null,null,null,null,null,null,null,null,null,null,null,null,null,null,null,null,null,null,null,null,null,null,null,null,null,null,null,null,null,null,null,null,null,null,null,null,null,null,null,null,null,null,null,null,null,null,null,null,null,null,null,null,null,null,null,null,null,null,null,null,null,null,null,null,null,null,null,null,null,null,null,null,null,null,null,null,null,null,null,null,null,null,null,null,null,null,null,null,null,null,null,null,null,null,null,null,null,null,null,null,null,null,null,null,null,null,null,null,null,null,null,null,null,null,null,null,null,null,null,null,null,null,null,null,null,null,null,null,null,null,null,null,null,null,null,null,null,null,null,null,null,null,null,null,null,null,null,null,null,null,null,null,null,null,null,null,null,null,null,null,null,null,null,null,null,null,null,null,null,null,null,null,null,null,null,null,null,null,null,null,null,null,null,null,null,null,null,null,null,null,null,null,null,null,null,null,null,null,null,null,null,null,null,null,null,null,null,null,null,null,null,null,null,null,null,null,null,null,null,null,null,null,null,null,null,null,null,null,null,null,null,null,null,null,null,null,null,null,null,null,null,null,null,null,null,null,null,null,null,null,null,null,null,null,null,null,null,null,null,null,null,null,null,null,null,null,null,null,null,null,null,null,null,null,null,null,null,null,null,null,null,null,null,null,null,null,null,null,null,null,null,null,null,null,null,null,null,null,null,null,null,null,null,null,null,null,null,null,null,null,null,null,null,null,null,null,null,null,null,null,null,null,null,null,null,null,null,null,null,null,null,null,null,null,null,null,null,null,null,null,null,null,null,null,null,null,null,null,null,null,null,null,null,null,null,null,null,null,null,null,null,null,null,null,null,null,null,null,null,null,null,null,null,null,null,null,null,null,null,null,null,null,null,null,null,null,null,null,null,null,null,null,null,null,null,null,null,null,null,null,null,null,null,null,null,null,null,null,null,null,null,null,null,null,null,null,null,null,null,null,null,null,null,null,null,null,null,null,null,null,null,null,null,null,null,null,null,null,null,null,null,null,null,null,null,null,null,null,null,null,null,null,null,null,null,null,null,null,null,null,null,null,null,null,null,null,null,null,null,null,null,null,null,null,null,null,null,null,null,null,null,null,null,null,null,null,null,null,null,null,null,null,null,null,null,null,null,null,null,null,null,null,null,null,null,null,null,null,null,null,null,null,null,null,null,null,null,null,null,null,null,null,null,null,null,null,null,null,null,null,null,null,null,null,null,null,null,null,null,null,null,null,null,null,null,null,null,null,null,null,null,null,null,null,null,null,null,null,null,null,null,null,null,null,null,null,null,null,null,null,null,null,null,null,null,null,null,null,null,null,null,null,null,null,null,null,null,null,null,null,null,null,null,null,null,null,null,null,null,null,null,null,null,null,null,null,null,null,null,null,null,null,null,null,null,null,null,null,null,null,null,null,null,null,null,null,null,null,null,null,null,null,null,null,null,null,null,null,null,null,null,null,null,null,null,null,null,null,null,null,null,null,null,null,null,null,null,null,null,null,null,null,null,null,null,null,null,null,null,null,null,null,null,null,null,null,null,null,null,null,null,null,null,null,null,null,null,null,null,null,null,null,null,null,null,null,null,null,null,null,null,null,null,null,null,null,null,null,null,null,null,null,null,null,null,null,null,null,null,null,null,null,null,null,null,null,null,null,null,null,null,null,null,null,null,null,null,null,null,null,null,null,null,null,null,null,null,null,null,null,null,null,null,null,null,null,null,null,null,null,null,null,null,null,null,null,null,null,null,null,null,null,null,null,null,null,null,null,null,null,null,null,null,null,null,null,null,null,null,null,null,null,null,null,null,null,null,null,null,null,null,null,null,null,null,null,null,null,null,null,null,null,null,null,null,null,null,null,null,null,null,null,null,null,null,null,null,null,null,null,null,null,null,null,null,null,null,null,null,null,null,null,null,null,null,null,null,null,null,null,null,null,null,null,null,null,null,null,null,null,null,null,null,null,null,null,null,null,null,null,null,null,null,null,null,null,null,null,null,null,null,null,null,null,null,null,null,null,null,null,null,null,null,null,null,null,null,null,null,null,null,null,null,null,null,null,null,null,null,null,null,null,null,null,null,null,null,null,null,null,null,null,null,null,null,null,null,null,null,null,null,null,null,null,null,null,null,null,null,null,null,null,null,null,null,null,null,null,null,null,null,null,null,null,null,null,null,null,null,null,null,null,null,null,null,null,null,null,null,null,null,null,null,null,null,null,null,null,null,null,null,null,null,null,null,null,null,null,null,null,null,null,null,null,null,null,null,null,null,null,null,null,null,null,null,null,null,null,null,null,null,null,null,null,null,null,null,null,null,null,null,null,null,null,null,null,null,null,null,null,null,null,null,null,null,null,null,null,null,null,null,null,null,null,null,null,null,null,null,null,null,null,null,null,null,null,null,null,null,null,null,null,null,null,null,null,null,null,null,null,null,null,null,null,null,null,null,null,null,null,null,null,null,null,null,null,null,null,null,null,null,null,null,null,null,null,null,null,null,null,null,null,null,null,null,null,null,null,null,null,null,null,null,null,null,null,null,null,null,null,null,null,null,null,null,null,null,null,null,null,null,null,null,null,null,null,null,null,null,null,null,null,null,null,null,null,null,null,null,null,null,null,null,null,null,null,null,null,null,null,null,null,null,null,null,null,null,null,null,null,null,null,null,null,null,null,null,null,null,null,null,null,null,null,null,null,null,null,null,null,null,null,null,null,null,null,null,null,null,null,null,null,null,null,null,null,null,null,null,null,null,null,null,null,null,null,null,null,null,null,null,null,null,null,null,null,null,null,null,null,null,null,null,null,null,null,null,null,null,null,null,null,null,null,null,null,null,null,null,null,null,null,null,null,null,null,null,null,null,null,null,null,null,null,null,null,null,null,null,null,null,null,null,null,null,null,null,null,null,null,null,null,null,null,null,null,null,null,null,null,null,null,null,null,null,null,null,null,null,null,null,null,null,null,null,null,null,null,null,null,null,null,null,null,null,null,null,null,null,null,null,null,null,null,null,null,null,null,null,null,null,null,null,null,null,null,null,null,null,null,null,null,null,null,null,null,null,null,null,null,null,null,null,null,null,null,null,null,null,null,null,null,null,null,null,null,null,null,null,null,null,null,null,null,null,null,null,null,null,null,null,null,null,null,null,null,null,null,null,null,null,null,null,null,null,null,null,null,null,null,null,null,null,null,null,null,null,null,null,null,null,null,null,null,null,null,null,null,null,null,null,null,null,null,null,null,null,null,null,null,null,null,null,null,null,null,null,null,null,null,null,null,null,null,null,null,null,null,null,null,null,null,null,null,null,null,null,null,null,null,null,null,null,null,null,null,null,null,null,null,null,null,null,null,null,null,null,null,null,null,null,null,null,null,null,null,null,null,null,null,null,null,null,null,null,null,null,null,null,null,null,null,null,null,null,null,null,null,null,null,null,null,null,null,null,null,null,null,null,null,null,null,null,null,null,null,null,null,null,null,null,null,null,null,null,null,null,null,null,null,null,null,null,null,null,null,null,null,null,null,null,null,null,null,null,null,null,null,null,null,null,null,null,null,null,null,null,null,null,null,null,null,null,null,null,null,null,null,null,null,null,null,null,null,null,null,null,null,null,null,null,null,null,null,null,null,null,null,null,null,null,null,null,null,null,null,null,null,null,null,null,null,null,null,null,null,null,null,null,null,null,null,null,null,null,null,null,null,null,null,null,null,null,null,null,null,null,null,null,null,null,null,null,null,null,null,null,null,null,null,null,null,null,null,null,null,null,null,null,null,null,null,null,null,null,null,null,null,null,null,null,null,null,null,null,null,null,null,null,null,null,null,null,null,null,null,null,null,null,null,null,null,null,null,null,null,null,null,null,null,null,null,null,null,null,null,null,null,null,null,null,null,null,null,null,null,null,null,null,null,null,null,null,null,null,null,null,null,null,null,null,null,null,null,null,null,null,null,null,null,null,null,null,null,null,null,null,null,null,null,null,null,null,null,null,null,null,null,null,null,null,null,null,null,null,null,null,null,null,null,null,null,null,null,null,null,null,null,null,null,null,null,null,null,null,null,null,null,null,null,null,null,null,null,null,null,null,null,null,null,null,null,null,null,null,null,null,null,null,null,null,null,null,null,null,null,null,null,null,null,null,null,null,null,null,null,null,null,null,null,null,null,null,null,null,null,null,null,null,null,null,null,null,null,null,null,null,null,null,null,null,null,null,null,null,null,null,null,null,null,null,null,null,null,null,null,null,null,null,null,null,null,null,null,null,null,null,null,null,null,null,null,null,null,null,null,null,null,null,null,null,null,null,null,null,null,null,null,null,null,null,null,null,null,null,null,null,null,null,null,null,null,null,null,null,null,null,null,null,null,null,null,null,null,null,null,null,null,null,null,null,null,null,null,null,null,null,null,null,null,null,null,null,null,null,null,null,null,null,null,null,null,null,null,null,null,null,null,null,null,null,null,null,null,null,null,null,null,null,null,null,null,null,null,null,null,null,null,null,null,null,null,null,null,null,null,null,null,null,null,null,null,null,null,null,null,null,null,null,null,null,null,null,null,null,null,null,null,null,null,null,null,null,null,null,null,null,null,null,null,null,null,null,null,null,null,null,null,null,null,null,null,null,null,null,null,null,null,null,null,null,null,null,null,null,null,null,null,null,null,null,null,null,null,null,null,null,null,null,null,null,null,null,null,null,null,null,null,null,null,null,null,null,null,null,null,null,null,null,null,null,null,null,null,null,null,null,null,null,null,null,null,null,null,null,null,null,null,null,null,null,null,null,null,null,null,null,null,null,null,null,null,null,null,null,null,null,null,null,null,null,null,null,null,null,null,null,null,null,null,null,null,null,null,null,null,null,null,null,null,null,null,null,null,null,null,null,null,null,null,null,null,null,null,null,null,null,null,null,null,null,null,null,null,null,null,null,null,null,null,null,null,null,null,null,null,null,null,null,null,null,null,null,null,null,null,null,null,null,null,null,null,null,null,null,null,null,null,null,null,null,null,null,null,null,null,null,null,null,null,null,null,null,null,null,null,null,null,null,null,null,null,null,null,null,null,null,null,null,null,null,null,null,null,null,null,null,null,null,null,null,null,null,null,null,null,null,null,null,null,null,null,null,null,null,null,null,null,null,null,null,null,null,null,null,null,null,null,null,null,null,null,null,null,null,null,null,null,null,null,null,null,null,null,null,null,null,null,null,null,null,null,null,null,null,null,null,null,null,null,null,null,null,null,null,null,null,null,null,null,null,null,null,null,null,null,null,null,null,null,null,null,null,null,null,null,null,null,null,null,null,null,null,null,null,null,null,null,null,null,null,null,null,null,null,null,null,null,null,null,null,null,null,null,null,"Initial Date",null,"¬NOW()","¬'Cover Sheet'!C22"]
[null,null,null,null,null,null,null,null,null,null,null,null,null,null,null,null,null,null,null,null,null,null,null,null,null,null,null,null,null,null,null,null,null,null,null,null,null,null,null,null,null,null,null,null,null,null,null,null,null,null,null,null,null,null,null,null,null,null,null,null,null,null,null,null,null,null,null,null,null,null,null,null,null,null,null,null,null,null,null,null,null,null,null,null,null,null,null,null,null,null,null,null,null,null,null,null,null,null,null,null,null,null,null,null,null,null,null,null,null,null,null,null,null,null,null,null,null,null,null,null,null,null,null,null,null,null,null,null,null,null,null,null,null,null,null,null,null,null,null,null,null,null,null,null,null,null,null,null,null,null,null,null,null,null,null,null,null,null,null,null,null,null,null,null,null,null,null,null,null,null,null,null,null,null,null,null,null,null,null,null,null,null,null,null,null,null,null,null,null,null,null,null,null,null,null,null,null,null,null,null,null,null,null,null,null,null,null,null,null,null,null,null,null,null,null,null,null,null,null,null,null,null,null,null,null,null,null,null,null,null,null,null,null,null,null,null,null,null,null,null,null,null,null,null,null,null,null,null,null,null,null,null,null,null,null,null,null,null,null,null,null,null,null,null,null,null,null,null,null,null,null,null,null,null,null,null,null,null,null,null,null,null,null,null,null,null,null,null,null,null,null,null,null,null,null,null,null,null,null,null,null,null,null,null,null,null,null,null,null,null,null,null,null,null,null,null,null,null,null,null,null,null,null,null,null,null,null,null,null,null,null,null,null,null,null,null,null,null,null,null,null,null,null,null,null,null,null,null,null,null,null,null,null,null,null,null,null,null,null,null,null,null,null,null,null,null,null,null,null,null,null,null,null,null,null,null,null,null,null,null,null,null,null,null,null,null,null,null,null,null,null,null,null,null,null,null,null,null,null,null,null,null,null,null,null,null,null,null,null,null,null,null,null,null,null,null,null,null,null,null,null,null,null,null,null,null,null,null,null,null,null,null,null,null,null,null,null,null,null,null,null,null,null,null,null,null,null,null,null,null,null,null,null,null,null,null,null,null,null,null,null,null,null,null,null,null,null,null,null,null,null,null,null,null,null,null,null,null,null,null,null,null,null,null,null,null,null,null,null,null,null,null,null,null,null,null,null,null,null,null,null,null,null,null,null,null,null,null,null,null,null,null,null,null,null,null,null,null,null,null,null,null,null,null,null,null,null,null,null,null,null,null,null,null,null,null,null,null,null,null,null,null,null,null,null,null,null,null,null,null,null,null,null,null,null,null,null,null,null,null,null,null,null,null,null,null,null,null,null,null,null,null,null,null,null,null,null,null,null,null,null,null,null,null,null,null,null,null,null,null,null,null,null,null,null,null,null,null,null,null,null,null,null,null,null,null,null,null,null,null,null,null,null,null,null,null,null,null,null,null,null,null,null,null,null,null,null,null,null,null,null,null,null,null,null,null,null,null,null,null,null,null,null,null,null,null,null,null,null,null,null,null,null,null,null,null,null,null,null,null,null,null,null,null,null,null,null,null,null,null,null,null,null,null,null,null,null,null,null,null,null,null,null,null,null,null,null,null,null,null,null,null,null,null,null,null,null,null,null,null,null,null,null,null,null,null,null,null,null,null,null,null,null,null,null,null,null,null,null,null,null,null,null,null,null,null,null,null,null,null,null,null,null,null,null,null,null,null,null,null,null,null,null,null,null,null,null,null,null,null,null,null,null,null,null,null,null,null,null,null,null,null,null,null,null,null,null,null,null,null,null,null,null,null,null,null,null,null,null,null,null,null,null,null,null,null,null,null,null,null,null,null,null,null,null,null,null,null,null,null,null,null,null,null,null,null,null,null,null,null,null,null,null,null,null,null,null,null,null,null,null,null,null,null,null,null,null,null,null,null,null,null,null,null,null,null,null,null,null,null,null,null,null,null,null,null,null,null,null,null,null,null,null,null,null,null,null,null,null,null,null,null,null,null,null,null,null,null,null,null,null,null,null,null,null,null,null,null,null,null,null,null,null,null,null,null,null,null,null,null,null,null,null,null,null,null,null,null,null,null,null,null,null,null,null,null,null,null,null,null,null,null,null,null,null,null,null,null,null,null,null,null,null,null,null,null,null,null,null,null,null,null,null,null,null,null,null,null,null,null,null,null,null,null,null,null,null,null,null,null,null,null,null,null,null,null,null,null,null,null,null,null,null,null,null,null,null,null,null,null,null,null,null,null,null,null,null,null,null,null,null,null,null,null,null,null,null,null,null,null,null,null,null,null,null,null,null,null,null,null,null,null,null,null,null,null,null,null,null,null,null,null,null,null,null,null,null,null,null,null,null,null,null,null,null,null,null,null,null,null,null,null,null,null,null,null,null,null,null,null,null,null,null,null,null,null,null,null,null,null,null,null,null,null,null,null,null,null,null,null,null,null,null,null,null,null,null,null,null,null,null,null,null,null,null,null,null,null,null,null,null,null,null,null,null,null,null,null,null,null,null,null,null,null,null,null,null,null,null,null,null,null,null,null,null,null,null,null,null,null,null,null,null,null,null,null,null,null,null,null,null,null,null,null,null,null,null,null,null,null,null,null,null,null,null,null,null,null,null,null,null,null,null,null,null,null,null,null,null,null,null,null,null,null,null,null,null,null,null,null,null,null,null,null,null,null,null,null,null,null,null,null,null,null,null,null,null,null,null,null,null,null,null,null,null,null,null,null,null,null,null,null,null,null,null,null,null,null,null,null,null,null,null,null,null,null,null,null,null,null,null,null,null,null,null,null,null,null,null,null,null,null,null,null,null,null,null,null,null,null,null,null,null,null,null,null,null,null,null,null,null,null,null,null,null,null,null,null,null,null,null,null,null,null,null,null,null,null,null,null,null,null,null,null,null,null,null,null,null,null,null,null,null,null,null,null,null,null,null,null,null,null,null,null,null,null,null,null,null,null,null,null,null,null,null,null,null,null,null,null,null,null,null,null,null,null,null,null,null,null,null,null,null,null,null,null,null,null,null,null,null,null,null,null,null,null,null,null,null,null,null,null,null,null,null,null,null,null,null,null,null,null,null,null,null,null,null,null,null,null,null,null,null,null,null,null,null,null,null,null,null,null,null,null,null,null,null,null,null,null,null,null,null,null,null,null,null,null,null,null,null,null,null,null,null,null,null,null,null,null,null,null,null,null,null,null,null,null,null,null,null,null,null,null,null,null,null,null,null,null,null,null,null,null,null,null,null,null,null,null,null,null,null,null,null,null,null,null,null,null,null,null,null,null,null,null,null,null,null,null,null,null,null,null,null,null,null,null,null,null,null,null,null,null,null,null,null,null,null,null,null,null,null,null,null,null,null,null,null,null,null,null,null,null,null,null,null,null,null,null,null,null,null,null,null,null,null,null,null,null,null,null,null,null,null,null,null,null,null,null,null,null,null,null,null,null,null,null,null,null,null,null,null,null,null,null,null,null,null,null,null,null,null,null,null,null,null,null,null,null,null,null,null,null,null,null,null,null,null,null,null,null,null,null,null,null,null,null,null,null,null,null,null,null,null,null,null,null,null,null,null,null,null,null,null,null,null,null,null,null,null,null,null,null,null,null,null,null,null,null,null,null,null,null,null,null,null,null,null,null,null,null,null,null,null,null,null,null,null,null,null,null,null,null,null,null,null,null,null,null,null,null,null,null,null,null,null,null,null,null,null,null,null,null,null,null,null,null,null,null,null,null,null,null,null,null,null,null,null,null,null,null,null,null,null,null,null,null,null,null,null,null,null,null,null,null,null,null,null,null,null,null,null,null,null,null,null,null,null,null,null,null,null,null,null,null,null,null,null,null,null,null,null,null,null,null,null,null,null,null,null,null,null,null,null,null,null,null,null,null,null,null,null,null,null,null,null,null,null,null,null,null,null,null,null,null,null,null,null,null,null,null,null,null,null,null,null,null,null,null,null,null,null,null,null,null,null,null,null,null,null,null,null,null,null,null,null,null,null,null,null,null,null,null,null,null,null,null,null,null,null,null,null,null,null,null,null,null,null,null,null,null,null,null,null,null,null,null,null,null,null,null,null,null,null,null,null,null,null,null,null,null,null,null,null,null,null,null,null,null,null,null,null,null,null,null,null,null,null,null,null,null,null,null,null,null,null,null,null,null,null,null,null,null,null,null,null,null,null,null,null,null,null,null,null,null,null,null,null,null,null,null,null,null,null,null,null,null,null,null,null,null,null,null,null,null,null,null,null,null,null,null,null,null,null,null,null,null,null,null,null,null,null,null,null,null,null,null,null,null,null,null,null,null,null,null,null,null,null,null,null,null,null,null,null,null,null,null,null,null,null,null,null,null,null,null,null,null,null,null,null,null,null,null,null,null,null,null,null,null,null,null,null,null,null,null,null,null,null,null,null,null,null,null,null,null,null,null,null,null,null,null,null,null,null,null,null,null,null,null,null,null,null,null,null,null,null,null,null,null,null,null,null,null,null,null,null,null,null,null,null,null,null,null,null,null,null,null,null,null,null,null,null,null,null,null,null,null,null,null,null,null,null,null,null,null,null,null,null,null,null,null,null,null,null,null,null,null,null,null,null,null,null,null,null,null,null,null,null,null,null,null,null,null,null,null,null,null,null,null,null,null,null,null,null,null,null,null,null,null,null,null,null,null,null,null,null,null,null,null,null,null,null,null,null,null,null,null,null,null,null,null,null,null,null,null,null,null,null,null,null,null,null,null,null,null,null,null,null,null,null,null,null,null,null,null,null,null,null,null,null,null,null,null,null,null,null,null,null,null,null,null,null,null,null,null,null,null,null,null,null,null,null,null,null,null,null,null,null,null,null,null,null,null,null,null,null,null,null,null,null,null,null,null,null,null,null,null,null,null,null,null,null,null,null,null,null,null,null,null,null,null,null,null,null,null,null,null,null,null,null,null,null,null,null,null,null,null,null,null,null,null,null,null,null,null,null,null,null,null,null,null,null,null,null,null,null,null,null,null,null,null,null,null,null,null,null,null,null,null,null,null,null,null,null,null,null,null,null,null,null,null,null,null,null,null,null,null,null,null,null,null,null,null,null,null,null,null,null,null,null,null,null,null,null,null,null,null,null,null,null,null,null,null,null,null,null,null,null,null,null,null,null,null,null,null,null,null,null,null,null,null,null,null,null,null,null,null,null,null,null,null,null,null,null,null,null,null,null,null,null,null,null,null,null,null,null,null,null,null,null,null,null,null,null,null,null,null,null,null,null,null,null,null,null,null,null,null,null,null,null,null,null,null,null,null,null,null,null,null,null,null,null,null,null,null,null,null,null,null,null,null,null,null,null,null,null,null,null,null,null,null,null,null,null,null,null,null,null,null,null,null,null,null,null,null,null,null,null,null,null,null,null,null,null,null,null,null,null,null,null,null,null,null,null,null,null,null,null,null,null,null,null,null,null,null,null,null,null,null,null,null,null,null,null,null,null,null,null,null,null,null,null,null,null,null,null,null,null,null,null,null,null,null,null,null,null,null,null,null,null,null,null,null,null,null,null,null,null,null,null,null,null,null,null,null,null,null,null,null,null,null,null,null,null,null,null,null,null,null,null,null,null,null,null,null,null,null,null,null,null,null,null,null,null,null,null,null,null,null,null,null,null,null,null,null,null,null,null,null,null,null,null,null,null,null,null,null,null,null,null,null,null,null,null,null,null,null,null,null,null,null,null,null,null,null,null,null,null,null,null,null,null,null,null,null,null,null,null,null,null,null,null,null,null,null,null,null,null,null,null,null,null,null,null,null,null,null,null,null,null,null,null,null,null,null,null,null,null,null,null,null,null,null,null,null,null,null,null,null,null,null,null,null,null,null,null,null,null,null,null,null,null,null,null,null,null,null,null,null,null,null,null,null,null,null,null,null,null,null,null,null,null,null,null,null,null,null,null,null,null,null,null,null,null,null,null,null,null,null,null,null,null,null,null,null,null,null,null,null,null,null,null,null,null,null,null,null,null,null,null,null,null,null,null,null,null,null,null,null,null,null,null,null,null,null,null,null,null,null,null,null,null,null,null,null,null,null,null,null,null,null,null,null,null,null,null,null,null,null,null,null,null,null,null,null,null,null,null,null,null,null,null,null,null,null,null,null,null,null,null,null,null,null,null,null,null,null,null,null,null,null,null,null,null,null,null,null,null,null,null,null,null,null,null,null,null,null,null,null,null,null,null,null,null,null,null,null,null,null,null,null,null,null,null,null,null,null,null,null,null,null,null,null,null,null,null,null,null,null,null,null,null,null,null,null,null,null,null,null,null,null,null,null,null,null,null,null,null,null,null,null,null,null,null,null,null,null,null,null,null,null,null,null,null,null,null,null,null,null,null,null,null,null,null,null,null,null,null,null,null,null,null,null,null,null,null,null,null,null,null,null,null,null,null,null,null,null,null,null,null,null,null,null,null,null,null,null,null,null,null,null,null,null,null,null,null,null,null,null,null,null,null,null,null,null,null,null,null,null,null,null,null,null,null,null,null,null,null,null,null,null,null,null,null,null,null,null,null,null,null,null,null,null,null,null,null,null,null,null,null,null,null,null,null,null,null,null,null,null,null,null,null,null,null,null,null,null,null,null,null,null,null,null,null,null,null,null,null,null,null,null,null,null,null,null,null,null,null,null,null,null,null,null,null,null,null,null,null,null,null,null,null,null,null,null,null,null,null,null,null,null,null,null,null,null,null,null,null,null,null,null,null,null,null,null,null,null,null,null,null,null,null,null,null,null,null,null,null,null,null,null,null,null,null,null,null,null,null,null,null,null,null,null,null,null,null,null,null,null,null,null,null,null,null,null,null,null,null,null,null,null,null,null,null,null,null,null,null,null,null,null,null,null,null,null,null,null,null,null,null,null,null,null,null,null,null,null,null,null,null,null,null,null,null,null,null,null,null,null,null,null,null,null,null,null,null,null,null,null,null,null,null,null,null,null,null,null,null,null,null,null,null,null,null,null,null,null,null,null,null,null,null,null,null,null,null,null,null,null,null,null,null,null,null,null,null,null,null,null,null,null,null,null,null,null,null,null,null,null,null,null,null,null,null,null,null,null,null,null,null,null,null,null,null,null,null,null,null,null,null,null,null,null,null,null,null,null,null,null,null,null,null,null,null,null,null,null,null,null,null,null,null,null,null,null,null,null,null,null,null,null,null,null,null,null,null,null,null,null,null,null,null,null,null,null,null,null,null,null,null,null,null,null,null,null,null,null,null,null,null,null,null,null,null,null,null,null,null,null,null,null,null,null,null,null,null,null,null,null,null,null,null,null,null,null,null,null,null,null,null,null,null,null,null,null,null,null,null,null,null,null,null,null,null,null,null,null,null,null,null,null,null,null,null,null,null,null,null,null,null,null,null,null,null,null,null,null,null,null,null,null,null,null,null,null,null,null,null,null,null,null,null,null,null,null,null,null,null,null,null,null,null,null,null,null,null,null,null,null,null,null,null,null,null,null,null,null,null,null,null,null,null,null,null,null,null,null,null,null,null,null,null,null,null,null,null,null,null,null,null,null,null,null,null,null,null,null,null,null,null,null,null,null,null,null,null,null,null,null,null,null,null,null,null,null,null,null,null,null,null,null,null,null,null,null,null,null,null,null,null,null,null,null,null,null,null,null,null,null,null,null,null,null,null,null,null,null,null,null,null,null,null,null,null,null,null,null,null,null,null,null,null,null,null,null,null,null,null,null,null,null,null,null,null,null,null,null,null,null,null,null,null,null,null,null,null,null,null,null,null,null,null,null,null,null,null,null,null,null,null,null,null,null,null,null,null,null,null,null,null,null,null,null,null,null,null,null,null,null,null,null,null,null,null,null,null,null,null,null,null,null,null,null,null,null,null,null,null,null,null,null,null,null,null,null,null,null,null,null,null,null,null,null,null,null,null,null,null,null,null,null,null,null,null,null,null,null,null,null,null,null,null,null,null,null,null,null,null,null,null,null,null,null,null,null,null,null,null,null,null,null,null,null,null,null,null,null,null,null,null,null,null,null,null,null,null,null,null,null,null,null,null,null,null,null,null,null,null,null,null,null,null,null,null,null,null,null,null,null,null,null,null,null,null,null,null,null,null,null,null,null,null,null,null,null,null,null,null,null,null,null,null,null,null,null,null,null,null,null,null,null,null,null,null,null,null,null,null,null,null,null,null,null,null,null,null,null,null,null,null,null,null,null,null,null,null,null,null,null,null,null,null,null,null,null,null,null,null,null,null,null,null,null,null,null,null,null,null,null,null,null,null,null,null,null,null,null,null,null,null,null,null,null,null,null,null,null,null,null,null,null,null,null,null,null,null,null,null,null,null,null,null,null,null,null,null,null,null,null,null,null,null,null,null,null,null,null,null,null,null,null,null,null,null,null,null,null,null,null,null,null,null,null,null,null,null,null,null,null,null,null,null,null,null,null,null,null,null,null,null,null,null,null,null,null,null,null,null,null,null,null,null,null,null,null,null,null,null,null,null,null,null,null,null,null,null,null,null,null,null,null,null,null,null,null,null,null,null,null,null,null,null,null,null,null,null,null,null,null,null,null,null,null,null,null,null,null,null,null,null,null,null,null,null,null,null,null,null,null,null,null,null,null,null,null,null,null,null,null,null,null,null,null,null,null,null,null,null,null,null,null,null,null,null,null,null,null,null,null,null,null,null,null,null,null,null,null,null,null,null,null,null,null,null,null,null,null,null,null,null,null,null,null,null,null,null,null,null,null,null,null,null,null,null,null,null,null,null,null,null,null,null,null,null,null,null,null,null,null,null,null,null,null,null,null,null,null,null,null,null,null,null,null,null,null,null,null,null,null,null,null,null,null,null,null,null,null,null,null,null,null,null,null,null,null,null,null,null,null,null,null,null,null,null,null,null,null,null,null,null,null,null,null,null,null,null,null,null,null,null,null,null,null,null,null,null,null,null,null,null,null,null,null,null,null,null,null,null,null,null,null,null,null,null,null,null,null,null,null,null,null,null,null,null,null,null,null,null,null,null,null,null,null,null,null,null,null,null,null,null,null,null,null,null,null,null,null,null,null,null,null,null,null,null,null,null,null,null,null,null,null,null,null,null,null,null,null,null,null,null,null,null,null,null,null,null,null,null,null,null,null,null,null,null,null,null,null,null,null,null,null,null,null,null,null,null,null,null,null,null,null,null,null,null,null,null,null,null,null,null,null,null,null,null,null,null,null,null,null,null,null,null,null,null,null,null,null,null,null,null,null,null,null,null,null,null,null,null,null,null,null,null,null,null,null,null,null,null,null,null,null,null,null,null,null,null,null,null,null,null,null,null,null,null,null,null,null,null,null,null,null,null,null,null,null,null,null,null,null,null,null,null,null,null,null,null,null,null,null,null,null,null,null,null,null,null,null,null,null,null,null,null,null,null,null,null,null,null,null,null,null,null,null,null,null,null,null,null,null,null,null,null,null,null,null,null,null,null,null,null,null,null,null,null,null,null,null,null,null,null,null,null,null,null,null,null,null,null,null,null,null,null,null,null,null,null,null,null,null,null,null,null,null,null,null,null,null,null,null,null,null,null,null,null,null,null,null,null,null,null,null,null,null,null,null,null,null,null,null,null,null,null,null,null,null,null,null,null,null,null,null,null,null,null,null,null,null,null,null,null,null,null,null,null,null,null,null,null,null,null,null,null,null,null,null,null,null,null,null,null,null,null,null,null,null,null,null,null,null,null,null,null,null,null,null,null,null,null,null,null,null,null,null,null,null,null,null,null,null,null,null,null,null,null,null,null,null,null,null,null,null,null,null,null,null,null,null,null,null,null,null,null,null,null,null,null,null,null,null,null,null,null,null,null,null,null,null,null,null,null,null,null,null,null,null,null,null,null,null,null,null,null,null,null,null,null,null,null,null,null,null,null,null,null,null,null,null,null,null,null,null,null,null,null,null,null,null,null,null,null,null,null,null,null,null,null,null,null,null,null,null,null,null,null,null,null,null,null,null,null,null,null,null,null,null,null,null,null,null,null,null,null,null,null,null,null,null,null,null,null,null,null,null,null,null,null,null,null,null,null,null,null,null,null,null,null,null,null,null,null,null,null,null,null,null,null,null,null,null,null,null,null,null,null,null,null,null,null,null,null,null,null,null,null,null,null,null,null,null,null,null,null,null,null,null,null,null,null,null,null,null,null,null,null,null,null,null,null,null,null,null,null,null,null,null,null,null,null,null,null,null,null,null,null,null,null,null,null,null,null,null,null,null,null,null,null,null,null,null,null,null,null,null,null,null,null,null,null,null,null,null,null,null,null,null,null,null,null,null,null,null,null,null,null,null,null,null,null,null,null,null,null,null,null,null,null,null,null,null,null,null,null,null,null,null,null,null,null,null,null,null,null,null,null,null,null,null,null,null,null,null,null,null,null,null,null,null,null,null,null,null,null,null,null,null,null,null,null,null,null,null,null,null,null,null,null,null,null,null,null,null,null,null,null,null,null,null,null,null,null,null,null,null,null,null,null,null,null,null,null,null,null,null,null,null,null,null,null,null,null,null,null,null,null,null,null,null,null,null,null,null,null,null,null,null,null,null,null,null,null,null,null,null,null,null,null,null,null,null,null,null,null,null,null,null,null,null,null,null,null,null,null,null,null,null,null,null,null,null,null,null,null,null,null,null,null,null,null,null,null,null,null,null,null,null,null,null,null,null,null,null,null,null,null,null,null,null,null,null,null,null,null,null,null,null,null,null,null,null,null,null,null,null,null,null,null,null,null,null,null,null,null,null,null,null,null,null,null,null,null,null,null,null,null,null,null,null,null,null,null,null,null,null,null,null,null,null,null,null,null,null,null,null,null,null,null,null,null,null,null,null,null,null,null,null,null,null,null,null,null,null,null,null,null,null,null,null,null,null,null,null,null,null,null,null,null,null,null,null,null,null,null,null,null,null,null,null,null,null,null,null,null,null,null,null,null,null,null,null,null,null,null,null,null,null,null,null,null,null,null,null,null,null,null,null,null,null,null,null,null,null,null,null,null,null,null,null,null,null,null,null,null,null,null,null,null,null,null,null,null,null,null,null,null,null,null,null,null,null,null,null,null,null,null,null,null,null,null,null,null,null,null,null,null,null,null,null,null,null,null,null,null,null,null,null,null,null,null,null,null,null,null,null,null,null,null,null,null,null,null,null,null,null,null,null,null,null,null,null,null,null,null,null,null,null,null,null,null,null,null,null,null,null,null,null,null,null,null,null,null,null,null,null,null,null,null,null,null,null,null,null,null,null,null,null,null,null,null,null,null,null,null,null,null,null,null,null,null,null,null,null,null,null,null,null,null,null,null,null,null,null,null,null,null,null,null,null,null,null,null,null,null,null,null,null,null,null,null,null,null,null,null,null,null,null,null,null,null,null,null,null,null,null,null,null,null,null,null,null,null,null,null,null,null,null,null,null,null,null,null,null,null,null,null,null,null,null,null,null,null,null,null,null,null,null,null,null,null,null,null,null,null,null,null,null,null,null,null,null,null,null,null,null,null,null,null,null,null,null,null,null,null,null,null,null,null,null,null,null,null,null,null,null,null,null,null,null,null,null,null,null,null,null,null,null,null,null,null,null,null,null,null,null,null,null,null,null,null,null,null,null,null,null,null,null,null,null,null,null,null,null,null,null,null,null,null,null,null,null,null,null,null,null,null,null,null,null,null,null,null,null,null,null,null,null,null,null,null,null,null,null,null,null,null,null,null,null,null,null,null,null,null,null,null,null,null,null,null,null,null,null,null,null,null,null,null,null,null,null,null,null,null,null,null,null,null,null,null,null,null,null,null,null,null,null,null,null,null,null,null,null,null,null,null,null,null,null,null,null,null,null,null,null,null,null,null,null,null,null,null,null,null,null,null,null,null,null,null,null,null,null,null,null,null,null,null,null,null,null,null,null,null,null,null,null,null,null,null,null,null,null,null,null,null,null,null,null,null,null,null,null,null,null,null,null,null,null,null,null,null,null,null,null,null,null,null,null,null,null,null,null,null,null,null,null,null,null,null,null,null,null,null,null,null,null,null,null,null,null,null,null,null,null,null,null,null,null,null,null,null,null,null,null,null,null,null,null,null,null,null,null,null,null,null,null,null,null,null,null,null,null,null,null,null,null,null,null,null,null,null,null,null,null,null,null,null,null,null,null,null,null,null,null,null,null,null,null,null,null,null,null,null,null,null,null,null,null,null,null,null,null,null,null,null,null,null,null,null,null,null,null,null,null,null,null,null,null,null,null,null,null,null,null,null,null,null,null,null,null,null,null,null,null,null,null,null,null,null,null,null,null,null,null,null,null,null,null,null,null,null,null,null,null,null,null,null,null,null,null,null,null,null,null,null,null,null,null,null,null,null,null,null,null,null,null,null,null,null,null,null,null,null,null,null,null,null,null,null,null,null,null,null,null,null,null,null,null,null,null,null,null,null,null,null,null,null,null,null,null,null,null,null,null,null,null,null,null,null,null,null,null,null,null,null,null,null,null,null,null,null,null,null,null,null,null,null,null,null,null,null,null,null,null,null,null,null,null,null,null,null,null,null,null,null,null,null,null,null,null,null,null,null,null,null,null,null,null,null,null,null,null,null,null,null,null,null,null,null,null,null,null,null,null,null,null,null,null,null,null,null,null,null,null,null,null,null,null,null,null,null,null,null,null,null,null,null,null,null,null,null,null,null,null,null,null,null,null,null,null,null,null,null,null,null,null,null,null,null,null,null,null,null,null,null,null,null,null,null,null,null,null,null,null,null,null,null,null,null,null,null,null,null,null,null,null,null,null,null,null,null,null,null,null,null,null,null,null,null,null,null,null,null,null,null,null,null,null,null,null,null,null,null,null,null,null,null,null,null,null,null,null,null,null,null,null,null,null,null,null,null,null,null,null,null,null,null,null,null,null,null,null,null,null,null,null,null,null,null,null,null,null,null,null,null,null,null,null,null,null,null,null,null,null,null,null,null,null,null,null,null,null,null,null,null,null,null,null,null,null,null,null,null,null,null,null,null,null,null,null,null,null,null,null,null,null,null,null,null,null,null,null,null,null,null,null,null,null,null,null,null,null,null,null,null,null,null,null,null,null,null,null,null,null,null,null,null,null,null,null,null,null,null,null,null,null,null,null,null,null,null,null,null,null,null,null,null,null,null,null,null,null,null,null,null,null,null,null,null,null,null,null,null,null,null,null,null,null,null,null,null,null,null,null,null,null,null,null,null,null,null,null,null,null,null,null,null,null,null,null,null,null,null,null,null,null,null,null,null,null,null,null,null,null,null,null,null,null,null,null,null,null,null,null,null,null,null,null,null,null,null,null,null,null,null,null,null,null,null,null,null,null,null,null,null,null,null,null,null,null,null,null,null,null,null,null,null,null,null,null,null,null,null,null,null,null,null,null,null,null,null,null,null,null,null,null,null,null,null,null,null,null,null,null,null,null,null,null,null,null,null,null,null,null,null,null,null,null,null,null,null,null,null,null,null,null,null,null,null,null,null,null,null,null,null,null,null,null,null,null,null,null,null,null,null,null,null,null,null,null,null,null,null,null,null,null,null,null,null,null,null,null,null,null,null,null,null,null,null,null,null,null,null,null,null,null,null,null,null,null,null,null,null,null,null,null,null,null,null,null,null,null,null,null,null,null,null,null,null,null,null,null,null,null,null,null,null,null,null,null,null,null,null,null,null,null,null,null,null,null,null,null,null,null,null,null,null,null,null,null,null,null,null,null,null,null,null,null,null,null,null,null,null,null,null,null,null,null,null,null,null,null,null,null,null,null,null,null,null,null,null,null,null,null,null,null,null,null,null,null,null,null,null,null,null,null,null,null,null,null,null,null,null,null,null,null,null,null,null,null,null,null,null,null,null,null,null,null,null,null,null,null,null,null,null,null,null,null,null,null,null,null,null,null,null,null,null,null,null,null,null,null,null,null,null,null,null,null,null,null,null,null,null,null,null,null,null,null,null,null,null,null,null,null,null,null,null,null,null,null,null,null,null,null,null,null,null,null,null,null,null,null,null,null,null,null,null,null,null,null,null,null,null,null,null,null,null,null,null,null,null,null,null,null,null,null,null,null,null,null,null,null,null,null,null,null,null,null,null,null,null,null,null,null,null,null,null,null,null,null,null,null,null,null,null,null,null,null,null,null,null,null,null,null,null,null,null,null,null,null,null,null,null,null,null,null,null,null,null,null,null,null,null,null,null,null,null,null,null,null,null,null,null,null,null,null,null,null,null,null,null,null,null,null,null,null,null,null,null,null,null,null,null,null,null,null,null,null,null,null,null,null,null,null,null,null,null,null,null,null,null,null,null,null,null,null,null,null,null,null,null,null,null,null,null,null,null,null,null,null,null,null,null,null,null,null,null,null,null,null,null,null,null,null,null,null,null,null,null,null,null,null,null,null,null,null,null,null,null,null,null,null,null,null,null,null,null,null,null,null,null,null,null,null,null,null,null,null,null,null,null,null,null,null,null,null,null,null,null,null,null,null,null,null,null,null,null,null,null,null,null,null,null,null,null,null,null,null,null,null,null,null,null,null,null,null,null,null,null,null,null,null,null,null,null,null,null,null,null,null,null,null,null,null,null,null,null,null,null,null,null,null,null,null,null,null,null,null,null,null,null,null,null,null,null,null,null,null,null,null,null,null,null,null,null,null,null,null,null,null,null,null,null,null,null,null,null,null,null,null,null,null,null,null,null,null,null,null,null,null,null,null,null,null,null,null,null,null,null,null,null,null,null,null,null,null,null,null,null,null,null,null,null,null,null,null,null,null,null,null,null,null,null,null,null,null,null,null,null,null,null,null,null,null,null,null,null,null,null,null,null,null,null,null,null,null,null,null,null,null,null,null,null,null,null,null,null,null,null,null,null,null,null,null,null,null,null,null,null,null,null,null,null,null,null,null,null,null,null,null,null,null,null,null,null,null,null,null,null,null,null,null,null,null,null,null,null,null,null,null,null,null,null,null,null,null,null,null,null,null,null,null,null,null,null,null,null,null,null,null,null,null,null,null,null,null,null,null,null,null,null,null,null,null,null,null,null,null,null,null,null,null,null,null,null,null,null,null,null,null,null,null,null,null,null,null,null,null,null,null,null,null,null,null,null,null,null,null,null,null,null,null,null,null,null,null,null,null,null,null,null,null,null,null,null,null,null,null,null,null,null,null,null,null,null,null,null,null,null,null,null,null,null,null,null,null,null,null,null,null,null,null,null,null,null,null,null,null,null,null,null,null,null,null,null,null,null,null,null,null,null,null,null,null,null,null,null,null,null,null,null,null,null,null,null,null,null,null,null,null,null,null,null,null,null,null,null,null,null,null,null,null,null,null,null,null,null,null,null,null,null,null,null,null,null,null,null,null,null,null,null,null,null,null,null,null,null,null,null,null,null,null,null,null,null,null,null,null,null,null,null,null,null,null,null,null,null,null,null,null,null,null,null,null,null,null,null,null,null,null,null,null,null,null,null,null,null,null,null,null,null,null,null,null,null,null,null,null,null,null,null,null,null,null,null,null,null,null,null,null,null,null,null,null,null,null,null,null,null,null,null,null,null,null,null,null,null,null,null,null,null,null,null,null,null,null,null,null,null,null,null,null,null,null,null,null,null,null,null,null,null,null,null,null,null,null,null,null,null,null,null,null,null,null,null,null,null,null,null,null,null,null,null,null,null,null,null,null,null,null,null,null,null,null,null,null,null,null,null,null,null,null,null,null,null,null,null,null,null,null,null,null,null,null,null,null,null,null,null,null,null,null,null,null,null,null,null,null,null,null,null,null,null,null,null,null,null,null,null,null,null,null,null,null,null,null,null,null,null,null,null,null,null,null,null,null,null,null,null,null,null,null,null,null,null,null,null,null,null,null,null,null,null,null,null,null,null,null,null,null,null,null,null,null,null,null,null,null,null,null,null,null,null,null,null,null,null,null,null,null,null,null,null,null,null,null,null,null,null,null,null,null,null,null,null,null,null,null,null,null,null,null,null,null,null,null,null,null,null,null,null,null,null,null,null,null,null,null,null,null,null,null,null,null,null,null,null,null,null,null,null,null,null,null,null,null,null,null,null,null,null,null,null,null,null,null,null,null,null,null,null,null,null,null,null,null,null,null,null,null,null,null,null,null,null,null,null,null,null,null,null,null,null,null,null,null,null,null,null,null,null,null,null,null,null,null,null,null,null,null,null,null,null,null,null,null,null,null,null,null,null,null,null,null,null,null,null,null,null,null,null,null,null,null,null,null,null,null,null,null,null,null,null,null,null,null,null,null,null,null,null,null,null,null,null,null,null,null,null,null,null,null,null,null,null,null,null,null,null,null,null,null,null,null,null,null,null,null,null,null,null,null,null,null,null,null,null,null,null,null,null,null,null,null,null,null,null,null,null,null,null,null,null,null,null,null,null,null,null,null,null,null,null,null,null,null,null,null,null,null,null,null,null,null,null,null,null,null,null,null,null,null,null,null,null,null,null,null,null,null,null,null,null,null,null,null,null,null,null,null,null,null,null,null,null,null,null,null,null,null,null,null,null,null,null,null,null,null,null,null,null,null,null,null,null,null,null,null,null,null,null,null,null,null,null,null,null,null,null,null,null,null,null,null,null,null,null,null,null,null,null,null,null,null,null,null,null,null,null,null,null,null,null,null,null,null,null,null,null,null,null,null,null,null,null,null,null,null,null,null,null,null,null,null,null,null,null,null,null,null,null,null,null,null,null,null,null,null,null,null,null,null,null,null,null,null,null,null,null,null,null,null,null,null,null,null,null,null,null,null,null,null,null,null,null,null,null,null,null,null,null,null,null,null,null,null,null,null,null,null,null,null,null,null,null,null,null,null,null,null,null,null,null,null,null,null,null,null,null,null,null,null,null,null,null,null,null,null,null,null,null,null,null,null,null,null,null,null,null,null,null,null,null,null,null,null,null,null,null,null,null,null,null,null,null,null,null,null,null,null,null,null,null,null,null,null,null,null,null,null,null,null,null,null,null,null,null,null,null,null,null,null,null,null,null,null,null,null,null,null,null,null,null,null,null,null,null,null,null,null,null,null,null,null,null,null,null,null,null,null,null,null,null,null,null,null,null,null,null,null,null,null,null,null,null,null,null,null,null,null,null,null,null,null,null,null,null,null,null,null,null,null,null,null,null,null,null,null,null,null,null,null,null,null,null,null,null,null,null,null,null,null,null,null,null,null,null,null,null,null,null,null,null,null,null,null,null,null,null,null,null,null,null,null,null,null,null,null,null,null,null,null,null,null,null,null,null,null,null,null,null,null,null,null,null,null,null,null,null,null,null,null,null,null,null,null,null,null,null,null,null,null,null,null,null,null,null,null,null,null,null,null,null,null,null,null,null,null,null,null,null,null,null,null,null,null,null,null,null,null,null,null,null,null,null,null,null,null,null,null,null,null,null,null,null,null,null,null,null,null,null,null,null,null,null,null,null,null,null,null,null,null,null,null,null,null,null,null,null,null,null,null,null,null,null,null,null,null,null,null,null,null,null,null,null,null,null,null,null,null,null,null,null,null,null,null,null,null,null,null,null,null,null,null,null,null,null,null,null,null,null,null,null,null,null,null,null,null,null,null,null,null,null,null,null,null,null,null,null,null,null,null,null,null,null,null,null,null,null,null,null,null,null,null,null,null,null,null,null,null,null,null,null,null,null,null,null,null,null,null,null,null,null,null,null,null,null,null,null,null,null,null,null,null,null,null,null,null,null,null,null,null,null,null,null,null,null,null,null,null,null,null,null,null,null,null,null,null,null,null,null,null,null,null,null,null,null,null,null,null,null,null,null,null,null,null,null,null,null,null,null,null,null,null,null,null,null,null,null,null,null,null,null,null,null,null,null,null,null,null,null,null,null,null,null,null,null,null,null,null,null,null,null,null,null,null,null,null,null,null,null,null,null,null,null,null,null,null,null,null,null,null,null,null,null,null,null,null,null,null,null,null,null,null,null,null,null,null,null,null,null,null,null,null,null,null,null,null,null,null,null,null,null,null,null,null,null,null,null,null,null,null,null,null,null,null,null,null,null,null,null,null,null,null,null,null,null,null,null,null,null,null,null,null,null,null,null,null,null,null,null,null,null,null,null,null,null,null,null,null,null,null,null,null,null,null,null,null,null,null,null,null,null,null,null,null,null,null,null,null,null,null,null,null,null,null,null,null,null,null,null,null,null,null,null,null,null,null,null,null,null,null,null,null,null,null,null,null,null,null,null,null,null,null,null,null,null,null,null,null,null,null,null,null,null,null,null,null,null,null,null,null,null,null,null,null,null,null,null,null,null,null,null,null,null,null,null,null,null,null,null,null,null,null,null,null,null,null,null,null,null,null,null,null,null,null,null,null,null,null,null,null,null,null,null,null,null,null,null,null,null,null,null,null,null,null,null,null,null,null,null,null,null,null,null,null,null,null,null,null,null,null,null,null,null,null,null,null,null,null,null,null,null,null,null,null,null,null,null,null,null,null,null,null,null,null,null,null,null,null,null,null,null,null,null,null,null,null,null,null,null,null,null,null,null,null,null,null,null,null,null,null,null,null,null,null,null,null,null,null,null,null,null,null,null,null,null,null,null,null,null,null,null,null,null,null,null,null,null,null,null,null,null,null,null,null,null,null,null,null,null,null,null,null,null,null,null,null,null,null,null,null,null,null,null,null,null,null,null,null,null,null,null,null,null,null,null,null,null,null,null,null,null,null,null,null,null,null,null,null,null,null,null,null,null,null,null,null,null,null,null,null,null,null,null,null,null,null,null,null,null,null,null,null,null,null,null,null,null,null,null,null,null,null,null,null,null,null,null,null,null,null,null,null,null,null,null,null,null,null,null,null,null,null,null,null,null,null,null,null,null,null,null,null,null,null,null,null,null,null,null,null,null,null,null,null,null,null,null,null,null,null,null,null,null,null,null,null,null,null,null,null,null,null,null,null,null,null,null,null,null,null,null,null,null,null,null,null,null,null,null,null,null,null,null,null,null,null,null,null,null,null,null,null,null,null,null,null,null,null,null,null,null,null,null,null,null,null,null,null,null,null,null,null,null,null,null,null,null,null,null,null,null,null,null,null,null,null,null,null,null,null,null,null,null,null,null,null,null,null,null,null,null,null,null,null,null,null,null,null,null,null,null,null,null,null,null,null,null,null,null,null,null,null,null,null,null,null,null,null,null,null,null,null,null,null,null,null,null,null,null,null,null,null,null,null,null,null,null,null,null,null,null,null,null,null,null,null,null,null,null,null,null,null,null,null,null,null,null,null,null,null,null,null,null,null,null,null,null,null,null,null,null,null,null,null,null,null,null,null,null,null,null,null,null,null,null,null,null,null,null,null,null,null,null,null,null,null,null,null,null,null,null,null,null,null,null,null,null,null,null,null,null,null,null,null,null,null,null,null,null,null,null,null,null,null,null,null,null,null,null,null,null,null,null,null,null,null,null,null,null,null,null,null,null,null,null,null,null,null,null,null,null,null,null,null,null,null,null,null,null,null,null,null,null,null,null,null,null,null,null,null,null,null,null,null,null,null,null,null,null,null,null,null,null,null,null,null,null,null,null,null,null,null,null,null,null,null,null,null,null,null,null,null,null,null,null,null,null,null,null,null,null,null,null,null,null,null,null,null,null,null,null,null,null,null,null,null,null,null,null,null,null,null,null,null,null,null,null,null,null,null,null,null,null,null,null,null,null,null,null,null,null,null,null,null,null,null,null,null,null,null,null,null,null,null,null,null,null,null,null,null,null,null,null,null,null,null,null,null,null,null,null,null,null,null,null,null,null,null,null,null,null,null,null,null,null,null,null,null,null,null,null,null,null,null,null,null,null,null,null,null,null,null,null,null,null,null,null,null,null,null,null,null,null,null,null,null,null,null,null,null,null,null,null,null,null,null,null,null,null,null,null,null,null,null,null,null,null,null,null,null,null,null,null,null,null,null,null,null,null,null,null,null,null,null,null,null,null,null,null,null,null,null,null,null,null,null,null,null,null,null,null,null,null,null,null,null,null,null,null,null,null,null,null,null,null,null,null,null,null,null,null,null,null,null,null,null,null,null,null,null,null,null,null,null,null,null,null,null,null,null,null,null,null,null,null,null,null,null,null,null,null,null,null,null,null,null,null,null,null,null,null,null,null,null,null,null,null,null,null,null,null,null,null,null,null,null,null,null,null,null,null,null,null,null,null,null,null,null,null,null,null,null,null,null,null,null,null,null,null,null,null,null,null,null,null,null,null,null,null,null,null,null,null,null,null,null,null,null,null,null,null,null,null,null,null,null,null,null,null,null,null,null,null,null,null,null,null,null,null,null,null,null,null,null,null,null,null,null,null,null,null,null,null,null,null,null,null,null,null,null,null,null,null,null,null,null,null,null,null,null,null,null,null,null,null,null,null,null,null,null,null,null,null,null,null,null,null,null,null,null,null,null,null,null,null,null,null,null,null,null,null,null,null,null,null,null,null,null,null,null,null,null,null,null,null,null,null,null,null,null,null,null,null,null,null,null,null,null,null,null,null,null,null,null,null,null,null,null,null,null,null,null,null,null,null,null,null,null,null,null,null,null,null,null,null,null,null,null,null,null,null,null,null,null,null,null,null,null,null,null,null,null,null,null,null,null,null,null,null,null,null,null,null,null,null,null,null,null,null,null,null,null,null,null,null,null,null,null,null,null,null,null,null,null,null,null,null,null,null,null,null,null,null,null,null,null,null,null,null,null,null,null,null,null,null,null,null,null,null,null,null,null,null,null,null,null,null,null,null,null,null,null,null,null,null,null,null,null,null,null,null,null,null,null,null,null,null,null,null,null,null,null,null,null,null,null,null,null,null,null,null,null,null,null,null,null,null,null,null,null,null,null,null,null,null,null,null,null,null,null,null,null,null,null,null,null,null,null,null,null,null,null,null,null,null,null,null,null,null,null,null,null,null,null,null,null,null,null,null,null,null,null,null,null,null,null,null,null,null,null,null,null,null,null,null,null,null,null,null,null,null,null,null,null,null,null,null,null,null,null,null,null,null,null,null,null,null,null,null,null,null,null,null,null,null,null,null,null,null,null,null,null,null,null,null,null,null,null,null,null,null,null,null,null,null,null,null,null,null,null,null,null,null,null,null,null,null,null,null,null,null,null,null,null,null,null,null,null,null,null,null,null,null,null,null,null,null,null,null,null,null,null,null,null,null,null,null,null,null,null,null,null,null,null,null,null,null,null,null,null,null,null,null,null,null,null,null,null,null,null,null,null,null,null,null,null,null,null,null,null,null,null,null,null,null,null,null,null,null,null,null,null,null,null,null,null,null,null,null,null,null,null,null,null,null,null,null,null,null,null,null,null,null,null,null,null,null,null,null,null,null,null,null,null,null,null,null,null,null,null,null,null,null,null,null,null,null,null,null,null,null,null,null,null,null,null,null,null,null,null,null,null,null,null,null,null,null,null,null,null,null,null,null,null,null,null,null,null,null,null,null,null,null,null,null,null,null,null,null,null,null,null,null,null,null,null,null,null,null,null,null,null,null,null,null,null,null,null,null,null,null,null,null,null,null,null,null,null,null,null,null,null,null,null,null,null,null,null,null,null,null,null,null,null,null,null,null,null,null,null,null,null,null,null,null,null,null,null,null,null,null,null,null,null,null,null,null,null,null,null,null,null,null,null,null,null,null,null,null,null,null,null,null,null,null,null,null,null,null,null,null,null,null,null,null,null,null,null,null,null,null,null,null,null,null,null,null,null,null,null,null,null,null,null,null,null,null,null,null,null,null,null,null,null,null,null,null,null,null,null,null,null,null,null,null,null,null,null,null,null,null,null,null,null,null,null,null,null,null,null,null,null,null,null,null,null,null,null,null,null,null,null,null,null,null,null,null,null,null,null,null,null,null,null,null,null,null,null,null,null,null,null,null,null,null,null,null,null,null,null,null,null,null,null,null,null,null,null,null,null,null,null,null,null,null,null,null,null,null,null,null,null,null,null,null,null,null,null,null,null,null,null,null,null,null,null,null,null,null,null,null,null,null,null,null,null,null,null,null,null,null,null,null,null,null,null,null,null,null,null,null,null,null,null,null,null,null,null,null,null,null,null,null,null,null,null,null,null,null,null,null,null,null,null,null,null,null,null,null,null,null,null,null,null,null,null,null,null,null,null,null,null,null,null,null,null,null,null,null,null,null,null,null,null,null,null,null,null,null,null,null,null,null,null,null,null,null,null,null,null,null,null,null,null,null,null,null,null,null,null,null,null,null,null,null,null,null,null,null,null,null,null,null,null,null,null,null,null,null,null,null,null,null,null,null,null,null,null,null,null,null,null,null,null,null,null,null,null,null,null,null,null,null,null,null,null,null,null,null,null,null,null,null,null,null,null,null,null,null,null,null,null,null,null,null,null,null,null,null,null,null,null,null,null,null,null,null,null,null,null,null,null,null,null,null,null,null,null,null,null,null,null,null,null,null,null,null,null,null,null,null,null,null,null,null,null,null,null,null,null,null,null,null,null,null,null,null,null,null,null,null,null,null,null,null,null,null,null,null,null,null,null,null,null,null,null,null,null,null,null,null,null,null,null,null,null,null,null,null,null,null,null,null,null,null,null,null,null,null,null,null,null,null,null,null,null,null,null,null,null,null,null,null,null,null,null,null,null,null,null,null,null,null,null,null,null,null,null,null,null,null,null,null,null,null,null,null,null,null,null,null,null,null,null,null,null,null,null,null,null,null,null,null,null,null,null,null,null,null,null,null,null,null,null,null,null,null,null,null,null,null,null,null,null,null,null,null,null,null,null,null,null,null,null,null,null,null,null,null,null,null,null,null,null,null,null,null,null,null,null,null,null,null,null,null,null,null,null,null,null,null,null,null,null,null,null,null,null,null,null,null,null,null,null,null,null,null,null,null,null,null,null,null,null,null,null,null,null,null,null,null,null,null,null,null,null,null,null,null,null,null,null,null,null,null,null,null,null,null,null,null,null,null,null,null,null,null,null,null,null,null,null,null,null,null,null,null,null,null,null,null,null,null,null,null,null,null,null,null,null,null,null,null,null,null,null,null,null,null,null,null,null,null,null,null,null,null,null,null,null,null,null,null,null,null,null,null,null,null,null,null,null,null,null,null,null,null,null,null,null,null,null,null,null,null,null,null,null,null,null,null,null,null,null,null,null,null,null,null,null,null,null,null,null,null,null,null,null,null,null,null,null,null,null,null,null,null,null,null,null,null,null,null,null,null,null,null,null,null,null,null,null,null,null,null,null,null,null,null,null,null,null,null,null,null,null,null,null,null,null,null,null,null,null,null,null,null,null,null,null,null,null,null,null,null,null,null,null,null,null,null,null,null,null,null,null,null,null,null,null,null,null,null,null,null,null,null,null,null,null,null,null,null,null,null,null,null,null,null,null,null,null,null,null,null,null,null,null,null,null,null,null,null,null,null,null,null,null,null,null,null,null,null,null,null,null,null,null,null,null,null,null,null,null,null,null,null,null,null,null,null,null,null,null,null,null,null,null,null,null,null,null,null,null,null,null,null,null,null,null,null,null,null,null,null,null,null,null,null,null,null,null,null,null,null,null,null,null,null,null,null,null,null,null,null,null,null,null,null,null,null,null,null,null,null,null,null,null,null,null,null,null,null,null,null,null,null,null,null,null,null,null,null,null,null,null,null,null,null,null,null,null,null,null,null,null,null,null,null,null,null,null,null,null,null,null,null,null,null,null,null,null,null,null,null,null,null,null,null,null,null,null,null,null,null,null,null,null,null,null,null,null,null,null,null,null,null,null,null,null,null,null,null,null,null,null,null,null,null,null,null,null,null,null,null,null,null,null,null,null,null,null,null,null,null,null,null,null,null,null,null,null,null,null,null,null,null,null,null,null,null,null,null,null,null,null,null,null,null,null,null,null,null,null,null,null,null,null,null,null,null,null,null,null,null,null,null,null,null,null,null,null,null,null,null,null,null,null,null,null,null,null,null,null,null,null,null,null,null,null,null,null,null,null,null,null,null,null,null,null,null,null,null,null,null,null,null,null,null,null,null,null,null,null,null,null,null,null,null,null,null,null,null,null,null,null,null,null,null,null,null,null,null,null,null,null,null,null,null,null,null,null,null,null,null,null,null,null,null,null,null,null,null,null,null,null,null,null,null,null,null,null,null,null,null,null,null,null,null,null,null,null,null,null,null,null,null,null,null,null,null,null,null,null,null,null,null,null,null,null,null,null,null,null,null,null,null,null,null,null,null,null,null,null,null,null,null,null,null,null,null,null,null,null,null,null,null,null,null,null,null,null,null,null,null,null,null,null,null,null,null,null,null,null,null,null,null,null,null,null,null,null,null,null,null,null,null,null,null,null,null,null,null,null,null,null,null,null,null,null,null,null,null,null,null,null,null,null,null,null,null,null,null,null,null,null,null,null,null,null,null,null,null,null,null,null,null,null,null,null,null,null,null,null,null,null,null,null,null,null,null,null,null,null,null,null,null,null,null,null,null,null,null,null,null,null,null,null,null,null,null,null,null,null,null,null,null,null,null,null,null,null,null,null,null,null,null,null,null,null,null,null,null,null,null,null,null,null,null,null,null,null,null,null,null,null,null,null,null,null,null,null,null,null,null,null,null,null,null,null,null,null,null,null,null,null,null,null,null,null,null,null,null,null,null,null,null,null,null,null,null,null,null,null,null,null,null,null,null,null,null,null,null,null,null,null,null,null,null,null,null,null,null,null,null,null,null,null,null,null,null,null,null,null,null,null,null,null,null,null,null,null,null,null,null,null,null,null,null,null,null,null,null,null,null,null,null,null,null,null,null,null,null,null,null,null,null,null,null,null,null,null,null,null,null,null,null,null,null,null,null,null,null,null,null,null,null,null,null,null,null,null,null,null,null,null,null,null,null,null,null,null,null,null,null,null,null,null,null,null,null,null,null,null,null,null,null,null,null,null,null,null,null,null,null,null,null,null,null,null,null,null,null,null,null,null,null,null,null,null,null,null,null,null,null,null,null,null,null,null,null,null,null,null,null,null,null,null,null,null,null,null,null,null,null,null,null,null,null,null,null,null,null,null,null,null,null,null,null,null,null,null,null,null,null,null,null,null,null,null,null,null,null,null,null,null,null,null,null,null,null,null,null,null,null,null,null,null,null,null,null,null,null,null,null,null,null,null,null,null,null,null,null,null,null,null,null,null,null,null,null,null,null,null,null,null,null,null,null,null,null,null,null,null,null,null,null,null,null,null,null,null,null,null,null,null,null,null,null,null,null,null,null,null,null,null,null,null,null,null,null,null,null,null,null,null,null,null,null,null,null,null,null,null,null,null,null,null,null,null,null,null,null,null,null,null,null,null,null,null,null,null,null,null,null,null,null,null,null,null,null,null,null,null,null,null,null,null,null,null,null,null,null,null,null,null,null,null,null,null,null,null,null,null,null,null,null,null,null,null,null,null,null,null,null,null,null,null,null,null,null,null,null,null,null,null,null,null,null,null,null,null,null,null,null,null,null,null,null,null,null,null,null,null,null,null,null,null,null,null,null,null,null,null,null,null,null,null,null,null,null,null,null,null,null,null,null,null,null,null,null,null,null,null,null,null,null,null,null,null,null,null,null,null,null,null,null,null,null,null,null,null,null,null,null,null,null,null,null,null,null,null,null,null,null,null,null,null,null,null,null,null,null,null,null,null,null,null,null,null,null,null,null,null,null,null,null,null,null,null,null,null,null,null,null,null,null,null,null,null,null,null,null,null,null,null,null,null,null,null,null,null,null,null,null,null,null,null,null,null,null,null,null,null,null,null,null,null,null,null,null,null,null,null,null,null,null,null,null,null,null,null,null,null,null,null,null,null,null,null,null,null,null,null,null,null,null,null,null,null,null,null,null,null,null,null,null,null,null,null,null,null,null,null,null,null,null,null,null,null,null,null,null,null,null,null,null,null,null,null,null,null,null,null,null,null,null,null,null,null,null,null,null,null,null,null,null,null,null,null,null,null,null,null,null,null,null,null,null,null,null,null,null,null,null,null,null,null,null,null,null,null,null,null,null,null,null,null,null,null,null,null,null,null,null,null,null,null,null,null,null,null,null,null,null,null,null,null,null,null,null,null,null,null,null,null,null,null,null,null,null,null,null,null,null,null,null,null,null,null,null,null,null,null,null,null,null,null,null,null,null,null,null,null,null,null,null,null,null,null,null,null,null,null,null,null,null,null,null,null,null,null,null,null,null,null,null,null,null,null,null,null,null,null,null,null,null,null,null,null,null,null,null,null,null,null,null,null,null,null,null,null,null,null,null,null,null,null,null,null,null,null,null,null,null,null,null,null,null,null,null,null,null,null,null,null,null,null,null,null,null,null,null,null,null,null,null,null,null,null,null,null,null,null,null,null,null,null,null,null,null,null,null,null,null,null,null,null,null,null,null,null,null,null,null,null,null,null,null,null,null,null,null,null,null,null,null,null,null,null,null,null,null,null,null,null,null,null,null,null,null,null,null,null,null,null,null,null,null,null,null,null,null,null,null,null,null,null,null,null,null,null,null,null,null,null,null,null,null,null,null,null,null,null,null,null,null,null,null,null,null,null,null,null,null,null,null,null,null,null,null,null,null,null,null,null,null,null,null,null,null,null,null,null,null,null,null,null,null,null,null,null,null,null,null,null,null,null,null,null,null,null,null,null,null,null,null,null,null,null,null,null,null,null,null,null,null,null,null,null,null,null,null,null,null,null,null,null,null,null,null,null,null,null,null,null,null,null,null,null,null,null,null,null,null,null,null,null,null,null,null,null,null,null,null,null,null,null,null,null,null,null,null,null,null,null,null,null,null,null,null,null,null,null,null,null,null,null,null,null,null,null,null,null,null,null,null,null,null,null,null,null,null,null,null,null,null,null,null,null,null,null,null,null,null,null,null,null,null,null,null,null,null,null,null,null,null,null,null,null,null,null,null,null,null,null,null,null,null,null,null,null,null,null,null,null,null,null,null,null,null,null,null,null,null,null,null,null,null,null,null,null,null,null,null,null,null,null,null,null,null,null,null,null,null,null,null,null,null,null,null,null,null,null,null,null,null,null,null,null,null,null,null,null,null,null,null,null,null,null,null,null,null,null,null,null,null,null,null,null,null,null,null,null,null,null,null,null,null,null,null,null,null,null,null,null,null,null,null,null,null,null,null,null,null,null,null,null,null,null,null,null,null,null,null,null,null,null,null,null,null,null,null,null,null,null,null,null,null,null,null,null,null,null,null,null,null,null,null,null,null,null,null,null,null,null,null,null,null,null,null,null,null,null,null,null,null,null,null,null,null,null,null,null,null,null,null,null,null,null,null,null,null,null,null,null,null,null,null,null,null,null,null,null,null,null,null,null,null,null,null,null,null,null,null,null,null,null,null,null,null,null,null,null,null,null,null,null,null,null,null,null,null,null,null,null,null,null,null,null,null,null,null,null,null,null,null,null,null,null,null,null,null,null,null,null,null,null,null,null,null,null,null,null,null,null,null,null,null,null,null,null,null,null,null,null,null,null,null,null,null,null,null,null,null,null,null,null,null,null,null,null,null,null,null,null,null,null,null,null,null,null,null,null,null,null,null,null,null,null,null,null,null,null,null,null,null,null,null,null,null,null,null,null,null,null,null,null,null,null,null,null,null,null,null,null,null,null,null,null,null,null,null,null,null,null,null,null,null,null,null,null,null,null,null,null,null,null,null,null,null,null,null,null,null,null,null,null,null,null,null,null,null,null,null,null,null,null,null,null,null,null,null,null,null,null,null,null,null,null,null,null,null,null,null,null,null,null,null,null,null,null,null,null,null,null,null,null,null,null,null,null,null,null,null,null,null,null,null,null,null,null,null,null,null,null,null,null,null,null,null,null,null,null,null,null,null,null,null,null,null,null,null,null,null,null,null,null,null,null,null,null,null,null,null,null,null,null,null,null,null,null,null,null,null,null,null,null,null,null,null,null,null,null,null,null,null,null,null,null,null,null,null,null,null,null,null,null,null,null,null,null,null,null,null,null,null,null,null,null,null,null,null,null,null,null,null,null,null,null,null,null,null,null,null,null,null,null,null,null,null,null,null,null,null,null,null,null,null,null,null,null,null,null,null,null,null,null,null,null,null,null,null,null,null,null,null,null,null,null,null,null,null,null,null,null,null,null,null,null,null,null,null,null,null,null,null,null,null,null,null,null,null,null,null,null,null,null,null,null,null,null,null,null,null,null,null,null,null,null,null,null,null,null,null,null,null,null,null,null,null,null,null,null,null,null,null,null,null,null,null,null,null,null,null,null,null,null,null,null,null,null,null,null,null,null,null,null,null,null,null,null,null,null,null,null,null,null,null,null,null,null,null,null,null,null,null,null,null,null,null,null,null,null,null,null,null,null,null,null,null,null,null,null,null,null,null,null,null,null,null,null,null,null,null,null,null,null,null,null,null,null,null,null,null,null,null,null,null,null,null,null,null,null,null,null,null,null,null,null,null,null,null,null,null,null,null,null,null,null,null,null,null,null,null,null,null,null,null,null,null,null,null,null,null,null,null,null,null,null,null,null,null,null,null,null,null,null,null,null,null,null,null,null,null,null,null,null,null,null,null,null,null,null,null,null,null,null,null,null,null,null,null,null,null,null,null,null,null,null,null,null,null,null,null,null,null,null,null,null,null,null,null,null,null,null,null,null,null,null,null,null,null,null,null,null,null,null,null,null,null,null,null,null,null,null,null,null,null,null,null,null,null,null,null,null,null,null,null,null,null,null,null,null,null,null,null,null,null,null,null,null,null,null,null,null,null,null,null,null,null,null,null,null,null,null,null,null,null,null,null,null,null,null,null,null,null,null,null,null,null,null,null,null,null,null,null,null,null,null,null,null,null,null,null,null,null,null,null,null,null,null,null,null,null,null,null,null,null,null,null,null,null,null,null,null,null,null,null,null,null,null,null,null,null,null,null,null,null,null,null,null,null,null,null,null,null,null,null,null,null,null,null,null,null,null,null,null,null,null,null,null,null,null,null,null,null,null,null,null,null,null,null,null,null,null,null,null,null,null,null,null,null,null,null,null,null,null,null,null,null,null,null,null,null,null,null,null,null,null,null,null,null,null,null,null,null,null,null,null,null,null,null,null,null,null,null,null,null,null,null,null,null,null,null,null,null,null,null,null,null,null,null,null,null,null,null,null,null,null,null,null,null,null,null,null,null,null,null,null,null,null,null,null,null,null,null,null,null,null,null,null,null,null,null,null,null,null,null,null,null,null,null,null,null,null,null,null,null,null,null,null,null,null,null,null,null,null,null,null,null,null,null,null,null,null,null,null,null,null,null,null,null,null,null,null,null,null,null,null,null,null,null,null,null,null,null,null,null,null,null,null,null,null,null,null,null,null,null,null,null,null,null,null,null,null,null,null,null,null,null,null,null,null,null,null,null,null,null,null,null,null,null,null,null,null,null,null,null,null,null,null,null,null,null,null,null,null,null,null,null,null,null,null,null,null,null,null,null,null,null,null,null,null,null,null,null,null,null,null,null,null,null,null,null,null,null,null,null,null,null,null,null,null,null,null,null,null,null,null,null,null,null,null,null,null,null,null,null,null,null,null,null,null,null,null,null,null,null,null,null,null,null,null,null,null,null,null,null,null,null,null,null,null,null,null,null,null,null,null,null,null,null,null,null,null,null,null,null,null,null,null,null,null,null,null,null,null,null,null,null,null,null,null,null,null,null,null,null,null,null,null,null,null,null,null,null,null,null,null,null,null,null,null,null,null,null,null,null,null,null,null,null,null,null,null,null,null,null,null,null,null,null,null,null,null,null,null,null,null,null,null,null,null,null,null,null,null,null,null,null,null,null,null,null,null,null,null,null,null,null,null,null,null,null,null,null,null,null,null,null,null,null,null,null,null,null,null,null,null,null,null,null,null,null,null,null,null,null,null,null,null,null,null,null,null,null,null,null,null,null,null,null,null,null,null,null,null,null,null,null,null,null,null,null,null,null,null,null,null,null,null,null,null,null,null,null,null,null,null,null,null,null,null,null,null,null,null,null,null,null,null,null,null,null,null,null,null,null,null,null,null,null,null,null,null,null,null,null,null,null,null,null,null,null,null,null,null,null,null,null,null,null,null,null,null,null,null,null,null,null,null,null,null,null,null,null,null,null,null,null,null,null,null,null,null,null,null,null,null,null,null,null,null,null,null,null,null,null,null,null,null,null,null,null,null,null,null,null,null,null,null,null,null,null,null,null,null,null,null,null,null,null,null,null,null,null,null,null,null,null,null,null,null,null,null,null,null,null,null,null,null,null,null,null,null,null,null,null,null,null,null,null,null,null,null,null,null,null,null,null,null,null,null,null,null,null,null,null,null,null,null,null,null,null,null,null,null,null,null,null,null,null,null,null,null,null,null,null,null,null,null,null,null,null,null,null,null,null,null,null,null,null,null,null,null,null,null,null,null,null,null,null,null,null,null,null,null,null,null,null,null,null,null,null,null,null,null,null,null,null,null,null,null,null,null,null,null,null,null,null,null,null,null,null,null,null,null,null,null,null,null,null,null,null,null,null,null,null,null,null,null,null,null,null,null,null,null,null,null,null,null,null,null,null,null,null,null,null,null,null,null,null,null,null,null,null,null,null,null,null,null,null,null,null,null,null,null,null,null,null,null,null,null,null,null,null,null,null,null,null,null,null,null,null,null,null,null,null,null,null,null,null,null,null,null,null,null,null,null,null,null,null,null,null,null,null,null,null,null,null,null,null,null,null,null,null,null,null,null,null,null,null,null,null,null,null,null,null,null,null,null,null,null,null,null,null,null,null,null,null,null,null,null,null,null,null,null,null,null,null,null,null,null,null,null,null,null,null,null,null,null,null,null,null,null,null,null,null,null,null,null,null,null,null,null,null,null,null,null,null,null,null,null,null,null,null,null,null,null,null,null,null,null,null,null,null,null,null,null,null,null,null,null,null,null,null,null,null,null,null,null,null,null,null,null,null,null,null,null,null,null,null,null,null,null,null,null,null,null,null,null,null,null,null,null,null,null,null,null,null,null,null,null,null,null,null,null,null,null,null,null,null,null,null,null,null,null,null,null,null,null,null,null,null,null,null,null,null,null,null,null,null,null,null,null,null,null,null,null,null,null,null,null,null,null,null,null,null,null,null,null,null,null,null,null,null,null,null,null,null,null,null,null,null,null,null,null,null,null,null,null,null,null,null,null,null,null,null,null,null,null,null,null,null,null,null,null,null,null,null,null,null,null,null,null,null,null,null,null,null,null,null,null,null,null,null,null,null,null,null,null,null,null,null,null,null,null,null,null,null,null,null,null,null,null,null,null,null,null,null,null,null,null,null,null,null,null,null,null,null,null,null,null,null,null,null,null,null,null,null,null,null,null,null,null,null,null,null,null,null,null,null,null,null,null,null,null,null,null,null,null,null,null,null,null,null,null,null,null,null,null,null,null,null,null,null,null,null,null,null,null,null,null,null,null,null,null,null,null,null,null,null,null,null,null,null,null,null,null,null,null,null,null,null,null,null,null,null,null,null,null,null,null,null,null,null,null,null,null,null,null,null,null,null,null,null,null,null,null,null,null,null,null,null,null,null,null,null,null,null,null,null,null,null,null,null,null,null,null,null,null,null,null,null,null,null,null,null,null,null,null,null,null,null,null,null,null,null,null,null,null,null,null,null,null,null,null,null,null,null,null,null,null,null,null,null,null,null,null,null,null,null,null,null,null,null,null,null,null,null,null,null,null,null,null,null,null,null,null,null,null,null,null,null,null,null,null,null,null,null,null,null,null,null,null,null,null,null,null,null,null,null,null,null,null,null,null,null,null,null,null,null,null,null,null,null,null,null,null,null,null,null,null,null,null,null,null,null,null,null,null,null,null,null,null,null,null,null,null,null,null,null,null,null,null,null,null,null,null,null,null,null,null,null,null,null,null,null,null,null,null,null,null,null,null,null,null,null,null,null,null,null,null,null,null,null,null,null,null,null,null,null,null,null,null,null,null,null,null,null,null,null,null,null,null,null,null,null,null,null,null,null,null,null,null,null,null,null,null,null,null,null,null,null,null,null,null,null,null,null,null,null,null,null,null,null,null,null,null,null,null,null,null,null,null,null,null,null,null,null,null,null,null,null,null,null,null,null,null,null,null,null,null,null,null,null,null,null,null,null,null,null,null,null,null,null,null,null,null,null,null,null,null,null,null,null,null,null,null,null,null,null,null,null,null,null,null,null,null,null,null,null,null,null,null,null,null,null,null,null,null,null,null,null,null,null,null,null,null,null,null,null,null,null,null,null,null,null,null,null,null,null,null,null,null,null,null,null,null,null,null,null,null,null,null,null,null,null,null,null,null,null,null,null,null,null,null,null,null,null,null,null,null,null,null,null,null,null,null,null,null,null,null,null,null,null,null,null,null,null,null,null,null,null,null,null,null,null,null,null,null,null,null,null,null,null,null,null,null,null,null,null,null,null,null,null,null,null,null,null,null,null,null,null,null,null,null,null,null,null,null,null,null,null,null,null,null,null,null,null,null,null,null,null,null,null,null,null,null,null,null,null,null,null,null,null,null,null,null,null,null,null,null,null,null,null,null,null,null,null,null,null,null,null,null,null,null,null,null,null,null,null,null,null,null,null,null,null,null,null,null,null,null,null,null,null,null,null,null,null,null,null,null,null,null,null,null,null,null,null,null,null,null,null,null,null,null,null,null,null,null,null,null,null,null,null,null,null,null,null,null,null,null,null,null,null,null,null,null,null,null,null,null,null,null,null,null,null,null,null,null,null,null,null,null,null,null,null,null,null,null,null,null,null,null,null,null,null,null,null,null,null,null,null,null,null,null,null,null,null,null,null,null,null,null,null,null,null,null,null,null,null,null,null,null,null,null,null,null,null,null,null,null,null,null,null,null,null,null,null,null,null,null,null,null,null,null,null,null,null,null,null,null,null,null,null,null,null,null,null,null,null,null,null,null,null,null,null,null,null,null,null,null,null,null,null,null,null,null,null,null,null,null,null,null,null,null,null,null,null,null,null,null,null,null,null,null,null,null,null,null,null,null,null,null,null,null,null,null,null,null,null,null,null,null,null,null,null,null,null,null,null,null,null,null,null,null,null,null,null,null,null,null,null,null,null,null,null,null,null,null,null,null,null,null,null,null,null,null,null,null,null,null,null,null,null,null,null,null,null,null,null,null,null,null,null,null,null,null,null,null,null,null,null,null,null,null,null,null,null,null,null,null,null,null,null,null,null,null,null,null,null,null,null,null,null,null,null,null,null,null,null,null,null,null,null,null,null,null,null,null,null,null,null,null,null,null,null,null,null,null,null,null,null,null,null,null,null,null,null,null,null,null,null,null,null,null,null,null,null,null,null,null,null,null,null,null,null,null,null,null,null,null,null,null,null,null,null,null,null,null,null,null,null,null,null,null,null,null,null,null,null,null,null,null,null,null,null,null,null,null,null,null,null,null,null,null,null,null,null,null,null,null,null,null,null,null,null,null,null,null,null,null,null,null,null,null,null,null,null,null,null,null,null,null,null,null,null,null,null,null,null,null,null,null,null,null,null,null,null,null,null,null,null,null,null,null,null,null,null,null,null,null,null,null,null,null,null,null,null,null,null,null,null,null,null,null,null,null,null,null,null,null,null,null,null,null,null,null,null,null,null,null,null,null,null,null,null,null,null,null,null,null,null,null,null,null,null,null,null,null,null,null,null,null,null,null,null,null,null,null,null,null,null,null,null,null,null,null,null,null,null,null,null,null,null,null,null,null,null,null,null,null,null,null,null,null,null,null,null,null,null,null,null,null,null,null,null,null,null,null,null,null,null,null,null,null,null,null,null,null,null,null,null,null,null,null,null,null,null,null,null,null,null,null,null,null,null,null,null,null,null,null,null,null,null,null,null,null,null,null,null,null,null,null,null,null,null,null,null,null,null,null,null,null,null,null,null,null,null,null,null,null,null,null,null,null,null,null,null,null,null,null,null,null,null,null,null,null,null,null,null,null,null,null,null,null,null,null,null,null,null,null,null,null,null,null,null,null,null,null,null,null,null,null,null,null,null,null,null,null,null,null,null,null,null,null,null,null,null,null,null,null,null,null,null,null,null,null,null,null,null,null,null,null,null,null,null,null,null,null,null,null,null,null,null,null,null,null,null,null,null,null,null,null,null,null,null,null,null,null,null,null,null,null,null,null,null,null,null,null,null,null,null,null,null,null,null,null,null,null,null,null,null,null,null,null,null,null,null,null,null,null,null,null,null,null,null,null,null,null,null,null,null,null,null,null,null,null,null,null,null,null,null,null,null,null,null,null,null,null,null,null,null,null,null,null,null,null,null,null,null,null,null,null,null,null,null,null,null,null,null,null,null,null,null,null,null,null,null,null,null,null,null,null,null,null,null,null,null,null,null,null,null,null,null,null,null,null,null,null,null,null,null,null,null,null,null,null,null,null,null,null,null,null,null,null,null,null,null,null,null,null,null,null,null,null,null,null,null,null,null,null,null,null,null,null,null,null,null,null,null,null,null,null,null,null,null,null,null,null,null,null,null,null,null,null,null,null,null,null,null,null,null,null,null,null,null,null,null,null,null,null,null,null,null,null,null,null,null,null,null,null,null,null,null,null,null,null,null,null,null,null,null,null,null,null,null,null,null,null,null,null,null,null,null,null,null,null,null,null,null,null,null,null,null,null,null,null,null,null,null,null,null,null,null,null,null,null,null,null,null,null,null,null,null,null,null,null,null,null,null,null,null,null,null,null,null,null,null,null,null,null,null,null,null,null,null,null,null,null,null,null,null,null,null,null,null,null,null,null,null,null,null,null,null,null,null,null,null,null,null,null,null,null,null,null,null,null,null,null,null,null,null,null,null,null,null,null,null,null,null,null,null,null,null,null,null,null,null,null,null,null,null,null,null,null,null,null,null,null,null,null,null,null,null,null,null,null,null,null,null,null,null,null,null,null,null,null,null,null,null,null,null,null,null,null,null,null,null,null,null,null,null,null,null,null,null,null,null,null,null,null,null,null,null,null,null,null,null,null,null,null,null,null,null,null,null,null,null,null,null,null,null,null,null,null,null,null,null,null,null,null,null,null,null,null,null,null,null,null,null,null,null,null,null,null,null,null,null,null,null,null,null,null,null,null,null,null,null,null,null,null,null,null,null,null,null,null,null,null,null,null,null,null,null,null,null,null,null,null,null,null,null,null,null,null,null,null,null,null,null,null,null,null,null,null,null,null,null,null,null,null,null,null,null,null,null,null,null,null,null,null,null,null,null,null,null,null,null,null,null,null,null,null,null,null,null,null,null,null,null,null,null,null,null,null,null,null,null,null,null,null,null,null,null,null,null,null,null,null,null,null,null,null,null,null,null,null,null,null,null,null,null,null,null,null,null,null,null,null,null,null,null,null,null,null,null,null,null,null,null,null,null,null,null,null,null,null,null,null,null,null,null,null,null,null,null,null,null,null,null,null,null,null,null,null,null,null,null,null,null,null,null,null,null,null,null,null,null,null,null,null,null,null,null,null,null,null,null,null,null,null,null,null,null,null,null,null,null,null,null,null,null,null,null,null,null,null,null,null,null,null,null,null,null,null,null,null,null,null,null,null,null,null,null,null,null,null,null,null,null,null,null,null,null,null,null,null,null,null,null,null,null,null,null,null,null,null,null,null,null,null,null,null,null,null,null,null,null,null,null,null,null,null,null,null,null,null,null,null,null,null,null,null,null,null,null,null,null,null,null,null,null,null,null,null,null,null,null,null,null,null,null,null,null,null,null,null,null,null,null,null,null,null,null,null,null,null,null,null,null,null,null,null,null,null,null,null,null,null,null,null,null,null,null,null,null,null,null,null,null,null,null,null,null,null,null,null,null,null,null,null,null,null,null,null,null,null,null,null,null,null,null,null,null,null,null,null,null,null,null,null,null,null,null,null,null,null,null,null,null,null,null,null,null,null,null,null,null,null,null,null,null,null,null,null,null,null,null,null,null,null,null,null,null,null,null,null,null,null,null,null,null,null,null,null,null,null,null,null,null,null,null,null,null,null,null,null,null,null,null,null,null,null,null,null,null,null,null,null,null,null,null,null,null,null,null,null,null,null,null,null,null,null,null,null,null,null,null,null,null,null,null,null,null,null,null,null,null,null,null,null,null,null,null,null,null,null,null,null,null,null,null,null,null,null,null,null,null,null,null,null,null,null,null,null,null,null,null,null,null,null,null,null,null,null,null,null,null,null,null,null,null,null,null,null,null,null,null,null,null,null,null,null,null,null,null,null,null,null,null,null,null,null,null,null,null,null,null,null,null,null,null,null,null,null,null,null,null,null,null,null,null,null,null,null,null,null,null,null,null,null,null,null,null,null,null,null,null,null,null,null,null,null,null,null,null,null,null,null,null,null,null,null,null,null,null,null,null,null,null,null,null,null,null,null,null,null,null,null,null,null,null,null,null,null,null,null,null,null,null,null,null,null,null,null,null,null,null,null,null,null,null,null,null,null,null,null,null,null,null,null,null,null,null,null,null,null,null,null,null,null,null,null,null,null,null,null,null,null,null,null,null,null,null,null,null,null,null,null,null,null,null,null,null,null,null,null,null,null,null,null,null,null,null,null,null,null,null,null,null,null,null,null,null,null,null,null,null,null,null,null,null,null,null,null,null,null,null,null,null,null,null,null,null,null,null,null,null,null,null,null,null,null,null,null,null,null,null,null,null,null,null,null,null,null,null,null,null,null,null,null,null,null,null,null,null,null,null,null,null,null,null,null,null,null,null,null,null,null,null,null,null,null,null,null,null,null,null,null,null,null,null,null,null,null,null,null,null,null,null,null,null,null,null,null,null,null,null,null,null,null,null,null,null,null,null,null,null,null,null,null,null,null,null,null,null,null,null,null,null,null,null,null,null,null,null,null,null,null,null,null,null,null,null,null,null,null,null,null,null,null,null,null,null,null,null,null,null,null,null,null,null,null,null,null,null,null,null,null,null,null,null,null,null,null,null,null,null,null,null,null,null,null,null,null,null,null,null,null,null,null,null,null,null,null,null,null,null,null,null,null,null,null,null,null,null,null,null,null,null,null,null,null,null,null,null,null,null,null,null,null,null,null,null,null,null,null,null,null,null,null,null,"Time Production",null,"1402316306829"]
[null,null,null,null,null,null,null,null,null,null,null,null,null,null,null,null,null,null,null,null,null,null,null,null,null,null,null,null,null,null,null,null,null,null,null,null,null,null,null,null,null,null,null,null,null,null,null,null,null,null,null,null,null,null,null,null,null,null,null,null,null,null,null,null,null,null,null,null,null,null,null,null,null,null,null,null,null,null,null,null,null,null,null,null,null,null,null,null,null,null,null,null,null,null,null,null,null,null,null,null,null,null,null,null,null,null,null,null,null,null,null,null,null,null,null,null,null,null,null,null,null,null,null,null,null,null,null,null,null,null,null,null,null,null,null,null,null,null,null,null,null,null,null,null,null,null,null,null,null,null,null,null,null,null,null,null,null,null,null,null,null,null,null,null,null,null,null,null,null,null,null,null,null,null,null,null,null,null,null,null,null,null,null,null,null,null,null,null,null,null,null,null,null,null,null,null,null,null,null,null,null,null,null,null,null,null,null,null,null,null,null,null,null,null,null,null,null,null,null,null,null,null,null,null,null,null,null,null,null,null,null,null,null,null,null,null,null,null,null,null,null,null,null,null,null,null,null,null,null,null,null,null,null,null,null,null,null,null,null,null,null,null,null,null,null,null,null,null,null,null,null,null,null,null,null,null,null,null,null,null,null,null,null,null,null,null,null,null,null,null,null,null,null,null,null,null,null,null,null,null,null,null,null,null,null,null,null,null,null,null,null,null,null,null,null,null,null,null,null,null,null,null,null,null,null,null,null,null,null,null,null,null,null,null,null,null,null,null,null,null,null,null,null,null,null,null,null,null,null,null,null,null,null,null,null,null,null,null,null,null,null,null,null,null,null,null,null,null,null,null,null,null,null,null,null,null,null,null,null,null,null,null,null,null,null,null,null,null,null,null,null,null,null,null,null,null,null,null,null,null,null,null,null,null,null,null,null,null,null,null,null,null,null,null,null,null,null,null,null,null,null,null,null,null,null,null,null,null,null,null,null,null,null,null,null,null,null,null,null,null,null,null,null,null,null,null,null,null,null,null,null,null,null,null,null,null,null,null,null,null,null,null,null,null,null,null,null,null,null,null,null,null,null,null,null,null,null,null,null,null,null,null,null,null,null,null,null,null,null,null,null,null,null,null,null,null,null,null,null,null,null,null,null,null,null,null,null,null,null,null,null,null,null,null,null,null,null,null,null,null,null,null,null,null,null,null,null,null,null,null,null,null,null,null,null,null,null,null,null,null,null,null,null,null,null,null,null,null,null,null,null,null,null,null,null,null,null,null,null,null,null,null,null,null,null,null,null,null,null,null,null,null,null,null,null,null,null,null,null,null,null,null,null,null,null,null,null,null,null,null,null,null,null,null,null,null,null,null,null,null,null,null,null,null,null,null,null,null,null,null,null,null,null,null,null,null,null,null,null,null,null,null,null,null,null,null,null,null,null,null,null,null,null,null,null,null,null,null,null,null,null,null,null,null,null,null,null,null,null,null,null,null,null,null,null,null,null,null,null,null,null,null,null,null,null,null,null,null,null,null,null,null,null,null,null,null,null,null,null,null,null,null,null,null,null,null,null,null,null,null,null,null,null,null,null,null,null,null,null,null,null,null,null,null,null,null,null,null,null,null,null,null,null,null,null,null,null,null,null,null,null,null,null,null,null,null,null,null,null,null,null,null,null,null,null,null,null,null,null,null,null,null,null,null,null,null,null,null,null,null,null,null,null,null,null,null,null,null,null,null,null,null,null,null,null,null,null,null,null,null,null,null,null,null,null,null,null,null,null,null,null,null,null,null,null,null,null,null,null,null,null,null,null,null,null,null,null,null,null,null,null,null,null,null,null,null,null,null,null,null,null,null,null,null,null,null,null,null,null,null,null,null,null,null,null,null,null,null,null,null,null,null,null,null,null,null,null,null,null,null,null,null,null,null,null,null,null,null,null,null,null,null,null,null,null,null,null,null,null,null,null,null,null,null,null,null,null,null,null,null,null,null,null,null,null,null,null,null,null,null,null,null,null,null,null,null,null,null,null,null,null,null,null,null,null,null,null,null,null,null,null,null,null,null,null,null,null,null,null,null,null,null,null,null,null,null,null,null,null,null,null,null,null,null,null,null,null,null,null,null,null,null,null,null,null,null,null,null,null,null,null,null,null,null,null,null,null,null,null,null,null,null,null,null,null,null,null,null,null,null,null,null,null,null,null,null,null,null,null,null,null,null,null,null,null,null,null,null,null,null,null,null,null,null,null,null,null,null,null,null,null,null,null,null,null,null,null,null,null,null,null,null,null,null,null,null,null,null,null,null,null,null,null,null,null,null,null,null,null,null,null,null,null,null,null,null,null,null,null,null,null,null,null,null,null,null,null,null,null,null,null,null,null,null,null,null,null,null,null,null,null,null,null,null,null,null,null,null,null,null,null,null,null,null,null,null,null,null,null,null,null,null,null,null,null,null,null,null,null,null,null,null,null,null,null,null,null,null,null,null,null,null,null,null,null,null,null,null,null,null,null,null,null,null,null,null,null,null,null,null,null,null,null,null,null,null,null,null,null,null,null,null,null,null,null,null,null,null,null,null,null,null,null,null,null,null,null,null,null,null,null,null,null,null,null,null,null,null,null,null,null,null,null,null,null,null,null,null,null,null,null,null,null,null,null,null,null,null,null,null,null,null,null,null,null,null,null,null,null,null,null,null,null,null,null,null,null,null,null,null,null,null,null,null,null,null,null,null,null,null,null,null,null,null,null,null,null,null,null,null,null,null,null,null,null,null,null,null,null,null,null,null,null,null,null,null,null,null,null,null,null,null,null,null,null,null,null,null,null,null,null,null,null,null,null,null,null,null,null,null,null,null,null,null,null,null,null,null,null,null,null,null,null,null,null,null,null,null,null,null,null,null,null,null,null,null,null,null,null,null,null,null,null,null,null,null,null,null,null,null,null,null,null,null,null,null,null,null,null,null,null,null,null,null,null,null,null,null,null,null,null,null,null,null,null,null,null,null,null,null,null,null,null,null,null,null,null,null,null,null,null,null,null,null,null,null,null,null,null,null,null,null,null,null,null,null,null,null,null,null,null,null,null,null,null,null,null,null,null,null,null,null,null,null,null,null,null,null,null,null,null,null,null,null,null,null,null,null,null,null,null,null,null,null,null,null,null,null,null,null,null,null,null,null,null,null,null,null,null,null,null,null,null,null,null,null,null,null,null,null,null,null,null,null,null,null,null,null,null,null,null,null,null,null,null,null,null,null,null,null,null,null,null,null,null,null,null,null,null,null,null,null,null,null,null,null,null,null,null,null,null,null,null,null,null,null,null,null,null,null,null,null,null,null,null,null,null,null,null,null,null,null,null,null,null,null,null,null,null,null,null,null,null,null,null,null,null,null,null,null,null,null,null,null,null,null,null,null,null,null,null,null,null,null,null,null,null,null,null,null,null,null,null,null,null,null,null,null,null,null,null,null,null,null,null,null,null,null,null,null,null,null,null,null,null,null,null,null,null,null,null,null,null,null,null,null,null,null,null,null,null,null,null,null,null,null,null,null,null,null,null,null,null,null,null,null,null,null,null,null,null,null,null,null,null,null,null,null,null,null,null,null,null,null,null,null,null,null,null,null,null,null,null,null,null,null,null,null,null,null,null,null,null,null,null,null,null,null,null,null,null,null,null,null,null,null,null,null,null,null,null,null,null,null,null,null,null,null,null,null,null,null,null,null,null,null,null,null,null,null,null,null,null,null,null,null,null,null,null,null,null,null,null,null,null,null,null,null,null,null,null,null,null,null,null,null,null,null,null,null,null,null,null,null,null,null,null,null,null,null,null,null,null,null,null,null,null,null,null,null,null,null,null,null,null,null,null,null,null,null,null,null,null,null,null,null,null,null,null,null,null,null,null,null,null,null,null,null,null,null,null,null,null,null,null,null,null,null,null,null,null,null,null,null,null,null,null,null,null,null,null,null,null,null,null,null,null,null,null,null,null,null,null,null,null,null,null,null,null,null,null,null,null,null,null,null,null,null,null,null,null,null,null,null,null,null,null,null,null,null,null,null,null,null,null,null,null,null,null,null,null,null,null,null,null,null,null,null,null,null,null,null,null,null,null,null,null,null,null,null,null,null,null,null,null,null,null,null,null,null,null,null,null,null,null,null,null,null,null,null,null,null,null,null,null,null,null,null,null,null,null,null,null,null,null,null,null,null,null,null,null,null,null,null,null,null,null,null,null,null,null,null,null,null,null,null,null,null,null,null,null,null,null,null,null,null,null,null,null,null,null,null,null,null,null,null,null,null,null,null,null,null,null,null,null,null,null,null,null,null,null,null,null,null,null,null,null,null,null,null,null,null,null,null,null,null,null,null,null,null,null,null,null,null,null,null,null,null,null,null,null,null,null,null,null,null,null,null,null,null,null,null,null,null,null,null,null,null,null,null,null,null,null,null,null,null,null,null,null,null,null,null,null,null,null,null,null,null,null,null,null,null,null,null,null,null,null,null,null,null,null,null,null,null,null,null,null,null,null,null,null,null,null,null,null,null,null,null,null,null,null,null,null,null,null,null,null,null,null,null,null,null,null,null,null,null,null,null,null,null,null,null,null,null,null,null,null,null,null,null,null,null,null,null,null,null,null,null,null,null,null,null,null,null,null,null,null,null,null,null,null,null,null,null,null,null,null,null,null,null,null,null,null,null,null,null,null,null,null,null,null,null,null,null,null,null,null,null,null,null,null,null,null,null,null,null,null,null,null,null,null,null,null,null,null,null,null,null,null,null,null,null,null,null,null,null,null,null,null,null,null,null,null,null,null,null,null,null,null,null,null,null,null,null,null,null,null,null,null,null,null,null,null,null,null,null,null,null,null,null,null,null,null,null,null,null,null,null,null,null,null,null,null,null,null,null,null,null,null,null,null,null,null,null,null,null,null,null,null,null,null,null,null,null,null,null,null,null,null,null,null,null,null,null,null,null,null,null,null,null,null,null,null,null,null,null,null,null,null,null,null,null,null,null,null,null,null,null,null,null,null,null,null,null,null,null,null,null,null,null,null,null,null,null,null,null,null,null,null,null,null,null,null,null,null,null,null,null,null,null,null,null,null,null,null,null,null,null,null,null,null,null,null,null,null,null,null,null,null,null,null,null,null,null,null,null,null,null,null,null,null,null,null,null,null,null,null,null,null,null,null,null,null,null,null,null,null,null,null,null,null,null,null,null,null,null,null,null,null,null,null,null,null,null,null,null,null,null,null,null,null,null,null,null,null,null,null,null,null,null,null,null,null,null,null,null,null,null,null,null,null,null,null,null,null,null,null,null,null,null,null,null,null,null,null,null,null,null,null,null,null,null,null,null,null,null,null,null,null,null,null,null,null,null,null,null,null,null,null,null,null,null,null,null,null,null,null,null,null,null,null,null,null,null,null,null,null,null,null,null,null,null,null,null,null,null,null,null,null,null,null,null,null,null,null,null,null,null,null,null,null,null,null,null,null,null,null,null,null,null,null,null,null,null,null,null,null,null,null,null,null,null,null,null,null,null,null,null,null,null,null,null,null,null,null,null,null,null,null,null,null,null,null,null,null,null,null,null,null,null,null,null,null,null,null,null,null,null,null,null,null,null,null,null,null,null,null,null,null,null,null,null,null,null,null,null,null,null,null,null,null,null,null,null,null,null,null,null,null,null,null,null,null,null,null,null,null,null,null,null,null,null,null,null,null,null,null,null,null,null,null,null,null,null,null,null,null,null,null,null,null,null,null,null,null,null,null,null,null,null,null,null,null,null,null,null,null,null,null,null,null,null,null,null,null,null,null,null,null,null,null,null,null,null,null,null,null,null,null,null,null,null,null,null,null,null,null,null,null,null,null,null,null,null,null,null,null,null,null,null,null,null,null,null,null,null,null,null,null,null,null,null,null,null,null,null,null,null,null,null,null,null,null,null,null,null,null,null,null,null,null,null,null,null,null,null,null,null,null,null,null,null,null,null,null,null,null,null,null,null,null,null,null,null,null,null,null,null,null,null,null,null,null,null,null,null,null,null,null,null,null,null,null,null,null,null,null,null,null,null,null,null,null,null,null,null,null,null,null,null,null,null,null,null,null,null,null,null,null,null,null,null,null,null,null,null,null,null,null,null,null,null,null,null,null,null,null,null,null,null,null,null,null,null,null,null,null,null,null,null,null,null,null,null,null,null,null,null,null,null,null,null,null,null,null,null,null,null,null,null,null,null,null,null,null,null,null,null,null,null,null,null,null,null,null,null,null,null,null,null,null,null,null,null,null,null,null,null,null,null,null,null,null,null,null,null,null,null,null,null,null,null,null,null,null,null,null,null,null,null,null,null,null,null,null,null,null,null,null,null,null,null,null,null,null,null,null,null,null,null,null,null,null,null,null,null,null,null,null,null,null,null,null,null,null,null,null,null,null,null,null,null,null,null,null,null,null,null,null,null,null,null,null,null,null,null,null,null,null,null,null,null,null,null,null,null,null,null,null,null,null,null,null,null,null,null,null,null,null,null,null,null,null,null,null,null,null,null,null,null,null,null,null,null,null,null,null,null,null,null,null,null,null,null,null,null,null,null,null,null,null,null,null,null,null,null,null,null,null,null,null,null,null,null,null,null,null,null,null,null,null,null,null,null,null,null,null,null,null,null,null,null,null,null,null,null,null,null,null,null,null,null,null,null,null,null,null,null,null,null,null,null,null,null,null,null,null,null,null,null,null,null,null,null,null,null,null,null,null,null,null,null,null,null,null,null,null,null,null,null,null,null,null,null,null,null,null,null,null,null,null,null,null,null,null,null,null,null,null,null,null,null,null,null,null,null,null,null,null,null,null,null,null,null,null,null,null,null,null,null,null,null,null,null,null,null,null,null,null,null,null,null,null,null,null,null,null,null,null,null,null,null,null,null,null,null,null,null,null,null,null,null,null,null,null,null,null,null,null,null,null,null,null,null,null,null,null,null,null,null,null,null,null,null,null,null,null,null,null,null,null,null,null,null,null,null,null,null,null,null,null,null,null,null,null,null,null,null,null,null,null,null,null,null,null,null,null,null,null,null,null,null,null,null,null,null,null,null,null,null,null,null,null,null,null,null,null,null,null,null,null,null,null,null,null,null,null,null,null,null,null,null,null,null,null,null,null,null,null,null,null,null,null,null,null,null,null,null,null,null,null,null,null,null,null,null,null,null,null,null,null,null,null,null,null,null,null,null,null,null,null,null,null,null,null,null,null,null,null,null,null,null,null,null,null,null,null,null,null,null,null,null,null,null,null,null,null,null,null,null,null,null,null,null,null,null,null,null,null,null,null,null,null,null,null,null,null,null,null,null,null,null,null,null,null,null,null,null,null,null,null,null,null,null,null,null,null,null,null,null,null,null,null,null,null,null,null,null,null,null,null,null,null,null,null,null,null,null,null,null,null,null,null,null,null,null,null,null,null,null,null,null,null,null,null,null,null,null,null,null,null,null,null,null,null,null,null,null,null,null,null,null,null,null,null,null,null,null,null,null,null,null,null,null,null,null,null,null,null,null,null,null,null,null,null,null,null,null,null,null,null,null,null,null,null,null,null,null,null,null,null,null,null,null,null,null,null,null,null,null,null,null,null,null,null,null,null,null,null,null,null,null,null,null,null,null,null,null,null,null,null,null,null,null,null,null,null,null,null,null,null,null,null,null,null,null,null,null,null,null,null,null,null,null,null,null,null,null,null,null,null,null,null,null,null,null,null,null,null,null,null,null,null,null,null,null,null,null,null,null,null,null,null,null,null,null,null,null,null,null,null,null,null,null,null,null,null,null,null,null,null,null,null,null,null,null,null,null,null,null,null,null,null,null,null,null,null,null,null,null,null,null,null,null,null,null,null,null,null,null,null,null,null,null,null,null,null,null,null,null,null,null,null,null,null,null,null,null,null,null,null,null,null,null,null,null,null,null,null,null,null,null,null,null,null,null,null,null,null,null,null,null,null,null,null,null,null,null,null,null,null,null,null,null,null,null,null,null,null,null,null,null,null,null,null,null,null,null,null,null,null,null,null,null,null,null,null,null,null,null,null,null,null,null,null,null,null,null,null,null,null,null,null,null,null,null,null,null,null,null,null,null,null,null,null,null,null,null,null,null,null,null,null,null,null,null,null,null,null,null,null,null,null,null,null,null,null,null,null,null,null,null,null,null,null,null,null,null,null,null,null,null,null,null,null,null,null,null,null,null,null,null,null,null,null,null,null,null,null,null,null,null,null,null,null,null,null,null,null,null,null,null,null,null,null,null,null,null,null,null,null,null,null,null,null,null,null,null,null,null,null,null,null,null,null,null,null,null,null,null,null,null,null,null,null,null,null,null,null,null,null,null,null,null,null,null,null,null,null,null,null,null,null,null,null,null,null,null,null,null,null,null,null,null,null,null,null,null,null,null,null,null,null,null,null,null,null,null,null,null,null,null,null,null,null,null,null,null,null,null,null,null,null,null,null,null,null,null,null,null,null,null,null,null,null,null,null,null,null,null,null,null,null,null,null,null,null,null,null,null,null,null,null,null,null,null,null,null,null,null,null,null,null,null,null,null,null,null,null,null,null,null,null,null,null,null,null,null,null,null,null,null,null,null,null,null,null,null,null,null,null,null,null,null,null,null,null,null,null,null,null,null,null,null,null,null,null,null,null,null,null,null,null,null,null,null,null,null,null,null,null,null,null,null,null,null,null,null,null,null,null,null,null,null,null,null,null,null,null,null,null,null,null,null,null,null,null,null,null,null,null,null,null,null,null,null,null,null,null,null,null,null,null,null,null,null,null,null,null,null,null,null,null,null,null,null,null,null,null,null,null,null,null,null,null,null,null,null,null,null,null,null,null,null,null,null,null,null,null,null,null,null,null,null,null,null,null,null,null,null,null,null,null,null,null,null,null,null,null,null,null,null,null,null,null,null,null,null,null,null,null,null,null,null,null,null,null,null,null,null,null,null,null,null,null,null,null,null,null,null,null,null,null,null,null,null,null,null,null,null,null,null,null,null,null,null,null,null,null,null,null,null,null,null,null,null,null,null,null,null,null,null,null,null,null,null,null,null,null,null,null,null,null,null,null,null,null,null,null,null,null,null,null,null,null,null,null,null,null,null,null,null,null,null,null,null,null,null,null,null,null,null,null,null,null,null,null,null,null,null,null,null,null,null,null,null,null,null,null,null,null,null,null,null,null,null,null,null,null,null,null,null,null,null,null,null,null,null,null,null,null,null,null,null,null,null,null,null,null,null,null,null,null,null,null,null,null,null,null,null,null,null,null,null,null,null,null,null,null,null,null,null,null,null,null,null,null,null,null,null,null,null,null,null,null,null,null,null,null,null,null,null,null,null,null,null,null,null,null,null,null,null,null,null,null,null,null,null,null,null,null,null,null,null,null,null,null,null,null,null,null,null,null,null,null,null,null,null,null,null,null,null,null,null,null,null,null,null,null,null,null,null,null,null,null,null,null,null,null,null,null,null,null,null,null,null,null,null,null,null,null,null,null,null,null,null,null,null,null,null,null,null,null,null,null,null,null,null,null,null,null,null,null,null,null,null,null,null,null,null,null,null,null,null,null,null,null,null,null,null,null,null,null,null,null,null,null,null,null,null,null,null,null,null,null,null,null,null,null,null,null,null,null,null,null,null,null,null,null,null,null,null,null,null,null,null,null,null,null,null,null,null,null,null,null,null,null,null,null,null,null,null,null,null,null,null,null,null,null,null,null,null,null,null,null,null,null,null,null,null,null,null,null,null,null,null,null,null,null,null,null,null,null,null,null,null,null,null,null,null,null,null,null,null,null,null,null,null,null,null,null,null,null,null,null,null,null,null,null,null,null,null,null,null,null,null,null,null,null,null,null,null,null,null,null,null,null,null,null,null,null,null,null,null,null,null,null,null,null,null,null,null,null,null,null,null,null,null,null,null,null,null,null,null,null,null,null,null,null,null,null,null,null,null,null,null,null,null,null,null,null,null,null,null,null,null,null,null,null,null,null,null,null,null,null,null,null,null,null,null,null,null,null,null,null,null,null,null,null,null,null,null,null,null,null,null,null,null,null,null,null,null,null,null,null,null,null,null,null,null,null,null,null,null,null,null,null,null,null,null,null,null,null,null,null,null,null,null,null,null,null,null,null,null,null,null,null,null,null,null,null,null,null,null,null,null,null,null,null,null,null,null,null,null,null,null,null,null,null,null,null,null,null,null,null,null,null,null,null,null,null,null,null,null,null,null,null,null,null,null,null,null,null,null,null,null,null,null,null,null,null,null,null,null,null,null,null,null,null,null,null,null,null,null,null,null,null,null,null,null,null,null,null,null,null,null,null,null,null,null,null,null,null,null,null,null,null,null,null,null,null,null,null,null,null,null,null,null,null,null,null,null,null,null,null,null,null,null,null,null,null,null,null,null,null,null,null,null,null,null,null,null,null,null,null,null,null,null,null,null,null,null,null,null,null,null,null,null,null,null,null,null,null,null,null,null,null,null,null,null,null,null,null,null,null,null,null,null,null,null,null,null,null,null,null,null,null,null,null,null,null,null,null,null,null,null,null,null,null,null,null,null,null,null,null,null,null,null,null,null,null,null,null,null,null,null,null,null,null,null,null,null,null,null,null,null,null,null,null,null,null,null,null,null,null,null,null,null,null,null,null,null,null,null,null,null,null,null,null,null,null,null,null,null,null,null,null,null,null,null,null,null,null,null,null,null,null,null,null,null,null,null,null,null,null,null,null,null,null,null,null,null,null,null,null,null,null,null,null,null,null,null,null,null,null,null,null,null,null,null,null,null,null,null,null,null,null,null,null,null,null,null,null,null,null,null,null,null,null,null,null,null,null,null,null,null,null,null,null,null,null,null,null,null,null,null,null,null,null,null,null,null,null,null,null,null,null,null,null,null,null,null,null,null,null,null,null,null,null,null,null,null,null,null,null,null,null,null,null,null,null,null,null,null,null,null,null,null,null,null,null,null,null,null,null,null,null,null,null,null,null,null,null,null,null,null,null,null,null,null,null,null,null,null,null,null,null,null,null,null,null,null,null,null,null,null,null,null,null,null,null,null,null,null,null,null,null,null,null,null,null,null,null,null,null,null,null,null,null,null,null,null,null,null,null,null,null,null,null,null,null,null,null,null,null,null,null,null,null,null,null,null,null,null,null,null,null,null,null,null,null,null,null,null,null,null,null,null,null,null,null,null,null,null,null,null,null,null,null,null,null,null,null,null,null,null,null,null,null,null,null,null,null,null,null,null,null,null,null,null,null,null,null,null,null,null,null,null,null,null,null,null,null,null,null,null,null,null,null,null,null,null,null,null,null,null,null,null,null,null,null,null,null,null,null,null,null,null,null,null,null,null,null,null,null,null,null,null,null,null,null,null,null,null,null,null,null,null,null,null,null,null,null,null,null,null,null,null,null,null,null,null,null,null,null,null,null,null,null,null,null,null,null,null,null,null,null,null,null,null,null,null,null,null,null,null,null,null,null,null,null,null,null,null,null,null,null,null,null,null,null,null,null,null,null,null,null,null,null,null,null,null,null,null,null,null,null,null,null,null,null,null,null,null,null,null,null,null,null,null,null,null,null,null,null,null,null,null,null,null,null,null,null,null,null,null,null,null,null,null,null,null,null,null,null,null,null,null,null,null,null,null,null,null,null,null,null,null,null,null,null,null,null,null,null,null,null,null,null,null,null,null,null,null,null,null,null,null,null,null,null,null,null,null,null,null,null,null,null,null,null,null,null,null,null,null,null,null,null,null,null,null,null,null,null,null,null,null,null,null,null,null,null,null,null,null,null,null,null,null,null,null,null,null,null,null,null,null,null,null,null,null,null,null,null,null,null,null,null,null,null,null,null,null,null,null,null,null,null,null,null,null,null,null,null,null,null,null,null,null,null,null,null,null,null,null,null,null,null,null,null,null,null,null,null,null,null,null,null,null,null,null,null,null,null,null,null,null,null,null,null,null,null,null,null,null,null,null,null,null,null,null,null,null,null,null,null,null,null,null,null,null,null,null,null,null,null,null,null,null,null,null,null,null,null,null,null,null,null,null,null,null,null,null,null,null,null,null,null,null,null,null,null,null,null,null,null,null,null,null,null,null,null,null,null,null,null,null,null,null,null,null,null,null,null,null,null,null,null,null,null,null,null,null,null,null,null,null,null,null,null,null,null,null,null,null,null,null,null,null,null,null,null,null,null,null,null,null,null,null,null,null,null,null,null,null,null,null,null,null,null,null,null,null,null,null,null,null,null,null,null,null,null,null,null,null,null,null,null,null,null,null,null,null,null,null,null,null,null,null,null,null,null,null,null,null,null,null,null,null,null,null,null,null,null,null,null,null,null,null,null,null,null,null,null,null,null,null,null,null,null,null,null,null,null,null,null,null,null,null,null,null,null,null,null,null,null,null,null,null,null,null,null,null,null,null,null,null,null,null,null,null,null,null,null,null,null,null,null,null,null,null,null,null,null,null,null,null,null,null,null,null,null,null,null,null,null,null,null,null,null,null,null,null,null,null,null,null,null,null,null,null,null,null,null,null,null,null,null,null,null,null,null,null,null,null,null,null,null,null,null,null,null,null,null,null,null,null,null,null,null,null,null,null,null,null,null,null,null,null,null,null,null,null,null,null,null,null,null,null,null,null,null,null,null,null,null,null,null,null,null,null,null,null,null,null,null,null,null,null,null,null,null,null,null,null,null,null,null,null,null,null,null,null,null,null,null,null,null,null,null,null,null,null,null,null,null,null,null,null,null,null,null,null,null,null,null,null,null,null,null,null,null,null,null,null,null,null,null,null,null,null,null,null,null,null,null,null,null,null,null,null,null,null,null,null,null,null,null,null,null,null,null,null,null,null,null,null,null,null,null,null,null,null,null,null,null,null,null,null,null,null,null,null,null,null,null,null,null,null,null,null,null,null,null,null,null,null,null,null,null,null,null,null,null,null,null,null,null,null,null,null,null,null,null,null,null,null,null,null,null,null,null,null,null,null,null,null,null,null,null,null,null,null,null,null,null,null,null,null,null,null,null,null,null,null,null,null,null,null,null,null,null,null,null,null,null,null,null,null,null,null,null,null,null,null,null,null,null,null,null,null,null,null,null,null,null,null,null,null,null,null,null,null,null,null,null,null,null,null,null,null,null,null,null,null,null,null,null,null,null,null,null,null,null,null,null,null,null,null,null,null,null,null,null,null,null,null,null,null,null,null,null,null,null,null,null,null,null,null,null,null,null,null,null,null,null,null,null,null,null,null,null,null,null,null,null,null,null,null,null,null,null,null,null,null,null,null,null,null,null,null,null,null,null,null,null,null,null,null,null,null,null,null,null,null,null,null,null,null,null,null,null,null,null,null,null,null,null,null,null,null,null,null,null,null,null,null,null,null,null,null,null,null,null,null,null,null,null,null,null,null,null,null,null,null,null,null,null,null,null,null,null,null,null,null,null,null,null,null,null,null,null,null,null,null,null,null,null,null,null,null,null,null,null,null,null,null,null,null,null,null,null,null,null,null,null,null,null,null,null,null,null,null,null,null,null,null,null,null,null,null,null,null,null,null,null,null,null,null,null,null,null,null,null,null,null,null,null,null,null,null,null,null,null,null,null,null,null,null,null,null,null,null,null,null,null,null,null,null,null,null,null,null,null,null,null,null,null,null,null,null,null,null,null,null,null,null,null,null,null,null,null,null,null,null,null,null,null,null,null,null,null,null,null,null,null,null,null,null,null,null,null,null,null,null,null,null,null,null,null,null,null,null,null,null,null,null,null,null,null,null,null,null,null,null,null,null,null,null,null,null,null,null,null,null,null,null,null,null,null,null,null,null,null,null,null,null,null,null,null,null,null,null,null,null,null,null,null,null,null,null,null,null,null,null,null,null,null,null,null,null,null,null,null,null,null,null,null,null,null,null,null,null,null,null,null,null,null,null,null,null,null,null,null,null,null,null,null,null,null,null,null,null,null,null,null,null,null,null,null,null,null,null,null,null,null,null,null,null,null,null,null,null,null,null,null,null,null,null,null,null,null,null,null,null,null,null,null,null,null,null,null,null,null,null,null,null,null,null,null,null,null,null,null,null,null,null,null,null,null,null,null,null,null,null,null,null,null,null,null,null,null,null,null,null,null,null,null,null,null,null,null,null,null,null,null,null,null,null,null,null,null,null,null,null,null,null,null,null,null,null,null,null,null,null,null,null,null,null,null,null,null,null,null,null,null,null,null,null,null,null,null,null,null,null,null,null,null,null,null,null,null,null,null,null,null,null,null,null,null,null,null,null,null,null,null,null,null,null,null,null,null,null,null,null,null,null,null,null,null,null,null,null,null,null,null,null,null,null,null,null,null,null,null,null,null,null,null,null,null,null,null,null,null,null,null,null,null,null,null,null,null,null,null,null,null,null,null,null,null,null,null,null,null,null,null,null,null,null,null,null,null,null,null,null,null,null,null,null,null,null,null,null,null,null,null,null,null,null,null,null,null,null,null,null,null,null,null,null,null,null,null,null,null,null,null,null,null,null,null,null,null,null,null,null,null,null,null,null,null,null,null,null,null,null,null,null,null,null,null,null,null,null,null,null,null,null,null,null,null,null,null,null,null,null,null,null,null,null,null,null,null,null,null,null,null,null,null,null,null,null,null,null,null,null,null,null,null,null,null,null,null,null,null,null,null,null,null,null,null,null,null,null,null,null,null,null,null,null,null,null,null,null,null,null,null,null,null,null,null,null,null,null,null,null,null,null,null,null,null,null,null,null,null,null,null,null,null,null,null,null,null,null,null,null,null,null,null,null,null,null,null,null,null,null,null,null,null,null,null,null,null,null,null,null,null,null,null,null,null,null,null,null,null,null,null,null,null,null,null,null,null,null,null,null,null,null,null,null,null,null,null,null,null,null,null,null,null,null,null,null,null,null,null,null,null,null,null,null,null,null,null,null,null,null,null,null,null,null,null,null,null,null,null,null,null,null,null,null,null,null,null,null,null,null,null,null,null,null,null,null,null,null,null,null,null,null,null,null,null,null,null,null,null,null,null,null,null,null,null,null,null,null,null,null,null,null,null,null,null,null,null,null,null,null,null,null,null,null,null,null,null,null,null,null,null,null,null,null,null,null,null,null,null,null,null,null,null,null,null,null,null,null,null,null,null,null,null,null,null,null,null,null,null,null,null,null,null,null,null,null,null,null,null,null,null,null,null,null,null,null,null,null,null,null,null,null,null,null,null,null,null,null,null,null,null,null,null,null,null,null,null,null,null,null,null,null,null,null,null,null,null,null,null,null,null,null,null,null,null,null,null,null,null,null,null,null,null,null,null,null,null,null,null,null,null,null,null,null,null,null,null,null,null,null,null,null,null,null,null,null,null,null,null,null,null,null,null,null,null,null,null,null,null,null,null,null,null,null,null,null,null,null,null,null,null,null,null,null,null,null,null,null,null,null,null,null,null,null,null,null,null,null,null,null,null,null,null,null,null,null,null,null,null,null,null,null,null,null,null,null,null,null,null,null,null,null,null,null,null,null,null,null,null,null,null,null,null,null,null,null,null,null,null,null,null,null,null,null,null,null,null,null,null,null,null,null,null,null,null,null,null,null,null,null,null,null,null,null,null,null,null,null,null,null,null,null,null,null,null,null,null,null,null,null,null,null,null,null,null,null,null,null,null,null,null,null,null,null,null,null,null,null,null,null,null,null,null,null,null,null,null,null,null,null,null,null,null,null,null,null,null,null,null,null,null,null,null,null,null,null,null,null,null,null,null,null,null,null,null,null,null,null,null,null,null,null,null,null,null,null,null,null,null,null,null,null,null,null,null,null,null,null,null,null,null,null,null,null,null,null,null,null,null,null,null,null,null,null,null,null,null,null,null,null,null,null,null,null,null,null,null,null,null,null,null,null,null,null,null,null,null,null,null,null,null,null,null,null,null,null,null,null,null,null,null,null,null,null,null,null,null,null,null,null,null,null,null,null,null,null,null,null,null,null,null,null,null,null,null,null,null,null,null,null,null,null,null,null,null,null,null,null,null,null,null,null,null,null,null,null,null,null,null,null,null,null,null,null,null,null,null,null,null,null,null,null,null,null,null,null,null,null,null,null,null,null,null,null,null,null,null,null,null,null,null,null,null,null,null,null,null,null,null,null,null,null,null,null,null,null,null,null,null,null,null,null,null,null,null,null,null,null,null,null,null,null,null,null,null,null,null,null,null,null,null,null,null,null,null,null,null,null,null,null,null,null,null,null,null,null,null,null,null,null,null,null,null,null,null,null,null,null,null,null,null,null,null,null,null,null,null,null,null,null,null,null,null,null,null,null,null,null,null,null,null,null,null,null,null,null,null,null,null,null,null,null,null,null,null,null,null,null,null,null,null,null,null,null,null,null,null,null,null,null,null,null,null,null,null,null,null,null,null,null,null,null,null,null,null,null,null,null,null,null,null,null,null,null,null,null,null,null,null,null,null,null,null,null,null,null,null,null,null,null,null,null,null,null,null,null,null,null,null,null,null,null,null,null,null,null,null,null,null,null,null,null,null,null,null,null,null,null,null,null,null,null,null,null,null,null,null,null,null,null,null,null,null,null,null,null,null,null,null,null,null,null,null,null,null,null,null,null,null,null,null,null,null,null,null,null,null,null,null,null,null,null,null,null,null,null,null,null,null,null,null,null,null,null,null,null,null,null,null,null,null,null,null,null,null,null,null,null,null,null,null,null,null,null,null,null,null,null,null,null,null,null,null,null,null,null,null,null,null,null,null,null,null,null,null,null,null,null,null,null,null,null,null,null,null,null,null,null,null,null,null,null,null,null,null,null,null,null,null,null,null,null,null,null,null,null,null,null,null,null,null,null,null,null,null,null,null,null,null,null,null,null,null,null,null,null,null,null,null,null,null,null,null,null,null,null,null,null,null,null,null,null,null,null,null,null,null,null,null,null,null,null,null,null,null,null,null,null,null,null,null,null,null,null,null,null,null,null,null,null,null,null,null,null,null,null,null,null,null,null,null,null,null,null,null,null,null,null,null,null,null,null,null,null,null,null,null,null,null,null,null,null,null,null,null,null,null,null,null,null,null,null,null,null,null,null,null,null,null,null,null,null,null,null,null,null,null,null,null,null,null,null,null,null,null,null,null,null,null,null,null,null,null,null,null,null,null,null,null,null,null,null,null,null,null,null,null,null,null,null,null,null,null,null,null,null,null,null,null,null,null,null,null,null,null,null,null,null,null,null,null,null,null,null,null,null,null,null,null,null,null,null,null,null,null,null,null,null,null,null,null,null,null,null,null,null,null,null,null,null,null,null,null,null,null,null,null,null,null,null,null,null,null,null,null,null,null,null,null,null,null,null,null,null,null,null,null,null,null,null,null,null,null,null,null,null,null,null,null,null,null,null,null,null,null,null,null,null,null,null,null,null,null,null,null,null,null,null,null,null,null,null,null,null,null,null,null,null,null,null,null,null,null,null,null,null,null,null,null,null,null,null,null,null,null,null,null,null,null,null,null,null,null,null,null,null,null,null,null,null,null,null,null,null,null,null,null,null,null,null,null,null,null,null,null,null,null,null,null,null,null,null,null,null,null,null,null,null,null,null,null,null,null,null,null,null,null,null,null,null,null,null,null,null,null,null,null,null,null,null,null,null,null,null,null,null,null,null,null,null,null,null,null,null,null,null,null,null,null,null,null,null,null,null,null,null,null,null,null,null,null,null,null,null,null,null,null,null,null,null,null,null,null,null,null,null,null,null,null,null,null,null,null,null,null,null,null,null,null,null,null,null,null,null,null,null,null,null,null,null,null,null,null,null,null,null,null,null,null,null,null,null,null,null,null,null,null,null,null,null,null,null,null,null,null,null,null,null,null,null,null,null,null,null,null,null,null,null,null,null,null,null,null,null,null,null,null,null,null,null,null,null,null,null,null,null,null,null,null,null,null,null,null,null,null,null,null,null,null,null,null,null,null,null,null,null,null,null,null,null,null,null,null,null,null,null,null,null,null,null,null,null,null,null,null,null,null,null,null,null,null,null,null,null,null,null,null,null,null,null,null,null,null,null,null,null,null,null,null,null,null,null,null,null,null,null,null,null,null,null,null,null,null,null,null,null,null,null,null,null,null,null,null,null,null,null,null,null,null,null,null,null,null,null,null,null,null,null,null,null,null,null,null,null,null,null,null,null,null,null,null,null,null,null,null,null,null,null,null,null,null,null,null,null,null,null,null,null,null,null,null,null,null,null,null,null,null,null,null,null,null,null,null,null,null,null,null,null,null,null,null,null,null,null,null,null,null,null,null,null,null,null,null,null,null,null,null,null,null,null,null,null,null,null,null,null,null,null,null,null,null,null,null,null,null,null,null,null,null,null,null,null,null,null,null,null,null,null,null,null,null,null,null,null,null,null,null,null,null,null,null,null,null,null,null,null,null,null,null,null,null,null,null,null,null,null,null,null,null,null,null,null,null,null,null,null,null,null,null,null,null,null,null,null,null,null,null,null,null,null,null,null,null,null,null,null,null,null,null,null,null,null,null,null,null,null,null,null,null,null,null,null,null,null,null,null,null,null,null,null,null,null,null,null,null,null,null,null,null,null,null,null,null,null,null,null,null,null,null,null,null,null,null,null,null,null,null,null,null,null,null,null,null,null,null,null,null,null,null,null,null,null,null,null,null,null,null,null,null,null,null,null,null,null,null,null,null,null,null,null,null,null,null,null,null,null,null,null,null,null,null,null,null,null,null,null,null,null,null,null,null,null,null,null,null,null,null,null,null,null,null,null,null,null,null,null,null,null,null,null,null,null,null,null,null,null,null,null,null,null,null,null,null,null,null,null,null,null,null,null,null,null,null,null,null,null,null,null,null,null,null,null,null,null,null,null,null,null,null,null,null,null,null,null,null,null,null,null,null,null,null,null,null,null,null,null,null,null,null,null,null,null,null,null,null,null,null,null,null,null,null,null,null,null,null,null,null,null,null,null,null,null,null,null,null,null,null,null,null,null,null,null,null,null,null,null,null,null,null,null,null,null,null,null,null,null,null,null,null,null,null,null,null,null,null,null,null,null,null,null,null,null,null,null,null,null,null,null,null,null,null,null,null,null,null,null,null,null,null,null,null,null,null,null,null,null,null,null,null,null,null,null,null,null,null,null,null,null,null,null,null,null,null,null,null,null,null,null,null,null,null,null,null,null,null,null,null,null,null,null,null,null,null,null,null,null,null,null,null,null,null,null,null,null,null,null,null,null,null,null,null,null,null,null,null,null,null,null,null,null,null,null,null,null,null,null,null,null,null,null,null,null,null,null,null,null,null,null,null,null,null,null,null,null,null,null,null,null,null,null,null,null,null,null,null,null,null,null,null,null,null,null,null,null,null,null,null,null,null,null,null,null,null,null,null,null,null,null,null,null,null,null,null,null,null,null,null,null,null,null,null,null,null,null,null,null,null,null,null,null,null,null,null,null,null,null,null,null,null,null,null,null,null,null,null,null,null,null,null,null,null,null,null,null,null,null,null,null,null,null,null,null,null,null,null,null,null,null,null,null,null,null,null,null,null,null,null,null,null,null,null,null,null,null,null,null,null,null,null,null,null,null,null,null,null,null,null,null,null,null,null,null,null,null,null,null,null,null,null,null,null,null,null,null,null,null,null,null,null,null,null,null,null,null,null,null,null,null,null,null,null,null,null,null,null,null,null,null,null,null,null,null,null,null,null,null,null,null,null,null,null,null,null,null,null,null,null,null,null,null,null,null,null,null,null,null,null,null,null,null,null,null,null,null,null,null,null,null,null,null,null,null,null,null,null,null,null,null,null,null,null,null,null,null,null,null,null,null,null,null,null,null,null,null,null,null,null,null,null,null,null,null,null,null,null,null,null,null,null,null,null,null,null,null,null,null,null,null,null,null,null,null,null,null,null,null,null,null,null,null,null,null,null,null,null,null,null,null,null,null,null,null,null,null,null,null,null,null,null,null,null,null,null,null,null,null,null,null,null,null,null,null,null,null,null,null,null,null,null,null,null,null,null,null,null,null,null,null,null,null,null,null,null,null,null,null,null,null,null,null,null,null,null,null,null,null,null,null,null,null,null,null,null,null,null,null,null,null,null,null,null,null,null,null,null,null,null,null,null,null,null,null,null,null,null,null,null,null,null,null,null,null,null,null,null,null,null,null,null,null,null,null,null,null,null,null,null,null,null,null,null,null,null,null,null,null,null,null,null,null,null,null,null,null,null,null,null,null,null,null,null,null,null,null,null,null,null,null,null,null,null,null,null,null,null,null,null,null,null,null,null,null,null,null,null,null,null,null,null,null,null,null,null,null,null,null,null,null,null,null,null,null,null,null,null,null,null,null,null,null,null,null,null,null,null,null,null,null,null,null,null,null,null,null,null,null,null,null,null,null,null,null,null,null,null,null,null,null,null,null,null,null,null,null,null,null,null,null,null,null,null,null,null,null,null,null,null,null,null,null,null,null,null,null,null,null,null,null,null,null,null,null,null,null,null,null,null,null,null,null,null,null,null,null,null,null,null,null,null,null,null,null,null,null,null,null,null,null,null,null,null,null,null,null,null,null,null,null,null,null,null,null,null,null,null,null,null,null,null,null,null,null,null,null,null,null,null,null,null,null,null,null,null,null,null,null,null,null,null,null,null,null,null,null,null,null,null,null,null,null,null,null,null,null,null,null,null,null,null,null,null,null,null,null,null,null,null,null,null,null,null,null,null,null,null,null,null,null,null,null,null,null,null,null,null,null,null,null,null,null,null,null,null,null,null,null,null,null,null,null,null,null,null,null,null,null,null,null,null,null,null,null,null,null,null,null,null,null,null,null,null,null,null,null,null,null,null,null,null,null,null,null,null,null,null,null,null,null,null,null,null,null,null,null,null,null,null,null,null,null,null,null,null,null,null,null,null,null,null,null,null,null,null,null,null,null,null,null,null,null,null,null,null,null,null,null,null,null,null,null,null,null,null,null,null,null,null,null,null,null,null,null,null,null,null,null,null,null,null,null,null,null,null,null,null,null,null,null,null,null,null,null,null,null,null,null,null,null,null,null,null,null,null,null,null,null,null,null,null,null,null,null,null,null,null,null,null,null,null,null,null,null,null,null,null,null,null,null,null,null,null,null,null,null,null,null,null,null,null,null,null,null,null,null,null,null,null,null,null,null,null,null,null,null,null,null,null,null,null,null,null,null,null,null,null,null,null,null,null,null,null,null,null,null,null,null,null,null,null,null,null,null,null,null,null,null,null,null,null,null,null,null,null,null,null,null,null,null,null,null,null,null,null,null,null,null,null,null,null,null,null,null,null,null,null,null,null,null,null,null,null,null,null,null,null,null,null,null,null,null,null,null,null,null,null,null,null,null,null,null,null,null,null,null,null,null,null,null,null,null,null,null,null,null,null,null,null,null,null,null,null,null,null,null,null,null,null,null,null,null,null,null,null,null,null,null,null,null,null,null,null,null,null,null,null,null,null,null,null,null,null,null,null,null,null,null,null,null,null,null,null,null,null,null,null,null,null,null,null,null,null,null,null,null,null,null,null,null,null,null,null,null,null,null,null,null,null,null,null,null,null,null,null,null,null,null,null,null,null,null,null,null,null,null,null,null,null,null,null,null,null,null,null,null,null,null,null,null,null,null,null,null,null,null,null,null,null,null,null,null,null,null,null,null,null,null,null,null,null,null,null,null,null,null,null,null,null,null,null,null,null,null,null,null,null,null,null,null,null,null,null,null,null,null,null,null,null,null,null,null,null,null,null,null,null,null,null,null,null,null,null,null,null,null,null,null,null,null,null,null,null,null,null,null,null,null,null,null,null,null,null,null,null,null,null,null,null,null,null,null,null,null,null,null,null,null,null,null,null,null,null,null,null,null,null,null,null,null,null,null,null,null,null,null,null,null,null,null,null,null,null,null,null,null,null,null,null,null,null,null,null,null,null,null,null,null,null,null,null,null,null,null,null,null,null,null,null,null,null,null,null,null,null,null,null,null,null,null,null,null,null,null,null,null,null,null,null,null,null,null,null,null,null,null,null,null,null,null,null,null,null,null,null,null,null,null,null,null,null,null,null,null,null,null,null,null,null,null,null,null,null,null,null,null,null,null,null,null,null,null,null,null,null,null,null,null,null,null,null,null,null,null,null,null,null,null,null,null,null,null,null,null,null,null,null,null,null,null,null,null,null,null,null,null,null,null,null,null,null,null,null,null,null,null,null,null,null,null,null,null,null,null,null,null,null,null,null,null,null,null,null,null,null,null,null,null,null,null,null,null,null,null,null,null,null,null,null,null,null,null,null,null,null,null,null,null,null,null,null,null,null,null,null,null,null,null,null,null,null,null,null,null,null,null,null,null,null,null,null,null,null,null,null,null,null,null,null,null,null,null,null,null,null,null,null,null,null,null,null,null,null,null,null,null,null,null,null,null,null,null,null,null,null,null,null,null,null,null,null,null,null,null,null,null,null,null,null,null,null,null,null,null,null,null,null,null,null,null,null,null,null,null,null,null,null,null,null,null,null,null,null,null,null,null,null,null,null,null,null,null,null,null,null,null,null,null,null,null,null,null,null,null,null,null,null,null,null,null,null,null,null,null,null,null,null,null,null,null,null,null,null,null,null,null,null,null,null,null,null,null,null,null,null,null,null,null,null,null,null,null,null,null,null,null,null,null,null,null,null,null,null,null,null,null,null,null,null,null,null,null,null,null,null,null,null,null,null,null,null,null,null,null,null,null,null,null,null,null,null,null,null,null,null,null,null,null,null,null,null,null,null,null,null,null,null,null,null,null,null,null,null,null,null,null,null,null,null,null,null,null,null,null,null,null,null,null,null,null,null,null,null,null,null,null,null,null,null,null,null,null,null,null,null,null,null,null,null,null,null,null,null,null,null,null,null,null,null,null,null,null,null,null,null,null,null,null,null,null,null,null,null,null,null,null,null,null,null,null,null,null,null,null,null,null,null,null,null,null,null,null,null,null,null,null,null,null,null,null,null,null,null,null,null,null,null,null,null,null,null,null,null,null,null,null,null,null,null,null,null,null,null,null,null,null,null,null,null,null,null,null,null,null,null,null,null,null,null,null,null,null,null,null,null,null,null,null,null,null,null,null,null,null,null,null,null,null,null,null,null,null,null,null,null,null,null,null,null,null,null,null,null,null,null,null,null,null,null,null,null,null,null,null,null,null,null,null,null,null,null,null,null,null,null,null,null,null,null,null,null,null,null,null,null,null,null,null,null,null,null,null,null,null,null,null,null,null,null,null,null,null,null,null,null,null,null,null,null,null,null,null,null,null,null,null,null,null,null,null,null,null,null,null,null,null,null,null,null,null,null,null,null,null,null,null,null,null,null,null,null,null,null,null,null,null,null,null,null,null,null,null,null,null,null,null,null,null,null,null,null,null,null,null,null,null,null,null,null,null,null,null,null,null,null,null,null,null,null,null,null,null,null,null,null,null,null,null,null,null,null,null,null,null,null,null,null,null,null,null,null,null,null,null,null,null,null,null,null,null,null,null,null,null,null,null,null,null,null,null,null,null,null,null,null,null,null,null,null,null,null,null,null,null,null,null,null,null,null,null,null,null,null,null,null,null,null,null,null,null,null,null,null,null,null,null,null,null,null,null,null,null,null,null,null,null,null,null,null,null,null,null,null,null,null,null,null,null,null,null,null,null,null,null,null,null,null,null,null,null,null,null,null,null,null,null,null,null,null,null,null,null,null,null,null,null,null,null,null,null,null,null,null,null,null,null,null,null,null,null,null,null,null,null,null,null,null,null,null,null,null,null,null,null,null,null,null,null,null,null,null,null,null,null,null,null,null,null,null,null,null,null,null,null,null,null,null,null,null,null,null,null,null,null,null,null,null,null,null,null,null,null,null,null,null,null,null,null,null,null,null,null,null,null,null,null,null,null,null,null,null,null,null,null,null,null,null,null,null,null,null,null,null,null,null,null,null,null,null,null,null,null,null,null,null,null,null,null,null,null,null,null,null,null,null,null,null,null,null,null,null,null,null,null,null,null,null,null,null,null,null,null,null,null,null,null,null,null,null,null,null,null,null,null,null,null,null,null,null,null,null,null,null,null,null,null,null,null,null,null,null,null,null,null,null,null,null,null,null,null,null,null,null,null,null,null,null,null,null,null,null,null,null,null,null,null,null,null,null,null,null,null,null,null,null,null,null,null,null,null,null,null,null,null,null,null,null,null,null,null,null,null,null,null,null,null,null,null,null,null,null,null,null,null,null,null,null,null,null,null,null,null,null,null,null,null,null,null,null,null,null,null,null,null,null,null,null,null,null,null,null,null,null,null,null,null,null,null,null,null,null,null,null,null,null,null,null,null,null,null,null,null,null,null,null,null,null,null,null,null,null,null,null,null,null,null,null,null,null,null,null,null,null,null,null,null,null,null,null,null,null,null,null,null,null,null,null,null,null,null,null,null,null,null,null,null,null,null,null,null,null,null,null,null,null,null,null,null,null,null,null,null,null,null,null,null,null,null,null,null,null,null,null,null,null,null,null,null,null,null,null,null,null,null,null,null,null,null,null,null,null,null,null,null,null,null,null,null,null,null,null,null,null,null,null,null,null,null,null,null,null,null,null,null,null,null,null,null,null,null,null,null,null,null,null,null,null,null,null,null,null,null,null,null,null,null,null,null,null,null,null,null,null,null,null,null,null,null,null,null,null,null,null,null,null,null,null,null,null,null,null,null,null,null,null,null,null,null,null,null,null,null,null,null,null,null,null,null,null,null,null,null,null,null,null,null,null,null,null,null,null,null,null,null,null,null,null,null,null,null,null,null,null,null,null,null,null,null,null,null,null,null,null,null,null,null,null,null,null,null,null,null,null,null,null,null,null,null,null,null,null,null,null,null,null,null,null,null,null,null,null,null,null,null,null,null,null,null,null,null,null,null,null,null,null,null,null,null,null,null,null,null,null,null,null,null,null,null,null,null,null,null,null,null,null,null,null,null,null,null,null,null,null,null,null,null,null,null,null,null,null,null,null,null,null,null,null,null,null,null,null,null,null,null,null,null,null,null,null,null,null,null,null,null,null,null,null,null,null,null,null,null,null,null,null,null,null,null,null,null,null,null,null,null,null,null,null,null,null,null,null,null,null,null,null,null,null,null,null,null,null,null,null,null,null,null,null,null,null,null,null,null,null,null,null,null,null,null,null,null,null,null,null,null,null,null,null,null,null,null,null,null,null,null,null,null,null,null,null,null,null,null,null,null,null,null,null,null,null,null,null,null,null,null,null,null,null,null,null,null,null,null,null,null,null,null,null,null,null,null,null,null,null,null,null,null,null,null,null,null,null,null,null,null,null,null,null,null,null,null,null,null,null,null,null,null,null,null,null,null,null,null,null,null,null,null,null,null,null,null,null,null,null,null,null,null,null,null,null,null,null,null,null,null,null,null,null,null,null,null,null,null,null,null,null,null,null,null,null,null,null,null,null,null,null,null,null,null,null,null,null,null,null,null,null,null,null,null,null,null,null,null,null,null,null,null,null,null,null,null,null,null,null,null,null,null,null,null,null,null,null,null,null,null,null,null,null,null,null,null,null,null,null,null,null,null,null,null,null,null,null,null,null,null,null,null,null,null,null,null,null,null,null,null,null,null,null,null,null,null,null,null,null,null,null,null,null,null,null,null,null,null,null,null,null,null,null,null,null,null,null,null,null,null,null,null,null,null,null,null,null,null,null,null,null,null,null,null,null,null,null,null,null,null,null,null,null,null,null,null,null,null,null,null,null,null,null,null,null,null,null,null,null,null,null,null,null,null,null,null,null,null,null,null,null,null,null,null,null,null,null,null,null,null,null,null,null,null,null,null,null,null,null,null,null,null,null,null,null,null,null,null,null,null,null,null,null,null,null,null,null,null,null,null,null,null,null,null,null,null,null,null,null,null,null,null,null,null,null,null,null,null,null,null,null,null,null,null,null,null,null,null,null,null,null,null,null,null,null,null,null,null,null,null,null,null,null,null,null,null,null,null,null,null,null,null,null,null,null,null,null,null,null,null,null,null,null,null,null,null,null,null,null,null,null,null,null,null,null,null,null,null,null,null,null,null,null,null,null,null,null,null,null,null,null,null,null,null,null,null,null,null,null,null,null,null,null,null,null,null,null,null,null,null,null,null,null,null,null,null,null,null,null,null,null,null,null,null,null,null,null,null,null,null,null,null,null,null,null,null,null,null,null,null,null,null,null,null,null,null,null,null,null,null,null,null,null,null,null,null,null,null,null,null,null,null,null,null,null,null,null,null,null,null,null,null,null,null,null,null,null,null,null,null,null,null,null,null,null,null,null,null,null,null,null,null,null,null,null,null,null,null,null,null,null,null,null,null,null,null,null,null,null,null,null,null,null,null,null,null,null,null,null,null,null,null,null,null,null,null,null,null,null,null,null,null,null,null,null,null,null,null,null,null,null,null,null,null,null,null,null,null,null,null,null,null,null,null,null,null,null,null,null,null,null,null,null,null,null,null,null,null,null,null,null,null,null,null,null,null,null,null,null,null,null,null,null,null,null,null,null,null,null,null,null,null,null,null,null,null,null,null,null,null,null,null,null,null,null,null,null,null,null,null,null,null,null,null,null,null,null,null,null,null,null,null,null,null,null,null,null,null,null,null,null,null,null,null,null,null,null,null,null,null,null,null,null,null,null,null,null,null,null,null,null,null,null,null,null,null,null,null,null,null,null,null,null,null,null,null,null,null,null,null,null,null,null,null,null,null,null,null,null,null,null,null,null,null,null,null,null,null,null,null,null,null,null,null,null,null,null,null,null,null,null,null,null,null,null,null,null,null,null,null,null,null,null,null,null,null,null,null,null,null,null,null,null,null,null,null,null,null,null,null,null,null,null,null,null,null,null,null,null,null,null,null,null,null,null,null,null,null,null,null,null,null,null,null,null,null,null,null,null,null,null,null,null,null,null,null,null,null,null,null,null,null,null,null,null,null,null,null,null,null,null,null,null,null,null,null,null,null,null,null,null,null,null,null,null,null,null,null,null,null,null,null,null,null,null,null,null,null,null,null,null,null,null,null,null,null,null,null,null,null,null,null,null,null,null,null,null,null,null,null,null,null,null,null,null,null,null,null,null,null,null,null,null,null,null,null,null,null,null,null,null,null,null,null,null,null,null,null,null,null,null,null,null,null,null,null,null,null,null,null,null,null,null,null,null,null,null,null,null,null,null,null,null,null,null,null,null,null,null,null,null,null,null,null,null,null,null,null,null,null,null,null,null,null,null,null,null,null,null,null,null,null,null,null,null,null,null,null,null,null,null,null,null,null,null,null,null,null,null,null,null,null,null,null,null,null,null,null,null,null,null,null,null,null,null,null,null,null,null,null,null,null,null,null,null,null,null,null,null,null,null,null,null,null,null,null,null,null,null,null,null,null,null,null,null,null,null,null,null,null,null,null,null,null,null,null,null,null,null,null,null,null,null,null,null,null,null,null,null,null,null,null,null,null,null,null,null,null,null,null,null,null,null,null,null,null,null,null,null,null,null,null,null,null,null,null,null,null,null,null,null,null,null,null,null,null,null,null,null,null,null,null,null,null,null,null,null,null,null,null,null,null,null,null,null,null,null,null,null,null,null,null,null,null,null,null,null,null,null,null,null,null,null,null,null,null,null,null,null,null,null,null,null,null,null,null,null,null,null,null,null,null,null,null,null,null,null,null,null,null,null,null,null,null,null,null,null,null,null,null,null,null,null,null,null,null,null,null,null,null,null,null,null,null,null,null,null,null,null,null,null,null,null,null,null,null,null,null,null,null,null,null,null,null,null,null,null,null,null,null,null,null,null,null,null,null,null,null,null,null,null,null,null,null,null,null,null,null,null,null,null,null,null,null,null,null,null,null,null,null,null,null,null,null,null,null,null,null,null,null,null,null,null,null,null,null,null,null,null,null,null,null,null,null,null,null,null,null,null,null,null,null,null,null,null,null,null,null,null,null,null,null,null,null,null,null,null,null,null,null,null,null,null,null,null,null,null,null,null,null,null,null,null,null,null,null,null,null,null,null,null,null,null,null,null,null,null,null,null,null,null,null,null,null,null,null,null,null,null,null,null,null,null,null,null,null,null,null,null,null,null,null,null,null,null,null,null,null,null,null,null,null,null,null,null,null,null,null,null,null,null,null,null,null,null,null,null,null,null,null,null,null,null,null,null,null,null,null,null,null,null,null,null,null,null,null,null,null,null,null,null,null,null,null,null,null,null,null,null,null,null,null,null,null,null,null,null,null,null,null,null,null,null,null,null,null,null,null,null,null,null,null,null,null,null,null,null,null,null,null,null,null,null,null,null,null,null,null,null,null,null,null,null,null,null,null,null,null,null,null,null,null,null,null,null,null,null,null,null,null,null,null,null,null,null,null,null,null,null,null,null,null,null,null,null,null,null,null,null,null,null,null,null,null,null,null,null,null,null,null,null,null,null,null,null,null,null,null,null,null,null,null,null,null,null,null,null,null,null,null,null,null,null,null,null,null,null,null,null,null,null,null,null,null,null,null,null,null,null,null,null,null,null,null,null,null,null,null,null,null,null,null,null,null,null,null,null,null,null,null,null,null,null,null,null,null,null,null,null,null,null,null,null,null,null,null,null,null,null,null,null,null,null,null,null,null,null,null,null,null,null,null,null,null,null,null,null,null,null,null,null,null,null,null,null,null,null,null,null,null,null,null,null,null,null,null,null,null,null,null,null,null,null,null,null,null,null,null,null,null,null,null,null,null,null,null,null,null,null,null,null,null,null,null,null,null,null,null,null,null,null,null,null,null,null,null,null,null,null,null,null,null,null,null,null,null,null,null,null,null,null,null,null,null,null,null,null,null,null,null,null,null,null,null,null,null,null,null,null,null,null,null,null,null,null,null,null,null,null,null,null,null,null,null,null,null,null,null,null,null,null,null,null,null,null,null,null,null,null,null,null,null,null,null,null,null,null,null,null,null,null,null,null,null,null,null,null,null,null,null,null,null,null,null,null,null,null,null,null,null,null,null,null,null,null,null,null,null,null,null,null,null,null,null,null,null,null,null,null,null,null,null,null,null,null,null,null,null,null,null,null,null,null,null,null,null,null,null,null,null,null,null,null,null,null,null,null,null,null,null,null,null,null,null,null,null,null,null,null,null,null,null,null,null,null,null,null,null,null,null,null,null,null,null,null,null,null,null,null,null,null,null,null,null,null,null,null,null,null,null,null,null,null,null,null,null,null,null,null,null,null,null,null,null,null,null,null,null,null,null,null,null,null,null,null,null,null,null,null,null,null,null,null,null,null,null,null,null,null,null,null,null,null,null,null,null,null,null,null,null,null,null,null,null,null,null,null,null,null,null,null,null,null,null,null,null,null,null,null,null,null,null,null,null,null,null,null,null,null,null,null,null,null,null,null,null,null,null,null,null,null,null,null,null,null,null,null,null,null,null,null,null,null,null,null,null,null,null,null,null,null,null,null,null,null,null,null,null,null,null,null,null,null,null,null,null,null,null,null,null,null,null,null,null,null,null,null,null,null,null,null,null,null,null,null,null,null,null,null,null,null,null,null,null,null,null,null,null,null,null,null,null,null,null,null,null,null,null,null,null,null,null,null,null,null,null,null,null,null,null,null,null,null,null,null,null,null,null,null,null,null,null,null,null,null,null,null,null,null,null,null,null,null,null,null,null,null,null,null,null,null,null,null,null,null,null,null,null,null,null,null,null,null,null,null,null,null,null,null,null,null,null,null,null,null,null,null,null,null,null,null,null,null,null,null,null,null,null,null,null,null,null,null,null,null,null,null,null,null,null,null,null,null,null,null,null,null,null,null,null,null,null,null,null,null,null,null,null,null,null,null,null,null,null,null,null,null,null,null,null,null,null,null,null,null,null,null,null,null,null,null,null,null,null,null,null,null,null,null,null,null,null,null,null,null,null,null,null,null,null,null,null,null,null,null,null,null,null,null,null,null,null,null,null,null,null,null,null,null,null,null,null,null,null,null,null,null,null,null,null,null,null,null,null,null,null,null,null,null,null,null,null,null,null,null,null,null,null,null,null,null,null,null,null,null,null,null,null,null,null,null,null,null,null,null,null,null,null,null,null,null,null,null,null,null,null,null,null,null,null,null,null,null,null,null,null,null,null,null,null,null,null,null,null,null,null,null,null,null,null,null,null,null,null,null,null,null,null,null,null,null,null,null,null,null,null,null,null,null,null,null,null,null,null,null,null,null,null,null,null,null,null,null,null,null,null,null,null,null,null,null,null,null,null,null,null,null,null,null,null,null,null,null,null,null,null,null,null,null,null,null,null,null,null,null,null,null,null,null,null,null,null,null,null,null,null,null,null,null,null,null,null,null,null,null,null,null,null,null,null,null,null,null,null,null,null,null,null,null,null,null,null,null,null,null,null,null,null,null,null,null,null,null,null,null,null,null,null,null,null,null,null,null,null,null,null,null,null,null,null,null,null,null,null,null,null,null,null,null,null,null,null,null,null,null,null,null,null,null,null,null,null,null,null,null,null,null,null,null,null,null,null,null,null,null,null,null,null,null,null,null,null,null,null,null,null,null,null,null,null,null,null,null,null,null,null,null,null,null,null,null,null,null,null,null,null,null,null,null,null,null,null,null,null,null,null,null,null,null,null,null,null,null,null,null,null,null,null,null,null,null,null,null,null,null,null,null,null,null,null,null,null,null,null,null,null,null,null,null,null,null,null,null,null,null,null,null,null,null,null,null,null,null,null,null,null,null,null,null,null,null,null,null,null,null,null,null,null,null,null,null,null,null,null,null,null,null,null,null,null,null,null,null,null,null,null,null,null,null,null,null,null,null,null,null,null,null,null,null,null,null,null,null,null,null,null,null,null,null,null,null,null,null,null,null,null,null,null,null,null,null,null,null,null,null,null,null,null,null,null,null,null,null,null,null,null,null,null,null,null,null,null,null,null,null,null,null,null,null,null,null,null,null,null,null,null,null,null,null,null,null,null,null,null,null,null,null,null,null,null,null,null,null,null,null,null,null,null,null,null,null,null,null,null,null,null,null,null,null,null,null,null,null,null,null,null,null,null,null,null,null,null,null,null,null,null,null,null,null,null,null,null,null,null,null,null,null,null,null,null,null,null,null,null,null,null,null,null,null,null,null,null,null,null,null,null,null,null,null,null,null,null,null,null,null,null,null,null,null,null,null,null,null,null,null,null,null,null,null,null,null,null,null,null,null,null,null,null,null,null,null,null,null,null,null,null,null,null,null,null,null,null,null,null,null,null,null,null,null,null,null,null,null,null,null,null,null,null,null,null,null,null,null,null,null,null,null,null,null,null,null,null,null,null,null,null,null,null,null,null,null,null,null,null,null,null,null,null,null,null,null,null,null,null,null,null,null,null,null,null,null,null,null,null,null,null,null,null,null,null,null,null,null,null,null,null,null,null,null,null,null,null,null,null,null,null,null,null,null,null,null,null,null,null,null,null,null,null,null,null,null,null,null,null,null,null,null,null,null,null,null,null,null,null,null,null,null,null,null,null,null,null,null,null,null,null,null,null,null,null,null,null,null,null,null,null,null,null,null,null,null,null,null,null,null,null,null,null,null,null,null,null,null,null,null,null,null,null,null,null,null,null,null,null,null,null,null,null,null,null,null,null,null,null,null,null,null,null,null,null,null,null,null,null,null,null,null,null,null,null,null,null,null,null,null,null,null,null,null,null,null,null,null,null,null,null,null,null,null,null,null,null,null,null,null,null,null,null,null,null,null,null,null,null,null,null,null,null,null,null,null,null,null,null,null,null,null,null,null,null,null,null,null,null,null,null,null,null,null,null,null,null,null,null,null,null,null,null,null,null,null,null,null,null,null,null,null,null,null,null,null,null,null,null,null,null,null,null,null,null,null,null,null,null,null,null,null,null,null,null,null,null,null,null,null,null,null,null,null,null,null,null,null,null,null,null,null,null,null,null,null,null,null,null,null,null,null,null,null,null,null,null,null,null,null,null,null,null,null,null,null,null,null,null,null,null,null,null,null,null,null,null,null,null,null,null,null,null,null,null,null,null,null,null,null,null,null,null,null,null,null,null,null,null,null,null,null,null,null,null,null,null,null,null,null,null,null,null,null,null,null,null,null,null,null,null,null,null,null,null,null,null,null,null,null,null,null,null,null,null,null,null,null,null,null,null,null,null,null,null,null,null,null,null,null,null,null,null,null,null,null,null,null,null,null,null,null,null,null,null,null,null,null,null,null,null,null,null,null,null,null,null,null,null,null,null,null,null,null,null,null,null,null,null,null,null,null,null,null,null,null,null,null,null,null,null,null,null,null,null,null,null,null,null,null,null,null,null,null,null,null,null,null,null,null,null,null,null,null,null,null,null,null,null,null,null,null,null,null,null,null,null,null,null,null,null,null,null,null,null,null,null,null,null,null,null,null,null,null,null,null,null,null,null,null,null,null,null,null,null,null,null,null,null,null,null,null,null,null,null,null,null,null,null,null,null,null,null,null,null,null,null,null,null,null,null,null,null,null,null,null,null,null,null,null,null,null,null,null,null,null,null,null,null,null,null,null,null,null,null,null,null,null,null,null,null,null,null,null,null,null,null,null,null,null,null,null,null,null,null,null,null,null,null,null,null,null,null,null,null,null,null,null,null,null,null,null,null,null,null,null,null,null,null,null,null,null,null,null,null,null,null,null,null,null,null,null,null,null,null,null,null,null,null,null,null,null,null,null,null,null,null,null,null,null,null,null,null,null,null,null,null,null,null,null,null,null,null,null,null,null,null,null,null,null,null,null,null,null,null,null,null,null,null,null,null,null,null,null,null,null,null,null,null,null,null,null,null,null,null,null,null,null,null,null,null,null,null,null,null,null,null,null,null,null,null,null,null,null,null,null,null,null,null,null,null,null,null,null,null,null,null,null,null,null,null,null,null,null,null,null,null,null,null,null,null,null,null,null,null,null,null,null,null,null,null,null,null,null,null,null,null,null,null,null,null,null,null,null,null,null,null,null,null,null,null,null,null,null,null,null,null,null,null,null,null,null,null,null,null,null,null,null,null,null,null,null,null,null,null,null,null,null,null,null,null,null,null,null,null,null,null,null,null,null,null,null,null,null,null,null,null,null,null,null,null,null,null,null,null,null,null,null,null,null,null,null,null,null,null,null,null,null,null,null,null,null,null,null,null,null,null,null,null,null,null,null,null,null,null,null,null,null,null,null,null,null,null,null,null,null,null,null,null,null,null,null,null,null,null,null,null,null,null,null,null,null,null,null,null,null,null,null,null,null,null,null,null,null,null,null,null,null,null,null,null,null,null,null,null,null,null,null,null,null,null,null,null,null,null,null,null,null,null,null,null,null,null,null,null,null,null,null,null,null,null,null,null,null,null,null,null,null,null,null,null,null,null,null,null,null,null,null,null,null,null,null,null,null,null,null,null,null,null,null,null,null,null,null,null,null,null,null,null,null,null,null,null,null,null,null,null,null,null,null,null,null,null,null,null,null,null,null,null,null,null,null,null,null,null,null,null,null,null,null,null,null,null,null,null,null,null,null,null,null,null,null,null,null,null,null,null,null,null,null,null,null,null,null,null,null,null,null,null,null,null,null,null,null,null,null,null,null,null,null,null,null,null,null,null,null,null,null,null,null,null,null,null,null,null,null,null,null,null,null,null,null,null,null,null,null,null,null,null,null,null,null,null,null,null,null,null,null,null,null,null,null,null,null,null,null,null,null,null,null,null,null,null,null,null,null,null,null,null,null,null,null,null,null,null,null,null,null,null,null,null,null,null,null,null,null,null,null,null,null,null,null,null,null,null,null,null,null,null,null,null,null,null,null,null,null,null,null,null,null,null,null,null,null,null,null,null,null,null,null,null,null,null,null,null,null,null,null,null,null,null,null,null,null,null,null,null,null,null,null,null,null,null,null,null,null,null,null,null,null,null,null,null,null,null,null,null,null,null,null,null,null,null,null,null,null,null,null,null,null,null,null,null,null,null,null,null,null,null,null,null,null,null,null,null,null,null,null,null,null,null,null,null,null,null,null,null,null,null,null,null,null,null,null,null,null,null,null,null,null,null,null,null,null,null,null,null,null,null,null,null,null,null,null,null,null,null,null,null,null,null,null,null,null,null,null,null,null,null,null,null,null,null,null,null,null,null,null,null,null,null,null,null,null,null,null,null,null,null,null,null,null,null,null,null,null,null,null,null,null,null,null,null,null,null,null,null,null,null,null,null,null,null,null,null,null,null,null,null,null,null,null,null,null,null,null,null,null,null,null,null,null,null,null,null,null,null,null,null,null,null,null,null,null,null,null,null,null,null,null,null,null,null,null,null,null,null,null,null,null,null,null,null,null,null,null,null,null,null,null,null,null,null,null,null,null,null,null,null,null,null,null,null,null,null,null,null,null,null,null,null,null,null,null,null,null,null,null,null,null,null,null,null,null,null,null,null,null,null,null,null,null,null,null,null,null,null,null,null,null,null,null,null,null,null,null,null,null,null,null,null,null,null,null,null,null,null,null,null,null,null,null,null,null,null,null,null,null,null,null,null,null,null,null,null,null,null,null,null,null,null,null,null,null,null,null,null,null,null,null,null,null,null,null,null,null,null,null,null,null,null,null,null,null,null,null,null,null,null,null,null,null,null,null,null,null,null,null,null,null,null,null,null,null,null,null,null,null,null,null,null,null,null,null,null,null,null,null,null,null,null,null,null,null,null,null,null,null,null,null,null,null,null,null,null,null,null,null,null,null,null,null,null,null,null,null,null,null,null,null,null,null,null,null,null,null,null,null,null,null,null,null,null,null,null,null,null,null,null,null,null,null,null,null,null,null,null,null,null,null,null,null,null,null,null,null,null,null,null,null,null,null,null,null,null,null,null,null,null,null,null,null,null,null,null,null,null,null,null,null,null,null,null,null,null,null,null,null,null,null,null,null,null,null,null,null,null,null,null,null,null,null,null,null,null,null,null,null,null,null,null,null,null,null,null,null,null,null,null,null,null,null,null,null,null,null,null,null,null,null,null,null,null,null,null,null,null,null,null,null,null,null,null,null,null,null,null,null,null,null,null,null,null,null,null,null,null,null,null,null,null,null,null,null,null,null,null,null,null,null,null,null,null,null,null,null,null,null,null,null,null,null,null,null,null,null,null,null,null,null,null,null,null,null,null,null,null,null,null,null,null,null,null,null,null,null,null,null,null,null,null,null,null,null,null,null,null,null,null,null,null,null,null,null,null,null,null,null,null,null,null,null,null,null,null,null,null,null,null,null,null,null,null,null,null,null,null,null,null,null,null,null,null,null,null,null,null,null,null,null,null,null,null,null,null,null,null,null,null,null,null,null,null,null,null,null,null,null,null,null,null,null,null,null,null,null,null,null,null,null,null,null,null,null,null,null,null,null,null,null,null,null,null,null,null,null,null,null,null,null,null,null,null,null,null,null,null,null,null,null,null,null,null,null,null,null,null,null,null,null,null,null,null,null,null,null,null,null,null,null,null,null,null,null,null,null,null,null,null,null,null,null,null,null,null,null,null,null,null,null,null,null,null,null,null,null,null,null,null,null,null,null,null,null,null,null,null,null,null,null,null,null,null,null,null,null,null,null,null,null,null,null,null,null,null,null,null,null,null,null,null,null,null,null,null,null,null,null,null,null,null,null,null,null,null,null,null,null,null,null,null,null,null,null,null,null,null,null,null,null,null,null,null,null,null,null,null,null,null,null,null,null,null,null,null,null,null,null,null,null,null,null,null,null,null,null,null,null,null,null,null,null,null,null,null,null,null,null,null,null,null,null,null,null,null,null,null,null,null,null,null,null,null,null,null,null,null,null,null,null,null,null,null,null,null,null,null,null,null,null,null,null,null,null,null,null,null,null,null,null,null,null,null,null,null,null,null,null,null,null,null,null,null,null,null,null,null,null,null,null,null,null,null,null,null,null,null,null,null,null,null,null,null,null,null,null,null,null,null,null,null,null,null,null,null,null,null,null,null,null,null,null,null,null,null,null,null,null,null,null,null,null,null,null,null,null,null,null,null,null,null,null,null,null,null,null,null,null,null,null,null,null,null,null,null,null,null,null,null,null,null,null,null,null,null,null,null,null,null,null,null,null,null,null,null,null,null,null,null,null,null,null,null,null,null,null,null,null,null,null,null,null,null,null,null,null,null,null,null,null,null,null,null,null,null,null,null,null,null,null,null,null,null,null,null,null,null,null,null,null,null,null,null,null,null,null,null,null,null,null,null,null,null,null,null,null,null,null,null,null,null,null,null,null,null,null,null,null,null,null,null,null,null,null,null,null,null,null,null,null,null,null,null,null,null,null,null,null,null,null,null,null,null,null,null,null,null,null,null,null,null,null,null,null,null,null,null,null,null,null,null,null,null,null,null,null,null,null,null,null,null,null,null,null,null,null,null,null,null,null,null,null,null,null,null,null,null,null,null,null,null,null,null,null,null,null,null,null,null,null,null,null,null,null,null,null,null,null,null,null,null,null,null,null,null,null,null,null,null,null,null,null,null,null,null,null,null,null,null,null,null,null,null,null,null,null,null,null,null,null,null,null,null,null,null,null,null,null,null,null,null,null,null,null,null,null,null,null,null,null,null,null,null,null,null,null,null,null,null,null,null,null,null,null,null,null,null,null,null,null,null,null,null,null,null,null,null,null,null,null,null,null,null,null,null,null,null,null,null,null,null,null,null,null,null,null,null,null,null,null,null,null,null,null,null,null,null,null,null,null,null,null,null,null,null,null,null,null,null,null,null,null,null,null,null,null,null,null,null,null,null,null,null,null,null,null,null,null,null,null,null,null,null,null,null,null,null,null,null,null,null,null,null,null,null,null,null,null,null,null,null,null,null,null,null,null,null,null,null,null,null,null,null,null,null,null,null,null,null,null,null,null,null,null,null,null,null,null,null,null,null,null,null,null,null,null,null,null,null,null,null,null,null,null,null,null,null,null,null,null,null,null,null,null,null,null,null,null,null,null,null,null,null,null,null,null,null,null,null,null,null,null,null,null,null,null,null,null,null,null,null,null,null,null,null,null,null,null,null,null,null,null,null,null,"Type ",null,"SUBSTITUTION"]

{"sheet":"L5A","index":8,"n_rows":266,"n_cols":23,"rows_kept":266,"cut":false,"hidden":true,"merged":[[0,0,1,1]]}
["QNST05_A",null,null,null,null,null,null,null,null,null,null,null,null,null,null,"01 - Medical Expenses insurance ","S2C_LB:X183",null,"Austria","AT"]
[null,null,null,null,null,null,null,null,null,null,null,null,null,null,null,"13 - Medical Expense proportional reinsurance ","S2C_LB:X148",null,"ÅLAND ISLANDS","AX"]
["Jurisdiction","Line of business","FOS / FOE/ Non-EEA","Gross Written Premium","Number of contracts written","Gross Commissions","Number of contracts",null,null,null,null,null,null,null,null,"02 - Income Protection insurance ","S2C_LB:X184",null,"AMERICAN SAMOA","AS",null,null,"01 - Medical Expenses insurance "]
[{"$f":"IF(QNST05_A!B13=\"\",\"\",VLOOKUP(QNST05_A!B13,L5A!$S$1:$T$260,2,FALSE))","v":""},{"$f":"IF(A4=\"W0\",$Q$29,IF(QNST05_A!C13=\"\",\"\",VLOOKUP(QNST05_A!C13,L5A!$P$1:$Q$29,2,FALSE)))","v":""},{"$f":"IF(A4=\"W0\",$L$21,IF(QNST05_A!D13=\"\",\"\",VLOOKUP(QNST05_A!D13,$K$18:$L$21,2,FALSE)))","v":""},{"$f":"IF(ISERROR(ROUND(QNST05_A!E13,4))=TRUE,\"\",ROUND(QNST05_A!E13,4))","v":0},{"$f":"IF(ISERROR(ROUND(QNST05_A!F13,4))=TRUE,\"\",ROUND(QNST05_A!F13,4))","v":0},{"$f":"IF(ISERROR(ROUND(QNST05_A!G13,4))=TRUE,\"\",ROUND(QNST05_A!G13,4))","v":0},{"$f":"IF(ISERROR(ROUND(QNST05_A!H13,4))=TRUE,\"\",ROUND(QNST05_A!H13,4))","v":0},null,null,null,null,null,null,null,null,"14 - Income Protection proportional reinsurance ","S2C_LB:X149",null,"ANGUILLA","AI",null,null,"02 - Income Protection insurance "]
[{"$f":"IF(QNST05_A!B14=\"\",\"\",VLOOKUP(QNST05_A!B14,L5A!$S$1:$T$260,2,FALSE))","v":""},{"$f":"IF(A5=\"W0\",$Q$29,IF(QNST05_A!C14=\"\",\"\",VLOOKUP(QNST05_A!C14,L5A!$P$1:$Q$29,2,FALSE)))","v":""},{"$f":"IF(A5=\"W0\",$L$21,IF(QNST05_A!D14=\"\",\"\",VLOOKUP(QNST05_A!D14,$K$18:$L$21,2,FALSE)))","v":""},{"$f":"IF(ISERROR(ROUND(QNST05_A!E14,4))=TRUE,\"\",ROUND(QNST05_A!E14,4))","v":0},{"$f":"IF(ISERROR(ROUND(QNST05_A!F14,4))=TRUE,\"\",ROUND(QNST05_A!F14,4))","v":0},{"$f":"IF(ISERROR(ROUND(QNST05_A!G14,4))=TRUE,\"\",ROUND(QNST05_A!G14,4))","v":0},{"$f":"IF(ISERROR(ROUND(QNST05_A!H14,4))=TRUE,\"\",ROUND(QNST05_A!H14,4))","v":0},null,null,null,null,null,null,null,null,"03 - Workers’ Compensation insurance ","S2C_LB:X185",null,"ANTARCTICA","AQ",null,null,"03 - Workers’ Compensation insurance "]
[{"$f":"IF(QNST05_A!B15=\"\",\"\",VLOOKUP(QNST05_A!B15,L5A!$S$1:$T$260,2,FALSE))","v":""},{"$f":"IF(A6=\"W0\",$Q$29,IF(QNST05_A!C15=\"\",\"\",VLOOKUP(QNST05_A!C15,L5A!$P$1:$Q$29,2,FALSE)))","v":""},{"$f":"IF(A6=\"W0\",$L$21,IF(QNST05_A!D15=\"\",\"\",VLOOKUP(QNST05_A!D15,$K$18:$L$21,2,FALSE)))","v":""},{"$f":"IF(ISERROR(ROUND(QNST05_A!E15,4))=TRUE,\"\",ROUND(QNST05_A!E15,4))","v":0},{"$f":"IF(ISERROR(ROUND(QNST05_A!F15,4))=TRUE,\"\",ROUND(QNST05_A!F15,4))","v":0},{"$f":"IF(ISERROR(ROUND(QNST05_A!G15,4))=TRUE,\"\",ROUND(QNST05_A!G15,4))","v":0},{"$f":"IF(ISERROR(ROUND(QNST05_A!H15,4))=TRUE,\"\",ROUND(QNST05_A!H15,4))","v":0},null,null,null,null,null,null,null,null,"15 - Workers’ compensation proportional reinsurance ","S2C_LB:X150",null,"ARUBA","AW",null,null,"04 - Motor Vehicle Liability insurance"]
[{"$f":"IF(QNST05_A!B16=\"\",\"\",VLOOKUP(QNST05_A!B16,L5A!$S$1:$T$260,2,FALSE))","v":""},{"$f":"IF(A7=\"W0\",$Q$29,IF(QNST05_A!C16=\"\",\"\",VLOOKUP(QNST05_A!C16,L5A!$P$1:$Q$29,2,FALSE)))","v":""},{"$f":"IF(A7=\"W0\",$L$21,IF(QNST05_A!D16=\"\",\"\",VLOOKUP(QNST05_A!D16,$K$18:$L$21,2,FALSE)))","v":""},{"$f":"IF(ISERROR(ROUND(QNST05_A!E16,4))=TRUE,\"\",ROUND(QNST05_A!E16,4))","v":0},{"$f":"IF(ISERROR(ROUND(QNST05_A!F16,4))=TRUE,\"\",ROUND(QNST05_A!F16,4))","v":0},{"$f":"IF(ISERROR(ROUND(QNST05_A!G16,4))=TRUE,\"\",ROUND(QNST05_A!G16,4))","v":0},{"$f":"IF(ISERROR(ROUND(QNST05_A!H16,4))=TRUE,\"\",ROUND(QNST05_A!H16,4))","v":0},null,null,null,null,null,null,null,null,"04 - Motor Vehicle Liability insurance","S2C_LB:X186",null,"BERMUDA","BM",null,null,"05 - Other Motor insurance"]
[{"$f":"IF(QNST05_A!B17=\"\",\"\",VLOOKUP(QNST05_A!B17,L5A!$S$1:$T$260,2,FALSE))","v":""},{"$f":"IF(A8=\"W0\",$Q$29,IF(QNST05_A!C17=\"\",\"\",VLOOKUP(QNST05_A!C17,L5A!$P$1:$Q$29,2,FALSE)))","v":""},{"$f":"IF(A8=\"W0\",$L$21,IF(QNST05_A!D17=\"\",\"\",VLOOKUP(QNST05_A!D17,$K$18:$L$21,2,FALSE)))","v":""},{"$f":"IF(ISERROR(ROUND(QNST05_A!E17,4))=TRUE,\"\",ROUND(QNST05_A!E17,4))","v":0},{"$f":"IF(ISERROR(ROUND(QNST05_A!F17,4))=TRUE,\"\",ROUND(QNST05_A!F17,4))","v":0},{"$f":"IF(ISERROR(ROUND(QNST05_A!G17,4))=TRUE,\"\",ROUND(QNST05_A!G17,4))","v":0},{"$f":"IF(ISERROR(ROUND(QNST05_A!H17,4))=TRUE,\"\",ROUND(QNST05_A!H17,4))","v":0},null,null,null,null,null,null,null,null,"16 - Motor Vehicle Liability proportional reinsurance","S2C_LB:X151",null,"Belgium","BE",null,null,"06 - Marine, aviation and transport insurance"]
[{"$f":"IF(QNST05_A!B18=\"\",\"\",VLOOKUP(QNST05_A!B18,L5A!$S$1:$T$260,2,FALSE))","v":""},{"$f":"IF(A9=\"W0\",$Q$29,IF(QNST05_A!C18=\"\",\"\",VLOOKUP(QNST05_A!C18,L5A!$P$1:$Q$29,2,FALSE)))","v":""},{"$f":"IF(A9=\"W0\",$L$21,IF(QNST05_A!D18=\"\",\"\",VLOOKUP(QNST05_A!D18,$K$18:$L$21,2,FALSE)))","v":""},{"$f":"IF(ISERROR(ROUND(QNST05_A!E18,4))=TRUE,\"\",ROUND(QNST05_A!E18,4))","v":0},{"$f":"IF(ISERROR(ROUND(QNST05_A!F18,4))=TRUE,\"\",ROUND(QNST05_A!F18,4))","v":0},{"$f":"IF(ISERROR(ROUND(QNST05_A!G18,4))=TRUE,\"\",ROUND(QNST05_A!G18,4))","v":0},{"$f":"IF(ISERROR(ROUND(QNST05_A!H18,4))=TRUE,\"\",ROUND(QNST05_A!H18,4))","v":0},null,null,null,null,null,null,null,null,"05 - Other Motor insurance","S2C_LB:X187",null,"Bulgaria","BG",null,null,"07 - Fire and other damage to property insurance "]
[{"$f":"IF(QNST05_A!B19=\"\",\"\",VLOOKUP(QNST05_A!B19,L5A!$S$1:$T$260,2,FALSE))","v":""},{"$f":"IF(A10=\"W0\",$Q$29,IF(QNST05_A!C19=\"\",\"\",VLOOKUP(QNST05_A!C19,L5A!$P$1:$Q$29,2,FALSE)))","v":""},{"$f":"IF(A10=\"W0\",$L$21,IF(QNST05_A!D19=\"\",\"\",VLOOKUP(QNST05_A!D19,$K$18:$L$21,2,FALSE)))","v":""},{"$f":"IF(ISERROR(ROUND(QNST05_A!E19,4))=TRUE,\"\",ROUND(QNST05_A!E19,4))","v":0},{"$f":"IF(ISERROR(ROUND(QNST05_A!F19,4))=TRUE,\"\",ROUND(QNST05_A!F19,4))","v":0},{"$f":"IF(ISERROR(ROUND(QNST05_A!G19,4))=TRUE,\"\",ROUND(QNST05_A!G19,4))","v":0},{"$f":"IF(ISERROR(ROUND(QNST05_A!H19,4))=TRUE,\"\",ROUND(QNST05_A!H19,4))","v":0},null,null,null,null,null,null,null,null,"17 - Other Motor proportional reinsurance","S2C_LB:X152",null,"Croatia","HR",null,null,"08 - General liability insurance"]
[{"$f":"IF(QNST05_A!B20=\"\",\"\",VLOOKUP(QNST05_A!B20,L5A!$S$1:$T$260,2,FALSE))","v":""},{"$f":"IF(A11=\"W0\",$Q$29,IF(QNST05_A!C20=\"\",\"\",VLOOKUP(QNST05_A!C20,L5A!$P$1:$Q$29,2,FALSE)))","v":""},{"$f":"IF(A11=\"W0\",$L$21,IF(QNST05_A!D20=\"\",\"\",VLOOKUP(QNST05_A!D20,$K$18:$L$21,2,FALSE)))","v":""},{"$f":"IF(ISERROR(ROUND(QNST05_A!E20,4))=TRUE,\"\",ROUND(QNST05_A!E20,4))","v":0},{"$f":"IF(ISERROR(ROUND(QNST05_A!F20,4))=TRUE,\"\",ROUND(QNST05_A!F20,4))","v":0},{"$f":"IF(ISERROR(ROUND(QNST05_A!G20,4))=TRUE,\"\",ROUND(QNST05_A!G20,4))","v":0},{"$f":"IF(ISERROR(ROUND(QNST05_A!H20,4))=TRUE,\"\",ROUND(QNST05_A!H20,4))","v":0},null,null,null,null,null,null,null,null,"06 - Marine, aviation and transport insurance","S2C_LB:X188",null,"CYPRUS","CY",null,null,"09 - Credit and suretyship insurance "]
[{"$f":"IF(QNST05_A!B21=\"\",\"\",VLOOKUP(QNST05_A!B21,L5A!$S$1:$T$260,2,FALSE))","v":""},{"$f":"IF(A12=\"W0\",$Q$29,IF(QNST05_A!C21=\"\",\"\",VLOOKUP(QNST05_A!C21,L5A!$P$1:$Q$29,2,FALSE)))","v":""},{"$f":"IF(A12=\"W0\",$L$21,IF(QNST05_A!D21=\"\",\"\",VLOOKUP(QNST05_A!D21,$K$18:$L$21,2,FALSE)))","v":""},{"$f":"IF(ISERROR(ROUND(QNST05_A!E21,4))=TRUE,\"\",ROUND(QNST05_A!E21,4))","v":0},{"$f":"IF(ISERROR(ROUND(QNST05_A!F21,4))=TRUE,\"\",ROUND(QNST05_A!F21,4))","v":0},{"$f":"IF(ISERROR(ROUND(QNST05_A!G21,4))=TRUE,\"\",ROUND(QNST05_A!G21,4))","v":0},{"$f":"IF(ISERROR(ROUND(QNST05_A!H21,4))=TRUE,\"\",ROUND(QNST05_A!H21,4))","v":0},null,null,null,null,null,null,null,null,"18 - Marine, aviation and transport proportional reinsurance","S2C_LB:X153",null,"CZECHIA","CZ",null,null,"10 - Legal expenses insurance"]
[{"$f":"IF(QNST05_A!B22=\"\",\"\",VLOOKUP(QNST05_A!B22,L5A!$S$1:$T$260,2,FALSE))","v":""},{"$f":"IF(A13=\"W0\",$Q$29,IF(QNST05_A!C22=\"\",\"\",VLOOKUP(QNST05_A!C22,L5A!$P$1:$Q$29,2,FALSE)))","v":""},{"$f":"IF(A13=\"W0\",$L$21,IF(QNST05_A!D22=\"\",\"\",VLOOKUP(QNST05_A!D22,$K$18:$L$21,2,FALSE)))","v":""},{"$f":"IF(ISERROR(ROUND(QNST05_A!E22,4))=TRUE,\"\",ROUND(QNST05_A!E22,4))","v":0},{"$f":"IF(ISERROR(ROUND(QNST05_A!F22,4))=TRUE,\"\",ROUND(QNST05_A!F22,4))","v":0},{"$f":"IF(ISERROR(ROUND(QNST05_A!G22,4))=TRUE,\"\",ROUND(QNST05_A!G22,4))","v":0},{"$f":"IF(ISERROR(ROUND(QNST05_A!H22,4))=TRUE,\"\",ROUND(QNST05_A!H22,4))","v":0},null,null,null,null,null,null,null,null,"07 - Fire and other damage to property insurance ","S2C_LB:X189",null,"Denmark","DK",null,null,"11 - Assistance"]
[{"$f":"IF(QNST05_A!B23=\"\",\"\",VLOOKUP(QNST05_A!B23,L5A!$S$1:$T$260,2,FALSE))","v":""},{"$f":"IF(A14=\"W0\",$Q$29,IF(QNST05_A!C23=\"\",\"\",VLOOKUP(QNST05_A!C23,L5A!$P$1:$Q$29,2,FALSE)))","v":""},{"$f":"IF(A14=\"W0\",$L$21,IF(QNST05_A!D23=\"\",\"\",VLOOKUP(QNST05_A!D23,$K$18:$L$21,2,FALSE)))","v":""},{"$f":"IF(ISERROR(ROUND(QNST05_A!E23,4))=TRUE,\"\",ROUND(QNST05_A!E23,4))","v":0},{"$f":"IF(ISERROR(ROUND(QNST05_A!F23,4))=TRUE,\"\",ROUND(QNST05_A!F23,4))","v":0},{"$f":"IF(ISERROR(ROUND(QNST05_A!G23,4))=TRUE,\"\",ROUND(QNST05_A!G23,4))","v":0},{"$f":"IF(ISERROR(ROUND(QNST05_A!H23,4))=TRUE,\"\",ROUND(QNST05_A!H23,4))","v":0},null,null,null,null,null,null,null,null,"19 - Fire and other damage to property proportional reinsurance ","S2C_LB:X154",null,"Estonia","EE",null,null,"12 - Miscellaneous financial loss "]
[{"$f":"IF(QNST05_A!B24=\"\",\"\",VLOOKUP(QNST05_A!B24,L5A!$S$1:$T$260,2,FALSE))","v":""},{"$f":"IF(A15=\"W0\",$Q$29,IF(QNST05_A!C24=\"\",\"\",VLOOKUP(QNST05_A!C24,L5A!$P$1:$Q$29,2,FALSE)))","v":""},{"$f":"IF(A15=\"W0\",$L$21,IF(QNST05_A!D24=\"\",\"\",VLOOKUP(QNST05_A!D24,$K$18:$L$21,2,FALSE)))","v":""},{"$f":"IF(ISERROR(ROUND(QNST05_A!E24,4))=TRUE,\"\",ROUND(QNST05_A!E24,4))","v":0},{"$f":"IF(ISERROR(ROUND(QNST05_A!F24,4))=TRUE,\"\",ROUND(QNST05_A!F24,4))","v":0},{"$f":"IF(ISERROR(ROUND(QNST05_A!G24,4))=TRUE,\"\",ROUND(QNST05_A!G24,4))","v":0},{"$f":"IF(ISERROR(ROUND(QNST05_A!H24,4))=TRUE,\"\",ROUND(QNST05_A!H24,4))","v":0},null,null,null,null,null,null,null,null,"08 - General liability insurance","S2C_LB:X190",null,"Finland","FI",null,null,"13 - Medical Expense proportional reinsurance "]
[{"$f":"IF(QNST05_A!B25=\"\",\"\",VLOOKUP(QNST05_A!B25,L5A!$S$1:$T$260,2,FALSE))","v":""},{"$f":"IF(A16=\"W0\",$Q$29,IF(QNST05_A!C25=\"\",\"\",VLOOKUP(QNST05_A!C25,L5A!$P$1:$Q$29,2,FALSE)))","v":""},{"$f":"IF(A16=\"W0\",$L$21,IF(QNST05_A!D25=\"\",\"\",VLOOKUP(QNST05_A!D25,$K$18:$L$21,2,FALSE)))","v":""},{"$f":"IF(ISERROR(ROUND(QNST05_A!E25,4))=TRUE,\"\",ROUND(QNST05_A!E25,4))","v":0},{"$f":"IF(ISERROR(ROUND(QNST05_A!F25,4))=TRUE,\"\",ROUND(QNST05_A!F25,4))","v":0},{"$f":"IF(ISERROR(ROUND(QNST05_A!G25,4))=TRUE,\"\",ROUND(QNST05_A!G25,4))","v":0},{"$f":"IF(ISERROR(ROUND(QNST05_A!H25,4))=TRUE,\"\",ROUND(QNST05_A!H25,4))","v":0},null,null,null,null,null,null,null,null,"20 - General liability proportional reinsurance","S2C_LB:X155",null,"France","FR",null,null,"14 - Income Protection proportional reinsurance "]
[{"$f":"IF(QNST05_A!B26=\"\",\"\",VLOOKUP(QNST05_A!B26,L5A!$S$1:$T$260,2,FALSE))","v":""},{"$f":"IF(A17=\"W0\",$Q$29,IF(QNST05_A!C26=\"\",\"\",VLOOKUP(QNST05_A!C26,L5A!$P$1:$Q$29,2,FALSE)))","v":""},{"$f":"IF(A17=\"W0\",$L$21,IF(QNST05_A!D26=\"\",\"\",VLOOKUP(QNST05_A!D26,$K$18:$L$21,2,FALSE)))","v":""},{"$f":"IF(ISERROR(ROUND(QNST05_A!E26,4))=TRUE,\"\",ROUND(QNST05_A!E26,4))","v":0},{"$f":"IF(ISERROR(ROUND(QNST05_A!F26,4))=TRUE,\"\",ROUND(QNST05_A!F26,4))","v":0},{"$f":"IF(ISERROR(ROUND(QNST05_A!G26,4))=TRUE,\"\",ROUND(QNST05_A!G26,4))","v":0},{"$f":"IF(ISERROR(ROUND(QNST05_A!H26,4))=TRUE,\"\",ROUND(QNST05_A!H26,4))","v":0},null,null,null,null,null,null,null,null,"09 - Credit and suretyship insurance ","S2C_LB:X191",null,"Germany","DE",null,null,"15 - Workers’ compensation proportional reinsurance "]
[{"$f":"IF(QNST05_A!B27=\"\",\"\",VLOOKUP(QNST05_A!B27,L5A!$S$1:$T$260,2,FALSE))","v":""},{"$f":"IF(A18=\"W0\",$Q$29,IF(QNST05_A!C27=\"\",\"\",VLOOKUP(QNST05_A!C27,L5A!$P$1:$Q$29,2,FALSE)))","v":""},{"$f":"IF(A18=\"W0\",$L$21,IF(QNST05_A!D27=\"\",\"\",VLOOKUP(QNST05_A!D27,$K$18:$L$21,2,FALSE)))","v":""},{"$f":"IF(ISERROR(ROUND(QNST05_A!E27,4))=TRUE,\"\",ROUND(QNST05_A!E27,4))","v":0},{"$f":"IF(ISERROR(ROUND(QNST05_A!F27,4))=TRUE,\"\",ROUND(QNST05_A!F27,4))","v":0},{"$f":"IF(ISERROR(ROUND(QNST05_A!G27,4))=TRUE,\"\",ROUND(QNST05_A!G27,4))","v":0},{"$f":"IF(ISERROR(ROUND(QNST05_A!H27,4))=TRUE,\"\",ROUND(QNST05_A!H27,4))","v":0},null,null,null,"FOS","FOS",null,null,null,"21 - Credit and suretyship proportional reinsurance ","S2C_LB:X156",null,"Greece","GR",null,null,"16 - Motor Vehicle Liability proportional reinsurance"]
[{"$f":"IF(QNST05_A!B28=\"\",\"\",VLOOKUP(QNST05_A!B28,L5A!$S$1:$T$260,2,FALSE))","v":""},{"$f":"IF(A19=\"W0\",$Q$29,IF(QNST05_A!C28=\"\",\"\",VLOOKUP(QNST05_A!C28,L5A!$P$1:$Q$29,2,FALSE)))","v":""},{"$f":"IF(A19=\"W0\",$L$21,IF(QNST05_A!D28=\"\",\"\",VLOOKUP(QNST05_A!D28,$K$18:$L$21,2,FALSE)))","v":""},{"$f":"IF(ISERROR(ROUND(QNST05_A!E28,4))=TRUE,\"\",ROUND(QNST05_A!E28,4))","v":0},{"$f":"IF(ISERROR(ROUND(QNST05_A!F28,4))=TRUE,\"\",ROUND(QNST05_A!F28,4))","v":0},{"$f":"IF(ISERROR(ROUND(QNST05_A!G28,4))=TRUE,\"\",ROUND(QNST05_A!G28,4))","v":0},{"$f":"IF(ISERROR(ROUND(QNST05_A!H28,4))=TRUE,\"\",ROUND(QNST05_A!H28,4))","v":0},null,null,null,"FOE","FOE",null,null,null,"10 - Legal expenses insurance","S2C_LB:X192",null,"Hungary","HU",null,null,"17 - Other Motor proportional reinsurance"]
[{"$f":"IF(QNST05_A!B29=\"\",\"\",VLOOKUP(QNST05_A!B29,L5A!$S$1:$T$260,2,FALSE))","v":""},{"$f":"IF(A20=\"W0\",$Q$29,IF(QNST05_A!C29=\"\",\"\",VLOOKUP(QNST05_A!C29,L5A!$P$1:$Q$29,2,FALSE)))","v":""},{"$f":"IF(A20=\"W0\",$L$21,IF(QNST05_A!D29=\"\",\"\",VLOOKUP(QNST05_A!D29,$K$18:$L$21,2,FALSE)))","v":""},{"$f":"IF(ISERROR(ROUND(QNST05_A!E29,4))=TRUE,\"\",ROUND(QNST05_A!E29,4))","v":0},{"$f":"IF(ISERROR(ROUND(QNST05_A!F29,4))=TRUE,\"\",ROUND(QNST05_A!F29,4))","v":0},{"$f":"IF(ISERROR(ROUND(QNST05_A!G29,4))=TRUE,\"\",ROUND(QNST05_A!G29,4))","v":0},{"$f":"IF(ISERROR(ROUND(QNST05_A!H29,4))=TRUE,\"\",ROUND(QNST05_A!H29,4))","v":0},null,null,null,"NON-EEA","NONEEA",null,null,null,"22 - Legal expenses proportional reinsurance","S2C_LB:X157",null,"Ireland","IE",null,null,"18 - Marine, aviation and transport proportional reinsurance"]
[{"$f":"IF(QNST05_A!B30=\"\",\"\",VLOOKUP(QNST05_A!B30,L5A!$S$1:$T$260,2,FALSE))","v":""},{"$f":"IF(A21=\"W0\",$Q$29,IF(QNST05_A!C30=\"\",\"\",VLOOKUP(QNST05_A!C30,L5A!$P$1:$Q$29,2,FALSE)))","v":""},{"$f":"IF(A21=\"W0\",$L$21,IF(QNST05_A!D30=\"\",\"\",VLOOKUP(QNST05_A!D30,$K$18:$L$21,2,FALSE)))","v":""},{"$f":"IF(ISERROR(ROUND(QNST05_A!E30,4))=TRUE,\"\",ROUND(QNST05_A!E30,4))","v":0},{"$f":"IF(ISERROR(ROUND(QNST05_A!F30,4))=TRUE,\"\",ROUND(QNST05_A!F30,4))","v":0},{"$f":"IF(ISERROR(ROUND(QNST05_A!G30,4))=TRUE,\"\",ROUND(QNST05_A!G30,4))","v":0},{"$f":"IF(ISERROR(ROUND(QNST05_A!H30,4))=TRUE,\"\",ROUND(QNST05_A!H30,4))","v":0},null,null,null,"NOT APPLICABLE",0,null,null,null,"11 - Assistance","S2C_LB:X193",null,"Italy","IT",null,null,"19 - Fire and other damage to property proportional reinsurance "]
[{"$f":"IF(QNST05_A!B31=\"\",\"\",VLOOKUP(QNST05_A!B31,L5A!$S$1:$T$260,2,FALSE))","v":""},{"$f":"IF(A22=\"W0\",$Q$29,IF(QNST05_A!C31=\"\",\"\",VLOOKUP(QNST05_A!C31,L5A!$P$1:$Q$29,2,FALSE)))","v":""},{"$f":"IF(A22=\"W0\",$L$21,IF(QNST05_A!D31=\"\",\"\",VLOOKUP(QNST05_A!D31,$K$18:$L$21,2,FALSE)))","v":""},{"$f":"IF(ISERROR(ROUND(QNST05_A!E31,4))=TRUE,\"\",ROUND(QNST05_A!E31,4))","v":0},{"$f":"IF(ISERROR(ROUND(QNST05_A!F31,4))=TRUE,\"\",ROUND(QNST05_A!F31,4))","v":0},{"$f":"IF(ISERROR(ROUND(QNST05_A!G31,4))=TRUE,\"\",ROUND(QNST05_A!G31,4))","v":0},{"$f":"IF(ISERROR(ROUND(QNST05_A!H31,4))=TRUE,\"\",ROUND(QNST05_A!H31,4))","v":0},null,null,null,null,null,null,null,null,"23 - Assistance proportional reinsurance ","S2C_LB:X158",null,"Latvia","LV",null,null,"20 - General liability proportional reinsurance"]
[{"$f":"IF(QNST05_A!B32=\"\",\"\",VLOOKUP(QNST05_A!B32,L5A!$S$1:$T$260,2,FALSE))","v":""},{"$f":"IF(A23=\"W0\",$Q$29,IF(QNST05_A!C32=\"\",\"\",VLOOKUP(QNST05_A!C32,L5A!$P$1:$Q$29,2,FALSE)))","v":""},{"$f":"IF(A23=\"W0\",$L$21,IF(QNST05_A!D32=\"\",\"\",VLOOKUP(QNST05_A!D32,$K$18:$L$21,2,FALSE)))","v":""},{"$f":"IF(ISERROR(ROUND(QNST05_A!E32,4))=TRUE,\"\",ROUND(QNST05_A!E32,4))","v":0},{"$f":"IF(ISERROR(ROUND(QNST05_A!F32,4))=TRUE,\"\",ROUND(QNST05_A!F32,4))","v":0},{"$f":"IF(ISERROR(ROUND(QNST05_A!G32,4))=TRUE,\"\",ROUND(QNST05_A!G32,4))","v":0},{"$f":"IF(ISERROR(ROUND(QNST05_A!H32,4))=TRUE,\"\",ROUND(QNST05_A!H32,4))","v":0},null,null,null,null,null,null,null,null,"12 - Miscellaneous financial loss ","S2C_LB:X194",null,"Lithuania","LT",null,null,"21 - Credit and suretyship proportional reinsurance "]
[{"$f":"IF(QNST05_A!B33=\"\",\"\",VLOOKUP(QNST05_A!B33,L5A!$S$1:$T$260,2,FALSE))","v":""},{"$f":"IF(A24=\"W0\",$Q$29,IF(QNST05_A!C33=\"\",\"\",VLOOKUP(QNST05_A!C33,L5A!$P$1:$Q$29,2,FALSE)))","v":""},{"$f":"IF(A24=\"W0\",$L$21,IF(QNST05_A!D33=\"\",\"\",VLOOKUP(QNST05_A!D33,$K$18:$L$21,2,FALSE)))","v":""},{"$f":"IF(ISERROR(ROUND(QNST05_A!E33,4))=TRUE,\"\",ROUND(QNST05_A!E33,4))","v":0},{"$f":"IF(ISERROR(ROUND(QNST05_A!F33,4))=TRUE,\"\",ROUND(QNST05_A!F33,4))","v":0},{"$f":"IF(ISERROR(ROUND(QNST05_A!G33,4))=TRUE,\"\",ROUND(QNST05_A!G33,4))","v":0},{"$f":"IF(ISERROR(ROUND(QNST05_A!H33,4))=TRUE,\"\",ROUND(QNST05_A!H33,4))","v":0},null,null,null,null,null,null,null,null,"24 - Miscellaneous financial loss proportional reinsurance ","S2C_LB:X159",null,"Luxembourg","LU",null,null,"22 - Legal expenses proportional reinsurance"]
[{"$f":"IF(QNST05_A!B34=\"\",\"\",VLOOKUP(QNST05_A!B34,L5A!$S$1:$T$260,2,FALSE))","v":""},{"$f":"IF(A25=\"W0\",$Q$29,IF(QNST05_A!C34=\"\",\"\",VLOOKUP(QNST05_A!C34,L5A!$P$1:$Q$29,2,FALSE)))","v":""},{"$f":"IF(A25=\"W0\",$L$21,IF(QNST05_A!D34=\"\",\"\",VLOOKUP(QNST05_A!D34,$K$18:$L$21,2,FALSE)))","v":""},{"$f":"IF(ISERROR(ROUND(QNST05_A!E34,4))=TRUE,\"\",ROUND(QNST05_A!E34,4))","v":0},{"$f":"IF(ISERROR(ROUND(QNST05_A!F34,4))=TRUE,\"\",ROUND(QNST05_A!F34,4))","v":0},{"$f":"IF(ISERROR(ROUND(QNST05_A!G34,4))=TRUE,\"\",ROUND(QNST05_A!G34,4))","v":0},{"$f":"IF(ISERROR(ROUND(QNST05_A!H34,4))=TRUE,\"\",ROUND(QNST05_A!H34,4))","v":0},null,null,null,null,null,null,null,null,"25 - Non-proportional health reinsurance ","S2C_LB:X42",null,"Netherlands","NL",null,null,"23 - Assistance proportional reinsurance "]
[{"$f":"IF(QNST05_A!B35=\"\",\"\",VLOOKUP(QNST05_A!B35,L5A!$S$1:$T$260,2,FALSE))","v":""},{"$f":"IF(A26=\"W0\",$Q$29,IF(QNST05_A!C35=\"\",\"\",VLOOKUP(QNST05_A!C35,L5A!$P$1:$Q$29,2,FALSE)))","v":""},{"$f":"IF(A26=\"W0\",$L$21,IF(QNST05_A!D35=\"\",\"\",VLOOKUP(QNST05_A!D35,$K$18:$L$21,2,FALSE)))","v":""},{"$f":"IF(ISERROR(ROUND(QNST05_A!E35,4))=TRUE,\"\",ROUND(QNST05_A!E35,4))","v":0},{"$f":"IF(ISERROR(ROUND(QNST05_A!F35,4))=TRUE,\"\",ROUND(QNST05_A!F35,4))","v":0},{"$f":"IF(ISERROR(ROUND(QNST05_A!G35,4))=TRUE,\"\",ROUND(QNST05_A!G35,4))","v":0},{"$f":"IF(ISERROR(ROUND(QNST05_A!H35,4))=TRUE,\"\",ROUND(QNST05_A!H35,4))","v":0},null,null,null,null,null,null,null,null,"26 - Non-proportional casualty reinsurance ","S2C_LB:X14",null,"Poland","PL",null,null,"24 - Miscellaneous financial loss proportional reinsurance "]
[{"$f":"IF(QNST05_A!B36=\"\",\"\",VLOOKUP(QNST05_A!B36,L5A!$S$1:$T$260,2,FALSE))","v":""},{"$f":"IF(A27=\"W0\",$Q$29,IF(QNST05_A!C36=\"\",\"\",VLOOKUP(QNST05_A!C36,L5A!$P$1:$Q$29,2,FALSE)))","v":""},{"$f":"IF(A27=\"W0\",$L$21,IF(QNST05_A!D36=\"\",\"\",VLOOKUP(QNST05_A!D36,$K$18:$L$21,2,FALSE)))","v":""},{"$f":"IF(ISERROR(ROUND(QNST05_A!E36,4))=TRUE,\"\",ROUND(QNST05_A!E36,4))","v":0},{"$f":"IF(ISERROR(ROUND(QNST05_A!F36,4))=TRUE,\"\",ROUND(QNST05_A!F36,4))","v":0},{"$f":"IF(ISERROR(ROUND(QNST05_A!G36,4))=TRUE,\"\",ROUND(QNST05_A!G36,4))","v":0},{"$f":"IF(ISERROR(ROUND(QNST05_A!H36,4))=TRUE,\"\",ROUND(QNST05_A!H36,4))","v":0},null,null,null,null,null,null,null,null,"27 - Non-proportional marine, aviation and transport reinsurance ","S2C_LB:X67",null,"Portugal","PT",null,null,"25 - Non-proportional health reinsurance "]
[{"$f":"IF(QNST05_A!B37=\"\",\"\",VLOOKUP(QNST05_A!B37,L5A!$S$1:$T$260,2,FALSE))","v":""},{"$f":"IF(A28=\"W0\",$Q$29,IF(QNST05_A!C37=\"\",\"\",VLOOKUP(QNST05_A!C37,L5A!$P$1:$Q$29,2,FALSE)))","v":""},{"$f":"IF(A28=\"W0\",$L$21,IF(QNST05_A!D37=\"\",\"\",VLOOKUP(QNST05_A!D37,$K$18:$L$21,2,FALSE)))","v":""},{"$f":"IF(ISERROR(ROUND(QNST05_A!E37,4))=TRUE,\"\",ROUND(QNST05_A!E37,4))","v":0},{"$f":"IF(ISERROR(ROUND(QNST05_A!F37,4))=TRUE,\"\",ROUND(QNST05_A!F37,4))","v":0},{"$f":"IF(ISERROR(ROUND(QNST05_A!G37,4))=TRUE,\"\",ROUND(QNST05_A!G37,4))","v":0},{"$f":"IF(ISERROR(ROUND(QNST05_A!H37,4))=TRUE,\"\",ROUND(QNST05_A!H37,4))","v":0},null,null,null,null,null,null,null,null,"28 - Non-proportional property reinsurance ","S2C_LB:X106",null,"Romania","RO",null,null,"26 - Non-proportional casualty reinsurance "]
[{"$f":"IF(QNST05_A!B38=\"\",\"\",VLOOKUP(QNST05_A!B38,L5A!$S$1:$T$260,2,FALSE))","v":""},{"$f":"IF(A29=\"W0\",$Q$29,IF(QNST05_A!C38=\"\",\"\",VLOOKUP(QNST05_A!C38,L5A!$P$1:$Q$29,2,FALSE)))","v":""},{"$f":"IF(A29=\"W0\",$L$21,IF(QNST05_A!D38=\"\",\"\",VLOOKUP(QNST05_A!D38,$K$18:$L$21,2,FALSE)))","v":""},{"$f":"IF(ISERROR(ROUND(QNST05_A!E38,4))=TRUE,\"\",ROUND(QNST05_A!E38,4))","v":0},{"$f":"IF(ISERROR(ROUND(QNST05_A!F38,4))=TRUE,\"\",ROUND(QNST05_A!F38,4))","v":0},{"$f":"IF(ISERROR(ROUND(QNST05_A!G38,4))=TRUE,\"\",ROUND(QNST05_A!G38,4))","v":0},{"$f":"IF(ISERROR(ROUND(QNST05_A!H38,4))=TRUE,\"\",ROUND(QNST05_A!H38,4))","v":0},null,null,null,null,null,null,null,null,"NOT APPLICABLE","S2C_LB:Y000",null,"Slovakia","SK",null,null,"27 - Non-proportional marine, aviation and transport reinsurance "]
[{"$f":"IF(QNST05_A!B39=\"\",\"\",VLOOKUP(QNST05_A!B39,L5A!$S$1:$T$260,2,FALSE))","v":""},{"$f":"IF(A30=\"W0\",$Q$29,IF(QNST05_A!C39=\"\",\"\",VLOOKUP(QNST05_A!C39,L5A!$P$1:$Q$29,2,FALSE)))","v":""},{"$f":"IF(A30=\"W0\",$L$21,IF(QNST05_A!D39=\"\",\"\",VLOOKUP(QNST05_A!D39,$K$18:$L$21,2,FALSE)))","v":""},{"$f":"IF(ISERROR(ROUND(QNST05_A!E39,4))=TRUE,\"\",ROUND(QNST05_A!E39,4))","v":0},{"$f":"IF(ISERROR(ROUND(QNST05_A!F39,4))=TRUE,\"\",ROUND(QNST05_A!F39,4))","v":0},{"$f":"IF(ISERROR(ROUND(QNST05_A!G39,4))=TRUE,\"\",ROUND(QNST05_A!G39,4))","v":0},{"$f":"IF(ISERROR(ROUND(QNST05_A!H39,4))=TRUE,\"\",ROUND(QNST05_A!H39,4))","v":0},null,null,null,null,null,null,null,null,null,null,null,"Slovenia","SI",null,null,"28 - Non-proportional property reinsurance "]
[{"$f":"IF(QNST05_A!B40=\"\",\"\",VLOOKUP(QNST05_A!B40,L5A!$S$1:$T$260,2,FALSE))","v":""},{"$f":"IF(A31=\"W0\",$Q$29,IF(QNST05_A!C40=\"\",\"\",VLOOKUP(QNST05_A!C40,L5A!$P$1:$Q$29,2,FALSE)))","v":""},{"$f":"IF(A31=\"W0\",$L$21,IF(QNST05_A!D40=\"\",\"\",VLOOKUP(QNST05_A!D40,$K$18:$L$21,2,FALSE)))","v":""},{"$f":"IF(ISERROR(ROUND(QNST05_A!E40,4))=TRUE,\"\",ROUND(QNST05_A!E40,4))","v":0},{"$f":"IF(ISERROR(ROUND(QNST05_A!F40,4))=TRUE,\"\",ROUND(QNST05_A!F40,4))","v":0},{"$f":"IF(ISERROR(ROUND(QNST05_A!G40,4))=TRUE,\"\",ROUND(QNST05_A!G40,4))","v":0},{"$f":"IF(ISERROR(ROUND(QNST05_A!H40,4))=TRUE,\"\",ROUND(QNST05_A!H40,4))","v":0},null,null,null,null,null,null,null,null,null,null,null,"Spain","ES",null,null,"29 - Long-term business - Health Insurance "]
[{"$f":"IF(QNST05_A!B41=\"\",\"\",VLOOKUP(QNST05_A!B41,L5A!$S$1:$T$260,2,FALSE))","v":""},{"$f":"IF(A32=\"W0\",$Q$29,IF(QNST05_A!C41=\"\",\"\",VLOOKUP(QNST05_A!C41,L5A!$P$1:$Q$29,2,FALSE)))","v":""},{"$f":"IF(A32=\"W0\",$L$21,IF(QNST05_A!D41=\"\",\"\",VLOOKUP(QNST05_A!D41,$K$18:$L$21,2,FALSE)))","v":""},{"$f":"IF(ISERROR(ROUND(QNST05_A!E41,4))=TRUE,\"\",ROUND(QNST05_A!E41,4))","v":0},{"$f":"IF(ISERROR(ROUND(QNST05_A!F41,4))=TRUE,\"\",ROUND(QNST05_A!F41,4))","v":0},{"$f":"IF(ISERROR(ROUND(QNST05_A!G41,4))=TRUE,\"\",ROUND(QNST05_A!G41,4))","v":0},{"$f":"IF(ISERROR(ROUND(QNST05_A!H41,4))=TRUE,\"\",ROUND(QNST05_A!H41,4))","v":0},null,null,null,null,null,null,null,null,null,null,null,"Sweden","SE",null,null,"30 - Long-term business - Insurance with profit participation "]
[{"$f":"IF(QNST05_A!B42=\"\",\"\",VLOOKUP(QNST05_A!B42,L5A!$S$1:$T$260,2,FALSE))","v":""},{"$f":"IF(A33=\"W0\",$Q$29,IF(QNST05_A!C42=\"\",\"\",VLOOKUP(QNST05_A!C42,L5A!$P$1:$Q$29,2,FALSE)))","v":""},{"$f":"IF(A33=\"W0\",$L$21,IF(QNST05_A!D42=\"\",\"\",VLOOKUP(QNST05_A!D42,$K$18:$L$21,2,FALSE)))","v":""},{"$f":"IF(ISERROR(ROUND(QNST05_A!E42,4))=TRUE,\"\",ROUND(QNST05_A!E42,4))","v":0},{"$f":"IF(ISERROR(ROUND(QNST05_A!F42,4))=TRUE,\"\",ROUND(QNST05_A!F42,4))","v":0},{"$f":"IF(ISERROR(ROUND(QNST05_A!G42,4))=TRUE,\"\",ROUND(QNST05_A!G42,4))","v":0},{"$f":"IF(ISERROR(ROUND(QNST05_A!H42,4))=TRUE,\"\",ROUND(QNST05_A!H42,4))","v":0},null,null,null,null,null,null,null,null,null,null,null,"United Kingdom","GB",null,null,"31 - Long-term business - Index-linked and unit-linked insurance "]
[{"$f":"IF(QNST05_A!B43=\"\",\"\",VLOOKUP(QNST05_A!B43,L5A!$S$1:$T$260,2,FALSE))","v":""},{"$f":"IF(A34=\"W0\",$Q$29,IF(QNST05_A!C43=\"\",\"\",VLOOKUP(QNST05_A!C43,L5A!$P$1:$Q$29,2,FALSE)))","v":""},{"$f":"IF(A34=\"W0\",$L$21,IF(QNST05_A!D43=\"\",\"\",VLOOKUP(QNST05_A!D43,$K$18:$L$21,2,FALSE)))","v":""},{"$f":"IF(ISERROR(ROUND(QNST05_A!E43,4))=TRUE,\"\",ROUND(QNST05_A!E43,4))","v":0},{"$f":"IF(ISERROR(ROUND(QNST05_A!F43,4))=TRUE,\"\",ROUND(QNST05_A!F43,4))","v":0},{"$f":"IF(ISERROR(ROUND(QNST05_A!G43,4))=TRUE,\"\",ROUND(QNST05_A!G43,4))","v":0},{"$f":"IF(ISERROR(ROUND(QNST05_A!H43,4))=TRUE,\"\",ROUND(QNST05_A!H43,4))","v":0},null,null,null,null,null,null,null,null,null,null,null,"Iceland","IS",null,null,"32 - Long-term business - Other life insurance "]
[{"$f":"IF(QNST05_A!B44=\"\",\"\",VLOOKUP(QNST05_A!B44,L5A!$S$1:$T$260,2,FALSE))","v":""},{"$f":"IF(A35=\"W0\",$Q$29,IF(QNST05_A!C44=\"\",\"\",VLOOKUP(QNST05_A!C44,L5A!$P$1:$Q$29,2,FALSE)))","v":""},{"$f":"IF(A35=\"W0\",$L$21,IF(QNST05_A!D44=\"\",\"\",VLOOKUP(QNST05_A!D44,$K$18:$L$21,2,FALSE)))","v":""},{"$f":"IF(ISERROR(ROUND(QNST05_A!E44,4))=TRUE,\"\",ROUND(QNST05_A!E44,4))","v":0},{"$f":"IF(ISERROR(ROUND(QNST05_A!F44,4))=TRUE,\"\",ROUND(QNST05_A!F44,4))","v":0},{"$f":"IF(ISERROR(ROUND(QNST05_A!G44,4))=TRUE,\"\",ROUND(QNST05_A!G44,4))","v":0},{"$f":"IF(ISERROR(ROUND(QNST05_A!H44,4))=TRUE,\"\",ROUND(QNST05_A!H44,4))","v":0},null,null,null,null,null,null,null,null,null,null,null,"Liechtenstein","LI",null,null,"33 - Long-term business - Annuities stemming from non-life insurance contracts and relating to health insurance obligations "]
[{"$f":"IF(QNST05_A!B45=\"\",\"\",VLOOKUP(QNST05_A!B45,L5A!$S$1:$T$260,2,FALSE))","v":""},{"$f":"IF(A36=\"W0\",$Q$29,IF(QNST05_A!C45=\"\",\"\",VLOOKUP(QNST05_A!C45,L5A!$P$1:$Q$29,2,FALSE)))","v":""},{"$f":"IF(A36=\"W0\",$L$21,IF(QNST05_A!D45=\"\",\"\",VLOOKUP(QNST05_A!D45,$K$18:$L$21,2,FALSE)))","v":""},{"$f":"IF(ISERROR(ROUND(QNST05_A!E45,4))=TRUE,\"\",ROUND(QNST05_A!E45,4))","v":0},{"$f":"IF(ISERROR(ROUND(QNST05_A!F45,4))=TRUE,\"\",ROUND(QNST05_A!F45,4))","v":0},{"$f":"IF(ISERROR(ROUND(QNST05_A!G45,4))=TRUE,\"\",ROUND(QNST05_A!G45,4))","v":0},{"$f":"IF(ISERROR(ROUND(QNST05_A!H45,4))=TRUE,\"\",ROUND(QNST05_A!H45,4))","v":0},null,null,null,null,null,null,null,null,null,null,null,"Norway","NO",null,null,"34 - Long-term business - Annuities stemming from non-life insurance contracts and relating to insurance obligations other than health insurance obligations "]
[{"$f":"IF(QNST05_A!B46=\"\",\"\",VLOOKUP(QNST05_A!B46,L5A!$S$1:$T$260,2,FALSE))","v":"W0"},{"$f":"IF(A37=\"W0\",$Q$29,IF(QNST05_A!C46=\"\",\"\",VLOOKUP(QNST05_A!C46,L5A!$P$1:$Q$29,2,FALSE)))","v":"S2C_LB:Y000"},{"$f":"IF(A37=\"W0\",$L$21,IF(QNST05_A!D46=\"\",\"\",VLOOKUP(QNST05_A!D46,$K$18:$L$21,2,FALSE)))","v":0},{"$f":"IF(ISERROR(ROUND(QNST05_A!E46,4))=TRUE,\"\",ROUND(QNST05_A!E46,4))","v":0},{"$f":"IF(ISERROR(ROUND(QNST05_A!F46,4))=TRUE,\"\",ROUND(QNST05_A!F46,4))","v":0},{"$f":"IF(ISERROR(ROUND(QNST05_A!G46,4))=TRUE,\"\",ROUND(QNST05_A!G46,4))","v":0},{"$f":"IF(ISERROR(ROUND(QNST05_A!H46,4))=TRUE,\"\",ROUND(QNST05_A!H46,4))","v":0},null,null,null,null,null,null,null,null,null,null,null,"Afghanistan","AF",null,null,"35 - Long-term business - Health Reinsurance"]
[{"$f":"IF(QNST05_A!B47=\"\",\"\",VLOOKUP(QNST05_A!B47,L5A!$S$1:$T$260,2,FALSE))","v":""},{"$f":"IF(A38=\"W0\",$Q$29,IF(QNST05_A!C47=\"\",\"\",VLOOKUP(QNST05_A!C47,L5A!$P$1:$Q$29,2,FALSE)))","v":""},{"$f":"IF(A38=\"W0\",$L$21,IF(QNST05_A!D47=\"\",\"\",VLOOKUP(QNST05_A!D47,$K$18:$L$21,2,FALSE)))","v":""},{"$f":"IF(ISERROR(ROUND(QNST05_A!E47,4))=TRUE,\"\",ROUND(QNST05_A!E47,4))","v":0},{"$f":"IF(ISERROR(ROUND(QNST05_A!F47,4))=TRUE,\"\",ROUND(QNST05_A!F47,4))","v":0},{"$f":"IF(ISERROR(ROUND(QNST05_A!G47,4))=TRUE,\"\",ROUND(QNST05_A!G47,4))","v":0},{"$f":"IF(ISERROR(ROUND(QNST05_A!H47,4))=TRUE,\"\",ROUND(QNST05_A!H47,4))","v":0},null,null,null,null,null,null,null,null,null,null,null,"Albania","AL",null,null,"36 - Long-term business - Life reinsurance"]
[{"$f":"IF(QNST05_A!B48=\"\",\"\",VLOOKUP(QNST05_A!B48,L5A!$S$1:$T$260,2,FALSE))","v":0},{"$f":"IF(A39=\"W0\",$Q$29,IF(QNST05_A!C48=\"\",\"\",VLOOKUP(QNST05_A!C48,L5A!$P$1:$Q$29,2,FALSE)))","v":""},{"$f":"IF(A39=\"W0\",$L$21,IF(QNST05_A!D48=\"\",\"\",VLOOKUP(QNST05_A!D48,$K$18:$L$21,2,FALSE)))","v":""},{"$f":"IF(ISERROR(ROUND(QNST05_A!E48,4))=TRUE,\"\",ROUND(QNST05_A!E48,4))","v":0},{"$f":"IF(ISERROR(ROUND(QNST05_A!F48,4))=TRUE,\"\",ROUND(QNST05_A!F48,4))","v":0},{"$f":"IF(ISERROR(ROUND(QNST05_A!G48,4))=TRUE,\"\",ROUND(QNST05_A!G48,4))","v":0},{"$f":"IF(ISERROR(ROUND(QNST05_A!H48,4))=TRUE,\"\",ROUND(QNST05_A!H48,4))","v":0},null,null,null,null,null,null,null,null,null,null,null,"Algeria","DZ"]
[{"$f":"IF(QNST05_A!B49=\"\",\"\",VLOOKUP(QNST05_A!B49,L5A!$S$1:$T$260,2,FALSE))","v":0},{"$f":"IF(A40=\"W0\",$Q$29,IF(QNST05_A!C49=\"\",\"\",VLOOKUP(QNST05_A!C49,L5A!$P$1:$Q$29,2,FALSE)))","v":""},{"$f":"IF(A40=\"W0\",$L$21,IF(QNST05_A!D49=\"\",\"\",VLOOKUP(QNST05_A!D49,$K$18:$L$21,2,FALSE)))","v":""},{"$f":"IF(ISERROR(ROUND(QNST05_A!E49,4))=TRUE,\"\",ROUND(QNST05_A!E49,4))","v":0},{"$f":"IF(ISERROR(ROUND(QNST05_A!F49,4))=TRUE,\"\",ROUND(QNST05_A!F49,4))","v":0},{"$f":"IF(ISERROR(ROUND(QNST05_A!G49,4))=TRUE,\"\",ROUND(QNST05_A!G49,4))","v":0},{"$f":"IF(ISERROR(ROUND(QNST05_A!H49,4))=TRUE,\"\",ROUND(QNST05_A!H49,4))","v":0},null,null,null,null,null,null,null,null,null,null,null,"Andorra","AD"]
[{"$f":"IF(QNST05_A!B50=\"\",\"\",VLOOKUP(QNST05_A!B50,L5A!$S$1:$T$260,2,FALSE))","v":0},{"$f":"IF(A41=\"W0\",$Q$29,IF(QNST05_A!C50=\"\",\"\",VLOOKUP(QNST05_A!C50,L5A!$P$1:$Q$29,2,FALSE)))","v":""},{"$f":"IF(A41=\"W0\",$L$21,IF(QNST05_A!D50=\"\",\"\",VLOOKUP(QNST05_A!D50,$K$18:$L$21,2,FALSE)))","v":""},{"$f":"IF(ISERROR(ROUND(QNST05_A!E50,4))=TRUE,\"\",ROUND(QNST05_A!E50,4))","v":0},{"$f":"IF(ISERROR(ROUND(QNST05_A!F50,4))=TRUE,\"\",ROUND(QNST05_A!F50,4))","v":0},{"$f":"IF(ISERROR(ROUND(QNST05_A!G50,4))=TRUE,\"\",ROUND(QNST05_A!G50,4))","v":0},{"$f":"IF(ISERROR(ROUND(QNST05_A!H50,4))=TRUE,\"\",ROUND(QNST05_A!H50,4))","v":0},null,null,null,null,null,null,null,null,null,null,null,"Angola","AO"]
[{"$f":"IF(QNST05_A!B51=\"\",\"\",VLOOKUP(QNST05_A!B51,L5A!$S$1:$T$260,2,FALSE))","v":0},{"$f":"IF(A42=\"W0\",$Q$29,IF(QNST05_A!C51=\"\",\"\",VLOOKUP(QNST05_A!C51,L5A!$P$1:$Q$29,2,FALSE)))","v":""},{"$f":"IF(A42=\"W0\",$L$21,IF(QNST05_A!D51=\"\",\"\",VLOOKUP(QNST05_A!D51,$K$18:$L$21,2,FALSE)))","v":""},{"$f":"IF(ISERROR(ROUND(QNST05_A!E51,4))=TRUE,\"\",ROUND(QNST05_A!E51,4))","v":0},{"$f":"IF(ISERROR(ROUND(QNST05_A!F51,4))=TRUE,\"\",ROUND(QNST05_A!F51,4))","v":0},{"$f":"IF(ISERROR(ROUND(QNST05_A!G51,4))=TRUE,\"\",ROUND(QNST05_A!G51,4))","v":0},{"$f":"IF(ISERROR(ROUND(QNST05_A!H51,4))=TRUE,\"\",ROUND(QNST05_A!H51,4))","v":0},null,null,null,null,null,null,null,null,null,null,null,"Antigua and Barbuda","AG"]
[{"$f":"IF(QNST05_A!B52=\"\",\"\",VLOOKUP(QNST05_A!B52,L5A!$S$1:$T$260,2,FALSE))","v":0},{"$f":"IF(A43=\"W0\",$Q$29,IF(QNST05_A!C52=\"\",\"\",VLOOKUP(QNST05_A!C52,L5A!$P$1:$Q$29,2,FALSE)))","v":""},{"$f":"IF(A43=\"W0\",$L$21,IF(QNST05_A!D52=\"\",\"\",VLOOKUP(QNST05_A!D52,$K$18:$L$21,2,FALSE)))","v":""},{"$f":"IF(ISERROR(ROUND(QNST05_A!E52,4))=TRUE,\"\",ROUND(QNST05_A!E52,4))","v":0},{"$f":"IF(ISERROR(ROUND(QNST05_A!F52,4))=TRUE,\"\",ROUND(QNST05_A!F52,4))","v":0},{"$f":"IF(ISERROR(ROUND(QNST05_A!G52,4))=TRUE,\"\",ROUND(QNST05_A!G52,4))","v":0},{"$f":"IF(ISERROR(ROUND(QNST05_A!H52,4))=TRUE,\"\",ROUND(QNST05_A!H52,4))","v":0},null,null,null,null,null,null,null,null,null,null,null,"Argentina","AR"]
[{"$f":"IF(QNST05_A!B53=\"\",\"\",VLOOKUP(QNST05_A!B53,L5A!$S$1:$T$260,2,FALSE))","v":""},{"$f":"IF(A44=\"W0\",$Q$29,IF(QNST05_A!C53=\"\",\"\",VLOOKUP(QNST05_A!C53,L5A!$P$1:$Q$29,2,FALSE)))","v":""},{"$f":"IF(A44=\"W0\",$L$21,IF(QNST05_A!D53=\"\",\"\",VLOOKUP(QNST05_A!D53,$K$18:$L$21,2,FALSE)))","v":""},{"$f":"IF(ISERROR(ROUND(QNST05_A!E53,4))=TRUE,\"\",ROUND(QNST05_A!E53,4))","v":0},{"$f":"IF(ISERROR(ROUND(QNST05_A!F53,4))=TRUE,\"\",ROUND(QNST05_A!F53,4))","v":0},{"$f":"IF(ISERROR(ROUND(QNST05_A!G53,4))=TRUE,\"\",ROUND(QNST05_A!G53,4))","v":0},{"$f":"IF(ISERROR(ROUND(QNST05_A!H53,4))=TRUE,\"\",ROUND(QNST05_A!H53,4))","v":0},null,null,null,null,null,null,null,null,null,null,null,"Armenia","AM"]
[{"$f":"IF(QNST05_A!B54=\"\",\"\",VLOOKUP(QNST05_A!B54,L5A!$S$1:$T$260,2,FALSE))","v":0},{"$f":"IF(A45=\"W0\",$Q$29,IF(QNST05_A!C54=\"\",\"\",VLOOKUP(QNST05_A!C54,L5A!$P$1:$Q$29,2,FALSE)))","v":""},{"$f":"IF(A45=\"W0\",$L$21,IF(QNST05_A!D54=\"\",\"\",VLOOKUP(QNST05_A!D54,$K$18:$L$21,2,FALSE)))","v":""},{"$f":"IF(ISERROR(ROUND(QNST05_A!E54,4))=TRUE,\"\",ROUND(QNST05_A!E54,4))","v":0},{"$f":"IF(ISERROR(ROUND(QNST05_A!F54,4))=TRUE,\"\",ROUND(QNST05_A!F54,4))","v":0},{"$f":"IF(ISERROR(ROUND(QNST05_A!G54,4))=TRUE,\"\",ROUND(QNST05_A!G54,4))","v":0},{"$f":"IF(ISERROR(ROUND(QNST05_A!H54,4))=TRUE,\"\",ROUND(QNST05_A!H54,4))","v":0},null,null,null,null,null,null,null,null,null,null,null,"Australia","AU"]
[{"$f":"IF(QNST05_A!B55=\"\",\"\",VLOOKUP(QNST05_A!B55,L5A!$S$1:$T$260,2,FALSE))","v":""},{"$f":"IF(A46=\"W0\",$Q$29,IF(QNST05_A!C55=\"\",\"\",VLOOKUP(QNST05_A!C55,L5A!$P$1:$Q$29,2,FALSE)))","v":""},{"$f":"IF(A46=\"W0\",$L$21,IF(QNST05_A!D55=\"\",\"\",VLOOKUP(QNST05_A!D55,$K$18:$L$21,2,FALSE)))","v":""},{"$f":"IF(ISERROR(ROUND(QNST05_A!E55,4))=TRUE,\"\",ROUND(QNST05_A!E55,4))","v":0},{"$f":"IF(ISERROR(ROUND(QNST05_A!F55,4))=TRUE,\"\",ROUND(QNST05_A!F55,4))","v":0},{"$f":"IF(ISERROR(ROUND(QNST05_A!G55,4))=TRUE,\"\",ROUND(QNST05_A!G55,4))","v":0},{"$f":"IF(ISERROR(ROUND(QNST05_A!H55,4))=TRUE,\"\",ROUND(QNST05_A!H55,4))","v":0},null,null,null,null,null,null,null,null,null,null,null,"Azerbaijan","AZ"]
[{"$f":"IF(QNST05_A!B56=\"\",\"\",VLOOKUP(QNST05_A!B56,L5A!$S$1:$T$260,2,FALSE))","v":""},{"$f":"IF(A47=\"W0\",$Q$29,IF(QNST05_A!C56=\"\",\"\",VLOOKUP(QNST05_A!C56,L5A!$P$1:$Q$29,2,FALSE)))","v":""},{"$f":"IF(A47=\"W0\",$L$21,IF(QNST05_A!D56=\"\",\"\",VLOOKUP(QNST05_A!D56,$K$18:$L$21,2,FALSE)))","v":""},{"$f":"IF(ISERROR(ROUND(QNST05_A!E56,4))=TRUE,\"\",ROUND(QNST05_A!E56,4))","v":0},{"$f":"IF(ISERROR(ROUND(QNST05_A!F56,4))=TRUE,\"\",ROUND(QNST05_A!F56,4))","v":0},{"$f":"IF(ISERROR(ROUND(QNST05_A!G56,4))=TRUE,\"\",ROUND(QNST05_A!G56,4))","v":0},{"$f":"IF(ISERROR(ROUND(QNST05_A!H56,4))=TRUE,\"\",ROUND(QNST05_A!H56,4))","v":0},null,null,null,null,null,null,null,null,null,null,null,"Bahamas","BS"]
[{"$f":"IF(QNST05_A!B57=\"\",\"\",VLOOKUP(QNST05_A!B57,L5A!$S$1:$T$260,2,FALSE))","v":""},{"$f":"IF(A48=\"W0\",$Q$29,IF(QNST05_A!C57=\"\",\"\",VLOOKUP(QNST05_A!C57,L5A!$P$1:$Q$29,2,FALSE)))","v":""},{"$f":"IF(A48=\"W0\",$L$21,IF(QNST05_A!D57=\"\",\"\",VLOOKUP(QNST05_A!D57,$K$18:$L$21,2,FALSE)))","v":""},{"$f":"IF(ISERROR(ROUND(QNST05_A!E57,4))=TRUE,\"\",ROUND(QNST05_A!E57,4))","v":0},{"$f":"IF(ISERROR(ROUND(QNST05_A!F57,4))=TRUE,\"\",ROUND(QNST05_A!F57,4))","v":0},{"$f":"IF(ISERROR(ROUND(QNST05_A!G57,4))=TRUE,\"\",ROUND(QNST05_A!G57,4))","v":0},{"$f":"IF(ISERROR(ROUND(QNST05_A!H57,4))=TRUE,\"\",ROUND(QNST05_A!H57,4))","v":0},null,null,null,null,null,null,null,null,null,null,null,"Bahrain","BH"]
[{"$f":"IF(QNST05_A!B58=\"\",\"\",VLOOKUP(QNST05_A!B58,L5A!$S$1:$T$260,2,FALSE))","v":""},{"$f":"IF(A49=\"W0\",$Q$29,IF(QNST05_A!C58=\"\",\"\",VLOOKUP(QNST05_A!C58,L5A!$P$1:$Q$29,2,FALSE)))","v":""},{"$f":"IF(A49=\"W0\",$L$21,IF(QNST05_A!D58=\"\",\"\",VLOOKUP(QNST05_A!D58,$K$18:$L$21,2,FALSE)))","v":""},{"$f":"IF(ISERROR(ROUND(QNST05_A!E58,4))=TRUE,\"\",ROUND(QNST05_A!E58,4))","v":0},{"$f":"IF(ISERROR(ROUND(QNST05_A!F58,4))=TRUE,\"\",ROUND(QNST05_A!F58,4))","v":0},{"$f":"IF(ISERROR(ROUND(QNST05_A!G58,4))=TRUE,\"\",ROUND(QNST05_A!G58,4))","v":0},{"$f":"IF(ISERROR(ROUND(QNST05_A!H58,4))=TRUE,\"\",ROUND(QNST05_A!H58,4))","v":0},null,null,null,null,null,null,null,null,null,null,null,"Bangladesh","BD"]
[{"$f":"IF(QNST05_A!B59=\"\",\"\",VLOOKUP(QNST05_A!B59,L5A!$S$1:$T$260,2,FALSE))","v":""},{"$f":"IF(A50=\"W0\",$Q$29,IF(QNST05_A!C59=\"\",\"\",VLOOKUP(QNST05_A!C59,L5A!$P$1:$Q$29,2,FALSE)))","v":""},{"$f":"IF(A50=\"W0\",$L$21,IF(QNST05_A!D59=\"\",\"\",VLOOKUP(QNST05_A!D59,$K$18:$L$21,2,FALSE)))","v":""},{"$f":"IF(ISERROR(ROUND(QNST05_A!E59,4))=TRUE,\"\",ROUND(QNST05_A!E59,4))","v":0},{"$f":"IF(ISERROR(ROUND(QNST05_A!F59,4))=TRUE,\"\",ROUND(QNST05_A!F59,4))","v":0},{"$f":"IF(ISERROR(ROUND(QNST05_A!G59,4))=TRUE,\"\",ROUND(QNST05_A!G59,4))","v":0},{"$f":"IF(ISERROR(ROUND(QNST05_A!H59,4))=TRUE,\"\",ROUND(QNST05_A!H59,4))","v":0},null,null,null,null,null,null,null,null,null,null,null,"Barbados","BB"]
[{"$f":"IF(QNST05_A!B60=\"\",\"\",VLOOKUP(QNST05_A!B60,L5A!$S$1:$T$260,2,FALSE))","v":""},{"$f":"IF(A51=\"W0\",$Q$29,IF(QNST05_A!C60=\"\",\"\",VLOOKUP(QNST05_A!C60,L5A!$P$1:$Q$29,2,FALSE)))","v":""},{"$f":"IF(A51=\"W0\",$L$21,IF(QNST05_A!D60=\"\",\"\",VLOOKUP(QNST05_A!D60,$K$18:$L$21,2,FALSE)))","v":""},{"$f":"IF(ISERROR(ROUND(QNST05_A!E60,4))=TRUE,\"\",ROUND(QNST05_A!E60,4))","v":0},{"$f":"IF(ISERROR(ROUND(QNST05_A!F60,4))=TRUE,\"\",ROUND(QNST05_A!F60,4))","v":0},{"$f":"IF(ISERROR(ROUND(QNST05_A!G60,4))=TRUE,\"\",ROUND(QNST05_A!G60,4))","v":0},{"$f":"IF(ISERROR(ROUND(QNST05_A!H60,4))=TRUE,\"\",ROUND(QNST05_A!H60,4))","v":0},null,null,null,null,null,null,null,null,null,null,null,"Belarus","BY"]
[{"$f":"IF(QNST05_A!B61=\"\",\"\",VLOOKUP(QNST05_A!B61,L5A!$S$1:$T$260,2,FALSE))","v":""},{"$f":"IF(A52=\"W0\",$Q$29,IF(QNST05_A!C61=\"\",\"\",VLOOKUP(QNST05_A!C61,L5A!$P$1:$Q$29,2,FALSE)))","v":""},{"$f":"IF(A52=\"W0\",$L$21,IF(QNST05_A!D61=\"\",\"\",VLOOKUP(QNST05_A!D61,$K$18:$L$21,2,FALSE)))","v":""},{"$f":"IF(ISERROR(ROUND(QNST05_A!E61,4))=TRUE,\"\",ROUND(QNST05_A!E61,4))","v":0},{"$f":"IF(ISERROR(ROUND(QNST05_A!F61,4))=TRUE,\"\",ROUND(QNST05_A!F61,4))","v":0},{"$f":"IF(ISERROR(ROUND(QNST05_A!G61,4))=TRUE,\"\",ROUND(QNST05_A!G61,4))","v":0},{"$f":"IF(ISERROR(ROUND(QNST05_A!H61,4))=TRUE,\"\",ROUND(QNST05_A!H61,4))","v":0},null,null,null,null,null,null,null,null,null,null,null,"Belize","BZ"]
[{"$f":"IF(QNST05_A!B62=\"\",\"\",VLOOKUP(QNST05_A!B62,L5A!$S$1:$T$260,2,FALSE))","v":""},{"$f":"IF(A53=\"W0\",$Q$29,IF(QNST05_A!C62=\"\",\"\",VLOOKUP(QNST05_A!C62,L5A!$P$1:$Q$29,2,FALSE)))","v":""},{"$f":"IF(A53=\"W0\",$L$21,IF(QNST05_A!D62=\"\",\"\",VLOOKUP(QNST05_A!D62,$K$18:$L$21,2,FALSE)))","v":""},{"$f":"IF(ISERROR(ROUND(QNST05_A!E62,4))=TRUE,\"\",ROUND(QNST05_A!E62,4))","v":0},{"$f":"IF(ISERROR(ROUND(QNST05_A!F62,4))=TRUE,\"\",ROUND(QNST05_A!F62,4))","v":0},{"$f":"IF(ISERROR(ROUND(QNST05_A!G62,4))=TRUE,\"\",ROUND(QNST05_A!G62,4))","v":0},{"$f":"IF(ISERROR(ROUND(QNST05_A!H62,4))=TRUE,\"\",ROUND(QNST05_A!H62,4))","v":0},null,null,null,null,null,null,null,null,null,null,null,"Benin","BJ"]
[{"$f":"IF(QNST05_A!B63=\"\",\"\",VLOOKUP(QNST05_A!B63,L5A!$S$1:$T$260,2,FALSE))","v":""},{"$f":"IF(A54=\"W0\",$Q$29,IF(QNST05_A!C63=\"\",\"\",VLOOKUP(QNST05_A!C63,L5A!$P$1:$Q$29,2,FALSE)))","v":""},{"$f":"IF(A54=\"W0\",$L$21,IF(QNST05_A!D63=\"\",\"\",VLOOKUP(QNST05_A!D63,$K$18:$L$21,2,FALSE)))","v":""},{"$f":"IF(ISERROR(ROUND(QNST05_A!E63,4))=TRUE,\"\",ROUND(QNST05_A!E63,4))","v":0},{"$f":"IF(ISERROR(ROUND(QNST05_A!F63,4))=TRUE,\"\",ROUND(QNST05_A!F63,4))","v":0},{"$f":"IF(ISERROR(ROUND(QNST05_A!G63,4))=TRUE,\"\",ROUND(QNST05_A!G63,4))","v":0},{"$f":"IF(ISERROR(ROUND(QNST05_A!H63,4))=TRUE,\"\",ROUND(QNST05_A!H63,4))","v":0},null,null,null,null,null,null,null,null,null,null,null,"Bhutan","BT"]
[{"$f":"IF(QNST05_A!B64=\"\",\"\",VLOOKUP(QNST05_A!B64,L5A!$S$1:$T$260,2,FALSE))","v":""},{"$f":"IF(A55=\"W0\",$Q$29,IF(QNST05_A!C64=\"\",\"\",VLOOKUP(QNST05_A!C64,L5A!$P$1:$Q$29,2,FALSE)))","v":""},{"$f":"IF(A55=\"W0\",$L$21,IF(QNST05_A!D64=\"\",\"\",VLOOKUP(QNST05_A!D64,$K$18:$L$21,2,FALSE)))","v":""},{"$f":"IF(ISERROR(ROUND(QNST05_A!E64,4))=TRUE,\"\",ROUND(QNST05_A!E64,4))","v":0},{"$f":"IF(ISERROR(ROUND(QNST05_A!F64,4))=TRUE,\"\",ROUND(QNST05_A!F64,4))","v":0},{"$f":"IF(ISERROR(ROUND(QNST05_A!G64,4))=TRUE,\"\",ROUND(QNST05_A!G64,4))","v":0},{"$f":"IF(ISERROR(ROUND(QNST05_A!H64,4))=TRUE,\"\",ROUND(QNST05_A!H64,4))","v":0},null,null,null,null,null,null,null,null,null,null,null,"BOLIVIA, PLURINATIONAL STATE OF","BO"]
[{"$f":"IF(QNST05_A!B65=\"\",\"\",VLOOKUP(QNST05_A!B65,L5A!$S$1:$T$260,2,FALSE))","v":""},{"$f":"IF(A56=\"W0\",$Q$29,IF(QNST05_A!C65=\"\",\"\",VLOOKUP(QNST05_A!C65,L5A!$P$1:$Q$29,2,FALSE)))","v":""},{"$f":"IF(A56=\"W0\",$L$21,IF(QNST05_A!D65=\"\",\"\",VLOOKUP(QNST05_A!D65,$K$18:$L$21,2,FALSE)))","v":""},{"$f":"IF(ISERROR(ROUND(QNST05_A!E65,4))=TRUE,\"\",ROUND(QNST05_A!E65,4))","v":0},{"$f":"IF(ISERROR(ROUND(QNST05_A!F65,4))=TRUE,\"\",ROUND(QNST05_A!F65,4))","v":0},{"$f":"IF(ISERROR(ROUND(QNST05_A!G65,4))=TRUE,\"\",ROUND(QNST05_A!G65,4))","v":0},{"$f":"IF(ISERROR(ROUND(QNST05_A!H65,4))=TRUE,\"\",ROUND(QNST05_A!H65,4))","v":0},null,null,null,null,null,null,null,null,null,null,null,"BOSNIA AND HERZEGOVINA","BA"]
[{"$f":"IF(QNST05_A!B66=\"\",\"\",VLOOKUP(QNST05_A!B66,L5A!$S$1:$T$260,2,FALSE))","v":""},{"$f":"IF(A57=\"W0\",$Q$29,IF(QNST05_A!C66=\"\",\"\",VLOOKUP(QNST05_A!C66,L5A!$P$1:$Q$29,2,FALSE)))","v":""},{"$f":"IF(A57=\"W0\",$L$21,IF(QNST05_A!D66=\"\",\"\",VLOOKUP(QNST05_A!D66,$K$18:$L$21,2,FALSE)))","v":""},{"$f":"IF(ISERROR(ROUND(QNST05_A!E66,4))=TRUE,\"\",ROUND(QNST05_A!E66,4))","v":0},{"$f":"IF(ISERROR(ROUND(QNST05_A!F66,4))=TRUE,\"\",ROUND(QNST05_A!F66,4))","v":0},{"$f":"IF(ISERROR(ROUND(QNST05_A!G66,4))=TRUE,\"\",ROUND(QNST05_A!G66,4))","v":0},{"$f":"IF(ISERROR(ROUND(QNST05_A!H66,4))=TRUE,\"\",ROUND(QNST05_A!H66,4))","v":0},null,null,null,null,null,null,null,null,null,null,null,"Botswana","BW"]
[{"$f":"IF(QNST05_A!B67=\"\",\"\",VLOOKUP(QNST05_A!B67,L5A!$S$1:$T$260,2,FALSE))","v":""},{"$f":"IF(A58=\"W0\",$Q$29,IF(QNST05_A!C67=\"\",\"\",VLOOKUP(QNST05_A!C67,L5A!$P$1:$Q$29,2,FALSE)))","v":""},{"$f":"IF(A58=\"W0\",$L$21,IF(QNST05_A!D67=\"\",\"\",VLOOKUP(QNST05_A!D67,$K$18:$L$21,2,FALSE)))","v":""},{"$f":"IF(ISERROR(ROUND(QNST05_A!E67,4))=TRUE,\"\",ROUND(QNST05_A!E67,4))","v":0},{"$f":"IF(ISERROR(ROUND(QNST05_A!F67,4))=TRUE,\"\",ROUND(QNST05_A!F67,4))","v":0},{"$f":"IF(ISERROR(ROUND(QNST05_A!G67,4))=TRUE,\"\",ROUND(QNST05_A!G67,4))","v":0},{"$f":"IF(ISERROR(ROUND(QNST05_A!H67,4))=TRUE,\"\",ROUND(QNST05_A!H67,4))","v":0},null,null,null,null,null,null,null,null,null,null,null,"Brazil","BR"]
[{"$f":"IF(QNST05_A!B68=\"\",\"\",VLOOKUP(QNST05_A!B68,L5A!$S$1:$T$260,2,FALSE))","v":""},{"$f":"IF(A59=\"W0\",$Q$29,IF(QNST05_A!C68=\"\",\"\",VLOOKUP(QNST05_A!C68,L5A!$P$1:$Q$29,2,FALSE)))","v":""},{"$f":"IF(A59=\"W0\",$L$21,IF(QNST05_A!D68=\"\",\"\",VLOOKUP(QNST05_A!D68,$K$18:$L$21,2,FALSE)))","v":""},{"$f":"IF(ISERROR(ROUND(QNST05_A!E68,4))=TRUE,\"\",ROUND(QNST05_A!E68,4))","v":0},{"$f":"IF(ISERROR(ROUND(QNST05_A!F68,4))=TRUE,\"\",ROUND(QNST05_A!F68,4))","v":0},{"$f":"IF(ISERROR(ROUND(QNST05_A!G68,4))=TRUE,\"\",ROUND(QNST05_A!G68,4))","v":0},{"$f":"IF(ISERROR(ROUND(QNST05_A!H68,4))=TRUE,\"\",ROUND(QNST05_A!H68,4))","v":0},null,null,null,null,null,null,null,null,null,null,null,"BRUNEI DARUSSALAM","BN"]
[{"$f":"IF(QNST05_A!B69=\"\",\"\",VLOOKUP(QNST05_A!B69,L5A!$S$1:$T$260,2,FALSE))","v":""},{"$f":"IF(A60=\"W0\",$Q$29,IF(QNST05_A!C69=\"\",\"\",VLOOKUP(QNST05_A!C69,L5A!$P$1:$Q$29,2,FALSE)))","v":""},{"$f":"IF(A60=\"W0\",$L$21,IF(QNST05_A!D69=\"\",\"\",VLOOKUP(QNST05_A!D69,$K$18:$L$21,2,FALSE)))","v":""},{"$f":"IF(ISERROR(ROUND(QNST05_A!E69,4))=TRUE,\"\",ROUND(QNST05_A!E69,4))","v":0},{"$f":"IF(ISERROR(ROUND(QNST05_A!F69,4))=TRUE,\"\",ROUND(QNST05_A!F69,4))","v":0},{"$f":"IF(ISERROR(ROUND(QNST05_A!G69,4))=TRUE,\"\",ROUND(QNST05_A!G69,4))","v":0},{"$f":"IF(ISERROR(ROUND(QNST05_A!H69,4))=TRUE,\"\",ROUND(QNST05_A!H69,4))","v":0},null,null,null,null,null,null,null,null,null,null,null,"Burkina Faso","BF"]
[{"$f":"IF(QNST05_A!B70=\"\",\"\",VLOOKUP(QNST05_A!B70,L5A!$S$1:$T$260,2,FALSE))","v":""},{"$f":"IF(A61=\"W0\",$Q$29,IF(QNST05_A!C70=\"\",\"\",VLOOKUP(QNST05_A!C70,L5A!$P$1:$Q$29,2,FALSE)))","v":""},{"$f":"IF(A61=\"W0\",$L$21,IF(QNST05_A!D70=\"\",\"\",VLOOKUP(QNST05_A!D70,$K$18:$L$21,2,FALSE)))","v":""},{"$f":"IF(ISERROR(ROUND(QNST05_A!E70,4))=TRUE,\"\",ROUND(QNST05_A!E70,4))","v":0},{"$f":"IF(ISERROR(ROUND(QNST05_A!F70,4))=TRUE,\"\",ROUND(QNST05_A!F70,4))","v":0},{"$f":"IF(ISERROR(ROUND(QNST05_A!G70,4))=TRUE,\"\",ROUND(QNST05_A!G70,4))","v":0},{"$f":"IF(ISERROR(ROUND(QNST05_A!H70,4))=TRUE,\"\",ROUND(QNST05_A!H70,4))","v":0},null,null,null,null,null,null,null,null,null,null,null,"Burundi","BI"]
[{"$f":"IF(QNST05_A!B71=\"\",\"\",VLOOKUP(QNST05_A!B71,L5A!$S$1:$T$260,2,FALSE))","v":""},{"$f":"IF(A62=\"W0\",$Q$29,IF(QNST05_A!C71=\"\",\"\",VLOOKUP(QNST05_A!C71,L5A!$P$1:$Q$29,2,FALSE)))","v":""},{"$f":"IF(A62=\"W0\",$L$21,IF(QNST05_A!D71=\"\",\"\",VLOOKUP(QNST05_A!D71,$K$18:$L$21,2,FALSE)))","v":""},{"$f":"IF(ISERROR(ROUND(QNST05_A!E71,4))=TRUE,\"\",ROUND(QNST05_A!E71,4))","v":0},{"$f":"IF(ISERROR(ROUND(QNST05_A!F71,4))=TRUE,\"\",ROUND(QNST05_A!F71,4))","v":0},{"$f":"IF(ISERROR(ROUND(QNST05_A!G71,4))=TRUE,\"\",ROUND(QNST05_A!G71,4))","v":0},{"$f":"IF(ISERROR(ROUND(QNST05_A!H71,4))=TRUE,\"\",ROUND(QNST05_A!H71,4))","v":0},null,null,null,null,null,null,null,null,null,null,null,"CAPE VERDE","CV"]
[{"$f":"IF(QNST05_A!B72=\"\",\"\",VLOOKUP(QNST05_A!B72,L5A!$S$1:$T$260,2,FALSE))","v":""},{"$f":"IF(A63=\"W0\",$Q$29,IF(QNST05_A!C72=\"\",\"\",VLOOKUP(QNST05_A!C72,L5A!$P$1:$Q$29,2,FALSE)))","v":""},{"$f":"IF(A63=\"W0\",$L$21,IF(QNST05_A!D72=\"\",\"\",VLOOKUP(QNST05_A!D72,$K$18:$L$21,2,FALSE)))","v":""},{"$f":"IF(ISERROR(ROUND(QNST05_A!E72,4))=TRUE,\"\",ROUND(QNST05_A!E72,4))","v":0},{"$f":"IF(ISERROR(ROUND(QNST05_A!F72,4))=TRUE,\"\",ROUND(QNST05_A!F72,4))","v":0},{"$f":"IF(ISERROR(ROUND(QNST05_A!G72,4))=TRUE,\"\",ROUND(QNST05_A!G72,4))","v":0},{"$f":"IF(ISERROR(ROUND(QNST05_A!H72,4))=TRUE,\"\",ROUND(QNST05_A!H72,4))","v":0},null,null,null,null,null,null,null,null,null,null,null,"Cambodia","KH"]
[{"$f":"IF(QNST05_A!B73=\"\",\"\",VLOOKUP(QNST05_A!B73,L5A!$S$1:$T$260,2,FALSE))","v":""},{"$f":"IF(A64=\"W0\",$Q$29,IF(QNST05_A!C73=\"\",\"\",VLOOKUP(QNST05_A!C73,L5A!$P$1:$Q$29,2,FALSE)))","v":""},{"$f":"IF(A64=\"W0\",$L$21,IF(QNST05_A!D73=\"\",\"\",VLOOKUP(QNST05_A!D73,$K$18:$L$21,2,FALSE)))","v":""},{"$f":"IF(ISERROR(ROUND(QNST05_A!E73,4))=TRUE,\"\",ROUND(QNST05_A!E73,4))","v":0},{"$f":"IF(ISERROR(ROUND(QNST05_A!F73,4))=TRUE,\"\",ROUND(QNST05_A!F73,4))","v":0},{"$f":"IF(ISERROR(ROUND(QNST05_A!G73,4))=TRUE,\"\",ROUND(QNST05_A!G73,4))","v":0},{"$f":"IF(ISERROR(ROUND(QNST05_A!H73,4))=TRUE,\"\",ROUND(QNST05_A!H73,4))","v":0},null,null,null,null,null,null,null,null,null,null,null,"Cameroon","CM"]
[{"$f":"IF(QNST05_A!B74=\"\",\"\",VLOOKUP(QNST05_A!B74,L5A!$S$1:$T$260,2,FALSE))","v":""},{"$f":"IF(A65=\"W0\",$Q$29,IF(QNST05_A!C74=\"\",\"\",VLOOKUP(QNST05_A!C74,L5A!$P$1:$Q$29,2,FALSE)))","v":""},{"$f":"IF(A65=\"W0\",$L$21,IF(QNST05_A!D74=\"\",\"\",VLOOKUP(QNST05_A!D74,$K$18:$L$21,2,FALSE)))","v":""},{"$f":"IF(ISERROR(ROUND(QNST05_A!E74,4))=TRUE,\"\",ROUND(QNST05_A!E74,4))","v":0},{"$f":"IF(ISERROR(ROUND(QNST05_A!F74,4))=TRUE,\"\",ROUND(QNST05_A!F74,4))","v":0},{"$f":"IF(ISERROR(ROUND(QNST05_A!G74,4))=TRUE,\"\",ROUND(QNST05_A!G74,4))","v":0},{"$f":"IF(ISERROR(ROUND(QNST05_A!H74,4))=TRUE,\"\",ROUND(QNST05_A!H74,4))","v":0},null,null,null,null,null,null,null,null,null,null,null,"Canada","CA"]
[{"$f":"IF(QNST05_A!B75=\"\",\"\",VLOOKUP(QNST05_A!B75,L5A!$S$1:$T$260,2,FALSE))","v":""},{"$f":"IF(A66=\"W0\",$Q$29,IF(QNST05_A!C75=\"\",\"\",VLOOKUP(QNST05_A!C75,L5A!$P$1:$Q$29,2,FALSE)))","v":""},{"$f":"IF(A66=\"W0\",$L$21,IF(QNST05_A!D75=\"\",\"\",VLOOKUP(QNST05_A!D75,$K$18:$L$21,2,FALSE)))","v":""},{"$f":"IF(ISERROR(ROUND(QNST05_A!E75,4))=TRUE,\"\",ROUND(QNST05_A!E75,4))","v":0},{"$f":"IF(ISERROR(ROUND(QNST05_A!F75,4))=TRUE,\"\",ROUND(QNST05_A!F75,4))","v":0},{"$f":"IF(ISERROR(ROUND(QNST05_A!G75,4))=TRUE,\"\",ROUND(QNST05_A!G75,4))","v":0},{"$f":"IF(ISERROR(ROUND(QNST05_A!H75,4))=TRUE,\"\",ROUND(QNST05_A!H75,4))","v":0},null,null,null,null,null,null,null,null,null,null,null,"Central African Republic","CF"]
[{"$f":"IF(QNST05_A!B76=\"\",\"\",VLOOKUP(QNST05_A!B76,L5A!$S$1:$T$260,2,FALSE))","v":""},{"$f":"IF(A67=\"W0\",$Q$29,IF(QNST05_A!C76=\"\",\"\",VLOOKUP(QNST05_A!C76,L5A!$P$1:$Q$29,2,FALSE)))","v":""},{"$f":"IF(A67=\"W0\",$L$21,IF(QNST05_A!D76=\"\",\"\",VLOOKUP(QNST05_A!D76,$K$18:$L$21,2,FALSE)))","v":""},{"$f":"IF(ISERROR(ROUND(QNST05_A!E76,4))=TRUE,\"\",ROUND(QNST05_A!E76,4))","v":0},{"$f":"IF(ISERROR(ROUND(QNST05_A!F76,4))=TRUE,\"\",ROUND(QNST05_A!F76,4))","v":0},{"$f":"IF(ISERROR(ROUND(QNST05_A!G76,4))=TRUE,\"\",ROUND(QNST05_A!G76,4))","v":0},{"$f":"IF(ISERROR(ROUND(QNST05_A!H76,4))=TRUE,\"\",ROUND(QNST05_A!H76,4))","v":0},null,null,null,null,null,null,null,null,null,null,null,"Chad","TD"]
[{"$f":"IF(QNST05_A!B77=\"\",\"\",VLOOKUP(QNST05_A!B77,L5A!$S$1:$T$260,2,FALSE))","v":""},{"$f":"IF(A68=\"W0\",$Q$29,IF(QNST05_A!C77=\"\",\"\",VLOOKUP(QNST05_A!C77,L5A!$P$1:$Q$29,2,FALSE)))","v":""},{"$f":"IF(A68=\"W0\",$L$21,IF(QNST05_A!D77=\"\",\"\",VLOOKUP(QNST05_A!D77,$K$18:$L$21,2,FALSE)))","v":""},{"$f":"IF(ISERROR(ROUND(QNST05_A!E77,4))=TRUE,\"\",ROUND(QNST05_A!E77,4))","v":0},{"$f":"IF(ISERROR(ROUND(QNST05_A!F77,4))=TRUE,\"\",ROUND(QNST05_A!F77,4))","v":0},{"$f":"IF(ISERROR(ROUND(QNST05_A!G77,4))=TRUE,\"\",ROUND(QNST05_A!G77,4))","v":0},{"$f":"IF(ISERROR(ROUND(QNST05_A!H77,4))=TRUE,\"\",ROUND(QNST05_A!H77,4))","v":0},null,null,null,null,null,null,null,null,null,null,null,"Chile","CL"]
[{"$f":"IF(QNST05_A!B78=\"\",\"\",VLOOKUP(QNST05_A!B78,L5A!$S$1:$T$260,2,FALSE))","v":""},{"$f":"IF(A69=\"W0\",$Q$29,IF(QNST05_A!C78=\"\",\"\",VLOOKUP(QNST05_A!C78,L5A!$P$1:$Q$29,2,FALSE)))","v":""},{"$f":"IF(A69=\"W0\",$L$21,IF(QNST05_A!D78=\"\",\"\",VLOOKUP(QNST05_A!D78,$K$18:$L$21,2,FALSE)))","v":""},{"$f":"IF(ISERROR(ROUND(QNST05_A!E78,4))=TRUE,\"\",ROUND(QNST05_A!E78,4))","v":0},{"$f":"IF(ISERROR(ROUND(QNST05_A!F78,4))=TRUE,\"\",ROUND(QNST05_A!F78,4))","v":0},{"$f":"IF(ISERROR(ROUND(QNST05_A!G78,4))=TRUE,\"\",ROUND(QNST05_A!G78,4))","v":0},{"$f":"IF(ISERROR(ROUND(QNST05_A!H78,4))=TRUE,\"\",ROUND(QNST05_A!H78,4))","v":0},null,null,null,null,null,null,null,null,null,null,null,"China","CN"]
[{"$f":"IF(QNST05_A!B79=\"\",\"\",VLOOKUP(QNST05_A!B79,L5A!$S$1:$T$260,2,FALSE))","v":""},{"$f":"IF(A70=\"W0\",$Q$29,IF(QNST05_A!C79=\"\",\"\",VLOOKUP(QNST05_A!C79,L5A!$P$1:$Q$29,2,FALSE)))","v":""},{"$f":"IF(A70=\"W0\",$L$21,IF(QNST05_A!D79=\"\",\"\",VLOOKUP(QNST05_A!D79,$K$18:$L$21,2,FALSE)))","v":""},{"$f":"IF(ISERROR(ROUND(QNST05_A!E79,4))=TRUE,\"\",ROUND(QNST05_A!E79,4))","v":0},{"$f":"IF(ISERROR(ROUND(QNST05_A!F79,4))=TRUE,\"\",ROUND(QNST05_A!F79,4))","v":0},{"$f":"IF(ISERROR(ROUND(QNST05_A!G79,4))=TRUE,\"\",ROUND(QNST05_A!G79,4))","v":0},{"$f":"IF(ISERROR(ROUND(QNST05_A!H79,4))=TRUE,\"\",ROUND(QNST05_A!H79,4))","v":0},null,null,null,null,null,null,null,null,null,null,null,"Colombia","CO"]
[{"$f":"IF(QNST05_A!B80=\"\",\"\",VLOOKUP(QNST05_A!B80,L5A!$S$1:$T$260,2,FALSE))","v":""},{"$f":"IF(A71=\"W0\",$Q$29,IF(QNST05_A!C80=\"\",\"\",VLOOKUP(QNST05_A!C80,L5A!$P$1:$Q$29,2,FALSE)))","v":""},{"$f":"IF(A71=\"W0\",$L$21,IF(QNST05_A!D80=\"\",\"\",VLOOKUP(QNST05_A!D80,$K$18:$L$21,2,FALSE)))","v":""},{"$f":"IF(ISERROR(ROUND(QNST05_A!E80,4))=TRUE,\"\",ROUND(QNST05_A!E80,4))","v":0},{"$f":"IF(ISERROR(ROUND(QNST05_A!F80,4))=TRUE,\"\",ROUND(QNST05_A!F80,4))","v":0},{"$f":"IF(ISERROR(ROUND(QNST05_A!G80,4))=TRUE,\"\",ROUND(QNST05_A!G80,4))","v":0},{"$f":"IF(ISERROR(ROUND(QNST05_A!H80,4))=TRUE,\"\",ROUND(QNST05_A!H80,4))","v":0},null,null,null,null,null,null,null,null,null,null,null,"Comoros","KM"]
[{"$f":"IF(QNST05_A!B81=\"\",\"\",VLOOKUP(QNST05_A!B81,L5A!$S$1:$T$260,2,FALSE))","v":""},{"$f":"IF(A72=\"W0\",$Q$29,IF(QNST05_A!C81=\"\",\"\",VLOOKUP(QNST05_A!C81,L5A!$P$1:$Q$29,2,FALSE)))","v":""},{"$f":"IF(A72=\"W0\",$L$21,IF(QNST05_A!D81=\"\",\"\",VLOOKUP(QNST05_A!D81,$K$18:$L$21,2,FALSE)))","v":""},{"$f":"IF(ISERROR(ROUND(QNST05_A!E81,4))=TRUE,\"\",ROUND(QNST05_A!E81,4))","v":0},{"$f":"IF(ISERROR(ROUND(QNST05_A!F81,4))=TRUE,\"\",ROUND(QNST05_A!F81,4))","v":0},{"$f":"IF(ISERROR(ROUND(QNST05_A!G81,4))=TRUE,\"\",ROUND(QNST05_A!G81,4))","v":0},{"$f":"IF(ISERROR(ROUND(QNST05_A!H81,4))=TRUE,\"\",ROUND(QNST05_A!H81,4))","v":0},null,null,null,null,null,null,null,null,null,null,null,"Congo","CG"]
[{"$f":"IF(QNST05_A!B82=\"\",\"\",VLOOKUP(QNST05_A!B82,L5A!$S$1:$T$260,2,FALSE))","v":""},{"$f":"IF(A73=\"W0\",$Q$29,IF(QNST05_A!C82=\"\",\"\",VLOOKUP(QNST05_A!C82,L5A!$P$1:$Q$29,2,FALSE)))","v":""},{"$f":"IF(A73=\"W0\",$L$21,IF(QNST05_A!D82=\"\",\"\",VLOOKUP(QNST05_A!D82,$K$18:$L$21,2,FALSE)))","v":""},{"$f":"IF(ISERROR(ROUND(QNST05_A!E82,4))=TRUE,\"\",ROUND(QNST05_A!E82,4))","v":0},{"$f":"IF(ISERROR(ROUND(QNST05_A!F82,4))=TRUE,\"\",ROUND(QNST05_A!F82,4))","v":0},{"$f":"IF(ISERROR(ROUND(QNST05_A!G82,4))=TRUE,\"\",ROUND(QNST05_A!G82,4))","v":0},{"$f":"IF(ISERROR(ROUND(QNST05_A!H82,4))=TRUE,\"\",ROUND(QNST05_A!H82,4))","v":0},null,null,null,null,null,null,null,null,null,null,null,"Costa Rica","CR"]
[{"$f":"IF(QNST05_A!B83=\"\",\"\",VLOOKUP(QNST05_A!B83,L5A!$S$1:$T$260,2,FALSE))","v":""},{"$f":"IF(A74=\"W0\",$Q$29,IF(QNST05_A!C83=\"\",\"\",VLOOKUP(QNST05_A!C83,L5A!$P$1:$Q$29,2,FALSE)))","v":""},{"$f":"IF(A74=\"W0\",$L$21,IF(QNST05_A!D83=\"\",\"\",VLOOKUP(QNST05_A!D83,$K$18:$L$21,2,FALSE)))","v":""},{"$f":"IF(ISERROR(ROUND(QNST05_A!E83,4))=TRUE,\"\",ROUND(QNST05_A!E83,4))","v":0},{"$f":"IF(ISERROR(ROUND(QNST05_A!F83,4))=TRUE,\"\",ROUND(QNST05_A!F83,4))","v":0},{"$f":"IF(ISERROR(ROUND(QNST05_A!G83,4))=TRUE,\"\",ROUND(QNST05_A!G83,4))","v":0},{"$f":"IF(ISERROR(ROUND(QNST05_A!H83,4))=TRUE,\"\",ROUND(QNST05_A!H83,4))","v":0},null,null,null,null,null,null,null,null,null,null,null,"Côte d'Ivoire","CI"]
[{"$f":"IF(QNST05_A!B84=\"\",\"\",VLOOKUP(QNST05_A!B84,L5A!$S$1:$T$260,2,FALSE))","v":""},{"$f":"IF(A75=\"W0\",$Q$29,IF(QNST05_A!C84=\"\",\"\",VLOOKUP(QNST05_A!C84,L5A!$P$1:$Q$29,2,FALSE)))","v":""},{"$f":"IF(A75=\"W0\",$L$21,IF(QNST05_A!D84=\"\",\"\",VLOOKUP(QNST05_A!D84,$K$18:$L$21,2,FALSE)))","v":""},{"$f":"IF(ISERROR(ROUND(QNST05_A!E84,4))=TRUE,\"\",ROUND(QNST05_A!E84,4))","v":0},{"$f":"IF(ISERROR(ROUND(QNST05_A!F84,4))=TRUE,\"\",ROUND(QNST05_A!F84,4))","v":0},{"$f":"IF(ISERROR(ROUND(QNST05_A!G84,4))=TRUE,\"\",ROUND(QNST05_A!G84,4))","v":0},{"$f":"IF(ISERROR(ROUND(QNST05_A!H84,4))=TRUE,\"\",ROUND(QNST05_A!H84,4))","v":0},null,null,null,null,null,null,null,null,null,null,null,"Cuba","CU"]
[{"$f":"IF(QNST05_A!B85=\"\",\"\",VLOOKUP(QNST05_A!B85,L5A!$S$1:$T$260,2,FALSE))","v":""},{"$f":"IF(A76=\"W0\",$Q$29,IF(QNST05_A!C85=\"\",\"\",VLOOKUP(QNST05_A!C85,L5A!$P$1:$Q$29,2,FALSE)))","v":""},{"$f":"IF(A76=\"W0\",$L$21,IF(QNST05_A!D85=\"\",\"\",VLOOKUP(QNST05_A!D85,$K$18:$L$21,2,FALSE)))","v":""},{"$f":"IF(ISERROR(ROUND(QNST05_A!E85,4))=TRUE,\"\",ROUND(QNST05_A!E85,4))","v":0},{"$f":"IF(ISERROR(ROUND(QNST05_A!F85,4))=TRUE,\"\",ROUND(QNST05_A!F85,4))","v":0},{"$f":"IF(ISERROR(ROUND(QNST05_A!G85,4))=TRUE,\"\",ROUND(QNST05_A!G85,4))","v":0},{"$f":"IF(ISERROR(ROUND(QNST05_A!H85,4))=TRUE,\"\",ROUND(QNST05_A!H85,4))","v":0},null,null,null,null,null,null,null,null,null,null,null,"Djibouti","DJ"]
[{"$f":"IF(QNST05_A!B86=\"\",\"\",VLOOKUP(QNST05_A!B86,L5A!$S$1:$T$260,2,FALSE))","v":""},{"$f":"IF(A77=\"W0\",$Q$29,IF(QNST05_A!C86=\"\",\"\",VLOOKUP(QNST05_A!C86,L5A!$P$1:$Q$29,2,FALSE)))","v":""},{"$f":"IF(A77=\"W0\",$L$21,IF(QNST05_A!D86=\"\",\"\",VLOOKUP(QNST05_A!D86,$K$18:$L$21,2,FALSE)))","v":""},{"$f":"IF(ISERROR(ROUND(QNST05_A!E86,4))=TRUE,\"\",ROUND(QNST05_A!E86,4))","v":0},{"$f":"IF(ISERROR(ROUND(QNST05_A!F86,4))=TRUE,\"\",ROUND(QNST05_A!F86,4))","v":0},{"$f":"IF(ISERROR(ROUND(QNST05_A!G86,4))=TRUE,\"\",ROUND(QNST05_A!G86,4))","v":0},{"$f":"IF(ISERROR(ROUND(QNST05_A!H86,4))=TRUE,\"\",ROUND(QNST05_A!H86,4))","v":0},null,null,null,null,null,null,null,null,null,null,null,"Dominica","DM"]
[{"$f":"IF(QNST05_A!B87=\"\",\"\",VLOOKUP(QNST05_A!B87,L5A!$S$1:$T$260,2,FALSE))","v":""},{"$f":"IF(A78=\"W0\",$Q$29,IF(QNST05_A!C87=\"\",\"\",VLOOKUP(QNST05_A!C87,L5A!$P$1:$Q$29,2,FALSE)))","v":""},{"$f":"IF(A78=\"W0\",$L$21,IF(QNST05_A!D87=\"\",\"\",VLOOKUP(QNST05_A!D87,$K$18:$L$21,2,FALSE)))","v":""},{"$f":"IF(ISERROR(ROUND(QNST05_A!E87,4))=TRUE,\"\",ROUND(QNST05_A!E87,4))","v":0},{"$f":"IF(ISERROR(ROUND(QNST05_A!F87,4))=TRUE,\"\",ROUND(QNST05_A!F87,4))","v":0},{"$f":"IF(ISERROR(ROUND(QNST05_A!G87,4))=TRUE,\"\",ROUND(QNST05_A!G87,4))","v":0},{"$f":"IF(ISERROR(ROUND(QNST05_A!H87,4))=TRUE,\"\",ROUND(QNST05_A!H87,4))","v":0},null,null,null,null,null,null,null,null,null,null,null,"Dominican Republic","DO"]
[{"$f":"IF(QNST05_A!B88=\"\",\"\",VLOOKUP(QNST05_A!B88,L5A!$S$1:$T$260,2,FALSE))","v":""},{"$f":"IF(A79=\"W0\",$Q$29,IF(QNST05_A!C88=\"\",\"\",VLOOKUP(QNST05_A!C88,L5A!$P$1:$Q$29,2,FALSE)))","v":""},{"$f":"IF(A79=\"W0\",$L$21,IF(QNST05_A!D88=\"\",\"\",VLOOKUP(QNST05_A!D88,$K$18:$L$21,2,FALSE)))","v":""},{"$f":"IF(ISERROR(ROUND(QNST05_A!E88,4))=TRUE,\"\",ROUND(QNST05_A!E88,4))","v":0},{"$f":"IF(ISERROR(ROUND(QNST05_A!F88,4))=TRUE,\"\",ROUND(QNST05_A!F88,4))","v":0},{"$f":"IF(ISERROR(ROUND(QNST05_A!G88,4))=TRUE,\"\",ROUND(QNST05_A!G88,4))","v":0},{"$f":"IF(ISERROR(ROUND(QNST05_A!H88,4))=TRUE,\"\",ROUND(QNST05_A!H88,4))","v":0},null,null,null,null,null,null,null,null,null,null,null,"CONGO, THE DEMOCRATIC REPUBLIC OF THE","CD"]
[{"$f":"IF(QNST05_A!B89=\"\",\"\",VLOOKUP(QNST05_A!B89,L5A!$S$1:$T$260,2,FALSE))","v":""},{"$f":"IF(A80=\"W0\",$Q$29,IF(QNST05_A!C89=\"\",\"\",VLOOKUP(QNST05_A!C89,L5A!$P$1:$Q$29,2,FALSE)))","v":""},{"$f":"IF(A80=\"W0\",$L$21,IF(QNST05_A!D89=\"\",\"\",VLOOKUP(QNST05_A!D89,$K$18:$L$21,2,FALSE)))","v":""},{"$f":"IF(ISERROR(ROUND(QNST05_A!E89,4))=TRUE,\"\",ROUND(QNST05_A!E89,4))","v":0},{"$f":"IF(ISERROR(ROUND(QNST05_A!F89,4))=TRUE,\"\",ROUND(QNST05_A!F89,4))","v":0},{"$f":"IF(ISERROR(ROUND(QNST05_A!G89,4))=TRUE,\"\",ROUND(QNST05_A!G89,4))","v":0},{"$f":"IF(ISERROR(ROUND(QNST05_A!H89,4))=TRUE,\"\",ROUND(QNST05_A!H89,4))","v":0},null,null,null,null,null,null,null,null,null,null,null,"Ecuador","EC"]
[{"$f":"IF(QNST05_A!B90=\"\",\"\",VLOOKUP(QNST05_A!B90,L5A!$S$1:$T$260,2,FALSE))","v":""},{"$f":"IF(A81=\"W0\",$Q$29,IF(QNST05_A!C90=\"\",\"\",VLOOKUP(QNST05_A!C90,L5A!$P$1:$Q$29,2,FALSE)))","v":""},{"$f":"IF(A81=\"W0\",$L$21,IF(QNST05_A!D90=\"\",\"\",VLOOKUP(QNST05_A!D90,$K$18:$L$21,2,FALSE)))","v":""},{"$f":"IF(ISERROR(ROUND(QNST05_A!E90,4))=TRUE,\"\",ROUND(QNST05_A!E90,4))","v":0},{"$f":"IF(ISERROR(ROUND(QNST05_A!F90,4))=TRUE,\"\",ROUND(QNST05_A!F90,4))","v":0},{"$f":"IF(ISERROR(ROUND(QNST05_A!G90,4))=TRUE,\"\",ROUND(QNST05_A!G90,4))","v":0},{"$f":"IF(ISERROR(ROUND(QNST05_A!H90,4))=TRUE,\"\",ROUND(QNST05_A!H90,4))","v":0},null,null,null,null,null,null,null,null,null,null,null,"Egypt","EG"]
[{"$f":"IF(QNST05_A!B91=\"\",\"\",VLOOKUP(QNST05_A!B91,L5A!$S$1:$T$260,2,FALSE))","v":""},{"$f":"IF(A82=\"W0\",$Q$29,IF(QNST05_A!C91=\"\",\"\",VLOOKUP(QNST05_A!C91,L5A!$P$1:$Q$29,2,FALSE)))","v":""},{"$f":"IF(A82=\"W0\",$L$21,IF(QNST05_A!D91=\"\",\"\",VLOOKUP(QNST05_A!D91,$K$18:$L$21,2,FALSE)))","v":""},{"$f":"IF(ISERROR(ROUND(QNST05_A!E91,4))=TRUE,\"\",ROUND(QNST05_A!E91,4))","v":0},{"$f":"IF(ISERROR(ROUND(QNST05_A!F91,4))=TRUE,\"\",ROUND(QNST05_A!F91,4))","v":0},{"$f":"IF(ISERROR(ROUND(QNST05_A!G91,4))=TRUE,\"\",ROUND(QNST05_A!G91,4))","v":0},{"$f":"IF(ISERROR(ROUND(QNST05_A!H91,4))=TRUE,\"\",ROUND(QNST05_A!H91,4))","v":0},null,null,null,null,null,null,null,null,null,null,null,"El Salvador","SV"]
[{"$f":"IF(QNST05_A!B92=\"\",\"\",VLOOKUP(QNST05_A!B92,L5A!$S$1:$T$260,2,FALSE))","v":""},{"$f":"IF(A83=\"W0\",$Q$29,IF(QNST05_A!C92=\"\",\"\",VLOOKUP(QNST05_A!C92,L5A!$P$1:$Q$29,2,FALSE)))","v":""},{"$f":"IF(A83=\"W0\",$L$21,IF(QNST05_A!D92=\"\",\"\",VLOOKUP(QNST05_A!D92,$K$18:$L$21,2,FALSE)))","v":""},{"$f":"IF(ISERROR(ROUND(QNST05_A!E92,4))=TRUE,\"\",ROUND(QNST05_A!E92,4))","v":0},{"$f":"IF(ISERROR(ROUND(QNST05_A!F92,4))=TRUE,\"\",ROUND(QNST05_A!F92,4))","v":0},{"$f":"IF(ISERROR(ROUND(QNST05_A!G92,4))=TRUE,\"\",ROUND(QNST05_A!G92,4))","v":0},{"$f":"IF(ISERROR(ROUND(QNST05_A!H92,4))=TRUE,\"\",ROUND(QNST05_A!H92,4))","v":0},null,null,null,null,null,null,null,null,null,null,null,"Equatorial Guinea","GQ"]
[{"$f":"IF(QNST05_A!B93=\"\",\"\",VLOOKUP(QNST05_A!B93,L5A!$S$1:$T$260,2,FALSE))","v":""},{"$f":"IF(A84=\"W0\",$Q$29,IF(QNST05_A!C93=\"\",\"\",VLOOKUP(QNST05_A!C93,L5A!$P$1:$Q$29,2,FALSE)))","v":""},{"$f":"IF(A84=\"W0\",$L$21,IF(QNST05_A!D93=\"\",\"\",VLOOKUP(QNST05_A!D93,$K$18:$L$21,2,FALSE)))","v":""},{"$f":"IF(ISERROR(ROUND(QNST05_A!E93,4))=TRUE,\"\",ROUND(QNST05_A!E93,4))","v":0},{"$f":"IF(ISERROR(ROUND(QNST05_A!F93,4))=TRUE,\"\",ROUND(QNST05_A!F93,4))","v":0},{"$f":"IF(ISERROR(ROUND(QNST05_A!G93,4))=TRUE,\"\",ROUND(QNST05_A!G93,4))","v":0},{"$f":"IF(ISERROR(ROUND(QNST05_A!H93,4))=TRUE,\"\",ROUND(QNST05_A!H93,4))","v":0},null,null,null,null,null,null,null,null,null,null,null,"Eritrea","ER"]
[{"$f":"IF(QNST05_A!B94=\"\",\"\",VLOOKUP(QNST05_A!B94,L5A!$S$1:$T$260,2,FALSE))","v":""},{"$f":"IF(A85=\"W0\",$Q$29,IF(QNST05_A!C94=\"\",\"\",VLOOKUP(QNST05_A!C94,L5A!$P$1:$Q$29,2,FALSE)))","v":""},{"$f":"IF(A85=\"W0\",$L$21,IF(QNST05_A!D94=\"\",\"\",VLOOKUP(QNST05_A!D94,$K$18:$L$21,2,FALSE)))","v":""},{"$f":"IF(ISERROR(ROUND(QNST05_A!E94,4))=TRUE,\"\",ROUND(QNST05_A!E94,4))","v":0},{"$f":"IF(ISERROR(ROUND(QNST05_A!F94,4))=TRUE,\"\",ROUND(QNST05_A!F94,4))","v":0},{"$f":"IF(ISERROR(ROUND(QNST05_A!G94,4))=TRUE,\"\",ROUND(QNST05_A!G94,4))","v":0},{"$f":"IF(ISERROR(ROUND(QNST05_A!H94,4))=TRUE,\"\",ROUND(QNST05_A!H94,4))","v":0},null,null,null,null,null,null,null,null,null,null,null,"Estonia","EE"]
[{"$f":"IF(QNST05_A!B95=\"\",\"\",VLOOKUP(QNST05_A!B95,L5A!$S$1:$T$260,2,FALSE))","v":""},{"$f":"IF(A86=\"W0\",$Q$29,IF(QNST05_A!C95=\"\",\"\",VLOOKUP(QNST05_A!C95,L5A!$P$1:$Q$29,2,FALSE)))","v":""},{"$f":"IF(A86=\"W0\",$L$21,IF(QNST05_A!D95=\"\",\"\",VLOOKUP(QNST05_A!D95,$K$18:$L$21,2,FALSE)))","v":""},{"$f":"IF(ISERROR(ROUND(QNST05_A!E95,4))=TRUE,\"\",ROUND(QNST05_A!E95,4))","v":0},{"$f":"IF(ISERROR(ROUND(QNST05_A!F95,4))=TRUE,\"\",ROUND(QNST05_A!F95,4))","v":0},{"$f":"IF(ISERROR(ROUND(QNST05_A!G95,4))=TRUE,\"\",ROUND(QNST05_A!G95,4))","v":0},{"$f":"IF(ISERROR(ROUND(QNST05_A!H95,4))=TRUE,\"\",ROUND(QNST05_A!H95,4))","v":0},null,null,null,null,null,null,null,null,null,null,null,"Ethiopia","ET"]
[{"$f":"IF(QNST05_A!B96=\"\",\"\",VLOOKUP(QNST05_A!B96,L5A!$S$1:$T$260,2,FALSE))","v":""},{"$f":"IF(A87=\"W0\",$Q$29,IF(QNST05_A!C96=\"\",\"\",VLOOKUP(QNST05_A!C96,L5A!$P$1:$Q$29,2,FALSE)))","v":""},{"$f":"IF(A87=\"W0\",$L$21,IF(QNST05_A!D96=\"\",\"\",VLOOKUP(QNST05_A!D96,$K$18:$L$21,2,FALSE)))","v":""},{"$f":"IF(ISERROR(ROUND(QNST05_A!E96,4))=TRUE,\"\",ROUND(QNST05_A!E96,4))","v":0},{"$f":"IF(ISERROR(ROUND(QNST05_A!F96,4))=TRUE,\"\",ROUND(QNST05_A!F96,4))","v":0},{"$f":"IF(ISERROR(ROUND(QNST05_A!G96,4))=TRUE,\"\",ROUND(QNST05_A!G96,4))","v":0},{"$f":"IF(ISERROR(ROUND(QNST05_A!H96,4))=TRUE,\"\",ROUND(QNST05_A!H96,4))","v":0},null,null,null,null,null,null,null,null,null,null,null,"Fiji","FJ"]
[{"$f":"IF(QNST05_A!B97=\"\",\"\",VLOOKUP(QNST05_A!B97,L5A!$S$1:$T$260,2,FALSE))","v":""},{"$f":"IF(A88=\"W0\",$Q$29,IF(QNST05_A!C97=\"\",\"\",VLOOKUP(QNST05_A!C97,L5A!$P$1:$Q$29,2,FALSE)))","v":""},{"$f":"IF(A88=\"W0\",$L$21,IF(QNST05_A!D97=\"\",\"\",VLOOKUP(QNST05_A!D97,$K$18:$L$21,2,FALSE)))","v":""},{"$f":"IF(ISERROR(ROUND(QNST05_A!E97,4))=TRUE,\"\",ROUND(QNST05_A!E97,4))","v":0},{"$f":"IF(ISERROR(ROUND(QNST05_A!F97,4))=TRUE,\"\",ROUND(QNST05_A!F97,4))","v":0},{"$f":"IF(ISERROR(ROUND(QNST05_A!G97,4))=TRUE,\"\",ROUND(QNST05_A!G97,4))","v":0},{"$f":"IF(ISERROR(ROUND(QNST05_A!H97,4))=TRUE,\"\",ROUND(QNST05_A!H97,4))","v":0},null,null,null,null,null,null,null,null,null,null,null,"Gabon","GA"]
[{"$f":"IF(QNST05_A!B98=\"\",\"\",VLOOKUP(QNST05_A!B98,L5A!$S$1:$T$260,2,FALSE))","v":""},{"$f":"IF(A89=\"W0\",$Q$29,IF(QNST05_A!C98=\"\",\"\",VLOOKUP(QNST05_A!C98,L5A!$P$1:$Q$29,2,FALSE)))","v":""},{"$f":"IF(A89=\"W0\",$L$21,IF(QNST05_A!D98=\"\",\"\",VLOOKUP(QNST05_A!D98,$K$18:$L$21,2,FALSE)))","v":""},{"$f":"IF(ISERROR(ROUND(QNST05_A!E98,4))=TRUE,\"\",ROUND(QNST05_A!E98,4))","v":0},{"$f":"IF(ISERROR(ROUND(QNST05_A!F98,4))=TRUE,\"\",ROUND(QNST05_A!F98,4))","v":0},{"$f":"IF(ISERROR(ROUND(QNST05_A!G98,4))=TRUE,\"\",ROUND(QNST05_A!G98,4))","v":0},{"$f":"IF(ISERROR(ROUND(QNST05_A!H98,4))=TRUE,\"\",ROUND(QNST05_A!H98,4))","v":0},null,null,null,null,null,null,null,null,null,null,null,"Gambia","GM"]
[{"$f":"IF(QNST05_A!B99=\"\",\"\",VLOOKUP(QNST05_A!B99,L5A!$S$1:$T$260,2,FALSE))","v":""},{"$f":"IF(A90=\"W0\",$Q$29,IF(QNST05_A!C99=\"\",\"\",VLOOKUP(QNST05_A!C99,L5A!$P$1:$Q$29,2,FALSE)))","v":""},{"$f":"IF(A90=\"W0\",$L$21,IF(QNST05_A!D99=\"\",\"\",VLOOKUP(QNST05_A!D99,$K$18:$L$21,2,FALSE)))","v":""},{"$f":"IF(ISERROR(ROUND(QNST05_A!E99,4))=TRUE,\"\",ROUND(QNST05_A!E99,4))","v":0},{"$f":"IF(ISERROR(ROUND(QNST05_A!F99,4))=TRUE,\"\",ROUND(QNST05_A!F99,4))","v":0},{"$f":"IF(ISERROR(ROUND(QNST05_A!G99,4))=TRUE,\"\",ROUND(QNST05_A!G99,4))","v":0},{"$f":"IF(ISERROR(ROUND(QNST05_A!H99,4))=TRUE,\"\",ROUND(QNST05_A!H99,4))","v":0},null,null,null,null,null,null,null,null,null,null,null,"Georgia","GE"]
[{"$f":"IF(QNST05_A!B100=\"\",\"\",VLOOKUP(QNST05_A!B100,L5A!$S$1:$T$260,2,FALSE))","v":""},{"$f":"IF(A91=\"W0\",$Q$29,IF(QNST05_A!C100=\"\",\"\",VLOOKUP(QNST05_A!C100,L5A!$P$1:$Q$29,2,FALSE)))","v":""},{"$f":"IF(A91=\"W0\",$L$21,IF(QNST05_A!D100=\"\",\"\",VLOOKUP(QNST05_A!D100,$K$18:$L$21,2,FALSE)))","v":""},{"$f":"IF(ISERROR(ROUND(QNST05_A!E100,4))=TRUE,\"\",ROUND(QNST05_A!E100,4))","v":0},{"$f":"IF(ISERROR(ROUND(QNST05_A!F100,4))=TRUE,\"\",ROUND(QNST05_A!F100,4))","v":0},{"$f":"IF(ISERROR(ROUND(QNST05_A!G100,4))=TRUE,\"\",ROUND(QNST05_A!G100,4))","v":0},{"$f":"IF(ISERROR(ROUND(QNST05_A!H100,4))=TRUE,\"\",ROUND(QNST05_A!H100,4))","v":0},null,null,null,null,null,null,null,null,null,null,null,"Ghana","GH"]
[{"$f":"IF(QNST05_A!B101=\"\",\"\",VLOOKUP(QNST05_A!B101,L5A!$S$1:$T$260,2,FALSE))","v":""},{"$f":"IF(A92=\"W0\",$Q$29,IF(QNST05_A!C101=\"\",\"\",VLOOKUP(QNST05_A!C101,L5A!$P$1:$Q$29,2,FALSE)))","v":""},{"$f":"IF(A92=\"W0\",$L$21,IF(QNST05_A!D101=\"\",\"\",VLOOKUP(QNST05_A!D101,$K$18:$L$21,2,FALSE)))","v":""},{"$f":"IF(ISERROR(ROUND(QNST05_A!E101,4))=TRUE,\"\",ROUND(QNST05_A!E101,4))","v":0},{"$f":"IF(ISERROR(ROUND(QNST05_A!F101,4))=TRUE,\"\",ROUND(QNST05_A!F101,4))","v":0},{"$f":"IF(ISERROR(ROUND(QNST05_A!G101,4))=TRUE,\"\",ROUND(QNST05_A!G101,4))","v":0},{"$f":"IF(ISERROR(ROUND(QNST05_A!H101,4))=TRUE,\"\",ROUND(QNST05_A!H101,4))","v":0},null,null,null,null,null,null,null,null,null,null,null,"Grenada","GD"]
[{"$f":"IF(QNST05_A!B102=\"\",\"\",VLOOKUP(QNST05_A!B102,L5A!$S$1:$T$260,2,FALSE))","v":""},{"$f":"IF(A93=\"W0\",$Q$29,IF(QNST05_A!C102=\"\",\"\",VLOOKUP(QNST05_A!C102,L5A!$P$1:$Q$29,2,FALSE)))","v":""},{"$f":"IF(A93=\"W0\",$L$21,IF(QNST05_A!D102=\"\",\"\",VLOOKUP(QNST05_A!D102,$K$18:$L$21,2,FALSE)))","v":""},{"$f":"IF(ISERROR(ROUND(QNST05_A!E102,4))=TRUE,\"\",ROUND(QNST05_A!E102,4))","v":0},{"$f":"IF(ISERROR(ROUND(QNST05_A!F102,4))=TRUE,\"\",ROUND(QNST05_A!F102,4))","v":0},{"$f":"IF(ISERROR(ROUND(QNST05_A!G102,4))=TRUE,\"\",ROUND(QNST05_A!G102,4))","v":0},{"$f":"IF(ISERROR(ROUND(QNST05_A!H102,4))=TRUE,\"\",ROUND(QNST05_A!H102,4))","v":0},null,null,null,null,null,null,null,null,null,null,null,"Guatemala","GT"]
[{"$f":"IF(QNST05_A!B103=\"\",\"\",VLOOKUP(QNST05_A!B103,L5A!$S$1:$T$260,2,FALSE))","v":""},{"$f":"IF(A94=\"W0\",$Q$29,IF(QNST05_A!C103=\"\",\"\",VLOOKUP(QNST05_A!C103,L5A!$P$1:$Q$29,2,FALSE)))","v":""},{"$f":"IF(A94=\"W0\",$L$21,IF(QNST05_A!D103=\"\",\"\",VLOOKUP(QNST05_A!D103,$K$18:$L$21,2,FALSE)))","v":""},{"$f":"IF(ISERROR(ROUND(QNST05_A!E103,4))=TRUE,\"\",ROUND(QNST05_A!E103,4))","v":0},{"$f":"IF(ISERROR(ROUND(QNST05_A!F103,4))=TRUE,\"\",ROUND(QNST05_A!F103,4))","v":0},{"$f":"IF(ISERROR(ROUND(QNST05_A!G103,4))=TRUE,\"\",ROUND(QNST05_A!G103,4))","v":0},{"$f":"IF(ISERROR(ROUND(QNST05_A!H103,4))=TRUE,\"\",ROUND(QNST05_A!H103,4))","v":0},null,null,null,null,null,null,null,null,null,null,null,"Guinea","GN"]
[{"$f":"IF(QNST05_A!B104=\"\",\"\",VLOOKUP(QNST05_A!B104,L5A!$S$1:$T$260,2,FALSE))","v":""},{"$f":"IF(A95=\"W0\",$Q$29,IF(QNST05_A!C104=\"\",\"\",VLOOKUP(QNST05_A!C104,L5A!$P$1:$Q$29,2,FALSE)))","v":""},{"$f":"IF(A95=\"W0\",$L$21,IF(QNST05_A!D104=\"\",\"\",VLOOKUP(QNST05_A!D104,$K$18:$L$21,2,FALSE)))","v":""},{"$f":"IF(ISERROR(ROUND(QNST05_A!E104,4))=TRUE,\"\",ROUND(QNST05_A!E104,4))","v":0},{"$f":"IF(ISERROR(ROUND(QNST05_A!F104,4))=TRUE,\"\",ROUND(QNST05_A!F104,4))","v":0},{"$f":"IF(ISERROR(ROUND(QNST05_A!G104,4))=TRUE,\"\",ROUND(QNST05_A!G104,4))","v":0},{"$f":"IF(ISERROR(ROUND(QNST05_A!H104,4))=TRUE,\"\",ROUND(QNST05_A!H104,4))","v":0},null,null,null,null,null,null,null,null,null,null,null,"Guinea-Bissau","GW"]
[{"$f":"IF(QNST05_A!B105=\"\",\"\",VLOOKUP(QNST05_A!B105,L5A!$S$1:$T$260,2,FALSE))","v":""},{"$f":"IF(A96=\"W0\",$Q$29,IF(QNST05_A!C105=\"\",\"\",VLOOKUP(QNST05_A!C105,L5A!$P$1:$Q$29,2,FALSE)))","v":""},{"$f":"IF(A96=\"W0\",$L$21,IF(QNST05_A!D105=\"\",\"\",VLOOKUP(QNST05_A!D105,$K$18:$L$21,2,FALSE)))","v":""},{"$f":"IF(ISERROR(ROUND(QNST05_A!E105,4))=TRUE,\"\",ROUND(QNST05_A!E105,4))","v":0},{"$f":"IF(ISERROR(ROUND(QNST05_A!F105,4))=TRUE,\"\",ROUND(QNST05_A!F105,4))","v":0},{"$f":"IF(ISERROR(ROUND(QNST05_A!G105,4))=TRUE,\"\",ROUND(QNST05_A!G105,4))","v":0},{"$f":"IF(ISERROR(ROUND(QNST05_A!H105,4))=TRUE,\"\",ROUND(QNST05_A!H105,4))","v":0},null,null,null,null,null,null,null,null,null,null,null,"Guyana","GY"]
[{"$f":"IF(QNST05_A!B106=\"\",\"\",VLOOKUP(QNST05_A!B106,L5A!$S$1:$T$260,2,FALSE))","v":""},{"$f":"IF(A97=\"W0\",$Q$29,IF(QNST05_A!C106=\"\",\"\",VLOOKUP(QNST05_A!C106,L5A!$P$1:$Q$29,2,FALSE)))","v":""},{"$f":"IF(A97=\"W0\",$L$21,IF(QNST05_A!D106=\"\",\"\",VLOOKUP(QNST05_A!D106,$K$18:$L$21,2,FALSE)))","v":""},{"$f":"IF(ISERROR(ROUND(QNST05_A!E106,4))=TRUE,\"\",ROUND(QNST05_A!E106,4))","v":0},{"$f":"IF(ISERROR(ROUND(QNST05_A!F106,4))=TRUE,\"\",ROUND(QNST05_A!F106,4))","v":0},{"$f":"IF(ISERROR(ROUND(QNST05_A!G106,4))=TRUE,\"\",ROUND(QNST05_A!G106,4))","v":0},{"$f":"IF(ISERROR(ROUND(QNST05_A!H106,4))=TRUE,\"\",ROUND(QNST05_A!H106,4))","v":0},null,null,null,null,null,null,null,null,null,null,null,"Haiti","HT"]
[{"$f":"IF(QNST05_A!B107=\"\",\"\",VLOOKUP(QNST05_A!B107,L5A!$S$1:$T$260,2,FALSE))","v":""},{"$f":"IF(A98=\"W0\",$Q$29,IF(QNST05_A!C107=\"\",\"\",VLOOKUP(QNST05_A!C107,L5A!$P$1:$Q$29,2,FALSE)))","v":""},{"$f":"IF(A98=\"W0\",$L$21,IF(QNST05_A!D107=\"\",\"\",VLOOKUP(QNST05_A!D107,$K$18:$L$21,2,FALSE)))","v":""},{"$f":"IF(ISERROR(ROUND(QNST05_A!E107,4))=TRUE,\"\",ROUND(QNST05_A!E107,4))","v":0},{"$f":"IF(ISERROR(ROUND(QNST05_A!F107,4))=TRUE,\"\",ROUND(QNST05_A!F107,4))","v":0},{"$f":"IF(ISERROR(ROUND(QNST05_A!G107,4))=TRUE,\"\",ROUND(QNST05_A!G107,4))","v":0},{"$f":"IF(ISERROR(ROUND(QNST05_A!H107,4))=TRUE,\"\",ROUND(QNST05_A!H107,4))","v":0},null,null,null,null,null,null,null,null,null,null,null,"HOLY SEE (VATICAN CITY STATE)","VA"]
[{"$f":"IF(QNST05_A!B108=\"\",\"\",VLOOKUP(QNST05_A!B108,L5A!$S$1:$T$260,2,FALSE))","v":""},{"$f":"IF(A99=\"W0\",$Q$29,IF(QNST05_A!C108=\"\",\"\",VLOOKUP(QNST05_A!C108,L5A!$P$1:$Q$29,2,FALSE)))","v":""},{"$f":"IF(A99=\"W0\",$L$21,IF(QNST05_A!D108=\"\",\"\",VLOOKUP(QNST05_A!D108,$K$18:$L$21,2,FALSE)))","v":""},{"$f":"IF(ISERROR(ROUND(QNST05_A!E108,4))=TRUE,\"\",ROUND(QNST05_A!E108,4))","v":0},{"$f":"IF(ISERROR(ROUND(QNST05_A!F108,4))=TRUE,\"\",ROUND(QNST05_A!F108,4))","v":0},{"$f":"IF(ISERROR(ROUND(QNST05_A!G108,4))=TRUE,\"\",ROUND(QNST05_A!G108,4))","v":0},{"$f":"IF(ISERROR(ROUND(QNST05_A!H108,4))=TRUE,\"\",ROUND(QNST05_A!H108,4))","v":0},null,null,null,null,null,null,null,null,null,null,null,"Honduras","HN"]
[{"$f":"IF(QNST05_A!B109=\"\",\"\",VLOOKUP(QNST05_A!B109,L5A!$S$1:$T$260,2,FALSE))","v":""},{"$f":"IF(A100=\"W0\",$Q$29,IF(QNST05_A!C109=\"\",\"\",VLOOKUP(QNST05_A!C109,L5A!$P$1:$Q$29,2,FALSE)))","v":""},{"$f":"IF(A100=\"W0\",$L$21,IF(QNST05_A!D109=\"\",\"\",VLOOKUP(QNST05_A!D109,$K$18:$L$21,2,FALSE)))","v":""},{"$f":"IF(ISERROR(ROUND(QNST05_A!E109,4))=TRUE,\"\",ROUND(QNST05_A!E109,4))","v":0},{"$f":"IF(ISERROR(ROUND(QNST05_A!F109,4))=TRUE,\"\",ROUND(QNST05_A!F109,4))","v":0},{"$f":"IF(ISERROR(ROUND(QNST05_A!G109,4))=TRUE,\"\",ROUND(QNST05_A!G109,4))","v":0},{"$f":"IF(ISERROR(ROUND(QNST05_A!H109,4))=TRUE,\"\",ROUND(QNST05_A!H109,4))","v":0},null,null,null,null,null,null,null,null,null,null,null,"India","IN"]
[{"$f":"IF(QNST05_A!B110=\"\",\"\",VLOOKUP(QNST05_A!B110,L5A!$S$1:$T$260,2,FALSE))","v":""},{"$f":"IF(A101=\"W0\",$Q$29,IF(QNST05_A!C110=\"\",\"\",VLOOKUP(QNST05_A!C110,L5A!$P$1:$Q$29,2,FALSE)))","v":""},{"$f":"IF(A101=\"W0\",$L$21,IF(QNST05_A!D110=\"\",\"\",VLOOKUP(QNST05_A!D110,$K$18:$L$21,2,FALSE)))","v":""},{"$f":"IF(ISERROR(ROUND(QNST05_A!E110,4))=TRUE,\"\",ROUND(QNST05_A!E110,4))","v":0},{"$f":"IF(ISERROR(ROUND(QNST05_A!F110,4))=TRUE,\"\",ROUND(QNST05_A!F110,4))","v":0},{"$f":"IF(ISERROR(ROUND(QNST05_A!G110,4))=TRUE,\"\",ROUND(QNST05_A!G110,4))","v":0},{"$f":"IF(ISERROR(ROUND(QNST05_A!H110,4))=TRUE,\"\",ROUND(QNST05_A!H110,4))","v":0},null,null,null,null,null,null,null,null,null,null,null,"Indonesia","ID"]
[{"$f":"IF(QNST05_A!B111=\"\",\"\",VLOOKUP(QNST05_A!B111,L5A!$S$1:$T$260,2,FALSE))","v":""},{"$f":"IF(A102=\"W0\",$Q$29,IF(QNST05_A!C111=\"\",\"\",VLOOKUP(QNST05_A!C111,L5A!$P$1:$Q$29,2,FALSE)))","v":""},{"$f":"IF(A102=\"W0\",$L$21,IF(QNST05_A!D111=\"\",\"\",VLOOKUP(QNST05_A!D111,$K$18:$L$21,2,FALSE)))","v":""},{"$f":"IF(ISERROR(ROUND(QNST05_A!E111,4))=TRUE,\"\",ROUND(QNST05_A!E111,4))","v":0},{"$f":"IF(ISERROR(ROUND(QNST05_A!F111,4))=TRUE,\"\",ROUND(QNST05_A!F111,4))","v":0},{"$f":"IF(ISERROR(ROUND(QNST05_A!G111,4))=TRUE,\"\",ROUND(QNST05_A!G111,4))","v":0},{"$f":"IF(ISERROR(ROUND(QNST05_A!H111,4))=TRUE,\"\",ROUND(QNST05_A!H111,4))","v":0},null,null,null,null,null,null,null,null,null,null,null,"IRAN, ISLAMIC REPUBLIC OF","IR"]
[{"$f":"IF(QNST05_A!B112=\"\",\"\",VLOOKUP(QNST05_A!B112,L5A!$S$1:$T$260,2,FALSE))","v":""},{"$f":"IF(A103=\"W0\",$Q$29,IF(QNST05_A!C112=\"\",\"\",VLOOKUP(QNST05_A!C112,L5A!$P$1:$Q$29,2,FALSE)))","v":""},{"$f":"IF(A103=\"W0\",$L$21,IF(QNST05_A!D112=\"\",\"\",VLOOKUP(QNST05_A!D112,$K$18:$L$21,2,FALSE)))","v":""},{"$f":"IF(ISERROR(ROUND(QNST05_A!E112,4))=TRUE,\"\",ROUND(QNST05_A!E112,4))","v":0},{"$f":"IF(ISERROR(ROUND(QNST05_A!F112,4))=TRUE,\"\",ROUND(QNST05_A!F112,4))","v":0},{"$f":"IF(ISERROR(ROUND(QNST05_A!G112,4))=TRUE,\"\",ROUND(QNST05_A!G112,4))","v":0},{"$f":"IF(ISERROR(ROUND(QNST05_A!H112,4))=TRUE,\"\",ROUND(QNST05_A!H112,4))","v":0},null,null,null,null,null,null,null,null,null,null,null,"Iraq","IQ"]
[{"$f":"IF(QNST05_A!B113=\"\",\"\",VLOOKUP(QNST05_A!B113,L5A!$S$1:$T$260,2,FALSE))","v":""},{"$f":"IF(A104=\"W0\",$Q$29,IF(QNST05_A!C113=\"\",\"\",VLOOKUP(QNST05_A!C113,L5A!$P$1:$Q$29,2,FALSE)))","v":""},{"$f":"IF(A104=\"W0\",$L$21,IF(QNST05_A!D113=\"\",\"\",VLOOKUP(QNST05_A!D113,$K$18:$L$21,2,FALSE)))","v":""},{"$f":"IF(ISERROR(ROUND(QNST05_A!E113,4))=TRUE,\"\",ROUND(QNST05_A!E113,4))","v":0},{"$f":"IF(ISERROR(ROUND(QNST05_A!F113,4))=TRUE,\"\",ROUND(QNST05_A!F113,4))","v":0},{"$f":"IF(ISERROR(ROUND(QNST05_A!G113,4))=TRUE,\"\",ROUND(QNST05_A!G113,4))","v":0},{"$f":"IF(ISERROR(ROUND(QNST05_A!H113,4))=TRUE,\"\",ROUND(QNST05_A!H113,4))","v":0},null,null,null,null,null,null,null,null,null,null,null,"Israel","IL"]
[{"$f":"IF(QNST05_A!B114=\"\",\"\",VLOOKUP(QNST05_A!B114,L5A!$S$1:$T$260,2,FALSE))","v":""},{"$f":"IF(A105=\"W0\",$Q$29,IF(QNST05_A!C114=\"\",\"\",VLOOKUP(QNST05_A!C114,L5A!$P$1:$Q$29,2,FALSE)))","v":""},{"$f":"IF(A105=\"W0\",$L$21,IF(QNST05_A!D114=\"\",\"\",VLOOKUP(QNST05_A!D114,$K$18:$L$21,2,FALSE)))","v":""},{"$f":"IF(ISERROR(ROUND(QNST05_A!E114,4))=TRUE,\"\",ROUND(QNST05_A!E114,4))","v":0},{"$f":"IF(ISERROR(ROUND(QNST05_A!F114,4))=TRUE,\"\",ROUND(QNST05_A!F114,4))","v":0},{"$f":"IF(ISERROR(ROUND(QNST05_A!G114,4))=TRUE,\"\",ROUND(QNST05_A!G114,4))","v":0},{"$f":"IF(ISERROR(ROUND(QNST05_A!H114,4))=TRUE,\"\",ROUND(QNST05_A!H114,4))","v":0},null,null,null,null,null,null,null,null,null,null,null,"Jamaica","JM"]
[{"$f":"IF(QNST05_A!B115=\"\",\"\",VLOOKUP(QNST05_A!B115,L5A!$S$1:$T$260,2,FALSE))","v":""},{"$f":"IF(A106=\"W0\",$Q$29,IF(QNST05_A!C115=\"\",\"\",VLOOKUP(QNST05_A!C115,L5A!$P$1:$Q$29,2,FALSE)))","v":""},{"$f":"IF(A106=\"W0\",$L$21,IF(QNST05_A!D115=\"\",\"\",VLOOKUP(QNST05_A!D115,$K$18:$L$21,2,FALSE)))","v":""},{"$f":"IF(ISERROR(ROUND(QNST05_A!E115,4))=TRUE,\"\",ROUND(QNST05_A!E115,4))","v":0},{"$f":"IF(ISERROR(ROUND(QNST05_A!F115,4))=TRUE,\"\",ROUND(QNST05_A!F115,4))","v":0},{"$f":"IF(ISERROR(ROUND(QNST05_A!G115,4))=TRUE,\"\",ROUND(QNST05_A!G115,4))","v":0},{"$f":"IF(ISERROR(ROUND(QNST05_A!H115,4))=TRUE,\"\",ROUND(QNST05_A!H115,4))","v":0},null,null,null,null,null,null,null,null,null,null,null,"Japan","JP"]
[{"$f":"IF(QNST05_A!B116=\"\",\"\",VLOOKUP(QNST05_A!B116,L5A!$S$1:$T$260,2,FALSE))","v":""},{"$f":"IF(A107=\"W0\",$Q$29,IF(QNST05_A!C116=\"\",\"\",VLOOKUP(QNST05_A!C116,L5A!$P$1:$Q$29,2,FALSE)))","v":""},{"$f":"IF(A107=\"W0\",$L$21,IF(QNST05_A!D116=\"\",\"\",VLOOKUP(QNST05_A!D116,$K$18:$L$21,2,FALSE)))","v":""},{"$f":"IF(ISERROR(ROUND(QNST05_A!E116,4))=TRUE,\"\",ROUND(QNST05_A!E116,4))","v":0},{"$f":"IF(ISERROR(ROUND(QNST05_A!F116,4))=TRUE,\"\",ROUND(QNST05_A!F116,4))","v":0},{"$f":"IF(ISERROR(ROUND(QNST05_A!G116,4))=TRUE,\"\",ROUND(QNST05_A!G116,4))","v":0},{"$f":"IF(ISERROR(ROUND(QNST05_A!H116,4))=TRUE,\"\",ROUND(QNST05_A!H116,4))","v":0},null,null,null,null,null,null,null,null,null,null,null,"Jordan","JO"]
[{"$f":"IF(QNST05_A!B117=\"\",\"\",VLOOKUP(QNST05_A!B117,L5A!$S$1:$T$260,2,FALSE))","v":""},{"$f":"IF(A108=\"W0\",$Q$29,IF(QNST05_A!C117=\"\",\"\",VLOOKUP(QNST05_A!C117,L5A!$P$1:$Q$29,2,FALSE)))","v":""},{"$f":"IF(A108=\"W0\",$L$21,IF(QNST05_A!D117=\"\",\"\",VLOOKUP(QNST05_A!D117,$K$18:$L$21,2,FALSE)))","v":""},{"$f":"IF(ISERROR(ROUND(QNST05_A!E117,4))=TRUE,\"\",ROUND(QNST05_A!E117,4))","v":0},{"$f":"IF(ISERROR(ROUND(QNST05_A!F117,4))=TRUE,\"\",ROUND(QNST05_A!F117,4))","v":0},{"$f":"IF(ISERROR(ROUND(QNST05_A!G117,4))=TRUE,\"\",ROUND(QNST05_A!G117,4))","v":0},{"$f":"IF(ISERROR(ROUND(QNST05_A!H117,4))=TRUE,\"\",ROUND(QNST05_A!H117,4))","v":0},null,null,null,null,null,null,null,null,null,null,null,"Kazakhstan","KZ"]
[{"$f":"IF(QNST05_A!B118=\"\",\"\",VLOOKUP(QNST05_A!B118,L5A!$S$1:$T$260,2,FALSE))","v":""},{"$f":"IF(A109=\"W0\",$Q$29,IF(QNST05_A!C118=\"\",\"\",VLOOKUP(QNST05_A!C118,L5A!$P$1:$Q$29,2,FALSE)))","v":""},{"$f":"IF(A109=\"W0\",$L$21,IF(QNST05_A!D118=\"\",\"\",VLOOKUP(QNST05_A!D118,$K$18:$L$21,2,FALSE)))","v":""},{"$f":"IF(ISERROR(ROUND(QNST05_A!E118,4))=TRUE,\"\",ROUND(QNST05_A!E118,4))","v":0},{"$f":"IF(ISERROR(ROUND(QNST05_A!F118,4))=TRUE,\"\",ROUND(QNST05_A!F118,4))","v":0},{"$f":"IF(ISERROR(ROUND(QNST05_A!G118,4))=TRUE,\"\",ROUND(QNST05_A!G118,4))","v":0},{"$f":"IF(ISERROR(ROUND(QNST05_A!H118,4))=TRUE,\"\",ROUND(QNST05_A!H118,4))","v":0},null,null,null,null,null,null,null,null,null,null,null,"Kenya","KE"]
[{"$f":"IF(QNST05_A!B119=\"\",\"\",VLOOKUP(QNST05_A!B119,L5A!$S$1:$T$260,2,FALSE))","v":""},{"$f":"IF(A110=\"W0\",$Q$29,IF(QNST05_A!C119=\"\",\"\",VLOOKUP(QNST05_A!C119,L5A!$P$1:$Q$29,2,FALSE)))","v":""},{"$f":"IF(A110=\"W0\",$L$21,IF(QNST05_A!D119=\"\",\"\",VLOOKUP(QNST05_A!D119,$K$18:$L$21,2,FALSE)))","v":""},{"$f":"IF(ISERROR(ROUND(QNST05_A!E119,4))=TRUE,\"\",ROUND(QNST05_A!E119,4))","v":0},{"$f":"IF(ISERROR(ROUND(QNST05_A!F119,4))=TRUE,\"\",ROUND(QNST05_A!F119,4))","v":0},{"$f":"IF(ISERROR(ROUND(QNST05_A!G119,4))=TRUE,\"\",ROUND(QNST05_A!G119,4))","v":0},{"$f":"IF(ISERROR(ROUND(QNST05_A!H119,4))=TRUE,\"\",ROUND(QNST05_A!H119,4))","v":0},null,null,null,null,null,null,null,null,null,null,null,"Kiribati","KI"]
[{"$f":"IF(QNST05_A!B120=\"\",\"\",VLOOKUP(QNST05_A!B120,L5A!$S$1:$T$260,2,FALSE))","v":""},{"$f":"IF(A111=\"W0\",$Q$29,IF(QNST05_A!C120=\"\",\"\",VLOOKUP(QNST05_A!C120,L5A!$P$1:$Q$29,2,FALSE)))","v":""},{"$f":"IF(A111=\"W0\",$L$21,IF(QNST05_A!D120=\"\",\"\",VLOOKUP(QNST05_A!D120,$K$18:$L$21,2,FALSE)))","v":""},{"$f":"IF(ISERROR(ROUND(QNST05_A!E120,4))=TRUE,\"\",ROUND(QNST05_A!E120,4))","v":0},{"$f":"IF(ISERROR(ROUND(QNST05_A!F120,4))=TRUE,\"\",ROUND(QNST05_A!F120,4))","v":0},{"$f":"IF(ISERROR(ROUND(QNST05_A!G120,4))=TRUE,\"\",ROUND(QNST05_A!G120,4))","v":0},{"$f":"IF(ISERROR(ROUND(QNST05_A!H120,4))=TRUE,\"\",ROUND(QNST05_A!H120,4))","v":0},null,null,null,null,null,null,null,null,null,null,null,"Kuwait","KW"]
[{"$f":"IF(QNST05_A!B121=\"\",\"\",VLOOKUP(QNST05_A!B121,L5A!$S$1:$T$260,2,FALSE))","v":""},{"$f":"IF(A112=\"W0\",$Q$29,IF(QNST05_A!C121=\"\",\"\",VLOOKUP(QNST05_A!C121,L5A!$P$1:$Q$29,2,FALSE)))","v":""},{"$f":"IF(A112=\"W0\",$L$21,IF(QNST05_A!D121=\"\",\"\",VLOOKUP(QNST05_A!D121,$K$18:$L$21,2,FALSE)))","v":""},{"$f":"IF(ISERROR(ROUND(QNST05_A!E121,4))=TRUE,\"\",ROUND(QNST05_A!E121,4))","v":0},{"$f":"IF(ISERROR(ROUND(QNST05_A!F121,4))=TRUE,\"\",ROUND(QNST05_A!F121,4))","v":0},{"$f":"IF(ISERROR(ROUND(QNST05_A!G121,4))=TRUE,\"\",ROUND(QNST05_A!G121,4))","v":0},{"$f":"IF(ISERROR(ROUND(QNST05_A!H121,4))=TRUE,\"\",ROUND(QNST05_A!H121,4))","v":0},null,null,null,null,null,null,null,null,null,null,null,"Kyrgyzstan","KG"]
[{"$f":"IF(QNST05_A!B122=\"\",\"\",VLOOKUP(QNST05_A!B122,L5A!$S$1:$T$260,2,FALSE))","v":""},{"$f":"IF(A113=\"W0\",$Q$29,IF(QNST05_A!C122=\"\",\"\",VLOOKUP(QNST05_A!C122,L5A!$P$1:$Q$29,2,FALSE)))","v":""},{"$f":"IF(A113=\"W0\",$L$21,IF(QNST05_A!D122=\"\",\"\",VLOOKUP(QNST05_A!D122,$K$18:$L$21,2,FALSE)))","v":""},{"$f":"IF(ISERROR(ROUND(QNST05_A!E122,4))=TRUE,\"\",ROUND(QNST05_A!E122,4))","v":0},{"$f":"IF(ISERROR(ROUND(QNST05_A!F122,4))=TRUE,\"\",ROUND(QNST05_A!F122,4))","v":0},{"$f":"IF(ISERROR(ROUND(QNST05_A!G122,4))=TRUE,\"\",ROUND(QNST05_A!G122,4))","v":0},{"$f":"IF(ISERROR(ROUND(QNST05_A!H122,4))=TRUE,\"\",ROUND(QNST05_A!H122,4))","v":0},null,null,null,null,null,null,null,null,null,null,null,"LAO PEOPLE'S DEMOCRATIC REPUBLIC","LA"]
[{"$f":"IF(QNST05_A!B123=\"\",\"\",VLOOKUP(QNST05_A!B123,L5A!$S$1:$T$260,2,FALSE))","v":""},{"$f":"IF(A114=\"W0\",$Q$29,IF(QNST05_A!C123=\"\",\"\",VLOOKUP(QNST05_A!C123,L5A!$P$1:$Q$29,2,FALSE)))","v":""},{"$f":"IF(A114=\"W0\",$L$21,IF(QNST05_A!D123=\"\",\"\",VLOOKUP(QNST05_A!D123,$K$18:$L$21,2,FALSE)))","v":""},{"$f":"IF(ISERROR(ROUND(QNST05_A!E123,4))=TRUE,\"\",ROUND(QNST05_A!E123,4))","v":0},{"$f":"IF(ISERROR(ROUND(QNST05_A!F123,4))=TRUE,\"\",ROUND(QNST05_A!F123,4))","v":0},{"$f":"IF(ISERROR(ROUND(QNST05_A!G123,4))=TRUE,\"\",ROUND(QNST05_A!G123,4))","v":0},{"$f":"IF(ISERROR(ROUND(QNST05_A!H123,4))=TRUE,\"\",ROUND(QNST05_A!H123,4))","v":0},null,null,null,null,null,null,null,null,null,null,null,"Latvia","LV"]
[{"$f":"IF(QNST05_A!B124=\"\",\"\",VLOOKUP(QNST05_A!B124,L5A!$S$1:$T$260,2,FALSE))","v":""},{"$f":"IF(A115=\"W0\",$Q$29,IF(QNST05_A!C124=\"\",\"\",VLOOKUP(QNST05_A!C124,L5A!$P$1:$Q$29,2,FALSE)))","v":""},{"$f":"IF(A115=\"W0\",$L$21,IF(QNST05_A!D124=\"\",\"\",VLOOKUP(QNST05_A!D124,$K$18:$L$21,2,FALSE)))","v":""},{"$f":"IF(ISERROR(ROUND(QNST05_A!E124,4))=TRUE,\"\",ROUND(QNST05_A!E124,4))","v":0},{"$f":"IF(ISERROR(ROUND(QNST05_A!F124,4))=TRUE,\"\",ROUND(QNST05_A!F124,4))","v":0},{"$f":"IF(ISERROR(ROUND(QNST05_A!G124,4))=TRUE,\"\",ROUND(QNST05_A!G124,4))","v":0},{"$f":"IF(ISERROR(ROUND(QNST05_A!H124,4))=TRUE,\"\",ROUND(QNST05_A!H124,4))","v":0},null,null,null,null,null,null,null,null,null,null,null,"Lebanon","LB"]
[{"$f":"IF(QNST05_A!B125=\"\",\"\",VLOOKUP(QNST05_A!B125,L5A!$S$1:$T$260,2,FALSE))","v":""},{"$f":"IF(A116=\"W0\",$Q$29,IF(QNST05_A!C125=\"\",\"\",VLOOKUP(QNST05_A!C125,L5A!$P$1:$Q$29,2,FALSE)))","v":""},{"$f":"IF(A116=\"W0\",$L$21,IF(QNST05_A!D125=\"\",\"\",VLOOKUP(QNST05_A!D125,$K$18:$L$21,2,FALSE)))","v":""},{"$f":"IF(ISERROR(ROUND(QNST05_A!E125,4))=TRUE,\"\",ROUND(QNST05_A!E125,4))","v":0},{"$f":"IF(ISERROR(ROUND(QNST05_A!F125,4))=TRUE,\"\",ROUND(QNST05_A!F125,4))","v":0},{"$f":"IF(ISERROR(ROUND(QNST05_A!G125,4))=TRUE,\"\",ROUND(QNST05_A!G125,4))","v":0},{"$f":"IF(ISERROR(ROUND(QNST05_A!H125,4))=TRUE,\"\",ROUND(QNST05_A!H125,4))","v":0},null,null,null,null,null,null,null,null,null,null,null,"Lesotho","LS"]
[{"$f":"IF(QNST05_A!B126=\"\",\"\",VLOOKUP(QNST05_A!B126,L5A!$S$1:$T$260,2,FALSE))","v":""},{"$f":"IF(A117=\"W0\",$Q$29,IF(QNST05_A!C126=\"\",\"\",VLOOKUP(QNST05_A!C126,L5A!$P$1:$Q$29,2,FALSE)))","v":""},{"$f":"IF(A117=\"W0\",$L$21,IF(QNST05_A!D126=\"\",\"\",VLOOKUP(QNST05_A!D126,$K$18:$L$21,2,FALSE)))","v":""},{"$f":"IF(ISERROR(ROUND(QNST05_A!E126,4))=TRUE,\"\",ROUND(QNST05_A!E126,4))","v":0},{"$f":"IF(ISERROR(ROUND(QNST05_A!F126,4))=TRUE,\"\",ROUND(QNST05_A!F126,4))","v":0},{"$f":"IF(ISERROR(ROUND(QNST05_A!G126,4))=TRUE,\"\",ROUND(QNST05_A!G126,4))","v":0},{"$f":"IF(ISERROR(ROUND(QNST05_A!H126,4))=TRUE,\"\",ROUND(QNST05_A!H126,4))","v":0},null,null,null,null,null,null,null,null,null,null,null,"Liberia","LR"]
[{"$f":"IF(QNST05_A!B127=\"\",\"\",VLOOKUP(QNST05_A!B127,L5A!$S$1:$T$260,2,FALSE))","v":""},{"$f":"IF(A118=\"W0\",$Q$29,IF(QNST05_A!C127=\"\",\"\",VLOOKUP(QNST05_A!C127,L5A!$P$1:$Q$29,2,FALSE)))","v":""},{"$f":"IF(A118=\"W0\",$L$21,IF(QNST05_A!D127=\"\",\"\",VLOOKUP(QNST05_A!D127,$K$18:$L$21,2,FALSE)))","v":""},{"$f":"IF(ISERROR(ROUND(QNST05_A!E127,4))=TRUE,\"\",ROUND(QNST05_A!E127,4))","v":0},{"$f":"IF(ISERROR(ROUND(QNST05_A!F127,4))=TRUE,\"\",ROUND(QNST05_A!F127,4))","v":0},{"$f":"IF(ISERROR(ROUND(QNST05_A!G127,4))=TRUE,\"\",ROUND(QNST05_A!G127,4))","v":0},{"$f":"IF(ISERROR(ROUND(QNST05_A!H127,4))=TRUE,\"\",ROUND(QNST05_A!H127,4))","v":0},null,null,null,null,null,null,null,null,null,null,null,"Libya","LY"]
[{"$f":"IF(QNST05_A!B128=\"\",\"\",VLOOKUP(QNST05_A!B128,L5A!$S$1:$T$260,2,FALSE))","v":""},{"$f":"IF(A119=\"W0\",$Q$29,IF(QNST05_A!C128=\"\",\"\",VLOOKUP(QNST05_A!C128,L5A!$P$1:$Q$29,2,FALSE)))","v":""},{"$f":"IF(A119=\"W0\",$L$21,IF(QNST05_A!D128=\"\",\"\",VLOOKUP(QNST05_A!D128,$K$18:$L$21,2,FALSE)))","v":""},{"$f":"IF(ISERROR(ROUND(QNST05_A!E128,4))=TRUE,\"\",ROUND(QNST05_A!E128,4))","v":0},{"$f":"IF(ISERROR(ROUND(QNST05_A!F128,4))=TRUE,\"\",ROUND(QNST05_A!F128,4))","v":0},{"$f":"IF(ISERROR(ROUND(QNST05_A!G128,4))=TRUE,\"\",ROUND(QNST05_A!G128,4))","v":0},{"$f":"IF(ISERROR(ROUND(QNST05_A!H128,4))=TRUE,\"\",ROUND(QNST05_A!H128,4))","v":0},null,null,null,null,null,null,null,null,null,null,null,"Madagascar","MG"]
[{"$f":"IF(QNST05_A!B129=\"\",\"\",VLOOKUP(QNST05_A!B129,L5A!$S$1:$T$260,2,FALSE))","v":""},{"$f":"IF(A120=\"W0\",$Q$29,IF(QNST05_A!C129=\"\",\"\",VLOOKUP(QNST05_A!C129,L5A!$P$1:$Q$29,2,FALSE)))","v":""},{"$f":"IF(A120=\"W0\",$L$21,IF(QNST05_A!D129=\"\",\"\",VLOOKUP(QNST05_A!D129,$K$18:$L$21,2,FALSE)))","v":""},{"$f":"IF(ISERROR(ROUND(QNST05_A!E129,4))=TRUE,\"\",ROUND(QNST05_A!E129,4))","v":0},{"$f":"IF(ISERROR(ROUND(QNST05_A!F129,4))=TRUE,\"\",ROUND(QNST05_A!F129,4))","v":0},{"$f":"IF(ISERROR(ROUND(QNST05_A!G129,4))=TRUE,\"\",ROUND(QNST05_A!G129,4))","v":0},{"$f":"IF(ISERROR(ROUND(QNST05_A!H129,4))=TRUE,\"\",ROUND(QNST05_A!H129,4))","v":0},null,null,null,null,null,null,null,null,null,null,null,"Malawi","MW"]
[{"$f":"IF(QNST05_A!B130=\"\",\"\",VLOOKUP(QNST05_A!B130,L5A!$S$1:$T$260,2,FALSE))","v":""},{"$f":"IF(A121=\"W0\",$Q$29,IF(QNST05_A!C130=\"\",\"\",VLOOKUP(QNST05_A!C130,L5A!$P$1:$Q$29,2,FALSE)))","v":""},{"$f":"IF(A121=\"W0\",$L$21,IF(QNST05_A!D130=\"\",\"\",VLOOKUP(QNST05_A!D130,$K$18:$L$21,2,FALSE)))","v":""},{"$f":"IF(ISERROR(ROUND(QNST05_A!E130,4))=TRUE,\"\",ROUND(QNST05_A!E130,4))","v":0},{"$f":"IF(ISERROR(ROUND(QNST05_A!F130,4))=TRUE,\"\",ROUND(QNST05_A!F130,4))","v":0},{"$f":"IF(ISERROR(ROUND(QNST05_A!G130,4))=TRUE,\"\",ROUND(QNST05_A!G130,4))","v":0},{"$f":"IF(ISERROR(ROUND(QNST05_A!H130,4))=TRUE,\"\",ROUND(QNST05_A!H130,4))","v":0},null,null,null,null,null,null,null,null,null,null,null,"Malaysia","MY"]
[{"$f":"IF(QNST05_A!B131=\"\",\"\",VLOOKUP(QNST05_A!B131,L5A!$S$1:$T$260,2,FALSE))","v":""},{"$f":"IF(A122=\"W0\",$Q$29,IF(QNST05_A!C131=\"\",\"\",VLOOKUP(QNST05_A!C131,L5A!$P$1:$Q$29,2,FALSE)))","v":""},{"$f":"IF(A122=\"W0\",$L$21,IF(QNST05_A!D131=\"\",\"\",VLOOKUP(QNST05_A!D131,$K$18:$L$21,2,FALSE)))","v":""},{"$f":"IF(ISERROR(ROUND(QNST05_A!E131,4))=TRUE,\"\",ROUND(QNST05_A!E131,4))","v":0},{"$f":"IF(ISERROR(ROUND(QNST05_A!F131,4))=TRUE,\"\",ROUND(QNST05_A!F131,4))","v":0},{"$f":"IF(ISERROR(ROUND(QNST05_A!G131,4))=TRUE,\"\",ROUND(QNST05_A!G131,4))","v":0},{"$f":"IF(ISERROR(ROUND(QNST05_A!H131,4))=TRUE,\"\",ROUND(QNST05_A!H131,4))","v":0},null,null,null,null,null,null,null,null,null,null,null,"Maldives","MV"]
[{"$f":"IF(QNST05_A!B132=\"\",\"\",VLOOKUP(QNST05_A!B132,L5A!$S$1:$T$260,2,FALSE))","v":""},{"$f":"IF(A123=\"W0\",$Q$29,IF(QNST05_A!C132=\"\",\"\",VLOOKUP(QNST05_A!C132,L5A!$P$1:$Q$29,2,FALSE)))","v":""},{"$f":"IF(A123=\"W0\",$L$21,IF(QNST05_A!D132=\"\",\"\",VLOOKUP(QNST05_A!D132,$K$18:$L$21,2,FALSE)))","v":""},{"$f":"IF(ISERROR(ROUND(QNST05_A!E132,4))=TRUE,\"\",ROUND(QNST05_A!E132,4))","v":0},{"$f":"IF(ISERROR(ROUND(QNST05_A!F132,4))=TRUE,\"\",ROUND(QNST05_A!F132,4))","v":0},{"$f":"IF(ISERROR(ROUND(QNST05_A!G132,4))=TRUE,\"\",ROUND(QNST05_A!G132,4))","v":0},{"$f":"IF(ISERROR(ROUND(QNST05_A!H132,4))=TRUE,\"\",ROUND(QNST05_A!H132,4))","v":0},null,null,null,null,null,null,null,null,null,null,null,"Mali","ML"]
[{"$f":"IF(QNST05_A!B133=\"\",\"\",VLOOKUP(QNST05_A!B133,L5A!$S$1:$T$260,2,FALSE))","v":""},{"$f":"IF(A124=\"W0\",$Q$29,IF(QNST05_A!C133=\"\",\"\",VLOOKUP(QNST05_A!C133,L5A!$P$1:$Q$29,2,FALSE)))","v":""},{"$f":"IF(A124=\"W0\",$L$21,IF(QNST05_A!D133=\"\",\"\",VLOOKUP(QNST05_A!D133,$K$18:$L$21,2,FALSE)))","v":""},{"$f":"IF(ISERROR(ROUND(QNST05_A!E133,4))=TRUE,\"\",ROUND(QNST05_A!E133,4))","v":0},{"$f":"IF(ISERROR(ROUND(QNST05_A!F133,4))=TRUE,\"\",ROUND(QNST05_A!F133,4))","v":0},{"$f":"IF(ISERROR(ROUND(QNST05_A!G133,4))=TRUE,\"\",ROUND(QNST05_A!G133,4))","v":0},{"$f":"IF(ISERROR(ROUND(QNST05_A!H133,4))=TRUE,\"\",ROUND(QNST05_A!H133,4))","v":0},null,null,null,null,null,null,null,null,null,null,null,"Marshall Islands","MH"]
[{"$f":"IF(QNST05_A!B134=\"\",\"\",VLOOKUP(QNST05_A!B134,L5A!$S$1:$T$260,2,FALSE))","v":""},{"$f":"IF(A125=\"W0\",$Q$29,IF(QNST05_A!C134=\"\",\"\",VLOOKUP(QNST05_A!C134,L5A!$P$1:$Q$29,2,FALSE)))","v":""},{"$f":"IF(A125=\"W0\",$L$21,IF(QNST05_A!D134=\"\",\"\",VLOOKUP(QNST05_A!D134,$K$18:$L$21,2,FALSE)))","v":""},{"$f":"IF(ISERROR(ROUND(QNST05_A!E134,4))=TRUE,\"\",ROUND(QNST05_A!E134,4))","v":0},{"$f":"IF(ISERROR(ROUND(QNST05_A!F134,4))=TRUE,\"\",ROUND(QNST05_A!F134,4))","v":0},{"$f":"IF(ISERROR(ROUND(QNST05_A!G134,4))=TRUE,\"\",ROUND(QNST05_A!G134,4))","v":0},{"$f":"IF(ISERROR(ROUND(QNST05_A!H134,4))=TRUE,\"\",ROUND(QNST05_A!H134,4))","v":0},null,null,null,null,null,null,null,null,null,null,null,"Mauritania","MR"]
[{"$f":"IF(QNST05_A!B135=\"\",\"\",VLOOKUP(QNST05_A!B135,L5A!$S$1:$T$260,2,FALSE))","v":""},{"$f":"IF(A126=\"W0\",$Q$29,IF(QNST05_A!C135=\"\",\"\",VLOOKUP(QNST05_A!C135,L5A!$P$1:$Q$29,2,FALSE)))","v":""},{"$f":"IF(A126=\"W0\",$L$21,IF(QNST05_A!D135=\"\",\"\",VLOOKUP(QNST05_A!D135,$K$18:$L$21,2,FALSE)))","v":""},{"$f":"IF(ISERROR(ROUND(QNST05_A!E135,4))=TRUE,\"\",ROUND(QNST05_A!E135,4))","v":0},{"$f":"IF(ISERROR(ROUND(QNST05_A!F135,4))=TRUE,\"\",ROUND(QNST05_A!F135,4))","v":0},{"$f":"IF(ISERROR(ROUND(QNST05_A!G135,4))=TRUE,\"\",ROUND(QNST05_A!G135,4))","v":0},{"$f":"IF(ISERROR(ROUND(QNST05_A!H135,4))=TRUE,\"\",ROUND(QNST05_A!H135,4))","v":0},null,null,null,null,null,null,null,null,null,null,null,"Mauritius","MU"]
[{"$f":"IF(QNST05_A!B136=\"\",\"\",VLOOKUP(QNST05_A!B136,L5A!$S$1:$T$260,2,FALSE))","v":""},{"$f":"IF(A127=\"W0\",$Q$29,IF(QNST05_A!C136=\"\",\"\",VLOOKUP(QNST05_A!C136,L5A!$P$1:$Q$29,2,FALSE)))","v":""},{"$f":"IF(A127=\"W0\",$L$21,IF(QNST05_A!D136=\"\",\"\",VLOOKUP(QNST05_A!D136,$K$18:$L$21,2,FALSE)))","v":""},{"$f":"IF(ISERROR(ROUND(QNST05_A!E136,4))=TRUE,\"\",ROUND(QNST05_A!E136,4))","v":0},{"$f":"IF(ISERROR(ROUND(QNST05_A!F136,4))=TRUE,\"\",ROUND(QNST05_A!F136,4))","v":0},{"$f":"IF(ISERROR(ROUND(QNST05_A!G136,4))=TRUE,\"\",ROUND(QNST05_A!G136,4))","v":0},{"$f":"IF(ISERROR(ROUND(QNST05_A!H136,4))=TRUE,\"\",ROUND(QNST05_A!H136,4))","v":0},null,null,null,null,null,null,null,null,null,null,null,"Mexico","MX"]
[{"$f":"IF(QNST05_A!B137=\"\",\"\",VLOOKUP(QNST05_A!B137,L5A!$S$1:$T$260,2,FALSE))","v":""},{"$f":"IF(A128=\"W0\",$Q$29,IF(QNST05_A!C137=\"\",\"\",VLOOKUP(QNST05_A!C137,L5A!$P$1:$Q$29,2,FALSE)))","v":""},{"$f":"IF(A128=\"W0\",$L$21,IF(QNST05_A!D137=\"\",\"\",VLOOKUP(QNST05_A!D137,$K$18:$L$21,2,FALSE)))","v":""},{"$f":"IF(ISERROR(ROUND(QNST05_A!E137,4))=TRUE,\"\",ROUND(QNST05_A!E137,4))","v":0},{"$f":"IF(ISERROR(ROUND(QNST05_A!F137,4))=TRUE,\"\",ROUND(QNST05_A!F137,4))","v":0},{"$f":"IF(ISERROR(ROUND(QNST05_A!G137,4))=TRUE,\"\",ROUND(QNST05_A!G137,4))","v":0},{"$f":"IF(ISERROR(ROUND(QNST05_A!H137,4))=TRUE,\"\",ROUND(QNST05_A!H137,4))","v":0},null,null,null,null,null,null,null,null,null,null,null,"MICRONESIA, FEDERATED STATES OF","FM"]
[{"$f":"IF(QNST05_A!B138=\"\",\"\",VLOOKUP(QNST05_A!B138,L5A!$S$1:$T$260,2,FALSE))","v":""},{"$f":"IF(A129=\"W0\",$Q$29,IF(QNST05_A!C138=\"\",\"\",VLOOKUP(QNST05_A!C138,L5A!$P$1:$Q$29,2,FALSE)))","v":""},{"$f":"IF(A129=\"W0\",$L$21,IF(QNST05_A!D138=\"\",\"\",VLOOKUP(QNST05_A!D138,$K$18:$L$21,2,FALSE)))","v":""},{"$f":"IF(ISERROR(ROUND(QNST05_A!E138,4))=TRUE,\"\",ROUND(QNST05_A!E138,4))","v":0},{"$f":"IF(ISERROR(ROUND(QNST05_A!F138,4))=TRUE,\"\",ROUND(QNST05_A!F138,4))","v":0},{"$f":"IF(ISERROR(ROUND(QNST05_A!G138,4))=TRUE,\"\",ROUND(QNST05_A!G138,4))","v":0},{"$f":"IF(ISERROR(ROUND(QNST05_A!H138,4))=TRUE,\"\",ROUND(QNST05_A!H138,4))","v":0},null,null,null,null,null,null,null,null,null,null,null,"MOLDOVA, REPUBLIC OF","MD"]
[{"$f":"IF(QNST05_A!B139=\"\",\"\",VLOOKUP(QNST05_A!B139,L5A!$S$1:$T$260,2,FALSE))","v":""},{"$f":"IF(A130=\"W0\",$Q$29,IF(QNST05_A!C139=\"\",\"\",VLOOKUP(QNST05_A!C139,L5A!$P$1:$Q$29,2,FALSE)))","v":""},{"$f":"IF(A130=\"W0\",$L$21,IF(QNST05_A!D139=\"\",\"\",VLOOKUP(QNST05_A!D139,$K$18:$L$21,2,FALSE)))","v":""},{"$f":"IF(ISERROR(ROUND(QNST05_A!E139,4))=TRUE,\"\",ROUND(QNST05_A!E139,4))","v":0},{"$f":"IF(ISERROR(ROUND(QNST05_A!F139,4))=TRUE,\"\",ROUND(QNST05_A!F139,4))","v":0},{"$f":"IF(ISERROR(ROUND(QNST05_A!G139,4))=TRUE,\"\",ROUND(QNST05_A!G139,4))","v":0},{"$f":"IF(ISERROR(ROUND(QNST05_A!H139,4))=TRUE,\"\",ROUND(QNST05_A!H139,4))","v":0},null,null,null,null,null,null,null,null,null,null,null,"Mongolia","MN"]
[{"$f":"IF(QNST05_A!B140=\"\",\"\",VLOOKUP(QNST05_A!B140,L5A!$S$1:$T$260,2,FALSE))","v":""},{"$f":"IF(A131=\"W0\",$Q$29,IF(QNST05_A!C140=\"\",\"\",VLOOKUP(QNST05_A!C140,L5A!$P$1:$Q$29,2,FALSE)))","v":""},{"$f":"IF(A131=\"W0\",$L$21,IF(QNST05_A!D140=\"\",\"\",VLOOKUP(QNST05_A!D140,$K$18:$L$21,2,FALSE)))","v":""},{"$f":"IF(ISERROR(ROUND(QNST05_A!E140,4))=TRUE,\"\",ROUND(QNST05_A!E140,4))","v":0},{"$f":"IF(ISERROR(ROUND(QNST05_A!F140,4))=TRUE,\"\",ROUND(QNST05_A!F140,4))","v":0},{"$f":"IF(ISERROR(ROUND(QNST05_A!G140,4))=TRUE,\"\",ROUND(QNST05_A!G140,4))","v":0},{"$f":"IF(ISERROR(ROUND(QNST05_A!H140,4))=TRUE,\"\",ROUND(QNST05_A!H140,4))","v":0},null,null,null,null,null,null,null,null,null,null,null,"Montenegro","ME"]
[{"$f":"IF(QNST05_A!B141=\"\",\"\",VLOOKUP(QNST05_A!B141,L5A!$S$1:$T$260,2,FALSE))","v":""},{"$f":"IF(A132=\"W0\",$Q$29,IF(QNST05_A!C141=\"\",\"\",VLOOKUP(QNST05_A!C141,L5A!$P$1:$Q$29,2,FALSE)))","v":""},{"$f":"IF(A132=\"W0\",$L$21,IF(QNST05_A!D141=\"\",\"\",VLOOKUP(QNST05_A!D141,$K$18:$L$21,2,FALSE)))","v":""},{"$f":"IF(ISERROR(ROUND(QNST05_A!E141,4))=TRUE,\"\",ROUND(QNST05_A!E141,4))","v":0},{"$f":"IF(ISERROR(ROUND(QNST05_A!F141,4))=TRUE,\"\",ROUND(QNST05_A!F141,4))","v":0},{"$f":"IF(ISERROR(ROUND(QNST05_A!G141,4))=TRUE,\"\",ROUND(QNST05_A!G141,4))","v":0},{"$f":"IF(ISERROR(ROUND(QNST05_A!H141,4))=TRUE,\"\",ROUND(QNST05_A!H141,4))","v":0},null,null,null,null,null,null,null,null,null,null,null,"Morocco","MA"]
[{"$f":"IF(QNST05_A!B142=\"\",\"\",VLOOKUP(QNST05_A!B142,L5A!$S$1:$T$260,2,FALSE))","v":""},{"$f":"IF(A133=\"W0\",$Q$29,IF(QNST05_A!C142=\"\",\"\",VLOOKUP(QNST05_A!C142,L5A!$P$1:$Q$29,2,FALSE)))","v":""},{"$f":"IF(A133=\"W0\",$L$21,IF(QNST05_A!D142=\"\",\"\",VLOOKUP(QNST05_A!D142,$K$18:$L$21,2,FALSE)))","v":""},{"$f":"IF(ISERROR(ROUND(QNST05_A!E142,4))=TRUE,\"\",ROUND(QNST05_A!E142,4))","v":0},{"$f":"IF(ISERROR(ROUND(QNST05_A!F142,4))=TRUE,\"\",ROUND(QNST05_A!F142,4))","v":0},{"$f":"IF(ISERROR(ROUND(QNST05_A!G142,4))=TRUE,\"\",ROUND(QNST05_A!G142,4))","v":0},{"$f":"IF(ISERROR(ROUND(QNST05_A!H142,4))=TRUE,\"\",ROUND(QNST05_A!H142,4))","v":0},null,null,null,null,null,null,null,null,null,null,null,"Mozambique","MZ"]
[{"$f":"IF(QNST05_A!B143=\"\",\"\",VLOOKUP(QNST05_A!B143,L5A!$S$1:$T$260,2,FALSE))","v":""},{"$f":"IF(A134=\"W0\",$Q$29,IF(QNST05_A!C143=\"\",\"\",VLOOKUP(QNST05_A!C143,L5A!$P$1:$Q$29,2,FALSE)))","v":""},{"$f":"IF(A134=\"W0\",$L$21,IF(QNST05_A!D143=\"\",\"\",VLOOKUP(QNST05_A!D143,$K$18:$L$21,2,FALSE)))","v":""},{"$f":"IF(ISERROR(ROUND(QNST05_A!E143,4))=TRUE,\"\",ROUND(QNST05_A!E143,4))","v":0},{"$f":"IF(ISERROR(ROUND(QNST05_A!F143,4))=TRUE,\"\",ROUND(QNST05_A!F143,4))","v":0},{"$f":"IF(ISERROR(ROUND(QNST05_A!G143,4))=TRUE,\"\",ROUND(QNST05_A!G143,4))","v":0},{"$f":"IF(ISERROR(ROUND(QNST05_A!H143,4))=TRUE,\"\",ROUND(QNST05_A!H143,4))","v":0},null,null,null,null,null,null,null,null,null,null,null,"Myanmar","MM"]
[{"$f":"IF(QNST05_A!B144=\"\",\"\",VLOOKUP(QNST05_A!B144,L5A!$S$1:$T$260,2,FALSE))","v":""},{"$f":"IF(A135=\"W0\",$Q$29,IF(QNST05_A!C144=\"\",\"\",VLOOKUP(QNST05_A!C144,L5A!$P$1:$Q$29,2,FALSE)))","v":""},{"$f":"IF(A135=\"W0\",$L$21,IF(QNST05_A!D144=\"\",\"\",VLOOKUP(QNST05_A!D144,$K$18:$L$21,2,FALSE)))","v":""},{"$f":"IF(ISERROR(ROUND(QNST05_A!E144,4))=TRUE,\"\",ROUND(QNST05_A!E144,4))","v":0},{"$f":"IF(ISERROR(ROUND(QNST05_A!F144,4))=TRUE,\"\",ROUND(QNST05_A!F144,4))","v":0},{"$f":"IF(ISERROR(ROUND(QNST05_A!G144,4))=TRUE,\"\",ROUND(QNST05_A!G144,4))","v":0},{"$f":"IF(ISERROR(ROUND(QNST05_A!H144,4))=TRUE,\"\",ROUND(QNST05_A!H144,4))","v":0},null,null,null,null,null,null,null,null,null,null,null,"Namibia","NA"]
[{"$f":"IF(QNST05_A!B145=\"\",\"\",VLOOKUP(QNST05_A!B145,L5A!$S$1:$T$260,2,FALSE))","v":""},{"$f":"IF(A136=\"W0\",$Q$29,IF(QNST05_A!C145=\"\",\"\",VLOOKUP(QNST05_A!C145,L5A!$P$1:$Q$29,2,FALSE)))","v":""},{"$f":"IF(A136=\"W0\",$L$21,IF(QNST05_A!D145=\"\",\"\",VLOOKUP(QNST05_A!D145,$K$18:$L$21,2,FALSE)))","v":""},{"$f":"IF(ISERROR(ROUND(QNST05_A!E145,4))=TRUE,\"\",ROUND(QNST05_A!E145,4))","v":0},{"$f":"IF(ISERROR(ROUND(QNST05_A!F145,4))=TRUE,\"\",ROUND(QNST05_A!F145,4))","v":0},{"$f":"IF(ISERROR(ROUND(QNST05_A!G145,4))=TRUE,\"\",ROUND(QNST05_A!G145,4))","v":0},{"$f":"IF(ISERROR(ROUND(QNST05_A!H145,4))=TRUE,\"\",ROUND(QNST05_A!H145,4))","v":0},null,null,null,null,null,null,null,null,null,null,null,"Nauru","NR"]
[{"$f":"IF(QNST05_A!B146=\"\",\"\",VLOOKUP(QNST05_A!B146,L5A!$S$1:$T$260,2,FALSE))","v":""},{"$f":"IF(A137=\"W0\",$Q$29,IF(QNST05_A!C146=\"\",\"\",VLOOKUP(QNST05_A!C146,L5A!$P$1:$Q$29,2,FALSE)))","v":""},{"$f":"IF(A137=\"W0\",$L$21,IF(QNST05_A!D146=\"\",\"\",VLOOKUP(QNST05_A!D146,$K$18:$L$21,2,FALSE)))","v":""},{"$f":"IF(ISERROR(ROUND(QNST05_A!E146,4))=TRUE,\"\",ROUND(QNST05_A!E146,4))","v":0},{"$f":"IF(ISERROR(ROUND(QNST05_A!F146,4))=TRUE,\"\",ROUND(QNST05_A!F146,4))","v":0},{"$f":"IF(ISERROR(ROUND(QNST05_A!G146,4))=TRUE,\"\",ROUND(QNST05_A!G146,4))","v":0},{"$f":"IF(ISERROR(ROUND(QNST05_A!H146,4))=TRUE,\"\",ROUND(QNST05_A!H146,4))","v":0},null,null,null,null,null,null,null,null,null,null,null,"Nepal","NP"]
[{"$f":"IF(QNST05_A!B147=\"\",\"\",VLOOKUP(QNST05_A!B147,L5A!$S$1:$T$260,2,FALSE))","v":""},{"$f":"IF(A138=\"W0\",$Q$29,IF(QNST05_A!C147=\"\",\"\",VLOOKUP(QNST05_A!C147,L5A!$P$1:$Q$29,2,FALSE)))","v":""},{"$f":"IF(A138=\"W0\",$L$21,IF(QNST05_A!D147=\"\",\"\",VLOOKUP(QNST05_A!D147,$K$18:$L$21,2,FALSE)))","v":""},{"$f":"IF(ISERROR(ROUND(QNST05_A!E147,4))=TRUE,\"\",ROUND(QNST05_A!E147,4))","v":0},{"$f":"IF(ISERROR(ROUND(QNST05_A!F147,4))=TRUE,\"\",ROUND(QNST05_A!F147,4))","v":0},{"$f":"IF(ISERROR(ROUND(QNST05_A!G147,4))=TRUE,\"\",ROUND(QNST05_A!G147,4))","v":0},{"$f":"IF(ISERROR(ROUND(QNST05_A!H147,4))=TRUE,\"\",ROUND(QNST05_A!H147,4))","v":0},null,null,null,null,null,null,null,null,null,null,null,"New Zealand","NZ"]
[{"$f":"IF(QNST05_A!B148=\"\",\"\",VLOOKUP(QNST05_A!B148,L5A!$S$1:$T$260,2,FALSE))","v":""},{"$f":"IF(A139=\"W0\",$Q$29,IF(QNST05_A!C148=\"\",\"\",VLOOKUP(QNST05_A!C148,L5A!$P$1:$Q$29,2,FALSE)))","v":""},{"$f":"IF(A139=\"W0\",$L$21,IF(QNST05_A!D148=\"\",\"\",VLOOKUP(QNST05_A!D148,$K$18:$L$21,2,FALSE)))","v":""},{"$f":"IF(ISERROR(ROUND(QNST05_A!E148,4))=TRUE,\"\",ROUND(QNST05_A!E148,4))","v":0},{"$f":"IF(ISERROR(ROUND(QNST05_A!F148,4))=TRUE,\"\",ROUND(QNST05_A!F148,4))","v":0},{"$f":"IF(ISERROR(ROUND(QNST05_A!G148,4))=TRUE,\"\",ROUND(QNST05_A!G148,4))","v":0},{"$f":"IF(ISERROR(ROUND(QNST05_A!H148,4))=TRUE,\"\",ROUND(QNST05_A!H148,4))","v":0},null,null,null,null,null,null,null,null,null,null,null,"Nicaragua","NI"]
[{"$f":"IF(QNST05_A!B149=\"\",\"\",VLOOKUP(QNST05_A!B149,L5A!$S$1:$T$260,2,FALSE))","v":""},{"$f":"IF(A140=\"W0\",$Q$29,IF(QNST05_A!C149=\"\",\"\",VLOOKUP(QNST05_A!C149,L5A!$P$1:$Q$29,2,FALSE)))","v":""},{"$f":"IF(A140=\"W0\",$L$21,IF(QNST05_A!D149=\"\",\"\",VLOOKUP(QNST05_A!D149,$K$18:$L$21,2,FALSE)))","v":""},{"$f":"IF(ISERROR(ROUND(QNST05_A!E149,4))=TRUE,\"\",ROUND(QNST05_A!E149,4))","v":0},{"$f":"IF(ISERROR(ROUND(QNST05_A!F149,4))=TRUE,\"\",ROUND(QNST05_A!F149,4))","v":0},{"$f":"IF(ISERROR(ROUND(QNST05_A!G149,4))=TRUE,\"\",ROUND(QNST05_A!G149,4))","v":0},{"$f":"IF(ISERROR(ROUND(QNST05_A!H149,4))=TRUE,\"\",ROUND(QNST05_A!H149,4))","v":0},null,null,null,null,null,null,null,null,null,null,null,"Niger","NE"]
[{"$f":"IF(QNST05_A!B150=\"\",\"\",VLOOKUP(QNST05_A!B150,L5A!$S$1:$T$260,2,FALSE))","v":""},{"$f":"IF(A141=\"W0\",$Q$29,IF(QNST05_A!C150=\"\",\"\",VLOOKUP(QNST05_A!C150,L5A!$P$1:$Q$29,2,FALSE)))","v":""},{"$f":"IF(A141=\"W0\",$L$21,IF(QNST05_A!D150=\"\",\"\",VLOOKUP(QNST05_A!D150,$K$18:$L$21,2,FALSE)))","v":""},{"$f":"IF(ISERROR(ROUND(QNST05_A!E150,4))=TRUE,\"\",ROUND(QNST05_A!E150,4))","v":0},{"$f":"IF(ISERROR(ROUND(QNST05_A!F150,4))=TRUE,\"\",ROUND(QNST05_A!F150,4))","v":0},{"$f":"IF(ISERROR(ROUND(QNST05_A!G150,4))=TRUE,\"\",ROUND(QNST05_A!G150,4))","v":0},{"$f":"IF(ISERROR(ROUND(QNST05_A!H150,4))=TRUE,\"\",ROUND(QNST05_A!H150,4))","v":0},null,null,null,null,null,null,null,null,null,null,null,"Nigeria","NG"]
[{"$f":"IF(QNST05_A!B151=\"\",\"\",VLOOKUP(QNST05_A!B151,L5A!$S$1:$T$260,2,FALSE))","v":""},{"$f":"IF(A142=\"W0\",$Q$29,IF(QNST05_A!C151=\"\",\"\",VLOOKUP(QNST05_A!C151,L5A!$P$1:$Q$29,2,FALSE)))","v":""},{"$f":"IF(A142=\"W0\",$L$21,IF(QNST05_A!D151=\"\",\"\",VLOOKUP(QNST05_A!D151,$K$18:$L$21,2,FALSE)))","v":""},{"$f":"IF(ISERROR(ROUND(QNST05_A!E151,4))=TRUE,\"\",ROUND(QNST05_A!E151,4))","v":0},{"$f":"IF(ISERROR(ROUND(QNST05_A!F151,4))=TRUE,\"\",ROUND(QNST05_A!F151,4))","v":0},{"$f":"IF(ISERROR(ROUND(QNST05_A!G151,4))=TRUE,\"\",ROUND(QNST05_A!G151,4))","v":0},{"$f":"IF(ISERROR(ROUND(QNST05_A!H151,4))=TRUE,\"\",ROUND(QNST05_A!H151,4))","v":0},null,null,null,null,null,null,null,null,null,null,null,"KOREA, DEMOCRATIC PEOPLE'S REPUBLIC OF","KP"]
[{"$f":"IF(QNST05_A!B152=\"\",\"\",VLOOKUP(QNST05_A!B152,L5A!$S$1:$T$260,2,FALSE))","v":""},{"$f":"IF(A143=\"W0\",$Q$29,IF(QNST05_A!C152=\"\",\"\",VLOOKUP(QNST05_A!C152,L5A!$P$1:$Q$29,2,FALSE)))","v":""},{"$f":"IF(A143=\"W0\",$L$21,IF(QNST05_A!D152=\"\",\"\",VLOOKUP(QNST05_A!D152,$K$18:$L$21,2,FALSE)))","v":""},{"$f":"IF(ISERROR(ROUND(QNST05_A!E152,4))=TRUE,\"\",ROUND(QNST05_A!E152,4))","v":0},{"$f":"IF(ISERROR(ROUND(QNST05_A!F152,4))=TRUE,\"\",ROUND(QNST05_A!F152,4))","v":0},{"$f":"IF(ISERROR(ROUND(QNST05_A!G152,4))=TRUE,\"\",ROUND(QNST05_A!G152,4))","v":0},{"$f":"IF(ISERROR(ROUND(QNST05_A!H152,4))=TRUE,\"\",ROUND(QNST05_A!H152,4))","v":0},null,null,null,null,null,null,null,null,null,null,null,"Oman","OM"]
[{"$f":"IF(QNST05_A!B153=\"\",\"\",VLOOKUP(QNST05_A!B153,L5A!$S$1:$T$260,2,FALSE))","v":""},{"$f":"IF(A144=\"W0\",$Q$29,IF(QNST05_A!C153=\"\",\"\",VLOOKUP(QNST05_A!C153,L5A!$P$1:$Q$29,2,FALSE)))","v":""},{"$f":"IF(A144=\"W0\",$L$21,IF(QNST05_A!D153=\"\",\"\",VLOOKUP(QNST05_A!D153,$K$18:$L$21,2,FALSE)))","v":""},{"$f":"IF(ISERROR(ROUND(QNST05_A!E153,4))=TRUE,\"\",ROUND(QNST05_A!E153,4))","v":0},{"$f":"IF(ISERROR(ROUND(QNST05_A!F153,4))=TRUE,\"\",ROUND(QNST05_A!F153,4))","v":0},{"$f":"IF(ISERROR(ROUND(QNST05_A!G153,4))=TRUE,\"\",ROUND(QNST05_A!G153,4))","v":0},{"$f":"IF(ISERROR(ROUND(QNST05_A!H153,4))=TRUE,\"\",ROUND(QNST05_A!H153,4))","v":0},null,null,null,null,null,null,null,null,null,null,null,"Pakistan","PK"]
[{"$f":"IF(QNST05_A!B154=\"\",\"\",VLOOKUP(QNST05_A!B154,L5A!$S$1:$T$260,2,FALSE))","v":""},{"$f":"IF(A145=\"W0\",$Q$29,IF(QNST05_A!C154=\"\",\"\",VLOOKUP(QNST05_A!C154,L5A!$P$1:$Q$29,2,FALSE)))","v":""},{"$f":"IF(A145=\"W0\",$L$21,IF(QNST05_A!D154=\"\",\"\",VLOOKUP(QNST05_A!D154,$K$18:$L$21,2,FALSE)))","v":""},{"$f":"IF(ISERROR(ROUND(QNST05_A!E154,4))=TRUE,\"\",ROUND(QNST05_A!E154,4))","v":0},{"$f":"IF(ISERROR(ROUND(QNST05_A!F154,4))=TRUE,\"\",ROUND(QNST05_A!F154,4))","v":0},{"$f":"IF(ISERROR(ROUND(QNST05_A!G154,4))=TRUE,\"\",ROUND(QNST05_A!G154,4))","v":0},{"$f":"IF(ISERROR(ROUND(QNST05_A!H154,4))=TRUE,\"\",ROUND(QNST05_A!H154,4))","v":0},null,null,null,null,null,null,null,null,null,null,null,"Palau","PW"]
[{"$f":"IF(QNST05_A!B155=\"\",\"\",VLOOKUP(QNST05_A!B155,L5A!$S$1:$T$260,2,FALSE))","v":""},{"$f":"IF(A146=\"W0\",$Q$29,IF(QNST05_A!C155=\"\",\"\",VLOOKUP(QNST05_A!C155,L5A!$P$1:$Q$29,2,FALSE)))","v":""},{"$f":"IF(A146=\"W0\",$L$21,IF(QNST05_A!D155=\"\",\"\",VLOOKUP(QNST05_A!D155,$K$18:$L$21,2,FALSE)))","v":""},{"$f":"IF(ISERROR(ROUND(QNST05_A!E155,4))=TRUE,\"\",ROUND(QNST05_A!E155,4))","v":0},{"$f":"IF(ISERROR(ROUND(QNST05_A!F155,4))=TRUE,\"\",ROUND(QNST05_A!F155,4))","v":0},{"$f":"IF(ISERROR(ROUND(QNST05_A!G155,4))=TRUE,\"\",ROUND(QNST05_A!G155,4))","v":0},{"$f":"IF(ISERROR(ROUND(QNST05_A!H155,4))=TRUE,\"\",ROUND(QNST05_A!H155,4))","v":0},null,null,null,null,null,null,null,null,null,null,null,"Panama","PA"]
[{"$f":"IF(QNST05_A!B156=\"\",\"\",VLOOKUP(QNST05_A!B156,L5A!$S$1:$T$260,2,FALSE))","v":""},{"$f":"IF(A147=\"W0\",$Q$29,IF(QNST05_A!C156=\"\",\"\",VLOOKUP(QNST05_A!C156,L5A!$P$1:$Q$29,2,FALSE)))","v":""},{"$f":"IF(A147=\"W0\",$L$21,IF(QNST05_A!D156=\"\",\"\",VLOOKUP(QNST05_A!D156,$K$18:$L$21,2,FALSE)))","v":""},{"$f":"IF(ISERROR(ROUND(QNST05_A!E156,4))=TRUE,\"\",ROUND(QNST05_A!E156,4))","v":0},{"$f":"IF(ISERROR(ROUND(QNST05_A!F156,4))=TRUE,\"\",ROUND(QNST05_A!F156,4))","v":0},{"$f":"IF(ISERROR(ROUND(QNST05_A!G156,4))=TRUE,\"\",ROUND(QNST05_A!G156,4))","v":0},{"$f":"IF(ISERROR(ROUND(QNST05_A!H156,4))=TRUE,\"\",ROUND(QNST05_A!H156,4))","v":0},null,null,null,null,null,null,null,null,null,null,null,"Papua New Guinea","PG"]
[{"$f":"IF(QNST05_A!B157=\"\",\"\",VLOOKUP(QNST05_A!B157,L5A!$S$1:$T$260,2,FALSE))","v":""},{"$f":"IF(A148=\"W0\",$Q$29,IF(QNST05_A!C157=\"\",\"\",VLOOKUP(QNST05_A!C157,L5A!$P$1:$Q$29,2,FALSE)))","v":""},{"$f":"IF(A148=\"W0\",$L$21,IF(QNST05_A!D157=\"\",\"\",VLOOKUP(QNST05_A!D157,$K$18:$L$21,2,FALSE)))","v":""},{"$f":"IF(ISERROR(ROUND(QNST05_A!E157,4))=TRUE,\"\",ROUND(QNST05_A!E157,4))","v":0},{"$f":"IF(ISERROR(ROUND(QNST05_A!F157,4))=TRUE,\"\",ROUND(QNST05_A!F157,4))","v":0},{"$f":"IF(ISERROR(ROUND(QNST05_A!G157,4))=TRUE,\"\",ROUND(QNST05_A!G157,4))","v":0},{"$f":"IF(ISERROR(ROUND(QNST05_A!H157,4))=TRUE,\"\",ROUND(QNST05_A!H157,4))","v":0},null,null,null,null,null,null,null,null,null,null,null,"Paraguay","PY"]
[{"$f":"IF(QNST05_A!B158=\"\",\"\",VLOOKUP(QNST05_A!B158,L5A!$S$1:$T$260,2,FALSE))","v":""},{"$f":"IF(A149=\"W0\",$Q$29,IF(QNST05_A!C158=\"\",\"\",VLOOKUP(QNST05_A!C158,L5A!$P$1:$Q$29,2,FALSE)))","v":""},{"$f":"IF(A149=\"W0\",$L$21,IF(QNST05_A!D158=\"\",\"\",VLOOKUP(QNST05_A!D158,$K$18:$L$21,2,FALSE)))","v":""},{"$f":"IF(ISERROR(ROUND(QNST05_A!E158,4))=TRUE,\"\",ROUND(QNST05_A!E158,4))","v":0},{"$f":"IF(ISERROR(ROUND(QNST05_A!F158,4))=TRUE,\"\",ROUND(QNST05_A!F158,4))","v":0},{"$f":"IF(ISERROR(ROUND(QNST05_A!G158,4))=TRUE,\"\",ROUND(QNST05_A!G158,4))","v":0},{"$f":"IF(ISERROR(ROUND(QNST05_A!H158,4))=TRUE,\"\",ROUND(QNST05_A!H158,4))","v":0},null,null,null,null,null,null,null,null,null,null,null,"Peru","PE"]
[{"$f":"IF(QNST05_A!B159=\"\",\"\",VLOOKUP(QNST05_A!B159,L5A!$S$1:$T$260,2,FALSE))","v":""},{"$f":"IF(A150=\"W0\",$Q$29,IF(QNST05_A!C159=\"\",\"\",VLOOKUP(QNST05_A!C159,L5A!$P$1:$Q$29,2,FALSE)))","v":""},{"$f":"IF(A150=\"W0\",$L$21,IF(QNST05_A!D159=\"\",\"\",VLOOKUP(QNST05_A!D159,$K$18:$L$21,2,FALSE)))","v":""},{"$f":"IF(ISERROR(ROUND(QNST05_A!E159,4))=TRUE,\"\",ROUND(QNST05_A!E159,4))","v":0},{"$f":"IF(ISERROR(ROUND(QNST05_A!F159,4))=TRUE,\"\",ROUND(QNST05_A!F159,4))","v":0},{"$f":"IF(ISERROR(ROUND(QNST05_A!G159,4))=TRUE,\"\",ROUND(QNST05_A!G159,4))","v":0},{"$f":"IF(ISERROR(ROUND(QNST05_A!H159,4))=TRUE,\"\",ROUND(QNST05_A!H159,4))","v":0},null,null,null,null,null,null,null,null,null,null,null,"Philippines","PH"]
[{"$f":"IF(QNST05_A!B160=\"\",\"\",VLOOKUP(QNST05_A!B160,L5A!$S$1:$T$260,2,FALSE))","v":""},{"$f":"IF(A151=\"W0\",$Q$29,IF(QNST05_A!C160=\"\",\"\",VLOOKUP(QNST05_A!C160,L5A!$P$1:$Q$29,2,FALSE)))","v":""},{"$f":"IF(A151=\"W0\",$L$21,IF(QNST05_A!D160=\"\",\"\",VLOOKUP(QNST05_A!D160,$K$18:$L$21,2,FALSE)))","v":""},{"$f":"IF(ISERROR(ROUND(QNST05_A!E160,4))=TRUE,\"\",ROUND(QNST05_A!E160,4))","v":0},{"$f":"IF(ISERROR(ROUND(QNST05_A!F160,4))=TRUE,\"\",ROUND(QNST05_A!F160,4))","v":0},{"$f":"IF(ISERROR(ROUND(QNST05_A!G160,4))=TRUE,\"\",ROUND(QNST05_A!G160,4))","v":0},{"$f":"IF(ISERROR(ROUND(QNST05_A!H160,4))=TRUE,\"\",ROUND(QNST05_A!H160,4))","v":0},null,null,null,null,null,null,null,null,null,null,null,"Qatar","QA"]
[{"$f":"IF(QNST05_A!B161=\"\",\"\",VLOOKUP(QNST05_A!B161,L5A!$S$1:$T$260,2,FALSE))","v":""},{"$f":"IF(A152=\"W0\",$Q$29,IF(QNST05_A!C161=\"\",\"\",VLOOKUP(QNST05_A!C161,L5A!$P$1:$Q$29,2,FALSE)))","v":""},{"$f":"IF(A152=\"W0\",$L$21,IF(QNST05_A!D161=\"\",\"\",VLOOKUP(QNST05_A!D161,$K$18:$L$21,2,FALSE)))","v":""},{"$f":"IF(ISERROR(ROUND(QNST05_A!E161,4))=TRUE,\"\",ROUND(QNST05_A!E161,4))","v":0},{"$f":"IF(ISERROR(ROUND(QNST05_A!F161,4))=TRUE,\"\",ROUND(QNST05_A!F161,4))","v":0},{"$f":"IF(ISERROR(ROUND(QNST05_A!G161,4))=TRUE,\"\",ROUND(QNST05_A!G161,4))","v":0},{"$f":"IF(ISERROR(ROUND(QNST05_A!H161,4))=TRUE,\"\",ROUND(QNST05_A!H161,4))","v":0},null,null,null,null,null,null,null,null,null,null,null,"RUSSIAN FEDERATION","RU"]
[{"$f":"IF(QNST05_A!B162=\"\",\"\",VLOOKUP(QNST05_A!B162,L5A!$S$1:$T$260,2,FALSE))","v":""},{"$f":"IF(A153=\"W0\",$Q$29,IF(QNST05_A!C162=\"\",\"\",VLOOKUP(QNST05_A!C162,L5A!$P$1:$Q$29,2,FALSE)))","v":""},{"$f":"IF(A153=\"W0\",$L$21,IF(QNST05_A!D162=\"\",\"\",VLOOKUP(QNST05_A!D162,$K$18:$L$21,2,FALSE)))","v":""},{"$f":"IF(ISERROR(ROUND(QNST05_A!E162,4))=TRUE,\"\",ROUND(QNST05_A!E162,4))","v":0},{"$f":"IF(ISERROR(ROUND(QNST05_A!F162,4))=TRUE,\"\",ROUND(QNST05_A!F162,4))","v":0},{"$f":"IF(ISERROR(ROUND(QNST05_A!G162,4))=TRUE,\"\",ROUND(QNST05_A!G162,4))","v":0},{"$f":"IF(ISERROR(ROUND(QNST05_A!H162,4))=TRUE,\"\",ROUND(QNST05_A!H162,4))","v":0},null,null,null,null,null,null,null,null,null,null,null,"Rwanda","RW"]
[{"$f":"IF(QNST05_A!B163=\"\",\"\",VLOOKUP(QNST05_A!B163,L5A!$S$1:$T$260,2,FALSE))","v":""},{"$f":"IF(A154=\"W0\",$Q$29,IF(QNST05_A!C163=\"\",\"\",VLOOKUP(QNST05_A!C163,L5A!$P$1:$Q$29,2,FALSE)))","v":""},{"$f":"IF(A154=\"W0\",$L$21,IF(QNST05_A!D163=\"\",\"\",VLOOKUP(QNST05_A!D163,$K$18:$L$21,2,FALSE)))","v":""},{"$f":"IF(ISERROR(ROUND(QNST05_A!E163,4))=TRUE,\"\",ROUND(QNST05_A!E163,4))","v":0},{"$f":"IF(ISERROR(ROUND(QNST05_A!F163,4))=TRUE,\"\",ROUND(QNST05_A!F163,4))","v":0},{"$f":"IF(ISERROR(ROUND(QNST05_A!G163,4))=TRUE,\"\",ROUND(QNST05_A!G163,4))","v":0},{"$f":"IF(ISERROR(ROUND(QNST05_A!H163,4))=TRUE,\"\",ROUND(QNST05_A!H163,4))","v":0},null,null,null,null,null,null,null,null,null,null,null,"SAINT KITTS AND NEVIS","KN"]
[{"$f":"IF(QNST05_A!B164=\"\",\"\",VLOOKUP(QNST05_A!B164,L5A!$S$1:$T$260,2,FALSE))","v":""},{"$f":"IF(A155=\"W0\",$Q$29,IF(QNST05_A!C164=\"\",\"\",VLOOKUP(QNST05_A!C164,L5A!$P$1:$Q$29,2,FALSE)))","v":""},{"$f":"IF(A155=\"W0\",$L$21,IF(QNST05_A!D164=\"\",\"\",VLOOKUP(QNST05_A!D164,$K$18:$L$21,2,FALSE)))","v":""},{"$f":"IF(ISERROR(ROUND(QNST05_A!E164,4))=TRUE,\"\",ROUND(QNST05_A!E164,4))","v":0},{"$f":"IF(ISERROR(ROUND(QNST05_A!F164,4))=TRUE,\"\",ROUND(QNST05_A!F164,4))","v":0},{"$f":"IF(ISERROR(ROUND(QNST05_A!G164,4))=TRUE,\"\",ROUND(QNST05_A!G164,4))","v":0},{"$f":"IF(ISERROR(ROUND(QNST05_A!H164,4))=TRUE,\"\",ROUND(QNST05_A!H164,4))","v":0},null,null,null,null,null,null,null,null,null,null,null,"Saint Lucia","LC"]
[{"$f":"IF(QNST05_A!B165=\"\",\"\",VLOOKUP(QNST05_A!B165,L5A!$S$1:$T$260,2,FALSE))","v":""},{"$f":"IF(A156=\"W0\",$Q$29,IF(QNST05_A!C165=\"\",\"\",VLOOKUP(QNST05_A!C165,L5A!$P$1:$Q$29,2,FALSE)))","v":""},{"$f":"IF(A156=\"W0\",$L$21,IF(QNST05_A!D165=\"\",\"\",VLOOKUP(QNST05_A!D165,$K$18:$L$21,2,FALSE)))","v":""},{"$f":"IF(ISERROR(ROUND(QNST05_A!E165,4))=TRUE,\"\",ROUND(QNST05_A!E165,4))","v":0},{"$f":"IF(ISERROR(ROUND(QNST05_A!F165,4))=TRUE,\"\",ROUND(QNST05_A!F165,4))","v":0},{"$f":"IF(ISERROR(ROUND(QNST05_A!G165,4))=TRUE,\"\",ROUND(QNST05_A!G165,4))","v":0},{"$f":"IF(ISERROR(ROUND(QNST05_A!H165,4))=TRUE,\"\",ROUND(QNST05_A!H165,4))","v":0},null,null,null,null,null,null,null,null,null,null,null,"Samoa","WS"]
[{"$f":"IF(QNST05_A!B166=\"\",\"\",VLOOKUP(QNST05_A!B166,L5A!$S$1:$T$260,2,FALSE))","v":""},{"$f":"IF(A157=\"W0\",$Q$29,IF(QNST05_A!C166=\"\",\"\",VLOOKUP(QNST05_A!C166,L5A!$P$1:$Q$29,2,FALSE)))","v":""},{"$f":"IF(A157=\"W0\",$L$21,IF(QNST05_A!D166=\"\",\"\",VLOOKUP(QNST05_A!D166,$K$18:$L$21,2,FALSE)))","v":""},{"$f":"IF(ISERROR(ROUND(QNST05_A!E166,4))=TRUE,\"\",ROUND(QNST05_A!E166,4))","v":0},{"$f":"IF(ISERROR(ROUND(QNST05_A!F166,4))=TRUE,\"\",ROUND(QNST05_A!F166,4))","v":0},{"$f":"IF(ISERROR(ROUND(QNST05_A!G166,4))=TRUE,\"\",ROUND(QNST05_A!G166,4))","v":0},{"$f":"IF(ISERROR(ROUND(QNST05_A!H166,4))=TRUE,\"\",ROUND(QNST05_A!H166,4))","v":0},null,null,null,null,null,null,null,null,null,null,null,"San Marino","SM"]
[{"$f":"IF(QNST05_A!B167=\"\",\"\",VLOOKUP(QNST05_A!B167,L5A!$S$1:$T$260,2,FALSE))","v":""},{"$f":"IF(A158=\"W0\",$Q$29,IF(QNST05_A!C167=\"\",\"\",VLOOKUP(QNST05_A!C167,L5A!$P$1:$Q$29,2,FALSE)))","v":""},{"$f":"IF(A158=\"W0\",$L$21,IF(QNST05_A!D167=\"\",\"\",VLOOKUP(QNST05_A!D167,$K$18:$L$21,2,FALSE)))","v":""},{"$f":"IF(ISERROR(ROUND(QNST05_A!E167,4))=TRUE,\"\",ROUND(QNST05_A!E167,4))","v":0},{"$f":"IF(ISERROR(ROUND(QNST05_A!F167,4))=TRUE,\"\",ROUND(QNST05_A!F167,4))","v":0},{"$f":"IF(ISERROR(ROUND(QNST05_A!G167,4))=TRUE,\"\",ROUND(QNST05_A!G167,4))","v":0},{"$f":"IF(ISERROR(ROUND(QNST05_A!H167,4))=TRUE,\"\",ROUND(QNST05_A!H167,4))","v":0},null,null,null,null,null,null,null,null,null,null,null,"SAO TOME AND PRINCIPE","ST"]
[{"$f":"IF(QNST05_A!B168=\"\",\"\",VLOOKUP(QNST05_A!B168,L5A!$S$1:$T$260,2,FALSE))","v":""},{"$f":"IF(A159=\"W0\",$Q$29,IF(QNST05_A!C168=\"\",\"\",VLOOKUP(QNST05_A!C168,L5A!$P$1:$Q$29,2,FALSE)))","v":""},{"$f":"IF(A159=\"W0\",$L$21,IF(QNST05_A!D168=\"\",\"\",VLOOKUP(QNST05_A!D168,$K$18:$L$21,2,FALSE)))","v":""},{"$f":"IF(ISERROR(ROUND(QNST05_A!E168,4))=TRUE,\"\",ROUND(QNST05_A!E168,4))","v":0},{"$f":"IF(ISERROR(ROUND(QNST05_A!F168,4))=TRUE,\"\",ROUND(QNST05_A!F168,4))","v":0},{"$f":"IF(ISERROR(ROUND(QNST05_A!G168,4))=TRUE,\"\",ROUND(QNST05_A!G168,4))","v":0},{"$f":"IF(ISERROR(ROUND(QNST05_A!H168,4))=TRUE,\"\",ROUND(QNST05_A!H168,4))","v":0},null,null,null,null,null,null,null,null,null,null,null,"Saudi Arabia","SA"]
[{"$f":"IF(QNST05_A!B169=\"\",\"\",VLOOKUP(QNST05_A!B169,L5A!$S$1:$T$260,2,FALSE))","v":""},{"$f":"IF(A160=\"W0\",$Q$29,IF(QNST05_A!C169=\"\",\"\",VLOOKUP(QNST05_A!C169,L5A!$P$1:$Q$29,2,FALSE)))","v":""},{"$f":"IF(A160=\"W0\",$L$21,IF(QNST05_A!D169=\"\",\"\",VLOOKUP(QNST05_A!D169,$K$18:$L$21,2,FALSE)))","v":""},{"$f":"IF(ISERROR(ROUND(QNST05_A!E169,4))=TRUE,\"\",ROUND(QNST05_A!E169,4))","v":0},{"$f":"IF(ISERROR(ROUND(QNST05_A!F169,4))=TRUE,\"\",ROUND(QNST05_A!F169,4))","v":0},{"$f":"IF(ISERROR(ROUND(QNST05_A!G169,4))=TRUE,\"\",ROUND(QNST05_A!G169,4))","v":0},{"$f":"IF(ISERROR(ROUND(QNST05_A!H169,4))=TRUE,\"\",ROUND(QNST05_A!H169,4))","v":0},null,null,null,null,null,null,null,null,null,null,null,"Senegal","SN"]
[{"$f":"IF(QNST05_A!B170=\"\",\"\",VLOOKUP(QNST05_A!B170,L5A!$S$1:$T$260,2,FALSE))","v":""},{"$f":"IF(A161=\"W0\",$Q$29,IF(QNST05_A!C170=\"\",\"\",VLOOKUP(QNST05_A!C170,L5A!$P$1:$Q$29,2,FALSE)))","v":""},{"$f":"IF(A161=\"W0\",$L$21,IF(QNST05_A!D170=\"\",\"\",VLOOKUP(QNST05_A!D170,$K$18:$L$21,2,FALSE)))","v":""},{"$f":"IF(ISERROR(ROUND(QNST05_A!E170,4))=TRUE,\"\",ROUND(QNST05_A!E170,4))","v":0},{"$f":"IF(ISERROR(ROUND(QNST05_A!F170,4))=TRUE,\"\",ROUND(QNST05_A!F170,4))","v":0},{"$f":"IF(ISERROR(ROUND(QNST05_A!G170,4))=TRUE,\"\",ROUND(QNST05_A!G170,4))","v":0},{"$f":"IF(ISERROR(ROUND(QNST05_A!H170,4))=TRUE,\"\",ROUND(QNST05_A!H170,4))","v":0},null,null,null,null,null,null,null,null,null,null,null,"Serbia","RS"]
[{"$f":"IF(QNST05_A!B171=\"\",\"\",VLOOKUP(QNST05_A!B171,L5A!$S$1:$T$260,2,FALSE))","v":""},{"$f":"IF(A162=\"W0\",$Q$29,IF(QNST05_A!C171=\"\",\"\",VLOOKUP(QNST05_A!C171,L5A!$P$1:$Q$29,2,FALSE)))","v":""},{"$f":"IF(A162=\"W0\",$L$21,IF(QNST05_A!D171=\"\",\"\",VLOOKUP(QNST05_A!D171,$K$18:$L$21,2,FALSE)))","v":""},{"$f":"IF(ISERROR(ROUND(QNST05_A!E171,4))=TRUE,\"\",ROUND(QNST05_A!E171,4))","v":0},{"$f":"IF(ISERROR(ROUND(QNST05_A!F171,4))=TRUE,\"\",ROUND(QNST05_A!F171,4))","v":0},{"$f":"IF(ISERROR(ROUND(QNST05_A!G171,4))=TRUE,\"\",ROUND(QNST05_A!G171,4))","v":0},{"$f":"IF(ISERROR(ROUND(QNST05_A!H171,4))=TRUE,\"\",ROUND(QNST05_A!H171,4))","v":0},null,null,null,null,null,null,null,null,null,null,null,"Seychelles","SC"]
[{"$f":"IF(QNST05_A!B172=\"\",\"\",VLOOKUP(QNST05_A!B172,L5A!$S$1:$T$260,2,FALSE))","v":""},{"$f":"IF(A163=\"W0\",$Q$29,IF(QNST05_A!C172=\"\",\"\",VLOOKUP(QNST05_A!C172,L5A!$P$1:$Q$29,2,FALSE)))","v":""},{"$f":"IF(A163=\"W0\",$L$21,IF(QNST05_A!D172=\"\",\"\",VLOOKUP(QNST05_A!D172,$K$18:$L$21,2,FALSE)))","v":""},{"$f":"IF(ISERROR(ROUND(QNST05_A!E172,4))=TRUE,\"\",ROUND(QNST05_A!E172,4))","v":0},{"$f":"IF(ISERROR(ROUND(QNST05_A!F172,4))=TRUE,\"\",ROUND(QNST05_A!F172,4))","v":0},{"$f":"IF(ISERROR(ROUND(QNST05_A!G172,4))=TRUE,\"\",ROUND(QNST05_A!G172,4))","v":0},{"$f":"IF(ISERROR(ROUND(QNST05_A!H172,4))=TRUE,\"\",ROUND(QNST05_A!H172,4))","v":0},null,null,null,null,null,null,null,null,null,null,null,"Sierra Leone","SL"]
[{"$f":"IF(QNST05_A!B173=\"\",\"\",VLOOKUP(QNST05_A!B173,L5A!$S$1:$T$260,2,FALSE))","v":""},{"$f":"IF(A164=\"W0\",$Q$29,IF(QNST05_A!C173=\"\",\"\",VLOOKUP(QNST05_A!C173,L5A!$P$1:$Q$29,2,FALSE)))","v":""},{"$f":"IF(A164=\"W0\",$L$21,IF(QNST05_A!D173=\"\",\"\",VLOOKUP(QNST05_A!D173,$K$18:$L$21,2,FALSE)))","v":""},{"$f":"IF(ISERROR(ROUND(QNST05_A!E173,4))=TRUE,\"\",ROUND(QNST05_A!E173,4))","v":0},{"$f":"IF(ISERROR(ROUND(QNST05_A!F173,4))=TRUE,\"\",ROUND(QNST05_A!F173,4))","v":0},{"$f":"IF(ISERROR(ROUND(QNST05_A!G173,4))=TRUE,\"\",ROUND(QNST05_A!G173,4))","v":0},{"$f":"IF(ISERROR(ROUND(QNST05_A!H173,4))=TRUE,\"\",ROUND(QNST05_A!H173,4))","v":0},null,null,null,null,null,null,null,null,null,null,null,"Singapore","SG"]
[{"$f":"IF(QNST05_A!B174=\"\",\"\",VLOOKUP(QNST05_A!B174,L5A!$S$1:$T$260,2,FALSE))","v":""},{"$f":"IF(A165=\"W0\",$Q$29,IF(QNST05_A!C174=\"\",\"\",VLOOKUP(QNST05_A!C174,L5A!$P$1:$Q$29,2,FALSE)))","v":""},{"$f":"IF(A165=\"W0\",$L$21,IF(QNST05_A!D174=\"\",\"\",VLOOKUP(QNST05_A!D174,$K$18:$L$21,2,FALSE)))","v":""},{"$f":"IF(ISERROR(ROUND(QNST05_A!E174,4))=TRUE,\"\",ROUND(QNST05_A!E174,4))","v":0},{"$f":"IF(ISERROR(ROUND(QNST05_A!F174,4))=TRUE,\"\",ROUND(QNST05_A!F174,4))","v":0},{"$f":"IF(ISERROR(ROUND(QNST05_A!G174,4))=TRUE,\"\",ROUND(QNST05_A!G174,4))","v":0},{"$f":"IF(ISERROR(ROUND(QNST05_A!H174,4))=TRUE,\"\",ROUND(QNST05_A!H174,4))","v":0},null,null,null,null,null,null,null,null,null,null,null,"Solomon Islands","SB"]
[{"$f":"IF(QNST05_A!B175=\"\",\"\",VLOOKUP(QNST05_A!B175,L5A!$S$1:$T$260,2,FALSE))","v":""},{"$f":"IF(A166=\"W0\",$Q$29,IF(QNST05_A!C175=\"\",\"\",VLOOKUP(QNST05_A!C175,L5A!$P$1:$Q$29,2,FALSE)))","v":""},{"$f":"IF(A166=\"W0\",$L$21,IF(QNST05_A!D175=\"\",\"\",VLOOKUP(QNST05_A!D175,$K$18:$L$21,2,FALSE)))","v":""},{"$f":"IF(ISERROR(ROUND(QNST05_A!E175,4))=TRUE,\"\",ROUND(QNST05_A!E175,4))","v":0},{"$f":"IF(ISERROR(ROUND(QNST05_A!F175,4))=TRUE,\"\",ROUND(QNST05_A!F175,4))","v":0},{"$f":"IF(ISERROR(ROUND(QNST05_A!G175,4))=TRUE,\"\",ROUND(QNST05_A!G175,4))","v":0},{"$f":"IF(ISERROR(ROUND(QNST05_A!H175,4))=TRUE,\"\",ROUND(QNST05_A!H175,4))","v":0},null,null,null,null,null,null,null,null,null,null,null,"Somalia","SO"]
[{"$f":"IF(QNST05_A!B176=\"\",\"\",VLOOKUP(QNST05_A!B176,L5A!$S$1:$T$260,2,FALSE))","v":""},{"$f":"IF(A167=\"W0\",$Q$29,IF(QNST05_A!C176=\"\",\"\",VLOOKUP(QNST05_A!C176,L5A!$P$1:$Q$29,2,FALSE)))","v":""},{"$f":"IF(A167=\"W0\",$L$21,IF(QNST05_A!D176=\"\",\"\",VLOOKUP(QNST05_A!D176,$K$18:$L$21,2,FALSE)))","v":""},{"$f":"IF(ISERROR(ROUND(QNST05_A!E176,4))=TRUE,\"\",ROUND(QNST05_A!E176,4))","v":0},{"$f":"IF(ISERROR(ROUND(QNST05_A!F176,4))=TRUE,\"\",ROUND(QNST05_A!F176,4))","v":0},{"$f":"IF(ISERROR(ROUND(QNST05_A!G176,4))=TRUE,\"\",ROUND(QNST05_A!G176,4))","v":0},{"$f":"IF(ISERROR(ROUND(QNST05_A!H176,4))=TRUE,\"\",ROUND(QNST05_A!H176,4))","v":0},null,null,null,null,null,null,null,null,null,null,null,"South Africa","ZA"]
[{"$f":"IF(QNST05_A!B177=\"\",\"\",VLOOKUP(QNST05_A!B177,L5A!$S$1:$T$260,2,FALSE))","v":""},{"$f":"IF(A168=\"W0\",$Q$29,IF(QNST05_A!C177=\"\",\"\",VLOOKUP(QNST05_A!C177,L5A!$P$1:$Q$29,2,FALSE)))","v":""},{"$f":"IF(A168=\"W0\",$L$21,IF(QNST05_A!D177=\"\",\"\",VLOOKUP(QNST05_A!D177,$K$18:$L$21,2,FALSE)))","v":""},{"$f":"IF(ISERROR(ROUND(QNST05_A!E177,4))=TRUE,\"\",ROUND(QNST05_A!E177,4))","v":0},{"$f":"IF(ISERROR(ROUND(QNST05_A!F177,4))=TRUE,\"\",ROUND(QNST05_A!F177,4))","v":0},{"$f":"IF(ISERROR(ROUND(QNST05_A!G177,4))=TRUE,\"\",ROUND(QNST05_A!G177,4))","v":0},{"$f":"IF(ISERROR(ROUND(QNST05_A!H177,4))=TRUE,\"\",ROUND(QNST05_A!H177,4))","v":0},null,null,null,null,null,null,null,null,null,null,null,"KOREA, REPUBLIC OF","KR"]
[{"$f":"IF(QNST05_A!B178=\"\",\"\",VLOOKUP(QNST05_A!B178,L5A!$S$1:$T$260,2,FALSE))","v":""},{"$f":"IF(A169=\"W0\",$Q$29,IF(QNST05_A!C178=\"\",\"\",VLOOKUP(QNST05_A!C178,L5A!$P$1:$Q$29,2,FALSE)))","v":""},{"$f":"IF(A169=\"W0\",$L$21,IF(QNST05_A!D178=\"\",\"\",VLOOKUP(QNST05_A!D178,$K$18:$L$21,2,FALSE)))","v":""},{"$f":"IF(ISERROR(ROUND(QNST05_A!E178,4))=TRUE,\"\",ROUND(QNST05_A!E178,4))","v":0},{"$f":"IF(ISERROR(ROUND(QNST05_A!F178,4))=TRUE,\"\",ROUND(QNST05_A!F178,4))","v":0},{"$f":"IF(ISERROR(ROUND(QNST05_A!G178,4))=TRUE,\"\",ROUND(QNST05_A!G178,4))","v":0},{"$f":"IF(ISERROR(ROUND(QNST05_A!H178,4))=TRUE,\"\",ROUND(QNST05_A!H178,4))","v":0},null,null,null,null,null,null,null,null,null,null,null,"South Sudan","SS"]
[{"$f":"IF(QNST05_A!B179=\"\",\"\",VLOOKUP(QNST05_A!B179,L5A!$S$1:$T$260,2,FALSE))","v":""},{"$f":"IF(A170=\"W0\",$Q$29,IF(QNST05_A!C179=\"\",\"\",VLOOKUP(QNST05_A!C179,L5A!$P$1:$Q$29,2,FALSE)))","v":""},{"$f":"IF(A170=\"W0\",$L$21,IF(QNST05_A!D179=\"\",\"\",VLOOKUP(QNST05_A!D179,$K$18:$L$21,2,FALSE)))","v":""},{"$f":"IF(ISERROR(ROUND(QNST05_A!E179,4))=TRUE,\"\",ROUND(QNST05_A!E179,4))","v":0},{"$f":"IF(ISERROR(ROUND(QNST05_A!F179,4))=TRUE,\"\",ROUND(QNST05_A!F179,4))","v":0},{"$f":"IF(ISERROR(ROUND(QNST05_A!G179,4))=TRUE,\"\",ROUND(QNST05_A!G179,4))","v":0},{"$f":"IF(ISERROR(ROUND(QNST05_A!H179,4))=TRUE,\"\",ROUND(QNST05_A!H179,4))","v":0},null,null,null,null,null,null,null,null,null,null,null,"Sri Lanka","LK"]
[{"$f":"IF(QNST05_A!B180=\"\",\"\",VLOOKUP(QNST05_A!B180,L5A!$S$1:$T$260,2,FALSE))","v":""},{"$f":"IF(A171=\"W0\",$Q$29,IF(QNST05_A!C180=\"\",\"\",VLOOKUP(QNST05_A!C180,L5A!$P$1:$Q$29,2,FALSE)))","v":""},{"$f":"IF(A171=\"W0\",$L$21,IF(QNST05_A!D180=\"\",\"\",VLOOKUP(QNST05_A!D180,$K$18:$L$21,2,FALSE)))","v":""},{"$f":"IF(ISERROR(ROUND(QNST05_A!E180,4))=TRUE,\"\",ROUND(QNST05_A!E180,4))","v":0},{"$f":"IF(ISERROR(ROUND(QNST05_A!F180,4))=TRUE,\"\",ROUND(QNST05_A!F180,4))","v":0},{"$f":"IF(ISERROR(ROUND(QNST05_A!G180,4))=TRUE,\"\",ROUND(QNST05_A!G180,4))","v":0},{"$f":"IF(ISERROR(ROUND(QNST05_A!H180,4))=TRUE,\"\",ROUND(QNST05_A!H180,4))","v":0},null,null,null,null,null,null,null,null,null,null,null,"SAINT VINCENT AND THE GRENADINES","VC"]
[{"$f":"IF(QNST05_A!B181=\"\",\"\",VLOOKUP(QNST05_A!B181,L5A!$S$1:$T$260,2,FALSE))","v":""},{"$f":"IF(A172=\"W0\",$Q$29,IF(QNST05_A!C181=\"\",\"\",VLOOKUP(QNST05_A!C181,L5A!$P$1:$Q$29,2,FALSE)))","v":""},{"$f":"IF(A172=\"W0\",$L$21,IF(QNST05_A!D181=\"\",\"\",VLOOKUP(QNST05_A!D181,$K$18:$L$21,2,FALSE)))","v":""},{"$f":"IF(ISERROR(ROUND(QNST05_A!E181,4))=TRUE,\"\",ROUND(QNST05_A!E181,4))","v":0},{"$f":"IF(ISERROR(ROUND(QNST05_A!F181,4))=TRUE,\"\",ROUND(QNST05_A!F181,4))","v":0},{"$f":"IF(ISERROR(ROUND(QNST05_A!G181,4))=TRUE,\"\",ROUND(QNST05_A!G181,4))","v":0},{"$f":"IF(ISERROR(ROUND(QNST05_A!H181,4))=TRUE,\"\",ROUND(QNST05_A!H181,4))","v":0},null,null,null,null,null,null,null,null,null,null,null,"PALESTINE, STATE OF","PS"]
[{"$f":"IF(QNST05_A!B182=\"\",\"\",VLOOKUP(QNST05_A!B182,L5A!$S$1:$T$260,2,FALSE))","v":""},{"$f":"IF(A173=\"W0\",$Q$29,IF(QNST05_A!C182=\"\",\"\",VLOOKUP(QNST05_A!C182,L5A!$P$1:$Q$29,2,FALSE)))","v":""},{"$f":"IF(A173=\"W0\",$L$21,IF(QNST05_A!D182=\"\",\"\",VLOOKUP(QNST05_A!D182,$K$18:$L$21,2,FALSE)))","v":""},{"$f":"IF(ISERROR(ROUND(QNST05_A!E182,4))=TRUE,\"\",ROUND(QNST05_A!E182,4))","v":0},{"$f":"IF(ISERROR(ROUND(QNST05_A!F182,4))=TRUE,\"\",ROUND(QNST05_A!F182,4))","v":0},{"$f":"IF(ISERROR(ROUND(QNST05_A!G182,4))=TRUE,\"\",ROUND(QNST05_A!G182,4))","v":0},{"$f":"IF(ISERROR(ROUND(QNST05_A!H182,4))=TRUE,\"\",ROUND(QNST05_A!H182,4))","v":0},null,null,null,null,null,null,null,null,null,null,null,"Sudan","SD"]
[{"$f":"IF(QNST05_A!B183=\"\",\"\",VLOOKUP(QNST05_A!B183,L5A!$S$1:$T$260,2,FALSE))","v":""},{"$f":"IF(A174=\"W0\",$Q$29,IF(QNST05_A!C183=\"\",\"\",VLOOKUP(QNST05_A!C183,L5A!$P$1:$Q$29,2,FALSE)))","v":""},{"$f":"IF(A174=\"W0\",$L$21,IF(QNST05_A!D183=\"\",\"\",VLOOKUP(QNST05_A!D183,$K$18:$L$21,2,FALSE)))","v":""},{"$f":"IF(ISERROR(ROUND(QNST05_A!E183,4))=TRUE,\"\",ROUND(QNST05_A!E183,4))","v":0},{"$f":"IF(ISERROR(ROUND(QNST05_A!F183,4))=TRUE,\"\",ROUND(QNST05_A!F183,4))","v":0},{"$f":"IF(ISERROR(ROUND(QNST05_A!G183,4))=TRUE,\"\",ROUND(QNST05_A!G183,4))","v":0},{"$f":"IF(ISERROR(ROUND(QNST05_A!H183,4))=TRUE,\"\",ROUND(QNST05_A!H183,4))","v":0},null,null,null,null,null,null,null,null,null,null,null,"Suriname","SR"]
[{"$f":"IF(QNST05_A!B184=\"\",\"\",VLOOKUP(QNST05_A!B184,L5A!$S$1:$T$260,2,FALSE))","v":""},{"$f":"IF(A175=\"W0\",$Q$29,IF(QNST05_A!C184=\"\",\"\",VLOOKUP(QNST05_A!C184,L5A!$P$1:$Q$29,2,FALSE)))","v":""},{"$f":"IF(A175=\"W0\",$L$21,IF(QNST05_A!D184=\"\",\"\",VLOOKUP(QNST05_A!D184,$K$18:$L$21,2,FALSE)))","v":""},{"$f":"IF(ISERROR(ROUND(QNST05_A!E184,4))=TRUE,\"\",ROUND(QNST05_A!E184,4))","v":0},{"$f":"IF(ISERROR(ROUND(QNST05_A!F184,4))=TRUE,\"\",ROUND(QNST05_A!F184,4))","v":0},{"$f":"IF(ISERROR(ROUND(QNST05_A!G184,4))=TRUE,\"\",ROUND(QNST05_A!G184,4))","v":0},{"$f":"IF(ISERROR(ROUND(QNST05_A!H184,4))=TRUE,\"\",ROUND(QNST05_A!H184,4))","v":0},null,null,null,null,null,null,null,null,null,null,null,"ESWATINI","SZ"]
[{"$f":"IF(QNST05_A!B185=\"\",\"\",VLOOKUP(QNST05_A!B185,L5A!$S$1:$T$260,2,FALSE))","v":""},{"$f":"IF(A176=\"W0\",$Q$29,IF(QNST05_A!C185=\"\",\"\",VLOOKUP(QNST05_A!C185,L5A!$P$1:$Q$29,2,FALSE)))","v":""},{"$f":"IF(A176=\"W0\",$L$21,IF(QNST05_A!D185=\"\",\"\",VLOOKUP(QNST05_A!D185,$K$18:$L$21,2,FALSE)))","v":""},{"$f":"IF(ISERROR(ROUND(QNST05_A!E185,4))=TRUE,\"\",ROUND(QNST05_A!E185,4))","v":0},{"$f":"IF(ISERROR(ROUND(QNST05_A!F185,4))=TRUE,\"\",ROUND(QNST05_A!F185,4))","v":0},{"$f":"IF(ISERROR(ROUND(QNST05_A!G185,4))=TRUE,\"\",ROUND(QNST05_A!G185,4))","v":0},{"$f":"IF(ISERROR(ROUND(QNST05_A!H185,4))=TRUE,\"\",ROUND(QNST05_A!H185,4))","v":0},null,null,null,null,null,null,null,null,null,null,null,"Switzerland","CH"]
[{"$f":"IF(QNST05_A!B186=\"\",\"\",VLOOKUP(QNST05_A!B186,L5A!$S$1:$T$260,2,FALSE))","v":""},{"$f":"IF(A177=\"W0\",$Q$29,IF(QNST05_A!C186=\"\",\"\",VLOOKUP(QNST05_A!C186,L5A!$P$1:$Q$29,2,FALSE)))","v":""},{"$f":"IF(A177=\"W0\",$L$21,IF(QNST05_A!D186=\"\",\"\",VLOOKUP(QNST05_A!D186,$K$18:$L$21,2,FALSE)))","v":""},{"$f":"IF(ISERROR(ROUND(QNST05_A!E186,4))=TRUE,\"\",ROUND(QNST05_A!E186,4))","v":0},{"$f":"IF(ISERROR(ROUND(QNST05_A!F186,4))=TRUE,\"\",ROUND(QNST05_A!F186,4))","v":0},{"$f":"IF(ISERROR(ROUND(QNST05_A!G186,4))=TRUE,\"\",ROUND(QNST05_A!G186,4))","v":0},{"$f":"IF(ISERROR(ROUND(QNST05_A!H186,4))=TRUE,\"\",ROUND(QNST05_A!H186,4))","v":0},null,null,null,null,null,null,null,null,null,null,null,"SYRIAN ARAB REPUBLIC","SY"]
[{"$f":"IF(QNST05_A!B187=\"\",\"\",VLOOKUP(QNST05_A!B187,L5A!$S$1:$T$260,2,FALSE))","v":""},{"$f":"IF(A178=\"W0\",$Q$29,IF(QNST05_A!C187=\"\",\"\",VLOOKUP(QNST05_A!C187,L5A!$P$1:$Q$29,2,FALSE)))","v":""},{"$f":"IF(A178=\"W0\",$L$21,IF(QNST05_A!D187=\"\",\"\",VLOOKUP(QNST05_A!D187,$K$18:$L$21,2,FALSE)))","v":""},{"$f":"IF(ISERROR(ROUND(QNST05_A!E187,4))=TRUE,\"\",ROUND(QNST05_A!E187,4))","v":0},{"$f":"IF(ISERROR(ROUND(QNST05_A!F187,4))=TRUE,\"\",ROUND(QNST05_A!F187,4))","v":0},{"$f":"IF(ISERROR(ROUND(QNST05_A!G187,4))=TRUE,\"\",ROUND(QNST05_A!G187,4))","v":0},{"$f":"IF(ISERROR(ROUND(QNST05_A!H187,4))=TRUE,\"\",ROUND(QNST05_A!H187,4))","v":0},null,null,null,null,null,null,null,null,null,null,null,"Tajikistan","TJ"]
[{"$f":"IF(QNST05_A!B188=\"\",\"\",VLOOKUP(QNST05_A!B188,L5A!$S$1:$T$260,2,FALSE))","v":""},{"$f":"IF(A179=\"W0\",$Q$29,IF(QNST05_A!C188=\"\",\"\",VLOOKUP(QNST05_A!C188,L5A!$P$1:$Q$29,2,FALSE)))","v":""},{"$f":"IF(A179=\"W0\",$L$21,IF(QNST05_A!D188=\"\",\"\",VLOOKUP(QNST05_A!D188,$K$18:$L$21,2,FALSE)))","v":""},{"$f":"IF(ISERROR(ROUND(QNST05_A!E188,4))=TRUE,\"\",ROUND(QNST05_A!E188,4))","v":0},{"$f":"IF(ISERROR(ROUND(QNST05_A!F188,4))=TRUE,\"\",ROUND(QNST05_A!F188,4))","v":0},{"$f":"IF(ISERROR(ROUND(QNST05_A!G188,4))=TRUE,\"\",ROUND(QNST05_A!G188,4))","v":0},{"$f":"IF(ISERROR(ROUND(QNST05_A!H188,4))=TRUE,\"\",ROUND(QNST05_A!H188,4))","v":0},null,null,null,null,null,null,null,null,null,null,null,"TANZANIA, UNITED REPUBLIC OF","TZ"]
[{"$f":"IF(QNST05_A!B189=\"\",\"\",VLOOKUP(QNST05_A!B189,L5A!$S$1:$T$260,2,FALSE))","v":""},{"$f":"IF(A180=\"W0\",$Q$29,IF(QNST05_A!C189=\"\",\"\",VLOOKUP(QNST05_A!C189,L5A!$P$1:$Q$29,2,FALSE)))","v":""},{"$f":"IF(A180=\"W0\",$L$21,IF(QNST05_A!D189=\"\",\"\",VLOOKUP(QNST05_A!D189,$K$18:$L$21,2,FALSE)))","v":""},{"$f":"IF(ISERROR(ROUND(QNST05_A!E189,4))=TRUE,\"\",ROUND(QNST05_A!E189,4))","v":0},{"$f":"IF(ISERROR(ROUND(QNST05_A!F189,4))=TRUE,\"\",ROUND(QNST05_A!F189,4))","v":0},{"$f":"IF(ISERROR(ROUND(QNST05_A!G189,4))=TRUE,\"\",ROUND(QNST05_A!G189,4))","v":0},{"$f":"IF(ISERROR(ROUND(QNST05_A!H189,4))=TRUE,\"\",ROUND(QNST05_A!H189,4))","v":0},null,null,null,null,null,null,null,null,null,null,null,"NORTH MACEDONIA","MK"]
[{"$f":"IF(QNST05_A!B190=\"\",\"\",VLOOKUP(QNST05_A!B190,L5A!$S$1:$T$260,2,FALSE))","v":""},{"$f":"IF(A181=\"W0\",$Q$29,IF(QNST05_A!C190=\"\",\"\",VLOOKUP(QNST05_A!C190,L5A!$P$1:$Q$29,2,FALSE)))","v":""},{"$f":"IF(A181=\"W0\",$L$21,IF(QNST05_A!D190=\"\",\"\",VLOOKUP(QNST05_A!D190,$K$18:$L$21,2,FALSE)))","v":""},{"$f":"IF(ISERROR(ROUND(QNST05_A!E190,4))=TRUE,\"\",ROUND(QNST05_A!E190,4))","v":0},{"$f":"IF(ISERROR(ROUND(QNST05_A!F190,4))=TRUE,\"\",ROUND(QNST05_A!F190,4))","v":0},{"$f":"IF(ISERROR(ROUND(QNST05_A!G190,4))=TRUE,\"\",ROUND(QNST05_A!G190,4))","v":0},{"$f":"IF(ISERROR(ROUND(QNST05_A!H190,4))=TRUE,\"\",ROUND(QNST05_A!H190,4))","v":0},null,null,null,null,null,null,null,null,null,null,null,"Thailand","TH"]
[{"$f":"IF(QNST05_A!B191=\"\",\"\",VLOOKUP(QNST05_A!B191,L5A!$S$1:$T$260,2,FALSE))","v":""},{"$f":"IF(A182=\"W0\",$Q$29,IF(QNST05_A!C191=\"\",\"\",VLOOKUP(QNST05_A!C191,L5A!$P$1:$Q$29,2,FALSE)))","v":""},{"$f":"IF(A182=\"W0\",$L$21,IF(QNST05_A!D191=\"\",\"\",VLOOKUP(QNST05_A!D191,$K$18:$L$21,2,FALSE)))","v":""},{"$f":"IF(ISERROR(ROUND(QNST05_A!E191,4))=TRUE,\"\",ROUND(QNST05_A!E191,4))","v":0},{"$f":"IF(ISERROR(ROUND(QNST05_A!F191,4))=TRUE,\"\",ROUND(QNST05_A!F191,4))","v":0},{"$f":"IF(ISERROR(ROUND(QNST05_A!G191,4))=TRUE,\"\",ROUND(QNST05_A!G191,4))","v":0},{"$f":"IF(ISERROR(ROUND(QNST05_A!H191,4))=TRUE,\"\",ROUND(QNST05_A!H191,4))","v":0},null,null,null,null,null,null,null,null,null,null,null,"Timor-Leste","TL"]
[{"$f":"IF(QNST05_A!B192=\"\",\"\",VLOOKUP(QNST05_A!B192,L5A!$S$1:$T$260,2,FALSE))","v":""},{"$f":"IF(A183=\"W0\",$Q$29,IF(QNST05_A!C192=\"\",\"\",VLOOKUP(QNST05_A!C192,L5A!$P$1:$Q$29,2,FALSE)))","v":""},{"$f":"IF(A183=\"W0\",$L$21,IF(QNST05_A!D192=\"\",\"\",VLOOKUP(QNST05_A!D192,$K$18:$L$21,2,FALSE)))","v":""},{"$f":"IF(ISERROR(ROUND(QNST05_A!E192,4))=TRUE,\"\",ROUND(QNST05_A!E192,4))","v":0},{"$f":"IF(ISERROR(ROUND(QNST05_A!F192,4))=TRUE,\"\",ROUND(QNST05_A!F192,4))","v":0},{"$f":"IF(ISERROR(ROUND(QNST05_A!G192,4))=TRUE,\"\",ROUND(QNST05_A!G192,4))","v":0},{"$f":"IF(ISERROR(ROUND(QNST05_A!H192,4))=TRUE,\"\",ROUND(QNST05_A!H192,4))","v":0},null,null,null,null,null,null,null,null,null,null,null,"Togo","TG"]
[{"$f":"IF(QNST05_A!B193=\"\",\"\",VLOOKUP(QNST05_A!B193,L5A!$S$1:$T$260,2,FALSE))","v":""},{"$f":"IF(A184=\"W0\",$Q$29,IF(QNST05_A!C193=\"\",\"\",VLOOKUP(QNST05_A!C193,L5A!$P$1:$Q$29,2,FALSE)))","v":""},{"$f":"IF(A184=\"W0\",$L$21,IF(QNST05_A!D193=\"\",\"\",VLOOKUP(QNST05_A!D193,$K$18:$L$21,2,FALSE)))","v":""},{"$f":"IF(ISERROR(ROUND(QNST05_A!E193,4))=TRUE,\"\",ROUND(QNST05_A!E193,4))","v":0},{"$f":"IF(ISERROR(ROUND(QNST05_A!F193,4))=TRUE,\"\",ROUND(QNST05_A!F193,4))","v":0},{"$f":"IF(ISERROR(ROUND(QNST05_A!G193,4))=TRUE,\"\",ROUND(QNST05_A!G193,4))","v":0},{"$f":"IF(ISERROR(ROUND(QNST05_A!H193,4))=TRUE,\"\",ROUND(QNST05_A!H193,4))","v":0},null,null,null,null,null,null,null,null,null,null,null,"Tonga","TO"]
[{"$f":"IF(QNST05_A!B194=\"\",\"\",VLOOKUP(QNST05_A!B194,L5A!$S$1:$T$260,2,FALSE))","v":""},{"$f":"IF(A185=\"W0\",$Q$29,IF(QNST05_A!C194=\"\",\"\",VLOOKUP(QNST05_A!C194,L5A!$P$1:$Q$29,2,FALSE)))","v":""},{"$f":"IF(A185=\"W0\",$L$21,IF(QNST05_A!D194=\"\",\"\",VLOOKUP(QNST05_A!D194,$K$18:$L$21,2,FALSE)))","v":""},{"$f":"IF(ISERROR(ROUND(QNST05_A!E194,4))=TRUE,\"\",ROUND(QNST05_A!E194,4))","v":0},{"$f":"IF(ISERROR(ROUND(QNST05_A!F194,4))=TRUE,\"\",ROUND(QNST05_A!F194,4))","v":0},{"$f":"IF(ISERROR(ROUND(QNST05_A!G194,4))=TRUE,\"\",ROUND(QNST05_A!G194,4))","v":0},{"$f":"IF(ISERROR(ROUND(QNST05_A!H194,4))=TRUE,\"\",ROUND(QNST05_A!H194,4))","v":0},null,null,null,null,null,null,null,null,null,null,null,"Trinidad and Tobago","TT"]
[{"$f":"IF(QNST05_A!B195=\"\",\"\",VLOOKUP(QNST05_A!B195,L5A!$S$1:$T$260,2,FALSE))","v":""},{"$f":"IF(A186=\"W0\",$Q$29,IF(QNST05_A!C195=\"\",\"\",VLOOKUP(QNST05_A!C195,L5A!$P$1:$Q$29,2,FALSE)))","v":""},{"$f":"IF(A186=\"W0\",$L$21,IF(QNST05_A!D195=\"\",\"\",VLOOKUP(QNST05_A!D195,$K$18:$L$21,2,FALSE)))","v":""},{"$f":"IF(ISERROR(ROUND(QNST05_A!E195,4))=TRUE,\"\",ROUND(QNST05_A!E195,4))","v":0},{"$f":"IF(ISERROR(ROUND(QNST05_A!F195,4))=TRUE,\"\",ROUND(QNST05_A!F195,4))","v":0},{"$f":"IF(ISERROR(ROUND(QNST05_A!G195,4))=TRUE,\"\",ROUND(QNST05_A!G195,4))","v":0},{"$f":"IF(ISERROR(ROUND(QNST05_A!H195,4))=TRUE,\"\",ROUND(QNST05_A!H195,4))","v":0},null,null,null,null,null,null,null,null,null,null,null,"Tunisia","TN"]
[{"$f":"IF(QNST05_A!B196=\"\",\"\",VLOOKUP(QNST05_A!B196,L5A!$S$1:$T$260,2,FALSE))","v":""},{"$f":"IF(A187=\"W0\",$Q$29,IF(QNST05_A!C196=\"\",\"\",VLOOKUP(QNST05_A!C196,L5A!$P$1:$Q$29,2,FALSE)))","v":""},{"$f":"IF(A187=\"W0\",$L$21,IF(QNST05_A!D196=\"\",\"\",VLOOKUP(QNST05_A!D196,$K$18:$L$21,2,FALSE)))","v":""},{"$f":"IF(ISERROR(ROUND(QNST05_A!E196,4))=TRUE,\"\",ROUND(QNST05_A!E196,4))","v":0},{"$f":"IF(ISERROR(ROUND(QNST05_A!F196,4))=TRUE,\"\",ROUND(QNST05_A!F196,4))","v":0},{"$f":"IF(ISERROR(ROUND(QNST05_A!G196,4))=TRUE,\"\",ROUND(QNST05_A!G196,4))","v":0},{"$f":"IF(ISERROR(ROUND(QNST05_A!H196,4))=TRUE,\"\",ROUND(QNST05_A!H196,4))","v":0},null,null,null,null,null,null,null,null,null,null,null,"Turkey","TR"]
[{"$f":"IF(QNST05_A!B197=\"\",\"\",VLOOKUP(QNST05_A!B197,L5A!$S$1:$T$260,2,FALSE))","v":""},{"$f":"IF(A188=\"W0\",$Q$29,IF(QNST05_A!C197=\"\",\"\",VLOOKUP(QNST05_A!C197,L5A!$P$1:$Q$29,2,FALSE)))","v":""},{"$f":"IF(A188=\"W0\",$L$21,IF(QNST05_A!D197=\"\",\"\",VLOOKUP(QNST05_A!D197,$K$18:$L$21,2,FALSE)))","v":""},{"$f":"IF(ISERROR(ROUND(QNST05_A!E197,4))=TRUE,\"\",ROUND(QNST05_A!E197,4))","v":0},{"$f":"IF(ISERROR(ROUND(QNST05_A!F197,4))=TRUE,\"\",ROUND(QNST05_A!F197,4))","v":0},{"$f":"IF(ISERROR(ROUND(QNST05_A!G197,4))=TRUE,\"\",ROUND(QNST05_A!G197,4))","v":0},{"$f":"IF(ISERROR(ROUND(QNST05_A!H197,4))=TRUE,\"\",ROUND(QNST05_A!H197,4))","v":0},null,null,null,null,null,null,null,null,null,null,null,"Turkmenistan","TM"]
[{"$f":"IF(QNST05_A!B198=\"\",\"\",VLOOKUP(QNST05_A!B198,L5A!$S$1:$T$260,2,FALSE))","v":""},{"$f":"IF(A189=\"W0\",$Q$29,IF(QNST05_A!C198=\"\",\"\",VLOOKUP(QNST05_A!C198,L5A!$P$1:$Q$29,2,FALSE)))","v":""},{"$f":"IF(A189=\"W0\",$L$21,IF(QNST05_A!D198=\"\",\"\",VLOOKUP(QNST05_A!D198,$K$18:$L$21,2,FALSE)))","v":""},{"$f":"IF(ISERROR(ROUND(QNST05_A!E198,4))=TRUE,\"\",ROUND(QNST05_A!E198,4))","v":0},{"$f":"IF(ISERROR(ROUND(QNST05_A!F198,4))=TRUE,\"\",ROUND(QNST05_A!F198,4))","v":0},{"$f":"IF(ISERROR(ROUND(QNST05_A!G198,4))=TRUE,\"\",ROUND(QNST05_A!G198,4))","v":0},{"$f":"IF(ISERROR(ROUND(QNST05_A!H198,4))=TRUE,\"\",ROUND(QNST05_A!H198,4))","v":0},null,null,null,null,null,null,null,null,null,null,null,"Tuvalu","TV"]
[{"$f":"IF(QNST05_A!B199=\"\",\"\",VLOOKUP(QNST05_A!B199,L5A!$S$1:$T$260,2,FALSE))","v":""},{"$f":"IF(A190=\"W0\",$Q$29,IF(QNST05_A!C199=\"\",\"\",VLOOKUP(QNST05_A!C199,L5A!$P$1:$Q$29,2,FALSE)))","v":""},{"$f":"IF(A190=\"W0\",$L$21,IF(QNST05_A!D199=\"\",\"\",VLOOKUP(QNST05_A!D199,$K$18:$L$21,2,FALSE)))","v":""},{"$f":"IF(ISERROR(ROUND(QNST05_A!E199,4))=TRUE,\"\",ROUND(QNST05_A!E199,4))","v":0},{"$f":"IF(ISERROR(ROUND(QNST05_A!F199,4))=TRUE,\"\",ROUND(QNST05_A!F199,4))","v":0},{"$f":"IF(ISERROR(ROUND(QNST05_A!G199,4))=TRUE,\"\",ROUND(QNST05_A!G199,4))","v":0},{"$f":"IF(ISERROR(ROUND(QNST05_A!H199,4))=TRUE,\"\",ROUND(QNST05_A!H199,4))","v":0},null,null,null,null,null,null,null,null,null,null,null,"UNITED STATES","US"]
[{"$f":"IF(QNST05_A!B200=\"\",\"\",VLOOKUP(QNST05_A!B200,L5A!$S$1:$T$260,2,FALSE))","v":""},{"$f":"IF(A191=\"W0\",$Q$29,IF(QNST05_A!C200=\"\",\"\",VLOOKUP(QNST05_A!C200,L5A!$P$1:$Q$29,2,FALSE)))","v":""},{"$f":"IF(A191=\"W0\",$L$21,IF(QNST05_A!D200=\"\",\"\",VLOOKUP(QNST05_A!D200,$K$18:$L$21,2,FALSE)))","v":""},{"$f":"IF(ISERROR(ROUND(QNST05_A!E200,4))=TRUE,\"\",ROUND(QNST05_A!E200,4))","v":0},{"$f":"IF(ISERROR(ROUND(QNST05_A!F200,4))=TRUE,\"\",ROUND(QNST05_A!F200,4))","v":0},{"$f":"IF(ISERROR(ROUND(QNST05_A!G200,4))=TRUE,\"\",ROUND(QNST05_A!G200,4))","v":0},{"$f":"IF(ISERROR(ROUND(QNST05_A!H200,4))=TRUE,\"\",ROUND(QNST05_A!H200,4))","v":0},null,null,null,null,null,null,null,null,null,null,null,"Uganda","UG"]
[{"$f":"IF(QNST05_A!B201=\"\",\"\",VLOOKUP(QNST05_A!B201,L5A!$S$1:$T$260,2,FALSE))","v":""},{"$f":"IF(A192=\"W0\",$Q$29,IF(QNST05_A!C201=\"\",\"\",VLOOKUP(QNST05_A!C201,L5A!$P$1:$Q$29,2,FALSE)))","v":""},{"$f":"IF(A192=\"W0\",$L$21,IF(QNST05_A!D201=\"\",\"\",VLOOKUP(QNST05_A!D201,$K$18:$L$21,2,FALSE)))","v":""},{"$f":"IF(ISERROR(ROUND(QNST05_A!E201,4))=TRUE,\"\",ROUND(QNST05_A!E201,4))","v":0},{"$f":"IF(ISERROR(ROUND(QNST05_A!F201,4))=TRUE,\"\",ROUND(QNST05_A!F201,4))","v":0},{"$f":"IF(ISERROR(ROUND(QNST05_A!G201,4))=TRUE,\"\",ROUND(QNST05_A!G201,4))","v":0},{"$f":"IF(ISERROR(ROUND(QNST05_A!H201,4))=TRUE,\"\",ROUND(QNST05_A!H201,4))","v":0},null,null,null,null,null,null,null,null,null,null,null,"Ukraine","UA"]
[{"$f":"IF(QNST05_A!B202=\"\",\"\",VLOOKUP(QNST05_A!B202,L5A!$S$1:$T$260,2,FALSE))","v":""},{"$f":"IF(A193=\"W0\",$Q$29,IF(QNST05_A!C202=\"\",\"\",VLOOKUP(QNST05_A!C202,L5A!$P$1:$Q$29,2,FALSE)))","v":""},{"$f":"IF(A193=\"W0\",$L$21,IF(QNST05_A!D202=\"\",\"\",VLOOKUP(QNST05_A!D202,$K$18:$L$21,2,FALSE)))","v":""},{"$f":"IF(ISERROR(ROUND(QNST05_A!E202,4))=TRUE,\"\",ROUND(QNST05_A!E202,4))","v":0},{"$f":"IF(ISERROR(ROUND(QNST05_A!F202,4))=TRUE,\"\",ROUND(QNST05_A!F202,4))","v":0},{"$f":"IF(ISERROR(ROUND(QNST05_A!G202,4))=TRUE,\"\",ROUND(QNST05_A!G202,4))","v":0},{"$f":"IF(ISERROR(ROUND(QNST05_A!H202,4))=TRUE,\"\",ROUND(QNST05_A!H202,4))","v":0},null,null,null,null,null,null,null,null,null,null,null,"United Arab Emirates","AE"]
[{"$f":"IF(QNST05_A!B203=\"\",\"\",VLOOKUP(QNST05_A!B203,L5A!$S$1:$T$260,2,FALSE))","v":""},{"$f":"IF(A194=\"W0\",$Q$29,IF(QNST05_A!C203=\"\",\"\",VLOOKUP(QNST05_A!C203,L5A!$P$1:$Q$29,2,FALSE)))","v":""},{"$f":"IF(A194=\"W0\",$L$21,IF(QNST05_A!D203=\"\",\"\",VLOOKUP(QNST05_A!D203,$K$18:$L$21,2,FALSE)))","v":""},{"$f":"IF(ISERROR(ROUND(QNST05_A!E203,4))=TRUE,\"\",ROUND(QNST05_A!E203,4))","v":0},{"$f":"IF(ISERROR(ROUND(QNST05_A!F203,4))=TRUE,\"\",ROUND(QNST05_A!F203,4))","v":0},{"$f":"IF(ISERROR(ROUND(QNST05_A!G203,4))=TRUE,\"\",ROUND(QNST05_A!G203,4))","v":0},{"$f":"IF(ISERROR(ROUND(QNST05_A!H203,4))=TRUE,\"\",ROUND(QNST05_A!H203,4))","v":0},null,null,null,null,null,null,null,null,null,null,null,"Uruguay","UY"]
[{"$f":"IF(QNST05_A!B204=\"\",\"\",VLOOKUP(QNST05_A!B204,L5A!$S$1:$T$260,2,FALSE))","v":""},{"$f":"IF(A195=\"W0\",$Q$29,IF(QNST05_A!C204=\"\",\"\",VLOOKUP(QNST05_A!C204,L5A!$P$1:$Q$29,2,FALSE)))","v":""},{"$f":"IF(A195=\"W0\",$L$21,IF(QNST05_A!D204=\"\",\"\",VLOOKUP(QNST05_A!D204,$K$18:$L$21,2,FALSE)))","v":""},{"$f":"IF(ISERROR(ROUND(QNST05_A!E204,4))=TRUE,\"\",ROUND(QNST05_A!E204,4))","v":0},{"$f":"IF(ISERROR(ROUND(QNST05_A!F204,4))=TRUE,\"\",ROUND(QNST05_A!F204,4))","v":0},{"$f":"IF(ISERROR(ROUND(QNST05_A!G204,4))=TRUE,\"\",ROUND(QNST05_A!G204,4))","v":0},{"$f":"IF(ISERROR(ROUND(QNST05_A!H204,4))=TRUE,\"\",ROUND(QNST05_A!H204,4))","v":0},null,null,null,null,null,null,null,null,null,null,null,"Uzbekistan","UZ"]
[{"$f":"IF(QNST05_A!B205=\"\",\"\",VLOOKUP(QNST05_A!B205,L5A!$S$1:$T$260,2,FALSE))","v":""},{"$f":"IF(A196=\"W0\",$Q$29,IF(QNST05_A!C205=\"\",\"\",VLOOKUP(QNST05_A!C205,L5A!$P$1:$Q$29,2,FALSE)))","v":""},{"$f":"IF(A196=\"W0\",$L$21,IF(QNST05_A!D205=\"\",\"\",VLOOKUP(QNST05_A!D205,$K$18:$L$21,2,FALSE)))","v":""},{"$f":"IF(ISERROR(ROUND(QNST05_A!E205,4))=TRUE,\"\",ROUND(QNST05_A!E205,4))","v":0},{"$f":"IF(ISERROR(ROUND(QNST05_A!F205,4))=TRUE,\"\",ROUND(QNST05_A!F205,4))","v":0},{"$f":"IF(ISERROR(ROUND(QNST05_A!G205,4))=TRUE,\"\",ROUND(QNST05_A!G205,4))","v":0},{"$f":"IF(ISERROR(ROUND(QNST05_A!H205,4))=TRUE,\"\",ROUND(QNST05_A!H205,4))","v":0},null,null,null,null,null,null,null,null,null,null,null,"Vanuatu","VU"]
[{"$f":"IF(QNST05_A!B206=\"\",\"\",VLOOKUP(QNST05_A!B206,L5A!$S$1:$T$260,2,FALSE))","v":""},{"$f":"IF(A197=\"W0\",$Q$29,IF(QNST05_A!C206=\"\",\"\",VLOOKUP(QNST05_A!C206,L5A!$P$1:$Q$29,2,FALSE)))","v":""},{"$f":"IF(A197=\"W0\",$L$21,IF(QNST05_A!D206=\"\",\"\",VLOOKUP(QNST05_A!D206,$K$18:$L$21,2,FALSE)))","v":""},{"$f":"IF(ISERROR(ROUND(QNST05_A!E206,4))=TRUE,\"\",ROUND(QNST05_A!E206,4))","v":0},{"$f":"IF(ISERROR(ROUND(QNST05_A!F206,4))=TRUE,\"\",ROUND(QNST05_A!F206,4))","v":0},{"$f":"IF(ISERROR(ROUND(QNST05_A!G206,4))=TRUE,\"\",ROUND(QNST05_A!G206,4))","v":0},{"$f":"IF(ISERROR(ROUND(QNST05_A!H206,4))=TRUE,\"\",ROUND(QNST05_A!H206,4))","v":0},null,null,null,null,null,null,null,null,null,null,null,"VENEZUELA, BOLIVARIAN REPUBLIC OF","VE"]
[{"$f":"IF(QNST05_A!B207=\"\",\"\",VLOOKUP(QNST05_A!B207,L5A!$S$1:$T$260,2,FALSE))","v":""},{"$f":"IF(A198=\"W0\",$Q$29,IF(QNST05_A!C207=\"\",\"\",VLOOKUP(QNST05_A!C207,L5A!$P$1:$Q$29,2,FALSE)))","v":""},{"$f":"IF(A198=\"W0\",$L$21,IF(QNST05_A!D207=\"\",\"\",VLOOKUP(QNST05_A!D207,$K$18:$L$21,2,FALSE)))","v":""},{"$f":"IF(ISERROR(ROUND(QNST05_A!E207,4))=TRUE,\"\",ROUND(QNST05_A!E207,4))","v":0},{"$f":"IF(ISERROR(ROUND(QNST05_A!F207,4))=TRUE,\"\",ROUND(QNST05_A!F207,4))","v":0},{"$f":"IF(ISERROR(ROUND(QNST05_A!G207,4))=TRUE,\"\",ROUND(QNST05_A!G207,4))","v":0},{"$f":"IF(ISERROR(ROUND(QNST05_A!H207,4))=TRUE,\"\",ROUND(QNST05_A!H207,4))","v":0},null,null,null,null,null,null,null,null,null,null,null,"Viet Nam","VN"]
[{"$f":"IF(QNST05_A!B208=\"\",\"\",VLOOKUP(QNST05_A!B208,L5A!$S$1:$T$260,2,FALSE))","v":""},{"$f":"IF(A199=\"W0\",$Q$29,IF(QNST05_A!C208=\"\",\"\",VLOOKUP(QNST05_A!C208,L5A!$P$1:$Q$29,2,FALSE)))","v":""},{"$f":"IF(A199=\"W0\",$L$21,IF(QNST05_A!D208=\"\",\"\",VLOOKUP(QNST05_A!D208,$K$18:$L$21,2,FALSE)))","v":""},{"$f":"IF(ISERROR(ROUND(QNST05_A!E208,4))=TRUE,\"\",ROUND(QNST05_A!E208,4))","v":0},{"$f":"IF(ISERROR(ROUND(QNST05_A!F208,4))=TRUE,\"\",ROUND(QNST05_A!F208,4))","v":0},{"$f":"IF(ISERROR(ROUND(QNST05_A!G208,4))=TRUE,\"\",ROUND(QNST05_A!G208,4))","v":0},{"$f":"IF(ISERROR(ROUND(QNST05_A!H208,4))=TRUE,\"\",ROUND(QNST05_A!H208,4))","v":0},null,null,null,null,null,null,null,null,null,null,null,"Yemen","YE"]
[{"$f":"IF(QNST05_A!B209=\"\",\"\",VLOOKUP(QNST05_A!B209,L5A!$S$1:$T$260,2,FALSE))","v":""},{"$f":"IF(A200=\"W0\",$Q$29,IF(QNST05_A!C209=\"\",\"\",VLOOKUP(QNST05_A!C209,L5A!$P$1:$Q$29,2,FALSE)))","v":""},{"$f":"IF(A200=\"W0\",$L$21,IF(QNST05_A!D209=\"\",\"\",VLOOKUP(QNST05_A!D209,$K$18:$L$21,2,FALSE)))","v":""},{"$f":"IF(ISERROR(ROUND(QNST05_A!E209,4))=TRUE,\"\",ROUND(QNST05_A!E209,4))","v":0},{"$f":"IF(ISERROR(ROUND(QNST05_A!F209,4))=TRUE,\"\",ROUND(QNST05_A!F209,4))","v":0},{"$f":"IF(ISERROR(ROUND(QNST05_A!G209,4))=TRUE,\"\",ROUND(QNST05_A!G209,4))","v":0},{"$f":"IF(ISERROR(ROUND(QNST05_A!H209,4))=TRUE,\"\",ROUND(QNST05_A!H209,4))","v":0},null,null,null,null,null,null,null,null,null,null,null,"Zambia","ZM"]
[{"$f":"IF(QNST05_A!B210=\"\",\"\",VLOOKUP(QNST05_A!B210,L5A!$S$1:$T$260,2,FALSE))","v":""},{"$f":"IF(A201=\"W0\",$Q$29,IF(QNST05_A!C210=\"\",\"\",VLOOKUP(QNST05_A!C210,L5A!$P$1:$Q$29,2,FALSE)))","v":""},{"$f":"IF(A201=\"W0\",$L$21,IF(QNST05_A!D210=\"\",\"\",VLOOKUP(QNST05_A!D210,$K$18:$L$21,2,FALSE)))","v":""},{"$f":"IF(ISERROR(ROUND(QNST05_A!E210,4))=TRUE,\"\",ROUND(QNST05_A!E210,4))","v":0},{"$f":"IF(ISERROR(ROUND(QNST05_A!F210,4))=TRUE,\"\",ROUND(QNST05_A!F210,4))","v":0},{"$f":"IF(ISERROR(ROUND(QNST05_A!G210,4))=TRUE,\"\",ROUND(QNST05_A!G210,4))","v":0},{"$f":"IF(ISERROR(ROUND(QNST05_A!H210,4))=TRUE,\"\",ROUND(QNST05_A!H210,4))","v":0},null,null,null,null,null,null,null,null,null,null,null,"Zimbabwe","ZW"]
[{"$f":"IF(QNST05_A!B211=\"\",\"\",VLOOKUP(QNST05_A!B211,L5A!$S$1:$T$260,2,FALSE))","v":""},{"$f":"IF(A202=\"W0\",$Q$29,IF(QNST05_A!C211=\"\",\"\",VLOOKUP(QNST05_A!C211,L5A!$P$1:$Q$29,2,FALSE)))","v":""},{"$f":"IF(A202=\"W0\",$L$21,IF(QNST05_A!D211=\"\",\"\",VLOOKUP(QNST05_A!D211,$K$18:$L$21,2,FALSE)))","v":""},{"$f":"IF(ISERROR(ROUND(QNST05_A!E211,4))=TRUE,\"\",ROUND(QNST05_A!E211,4))","v":0},{"$f":"IF(ISERROR(ROUND(QNST05_A!F211,4))=TRUE,\"\",ROUND(QNST05_A!F211,4))","v":0},{"$f":"IF(ISERROR(ROUND(QNST05_A!G211,4))=TRUE,\"\",ROUND(QNST05_A!G211,4))","v":0},{"$f":"IF(ISERROR(ROUND(QNST05_A!H211,4))=TRUE,\"\",ROUND(QNST05_A!H211,4))","v":0},null,null,null,null,null,null,null,null,null,null,null,"Malta","MT"]
[{"$f":"IF(QNST05_A!B212=\"\",\"\",VLOOKUP(QNST05_A!B212,L5A!$S$1:$T$260,2,FALSE))","v":""},{"$f":"IF(A203=\"W0\",$Q$29,IF(QNST05_A!C212=\"\",\"\",VLOOKUP(QNST05_A!C212,L5A!$P$1:$Q$29,2,FALSE)))","v":""},{"$f":"IF(A203=\"W0\",$L$21,IF(QNST05_A!D212=\"\",\"\",VLOOKUP(QNST05_A!D212,$K$18:$L$21,2,FALSE)))","v":""},{"$f":"IF(ISERROR(ROUND(QNST05_A!E212,4))=TRUE,\"\",ROUND(QNST05_A!E212,4))","v":0},{"$f":"IF(ISERROR(ROUND(QNST05_A!F212,4))=TRUE,\"\",ROUND(QNST05_A!F212,4))","v":0},{"$f":"IF(ISERROR(ROUND(QNST05_A!G212,4))=TRUE,\"\",ROUND(QNST05_A!G212,4))","v":0},{"$f":"IF(ISERROR(ROUND(QNST05_A!H212,4))=TRUE,\"\",ROUND(QNST05_A!H212,4))","v":0},null,null,null,null,null,null,null,null,null,null,null,"BONAIRE, SINT EUSTATIUS AND SABA","BQ"]
[{"$f":"IF(QNST05_A!B213=\"\",\"\",VLOOKUP(QNST05_A!B213,L5A!$S$1:$T$260,2,FALSE))","v":""},{"$f":"IF(A204=\"W0\",$Q$29,IF(QNST05_A!C213=\"\",\"\",VLOOKUP(QNST05_A!C213,L5A!$P$1:$Q$29,2,FALSE)))","v":""},{"$f":"IF(A204=\"W0\",$L$21,IF(QNST05_A!D213=\"\",\"\",VLOOKUP(QNST05_A!D213,$K$18:$L$21,2,FALSE)))","v":""},{"$f":"IF(ISERROR(ROUND(QNST05_A!E213,4))=TRUE,\"\",ROUND(QNST05_A!E213,4))","v":0},{"$f":"IF(ISERROR(ROUND(QNST05_A!F213,4))=TRUE,\"\",ROUND(QNST05_A!F213,4))","v":0},{"$f":"IF(ISERROR(ROUND(QNST05_A!G213,4))=TRUE,\"\",ROUND(QNST05_A!G213,4))","v":0},{"$f":"IF(ISERROR(ROUND(QNST05_A!H213,4))=TRUE,\"\",ROUND(QNST05_A!H213,4))","v":0},null,null,null,null,null,null,null,null,null,null,null,"BOUVET ISLAND","BV"]
[{"$f":"IF(QNST05_A!B214=\"\",\"\",VLOOKUP(QNST05_A!B214,L5A!$S$1:$T$260,2,FALSE))","v":""},{"$f":"IF(A205=\"W0\",$Q$29,IF(QNST05_A!C214=\"\",\"\",VLOOKUP(QNST05_A!C214,L5A!$P$1:$Q$29,2,FALSE)))","v":""},{"$f":"IF(A205=\"W0\",$L$21,IF(QNST05_A!D214=\"\",\"\",VLOOKUP(QNST05_A!D214,$K$18:$L$21,2,FALSE)))","v":""},{"$f":"IF(ISERROR(ROUND(QNST05_A!E214,4))=TRUE,\"\",ROUND(QNST05_A!E214,4))","v":0},{"$f":"IF(ISERROR(ROUND(QNST05_A!F214,4))=TRUE,\"\",ROUND(QNST05_A!F214,4))","v":0},{"$f":"IF(ISERROR(ROUND(QNST05_A!G214,4))=TRUE,\"\",ROUND(QNST05_A!G214,4))","v":0},{"$f":"IF(ISERROR(ROUND(QNST05_A!H214,4))=TRUE,\"\",ROUND(QNST05_A!H214,4))","v":0},null,null,null,null,null,null,null,null,null,null,null,"BRITISH INDIAN OCEAN TERRITORY","IO"]
[{"$f":"IF(QNST05_A!B215=\"\",\"\",VLOOKUP(QNST05_A!B215,L5A!$S$1:$T$260,2,FALSE))","v":""},{"$f":"IF(A206=\"W0\",$Q$29,IF(QNST05_A!C215=\"\",\"\",VLOOKUP(QNST05_A!C215,L5A!$P$1:$Q$29,2,FALSE)))","v":""},{"$f":"IF(A206=\"W0\",$L$21,IF(QNST05_A!D215=\"\",\"\",VLOOKUP(QNST05_A!D215,$K$18:$L$21,2,FALSE)))","v":""},{"$f":"IF(ISERROR(ROUND(QNST05_A!E215,4))=TRUE,\"\",ROUND(QNST05_A!E215,4))","v":0},{"$f":"IF(ISERROR(ROUND(QNST05_A!F215,4))=TRUE,\"\",ROUND(QNST05_A!F215,4))","v":0},{"$f":"IF(ISERROR(ROUND(QNST05_A!G215,4))=TRUE,\"\",ROUND(QNST05_A!G215,4))","v":0},{"$f":"IF(ISERROR(ROUND(QNST05_A!H215,4))=TRUE,\"\",ROUND(QNST05_A!H215,4))","v":0},null,null,null,null,null,null,null,null,null,null,null,"CAYMAN ISLANDS","KY"]
[{"$f":"IF(QNST05_A!B216=\"\",\"\",VLOOKUP(QNST05_A!B216,L5A!$S$1:$T$260,2,FALSE))","v":""},{"$f":"IF(A207=\"W0\",$Q$29,IF(QNST05_A!C216=\"\",\"\",VLOOKUP(QNST05_A!C216,L5A!$P$1:$Q$29,2,FALSE)))","v":""},{"$f":"IF(A207=\"W0\",$L$21,IF(QNST05_A!D216=\"\",\"\",VLOOKUP(QNST05_A!D216,$K$18:$L$21,2,FALSE)))","v":""},{"$f":"IF(ISERROR(ROUND(QNST05_A!E216,4))=TRUE,\"\",ROUND(QNST05_A!E216,4))","v":0},{"$f":"IF(ISERROR(ROUND(QNST05_A!F216,4))=TRUE,\"\",ROUND(QNST05_A!F216,4))","v":0},{"$f":"IF(ISERROR(ROUND(QNST05_A!G216,4))=TRUE,\"\",ROUND(QNST05_A!G216,4))","v":0},{"$f":"IF(ISERROR(ROUND(QNST05_A!H216,4))=TRUE,\"\",ROUND(QNST05_A!H216,4))","v":0},null,null,null,null,null,null,null,null,null,null,null,"CHRISTMAS ISLAND","CX"]
[{"$f":"IF(QNST05_A!B217=\"\",\"\",VLOOKUP(QNST05_A!B217,L5A!$S$1:$T$260,2,FALSE))","v":""},{"$f":"IF(A208=\"W0\",$Q$29,IF(QNST05_A!C217=\"\",\"\",VLOOKUP(QNST05_A!C217,L5A!$P$1:$Q$29,2,FALSE)))","v":""},{"$f":"IF(A208=\"W0\",$L$21,IF(QNST05_A!D217=\"\",\"\",VLOOKUP(QNST05_A!D217,$K$18:$L$21,2,FALSE)))","v":""},{"$f":"IF(ISERROR(ROUND(QNST05_A!E217,4))=TRUE,\"\",ROUND(QNST05_A!E217,4))","v":0},{"$f":"IF(ISERROR(ROUND(QNST05_A!F217,4))=TRUE,\"\",ROUND(QNST05_A!F217,4))","v":0},{"$f":"IF(ISERROR(ROUND(QNST05_A!G217,4))=TRUE,\"\",ROUND(QNST05_A!G217,4))","v":0},{"$f":"IF(ISERROR(ROUND(QNST05_A!H217,4))=TRUE,\"\",ROUND(QNST05_A!H217,4))","v":0},null,null,null,null,null,null,null,null,null,null,null,"COCOS (KEELING) ISLANDS","CC"]
[{"$f":"IF(QNST05_A!B218=\"\",\"\",VLOOKUP(QNST05_A!B218,L5A!$S$1:$T$260,2,FALSE))","v":""},{"$f":"IF(A209=\"W0\",$Q$29,IF(QNST05_A!C218=\"\",\"\",VLOOKUP(QNST05_A!C218,L5A!$P$1:$Q$29,2,FALSE)))","v":""},{"$f":"IF(A209=\"W0\",$L$21,IF(QNST05_A!D218=\"\",\"\",VLOOKUP(QNST05_A!D218,$K$18:$L$21,2,FALSE)))","v":""},{"$f":"IF(ISERROR(ROUND(QNST05_A!E218,4))=TRUE,\"\",ROUND(QNST05_A!E218,4))","v":0},{"$f":"IF(ISERROR(ROUND(QNST05_A!F218,4))=TRUE,\"\",ROUND(QNST05_A!F218,4))","v":0},{"$f":"IF(ISERROR(ROUND(QNST05_A!G218,4))=TRUE,\"\",ROUND(QNST05_A!G218,4))","v":0},{"$f":"IF(ISERROR(ROUND(QNST05_A!H218,4))=TRUE,\"\",ROUND(QNST05_A!H218,4))","v":0},null,null,null,null,null,null,null,null,null,null,null,"COOK ISLANDS","CK"]
[{"$f":"IF(QNST05_A!B219=\"\",\"\",VLOOKUP(QNST05_A!B219,L5A!$S$1:$T$260,2,FALSE))","v":""},{"$f":"IF(A210=\"W0\",$Q$29,IF(QNST05_A!C219=\"\",\"\",VLOOKUP(QNST05_A!C219,L5A!$P$1:$Q$29,2,FALSE)))","v":""},{"$f":"IF(A210=\"W0\",$L$21,IF(QNST05_A!D219=\"\",\"\",VLOOKUP(QNST05_A!D219,$K$18:$L$21,2,FALSE)))","v":""},{"$f":"IF(ISERROR(ROUND(QNST05_A!E219,4))=TRUE,\"\",ROUND(QNST05_A!E219,4))","v":0},{"$f":"IF(ISERROR(ROUND(QNST05_A!F219,4))=TRUE,\"\",ROUND(QNST05_A!F219,4))","v":0},{"$f":"IF(ISERROR(ROUND(QNST05_A!G219,4))=TRUE,\"\",ROUND(QNST05_A!G219,4))","v":0},{"$f":"IF(ISERROR(ROUND(QNST05_A!H219,4))=TRUE,\"\",ROUND(QNST05_A!H219,4))","v":0},null,null,null,null,null,null,null,null,null,null,null,"CURAÇAO","CW"]
[{"$f":"IF(QNST05_A!B220=\"\",\"\",VLOOKUP(QNST05_A!B220,L5A!$S$1:$T$260,2,FALSE))","v":""},{"$f":"IF(A211=\"W0\",$Q$29,IF(QNST05_A!C220=\"\",\"\",VLOOKUP(QNST05_A!C220,L5A!$P$1:$Q$29,2,FALSE)))","v":""},{"$f":"IF(A211=\"W0\",$L$21,IF(QNST05_A!D220=\"\",\"\",VLOOKUP(QNST05_A!D220,$K$18:$L$21,2,FALSE)))","v":""},{"$f":"IF(ISERROR(ROUND(QNST05_A!E220,4))=TRUE,\"\",ROUND(QNST05_A!E220,4))","v":0},{"$f":"IF(ISERROR(ROUND(QNST05_A!F220,4))=TRUE,\"\",ROUND(QNST05_A!F220,4))","v":0},{"$f":"IF(ISERROR(ROUND(QNST05_A!G220,4))=TRUE,\"\",ROUND(QNST05_A!G220,4))","v":0},{"$f":"IF(ISERROR(ROUND(QNST05_A!H220,4))=TRUE,\"\",ROUND(QNST05_A!H220,4))","v":0},null,null,null,null,null,null,null,null,null,null,null,"FALKLAND ISLANDS (MALVINAS)","FK"]
[{"$f":"IF(QNST05_A!B221=\"\",\"\",VLOOKUP(QNST05_A!B221,L5A!$S$1:$T$260,2,FALSE))","v":""},{"$f":"IF(A212=\"W0\",$Q$29,IF(QNST05_A!C221=\"\",\"\",VLOOKUP(QNST05_A!C221,L5A!$P$1:$Q$29,2,FALSE)))","v":""},{"$f":"IF(A212=\"W0\",$L$21,IF(QNST05_A!D221=\"\",\"\",VLOOKUP(QNST05_A!D221,$K$18:$L$21,2,FALSE)))","v":""},{"$f":"IF(ISERROR(ROUND(QNST05_A!E221,4))=TRUE,\"\",ROUND(QNST05_A!E221,4))","v":0},{"$f":"IF(ISERROR(ROUND(QNST05_A!F221,4))=TRUE,\"\",ROUND(QNST05_A!F221,4))","v":0},{"$f":"IF(ISERROR(ROUND(QNST05_A!G221,4))=TRUE,\"\",ROUND(QNST05_A!G221,4))","v":0},{"$f":"IF(ISERROR(ROUND(QNST05_A!H221,4))=TRUE,\"\",ROUND(QNST05_A!H221,4))","v":0},null,null,null,null,null,null,null,null,null,null,null,"FAROE ISLANDS","FO"]
[{"$f":"IF(QNST05_A!B222=\"\",\"\",VLOOKUP(QNST05_A!B222,L5A!$S$1:$T$260,2,FALSE))","v":""},{"$f":"IF(A213=\"W0\",$Q$29,IF(QNST05_A!C222=\"\",\"\",VLOOKUP(QNST05_A!C222,L5A!$P$1:$Q$29,2,FALSE)))","v":""},{"$f":"IF(A213=\"W0\",$L$21,IF(QNST05_A!D222=\"\",\"\",VLOOKUP(QNST05_A!D222,$K$18:$L$21,2,FALSE)))","v":""},{"$f":"IF(ISERROR(ROUND(QNST05_A!E222,4))=TRUE,\"\",ROUND(QNST05_A!E222,4))","v":0},{"$f":"IF(ISERROR(ROUND(QNST05_A!F222,4))=TRUE,\"\",ROUND(QNST05_A!F222,4))","v":0},{"$f":"IF(ISERROR(ROUND(QNST05_A!G222,4))=TRUE,\"\",ROUND(QNST05_A!G222,4))","v":0},{"$f":"IF(ISERROR(ROUND(QNST05_A!H222,4))=TRUE,\"\",ROUND(QNST05_A!H222,4))","v":0},null,null,null,null,null,null,null,null,null,null,null,"FRENCH GUIANA","GF"]
[{"$f":"IF(QNST05_A!B223=\"\",\"\",VLOOKUP(QNST05_A!B223,L5A!$S$1:$T$260,2,FALSE))","v":""},{"$f":"IF(A214=\"W0\",$Q$29,IF(QNST05_A!C223=\"\",\"\",VLOOKUP(QNST05_A!C223,L5A!$P$1:$Q$29,2,FALSE)))","v":""},{"$f":"IF(A214=\"W0\",$L$21,IF(QNST05_A!D223=\"\",\"\",VLOOKUP(QNST05_A!D223,$K$18:$L$21,2,FALSE)))","v":""},{"$f":"IF(ISERROR(ROUND(QNST05_A!E223,4))=TRUE,\"\",ROUND(QNST05_A!E223,4))","v":0},{"$f":"IF(ISERROR(ROUND(QNST05_A!F223,4))=TRUE,\"\",ROUND(QNST05_A!F223,4))","v":0},{"$f":"IF(ISERROR(ROUND(QNST05_A!G223,4))=TRUE,\"\",ROUND(QNST05_A!G223,4))","v":0},{"$f":"IF(ISERROR(ROUND(QNST05_A!H223,4))=TRUE,\"\",ROUND(QNST05_A!H223,4))","v":0},null,null,null,null,null,null,null,null,null,null,null,"FRENCH POLYNESIA","PF"]
[{"$f":"IF(QNST05_A!B224=\"\",\"\",VLOOKUP(QNST05_A!B224,L5A!$S$1:$T$260,2,FALSE))","v":""},{"$f":"IF(A215=\"W0\",$Q$29,IF(QNST05_A!C224=\"\",\"\",VLOOKUP(QNST05_A!C224,L5A!$P$1:$Q$29,2,FALSE)))","v":""},{"$f":"IF(A215=\"W0\",$L$21,IF(QNST05_A!D224=\"\",\"\",VLOOKUP(QNST05_A!D224,$K$18:$L$21,2,FALSE)))","v":""},{"$f":"IF(ISERROR(ROUND(QNST05_A!E224,4))=TRUE,\"\",ROUND(QNST05_A!E224,4))","v":0},{"$f":"IF(ISERROR(ROUND(QNST05_A!F224,4))=TRUE,\"\",ROUND(QNST05_A!F224,4))","v":0},{"$f":"IF(ISERROR(ROUND(QNST05_A!G224,4))=TRUE,\"\",ROUND(QNST05_A!G224,4))","v":0},{"$f":"IF(ISERROR(ROUND(QNST05_A!H224,4))=TRUE,\"\",ROUND(QNST05_A!H224,4))","v":0},null,null,null,null,null,null,null,null,null,null,null,"FRENCH SOUTHERN TERRITORIES","TF"]
[{"$f":"IF(QNST05_A!B225=\"\",\"\",VLOOKUP(QNST05_A!B225,L5A!$S$1:$T$260,2,FALSE))","v":""},{"$f":"IF(A216=\"W0\",$Q$29,IF(QNST05_A!C225=\"\",\"\",VLOOKUP(QNST05_A!C225,L5A!$P$1:$Q$29,2,FALSE)))","v":""},{"$f":"IF(A216=\"W0\",$L$21,IF(QNST05_A!D225=\"\",\"\",VLOOKUP(QNST05_A!D225,$K$18:$L$21,2,FALSE)))","v":""},{"$f":"IF(ISERROR(ROUND(QNST05_A!E225,4))=TRUE,\"\",ROUND(QNST05_A!E225,4))","v":0},{"$f":"IF(ISERROR(ROUND(QNST05_A!F225,4))=TRUE,\"\",ROUND(QNST05_A!F225,4))","v":0},{"$f":"IF(ISERROR(ROUND(QNST05_A!G225,4))=TRUE,\"\",ROUND(QNST05_A!G225,4))","v":0},{"$f":"IF(ISERROR(ROUND(QNST05_A!H225,4))=TRUE,\"\",ROUND(QNST05_A!H225,4))","v":0},null,null,null,null,null,null,null,null,null,null,null,"GREENLAND","GL"]
[{"$f":"IF(QNST05_A!B226=\"\",\"\",VLOOKUP(QNST05_A!B226,L5A!$S$1:$T$260,2,FALSE))","v":""},{"$f":"IF(A217=\"W0\",$Q$29,IF(QNST05_A!C226=\"\",\"\",VLOOKUP(QNST05_A!C226,L5A!$P$1:$Q$29,2,FALSE)))","v":""},{"$f":"IF(A217=\"W0\",$L$21,IF(QNST05_A!D226=\"\",\"\",VLOOKUP(QNST05_A!D226,$K$18:$L$21,2,FALSE)))","v":""},{"$f":"IF(ISERROR(ROUND(QNST05_A!E226,4))=TRUE,\"\",ROUND(QNST05_A!E226,4))","v":0},{"$f":"IF(ISERROR(ROUND(QNST05_A!F226,4))=TRUE,\"\",ROUND(QNST05_A!F226,4))","v":0},{"$f":"IF(ISERROR(ROUND(QNST05_A!G226,4))=TRUE,\"\",ROUND(QNST05_A!G226,4))","v":0},{"$f":"IF(ISERROR(ROUND(QNST05_A!H226,4))=TRUE,\"\",ROUND(QNST05_A!H226,4))","v":0},null,null,null,null,null,null,null,null,null,null,null,"GUADELOUPE","FRA10"]
[{"$f":"IF(QNST05_A!B227=\"\",\"\",VLOOKUP(QNST05_A!B227,L5A!$S$1:$T$260,2,FALSE))","v":""},{"$f":"IF(A218=\"W0\",$Q$29,IF(QNST05_A!C227=\"\",\"\",VLOOKUP(QNST05_A!C227,L5A!$P$1:$Q$29,2,FALSE)))","v":""},{"$f":"IF(A218=\"W0\",$L$21,IF(QNST05_A!D227=\"\",\"\",VLOOKUP(QNST05_A!D227,$K$18:$L$21,2,FALSE)))","v":""},{"$f":"IF(ISERROR(ROUND(QNST05_A!E227,4))=TRUE,\"\",ROUND(QNST05_A!E227,4))","v":0},{"$f":"IF(ISERROR(ROUND(QNST05_A!F227,4))=TRUE,\"\",ROUND(QNST05_A!F227,4))","v":0},{"$f":"IF(ISERROR(ROUND(QNST05_A!G227,4))=TRUE,\"\",ROUND(QNST05_A!G227,4))","v":0},{"$f":"IF(ISERROR(ROUND(QNST05_A!H227,4))=TRUE,\"\",ROUND(QNST05_A!H227,4))","v":0},null,null,null,null,null,null,null,null,null,null,null,"GUAM","GU"]
[{"$f":"IF(QNST05_A!B228=\"\",\"\",VLOOKUP(QNST05_A!B228,L5A!$S$1:$T$260,2,FALSE))","v":""},{"$f":"IF(A219=\"W0\",$Q$29,IF(QNST05_A!C228=\"\",\"\",VLOOKUP(QNST05_A!C228,L5A!$P$1:$Q$29,2,FALSE)))","v":""},{"$f":"IF(A219=\"W0\",$L$21,IF(QNST05_A!D228=\"\",\"\",VLOOKUP(QNST05_A!D228,$K$18:$L$21,2,FALSE)))","v":""},{"$f":"IF(ISERROR(ROUND(QNST05_A!E228,4))=TRUE,\"\",ROUND(QNST05_A!E228,4))","v":0},{"$f":"IF(ISERROR(ROUND(QNST05_A!F228,4))=TRUE,\"\",ROUND(QNST05_A!F228,4))","v":0},{"$f":"IF(ISERROR(ROUND(QNST05_A!G228,4))=TRUE,\"\",ROUND(QNST05_A!G228,4))","v":0},{"$f":"IF(ISERROR(ROUND(QNST05_A!H228,4))=TRUE,\"\",ROUND(QNST05_A!H228,4))","v":0},null,null,null,null,null,null,null,null,null,null,null,"GUERNSEY","GG"]
[{"$f":"IF(QNST05_A!B229=\"\",\"\",VLOOKUP(QNST05_A!B229,L5A!$S$1:$T$260,2,FALSE))","v":""},{"$f":"IF(A220=\"W0\",$Q$29,IF(QNST05_A!C229=\"\",\"\",VLOOKUP(QNST05_A!C229,L5A!$P$1:$Q$29,2,FALSE)))","v":""},{"$f":"IF(A220=\"W0\",$L$21,IF(QNST05_A!D229=\"\",\"\",VLOOKUP(QNST05_A!D229,$K$18:$L$21,2,FALSE)))","v":""},{"$f":"IF(ISERROR(ROUND(QNST05_A!E229,4))=TRUE,\"\",ROUND(QNST05_A!E229,4))","v":0},{"$f":"IF(ISERROR(ROUND(QNST05_A!F229,4))=TRUE,\"\",ROUND(QNST05_A!F229,4))","v":0},{"$f":"IF(ISERROR(ROUND(QNST05_A!G229,4))=TRUE,\"\",ROUND(QNST05_A!G229,4))","v":0},{"$f":"IF(ISERROR(ROUND(QNST05_A!H229,4))=TRUE,\"\",ROUND(QNST05_A!H229,4))","v":0},null,null,null,null,null,null,null,null,null,null,null,"HEARD ISLAND AND MCDONALD ISLANDS","HM"]
[{"$f":"IF(QNST05_A!B230=\"\",\"\",VLOOKUP(QNST05_A!B230,L5A!$S$1:$T$260,2,FALSE))","v":""},{"$f":"IF(A221=\"W0\",$Q$29,IF(QNST05_A!C230=\"\",\"\",VLOOKUP(QNST05_A!C230,L5A!$P$1:$Q$29,2,FALSE)))","v":""},{"$f":"IF(A221=\"W0\",$L$21,IF(QNST05_A!D230=\"\",\"\",VLOOKUP(QNST05_A!D230,$K$18:$L$21,2,FALSE)))","v":""},{"$f":"IF(ISERROR(ROUND(QNST05_A!E230,4))=TRUE,\"\",ROUND(QNST05_A!E230,4))","v":0},{"$f":"IF(ISERROR(ROUND(QNST05_A!F230,4))=TRUE,\"\",ROUND(QNST05_A!F230,4))","v":0},{"$f":"IF(ISERROR(ROUND(QNST05_A!G230,4))=TRUE,\"\",ROUND(QNST05_A!G230,4))","v":0},{"$f":"IF(ISERROR(ROUND(QNST05_A!H230,4))=TRUE,\"\",ROUND(QNST05_A!H230,4))","v":0},null,null,null,null,null,null,null,null,null,null,null,"HONG KONG","HK"]
[{"$f":"IF(QNST05_A!B231=\"\",\"\",VLOOKUP(QNST05_A!B231,L5A!$S$1:$T$260,2,FALSE))","v":""},{"$f":"IF(A222=\"W0\",$Q$29,IF(QNST05_A!C231=\"\",\"\",VLOOKUP(QNST05_A!C231,L5A!$P$1:$Q$29,2,FALSE)))","v":""},{"$f":"IF(A222=\"W0\",$L$21,IF(QNST05_A!D231=\"\",\"\",VLOOKUP(QNST05_A!D231,$K$18:$L$21,2,FALSE)))","v":""},{"$f":"IF(ISERROR(ROUND(QNST05_A!E231,4))=TRUE,\"\",ROUND(QNST05_A!E231,4))","v":0},{"$f":"IF(ISERROR(ROUND(QNST05_A!F231,4))=TRUE,\"\",ROUND(QNST05_A!F231,4))","v":0},{"$f":"IF(ISERROR(ROUND(QNST05_A!G231,4))=TRUE,\"\",ROUND(QNST05_A!G231,4))","v":0},{"$f":"IF(ISERROR(ROUND(QNST05_A!H231,4))=TRUE,\"\",ROUND(QNST05_A!H231,4))","v":0},null,null,null,null,null,null,null,null,null,null,null,"ISLE OF MAN","IM"]
[{"$f":"IF(QNST05_A!B232=\"\",\"\",VLOOKUP(QNST05_A!B232,L5A!$S$1:$T$260,2,FALSE))","v":""},{"$f":"IF(A223=\"W0\",$Q$29,IF(QNST05_A!C232=\"\",\"\",VLOOKUP(QNST05_A!C232,L5A!$P$1:$Q$29,2,FALSE)))","v":""},{"$f":"IF(A223=\"W0\",$L$21,IF(QNST05_A!D232=\"\",\"\",VLOOKUP(QNST05_A!D232,$K$18:$L$21,2,FALSE)))","v":""},{"$f":"IF(ISERROR(ROUND(QNST05_A!E232,4))=TRUE,\"\",ROUND(QNST05_A!E232,4))","v":0},{"$f":"IF(ISERROR(ROUND(QNST05_A!F232,4))=TRUE,\"\",ROUND(QNST05_A!F232,4))","v":0},{"$f":"IF(ISERROR(ROUND(QNST05_A!G232,4))=TRUE,\"\",ROUND(QNST05_A!G232,4))","v":0},{"$f":"IF(ISERROR(ROUND(QNST05_A!H232,4))=TRUE,\"\",ROUND(QNST05_A!H232,4))","v":0},null,null,null,null,null,null,null,null,null,null,null,"JERSEY","JE"]
[{"$f":"IF(QNST05_A!B233=\"\",\"\",VLOOKUP(QNST05_A!B233,L5A!$S$1:$T$260,2,FALSE))","v":""},{"$f":"IF(A224=\"W0\",$Q$29,IF(QNST05_A!C233=\"\",\"\",VLOOKUP(QNST05_A!C233,L5A!$P$1:$Q$29,2,FALSE)))","v":""},{"$f":"IF(A224=\"W0\",$L$21,IF(QNST05_A!D233=\"\",\"\",VLOOKUP(QNST05_A!D233,$K$18:$L$21,2,FALSE)))","v":""},{"$f":"IF(ISERROR(ROUND(QNST05_A!E233,4))=TRUE,\"\",ROUND(QNST05_A!E233,4))","v":0},{"$f":"IF(ISERROR(ROUND(QNST05_A!F233,4))=TRUE,\"\",ROUND(QNST05_A!F233,4))","v":0},{"$f":"IF(ISERROR(ROUND(QNST05_A!G233,4))=TRUE,\"\",ROUND(QNST05_A!G233,4))","v":0},{"$f":"IF(ISERROR(ROUND(QNST05_A!H233,4))=TRUE,\"\",ROUND(QNST05_A!H233,4))","v":0},null,null,null,null,null,null,null,null,null,null,null,"KOSOVO","XK"]
[{"$f":"IF(QNST05_A!B234=\"\",\"\",VLOOKUP(QNST05_A!B234,L5A!$S$1:$T$260,2,FALSE))","v":""},{"$f":"IF(A225=\"W0\",$Q$29,IF(QNST05_A!C234=\"\",\"\",VLOOKUP(QNST05_A!C234,L5A!$P$1:$Q$29,2,FALSE)))","v":""},{"$f":"IF(A225=\"W0\",$L$21,IF(QNST05_A!D234=\"\",\"\",VLOOKUP(QNST05_A!D234,$K$18:$L$21,2,FALSE)))","v":""},{"$f":"IF(ISERROR(ROUND(QNST05_A!E234,4))=TRUE,\"\",ROUND(QNST05_A!E234,4))","v":0},{"$f":"IF(ISERROR(ROUND(QNST05_A!F234,4))=TRUE,\"\",ROUND(QNST05_A!F234,4))","v":0},{"$f":"IF(ISERROR(ROUND(QNST05_A!G234,4))=TRUE,\"\",ROUND(QNST05_A!G234,4))","v":0},{"$f":"IF(ISERROR(ROUND(QNST05_A!H234,4))=TRUE,\"\",ROUND(QNST05_A!H234,4))","v":0},null,null,null,null,null,null,null,null,null,null,null,"MACAO","MO"]
[{"$f":"IF(QNST05_A!B235=\"\",\"\",VLOOKUP(QNST05_A!B235,L5A!$S$1:$T$260,2,FALSE))","v":""},{"$f":"IF(A226=\"W0\",$Q$29,IF(QNST05_A!C235=\"\",\"\",VLOOKUP(QNST05_A!C235,L5A!$P$1:$Q$29,2,FALSE)))","v":""},{"$f":"IF(A226=\"W0\",$L$21,IF(QNST05_A!D235=\"\",\"\",VLOOKUP(QNST05_A!D235,$K$18:$L$21,2,FALSE)))","v":""},{"$f":"IF(ISERROR(ROUND(QNST05_A!E235,4))=TRUE,\"\",ROUND(QNST05_A!E235,4))","v":0},{"$f":"IF(ISERROR(ROUND(QNST05_A!F235,4))=TRUE,\"\",ROUND(QNST05_A!F235,4))","v":0},{"$f":"IF(ISERROR(ROUND(QNST05_A!G235,4))=TRUE,\"\",ROUND(QNST05_A!G235,4))","v":0},{"$f":"IF(ISERROR(ROUND(QNST05_A!H235,4))=TRUE,\"\",ROUND(QNST05_A!H235,4))","v":0},null,null,null,null,null,null,null,null,null,null,null,"MARTINIQUE","FRA20"]
[{"$f":"IF(QNST05_A!B236=\"\",\"\",VLOOKUP(QNST05_A!B236,L5A!$S$1:$T$260,2,FALSE))","v":""},{"$f":"IF(A227=\"W0\",$Q$29,IF(QNST05_A!C236=\"\",\"\",VLOOKUP(QNST05_A!C236,L5A!$P$1:$Q$29,2,FALSE)))","v":""},{"$f":"IF(A227=\"W0\",$L$21,IF(QNST05_A!D236=\"\",\"\",VLOOKUP(QNST05_A!D236,$K$18:$L$21,2,FALSE)))","v":""},{"$f":"IF(ISERROR(ROUND(QNST05_A!E236,4))=TRUE,\"\",ROUND(QNST05_A!E236,4))","v":0},{"$f":"IF(ISERROR(ROUND(QNST05_A!F236,4))=TRUE,\"\",ROUND(QNST05_A!F236,4))","v":0},{"$f":"IF(ISERROR(ROUND(QNST05_A!G236,4))=TRUE,\"\",ROUND(QNST05_A!G236,4))","v":0},{"$f":"IF(ISERROR(ROUND(QNST05_A!H236,4))=TRUE,\"\",ROUND(QNST05_A!H236,4))","v":0},null,null,null,null,null,null,null,null,null,null,null,"MAYOTTE","FRA50"]
[{"$f":"IF(QNST05_A!B237=\"\",\"\",VLOOKUP(QNST05_A!B237,L5A!$S$1:$T$260,2,FALSE))","v":""},{"$f":"IF(A228=\"W0\",$Q$29,IF(QNST05_A!C237=\"\",\"\",VLOOKUP(QNST05_A!C237,L5A!$P$1:$Q$29,2,FALSE)))","v":""},{"$f":"IF(A228=\"W0\",$L$21,IF(QNST05_A!D237=\"\",\"\",VLOOKUP(QNST05_A!D237,$K$18:$L$21,2,FALSE)))","v":""},{"$f":"IF(ISERROR(ROUND(QNST05_A!E237,4))=TRUE,\"\",ROUND(QNST05_A!E237,4))","v":0},{"$f":"IF(ISERROR(ROUND(QNST05_A!F237,4))=TRUE,\"\",ROUND(QNST05_A!F237,4))","v":0},{"$f":"IF(ISERROR(ROUND(QNST05_A!G237,4))=TRUE,\"\",ROUND(QNST05_A!G237,4))","v":0},{"$f":"IF(ISERROR(ROUND(QNST05_A!H237,4))=TRUE,\"\",ROUND(QNST05_A!H237,4))","v":0},null,null,null,null,null,null,null,null,null,null,null,"MONACO","MC"]
[{"$f":"IF(QNST05_A!B238=\"\",\"\",VLOOKUP(QNST05_A!B238,L5A!$S$1:$T$260,2,FALSE))","v":""},{"$f":"IF(A229=\"W0\",$Q$29,IF(QNST05_A!C238=\"\",\"\",VLOOKUP(QNST05_A!C238,L5A!$P$1:$Q$29,2,FALSE)))","v":""},{"$f":"IF(A229=\"W0\",$L$21,IF(QNST05_A!D238=\"\",\"\",VLOOKUP(QNST05_A!D238,$K$18:$L$21,2,FALSE)))","v":""},{"$f":"IF(ISERROR(ROUND(QNST05_A!E238,4))=TRUE,\"\",ROUND(QNST05_A!E238,4))","v":0},{"$f":"IF(ISERROR(ROUND(QNST05_A!F238,4))=TRUE,\"\",ROUND(QNST05_A!F238,4))","v":0},{"$f":"IF(ISERROR(ROUND(QNST05_A!G238,4))=TRUE,\"\",ROUND(QNST05_A!G238,4))","v":0},{"$f":"IF(ISERROR(ROUND(QNST05_A!H238,4))=TRUE,\"\",ROUND(QNST05_A!H238,4))","v":0},null,null,null,null,null,null,null,null,null,null,null,"MONTSERRAT","MS"]
[{"$f":"IF(QNST05_A!B239=\"\",\"\",VLOOKUP(QNST05_A!B239,L5A!$S$1:$T$260,2,FALSE))","v":""},{"$f":"IF(A230=\"W0\",$Q$29,IF(QNST05_A!C239=\"\",\"\",VLOOKUP(QNST05_A!C239,L5A!$P$1:$Q$29,2,FALSE)))","v":""},{"$f":"IF(A230=\"W0\",$L$21,IF(QNST05_A!D239=\"\",\"\",VLOOKUP(QNST05_A!D239,$K$18:$L$21,2,FALSE)))","v":""},{"$f":"IF(ISERROR(ROUND(QNST05_A!E239,4))=TRUE,\"\",ROUND(QNST05_A!E239,4))","v":0},{"$f":"IF(ISERROR(ROUND(QNST05_A!F239,4))=TRUE,\"\",ROUND(QNST05_A!F239,4))","v":0},{"$f":"IF(ISERROR(ROUND(QNST05_A!G239,4))=TRUE,\"\",ROUND(QNST05_A!G239,4))","v":0},{"$f":"IF(ISERROR(ROUND(QNST05_A!H239,4))=TRUE,\"\",ROUND(QNST05_A!H239,4))","v":0},null,null,null,null,null,null,null,null,null,null,null,"NEW CALEDONIA","NC"]
[{"$f":"IF(QNST05_A!B240=\"\",\"\",VLOOKUP(QNST05_A!B240,L5A!$S$1:$T$260,2,FALSE))","v":""},{"$f":"IF(A231=\"W0\",$Q$29,IF(QNST05_A!C240=\"\",\"\",VLOOKUP(QNST05_A!C240,L5A!$P$1:$Q$29,2,FALSE)))","v":""},{"$f":"IF(A231=\"W0\",$L$21,IF(QNST05_A!D240=\"\",\"\",VLOOKUP(QNST05_A!D240,$K$18:$L$21,2,FALSE)))","v":""},{"$f":"IF(ISERROR(ROUND(QNST05_A!E240,4))=TRUE,\"\",ROUND(QNST05_A!E240,4))","v":0},{"$f":"IF(ISERROR(ROUND(QNST05_A!F240,4))=TRUE,\"\",ROUND(QNST05_A!F240,4))","v":0},{"$f":"IF(ISERROR(ROUND(QNST05_A!G240,4))=TRUE,\"\",ROUND(QNST05_A!G240,4))","v":0},{"$f":"IF(ISERROR(ROUND(QNST05_A!H240,4))=TRUE,\"\",ROUND(QNST05_A!H240,4))","v":0},null,null,null,null,null,null,null,null,null,null,null,"NIUE","NU"]
[{"$f":"IF(QNST05_A!B241=\"\",\"\",VLOOKUP(QNST05_A!B241,L5A!$S$1:$T$260,2,FALSE))","v":""},{"$f":"IF(A232=\"W0\",$Q$29,IF(QNST05_A!C241=\"\",\"\",VLOOKUP(QNST05_A!C241,L5A!$P$1:$Q$29,2,FALSE)))","v":""},{"$f":"IF(A232=\"W0\",$L$21,IF(QNST05_A!D241=\"\",\"\",VLOOKUP(QNST05_A!D241,$K$18:$L$21,2,FALSE)))","v":""},{"$f":"IF(ISERROR(ROUND(QNST05_A!E241,4))=TRUE,\"\",ROUND(QNST05_A!E241,4))","v":0},{"$f":"IF(ISERROR(ROUND(QNST05_A!F241,4))=TRUE,\"\",ROUND(QNST05_A!F241,4))","v":0},{"$f":"IF(ISERROR(ROUND(QNST05_A!G241,4))=TRUE,\"\",ROUND(QNST05_A!G241,4))","v":0},{"$f":"IF(ISERROR(ROUND(QNST05_A!H241,4))=TRUE,\"\",ROUND(QNST05_A!H241,4))","v":0},null,null,null,null,null,null,null,null,null,null,null,"NORFOLK ISLAND","NF"]
[{"$f":"IF(QNST05_A!B242=\"\",\"\",VLOOKUP(QNST05_A!B242,L5A!$S$1:$T$260,2,FALSE))","v":""},{"$f":"IF(A233=\"W0\",$Q$29,IF(QNST05_A!C242=\"\",\"\",VLOOKUP(QNST05_A!C242,L5A!$P$1:$Q$29,2,FALSE)))","v":""},{"$f":"IF(A233=\"W0\",$L$21,IF(QNST05_A!D242=\"\",\"\",VLOOKUP(QNST05_A!D242,$K$18:$L$21,2,FALSE)))","v":""},{"$f":"IF(ISERROR(ROUND(QNST05_A!E242,4))=TRUE,\"\",ROUND(QNST05_A!E242,4))","v":0},{"$f":"IF(ISERROR(ROUND(QNST05_A!F242,4))=TRUE,\"\",ROUND(QNST05_A!F242,4))","v":0},{"$f":"IF(ISERROR(ROUND(QNST05_A!G242,4))=TRUE,\"\",ROUND(QNST05_A!G242,4))","v":0},{"$f":"IF(ISERROR(ROUND(QNST05_A!H242,4))=TRUE,\"\",ROUND(QNST05_A!H242,4))","v":0},null,null,null,null,null,null,null,null,null,null,null,"NORTHERN MARIANA ISLANDS","MP"]
[{"$f":"IF(QNST05_A!B243=\"\",\"\",VLOOKUP(QNST05_A!B243,L5A!$S$1:$T$260,2,FALSE))","v":""},{"$f":"IF(A234=\"W0\",$Q$29,IF(QNST05_A!C243=\"\",\"\",VLOOKUP(QNST05_A!C243,L5A!$P$1:$Q$29,2,FALSE)))","v":""},{"$f":"IF(A234=\"W0\",$L$21,IF(QNST05_A!D243=\"\",\"\",VLOOKUP(QNST05_A!D243,$K$18:$L$21,2,FALSE)))","v":""},{"$f":"IF(ISERROR(ROUND(QNST05_A!E243,4))=TRUE,\"\",ROUND(QNST05_A!E243,4))","v":0},{"$f":"IF(ISERROR(ROUND(QNST05_A!F243,4))=TRUE,\"\",ROUND(QNST05_A!F243,4))","v":0},{"$f":"IF(ISERROR(ROUND(QNST05_A!G243,4))=TRUE,\"\",ROUND(QNST05_A!G243,4))","v":0},{"$f":"IF(ISERROR(ROUND(QNST05_A!H243,4))=TRUE,\"\",ROUND(QNST05_A!H243,4))","v":0},null,null,null,null,null,null,null,null,null,null,null,"PITCAIRN","PN"]
[{"$f":"IF(QNST05_A!B244=\"\",\"\",VLOOKUP(QNST05_A!B244,L5A!$S$1:$T$260,2,FALSE))","v":""},{"$f":"IF(A235=\"W0\",$Q$29,IF(QNST05_A!C244=\"\",\"\",VLOOKUP(QNST05_A!C244,L5A!$P$1:$Q$29,2,FALSE)))","v":""},{"$f":"IF(A235=\"W0\",$L$21,IF(QNST05_A!D244=\"\",\"\",VLOOKUP(QNST05_A!D244,$K$18:$L$21,2,FALSE)))","v":""},{"$f":"IF(ISERROR(ROUND(QNST05_A!E244,4))=TRUE,\"\",ROUND(QNST05_A!E244,4))","v":0},{"$f":"IF(ISERROR(ROUND(QNST05_A!F244,4))=TRUE,\"\",ROUND(QNST05_A!F244,4))","v":0},{"$f":"IF(ISERROR(ROUND(QNST05_A!G244,4))=TRUE,\"\",ROUND(QNST05_A!G244,4))","v":0},{"$f":"IF(ISERROR(ROUND(QNST05_A!H244,4))=TRUE,\"\",ROUND(QNST05_A!H244,4))","v":0},null,null,null,null,null,null,null,null,null,null,null,"PUERTO RICO","PR"]
[{"$f":"IF(QNST05_A!B245=\"\",\"\",VLOOKUP(QNST05_A!B245,L5A!$S$1:$T$260,2,FALSE))","v":""},{"$f":"IF(A236=\"W0\",$Q$29,IF(QNST05_A!C245=\"\",\"\",VLOOKUP(QNST05_A!C245,L5A!$P$1:$Q$29,2,FALSE)))","v":""},{"$f":"IF(A236=\"W0\",$L$21,IF(QNST05_A!D245=\"\",\"\",VLOOKUP(QNST05_A!D245,$K$18:$L$21,2,FALSE)))","v":""},{"$f":"IF(ISERROR(ROUND(QNST05_A!E245,4))=TRUE,\"\",ROUND(QNST05_A!E245,4))","v":0},{"$f":"IF(ISERROR(ROUND(QNST05_A!F245,4))=TRUE,\"\",ROUND(QNST05_A!F245,4))","v":0},{"$f":"IF(ISERROR(ROUND(QNST05_A!G245,4))=TRUE,\"\",ROUND(QNST05_A!G245,4))","v":0},{"$f":"IF(ISERROR(ROUND(QNST05_A!H245,4))=TRUE,\"\",ROUND(QNST05_A!H245,4))","v":0},null,null,null,null,null,null,null,null,null,null,null,"RÉUNION","RE"]
[{"$f":"IF(QNST05_A!B246=\"\",\"\",VLOOKUP(QNST05_A!B246,L5A!$S$1:$T$260,2,FALSE))","v":""},{"$f":"IF(A237=\"W0\",$Q$29,IF(QNST05_A!C246=\"\",\"\",VLOOKUP(QNST05_A!C246,L5A!$P$1:$Q$29,2,FALSE)))","v":""},{"$f":"IF(A237=\"W0\",$L$21,IF(QNST05_A!D246=\"\",\"\",VLOOKUP(QNST05_A!D246,$K$18:$L$21,2,FALSE)))","v":""},{"$f":"IF(ISERROR(ROUND(QNST05_A!E246,4))=TRUE,\"\",ROUND(QNST05_A!E246,4))","v":0},{"$f":"IF(ISERROR(ROUND(QNST05_A!F246,4))=TRUE,\"\",ROUND(QNST05_A!F246,4))","v":0},{"$f":"IF(ISERROR(ROUND(QNST05_A!G246,4))=TRUE,\"\",ROUND(QNST05_A!G246,4))","v":0},{"$f":"IF(ISERROR(ROUND(QNST05_A!H246,4))=TRUE,\"\",ROUND(QNST05_A!H246,4))","v":0},null,null,null,null,null,null,null,null,null,null,null,"SAINT BARTHÉLEMY","BL"]
[{"$f":"IF(QNST05_A!B247=\"\",\"\",VLOOKUP(QNST05_A!B247,L5A!$S$1:$T$260,2,FALSE))","v":""},{"$f":"IF(A238=\"W0\",$Q$29,IF(QNST05_A!C247=\"\",\"\",VLOOKUP(QNST05_A!C247,L5A!$P$1:$Q$29,2,FALSE)))","v":""},{"$f":"IF(A238=\"W0\",$L$21,IF(QNST05_A!D247=\"\",\"\",VLOOKUP(QNST05_A!D247,$K$18:$L$21,2,FALSE)))","v":""},{"$f":"IF(ISERROR(ROUND(QNST05_A!E247,4))=TRUE,\"\",ROUND(QNST05_A!E247,4))","v":0},{"$f":"IF(ISERROR(ROUND(QNST05_A!F247,4))=TRUE,\"\",ROUND(QNST05_A!F247,4))","v":0},{"$f":"IF(ISERROR(ROUND(QNST05_A!G247,4))=TRUE,\"\",ROUND(QNST05_A!G247,4))","v":0},{"$f":"IF(ISERROR(ROUND(QNST05_A!H247,4))=TRUE,\"\",ROUND(QNST05_A!H247,4))","v":0},null,null,null,null,null,null,null,null,null,null,null,"SAINT HELENA, ASCENSION AND TRISTAN DA CUNHA","SH"]
[{"$f":"IF(QNST05_A!B248=\"\",\"\",VLOOKUP(QNST05_A!B248,L5A!$S$1:$T$260,2,FALSE))","v":""},{"$f":"IF(A239=\"W0\",$Q$29,IF(QNST05_A!C248=\"\",\"\",VLOOKUP(QNST05_A!C248,L5A!$P$1:$Q$29,2,FALSE)))","v":""},{"$f":"IF(A239=\"W0\",$L$21,IF(QNST05_A!D248=\"\",\"\",VLOOKUP(QNST05_A!D248,$K$18:$L$21,2,FALSE)))","v":""},{"$f":"IF(ISERROR(ROUND(QNST05_A!E248,4))=TRUE,\"\",ROUND(QNST05_A!E248,4))","v":0},{"$f":"IF(ISERROR(ROUND(QNST05_A!F248,4))=TRUE,\"\",ROUND(QNST05_A!F248,4))","v":0},{"$f":"IF(ISERROR(ROUND(QNST05_A!G248,4))=TRUE,\"\",ROUND(QNST05_A!G248,4))","v":0},{"$f":"IF(ISERROR(ROUND(QNST05_A!H248,4))=TRUE,\"\",ROUND(QNST05_A!H248,4))","v":0},null,null,null,null,null,null,null,null,null,null,null,"SAINT MARTIN (FRENCH PART)","MF"]
[{"$f":"IF(QNST05_A!B249=\"\",\"\",VLOOKUP(QNST05_A!B249,L5A!$S$1:$T$260,2,FALSE))","v":""},{"$f":"IF(A240=\"W0\",$Q$29,IF(QNST05_A!C249=\"\",\"\",VLOOKUP(QNST05_A!C249,L5A!$P$1:$Q$29,2,FALSE)))","v":""},{"$f":"IF(A240=\"W0\",$L$21,IF(QNST05_A!D249=\"\",\"\",VLOOKUP(QNST05_A!D249,$K$18:$L$21,2,FALSE)))","v":""},{"$f":"IF(ISERROR(ROUND(QNST05_A!E249,4))=TRUE,\"\",ROUND(QNST05_A!E249,4))","v":0},{"$f":"IF(ISERROR(ROUND(QNST05_A!F249,4))=TRUE,\"\",ROUND(QNST05_A!F249,4))","v":0},{"$f":"IF(ISERROR(ROUND(QNST05_A!G249,4))=TRUE,\"\",ROUND(QNST05_A!G249,4))","v":0},{"$f":"IF(ISERROR(ROUND(QNST05_A!H249,4))=TRUE,\"\",ROUND(QNST05_A!H249,4))","v":0},null,null,null,null,null,null,null,null,null,null,null,"SAINT PIERRE AND MIQUELON","PM"]
[{"$f":"IF(QNST05_A!B250=\"\",\"\",VLOOKUP(QNST05_A!B250,L5A!$S$1:$T$260,2,FALSE))","v":""},{"$f":"IF(A241=\"W0\",$Q$29,IF(QNST05_A!C250=\"\",\"\",VLOOKUP(QNST05_A!C250,L5A!$P$1:$Q$29,2,FALSE)))","v":""},{"$f":"IF(A241=\"W0\",$L$21,IF(QNST05_A!D250=\"\",\"\",VLOOKUP(QNST05_A!D250,$K$18:$L$21,2,FALSE)))","v":""},{"$f":"IF(ISERROR(ROUND(QNST05_A!E250,4))=TRUE,\"\",ROUND(QNST05_A!E250,4))","v":0},{"$f":"IF(ISERROR(ROUND(QNST05_A!F250,4))=TRUE,\"\",ROUND(QNST05_A!F250,4))","v":0},{"$f":"IF(ISERROR(ROUND(QNST05_A!G250,4))=TRUE,\"\",ROUND(QNST05_A!G250,4))","v":0},{"$f":"IF(ISERROR(ROUND(QNST05_A!H250,4))=TRUE,\"\",ROUND(QNST05_A!H250,4))","v":0},null,null,null,null,null,null,null,null,null,null,null,"SINT MAARTEN (DUTCH PART)","SX"]
[{"$f":"IF(QNST05_A!B251=\"\",\"\",VLOOKUP(QNST05_A!B251,L5A!$S$1:$T$260,2,FALSE))","v":""},{"$f":"IF(A242=\"W0\",$Q$29,IF(QNST05_A!C251=\"\",\"\",VLOOKUP(QNST05_A!C251,L5A!$P$1:$Q$29,2,FALSE)))","v":""},{"$f":"IF(A242=\"W0\",$L$21,IF(QNST05_A!D251=\"\",\"\",VLOOKUP(QNST05_A!D251,$K$18:$L$21,2,FALSE)))","v":""},{"$f":"IF(ISERROR(ROUND(QNST05_A!E251,4))=TRUE,\"\",ROUND(QNST05_A!E251,4))","v":0},{"$f":"IF(ISERROR(ROUND(QNST05_A!F251,4))=TRUE,\"\",ROUND(QNST05_A!F251,4))","v":0},{"$f":"IF(ISERROR(ROUND(QNST05_A!G251,4))=TRUE,\"\",ROUND(QNST05_A!G251,4))","v":0},{"$f":"IF(ISERROR(ROUND(QNST05_A!H251,4))=TRUE,\"\",ROUND(QNST05_A!H251,4))","v":0},null,null,null,null,null,null,null,null,null,null,null,"SOUTH GEORGIA AND THE SOUTH SANDWICH ISLANDS","GS"]
[{"$f":"IF(QNST05_A!B252=\"\",\"\",VLOOKUP(QNST05_A!B252,L5A!$S$1:$T$260,2,FALSE))","v":""},{"$f":"IF(A243=\"W0\",$Q$29,IF(QNST05_A!C252=\"\",\"\",VLOOKUP(QNST05_A!C252,L5A!$P$1:$Q$29,2,FALSE)))","v":""},{"$f":"IF(A243=\"W0\",$L$21,IF(QNST05_A!D252=\"\",\"\",VLOOKUP(QNST05_A!D252,$K$18:$L$21,2,FALSE)))","v":""},{"$f":"IF(ISERROR(ROUND(QNST05_A!E252,4))=TRUE,\"\",ROUND(QNST05_A!E252,4))","v":0},{"$f":"IF(ISERROR(ROUND(QNST05_A!F252,4))=TRUE,\"\",ROUND(QNST05_A!F252,4))","v":0},{"$f":"IF(ISERROR(ROUND(QNST05_A!G252,4))=TRUE,\"\",ROUND(QNST05_A!G252,4))","v":0},{"$f":"IF(ISERROR(ROUND(QNST05_A!H252,4))=TRUE,\"\",ROUND(QNST05_A!H252,4))","v":0},null,null,null,null,null,null,null,null,null,null,null,"SVALBARD AND JAN MAYEN","SJ"]
[{"$f":"IF(QNST05_A!B253=\"\",\"\",VLOOKUP(QNST05_A!B253,L5A!$S$1:$T$260,2,FALSE))","v":""},{"$f":"IF(A244=\"W0\",$Q$29,IF(QNST05_A!C253=\"\",\"\",VLOOKUP(QNST05_A!C253,L5A!$P$1:$Q$29,2,FALSE)))","v":""},{"$f":"IF(A244=\"W0\",$L$21,IF(QNST05_A!D253=\"\",\"\",VLOOKUP(QNST05_A!D253,$K$18:$L$21,2,FALSE)))","v":""},{"$f":"IF(ISERROR(ROUND(QNST05_A!E253,4))=TRUE,\"\",ROUND(QNST05_A!E253,4))","v":0},{"$f":"IF(ISERROR(ROUND(QNST05_A!F253,4))=TRUE,\"\",ROUND(QNST05_A!F253,4))","v":0},{"$f":"IF(ISERROR(ROUND(QNST05_A!G253,4))=TRUE,\"\",ROUND(QNST05_A!G253,4))","v":0},{"$f":"IF(ISERROR(ROUND(QNST05_A!H253,4))=TRUE,\"\",ROUND(QNST05_A!H253,4))","v":0},null,null,null,null,null,null,null,null,null,null,null,"TAIWAN, PROVINCE OF CHINA","TW"]
[{"$f":"IF(QNST05_A!B254=\"\",\"\",VLOOKUP(QNST05_A!B254,L5A!$S$1:$T$260,2,FALSE))","v":""},{"$f":"IF(A245=\"W0\",$Q$29,IF(QNST05_A!C254=\"\",\"\",VLOOKUP(QNST05_A!C254,L5A!$P$1:$Q$29,2,FALSE)))","v":""},{"$f":"IF(A245=\"W0\",$L$21,IF(QNST05_A!D254=\"\",\"\",VLOOKUP(QNST05_A!D254,$K$18:$L$21,2,FALSE)))","v":""},{"$f":"IF(ISERROR(ROUND(QNST05_A!E254,4))=TRUE,\"\",ROUND(QNST05_A!E254,4))","v":0},{"$f":"IF(ISERROR(ROUND(QNST05_A!F254,4))=TRUE,\"\",ROUND(QNST05_A!F254,4))","v":0},{"$f":"IF(ISERROR(ROUND(QNST05_A!G254,4))=TRUE,\"\",ROUND(QNST05_A!G254,4))","v":0},{"$f":"IF(ISERROR(ROUND(QNST05_A!H254,4))=TRUE,\"\",ROUND(QNST05_A!H254,4))","v":0},null,null,null,null,null,null,null,null,null,null,null,"TOKELAU","TK"]
[{"$f":"IF(QNST05_A!B255=\"\",\"\",VLOOKUP(QNST05_A!B255,L5A!$S$1:$T$260,2,FALSE))","v":""},{"$f":"IF(A246=\"W0\",$Q$29,IF(QNST05_A!C255=\"\",\"\",VLOOKUP(QNST05_A!C255,L5A!$P$1:$Q$29,2,FALSE)))","v":""},{"$f":"IF(A246=\"W0\",$L$21,IF(QNST05_A!D255=\"\",\"\",VLOOKUP(QNST05_A!D255,$K$18:$L$21,2,FALSE)))","v":""},{"$f":"IF(ISERROR(ROUND(QNST05_A!E255,4))=TRUE,\"\",ROUND(QNST05_A!E255,4))","v":0},{"$f":"IF(ISERROR(ROUND(QNST05_A!F255,4))=TRUE,\"\",ROUND(QNST05_A!F255,4))","v":0},{"$f":"IF(ISERROR(ROUND(QNST05_A!G255,4))=TRUE,\"\",ROUND(QNST05_A!G255,4))","v":0},{"$f":"IF(ISERROR(ROUND(QNST05_A!H255,4))=TRUE,\"\",ROUND(QNST05_A!H255,4))","v":0},null,null,null,null,null,null,null,null,null,null,null,"TURKS AND CAICOS ISLANDS","TC"]
[{"$f":"IF(QNST05_A!B256=\"\",\"\",VLOOKUP(QNST05_A!B256,L5A!$S$1:$T$260,2,FALSE))","v":""},{"$f":"IF(A247=\"W0\",$Q$29,IF(QNST05_A!C256=\"\",\"\",VLOOKUP(QNST05_A!C256,L5A!$P$1:$Q$29,2,FALSE)))","v":""},{"$f":"IF(A247=\"W0\",$L$21,IF(QNST05_A!D256=\"\",\"\",VLOOKUP(QNST05_A!D256,$K$18:$L$21,2,FALSE)))","v":""},{"$f":"IF(ISERROR(ROUND(QNST05_A!E256,4))=TRUE,\"\",ROUND(QNST05_A!E256,4))","v":0},{"$f":"IF(ISERROR(ROUND(QNST05_A!F256,4))=TRUE,\"\",ROUND(QNST05_A!F256,4))","v":0},{"$f":"IF(ISERROR(ROUND(QNST05_A!G256,4))=TRUE,\"\",ROUND(QNST05_A!G256,4))","v":0},{"$f":"IF(ISERROR(ROUND(QNST05_A!H256,4))=TRUE,\"\",ROUND(QNST05_A!H256,4))","v":0},null,null,null,null,null,null,null,null,null,null,null,"UNITED KINGDOM (GIBRALTAR)","GI"]
[{"$f":"IF(QNST05_A!B257=\"\",\"\",VLOOKUP(QNST05_A!B257,L5A!$S$1:$T$260,2,FALSE))","v":""},{"$f":"IF(A248=\"W0\",$Q$29,IF(QNST05_A!C257=\"\",\"\",VLOOKUP(QNST05_A!C257,L5A!$P$1:$Q$29,2,FALSE)))","v":""},{"$f":"IF(A248=\"W0\",$L$21,IF(QNST05_A!D257=\"\",\"\",VLOOKUP(QNST05_A!D257,$K$18:$L$21,2,FALSE)))","v":""},{"$f":"IF(ISERROR(ROUND(QNST05_A!E257,4))=TRUE,\"\",ROUND(QNST05_A!E257,4))","v":0},{"$f":"IF(ISERROR(ROUND(QNST05_A!F257,4))=TRUE,\"\",ROUND(QNST05_A!F257,4))","v":0},{"$f":"IF(ISERROR(ROUND(QNST05_A!G257,4))=TRUE,\"\",ROUND(QNST05_A!G257,4))","v":0},{"$f":"IF(ISERROR(ROUND(QNST05_A!H257,4))=TRUE,\"\",ROUND(QNST05_A!H257,4))","v":0},null,null,null,null,null,null,null,null,null,null,null,"UNITED STATES MINOR OUTLYING ISLANDS","UM"]
[{"$f":"IF(QNST05_A!B258=\"\",\"\",VLOOKUP(QNST05_A!B258,L5A!$S$1:$T$260,2,FALSE))","v":""},{"$f":"IF(A249=\"W0\",$Q$29,IF(QNST05_A!C258=\"\",\"\",VLOOKUP(QNST05_A!C258,L5A!$P$1:$Q$29,2,FALSE)))","v":""},{"$f":"IF(A249=\"W0\",$L$21,IF(QNST05_A!D258=\"\",\"\",VLOOKUP(QNST05_A!D258,$K$18:$L$21,2,FALSE)))","v":""},{"$f":"IF(ISERROR(ROUND(QNST05_A!E258,4))=TRUE,\"\",ROUND(QNST05_A!E258,4))","v":0},{"$f":"IF(ISERROR(ROUND(QNST05_A!F258,4))=TRUE,\"\",ROUND(QNST05_A!F258,4))","v":0},{"$f":"IF(ISERROR(ROUND(QNST05_A!G258,4))=TRUE,\"\",ROUND(QNST05_A!G258,4))","v":0},{"$f":"IF(ISERROR(ROUND(QNST05_A!H258,4))=TRUE,\"\",ROUND(QNST05_A!H258,4))","v":0},null,null,null,null,null,null,null,null,null,null,null,"VIRGIN ISLANDS, BRITISH","VG"]
[{"$f":"IF(QNST05_A!B259=\"\",\"\",VLOOKUP(QNST05_A!B259,L5A!$S$1:$T$260,2,FALSE))","v":""},{"$f":"IF(A250=\"W0\",$Q$29,IF(QNST05_A!C259=\"\",\"\",VLOOKUP(QNST05_A!C259,L5A!$P$1:$Q$29,2,FALSE)))","v":""},{"$f":"IF(A250=\"W0\",$L$21,IF(QNST05_A!D259=\"\",\"\",VLOOKUP(QNST05_A!D259,$K$18:$L$21,2,FALSE)))","v":""},{"$f":"IF(ISERROR(ROUND(QNST05_A!E259,4))=TRUE,\"\",ROUND(QNST05_A!E259,4))","v":0},{"$f":"IF(ISERROR(ROUND(QNST05_A!F259,4))=TRUE,\"\",ROUND(QNST05_A!F259,4))","v":0},{"$f":"IF(ISERROR(ROUND(QNST05_A!G259,4))=TRUE,\"\",ROUND(QNST05_A!G259,4))","v":0},{"$f":"IF(ISERROR(ROUND(QNST05_A!H259,4))=TRUE,\"\",ROUND(QNST05_A!H259,4))","v":0},null,null,null,null,null,null,null,null,null,null,null,"VIRGIN ISLANDS, U.S.","VI"]
[{"$f":"IF(QNST05_A!B260=\"\",\"\",VLOOKUP(QNST05_A!B260,L5A!$S$1:$T$260,2,FALSE))","v":""},{"$f":"IF(A251=\"W0\",$Q$29,IF(QNST05_A!C260=\"\",\"\",VLOOKUP(QNST05_A!C260,L5A!$P$1:$Q$29,2,FALSE)))","v":""},{"$f":"IF(A251=\"W0\",$L$21,IF(QNST05_A!D260=\"\",\"\",VLOOKUP(QNST05_A!D260,$K$18:$L$21,2,FALSE)))","v":""},{"$f":"IF(ISERROR(ROUND(QNST05_A!E260,4))=TRUE,\"\",ROUND(QNST05_A!E260,4))","v":0},{"$f":"IF(ISERROR(ROUND(QNST05_A!F260,4))=TRUE,\"\",ROUND(QNST05_A!F260,4))","v":0},{"$f":"IF(ISERROR(ROUND(QNST05_A!G260,4))=TRUE,\"\",ROUND(QNST05_A!G260,4))","v":0},{"$f":"IF(ISERROR(ROUND(QNST05_A!H260,4))=TRUE,\"\",ROUND(QNST05_A!H260,4))","v":0},null,null,null,null,null,null,null,null,null,null,null,"WALLIS AND FUTUNA","WF"]
[{"$f":"IF(QNST05_A!B261=\"\",\"\",VLOOKUP(QNST05_A!B261,L5A!$S$1:$T$260,2,FALSE))","v":""},{"$f":"IF(A252=\"W0\",$Q$29,IF(QNST05_A!C261=\"\",\"\",VLOOKUP(QNST05_A!C261,L5A!$P$1:$Q$29,2,FALSE)))","v":""},{"$f":"IF(A252=\"W0\",$L$21,IF(QNST05_A!D261=\"\",\"\",VLOOKUP(QNST05_A!D261,$K$18:$L$21,2,FALSE)))","v":""},{"$f":"IF(ISERROR(ROUND(QNST05_A!E261,4))=TRUE,\"\",ROUND(QNST05_A!E261,4))","v":0},{"$f":"IF(ISERROR(ROUND(QNST05_A!F261,4))=TRUE,\"\",ROUND(QNST05_A!F261,4))","v":0},{"$f":"IF(ISERROR(ROUND(QNST05_A!G261,4))=TRUE,\"\",ROUND(QNST05_A!G261,4))","v":0},{"$f":"IF(ISERROR(ROUND(QNST05_A!H261,4))=TRUE,\"\",ROUND(QNST05_A!H261,4))","v":0},null,null,null,null,null,null,null,null,null,null,null,"WESTERN SAHARA","EH"]
[{"$f":"IF(QNST05_A!B262=\"\",\"\",VLOOKUP(QNST05_A!B262,L5A!$S$1:$T$260,2,FALSE))","v":""},{"$f":"IF(A253=\"W0\",$Q$29,IF(QNST05_A!C262=\"\",\"\",VLOOKUP(QNST05_A!C262,L5A!$P$1:$Q$29,2,FALSE)))","v":""},{"$f":"IF(A253=\"W0\",$L$21,IF(QNST05_A!D262=\"\",\"\",VLOOKUP(QNST05_A!D262,$K$18:$L$21,2,FALSE)))","v":""},{"$f":"IF(ISERROR(ROUND(QNST05_A!E262,4))=TRUE,\"\",ROUND(QNST05_A!E262,4))","v":0},{"$f":"IF(ISERROR(ROUND(QNST05_A!F262,4))=TRUE,\"\",ROUND(QNST05_A!F262,4))","v":0},{"$f":"IF(ISERROR(ROUND(QNST05_A!G262,4))=TRUE,\"\",ROUND(QNST05_A!G262,4))","v":0},{"$f":"IF(ISERROR(ROUND(QNST05_A!H262,4))=TRUE,\"\",ROUND(QNST05_A!H262,4))","v":0},null,null,null,null,null,null,null,null,null,null,null,"* Not applicable is to be selected for insurance and reinsurance business carried out in Malta. "]
[{"$f":"IF(QNST05_A!B263=\"\",\"\",VLOOKUP(QNST05_A!B263,L5A!$S$1:$T$260,2,FALSE))","v":""},{"$f":"IF(A254=\"W0\",$Q$29,IF(QNST05_A!C263=\"\",\"\",VLOOKUP(QNST05_A!C263,L5A!$P$1:$Q$29,2,FALSE)))","v":""},{"$f":"IF(A254=\"W0\",$L$21,IF(QNST05_A!D263=\"\",\"\",VLOOKUP(QNST05_A!D263,$K$18:$L$21,2,FALSE)))","v":""},{"$f":"IF(ISERROR(ROUND(QNST05_A!E263,4))=TRUE,\"\",ROUND(QNST05_A!E263,4))","v":0},{"$f":"IF(ISERROR(ROUND(QNST05_A!F263,4))=TRUE,\"\",ROUND(QNST05_A!F263,4))","v":0},{"$f":"IF(ISERROR(ROUND(QNST05_A!G263,4))=TRUE,\"\",ROUND(QNST05_A!G263,4))","v":0},{"$f":"IF(ISERROR(ROUND(QNST05_A!H263,4))=TRUE,\"\",ROUND(QNST05_A!H263,4))","v":0},null,null,null,null,null,null,null,null,null,null,null,"** Gross Premiums Written shall comprise all amounts due during the financial year in respect of insurance contracts, regardless of the fact that such amounts may relate in whole or in part to a later financial year. "]
[{"$f":"IF(QNST05_A!B264=\"\",\"\",VLOOKUP(QNST05_A!B264,L5A!$S$1:$T$260,2,FALSE))","v":""},{"$f":"IF(A255=\"W0\",$Q$29,IF(QNST05_A!C264=\"\",\"\",VLOOKUP(QNST05_A!C264,L5A!$P$1:$Q$29,2,FALSE)))","v":""},{"$f":"IF(A255=\"W0\",$L$21,IF(QNST05_A!D264=\"\",\"\",VLOOKUP(QNST05_A!D264,$K$18:$L$21,2,FALSE)))","v":""},{"$f":"IF(ISERROR(ROUND(QNST05_A!E264,4))=TRUE,\"\",ROUND(QNST05_A!E264,4))","v":0},{"$f":"IF(ISERROR(ROUND(QNST05_A!F264,4))=TRUE,\"\",ROUND(QNST05_A!F264,4))","v":0},{"$f":"IF(ISERROR(ROUND(QNST05_A!G264,4))=TRUE,\"\",ROUND(QNST05_A!G264,4))","v":0},{"$f":"IF(ISERROR(ROUND(QNST05_A!H264,4))=TRUE,\"\",ROUND(QNST05_A!H264,4))","v":0},null,null,null,null,null,null,null,null,null,null,null,"*** Gross Claims Incurred means the sum of the claims paid and the change in the provision for claims during the financial year related to insurance contracts. This shall exclude claims management expenses. "]
[{"$f":"IF(QNST05_A!B265=\"\",\"\",VLOOKUP(QNST05_A!B265,L5A!$S$1:$T$260,2,FALSE))","v":""},{"$f":"IF(A256=\"W0\",$Q$29,IF(QNST05_A!C265=\"\",\"\",VLOOKUP(QNST05_A!C265,L5A!$P$1:$Q$29,2,FALSE)))","v":""},{"$f":"IF(A256=\"W0\",$L$21,IF(QNST05_A!D265=\"\",\"\",VLOOKUP(QNST05_A!D265,$K$18:$L$21,2,FALSE)))","v":""},{"$f":"IF(ISERROR(ROUND(QNST05_A!E265,4))=TRUE,\"\",ROUND(QNST05_A!E265,4))","v":0},{"$f":"IF(ISERROR(ROUND(QNST05_A!F265,4))=TRUE,\"\",ROUND(QNST05_A!F265,4))","v":0},{"$f":"IF(ISERROR(ROUND(QNST05_A!G265,4))=TRUE,\"\",ROUND(QNST05_A!G265,4))","v":0},{"$f":"IF(ISERROR(ROUND(QNST05_A!H265,4))=TRUE,\"\",ROUND(QNST05_A!H265,4))","v":0},null,null,null,null,null,null,null,null,null,null,null,"**** Gross Commissions are commission costs, costs of selling, underwriting and initiating an insurance contract that has been issued."]
[{"$f":"IF(QNST05_A!B266=\"\",\"\",VLOOKUP(QNST05_A!B266,L5A!$S$1:$T$260,2,FALSE))","v":""},{"$f":"IF(A257=\"W0\",$Q$29,IF(QNST05_A!C266=\"\",\"\",VLOOKUP(QNST05_A!C266,L5A!$P$1:$Q$29,2,FALSE)))","v":""},{"$f":"IF(A257=\"W0\",$L$21,IF(QNST05_A!D266=\"\",\"\",VLOOKUP(QNST05_A!D266,$K$18:$L$21,2,FALSE)))","v":""},{"$f":"IF(ISERROR(ROUND(QNST05_A!E266,4))=TRUE,\"\",ROUND(QNST05_A!E266,4))","v":0},{"$f":"IF(ISERROR(ROUND(QNST05_A!F266,4))=TRUE,\"\",ROUND(QNST05_A!F266,4))","v":0},{"$f":"IF(ISERROR(ROUND(QNST05_A!G266,4))=TRUE,\"\",ROUND(QNST05_A!G266,4))","v":0},{"$f":"IF(ISERROR(ROUND(QNST05_A!H266,4))=TRUE,\"\",ROUND(QNST05_A!H266,4))","v":0},null,null,null,null,null,null,null,null,null,null,null,"***** For insurance undertakings carrying out insurance business this should be the number of policies issues. This is not applicable for insurance undertakings carrying out reinsurance business."]
[{"$f":"IF(QNST05_A!B267=\"\",\"\",VLOOKUP(QNST05_A!B267,L5A!$S$1:$T$260,2,FALSE))","v":""},{"$f":"IF(A258=\"W0\",$Q$29,IF(QNST05_A!C267=\"\",\"\",VLOOKUP(QNST05_A!C267,L5A!$P$1:$Q$29,2,FALSE)))","v":""},{"$f":"IF(A258=\"W0\",$L$21,IF(QNST05_A!D267=\"\",\"\",VLOOKUP(QNST05_A!D267,$K$18:$L$21,2,FALSE)))","v":""},{"$f":"IF(ISERROR(ROUND(QNST05_A!E267,4))=TRUE,\"\",ROUND(QNST05_A!E267,4))","v":0},{"$f":"IF(ISERROR(ROUND(QNST05_A!F267,4))=TRUE,\"\",ROUND(QNST05_A!F267,4))","v":0},{"$f":"IF(ISERROR(ROUND(QNST05_A!G267,4))=TRUE,\"\",ROUND(QNST05_A!G267,4))","v":0},{"$f":"IF(ISERROR(ROUND(QNST05_A!H267,4))=TRUE,\"\",ROUND(QNST05_A!H267,4))","v":0}]
[{"$f":"IF(QNST05_A!B268=\"\",\"\",VLOOKUP(QNST05_A!B268,L5A!$S$1:$T$260,2,FALSE))","v":""},{"$f":"IF(A259=\"W0\",$Q$29,IF(QNST05_A!C268=\"\",\"\",VLOOKUP(QNST05_A!C268,L5A!$P$1:$Q$29,2,FALSE)))","v":""},{"$f":"IF(A259=\"W0\",$L$21,IF(QNST05_A!D268=\"\",\"\",VLOOKUP(QNST05_A!D268,$K$18:$L$21,2,FALSE)))","v":""},{"$f":"IF(ISERROR(ROUND(QNST05_A!E268,4))=TRUE,\"\",ROUND(QNST05_A!E268,4))","v":0},{"$f":"IF(ISERROR(ROUND(QNST05_A!F268,4))=TRUE,\"\",ROUND(QNST05_A!F268,4))","v":0},{"$f":"IF(ISERROR(ROUND(QNST05_A!G268,4))=TRUE,\"\",ROUND(QNST05_A!G268,4))","v":0},{"$f":"IF(ISERROR(ROUND(QNST05_A!H268,4))=TRUE,\"\",ROUND(QNST05_A!H268,4))","v":0},null,null,null,null,null,null,null,null,null,null,null,"N.B - You may add more activities by inserting new rows."]
[{"$f":"IF(QNST05_A!B269=\"\",\"\",VLOOKUP(QNST05_A!B269,L5A!$S$1:$T$260,2,FALSE))","v":""},{"$f":"IF(A260=\"W0\",$Q$29,IF(QNST05_A!C269=\"\",\"\",VLOOKUP(QNST05_A!C269,L5A!$P$1:$Q$29,2,FALSE)))","v":""},{"$f":"IF(A260=\"W0\",$L$21,IF(QNST05_A!D269=\"\",\"\",VLOOKUP(QNST05_A!D269,$K$18:$L$21,2,FALSE)))","v":""},{"$f":"IF(ISERROR(ROUND(QNST05_A!E269,4))=TRUE,\"\",ROUND(QNST05_A!E269,4))","v":0},{"$f":"IF(ISERROR(ROUND(QNST05_A!F269,4))=TRUE,\"\",ROUND(QNST05_A!F269,4))","v":0},{"$f":"IF(ISERROR(ROUND(QNST05_A!G269,4))=TRUE,\"\",ROUND(QNST05_A!G269,4))","v":0},{"$f":"IF(ISERROR(ROUND(QNST05_A!H269,4))=TRUE,\"\",ROUND(QNST05_A!H269,4))","v":0},null,null,null,null,null,null,null,null,null,null,null,"Total","W0"]
[{"$f":"IF(QNST05_A!B270=\"\",\"\",VLOOKUP(QNST05_A!B270,L5A!$S$1:$T$260,2,FALSE))","v":""},{"$f":"IF(A261=\"W0\",$Q$29,IF(QNST05_A!C270=\"\",\"\",VLOOKUP(QNST05_A!C270,L5A!$P$1:$Q$29,2,FALSE)))","v":""},{"$f":"IF(A261=\"W0\",$L$21,IF(QNST05_A!D270=\"\",\"\",VLOOKUP(QNST05_A!D270,$K$18:$L$21,2,FALSE)))","v":""},{"$f":"IF(ISERROR(ROUND(QNST05_A!E270,4))=TRUE,\"\",ROUND(QNST05_A!E270,4))","v":0},{"$f":"IF(ISERROR(ROUND(QNST05_A!F270,4))=TRUE,\"\",ROUND(QNST05_A!F270,4))","v":0},{"$f":"IF(ISERROR(ROUND(QNST05_A!G270,4))=TRUE,\"\",ROUND(QNST05_A!G270,4))","v":0},{"$f":"IF(ISERROR(ROUND(QNST05_A!H270,4))=TRUE,\"\",ROUND(QNST05_A!H270,4))","v":0}]
[{"$f":"IF(QNST05_A!B271=\"\",\"\",VLOOKUP(QNST05_A!B271,L5A!$S$1:$T$260,2,FALSE))","v":""},{"$f":"IF(A262=\"W0\",$Q$29,IF(QNST05_A!C271=\"\",\"\",VLOOKUP(QNST05_A!C271,L5A!$P$1:$Q$29,2,FALSE)))","v":""},{"$f":"IF(A262=\"W0\",$L$21,IF(QNST05_A!D271=\"\",\"\",VLOOKUP(QNST05_A!D271,$K$18:$L$21,2,FALSE)))","v":""},{"$f":"IF(ISERROR(ROUND(QNST05_A!E271,4))=TRUE,\"\",ROUND(QNST05_A!E271,4))","v":0},{"$f":"IF(ISERROR(ROUND(QNST05_A!F271,4))=TRUE,\"\",ROUND(QNST05_A!F271,4))","v":0},{"$f":"IF(ISERROR(ROUND(QNST05_A!G271,4))=TRUE,\"\",ROUND(QNST05_A!G271,4))","v":0},{"$f":"IF(ISERROR(ROUND(QNST05_A!H271,4))=TRUE,\"\",ROUND(QNST05_A!H271,4))","v":0}]
[{"$f":"IF(QNST05_A!B272=\"\",\"\",VLOOKUP(QNST05_A!B272,L5A!$S$1:$T$260,2,FALSE))","v":""},{"$f":"IF(A263=\"W0\",$Q$29,IF(QNST05_A!C272=\"\",\"\",VLOOKUP(QNST05_A!C272,L5A!$P$1:$Q$29,2,FALSE)))","v":""},{"$f":"IF(A263=\"W0\",$L$21,IF(QNST05_A!D272=\"\",\"\",VLOOKUP(QNST05_A!D272,$K$18:$L$21,2,FALSE)))","v":""},{"$f":"IF(ISERROR(ROUND(QNST05_A!E272,4))=TRUE,\"\",ROUND(QNST05_A!E272,4))","v":0},{"$f":"IF(ISERROR(ROUND(QNST05_A!F272,4))=TRUE,\"\",ROUND(QNST05_A!F272,4))","v":0},{"$f":"IF(ISERROR(ROUND(QNST05_A!G272,4))=TRUE,\"\",ROUND(QNST05_A!G272,4))","v":0},{"$f":"IF(ISERROR(ROUND(QNST05_A!H272,4))=TRUE,\"\",ROUND(QNST05_A!H272,4))","v":0}]
[{"$f":"IF(QNST05_A!B273=\"\",\"\",VLOOKUP(QNST05_A!B273,L5A!$S$1:$T$260,2,FALSE))","v":""},{"$f":"IF(A264=\"W0\",$Q$29,IF(QNST05_A!C273=\"\",\"\",VLOOKUP(QNST05_A!C273,L5A!$P$1:$Q$29,2,FALSE)))","v":""},{"$f":"IF(A264=\"W0\",$L$21,IF(QNST05_A!D273=\"\",\"\",VLOOKUP(QNST05_A!D273,$K$18:$L$21,2,FALSE)))","v":""},{"$f":"IF(ISERROR(ROUND(QNST05_A!E273,4))=TRUE,\"\",ROUND(QNST05_A!E273,4))","v":0},{"$f":"IF(ISERROR(ROUND(QNST05_A!F273,4))=TRUE,\"\",ROUND(QNST05_A!F273,4))","v":0},{"$f":"IF(ISERROR(ROUND(QNST05_A!G273,4))=TRUE,\"\",ROUND(QNST05_A!G273,4))","v":0},{"$f":"IF(ISERROR(ROUND(QNST05_A!H273,4))=TRUE,\"\",ROUND(QNST05_A!H273,4))","v":0}]
[{"$f":"IF(QNST05_A!B274=\"\",\"\",VLOOKUP(QNST05_A!B274,L5A!$S$1:$T$260,2,FALSE))","v":""},{"$f":"IF(A265=\"W0\",$Q$29,IF(QNST05_A!C274=\"\",\"\",VLOOKUP(QNST05_A!C274,L5A!$P$1:$Q$29,2,FALSE)))","v":""},{"$f":"IF(A265=\"W0\",$L$21,IF(QNST05_A!D274=\"\",\"\",VLOOKUP(QNST05_A!D274,$K$18:$L$21,2,FALSE)))","v":""},{"$f":"IF(ISERROR(ROUND(QNST05_A!E274,4))=TRUE,\"\",ROUND(QNST05_A!E274,4))","v":0},{"$f":"IF(ISERROR(ROUND(QNST05_A!F274,4))=TRUE,\"\",ROUND(QNST05_A!F274,4))","v":0},{"$f":"IF(ISERROR(ROUND(QNST05_A!G274,4))=TRUE,\"\",ROUND(QNST05_A!G274,4))","v":0},{"$f":"IF(ISERROR(ROUND(QNST05_A!H274,4))=TRUE,\"\",ROUND(QNST05_A!H274,4))","v":0}]
[{"$f":"IF(QNST05_A!B275=\"\",\"\",VLOOKUP(QNST05_A!B275,L5A!$S$1:$T$260,2,FALSE))","v":""},{"$f":"IF(A266=\"W0\",$Q$29,IF(QNST05_A!C275=\"\",\"\",VLOOKUP(QNST05_A!C275,L5A!$P$1:$Q$29,2,FALSE)))","v":""},{"$f":"IF(A266=\"W0\",$L$21,IF(QNST05_A!D275=\"\",\"\",VLOOKUP(QNST05_A!D275,$K$18:$L$21,2,FALSE)))","v":""},{"$f":"IF(ISERROR(ROUND(QNST05_A!E275,4))=TRUE,\"\",ROUND(QNST05_A!E275,4))","v":0},{"$f":"IF(ISERROR(ROUND(QNST05_A!F275,4))=TRUE,\"\",ROUND(QNST05_A!F275,4))","v":0},{"$f":"IF(ISERROR(ROUND(QNST05_A!G275,4))=TRUE,\"\",ROUND(QNST05_A!G275,4))","v":0},{"$f":"IF(ISERROR(ROUND(QNST05_A!H275,4))=TRUE,\"\",ROUND(QNST05_A!H275,4))","v":0}]

{"sheet":"L5B","index":9,"n_rows":265,"n_cols":11,"rows_kept":265,"cut":false,"hidden":true,"merged":[[0,0,1,1]]}
["QNST05_B"]
[]
["Jurisdiction","Line of business","FOS / FOE/ Non-EEA","Gross Written Premium","Number of contracts written","Gross Commissions"]
[{"$f":"IF(QNST05_B!B13=\"\",\"\",VLOOKUP(QNST05_B!B13,L5A!$S$1:$T$266,2,FALSE))","v":""},{"$f":"IF(A4=\"W0\",$K$12,IF(QNST05_B!C13=\"\",\"\",VLOOKUP(QNST05_B!C13,$J$4:$K$12,2,FALSE)))","v":""},{"$f":"IF(OR(A4=\"W0\"),L5A!$L$21,IF(QNST05_B!D13=\"\",\"\",VLOOKUP(QNST05_B!D13,L5A!$K$18:$L$21,2,FALSE)))","v":""},{"$f":"IF(ISERROR(ROUND(QNST05_B!E13,4))=TRUE,\"\",ROUND(QNST05_B!E13,4))","v":0},{"$f":"IF(ISERROR(ROUND(QNST05_B!F13,4))=TRUE,\"\",ROUND(QNST05_B!F13,4))","v":0},{"$f":"IF(ISERROR(ROUND(QNST05_B!G13,4))=TRUE,\"\",ROUND(QNST05_B!G13,4))","v":0},null,null,null,"29 - Long-term business - Health Insurance ","S2C_LB:X167"]
[{"$f":"IF(QNST05_B!B14=\"\",\"\",VLOOKUP(QNST05_B!B14,L5A!$S$1:$T$266,2,FALSE))","v":""},{"$f":"IF(A5=\"W0\",$K$12,IF(QNST05_B!C14=\"\",\"\",VLOOKUP(QNST05_B!C14,$J$4:$K$12,2,FALSE)))","v":""},{"$f":"IF(OR(A5=\"W0\"),L5A!$L$21,IF(QNST05_B!D14=\"\",\"\",VLOOKUP(QNST05_B!D14,L5A!$K$18:$L$21,2,FALSE)))","v":""},{"$f":"IF(ISERROR(ROUND(QNST05_B!E14,4))=TRUE,\"\",ROUND(QNST05_B!E14,4))","v":0},{"$f":"IF(ISERROR(ROUND(QNST05_B!F14,4))=TRUE,\"\",ROUND(QNST05_B!F14,4))","v":0},{"$f":"IF(ISERROR(ROUND(QNST05_B!G14,4))=TRUE,\"\",ROUND(QNST05_B!G14,4))","v":0},null,null,null,"30 - Long-term business - Insurance with profit participation ","S2C_LB:X53"]
[{"$f":"IF(QNST05_B!B15=\"\",\"\",VLOOKUP(QNST05_B!B15,L5A!$S$1:$T$266,2,FALSE))","v":""},{"$f":"IF(A6=\"W0\",$K$12,IF(QNST05_B!C15=\"\",\"\",VLOOKUP(QNST05_B!C15,$J$4:$K$12,2,FALSE)))","v":""},{"$f":"IF(OR(A6=\"W0\"),L5A!$L$21,IF(QNST05_B!D15=\"\",\"\",VLOOKUP(QNST05_B!D15,L5A!$K$18:$L$21,2,FALSE)))","v":""},{"$f":"IF(ISERROR(ROUND(QNST05_B!E15,4))=TRUE,\"\",ROUND(QNST05_B!E15,4))","v":0},{"$f":"IF(ISERROR(ROUND(QNST05_B!F15,4))=TRUE,\"\",ROUND(QNST05_B!F15,4))","v":0},{"$f":"IF(ISERROR(ROUND(QNST05_B!G15,4))=TRUE,\"\",ROUND(QNST05_B!G15,4))","v":0},null,null,null,"31 - Long-term business - Index-linked and unit-linked insurance ","S2C_LB:Y300"]
[{"$f":"IF(QNST05_B!B16=\"\",\"\",VLOOKUP(QNST05_B!B16,L5A!$S$1:$T$266,2,FALSE))","v":""},{"$f":"IF(A7=\"W0\",$K$12,IF(QNST05_B!C16=\"\",\"\",VLOOKUP(QNST05_B!C16,$J$4:$K$12,2,FALSE)))","v":""},{"$f":"IF(OR(A7=\"W0\"),L5A!$L$21,IF(QNST05_B!D16=\"\",\"\",VLOOKUP(QNST05_B!D16,L5A!$K$18:$L$21,2,FALSE)))","v":""},{"$f":"IF(ISERROR(ROUND(QNST05_B!E16,4))=TRUE,\"\",ROUND(QNST05_B!E16,4))","v":0},{"$f":"IF(ISERROR(ROUND(QNST05_B!F16,4))=TRUE,\"\",ROUND(QNST05_B!F16,4))","v":0},{"$f":"IF(ISERROR(ROUND(QNST05_B!G16,4))=TRUE,\"\",ROUND(QNST05_B!G16,4))","v":0},null,null,null,"32 - Long-term business - Other life insurance ","S2C_LB:X93"]
[{"$f":"IF(QNST05_B!B17=\"\",\"\",VLOOKUP(QNST05_B!B17,L5A!$S$1:$T$266,2,FALSE))","v":""},{"$f":"IF(A8=\"W0\",$K$12,IF(QNST05_B!C17=\"\",\"\",VLOOKUP(QNST05_B!C17,$J$4:$K$12,2,FALSE)))","v":""},{"$f":"IF(OR(A8=\"W0\"),L5A!$L$21,IF(QNST05_B!D17=\"\",\"\",VLOOKUP(QNST05_B!D17,L5A!$K$18:$L$21,2,FALSE)))","v":""},{"$f":"IF(ISERROR(ROUND(QNST05_B!E17,4))=TRUE,\"\",ROUND(QNST05_B!E17,4))","v":0},{"$f":"IF(ISERROR(ROUND(QNST05_B!F17,4))=TRUE,\"\",ROUND(QNST05_B!F17,4))","v":0},{"$f":"IF(ISERROR(ROUND(QNST05_B!G17,4))=TRUE,\"\",ROUND(QNST05_B!G17,4))","v":0},null,null,null,"33 - Long-term business - Annuities stemming from non-life insurance contracts and relating to health insurance obligations ","S2C_LB:X10"]
[{"$f":"IF(QNST05_B!B18=\"\",\"\",VLOOKUP(QNST05_B!B18,L5A!$S$1:$T$266,2,FALSE))","v":""},{"$f":"IF(A9=\"W0\",$K$12,IF(QNST05_B!C18=\"\",\"\",VLOOKUP(QNST05_B!C18,$J$4:$K$12,2,FALSE)))","v":""},{"$f":"IF(OR(A9=\"W0\"),L5A!$L$21,IF(QNST05_B!D18=\"\",\"\",VLOOKUP(QNST05_B!D18,L5A!$K$18:$L$21,2,FALSE)))","v":""},{"$f":"IF(ISERROR(ROUND(QNST05_B!E18,4))=TRUE,\"\",ROUND(QNST05_B!E18,4))","v":0},{"$f":"IF(ISERROR(ROUND(QNST05_B!F18,4))=TRUE,\"\",ROUND(QNST05_B!F18,4))","v":0},{"$f":"IF(ISERROR(ROUND(QNST05_B!G18,4))=TRUE,\"\",ROUND(QNST05_B!G18,4))","v":0},null,null,null,"34 - Long-term business - Annuities stemming from non-life insurance contracts and relating to insurance obligations other than health insurance obligations ","S2C_LB:X11"]
[{"$f":"IF(QNST05_B!B19=\"\",\"\",VLOOKUP(QNST05_B!B19,L5A!$S$1:$T$266,2,FALSE))","v":""},{"$f":"IF(A10=\"W0\",$K$12,IF(QNST05_B!C19=\"\",\"\",VLOOKUP(QNST05_B!C19,$J$4:$K$12,2,FALSE)))","v":""},{"$f":"IF(OR(A10=\"W0\"),L5A!$L$21,IF(QNST05_B!D19=\"\",\"\",VLOOKUP(QNST05_B!D19,L5A!$K$18:$L$21,2,FALSE)))","v":""},{"$f":"IF(ISERROR(ROUND(QNST05_B!E19,4))=TRUE,\"\",ROUND(QNST05_B!E19,4))","v":0},{"$f":"IF(ISERROR(ROUND(QNST05_B!F19,4))=TRUE,\"\",ROUND(QNST05_B!F19,4))","v":0},{"$f":"IF(ISERROR(ROUND(QNST05_B!G19,4))=TRUE,\"\",ROUND(QNST05_B!G19,4))","v":0},null,null,null,"35 - Long-term business - Health Reinsurance","S2C_LB:X160"]
[{"$f":"IF(QNST05_B!B20=\"\",\"\",VLOOKUP(QNST05_B!B20,L5A!$S$1:$T$266,2,FALSE))","v":""},{"$f":"IF(A11=\"W0\",$K$12,IF(QNST05_B!C20=\"\",\"\",VLOOKUP(QNST05_B!C20,$J$4:$K$12,2,FALSE)))","v":""},{"$f":"IF(OR(A11=\"W0\"),L5A!$L$21,IF(QNST05_B!D20=\"\",\"\",VLOOKUP(QNST05_B!D20,L5A!$K$18:$L$21,2,FALSE)))","v":""},{"$f":"IF(ISERROR(ROUND(QNST05_B!E20,4))=TRUE,\"\",ROUND(QNST05_B!E20,4))","v":0},{"$f":"IF(ISERROR(ROUND(QNST05_B!F20,4))=TRUE,\"\",ROUND(QNST05_B!F20,4))","v":0},{"$f":"IF(ISERROR(ROUND(QNST05_B!G20,4))=TRUE,\"\",ROUND(QNST05_B!G20,4))","v":0},null,null,null,"36 - Long-term business - Life reinsurance","S2C_LB:X161"]
[{"$f":"IF(QNST05_B!B21=\"\",\"\",VLOOKUP(QNST05_B!B21,L5A!$S$1:$T$266,2,FALSE))","v":""},{"$f":"IF(A12=\"W0\",$K$12,IF(QNST05_B!C21=\"\",\"\",VLOOKUP(QNST05_B!C21,$J$4:$K$12,2,FALSE)))","v":""},{"$f":"IF(OR(A12=\"W0\"),L5A!$L$21,IF(QNST05_B!D21=\"\",\"\",VLOOKUP(QNST05_B!D21,L5A!$K$18:$L$21,2,FALSE)))","v":""},{"$f":"IF(ISERROR(ROUND(QNST05_B!E21,4))=TRUE,\"\",ROUND(QNST05_B!E21,4))","v":0},{"$f":"IF(ISERROR(ROUND(QNST05_B!F21,4))=TRUE,\"\",ROUND(QNST05_B!F21,4))","v":0},{"$f":"IF(ISERROR(ROUND(QNST05_B!G21,4))=TRUE,\"\",ROUND(QNST05_B!G21,4))","v":0},null,null,null,"NOT APPLICABLE","S2C_LB:Y000"]
[{"$f":"IF(QNST05_B!B22=\"\",\"\",VLOOKUP(QNST05_B!B22,L5A!$S$1:$T$266,2,FALSE))","v":""},{"$f":"IF(A13=\"W0\",$K$12,IF(QNST05_B!C22=\"\",\"\",VLOOKUP(QNST05_B!C22,$J$4:$K$12,2,FALSE)))","v":""},{"$f":"IF(OR(A13=\"W0\"),L5A!$L$21,IF(QNST05_B!D22=\"\",\"\",VLOOKUP(QNST05_B!D22,L5A!$K$18:$L$21,2,FALSE)))","v":""},{"$f":"IF(ISERROR(ROUND(QNST05_B!E22,4))=TRUE,\"\",ROUND(QNST05_B!E22,4))","v":0},{"$f":"IF(ISERROR(ROUND(QNST05_B!F22,4))=TRUE,\"\",ROUND(QNST05_B!F22,4))","v":0},{"$f":"IF(ISERROR(ROUND(QNST05_B!G22,4))=TRUE,\"\",ROUND(QNST05_B!G22,4))","v":0}]
[{"$f":"IF(QNST05_B!B23=\"\",\"\",VLOOKUP(QNST05_B!B23,L5A!$S$1:$T$266,2,FALSE))","v":""},{"$f":"IF(A14=\"W0\",$K$12,IF(QNST05_B!C23=\"\",\"\",VLOOKUP(QNST05_B!C23,$J$4:$K$12,2,FALSE)))","v":""},{"$f":"IF(OR(A14=\"W0\"),L5A!$L$21,IF(QNST05_B!D23=\"\",\"\",VLOOKUP(QNST05_B!D23,L5A!$K$18:$L$21,2,FALSE)))","v":""},{"$f":"IF(ISERROR(ROUND(QNST05_B!E23,4))=TRUE,\"\",ROUND(QNST05_B!E23,4))","v":0},{"$f":"IF(ISERROR(ROUND(QNST05_B!F23,4))=TRUE,\"\",ROUND(QNST05_B!F23,4))","v":0},{"$f":"IF(ISERROR(ROUND(QNST05_B!G23,4))=TRUE,\"\",ROUND(QNST05_B!G23,4))","v":0}]
[{"$f":"IF(QNST05_B!B24=\"\",\"\",VLOOKUP(QNST05_B!B24,L5A!$S$1:$T$266,2,FALSE))","v":""},{"$f":"IF(A15=\"W0\",$K$12,IF(QNST05_B!C24=\"\",\"\",VLOOKUP(QNST05_B!C24,$J$4:$K$12,2,FALSE)))","v":""},{"$f":"IF(OR(A15=\"W0\"),L5A!$L$21,IF(QNST05_B!D24=\"\",\"\",VLOOKUP(QNST05_B!D24,L5A!$K$18:$L$21,2,FALSE)))","v":""},{"$f":"IF(ISERROR(ROUND(QNST05_B!E24,4))=TRUE,\"\",ROUND(QNST05_B!E24,4))","v":0},{"$f":"IF(ISERROR(ROUND(QNST05_B!F24,4))=TRUE,\"\",ROUND(QNST05_B!F24,4))","v":0},{"$f":"IF(ISERROR(ROUND(QNST05_B!G24,4))=TRUE,\"\",ROUND(QNST05_B!G24,4))","v":0}]
[{"$f":"IF(QNST05_B!B25=\"\",\"\",VLOOKUP(QNST05_B!B25,L5A!$S$1:$T$266,2,FALSE))","v":""},{"$f":"IF(A16=\"W0\",$K$12,IF(QNST05_B!C25=\"\",\"\",VLOOKUP(QNST05_B!C25,$J$4:$K$12,2,FALSE)))","v":""},{"$f":"IF(OR(A16=\"W0\"),L5A!$L$21,IF(QNST05_B!D25=\"\",\"\",VLOOKUP(QNST05_B!D25,L5A!$K$18:$L$21,2,FALSE)))","v":""},{"$f":"IF(ISERROR(ROUND(QNST05_B!E25,4))=TRUE,\"\",ROUND(QNST05_B!E25,4))","v":0},{"$f":"IF(ISERROR(ROUND(QNST05_B!F25,4))=TRUE,\"\",ROUND(QNST05_B!F25,4))","v":0},{"$f":"IF(ISERROR(ROUND(QNST05_B!G25,4))=TRUE,\"\",ROUND(QNST05_B!G25,4))","v":0}]
[{"$f":"IF(QNST05_B!B26=\"\",\"\",VLOOKUP(QNST05_B!B26,L5A!$S$1:$T$266,2,FALSE))","v":""},{"$f":"IF(A17=\"W0\",$K$12,IF(QNST05_B!C26=\"\",\"\",VLOOKUP(QNST05_B!C26,$J$4:$K$12,2,FALSE)))","v":""},{"$f":"IF(OR(A17=\"W0\"),L5A!$L$21,IF(QNST05_B!D26=\"\",\"\",VLOOKUP(QNST05_B!D26,L5A!$K$18:$L$21,2,FALSE)))","v":""},{"$f":"IF(ISERROR(ROUND(QNST05_B!E26,4))=TRUE,\"\",ROUND(QNST05_B!E26,4))","v":0},{"$f":"IF(ISERROR(ROUND(QNST05_B!F26,4))=TRUE,\"\",ROUND(QNST05_B!F26,4))","v":0},{"$f":"IF(ISERROR(ROUND(QNST05_B!G26,4))=TRUE,\"\",ROUND(QNST05_B!G26,4))","v":0}]
[{"$f":"IF(QNST05_B!B27=\"\",\"\",VLOOKUP(QNST05_B!B27,L5A!$S$1:$T$266,2,FALSE))","v":""},{"$f":"IF(A18=\"W0\",$K$12,IF(QNST05_B!C27=\"\",\"\",VLOOKUP(QNST05_B!C27,$J$4:$K$12,2,FALSE)))","v":""},{"$f":"IF(OR(A18=\"W0\"),L5A!$L$21,IF(QNST05_B!D27=\"\",\"\",VLOOKUP(QNST05_B!D27,L5A!$K$18:$L$21,2,FALSE)))","v":""},{"$f":"IF(ISERROR(ROUND(QNST05_B!E27,4))=TRUE,\"\",ROUND(QNST05_B!E27,4))","v":0},{"$f":"IF(ISERROR(ROUND(QNST05_B!F27,4))=TRUE,\"\",ROUND(QNST05_B!F27,4))","v":0},{"$f":"IF(ISERROR(ROUND(QNST05_B!G27,4))=TRUE,\"\",ROUND(QNST05_B!G27,4))","v":0}]
[{"$f":"IF(QNST05_B!B28=\"\",\"\",VLOOKUP(QNST05_B!B28,L5A!$S$1:$T$266,2,FALSE))","v":""},{"$f":"IF(A19=\"W0\",$K$12,IF(QNST05_B!C28=\"\",\"\",VLOOKUP(QNST05_B!C28,$J$4:$K$12,2,FALSE)))","v":""},{"$f":"IF(OR(A19=\"W0\"),L5A!$L$21,IF(QNST05_B!D28=\"\",\"\",VLOOKUP(QNST05_B!D28,L5A!$K$18:$L$21,2,FALSE)))","v":""},{"$f":"IF(ISERROR(ROUND(QNST05_B!E28,4))=TRUE,\"\",ROUND(QNST05_B!E28,4))","v":0},{"$f":"IF(ISERROR(ROUND(QNST05_B!F28,4))=TRUE,\"\",ROUND(QNST05_B!F28,4))","v":0},{"$f":"IF(ISERROR(ROUND(QNST05_B!G28,4))=TRUE,\"\",ROUND(QNST05_B!G28,4))","v":0}]
[{"$f":"IF(QNST05_B!B29=\"\",\"\",VLOOKUP(QNST05_B!B29,L5A!$S$1:$T$266,2,FALSE))","v":""},{"$f":"IF(A20=\"W0\",$K$12,IF(QNST05_B!C29=\"\",\"\",VLOOKUP(QNST05_B!C29,$J$4:$K$12,2,FALSE)))","v":""},{"$f":"IF(OR(A20=\"W0\"),L5A!$L$21,IF(QNST05_B!D29=\"\",\"\",VLOOKUP(QNST05_B!D29,L5A!$K$18:$L$21,2,FALSE)))","v":""},{"$f":"IF(ISERROR(ROUND(QNST05_B!E29,4))=TRUE,\"\",ROUND(QNST05_B!E29,4))","v":0},{"$f":"IF(ISERROR(ROUND(QNST05_B!F29,4))=TRUE,\"\",ROUND(QNST05_B!F29,4))","v":0},{"$f":"IF(ISERROR(ROUND(QNST05_B!G29,4))=TRUE,\"\",ROUND(QNST05_B!G29,4))","v":0}]
[{"$f":"IF(QNST05_B!B30=\"\",\"\",VLOOKUP(QNST05_B!B30,L5A!$S$1:$T$266,2,FALSE))","v":""},{"$f":"IF(A21=\"W0\",$K$12,IF(QNST05_B!C30=\"\",\"\",VLOOKUP(QNST05_B!C30,$J$4:$K$12,2,FALSE)))","v":""},{"$f":"IF(OR(A21=\"W0\"),L5A!$L$21,IF(QNST05_B!D30=\"\",\"\",VLOOKUP(QNST05_B!D30,L5A!$K$18:$L$21,2,FALSE)))","v":""},{"$f":"IF(ISERROR(ROUND(QNST05_B!E30,4))=TRUE,\"\",ROUND(QNST05_B!E30,4))","v":0},{"$f":"IF(ISERROR(ROUND(QNST05_B!F30,4))=TRUE,\"\",ROUND(QNST05_B!F30,4))","v":0},{"$f":"IF(ISERROR(ROUND(QNST05_B!G30,4))=TRUE,\"\",ROUND(QNST05_B!G30,4))","v":0}]
[{"$f":"IF(QNST05_B!B31=\"\",\"\",VLOOKUP(QNST05_B!B31,L5A!$S$1:$T$266,2,FALSE))","v":""},{"$f":"IF(A22=\"W0\",$K$12,IF(QNST05_B!C31=\"\",\"\",VLOOKUP(QNST05_B!C31,$J$4:$K$12,2,FALSE)))","v":""},{"$f":"IF(OR(A22=\"W0\"),L5A!$L$21,IF(QNST05_B!D31=\"\",\"\",VLOOKUP(QNST05_B!D31,L5A!$K$18:$L$21,2,FALSE)))","v":""},{"$f":"IF(ISERROR(ROUND(QNST05_B!E31,4))=TRUE,\"\",ROUND(QNST05_B!E31,4))","v":0},{"$f":"IF(ISERROR(ROUND(QNST05_B!F31,4))=TRUE,\"\",ROUND(QNST05_B!F31,4))","v":0},{"$f":"IF(ISERROR(ROUND(QNST05_B!G31,4))=TRUE,\"\",ROUND(QNST05_B!G31,4))","v":0}]
[{"$f":"IF(QNST05_B!B32=\"\",\"\",VLOOKUP(QNST05_B!B32,L5A!$S$1:$T$266,2,FALSE))","v":""},{"$f":"IF(A23=\"W0\",$K$12,IF(QNST05_B!C32=\"\",\"\",VLOOKUP(QNST05_B!C32,$J$4:$K$12,2,FALSE)))","v":""},{"$f":"IF(OR(A23=\"W0\"),L5A!$L$21,IF(QNST05_B!D32=\"\",\"\",VLOOKUP(QNST05_B!D32,L5A!$K$18:$L$21,2,FALSE)))","v":""},{"$f":"IF(ISERROR(ROUND(QNST05_B!E32,4))=TRUE,\"\",ROUND(QNST05_B!E32,4))","v":0},{"$f":"IF(ISERROR(ROUND(QNST05_B!F32,4))=TRUE,\"\",ROUND(QNST05_B!F32,4))","v":0},{"$f":"IF(ISERROR(ROUND(QNST05_B!G32,4))=TRUE,\"\",ROUND(QNST05_B!G32,4))","v":0}]
[{"$f":"IF(QNST05_B!B33=\"\",\"\",VLOOKUP(QNST05_B!B33,L5A!$S$1:$T$266,2,FALSE))","v":""},{"$f":"IF(A24=\"W0\",$K$12,IF(QNST05_B!C33=\"\",\"\",VLOOKUP(QNST05_B!C33,$J$4:$K$12,2,FALSE)))","v":""},{"$f":"IF(OR(A24=\"W0\"),L5A!$L$21,IF(QNST05_B!D33=\"\",\"\",VLOOKUP(QNST05_B!D33,L5A!$K$18:$L$21,2,FALSE)))","v":""},{"$f":"IF(ISERROR(ROUND(QNST05_B!E33,4))=TRUE,\"\",ROUND(QNST05_B!E33,4))","v":0},{"$f":"IF(ISERROR(ROUND(QNST05_B!F33,4))=TRUE,\"\",ROUND(QNST05_B!F33,4))","v":0},{"$f":"IF(ISERROR(ROUND(QNST05_B!G33,4))=TRUE,\"\",ROUND(QNST05_B!G33,4))","v":0}]
[{"$f":"IF(QNST05_B!B34=\"\",\"\",VLOOKUP(QNST05_B!B34,L5A!$S$1:$T$266,2,FALSE))","v":""},{"$f":"IF(A25=\"W0\",$K$12,IF(QNST05_B!C34=\"\",\"\",VLOOKUP(QNST05_B!C34,$J$4:$K$12,2,FALSE)))","v":""},{"$f":"IF(OR(A25=\"W0\"),L5A!$L$21,IF(QNST05_B!D34=\"\",\"\",VLOOKUP(QNST05_B!D34,L5A!$K$18:$L$21,2,FALSE)))","v":""},{"$f":"IF(ISERROR(ROUND(QNST05_B!E34,4))=TRUE,\"\",ROUND(QNST05_B!E34,4))","v":0},{"$f":"IF(ISERROR(ROUND(QNST05_B!F34,4))=TRUE,\"\",ROUND(QNST05_B!F34,4))","v":0},{"$f":"IF(ISERROR(ROUND(QNST05_B!G34,4))=TRUE,\"\",ROUND(QNST05_B!G34,4))","v":0}]
[{"$f":"IF(QNST05_B!B35=\"\",\"\",VLOOKUP(QNST05_B!B35,L5A!$S$1:$T$266,2,FALSE))","v":""},{"$f":"IF(A26=\"W0\",$K$12,IF(QNST05_B!C35=\"\",\"\",VLOOKUP(QNST05_B!C35,$J$4:$K$12,2,FALSE)))","v":""},{"$f":"IF(OR(A26=\"W0\"),L5A!$L$21,IF(QNST05_B!D35=\"\",\"\",VLOOKUP(QNST05_B!D35,L5A!$K$18:$L$21,2,FALSE)))","v":""},{"$f":"IF(ISERROR(ROUND(QNST05_B!E35,4))=TRUE,\"\",ROUND(QNST05_B!E35,4))","v":0},{"$f":"IF(ISERROR(ROUND(QNST05_B!F35,4))=TRUE,\"\",ROUND(QNST05_B!F35,4))","v":0},{"$f":"IF(ISERROR(ROUND(QNST05_B!G35,4))=TRUE,\"\",ROUND(QNST05_B!G35,4))","v":0}]
[{"$f":"IF(QNST05_B!B36=\"\",\"\",VLOOKUP(QNST05_B!B36,L5A!$S$1:$T$266,2,FALSE))","v":""},{"$f":"IF(A27=\"W0\",$K$12,IF(QNST05_B!C36=\"\",\"\",VLOOKUP(QNST05_B!C36,$J$4:$K$12,2,FALSE)))","v":""},{"$f":"IF(OR(A27=\"W0\"),L5A!$L$21,IF(QNST05_B!D36=\"\",\"\",VLOOKUP(QNST05_B!D36,L5A!$K$18:$L$21,2,FALSE)))","v":""},{"$f":"IF(ISERROR(ROUND(QNST05_B!E36,4))=TRUE,\"\",ROUND(QNST05_B!E36,4))","v":0},{"$f":"IF(ISERROR(ROUND(QNST05_B!F36,4))=TRUE,\"\",ROUND(QNST05_B!F36,4))","v":0},{"$f":"IF(ISERROR(ROUND(QNST05_B!G36,4))=TRUE,\"\",ROUND(QNST05_B!G36,4))","v":0}]
[{"$f":"IF(QNST05_B!B37=\"\",\"\",VLOOKUP(QNST05_B!B37,L5A!$S$1:$T$266,2,FALSE))","v":""},{"$f":"IF(A28=\"W0\",$K$12,IF(QNST05_B!C37=\"\",\"\",VLOOKUP(QNST05_B!C37,$J$4:$K$12,2,FALSE)))","v":""},{"$f":"IF(OR(A28=\"W0\"),L5A!$L$21,IF(QNST05_B!D37=\"\",\"\",VLOOKUP(QNST05_B!D37,L5A!$K$18:$L$21,2,FALSE)))","v":""},{"$f":"IF(ISERROR(ROUND(QNST05_B!E37,4))=TRUE,\"\",ROUND(QNST05_B!E37,4))","v":0},{"$f":"IF(ISERROR(ROUND(QNST05_B!F37,4))=TRUE,\"\",ROUND(QNST05_B!F37,4))","v":0},{"$f":"IF(ISERROR(ROUND(QNST05_B!G37,4))=TRUE,\"\",ROUND(QNST05_B!G37,4))","v":0}]
[{"$f":"IF(QNST05_B!B38=\"\",\"\",VLOOKUP(QNST05_B!B38,L5A!$S$1:$T$266,2,FALSE))","v":""},{"$f":"IF(A29=\"W0\",$K$12,IF(QNST05_B!C38=\"\",\"\",VLOOKUP(QNST05_B!C38,$J$4:$K$12,2,FALSE)))","v":""},{"$f":"IF(OR(A29=\"W0\"),L5A!$L$21,IF(QNST05_B!D38=\"\",\"\",VLOOKUP(QNST05_B!D38,L5A!$K$18:$L$21,2,FALSE)))","v":""},{"$f":"IF(ISERROR(ROUND(QNST05_B!E38,4))=TRUE,\"\",ROUND(QNST05_B!E38,4))","v":0},{"$f":"IF(ISERROR(ROUND(QNST05_B!F38,4))=TRUE,\"\",ROUND(QNST05_B!F38,4))","v":0},{"$f":"IF(ISERROR(ROUND(QNST05_B!G38,4))=TRUE,\"\",ROUND(QNST05_B!G38,4))","v":0}]
[{"$f":"IF(QNST05_B!B39=\"\",\"\",VLOOKUP(QNST05_B!B39,L5A!$S$1:$T$266,2,FALSE))","v":""},{"$f":"IF(A30=\"W0\",$K$12,IF(QNST05_B!C39=\"\",\"\",VLOOKUP(QNST05_B!C39,$J$4:$K$12,2,FALSE)))","v":""},{"$f":"IF(OR(A30=\"W0\"),L5A!$L$21,IF(QNST05_B!D39=\"\",\"\",VLOOKUP(QNST05_B!D39,L5A!$K$18:$L$21,2,FALSE)))","v":""},{"$f":"IF(ISERROR(ROUND(QNST05_B!E39,4))=TRUE,\"\",ROUND(QNST05_B!E39,4))","v":0},{"$f":"IF(ISERROR(ROUND(QNST05_B!F39,4))=TRUE,\"\",ROUND(QNST05_B!F39,4))","v":0},{"$f":"IF(ISERROR(ROUND(QNST05_B!G39,4))=TRUE,\"\",ROUND(QNST05_B!G39,4))","v":0}]
[{"$f":"IF(QNST05_B!B40=\"\",\"\",VLOOKUP(QNST05_B!B40,L5A!$S$1:$T$266,2,FALSE))","v":""},{"$f":"IF(A31=\"W0\",$K$12,IF(QNST05_B!C40=\"\",\"\",VLOOKUP(QNST05_B!C40,$J$4:$K$12,2,FALSE)))","v":""},{"$f":"IF(OR(A31=\"W0\"),L5A!$L$21,IF(QNST05_B!D40=\"\",\"\",VLOOKUP(QNST05_B!D40,L5A!$K$18:$L$21,2,FALSE)))","v":""},{"$f":"IF(ISERROR(ROUND(QNST05_B!E40,4))=TRUE,\"\",ROUND(QNST05_B!E40,4))","v":0},{"$f":"IF(ISERROR(ROUND(QNST05_B!F40,4))=TRUE,\"\",ROUND(QNST05_B!F40,4))","v":0},{"$f":"IF(ISERROR(ROUND(QNST05_B!G40,4))=TRUE,\"\",ROUND(QNST05_B!G40,4))","v":0}]
[{"$f":"IF(QNST05_B!B41=\"\",\"\",VLOOKUP(QNST05_B!B41,L5A!$S$1:$T$266,2,FALSE))","v":""},{"$f":"IF(A32=\"W0\",$K$12,IF(QNST05_B!C41=\"\",\"\",VLOOKUP(QNST05_B!C41,$J$4:$K$12,2,FALSE)))","v":""},{"$f":"IF(OR(A32=\"W0\"),L5A!$L$21,IF(QNST05_B!D41=\"\",\"\",VLOOKUP(QNST05_B!D41,L5A!$K$18:$L$21,2,FALSE)))","v":""},{"$f":"IF(ISERROR(ROUND(QNST05_B!E41,4))=TRUE,\"\",ROUND(QNST05_B!E41,4))","v":0},{"$f":"IF(ISERROR(ROUND(QNST05_B!F41,4))=TRUE,\"\",ROUND(QNST05_B!F41,4))","v":0},{"$f":"IF(ISERROR(ROUND(QNST05_B!G41,4))=TRUE,\"\",ROUND(QNST05_B!G41,4))","v":0}]
[{"$f":"IF(QNST05_B!B42=\"\",\"\",VLOOKUP(QNST05_B!B42,L5A!$S$1:$T$266,2,FALSE))","v":""},{"$f":"IF(A33=\"W0\",$K$12,IF(QNST05_B!C42=\"\",\"\",VLOOKUP(QNST05_B!C42,$J$4:$K$12,2,FALSE)))","v":""},{"$f":"IF(OR(A33=\"W0\"),L5A!$L$21,IF(QNST05_B!D42=\"\",\"\",VLOOKUP(QNST05_B!D42,L5A!$K$18:$L$21,2,FALSE)))","v":""},{"$f":"IF(ISERROR(ROUND(QNST05_B!E42,4))=TRUE,\"\",ROUND(QNST05_B!E42,4))","v":0},{"$f":"IF(ISERROR(ROUND(QNST05_B!F42,4))=TRUE,\"\",ROUND(QNST05_B!F42,4))","v":0},{"$f":"IF(ISERROR(ROUND(QNST05_B!G42,4))=TRUE,\"\",ROUND(QNST05_B!G42,4))","v":0}]
[{"$f":"IF(QNST05_B!B43=\"\",\"\",VLOOKUP(QNST05_B!B43,L5A!$S$1:$T$266,2,FALSE))","v":""},{"$f":"IF(A34=\"W0\",$K$12,IF(QNST05_B!C43=\"\",\"\",VLOOKUP(QNST05_B!C43,$J$4:$K$12,2,FALSE)))","v":""},{"$f":"IF(OR(A34=\"W0\"),L5A!$L$21,IF(QNST05_B!D43=\"\",\"\",VLOOKUP(QNST05_B!D43,L5A!$K$18:$L$21,2,FALSE)))","v":""},{"$f":"IF(ISERROR(ROUND(QNST05_B!E43,4))=TRUE,\"\",ROUND(QNST05_B!E43,4))","v":0},{"$f":"IF(ISERROR(ROUND(QNST05_B!F43,4))=TRUE,\"\",ROUND(QNST05_B!F43,4))","v":0},{"$f":"IF(ISERROR(ROUND(QNST05_B!G43,4))=TRUE,\"\",ROUND(QNST05_B!G43,4))","v":0}]
[{"$f":"IF(QNST05_B!B44=\"\",\"\",VLOOKUP(QNST05_B!B44,L5A!$S$1:$T$266,2,FALSE))","v":""},{"$f":"IF(A35=\"W0\",$K$12,IF(QNST05_B!C44=\"\",\"\",VLOOKUP(QNST05_B!C44,$J$4:$K$12,2,FALSE)))","v":""},{"$f":"IF(OR(A35=\"W0\"),L5A!$L$21,IF(QNST05_B!D44=\"\",\"\",VLOOKUP(QNST05_B!D44,L5A!$K$18:$L$21,2,FALSE)))","v":""},{"$f":"IF(ISERROR(ROUND(QNST05_B!E44,4))=TRUE,\"\",ROUND(QNST05_B!E44,4))","v":0},{"$f":"IF(ISERROR(ROUND(QNST05_B!F44,4))=TRUE,\"\",ROUND(QNST05_B!F44,4))","v":0},{"$f":"IF(ISERROR(ROUND(QNST05_B!G44,4))=TRUE,\"\",ROUND(QNST05_B!G44,4))","v":0}]
[{"$f":"IF(QNST05_B!B45=\"\",\"\",VLOOKUP(QNST05_B!B45,L5A!$S$1:$T$266,2,FALSE))","v":"W0"},{"$f":"IF(A36=\"W0\",$K$12,IF(QNST05_B!C45=\"\",\"\",VLOOKUP(QNST05_B!C45,$J$4:$K$12,2,FALSE)))","v":"S2C_LB:Y000"},{"$f":"IF(OR(A36=\"W0\"),L5A!$L$21,IF(QNST05_B!D45=\"\",\"\",VLOOKUP(QNST05_B!D45,L5A!$K$18:$L$21,2,FALSE)))","v":0},{"$f":"IF(ISERROR(ROUND(QNST05_B!E45,4))=TRUE,\"\",ROUND(QNST05_B!E45,4))","v":0},{"$f":"IF(ISERROR(ROUND(QNST05_B!F45,4))=TRUE,\"\",ROUND(QNST05_B!F45,4))","v":0},{"$f":"IF(ISERROR(ROUND(QNST05_B!G45,4))=TRUE,\"\",ROUND(QNST05_B!G45,4))","v":0}]
[{"$f":"IF(QNST05_B!B46=\"\",\"\",VLOOKUP(QNST05_B!B46,L5A!$S$1:$T$266,2,FALSE))","v":""},{"$f":"IF(A37=\"W0\",$K$12,IF(QNST05_B!C46=\"\",\"\",VLOOKUP(QNST05_B!C46,$J$4:$K$12,2,FALSE)))","v":""},{"$f":"IF(OR(A37=\"W0\"),L5A!$L$21,IF(QNST05_B!D46=\"\",\"\",VLOOKUP(QNST05_B!D46,L5A!$K$18:$L$21,2,FALSE)))","v":""},{"$f":"IF(ISERROR(ROUND(QNST05_B!E46,4))=TRUE,\"\",ROUND(QNST05_B!E46,4))","v":0},{"$f":"IF(ISERROR(ROUND(QNST05_B!F46,4))=TRUE,\"\",ROUND(QNST05_B!F46,4))","v":0},{"$f":"IF(ISERROR(ROUND(QNST05_B!G46,4))=TRUE,\"\",ROUND(QNST05_B!G46,4))","v":0}]
[{"$f":"IF(QNST05_B!B47=\"\",\"\",VLOOKUP(QNST05_B!B47,L5A!$S$1:$T$266,2,FALSE))","v":0},{"$f":"IF(A38=\"W0\",$K$12,IF(QNST05_B!C47=\"\",\"\",VLOOKUP(QNST05_B!C47,$J$4:$K$12,2,FALSE)))","v":""},{"$f":"IF(OR(A38=\"W0\"),L5A!$L$21,IF(QNST05_B!D47=\"\",\"\",VLOOKUP(QNST05_B!D47,L5A!$K$18:$L$21,2,FALSE)))","v":""},{"$f":"IF(ISERROR(ROUND(QNST05_B!E47,4))=TRUE,\"\",ROUND(QNST05_B!E47,4))","v":0},{"$f":"IF(ISERROR(ROUND(QNST05_B!F47,4))=TRUE,\"\",ROUND(QNST05_B!F47,4))","v":0},{"$f":"IF(ISERROR(ROUND(QNST05_B!G47,4))=TRUE,\"\",ROUND(QNST05_B!G47,4))","v":0}]
[{"$f":"IF(QNST05_B!B48=\"\",\"\",VLOOKUP(QNST05_B!B48,L5A!$S$1:$T$266,2,FALSE))","v":0},{"$f":"IF(A39=\"W0\",$K$12,IF(QNST05_B!C48=\"\",\"\",VLOOKUP(QNST05_B!C48,$J$4:$K$12,2,FALSE)))","v":""},{"$f":"IF(OR(A39=\"W0\"),L5A!$L$21,IF(QNST05_B!D48=\"\",\"\",VLOOKUP(QNST05_B!D48,L5A!$K$18:$L$21,2,FALSE)))","v":""},{"$f":"IF(ISERROR(ROUND(QNST05_B!E48,4))=TRUE,\"\",ROUND(QNST05_B!E48,4))","v":0},{"$f":"IF(ISERROR(ROUND(QNST05_B!F48,4))=TRUE,\"\",ROUND(QNST05_B!F48,4))","v":0},{"$f":"IF(ISERROR(ROUND(QNST05_B!G48,4))=TRUE,\"\",ROUND(QNST05_B!G48,4))","v":0}]
[{"$f":"IF(QNST05_B!B49=\"\",\"\",VLOOKUP(QNST05_B!B49,L5A!$S$1:$T$266,2,FALSE))","v":0},{"$f":"IF(A40=\"W0\",$K$12,IF(QNST05_B!C49=\"\",\"\",VLOOKUP(QNST05_B!C49,$J$4:$K$12,2,FALSE)))","v":""},{"$f":"IF(OR(A40=\"W0\"),L5A!$L$21,IF(QNST05_B!D49=\"\",\"\",VLOOKUP(QNST05_B!D49,L5A!$K$18:$L$21,2,FALSE)))","v":""},{"$f":"IF(ISERROR(ROUND(QNST05_B!E49,4))=TRUE,\"\",ROUND(QNST05_B!E49,4))","v":0},{"$f":"IF(ISERROR(ROUND(QNST05_B!F49,4))=TRUE,\"\",ROUND(QNST05_B!F49,4))","v":0},{"$f":"IF(ISERROR(ROUND(QNST05_B!G49,4))=TRUE,\"\",ROUND(QNST05_B!G49,4))","v":0}]
[{"$f":"IF(QNST05_B!B50=\"\",\"\",VLOOKUP(QNST05_B!B50,L5A!$S$1:$T$266,2,FALSE))","v":""},{"$f":"IF(A41=\"W0\",$K$12,IF(QNST05_B!C50=\"\",\"\",VLOOKUP(QNST05_B!C50,$J$4:$K$12,2,FALSE)))","v":""},{"$f":"IF(OR(A41=\"W0\"),L5A!$L$21,IF(QNST05_B!D50=\"\",\"\",VLOOKUP(QNST05_B!D50,L5A!$K$18:$L$21,2,FALSE)))","v":""},{"$f":"IF(ISERROR(ROUND(QNST05_B!E50,4))=TRUE,\"\",ROUND(QNST05_B!E50,4))","v":0},{"$f":"IF(ISERROR(ROUND(QNST05_B!F50,4))=TRUE,\"\",ROUND(QNST05_B!F50,4))","v":0},{"$f":"IF(ISERROR(ROUND(QNST05_B!G50,4))=TRUE,\"\",ROUND(QNST05_B!G50,4))","v":0}]
[{"$f":"IF(QNST05_B!B51=\"\",\"\",VLOOKUP(QNST05_B!B51,L5A!$S$1:$T$266,2,FALSE))","v":0},{"$f":"IF(A42=\"W0\",$K$12,IF(QNST05_B!C51=\"\",\"\",VLOOKUP(QNST05_B!C51,$J$4:$K$12,2,FALSE)))","v":""},{"$f":"IF(OR(A42=\"W0\"),L5A!$L$21,IF(QNST05_B!D51=\"\",\"\",VLOOKUP(QNST05_B!D51,L5A!$K$18:$L$21,2,FALSE)))","v":""},{"$f":"IF(ISERROR(ROUND(QNST05_B!E51,4))=TRUE,\"\",ROUND(QNST05_B!E51,4))","v":0},{"$f":"IF(ISERROR(ROUND(QNST05_B!F51,4))=TRUE,\"\",ROUND(QNST05_B!F51,4))","v":0},{"$f":"IF(ISERROR(ROUND(QNST05_B!G51,4))=TRUE,\"\",ROUND(QNST05_B!G51,4))","v":0}]
[{"$f":"IF(QNST05_B!B52=\"\",\"\",VLOOKUP(QNST05_B!B52,L5A!$S$1:$T$266,2,FALSE))","v":""},{"$f":"IF(A43=\"W0\",$K$12,IF(QNST05_B!C52=\"\",\"\",VLOOKUP(QNST05_B!C52,$J$4:$K$12,2,FALSE)))","v":""},{"$f":"IF(OR(A43=\"W0\"),L5A!$L$21,IF(QNST05_B!D52=\"\",\"\",VLOOKUP(QNST05_B!D52,L5A!$K$18:$L$21,2,FALSE)))","v":""},{"$f":"IF(ISERROR(ROUND(QNST05_B!E52,4))=TRUE,\"\",ROUND(QNST05_B!E52,4))","v":0},{"$f":"IF(ISERROR(ROUND(QNST05_B!F52,4))=TRUE,\"\",ROUND(QNST05_B!F52,4))","v":0},{"$f":"IF(ISERROR(ROUND(QNST05_B!G52,4))=TRUE,\"\",ROUND(QNST05_B!G52,4))","v":0}]
[{"$f":"IF(QNST05_B!B53=\"\",\"\",VLOOKUP(QNST05_B!B53,L5A!$S$1:$T$266,2,FALSE))","v":""},{"$f":"IF(A44=\"W0\",$K$12,IF(QNST05_B!C53=\"\",\"\",VLOOKUP(QNST05_B!C53,$J$4:$K$12,2,FALSE)))","v":""},{"$f":"IF(OR(A44=\"W0\"),L5A!$L$21,IF(QNST05_B!D53=\"\",\"\",VLOOKUP(QNST05_B!D53,L5A!$K$18:$L$21,2,FALSE)))","v":""},{"$f":"IF(ISERROR(ROUND(QNST05_B!E53,4))=TRUE,\"\",ROUND(QNST05_B!E53,4))","v":0},{"$f":"IF(ISERROR(ROUND(QNST05_B!F53,4))=TRUE,\"\",ROUND(QNST05_B!F53,4))","v":0},{"$f":"IF(ISERROR(ROUND(QNST05_B!G53,4))=TRUE,\"\",ROUND(QNST05_B!G53,4))","v":0}]
[{"$f":"IF(QNST05_B!B54=\"\",\"\",VLOOKUP(QNST05_B!B54,L5A!$S$1:$T$266,2,FALSE))","v":""},{"$f":"IF(A45=\"W0\",$K$12,IF(QNST05_B!C54=\"\",\"\",VLOOKUP(QNST05_B!C54,$J$4:$K$12,2,FALSE)))","v":""},{"$f":"IF(OR(A45=\"W0\"),L5A!$L$21,IF(QNST05_B!D54=\"\",\"\",VLOOKUP(QNST05_B!D54,L5A!$K$18:$L$21,2,FALSE)))","v":""},{"$f":"IF(ISERROR(ROUND(QNST05_B!E54,4))=TRUE,\"\",ROUND(QNST05_B!E54,4))","v":0},{"$f":"IF(ISERROR(ROUND(QNST05_B!F54,4))=TRUE,\"\",ROUND(QNST05_B!F54,4))","v":0},{"$f":"IF(ISERROR(ROUND(QNST05_B!G54,4))=TRUE,\"\",ROUND(QNST05_B!G54,4))","v":0}]
[{"$f":"IF(QNST05_B!B55=\"\",\"\",VLOOKUP(QNST05_B!B55,L5A!$S$1:$T$266,2,FALSE))","v":""},{"$f":"IF(A46=\"W0\",$K$12,IF(QNST05_B!C55=\"\",\"\",VLOOKUP(QNST05_B!C55,$J$4:$K$12,2,FALSE)))","v":""},{"$f":"IF(OR(A46=\"W0\"),L5A!$L$21,IF(QNST05_B!D55=\"\",\"\",VLOOKUP(QNST05_B!D55,L5A!$K$18:$L$21,2,FALSE)))","v":""},{"$f":"IF(ISERROR(ROUND(QNST05_B!E55,4))=TRUE,\"\",ROUND(QNST05_B!E55,4))","v":0},{"$f":"IF(ISERROR(ROUND(QNST05_B!F55,4))=TRUE,\"\",ROUND(QNST05_B!F55,4))","v":0},{"$f":"IF(ISERROR(ROUND(QNST05_B!G55,4))=TRUE,\"\",ROUND(QNST05_B!G55,4))","v":0}]
[{"$f":"IF(QNST05_B!B56=\"\",\"\",VLOOKUP(QNST05_B!B56,L5A!$S$1:$T$266,2,FALSE))","v":""},{"$f":"IF(A47=\"W0\",$K$12,IF(QNST05_B!C56=\"\",\"\",VLOOKUP(QNST05_B!C56,$J$4:$K$12,2,FALSE)))","v":""},{"$f":"IF(OR(A47=\"W0\"),L5A!$L$21,IF(QNST05_B!D56=\"\",\"\",VLOOKUP(QNST05_B!D56,L5A!$K$18:$L$21,2,FALSE)))","v":""},{"$f":"IF(ISERROR(ROUND(QNST05_B!E56,4))=TRUE,\"\",ROUND(QNST05_B!E56,4))","v":0},{"$f":"IF(ISERROR(ROUND(QNST05_B!F56,4))=TRUE,\"\",ROUND(QNST05_B!F56,4))","v":0},{"$f":"IF(ISERROR(ROUND(QNST05_B!G56,4))=TRUE,\"\",ROUND(QNST05_B!G56,4))","v":0}]
[{"$f":"IF(QNST05_B!B57=\"\",\"\",VLOOKUP(QNST05_B!B57,L5A!$S$1:$T$266,2,FALSE))","v":""},{"$f":"IF(A48=\"W0\",$K$12,IF(QNST05_B!C57=\"\",\"\",VLOOKUP(QNST05_B!C57,$J$4:$K$12,2,FALSE)))","v":""},{"$f":"IF(OR(A48=\"W0\"),L5A!$L$21,IF(QNST05_B!D57=\"\",\"\",VLOOKUP(QNST05_B!D57,L5A!$K$18:$L$21,2,FALSE)))","v":""},{"$f":"IF(ISERROR(ROUND(QNST05_B!E57,4))=TRUE,\"\",ROUND(QNST05_B!E57,4))","v":0},{"$f":"IF(ISERROR(ROUND(QNST05_B!F57,4))=TRUE,\"\",ROUND(QNST05_B!F57,4))","v":0},{"$f":"IF(ISERROR(ROUND(QNST05_B!G57,4))=TRUE,\"\",ROUND(QNST05_B!G57,4))","v":0}]
[{"$f":"IF(QNST05_B!B58=\"\",\"\",VLOOKUP(QNST05_B!B58,L5A!$S$1:$T$266,2,FALSE))","v":""},{"$f":"IF(A49=\"W0\",$K$12,IF(QNST05_B!C58=\"\",\"\",VLOOKUP(QNST05_B!C58,$J$4:$K$12,2,FALSE)))","v":""},{"$f":"IF(OR(A49=\"W0\"),L5A!$L$21,IF(QNST05_B!D58=\"\",\"\",VLOOKUP(QNST05_B!D58,L5A!$K$18:$L$21,2,FALSE)))","v":""},{"$f":"IF(ISERROR(ROUND(QNST05_B!E58,4))=TRUE,\"\",ROUND(QNST05_B!E58,4))","v":0},{"$f":"IF(ISERROR(ROUND(QNST05_B!F58,4))=TRUE,\"\",ROUND(QNST05_B!F58,4))","v":0},{"$f":"IF(ISERROR(ROUND(QNST05_B!G58,4))=TRUE,\"\",ROUND(QNST05_B!G58,4))","v":0}]
[{"$f":"IF(QNST05_B!B59=\"\",\"\",VLOOKUP(QNST05_B!B59,L5A!$S$1:$T$266,2,FALSE))","v":""},{"$f":"IF(A50=\"W0\",$K$12,IF(QNST05_B!C59=\"\",\"\",VLOOKUP(QNST05_B!C59,$J$4:$K$12,2,FALSE)))","v":""},{"$f":"IF(OR(A50=\"W0\"),L5A!$L$21,IF(QNST05_B!D59=\"\",\"\",VLOOKUP(QNST05_B!D59,L5A!$K$18:$L$21,2,FALSE)))","v":""},{"$f":"IF(ISERROR(ROUND(QNST05_B!E59,4))=TRUE,\"\",ROUND(QNST05_B!E59,4))","v":0},{"$f":"IF(ISERROR(ROUND(QNST05_B!F59,4))=TRUE,\"\",ROUND(QNST05_B!F59,4))","v":0},{"$f":"IF(ISERROR(ROUND(QNST05_B!G59,4))=TRUE,\"\",ROUND(QNST05_B!G59,4))","v":0}]
[{"$f":"IF(QNST05_B!B60=\"\",\"\",VLOOKUP(QNST05_B!B60,L5A!$S$1:$T$266,2,FALSE))","v":""},{"$f":"IF(A51=\"W0\",$K$12,IF(QNST05_B!C60=\"\",\"\",VLOOKUP(QNST05_B!C60,$J$4:$K$12,2,FALSE)))","v":""},{"$f":"IF(OR(A51=\"W0\"),L5A!$L$21,IF(QNST05_B!D60=\"\",\"\",VLOOKUP(QNST05_B!D60,L5A!$K$18:$L$21,2,FALSE)))","v":""},{"$f":"IF(ISERROR(ROUND(QNST05_B!E60,4))=TRUE,\"\",ROUND(QNST05_B!E60,4))","v":0},{"$f":"IF(ISERROR(ROUND(QNST05_B!F60,4))=TRUE,\"\",ROUND(QNST05_B!F60,4))","v":0},{"$f":"IF(ISERROR(ROUND(QNST05_B!G60,4))=TRUE,\"\",ROUND(QNST05_B!G60,4))","v":0}]
[{"$f":"IF(QNST05_B!B61=\"\",\"\",VLOOKUP(QNST05_B!B61,L5A!$S$1:$T$266,2,FALSE))","v":""},{"$f":"IF(A52=\"W0\",$K$12,IF(QNST05_B!C61=\"\",\"\",VLOOKUP(QNST05_B!C61,$J$4:$K$12,2,FALSE)))","v":""},{"$f":"IF(OR(A52=\"W0\"),L5A!$L$21,IF(QNST05_B!D61=\"\",\"\",VLOOKUP(QNST05_B!D61,L5A!$K$18:$L$21,2,FALSE)))","v":""},{"$f":"IF(ISERROR(ROUND(QNST05_B!E61,4))=TRUE,\"\",ROUND(QNST05_B!E61,4))","v":0},{"$f":"IF(ISERROR(ROUND(QNST05_B!F61,4))=TRUE,\"\",ROUND(QNST05_B!F61,4))","v":0},{"$f":"IF(ISERROR(ROUND(QNST05_B!G61,4))=TRUE,\"\",ROUND(QNST05_B!G61,4))","v":0}]
[{"$f":"IF(QNST05_B!B62=\"\",\"\",VLOOKUP(QNST05_B!B62,L5A!$S$1:$T$266,2,FALSE))","v":""},{"$f":"IF(A53=\"W0\",$K$12,IF(QNST05_B!C62=\"\",\"\",VLOOKUP(QNST05_B!C62,$J$4:$K$12,2,FALSE)))","v":""},{"$f":"IF(OR(A53=\"W0\"),L5A!$L$21,IF(QNST05_B!D62=\"\",\"\",VLOOKUP(QNST05_B!D62,L5A!$K$18:$L$21,2,FALSE)))","v":""},{"$f":"IF(ISERROR(ROUND(QNST05_B!E62,4))=TRUE,\"\",ROUND(QNST05_B!E62,4))","v":0},{"$f":"IF(ISERROR(ROUND(QNST05_B!F62,4))=TRUE,\"\",ROUND(QNST05_B!F62,4))","v":0},{"$f":"IF(ISERROR(ROUND(QNST05_B!G62,4))=TRUE,\"\",ROUND(QNST05_B!G62,4))","v":0}]
[{"$f":"IF(QNST05_B!B63=\"\",\"\",VLOOKUP(QNST05_B!B63,L5A!$S$1:$T$266,2,FALSE))","v":""},{"$f":"IF(A54=\"W0\",$K$12,IF(QNST05_B!C63=\"\",\"\",VLOOKUP(QNST05_B!C63,$J$4:$K$12,2,FALSE)))","v":""},{"$f":"IF(OR(A54=\"W0\"),L5A!$L$21,IF(QNST05_B!D63=\"\",\"\",VLOOKUP(QNST05_B!D63,L5A!$K$18:$L$21,2,FALSE)))","v":""},{"$f":"IF(ISERROR(ROUND(QNST05_B!E63,4))=TRUE,\"\",ROUND(QNST05_B!E63,4))","v":0},{"$f":"IF(ISERROR(ROUND(QNST05_B!F63,4))=TRUE,\"\",ROUND(QNST05_B!F63,4))","v":0},{"$f":"IF(ISERROR(ROUND(QNST05_B!G63,4))=TRUE,\"\",ROUND(QNST05_B!G63,4))","v":0}]
[{"$f":"IF(QNST05_B!B64=\"\",\"\",VLOOKUP(QNST05_B!B64,L5A!$S$1:$T$266,2,FALSE))","v":""},{"$f":"IF(A55=\"W0\",$K$12,IF(QNST05_B!C64=\"\",\"\",VLOOKUP(QNST05_B!C64,$J$4:$K$12,2,FALSE)))","v":""},{"$f":"IF(OR(A55=\"W0\"),L5A!$L$21,IF(QNST05_B!D64=\"\",\"\",VLOOKUP(QNST05_B!D64,L5A!$K$18:$L$21,2,FALSE)))","v":""},{"$f":"IF(ISERROR(ROUND(QNST05_B!E64,4))=TRUE,\"\",ROUND(QNST05_B!E64,4))","v":0},{"$f":"IF(ISERROR(ROUND(QNST05_B!F64,4))=TRUE,\"\",ROUND(QNST05_B!F64,4))","v":0},{"$f":"IF(ISERROR(ROUND(QNST05_B!G64,4))=TRUE,\"\",ROUND(QNST05_B!G64,4))","v":0}]
[{"$f":"IF(QNST05_B!B65=\"\",\"\",VLOOKUP(QNST05_B!B65,L5A!$S$1:$T$266,2,FALSE))","v":""},{"$f":"IF(A56=\"W0\",$K$12,IF(QNST05_B!C65=\"\",\"\",VLOOKUP(QNST05_B!C65,$J$4:$K$12,2,FALSE)))","v":""},{"$f":"IF(OR(A56=\"W0\"),L5A!$L$21,IF(QNST05_B!D65=\"\",\"\",VLOOKUP(QNST05_B!D65,L5A!$K$18:$L$21,2,FALSE)))","v":""},{"$f":"IF(ISERROR(ROUND(QNST05_B!E65,4))=TRUE,\"\",ROUND(QNST05_B!E65,4))","v":0},{"$f":"IF(ISERROR(ROUND(QNST05_B!F65,4))=TRUE,\"\",ROUND(QNST05_B!F65,4))","v":0},{"$f":"IF(ISERROR(ROUND(QNST05_B!G65,4))=TRUE,\"\",ROUND(QNST05_B!G65,4))","v":0}]
[{"$f":"IF(QNST05_B!B66=\"\",\"\",VLOOKUP(QNST05_B!B66,L5A!$S$1:$T$266,2,FALSE))","v":""},{"$f":"IF(A57=\"W0\",$K$12,IF(QNST05_B!C66=\"\",\"\",VLOOKUP(QNST05_B!C66,$J$4:$K$12,2,FALSE)))","v":""},{"$f":"IF(OR(A57=\"W0\"),L5A!$L$21,IF(QNST05_B!D66=\"\",\"\",VLOOKUP(QNST05_B!D66,L5A!$K$18:$L$21,2,FALSE)))","v":""},{"$f":"IF(ISERROR(ROUND(QNST05_B!E66,4))=TRUE,\"\",ROUND(QNST05_B!E66,4))","v":0},{"$f":"IF(ISERROR(ROUND(QNST05_B!F66,4))=TRUE,\"\",ROUND(QNST05_B!F66,4))","v":0},{"$f":"IF(ISERROR(ROUND(QNST05_B!G66,4))=TRUE,\"\",ROUND(QNST05_B!G66,4))","v":0}]
[{"$f":"IF(QNST05_B!B67=\"\",\"\",VLOOKUP(QNST05_B!B67,L5A!$S$1:$T$266,2,FALSE))","v":""},{"$f":"IF(A58=\"W0\",$K$12,IF(QNST05_B!C67=\"\",\"\",VLOOKUP(QNST05_B!C67,$J$4:$K$12,2,FALSE)))","v":""},{"$f":"IF(OR(A58=\"W0\"),L5A!$L$21,IF(QNST05_B!D67=\"\",\"\",VLOOKUP(QNST05_B!D67,L5A!$K$18:$L$21,2,FALSE)))","v":""},{"$f":"IF(ISERROR(ROUND(QNST05_B!E67,4))=TRUE,\"\",ROUND(QNST05_B!E67,4))","v":0},{"$f":"IF(ISERROR(ROUND(QNST05_B!F67,4))=TRUE,\"\",ROUND(QNST05_B!F67,4))","v":0},{"$f":"IF(ISERROR(ROUND(QNST05_B!G67,4))=TRUE,\"\",ROUND(QNST05_B!G67,4))","v":0}]
[{"$f":"IF(QNST05_B!B68=\"\",\"\",VLOOKUP(QNST05_B!B68,L5A!$S$1:$T$266,2,FALSE))","v":""},{"$f":"IF(A59=\"W0\",$K$12,IF(QNST05_B!C68=\"\",\"\",VLOOKUP(QNST05_B!C68,$J$4:$K$12,2,FALSE)))","v":""},{"$f":"IF(OR(A59=\"W0\"),L5A!$L$21,IF(QNST05_B!D68=\"\",\"\",VLOOKUP(QNST05_B!D68,L5A!$K$18:$L$21,2,FALSE)))","v":""},{"$f":"IF(ISERROR(ROUND(QNST05_B!E68,4))=TRUE,\"\",ROUND(QNST05_B!E68,4))","v":0},{"$f":"IF(ISERROR(ROUND(QNST05_B!F68,4))=TRUE,\"\",ROUND(QNST05_B!F68,4))","v":0},{"$f":"IF(ISERROR(ROUND(QNST05_B!G68,4))=TRUE,\"\",ROUND(QNST05_B!G68,4))","v":0}]
[{"$f":"IF(QNST05_B!B69=\"\",\"\",VLOOKUP(QNST05_B!B69,L5A!$S$1:$T$266,2,FALSE))","v":""},{"$f":"IF(A60=\"W0\",$K$12,IF(QNST05_B!C69=\"\",\"\",VLOOKUP(QNST05_B!C69,$J$4:$K$12,2,FALSE)))","v":""},{"$f":"IF(OR(A60=\"W0\"),L5A!$L$21,IF(QNST05_B!D69=\"\",\"\",VLOOKUP(QNST05_B!D69,L5A!$K$18:$L$21,2,FALSE)))","v":""},{"$f":"IF(ISERROR(ROUND(QNST05_B!E69,4))=TRUE,\"\",ROUND(QNST05_B!E69,4))","v":0},{"$f":"IF(ISERROR(ROUND(QNST05_B!F69,4))=TRUE,\"\",ROUND(QNST05_B!F69,4))","v":0},{"$f":"IF(ISERROR(ROUND(QNST05_B!G69,4))=TRUE,\"\",ROUND(QNST05_B!G69,4))","v":0}]
[{"$f":"IF(QNST05_B!B70=\"\",\"\",VLOOKUP(QNST05_B!B70,L5A!$S$1:$T$266,2,FALSE))","v":""},{"$f":"IF(A61=\"W0\",$K$12,IF(QNST05_B!C70=\"\",\"\",VLOOKUP(QNST05_B!C70,$J$4:$K$12,2,FALSE)))","v":""},{"$f":"IF(OR(A61=\"W0\"),L5A!$L$21,IF(QNST05_B!D70=\"\",\"\",VLOOKUP(QNST05_B!D70,L5A!$K$18:$L$21,2,FALSE)))","v":""},{"$f":"IF(ISERROR(ROUND(QNST05_B!E70,4))=TRUE,\"\",ROUND(QNST05_B!E70,4))","v":0},{"$f":"IF(ISERROR(ROUND(QNST05_B!F70,4))=TRUE,\"\",ROUND(QNST05_B!F70,4))","v":0},{"$f":"IF(ISERROR(ROUND(QNST05_B!G70,4))=TRUE,\"\",ROUND(QNST05_B!G70,4))","v":0}]
[{"$f":"IF(QNST05_B!B71=\"\",\"\",VLOOKUP(QNST05_B!B71,L5A!$S$1:$T$266,2,FALSE))","v":""},{"$f":"IF(A62=\"W0\",$K$12,IF(QNST05_B!C71=\"\",\"\",VLOOKUP(QNST05_B!C71,$J$4:$K$12,2,FALSE)))","v":""},{"$f":"IF(OR(A62=\"W0\"),L5A!$L$21,IF(QNST05_B!D71=\"\",\"\",VLOOKUP(QNST05_B!D71,L5A!$K$18:$L$21,2,FALSE)))","v":""},{"$f":"IF(ISERROR(ROUND(QNST05_B!E71,4))=TRUE,\"\",ROUND(QNST05_B!E71,4))","v":0},{"$f":"IF(ISERROR(ROUND(QNST05_B!F71,4))=TRUE,\"\",ROUND(QNST05_B!F71,4))","v":0},{"$f":"IF(ISERROR(ROUND(QNST05_B!G71,4))=TRUE,\"\",ROUND(QNST05_B!G71,4))","v":0}]
[{"$f":"IF(QNST05_B!B72=\"\",\"\",VLOOKUP(QNST05_B!B72,L5A!$S$1:$T$266,2,FALSE))","v":""},{"$f":"IF(A63=\"W0\",$K$12,IF(QNST05_B!C72=\"\",\"\",VLOOKUP(QNST05_B!C72,$J$4:$K$12,2,FALSE)))","v":""},{"$f":"IF(OR(A63=\"W0\"),L5A!$L$21,IF(QNST05_B!D72=\"\",\"\",VLOOKUP(QNST05_B!D72,L5A!$K$18:$L$21,2,FALSE)))","v":""},{"$f":"IF(ISERROR(ROUND(QNST05_B!E72,4))=TRUE,\"\",ROUND(QNST05_B!E72,4))","v":0},{"$f":"IF(ISERROR(ROUND(QNST05_B!F72,4))=TRUE,\"\",ROUND(QNST05_B!F72,4))","v":0},{"$f":"IF(ISERROR(ROUND(QNST05_B!G72,4))=TRUE,\"\",ROUND(QNST05_B!G72,4))","v":0}]
[{"$f":"IF(QNST05_B!B73=\"\",\"\",VLOOKUP(QNST05_B!B73,L5A!$S$1:$T$266,2,FALSE))","v":""},{"$f":"IF(A64=\"W0\",$K$12,IF(QNST05_B!C73=\"\",\"\",VLOOKUP(QNST05_B!C73,$J$4:$K$12,2,FALSE)))","v":""},{"$f":"IF(OR(A64=\"W0\"),L5A!$L$21,IF(QNST05_B!D73=\"\",\"\",VLOOKUP(QNST05_B!D73,L5A!$K$18:$L$21,2,FALSE)))","v":""},{"$f":"IF(ISERROR(ROUND(QNST05_B!E73,4))=TRUE,\"\",ROUND(QNST05_B!E73,4))","v":0},{"$f":"IF(ISERROR(ROUND(QNST05_B!F73,4))=TRUE,\"\",ROUND(QNST05_B!F73,4))","v":0},{"$f":"IF(ISERROR(ROUND(QNST05_B!G73,4))=TRUE,\"\",ROUND(QNST05_B!G73,4))","v":0}]
[{"$f":"IF(QNST05_B!B74=\"\",\"\",VLOOKUP(QNST05_B!B74,L5A!$S$1:$T$266,2,FALSE))","v":""},{"$f":"IF(A65=\"W0\",$K$12,IF(QNST05_B!C74=\"\",\"\",VLOOKUP(QNST05_B!C74,$J$4:$K$12,2,FALSE)))","v":""},{"$f":"IF(OR(A65=\"W0\"),L5A!$L$21,IF(QNST05_B!D74=\"\",\"\",VLOOKUP(QNST05_B!D74,L5A!$K$18:$L$21,2,FALSE)))","v":""},{"$f":"IF(ISERROR(ROUND(QNST05_B!E74,4))=TRUE,\"\",ROUND(QNST05_B!E74,4))","v":0},{"$f":"IF(ISERROR(ROUND(QNST05_B!F74,4))=TRUE,\"\",ROUND(QNST05_B!F74,4))","v":0},{"$f":"IF(ISERROR(ROUND(QNST05_B!G74,4))=TRUE,\"\",ROUND(QNST05_B!G74,4))","v":0}]
[{"$f":"IF(QNST05_B!B75=\"\",\"\",VLOOKUP(QNST05_B!B75,L5A!$S$1:$T$266,2,FALSE))","v":""},{"$f":"IF(A66=\"W0\",$K$12,IF(QNST05_B!C75=\"\",\"\",VLOOKUP(QNST05_B!C75,$J$4:$K$12,2,FALSE)))","v":""},{"$f":"IF(OR(A66=\"W0\"),L5A!$L$21,IF(QNST05_B!D75=\"\",\"\",VLOOKUP(QNST05_B!D75,L5A!$K$18:$L$21,2,FALSE)))","v":""},{"$f":"IF(ISERROR(ROUND(QNST05_B!E75,4))=TRUE,\"\",ROUND(QNST05_B!E75,4))","v":0},{"$f":"IF(ISERROR(ROUND(QNST05_B!F75,4))=TRUE,\"\",ROUND(QNST05_B!F75,4))","v":0},{"$f":"IF(ISERROR(ROUND(QNST05_B!G75,4))=TRUE,\"\",ROUND(QNST05_B!G75,4))","v":0}]
[{"$f":"IF(QNST05_B!B76=\"\",\"\",VLOOKUP(QNST05_B!B76,L5A!$S$1:$T$266,2,FALSE))","v":""},{"$f":"IF(A67=\"W0\",$K$12,IF(QNST05_B!C76=\"\",\"\",VLOOKUP(QNST05_B!C76,$J$4:$K$12,2,FALSE)))","v":""},{"$f":"IF(OR(A67=\"W0\"),L5A!$L$21,IF(QNST05_B!D76=\"\",\"\",VLOOKUP(QNST05_B!D76,L5A!$K$18:$L$21,2,FALSE)))","v":""},{"$f":"IF(ISERROR(ROUND(QNST05_B!E76,4))=TRUE,\"\",ROUND(QNST05_B!E76,4))","v":0},{"$f":"IF(ISERROR(ROUND(QNST05_B!F76,4))=TRUE,\"\",ROUND(QNST05_B!F76,4))","v":0},{"$f":"IF(ISERROR(ROUND(QNST05_B!G76,4))=TRUE,\"\",ROUND(QNST05_B!G76,4))","v":0}]
[{"$f":"IF(QNST05_B!B77=\"\",\"\",VLOOKUP(QNST05_B!B77,L5A!$S$1:$T$266,2,FALSE))","v":""},{"$f":"IF(A68=\"W0\",$K$12,IF(QNST05_B!C77=\"\",\"\",VLOOKUP(QNST05_B!C77,$J$4:$K$12,2,FALSE)))","v":""},{"$f":"IF(OR(A68=\"W0\"),L5A!$L$21,IF(QNST05_B!D77=\"\",\"\",VLOOKUP(QNST05_B!D77,L5A!$K$18:$L$21,2,FALSE)))","v":""},{"$f":"IF(ISERROR(ROUND(QNST05_B!E77,4))=TRUE,\"\",ROUND(QNST05_B!E77,4))","v":0},{"$f":"IF(ISERROR(ROUND(QNST05_B!F77,4))=TRUE,\"\",ROUND(QNST05_B!F77,4))","v":0},{"$f":"IF(ISERROR(ROUND(QNST05_B!G77,4))=TRUE,\"\",ROUND(QNST05_B!G77,4))","v":0}]
[{"$f":"IF(QNST05_B!B78=\"\",\"\",VLOOKUP(QNST05_B!B78,L5A!$S$1:$T$266,2,FALSE))","v":""},{"$f":"IF(A69=\"W0\",$K$12,IF(QNST05_B!C78=\"\",\"\",VLOOKUP(QNST05_B!C78,$J$4:$K$12,2,FALSE)))","v":""},{"$f":"IF(OR(A69=\"W0\"),L5A!$L$21,IF(QNST05_B!D78=\"\",\"\",VLOOKUP(QNST05_B!D78,L5A!$K$18:$L$21,2,FALSE)))","v":""},{"$f":"IF(ISERROR(ROUND(QNST05_B!E78,4))=TRUE,\"\",ROUND(QNST05_B!E78,4))","v":0},{"$f":"IF(ISERROR(ROUND(QNST05_B!F78,4))=TRUE,\"\",ROUND(QNST05_B!F78,4))","v":0},{"$f":"IF(ISERROR(ROUND(QNST05_B!G78,4))=TRUE,\"\",ROUND(QNST05_B!G78,4))","v":0}]
[{"$f":"IF(QNST05_B!B79=\"\",\"\",VLOOKUP(QNST05_B!B79,L5A!$S$1:$T$266,2,FALSE))","v":""},{"$f":"IF(A70=\"W0\",$K$12,IF(QNST05_B!C79=\"\",\"\",VLOOKUP(QNST05_B!C79,$J$4:$K$12,2,FALSE)))","v":""},{"$f":"IF(OR(A70=\"W0\"),L5A!$L$21,IF(QNST05_B!D79=\"\",\"\",VLOOKUP(QNST05_B!D79,L5A!$K$18:$L$21,2,FALSE)))","v":""},{"$f":"IF(ISERROR(ROUND(QNST05_B!E79,4))=TRUE,\"\",ROUND(QNST05_B!E79,4))","v":0},{"$f":"IF(ISERROR(ROUND(QNST05_B!F79,4))=TRUE,\"\",ROUND(QNST05_B!F79,4))","v":0},{"$f":"IF(ISERROR(ROUND(QNST05_B!G79,4))=TRUE,\"\",ROUND(QNST05_B!G79,4))","v":0}]
[{"$f":"IF(QNST05_B!B80=\"\",\"\",VLOOKUP(QNST05_B!B80,L5A!$S$1:$T$266,2,FALSE))","v":""},{"$f":"IF(A71=\"W0\",$K$12,IF(QNST05_B!C80=\"\",\"\",VLOOKUP(QNST05_B!C80,$J$4:$K$12,2,FALSE)))","v":""},{"$f":"IF(OR(A71=\"W0\"),L5A!$L$21,IF(QNST05_B!D80=\"\",\"\",VLOOKUP(QNST05_B!D80,L5A!$K$18:$L$21,2,FALSE)))","v":""},{"$f":"IF(ISERROR(ROUND(QNST05_B!E80,4))=TRUE,\"\",ROUND(QNST05_B!E80,4))","v":0},{"$f":"IF(ISERROR(ROUND(QNST05_B!F80,4))=TRUE,\"\",ROUND(QNST05_B!F80,4))","v":0},{"$f":"IF(ISERROR(ROUND(QNST05_B!G80,4))=TRUE,\"\",ROUND(QNST05_B!G80,4))","v":0}]
[{"$f":"IF(QNST05_B!B81=\"\",\"\",VLOOKUP(QNST05_B!B81,L5A!$S$1:$T$266,2,FALSE))","v":""},{"$f":"IF(A72=\"W0\",$K$12,IF(QNST05_B!C81=\"\",\"\",VLOOKUP(QNST05_B!C81,$J$4:$K$12,2,FALSE)))","v":""},{"$f":"IF(OR(A72=\"W0\"),L5A!$L$21,IF(QNST05_B!D81=\"\",\"\",VLOOKUP(QNST05_B!D81,L5A!$K$18:$L$21,2,FALSE)))","v":""},{"$f":"IF(ISERROR(ROUND(QNST05_B!E81,4))=TRUE,\"\",ROUND(QNST05_B!E81,4))","v":0},{"$f":"IF(ISERROR(ROUND(QNST05_B!F81,4))=TRUE,\"\",ROUND(QNST05_B!F81,4))","v":0},{"$f":"IF(ISERROR(ROUND(QNST05_B!G81,4))=TRUE,\"\",ROUND(QNST05_B!G81,4))","v":0}]
[{"$f":"IF(QNST05_B!B82=\"\",\"\",VLOOKUP(QNST05_B!B82,L5A!$S$1:$T$266,2,FALSE))","v":""},{"$f":"IF(A73=\"W0\",$K$12,IF(QNST05_B!C82=\"\",\"\",VLOOKUP(QNST05_B!C82,$J$4:$K$12,2,FALSE)))","v":""},{"$f":"IF(OR(A73=\"W0\"),L5A!$L$21,IF(QNST05_B!D82=\"\",\"\",VLOOKUP(QNST05_B!D82,L5A!$K$18:$L$21,2,FALSE)))","v":""},{"$f":"IF(ISERROR(ROUND(QNST05_B!E82,4))=TRUE,\"\",ROUND(QNST05_B!E82,4))","v":0},{"$f":"IF(ISERROR(ROUND(QNST05_B!F82,4))=TRUE,\"\",ROUND(QNST05_B!F82,4))","v":0},{"$f":"IF(ISERROR(ROUND(QNST05_B!G82,4))=TRUE,\"\",ROUND(QNST05_B!G82,4))","v":0}]
[{"$f":"IF(QNST05_B!B83=\"\",\"\",VLOOKUP(QNST05_B!B83,L5A!$S$1:$T$266,2,FALSE))","v":""},{"$f":"IF(A74=\"W0\",$K$12,IF(QNST05_B!C83=\"\",\"\",VLOOKUP(QNST05_B!C83,$J$4:$K$12,2,FALSE)))","v":""},{"$f":"IF(OR(A74=\"W0\"),L5A!$L$21,IF(QNST05_B!D83=\"\",\"\",VLOOKUP(QNST05_B!D83,L5A!$K$18:$L$21,2,FALSE)))","v":""},{"$f":"IF(ISERROR(ROUND(QNST05_B!E83,4))=TRUE,\"\",ROUND(QNST05_B!E83,4))","v":0},{"$f":"IF(ISERROR(ROUND(QNST05_B!F83,4))=TRUE,\"\",ROUND(QNST05_B!F83,4))","v":0},{"$f":"IF(ISERROR(ROUND(QNST05_B!G83,4))=TRUE,\"\",ROUND(QNST05_B!G83,4))","v":0}]
[{"$f":"IF(QNST05_B!B84=\"\",\"\",VLOOKUP(QNST05_B!B84,L5A!$S$1:$T$266,2,FALSE))","v":""},{"$f":"IF(A75=\"W0\",$K$12,IF(QNST05_B!C84=\"\",\"\",VLOOKUP(QNST05_B!C84,$J$4:$K$12,2,FALSE)))","v":""},{"$f":"IF(OR(A75=\"W0\"),L5A!$L$21,IF(QNST05_B!D84=\"\",\"\",VLOOKUP(QNST05_B!D84,L5A!$K$18:$L$21,2,FALSE)))","v":""},{"$f":"IF(ISERROR(ROUND(QNST05_B!E84,4))=TRUE,\"\",ROUND(QNST05_B!E84,4))","v":0},{"$f":"IF(ISERROR(ROUND(QNST05_B!F84,4))=TRUE,\"\",ROUND(QNST05_B!F84,4))","v":0},{"$f":"IF(ISERROR(ROUND(QNST05_B!G84,4))=TRUE,\"\",ROUND(QNST05_B!G84,4))","v":0}]
[{"$f":"IF(QNST05_B!B85=\"\",\"\",VLOOKUP(QNST05_B!B85,L5A!$S$1:$T$266,2,FALSE))","v":""},{"$f":"IF(A76=\"W0\",$K$12,IF(QNST05_B!C85=\"\",\"\",VLOOKUP(QNST05_B!C85,$J$4:$K$12,2,FALSE)))","v":""},{"$f":"IF(OR(A76=\"W0\"),L5A!$L$21,IF(QNST05_B!D85=\"\",\"\",VLOOKUP(QNST05_B!D85,L5A!$K$18:$L$21,2,FALSE)))","v":""},{"$f":"IF(ISERROR(ROUND(QNST05_B!E85,4))=TRUE,\"\",ROUND(QNST05_B!E85,4))","v":0},{"$f":"IF(ISERROR(ROUND(QNST05_B!F85,4))=TRUE,\"\",ROUND(QNST05_B!F85,4))","v":0},{"$f":"IF(ISERROR(ROUND(QNST05_B!G85,4))=TRUE,\"\",ROUND(QNST05_B!G85,4))","v":0}]
[{"$f":"IF(QNST05_B!B86=\"\",\"\",VLOOKUP(QNST05_B!B86,L5A!$S$1:$T$266,2,FALSE))","v":""},{"$f":"IF(A77=\"W0\",$K$12,IF(QNST05_B!C86=\"\",\"\",VLOOKUP(QNST05_B!C86,$J$4:$K$12,2,FALSE)))","v":""},{"$f":"IF(OR(A77=\"W0\"),L5A!$L$21,IF(QNST05_B!D86=\"\",\"\",VLOOKUP(QNST05_B!D86,L5A!$K$18:$L$21,2,FALSE)))","v":""},{"$f":"IF(ISERROR(ROUND(QNST05_B!E86,4))=TRUE,\"\",ROUND(QNST05_B!E86,4))","v":0},{"$f":"IF(ISERROR(ROUND(QNST05_B!F86,4))=TRUE,\"\",ROUND(QNST05_B!F86,4))","v":0},{"$f":"IF(ISERROR(ROUND(QNST05_B!G86,4))=TRUE,\"\",ROUND(QNST05_B!G86,4))","v":0}]
[{"$f":"IF(QNST05_B!B87=\"\",\"\",VLOOKUP(QNST05_B!B87,L5A!$S$1:$T$266,2,FALSE))","v":""},{"$f":"IF(A78=\"W0\",$K$12,IF(QNST05_B!C87=\"\",\"\",VLOOKUP(QNST05_B!C87,$J$4:$K$12,2,FALSE)))","v":""},{"$f":"IF(OR(A78=\"W0\"),L5A!$L$21,IF(QNST05_B!D87=\"\",\"\",VLOOKUP(QNST05_B!D87,L5A!$K$18:$L$21,2,FALSE)))","v":""},{"$f":"IF(ISERROR(ROUND(QNST05_B!E87,4))=TRUE,\"\",ROUND(QNST05_B!E87,4))","v":0},{"$f":"IF(ISERROR(ROUND(QNST05_B!F87,4))=TRUE,\"\",ROUND(QNST05_B!F87,4))","v":0},{"$f":"IF(ISERROR(ROUND(QNST05_B!G87,4))=TRUE,\"\",ROUND(QNST05_B!G87,4))","v":0}]
[{"$f":"IF(QNST05_B!B88=\"\",\"\",VLOOKUP(QNST05_B!B88,L5A!$S$1:$T$266,2,FALSE))","v":""},{"$f":"IF(A79=\"W0\",$K$12,IF(QNST05_B!C88=\"\",\"\",VLOOKUP(QNST05_B!C88,$J$4:$K$12,2,FALSE)))","v":""},{"$f":"IF(OR(A79=\"W0\"),L5A!$L$21,IF(QNST05_B!D88=\"\",\"\",VLOOKUP(QNST05_B!D88,L5A!$K$18:$L$21,2,FALSE)))","v":""},{"$f":"IF(ISERROR(ROUND(QNST05_B!E88,4))=TRUE,\"\",ROUND(QNST05_B!E88,4))","v":0},{"$f":"IF(ISERROR(ROUND(QNST05_B!F88,4))=TRUE,\"\",ROUND(QNST05_B!F88,4))","v":0},{"$f":"IF(ISERROR(ROUND(QNST05_B!G88,4))=TRUE,\"\",ROUND(QNST05_B!G88,4))","v":0}]
[{"$f":"IF(QNST05_B!B89=\"\",\"\",VLOOKUP(QNST05_B!B89,L5A!$S$1:$T$266,2,FALSE))","v":""},{"$f":"IF(A80=\"W0\",$K$12,IF(QNST05_B!C89=\"\",\"\",VLOOKUP(QNST05_B!C89,$J$4:$K$12,2,FALSE)))","v":""},{"$f":"IF(OR(A80=\"W0\"),L5A!$L$21,IF(QNST05_B!D89=\"\",\"\",VLOOKUP(QNST05_B!D89,L5A!$K$18:$L$21,2,FALSE)))","v":""},{"$f":"IF(ISERROR(ROUND(QNST05_B!E89,4))=TRUE,\"\",ROUND(QNST05_B!E89,4))","v":0},{"$f":"IF(ISERROR(ROUND(QNST05_B!F89,4))=TRUE,\"\",ROUND(QNST05_B!F89,4))","v":0},{"$f":"IF(ISERROR(ROUND(QNST05_B!G89,4))=TRUE,\"\",ROUND(QNST05_B!G89,4))","v":0}]
[{"$f":"IF(QNST05_B!B90=\"\",\"\",VLOOKUP(QNST05_B!B90,L5A!$S$1:$T$266,2,FALSE))","v":""},{"$f":"IF(A81=\"W0\",$K$12,IF(QNST05_B!C90=\"\",\"\",VLOOKUP(QNST05_B!C90,$J$4:$K$12,2,FALSE)))","v":""},{"$f":"IF(OR(A81=\"W0\"),L5A!$L$21,IF(QNST05_B!D90=\"\",\"\",VLOOKUP(QNST05_B!D90,L5A!$K$18:$L$21,2,FALSE)))","v":""},{"$f":"IF(ISERROR(ROUND(QNST05_B!E90,4))=TRUE,\"\",ROUND(QNST05_B!E90,4))","v":0},{"$f":"IF(ISERROR(ROUND(QNST05_B!F90,4))=TRUE,\"\",ROUND(QNST05_B!F90,4))","v":0},{"$f":"IF(ISERROR(ROUND(QNST05_B!G90,4))=TRUE,\"\",ROUND(QNST05_B!G90,4))","v":0}]
[{"$f":"IF(QNST05_B!B91=\"\",\"\",VLOOKUP(QNST05_B!B91,L5A!$S$1:$T$266,2,FALSE))","v":""},{"$f":"IF(A82=\"W0\",$K$12,IF(QNST05_B!C91=\"\",\"\",VLOOKUP(QNST05_B!C91,$J$4:$K$12,2,FALSE)))","v":""},{"$f":"IF(OR(A82=\"W0\"),L5A!$L$21,IF(QNST05_B!D91=\"\",\"\",VLOOKUP(QNST05_B!D91,L5A!$K$18:$L$21,2,FALSE)))","v":""},{"$f":"IF(ISERROR(ROUND(QNST05_B!E91,4))=TRUE,\"\",ROUND(QNST05_B!E91,4))","v":0},{"$f":"IF(ISERROR(ROUND(QNST05_B!F91,4))=TRUE,\"\",ROUND(QNST05_B!F91,4))","v":0},{"$f":"IF(ISERROR(ROUND(QNST05_B!G91,4))=TRUE,\"\",ROUND(QNST05_B!G91,4))","v":0}]
[{"$f":"IF(QNST05_B!B92=\"\",\"\",VLOOKUP(QNST05_B!B92,L5A!$S$1:$T$266,2,FALSE))","v":""},{"$f":"IF(A83=\"W0\",$K$12,IF(QNST05_B!C92=\"\",\"\",VLOOKUP(QNST05_B!C92,$J$4:$K$12,2,FALSE)))","v":""},{"$f":"IF(OR(A83=\"W0\"),L5A!$L$21,IF(QNST05_B!D92=\"\",\"\",VLOOKUP(QNST05_B!D92,L5A!$K$18:$L$21,2,FALSE)))","v":""},{"$f":"IF(ISERROR(ROUND(QNST05_B!E92,4))=TRUE,\"\",ROUND(QNST05_B!E92,4))","v":0},{"$f":"IF(ISERROR(ROUND(QNST05_B!F92,4))=TRUE,\"\",ROUND(QNST05_B!F92,4))","v":0},{"$f":"IF(ISERROR(ROUND(QNST05_B!G92,4))=TRUE,\"\",ROUND(QNST05_B!G92,4))","v":0}]
[{"$f":"IF(QNST05_B!B93=\"\",\"\",VLOOKUP(QNST05_B!B93,L5A!$S$1:$T$266,2,FALSE))","v":""},{"$f":"IF(A84=\"W0\",$K$12,IF(QNST05_B!C93=\"\",\"\",VLOOKUP(QNST05_B!C93,$J$4:$K$12,2,FALSE)))","v":""},{"$f":"IF(OR(A84=\"W0\"),L5A!$L$21,IF(QNST05_B!D93=\"\",\"\",VLOOKUP(QNST05_B!D93,L5A!$K$18:$L$21,2,FALSE)))","v":""},{"$f":"IF(ISERROR(ROUND(QNST05_B!E93,4))=TRUE,\"\",ROUND(QNST05_B!E93,4))","v":0},{"$f":"IF(ISERROR(ROUND(QNST05_B!F93,4))=TRUE,\"\",ROUND(QNST05_B!F93,4))","v":0},{"$f":"IF(ISERROR(ROUND(QNST05_B!G93,4))=TRUE,\"\",ROUND(QNST05_B!G93,4))","v":0}]
[{"$f":"IF(QNST05_B!B94=\"\",\"\",VLOOKUP(QNST05_B!B94,L5A!$S$1:$T$266,2,FALSE))","v":""},{"$f":"IF(A85=\"W0\",$K$12,IF(QNST05_B!C94=\"\",\"\",VLOOKUP(QNST05_B!C94,$J$4:$K$12,2,FALSE)))","v":""},{"$f":"IF(OR(A85=\"W0\"),L5A!$L$21,IF(QNST05_B!D94=\"\",\"\",VLOOKUP(QNST05_B!D94,L5A!$K$18:$L$21,2,FALSE)))","v":""},{"$f":"IF(ISERROR(ROUND(QNST05_B!E94,4))=TRUE,\"\",ROUND(QNST05_B!E94,4))","v":0},{"$f":"IF(ISERROR(ROUND(QNST05_B!F94,4))=TRUE,\"\",ROUND(QNST05_B!F94,4))","v":0},{"$f":"IF(ISERROR(ROUND(QNST05_B!G94,4))=TRUE,\"\",ROUND(QNST05_B!G94,4))","v":0}]
[{"$f":"IF(QNST05_B!B95=\"\",\"\",VLOOKUP(QNST05_B!B95,L5A!$S$1:$T$266,2,FALSE))","v":""},{"$f":"IF(A86=\"W0\",$K$12,IF(QNST05_B!C95=\"\",\"\",VLOOKUP(QNST05_B!C95,$J$4:$K$12,2,FALSE)))","v":""},{"$f":"IF(OR(A86=\"W0\"),L5A!$L$21,IF(QNST05_B!D95=\"\",\"\",VLOOKUP(QNST05_B!D95,L5A!$K$18:$L$21,2,FALSE)))","v":""},{"$f":"IF(ISERROR(ROUND(QNST05_B!E95,4))=TRUE,\"\",ROUND(QNST05_B!E95,4))","v":0},{"$f":"IF(ISERROR(ROUND(QNST05_B!F95,4))=TRUE,\"\",ROUND(QNST05_B!F95,4))","v":0},{"$f":"IF(ISERROR(ROUND(QNST05_B!G95,4))=TRUE,\"\",ROUND(QNST05_B!G95,4))","v":0}]
[{"$f":"IF(QNST05_B!B96=\"\",\"\",VLOOKUP(QNST05_B!B96,L5A!$S$1:$T$266,2,FALSE))","v":""},{"$f":"IF(A87=\"W0\",$K$12,IF(QNST05_B!C96=\"\",\"\",VLOOKUP(QNST05_B!C96,$J$4:$K$12,2,FALSE)))","v":""},{"$f":"IF(OR(A87=\"W0\"),L5A!$L$21,IF(QNST05_B!D96=\"\",\"\",VLOOKUP(QNST05_B!D96,L5A!$K$18:$L$21,2,FALSE)))","v":""},{"$f":"IF(ISERROR(ROUND(QNST05_B!E96,4))=TRUE,\"\",ROUND(QNST05_B!E96,4))","v":0},{"$f":"IF(ISERROR(ROUND(QNST05_B!F96,4))=TRUE,\"\",ROUND(QNST05_B!F96,4))","v":0},{"$f":"IF(ISERROR(ROUND(QNST05_B!G96,4))=TRUE,\"\",ROUND(QNST05_B!G96,4))","v":0}]
[{"$f":"IF(QNST05_B!B97=\"\",\"\",VLOOKUP(QNST05_B!B97,L5A!$S$1:$T$266,2,FALSE))","v":""},{"$f":"IF(A88=\"W0\",$K$12,IF(QNST05_B!C97=\"\",\"\",VLOOKUP(QNST05_B!C97,$J$4:$K$12,2,FALSE)))","v":""},{"$f":"IF(OR(A88=\"W0\"),L5A!$L$21,IF(QNST05_B!D97=\"\",\"\",VLOOKUP(QNST05_B!D97,L5A!$K$18:$L$21,2,FALSE)))","v":""},{"$f":"IF(ISERROR(ROUND(QNST05_B!E97,4))=TRUE,\"\",ROUND(QNST05_B!E97,4))","v":0},{"$f":"IF(ISERROR(ROUND(QNST05_B!F97,4))=TRUE,\"\",ROUND(QNST05_B!F97,4))","v":0},{"$f":"IF(ISERROR(ROUND(QNST05_B!G97,4))=TRUE,\"\",ROUND(QNST05_B!G97,4))","v":0}]
[{"$f":"IF(QNST05_B!B98=\"\",\"\",VLOOKUP(QNST05_B!B98,L5A!$S$1:$T$266,2,FALSE))","v":""},{"$f":"IF(A89=\"W0\",$K$12,IF(QNST05_B!C98=\"\",\"\",VLOOKUP(QNST05_B!C98,$J$4:$K$12,2,FALSE)))","v":""},{"$f":"IF(OR(A89=\"W0\"),L5A!$L$21,IF(QNST05_B!D98=\"\",\"\",VLOOKUP(QNST05_B!D98,L5A!$K$18:$L$21,2,FALSE)))","v":""},{"$f":"IF(ISERROR(ROUND(QNST05_B!E98,4))=TRUE,\"\",ROUND(QNST05_B!E98,4))","v":0},{"$f":"IF(ISERROR(ROUND(QNST05_B!F98,4))=TRUE,\"\",ROUND(QNST05_B!F98,4))","v":0},{"$f":"IF(ISERROR(ROUND(QNST05_B!G98,4))=TRUE,\"\",ROUND(QNST05_B!G98,4))","v":0}]
[{"$f":"IF(QNST05_B!B99=\"\",\"\",VLOOKUP(QNST05_B!B99,L5A!$S$1:$T$266,2,FALSE))","v":""},{"$f":"IF(A90=\"W0\",$K$12,IF(QNST05_B!C99=\"\",\"\",VLOOKUP(QNST05_B!C99,$J$4:$K$12,2,FALSE)))","v":""},{"$f":"IF(OR(A90=\"W0\"),L5A!$L$21,IF(QNST05_B!D99=\"\",\"\",VLOOKUP(QNST05_B!D99,L5A!$K$18:$L$21,2,FALSE)))","v":""},{"$f":"IF(ISERROR(ROUND(QNST05_B!E99,4))=TRUE,\"\",ROUND(QNST05_B!E99,4))","v":0},{"$f":"IF(ISERROR(ROUND(QNST05_B!F99,4))=TRUE,\"\",ROUND(QNST05_B!F99,4))","v":0},{"$f":"IF(ISERROR(ROUND(QNST05_B!G99,4))=TRUE,\"\",ROUND(QNST05_B!G99,4))","v":0}]
[{"$f":"IF(QNST05_B!B100=\"\",\"\",VLOOKUP(QNST05_B!B100,L5A!$S$1:$T$266,2,FALSE))","v":""},{"$f":"IF(A91=\"W0\",$K$12,IF(QNST05_B!C100=\"\",\"\",VLOOKUP(QNST05_B!C100,$J$4:$K$12,2,FALSE)))","v":""},{"$f":"IF(OR(A91=\"W0\"),L5A!$L$21,IF(QNST05_B!D100=\"\",\"\",VLOOKUP(QNST05_B!D100,L5A!$K$18:$L$21,2,FALSE)))","v":""},{"$f":"IF(ISERROR(ROUND(QNST05_B!E100,4))=TRUE,\"\",ROUND(QNST05_B!E100,4))","v":0},{"$f":"IF(ISERROR(ROUND(QNST05_B!F100,4))=TRUE,\"\",ROUND(QNST05_B!F100,4))","v":0},{"$f":"IF(ISERROR(ROUND(QNST05_B!G100,4))=TRUE,\"\",ROUND(QNST05_B!G100,4))","v":0}]
[{"$f":"IF(QNST05_B!B101=\"\",\"\",VLOOKUP(QNST05_B!B101,L5A!$S$1:$T$266,2,FALSE))","v":""},{"$f":"IF(A92=\"W0\",$K$12,IF(QNST05_B!C101=\"\",\"\",VLOOKUP(QNST05_B!C101,$J$4:$K$12,2,FALSE)))","v":""},{"$f":"IF(OR(A92=\"W0\"),L5A!$L$21,IF(QNST05_B!D101=\"\",\"\",VLOOKUP(QNST05_B!D101,L5A!$K$18:$L$21,2,FALSE)))","v":""},{"$f":"IF(ISERROR(ROUND(QNST05_B!E101,4))=TRUE,\"\",ROUND(QNST05_B!E101,4))","v":0},{"$f":"IF(ISERROR(ROUND(QNST05_B!F101,4))=TRUE,\"\",ROUND(QNST05_B!F101,4))","v":0},{"$f":"IF(ISERROR(ROUND(QNST05_B!G101,4))=TRUE,\"\",ROUND(QNST05_B!G101,4))","v":0}]
[{"$f":"IF(QNST05_B!B102=\"\",\"\",VLOOKUP(QNST05_B!B102,L5A!$S$1:$T$266,2,FALSE))","v":""},{"$f":"IF(A93=\"W0\",$K$12,IF(QNST05_B!C102=\"\",\"\",VLOOKUP(QNST05_B!C102,$J$4:$K$12,2,FALSE)))","v":""},{"$f":"IF(OR(A93=\"W0\"),L5A!$L$21,IF(QNST05_B!D102=\"\",\"\",VLOOKUP(QNST05_B!D102,L5A!$K$18:$L$21,2,FALSE)))","v":""},{"$f":"IF(ISERROR(ROUND(QNST05_B!E102,4))=TRUE,\"\",ROUND(QNST05_B!E102,4))","v":0},{"$f":"IF(ISERROR(ROUND(QNST05_B!F102,4))=TRUE,\"\",ROUND(QNST05_B!F102,4))","v":0},{"$f":"IF(ISERROR(ROUND(QNST05_B!G102,4))=TRUE,\"\",ROUND(QNST05_B!G102,4))","v":0}]
[{"$f":"IF(QNST05_B!B103=\"\",\"\",VLOOKUP(QNST05_B!B103,L5A!$S$1:$T$266,2,FALSE))","v":""},{"$f":"IF(A94=\"W0\",$K$12,IF(QNST05_B!C103=\"\",\"\",VLOOKUP(QNST05_B!C103,$J$4:$K$12,2,FALSE)))","v":""},{"$f":"IF(OR(A94=\"W0\"),L5A!$L$21,IF(QNST05_B!D103=\"\",\"\",VLOOKUP(QNST05_B!D103,L5A!$K$18:$L$21,2,FALSE)))","v":""},{"$f":"IF(ISERROR(ROUND(QNST05_B!E103,4))=TRUE,\"\",ROUND(QNST05_B!E103,4))","v":0},{"$f":"IF(ISERROR(ROUND(QNST05_B!F103,4))=TRUE,\"\",ROUND(QNST05_B!F103,4))","v":0},{"$f":"IF(ISERROR(ROUND(QNST05_B!G103,4))=TRUE,\"\",ROUND(QNST05_B!G103,4))","v":0}]
[{"$f":"IF(QNST05_B!B104=\"\",\"\",VLOOKUP(QNST05_B!B104,L5A!$S$1:$T$266,2,FALSE))","v":""},{"$f":"IF(A95=\"W0\",$K$12,IF(QNST05_B!C104=\"\",\"\",VLOOKUP(QNST05_B!C104,$J$4:$K$12,2,FALSE)))","v":""},{"$f":"IF(OR(A95=\"W0\"),L5A!$L$21,IF(QNST05_B!D104=\"\",\"\",VLOOKUP(QNST05_B!D104,L5A!$K$18:$L$21,2,FALSE)))","v":""},{"$f":"IF(ISERROR(ROUND(QNST05_B!E104,4))=TRUE,\"\",ROUND(QNST05_B!E104,4))","v":0},{"$f":"IF(ISERROR(ROUND(QNST05_B!F104,4))=TRUE,\"\",ROUND(QNST05_B!F104,4))","v":0},{"$f":"IF(ISERROR(ROUND(QNST05_B!G104,4))=TRUE,\"\",ROUND(QNST05_B!G104,4))","v":0}]
[{"$f":"IF(QNST05_B!B105=\"\",\"\",VLOOKUP(QNST05_B!B105,L5A!$S$1:$T$266,2,FALSE))","v":""},{"$f":"IF(A96=\"W0\",$K$12,IF(QNST05_B!C105=\"\",\"\",VLOOKUP(QNST05_B!C105,$J$4:$K$12,2,FALSE)))","v":""},{"$f":"IF(OR(A96=\"W0\"),L5A!$L$21,IF(QNST05_B!D105=\"\",\"\",VLOOKUP(QNST05_B!D105,L5A!$K$18:$L$21,2,FALSE)))","v":""},{"$f":"IF(ISERROR(ROUND(QNST05_B!E105,4))=TRUE,\"\",ROUND(QNST05_B!E105,4))","v":0},{"$f":"IF(ISERROR(ROUND(QNST05_B!F105,4))=TRUE,\"\",ROUND(QNST05_B!F105,4))","v":0},{"$f":"IF(ISERROR(ROUND(QNST05_B!G105,4))=TRUE,\"\",ROUND(QNST05_B!G105,4))","v":0}]
[{"$f":"IF(QNST05_B!B106=\"\",\"\",VLOOKUP(QNST05_B!B106,L5A!$S$1:$T$266,2,FALSE))","v":""},{"$f":"IF(A97=\"W0\",$K$12,IF(QNST05_B!C106=\"\",\"\",VLOOKUP(QNST05_B!C106,$J$4:$K$12,2,FALSE)))","v":""},{"$f":"IF(OR(A97=\"W0\"),L5A!$L$21,IF(QNST05_B!D106=\"\",\"\",VLOOKUP(QNST05_B!D106,L5A!$K$18:$L$21,2,FALSE)))","v":""},{"$f":"IF(ISERROR(ROUND(QNST05_B!E106,4))=TRUE,\"\",ROUND(QNST05_B!E106,4))","v":0},{"$f":"IF(ISERROR(ROUND(QNST05_B!F106,4))=TRUE,\"\",ROUND(QNST05_B!F106,4))","v":0},{"$f":"IF(ISERROR(ROUND(QNST05_B!G106,4))=TRUE,\"\",ROUND(QNST05_B!G106,4))","v":0}]
[{"$f":"IF(QNST05_B!B107=\"\",\"\",VLOOKUP(QNST05_B!B107,L5A!$S$1:$T$266,2,FALSE))","v":""},{"$f":"IF(A98=\"W0\",$K$12,IF(QNST05_B!C107=\"\",\"\",VLOOKUP(QNST05_B!C107,$J$4:$K$12,2,FALSE)))","v":""},{"$f":"IF(OR(A98=\"W0\"),L5A!$L$21,IF(QNST05_B!D107=\"\",\"\",VLOOKUP(QNST05_B!D107,L5A!$K$18:$L$21,2,FALSE)))","v":""},{"$f":"IF(ISERROR(ROUND(QNST05_B!E107,4))=TRUE,\"\",ROUND(QNST05_B!E107,4))","v":0},{"$f":"IF(ISERROR(ROUND(QNST05_B!F107,4))=TRUE,\"\",ROUND(QNST05_B!F107,4))","v":0},{"$f":"IF(ISERROR(ROUND(QNST05_B!G107,4))=TRUE,\"\",ROUND(QNST05_B!G107,4))","v":0}]
[{"$f":"IF(QNST05_B!B108=\"\",\"\",VLOOKUP(QNST05_B!B108,L5A!$S$1:$T$266,2,FALSE))","v":""},{"$f":"IF(A99=\"W0\",$K$12,IF(QNST05_B!C108=\"\",\"\",VLOOKUP(QNST05_B!C108,$J$4:$K$12,2,FALSE)))","v":""},{"$f":"IF(OR(A99=\"W0\"),L5A!$L$21,IF(QNST05_B!D108=\"\",\"\",VLOOKUP(QNST05_B!D108,L5A!$K$18:$L$21,2,FALSE)))","v":""},{"$f":"IF(ISERROR(ROUND(QNST05_B!E108,4))=TRUE,\"\",ROUND(QNST05_B!E108,4))","v":0},{"$f":"IF(ISERROR(ROUND(QNST05_B!F108,4))=TRUE,\"\",ROUND(QNST05_B!F108,4))","v":0},{"$f":"IF(ISERROR(ROUND(QNST05_B!G108,4))=TRUE,\"\",ROUND(QNST05_B!G108,4))","v":0}]
[{"$f":"IF(QNST05_B!B109=\"\",\"\",VLOOKUP(QNST05_B!B109,L5A!$S$1:$T$266,2,FALSE))","v":""},{"$f":"IF(A100=\"W0\",$K$12,IF(QNST05_B!C109=\"\",\"\",VLOOKUP(QNST05_B!C109,$J$4:$K$12,2,FALSE)))","v":""},{"$f":"IF(OR(A100=\"W0\"),L5A!$L$21,IF(QNST05_B!D109=\"\",\"\",VLOOKUP(QNST05_B!D109,L5A!$K$18:$L$21,2,FALSE)))","v":""},{"$f":"IF(ISERROR(ROUND(QNST05_B!E109,4))=TRUE,\"\",ROUND(QNST05_B!E109,4))","v":0},{"$f":"IF(ISERROR(ROUND(QNST05_B!F109,4))=TRUE,\"\",ROUND(QNST05_B!F109,4))","v":0},{"$f":"IF(ISERROR(ROUND(QNST05_B!G109,4))=TRUE,\"\",ROUND(QNST05_B!G109,4))","v":0}]
[{"$f":"IF(QNST05_B!B110=\"\",\"\",VLOOKUP(QNST05_B!B110,L5A!$S$1:$T$266,2,FALSE))","v":""},{"$f":"IF(A101=\"W0\",$K$12,IF(QNST05_B!C110=\"\",\"\",VLOOKUP(QNST05_B!C110,$J$4:$K$12,2,FALSE)))","v":""},{"$f":"IF(OR(A101=\"W0\"),L5A!$L$21,IF(QNST05_B!D110=\"\",\"\",VLOOKUP(QNST05_B!D110,L5A!$K$18:$L$21,2,FALSE)))","v":""},{"$f":"IF(ISERROR(ROUND(QNST05_B!E110,4))=TRUE,\"\",ROUND(QNST05_B!E110,4))","v":0},{"$f":"IF(ISERROR(ROUND(QNST05_B!F110,4))=TRUE,\"\",ROUND(QNST05_B!F110,4))","v":0},{"$f":"IF(ISERROR(ROUND(QNST05_B!G110,4))=TRUE,\"\",ROUND(QNST05_B!G110,4))","v":0}]
[{"$f":"IF(QNST05_B!B111=\"\",\"\",VLOOKUP(QNST05_B!B111,L5A!$S$1:$T$266,2,FALSE))","v":""},{"$f":"IF(A102=\"W0\",$K$12,IF(QNST05_B!C111=\"\",\"\",VLOOKUP(QNST05_B!C111,$J$4:$K$12,2,FALSE)))","v":""},{"$f":"IF(OR(A102=\"W0\"),L5A!$L$21,IF(QNST05_B!D111=\"\",\"\",VLOOKUP(QNST05_B!D111,L5A!$K$18:$L$21,2,FALSE)))","v":""},{"$f":"IF(ISERROR(ROUND(QNST05_B!E111,4))=TRUE,\"\",ROUND(QNST05_B!E111,4))","v":0},{"$f":"IF(ISERROR(ROUND(QNST05_B!F111,4))=TRUE,\"\",ROUND(QNST05_B!F111,4))","v":0},{"$f":"IF(ISERROR(ROUND(QNST05_B!G111,4))=TRUE,\"\",ROUND(QNST05_B!G111,4))","v":0}]
[{"$f":"IF(QNST05_B!B112=\"\",\"\",VLOOKUP(QNST05_B!B112,L5A!$S$1:$T$266,2,FALSE))","v":""},{"$f":"IF(A103=\"W0\",$K$12,IF(QNST05_B!C112=\"\",\"\",VLOOKUP(QNST05_B!C112,$J$4:$K$12,2,FALSE)))","v":""},{"$f":"IF(OR(A103=\"W0\"),L5A!$L$21,IF(QNST05_B!D112=\"\",\"\",VLOOKUP(QNST05_B!D112,L5A!$K$18:$L$21,2,FALSE)))","v":""},{"$f":"IF(ISERROR(ROUND(QNST05_B!E112,4))=TRUE,\"\",ROUND(QNST05_B!E112,4))","v":0},{"$f":"IF(ISERROR(ROUND(QNST05_B!F112,4))=TRUE,\"\",ROUND(QNST05_B!F112,4))","v":0},{"$f":"IF(ISERROR(ROUND(QNST05_B!G112,4))=TRUE,\"\",ROUND(QNST05_B!G112,4))","v":0}]
[{"$f":"IF(QNST05_B!B113=\"\",\"\",VLOOKUP(QNST05_B!B113,L5A!$S$1:$T$266,2,FALSE))","v":""},{"$f":"IF(A104=\"W0\",$K$12,IF(QNST05_B!C113=\"\",\"\",VLOOKUP(QNST05_B!C113,$J$4:$K$12,2,FALSE)))","v":""},{"$f":"IF(OR(A104=\"W0\"),L5A!$L$21,IF(QNST05_B!D113=\"\",\"\",VLOOKUP(QNST05_B!D113,L5A!$K$18:$L$21,2,FALSE)))","v":""},{"$f":"IF(ISERROR(ROUND(QNST05_B!E113,4))=TRUE,\"\",ROUND(QNST05_B!E113,4))","v":0},{"$f":"IF(ISERROR(ROUND(QNST05_B!F113,4))=TRUE,\"\",ROUND(QNST05_B!F113,4))","v":0},{"$f":"IF(ISERROR(ROUND(QNST05_B!G113,4))=TRUE,\"\",ROUND(QNST05_B!G113,4))","v":0}]
[{"$f":"IF(QNST05_B!B114=\"\",\"\",VLOOKUP(QNST05_B!B114,L5A!$S$1:$T$266,2,FALSE))","v":""},{"$f":"IF(A105=\"W0\",$K$12,IF(QNST05_B!C114=\"\",\"\",VLOOKUP(QNST05_B!C114,$J$4:$K$12,2,FALSE)))","v":""},{"$f":"IF(OR(A105=\"W0\"),L5A!$L$21,IF(QNST05_B!D114=\"\",\"\",VLOOKUP(QNST05_B!D114,L5A!$K$18:$L$21,2,FALSE)))","v":""},{"$f":"IF(ISERROR(ROUND(QNST05_B!E114,4))=TRUE,\"\",ROUND(QNST05_B!E114,4))","v":0},{"$f":"IF(ISERROR(ROUND(QNST05_B!F114,4))=TRUE,\"\",ROUND(QNST05_B!F114,4))","v":0},{"$f":"IF(ISERROR(ROUND(QNST05_B!G114,4))=TRUE,\"\",ROUND(QNST05_B!G114,4))","v":0}]
[{"$f":"IF(QNST05_B!B115=\"\",\"\",VLOOKUP(QNST05_B!B115,L5A!$S$1:$T$266,2,FALSE))","v":""},{"$f":"IF(A106=\"W0\",$K$12,IF(QNST05_B!C115=\"\",\"\",VLOOKUP(QNST05_B!C115,$J$4:$K$12,2,FALSE)))","v":""},{"$f":"IF(OR(A106=\"W0\"),L5A!$L$21,IF(QNST05_B!D115=\"\",\"\",VLOOKUP(QNST05_B!D115,L5A!$K$18:$L$21,2,FALSE)))","v":""},{"$f":"IF(ISERROR(ROUND(QNST05_B!E115,4))=TRUE,\"\",ROUND(QNST05_B!E115,4))","v":0},{"$f":"IF(ISERROR(ROUND(QNST05_B!F115,4))=TRUE,\"\",ROUND(QNST05_B!F115,4))","v":0},{"$f":"IF(ISERROR(ROUND(QNST05_B!G115,4))=TRUE,\"\",ROUND(QNST05_B!G115,4))","v":0}]
[{"$f":"IF(QNST05_B!B116=\"\",\"\",VLOOKUP(QNST05_B!B116,L5A!$S$1:$T$266,2,FALSE))","v":""},{"$f":"IF(A107=\"W0\",$K$12,IF(QNST05_B!C116=\"\",\"\",VLOOKUP(QNST05_B!C116,$J$4:$K$12,2,FALSE)))","v":""},{"$f":"IF(OR(A107=\"W0\"),L5A!$L$21,IF(QNST05_B!D116=\"\",\"\",VLOOKUP(QNST05_B!D116,L5A!$K$18:$L$21,2,FALSE)))","v":""},{"$f":"IF(ISERROR(ROUND(QNST05_B!E116,4))=TRUE,\"\",ROUND(QNST05_B!E116,4))","v":0},{"$f":"IF(ISERROR(ROUND(QNST05_B!F116,4))=TRUE,\"\",ROUND(QNST05_B!F116,4))","v":0},{"$f":"IF(ISERROR(ROUND(QNST05_B!G116,4))=TRUE,\"\",ROUND(QNST05_B!G116,4))","v":0}]
[{"$f":"IF(QNST05_B!B117=\"\",\"\",VLOOKUP(QNST05_B!B117,L5A!$S$1:$T$266,2,FALSE))","v":""},{"$f":"IF(A108=\"W0\",$K$12,IF(QNST05_B!C117=\"\",\"\",VLOOKUP(QNST05_B!C117,$J$4:$K$12,2,FALSE)))","v":""},{"$f":"IF(OR(A108=\"W0\"),L5A!$L$21,IF(QNST05_B!D117=\"\",\"\",VLOOKUP(QNST05_B!D117,L5A!$K$18:$L$21,2,FALSE)))","v":""},{"$f":"IF(ISERROR(ROUND(QNST05_B!E117,4))=TRUE,\"\",ROUND(QNST05_B!E117,4))","v":0},{"$f":"IF(ISERROR(ROUND(QNST05_B!F117,4))=TRUE,\"\",ROUND(QNST05_B!F117,4))","v":0},{"$f":"IF(ISERROR(ROUND(QNST05_B!G117,4))=TRUE,\"\",ROUND(QNST05_B!G117,4))","v":0}]
[{"$f":"IF(QNST05_B!B118=\"\",\"\",VLOOKUP(QNST05_B!B118,L5A!$S$1:$T$266,2,FALSE))","v":""},{"$f":"IF(A109=\"W0\",$K$12,IF(QNST05_B!C118=\"\",\"\",VLOOKUP(QNST05_B!C118,$J$4:$K$12,2,FALSE)))","v":""},{"$f":"IF(OR(A109=\"W0\"),L5A!$L$21,IF(QNST05_B!D118=\"\",\"\",VLOOKUP(QNST05_B!D118,L5A!$K$18:$L$21,2,FALSE)))","v":""},{"$f":"IF(ISERROR(ROUND(QNST05_B!E118,4))=TRUE,\"\",ROUND(QNST05_B!E118,4))","v":0},{"$f":"IF(ISERROR(ROUND(QNST05_B!F118,4))=TRUE,\"\",ROUND(QNST05_B!F118,4))","v":0},{"$f":"IF(ISERROR(ROUND(QNST05_B!G118,4))=TRUE,\"\",ROUND(QNST05_B!G118,4))","v":0}]
[{"$f":"IF(QNST05_B!B119=\"\",\"\",VLOOKUP(QNST05_B!B119,L5A!$S$1:$T$266,2,FALSE))","v":""},{"$f":"IF(A110=\"W0\",$K$12,IF(QNST05_B!C119=\"\",\"\",VLOOKUP(QNST05_B!C119,$J$4:$K$12,2,FALSE)))","v":""},{"$f":"IF(OR(A110=\"W0\"),L5A!$L$21,IF(QNST05_B!D119=\"\",\"\",VLOOKUP(QNST05_B!D119,L5A!$K$18:$L$21,2,FALSE)))","v":""},{"$f":"IF(ISERROR(ROUND(QNST05_B!E119,4))=TRUE,\"\",ROUND(QNST05_B!E119,4))","v":0},{"$f":"IF(ISERROR(ROUND(QNST05_B!F119,4))=TRUE,\"\",ROUND(QNST05_B!F119,4))","v":0},{"$f":"IF(ISERROR(ROUND(QNST05_B!G119,4))=TRUE,\"\",ROUND(QNST05_B!G119,4))","v":0}]
[{"$f":"IF(QNST05_B!B120=\"\",\"\",VLOOKUP(QNST05_B!B120,L5A!$S$1:$T$266,2,FALSE))","v":""},{"$f":"IF(A111=\"W0\",$K$12,IF(QNST05_B!C120=\"\",\"\",VLOOKUP(QNST05_B!C120,$J$4:$K$12,2,FALSE)))","v":""},{"$f":"IF(OR(A111=\"W0\"),L5A!$L$21,IF(QNST05_B!D120=\"\",\"\",VLOOKUP(QNST05_B!D120,L5A!$K$18:$L$21,2,FALSE)))","v":""},{"$f":"IF(ISERROR(ROUND(QNST05_B!E120,4))=TRUE,\"\",ROUND(QNST05_B!E120,4))","v":0},{"$f":"IF(ISERROR(ROUND(QNST05_B!F120,4))=TRUE,\"\",ROUND(QNST05_B!F120,4))","v":0},{"$f":"IF(ISERROR(ROUND(QNST05_B!G120,4))=TRUE,\"\",ROUND(QNST05_B!G120,4))","v":0}]
[{"$f":"IF(QNST05_B!B121=\"\",\"\",VLOOKUP(QNST05_B!B121,L5A!$S$1:$T$266,2,FALSE))","v":""},{"$f":"IF(A112=\"W0\",$K$12,IF(QNST05_B!C121=\"\",\"\",VLOOKUP(QNST05_B!C121,$J$4:$K$12,2,FALSE)))","v":""},{"$f":"IF(OR(A112=\"W0\"),L5A!$L$21,IF(QNST05_B!D121=\"\",\"\",VLOOKUP(QNST05_B!D121,L5A!$K$18:$L$21,2,FALSE)))","v":""},{"$f":"IF(ISERROR(ROUND(QNST05_B!E121,4))=TRUE,\"\",ROUND(QNST05_B!E121,4))","v":0},{"$f":"IF(ISERROR(ROUND(QNST05_B!F121,4))=TRUE,\"\",ROUND(QNST05_B!F121,4))","v":0},{"$f":"IF(ISERROR(ROUND(QNST05_B!G121,4))=TRUE,\"\",ROUND(QNST05_B!G121,4))","v":0}]
[{"$f":"IF(QNST05_B!B122=\"\",\"\",VLOOKUP(QNST05_B!B122,L5A!$S$1:$T$266,2,FALSE))","v":""},{"$f":"IF(A113=\"W0\",$K$12,IF(QNST05_B!C122=\"\",\"\",VLOOKUP(QNST05_B!C122,$J$4:$K$12,2,FALSE)))","v":""},{"$f":"IF(OR(A113=\"W0\"),L5A!$L$21,IF(QNST05_B!D122=\"\",\"\",VLOOKUP(QNST05_B!D122,L5A!$K$18:$L$21,2,FALSE)))","v":""},{"$f":"IF(ISERROR(ROUND(QNST05_B!E122,4))=TRUE,\"\",ROUND(QNST05_B!E122,4))","v":0},{"$f":"IF(ISERROR(ROUND(QNST05_B!F122,4))=TRUE,\"\",ROUND(QNST05_B!F122,4))","v":0},{"$f":"IF(ISERROR(ROUND(QNST05_B!G122,4))=TRUE,\"\",ROUND(QNST05_B!G122,4))","v":0}]
[{"$f":"IF(QNST05_B!B123=\"\",\"\",VLOOKUP(QNST05_B!B123,L5A!$S$1:$T$266,2,FALSE))","v":""},{"$f":"IF(A114=\"W0\",$K$12,IF(QNST05_B!C123=\"\",\"\",VLOOKUP(QNST05_B!C123,$J$4:$K$12,2,FALSE)))","v":""},{"$f":"IF(OR(A114=\"W0\"),L5A!$L$21,IF(QNST05_B!D123=\"\",\"\",VLOOKUP(QNST05_B!D123,L5A!$K$18:$L$21,2,FALSE)))","v":""},{"$f":"IF(ISERROR(ROUND(QNST05_B!E123,4))=TRUE,\"\",ROUND(QNST05_B!E123,4))","v":0},{"$f":"IF(ISERROR(ROUND(QNST05_B!F123,4))=TRUE,\"\",ROUND(QNST05_B!F123,4))","v":0},{"$f":"IF(ISERROR(ROUND(QNST05_B!G123,4))=TRUE,\"\",ROUND(QNST05_B!G123,4))","v":0}]
[{"$f":"IF(QNST05_B!B124=\"\",\"\",VLOOKUP(QNST05_B!B124,L5A!$S$1:$T$266,2,FALSE))","v":""},{"$f":"IF(A115=\"W0\",$K$12,IF(QNST05_B!C124=\"\",\"\",VLOOKUP(QNST05_B!C124,$J$4:$K$12,2,FALSE)))","v":""},{"$f":"IF(OR(A115=\"W0\"),L5A!$L$21,IF(QNST05_B!D124=\"\",\"\",VLOOKUP(QNST05_B!D124,L5A!$K$18:$L$21,2,FALSE)))","v":""},{"$f":"IF(ISERROR(ROUND(QNST05_B!E124,4))=TRUE,\"\",ROUND(QNST05_B!E124,4))","v":0},{"$f":"IF(ISERROR(ROUND(QNST05_B!F124,4))=TRUE,\"\",ROUND(QNST05_B!F124,4))","v":0},{"$f":"IF(ISERROR(ROUND(QNST05_B!G124,4))=TRUE,\"\",ROUND(QNST05_B!G124,4))","v":0}]
[{"$f":"IF(QNST05_B!B125=\"\",\"\",VLOOKUP(QNST05_B!B125,L5A!$S$1:$T$266,2,FALSE))","v":""},{"$f":"IF(A116=\"W0\",$K$12,IF(QNST05_B!C125=\"\",\"\",VLOOKUP(QNST05_B!C125,$J$4:$K$12,2,FALSE)))","v":""},{"$f":"IF(OR(A116=\"W0\"),L5A!$L$21,IF(QNST05_B!D125=\"\",\"\",VLOOKUP(QNST05_B!D125,L5A!$K$18:$L$21,2,FALSE)))","v":""},{"$f":"IF(ISERROR(ROUND(QNST05_B!E125,4))=TRUE,\"\",ROUND(QNST05_B!E125,4))","v":0},{"$f":"IF(ISERROR(ROUND(QNST05_B!F125,4))=TRUE,\"\",ROUND(QNST05_B!F125,4))","v":0},{"$f":"IF(ISERROR(ROUND(QNST05_B!G125,4))=TRUE,\"\",ROUND(QNST05_B!G125,4))","v":0}]
[{"$f":"IF(QNST05_B!B126=\"\",\"\",VLOOKUP(QNST05_B!B126,L5A!$S$1:$T$266,2,FALSE))","v":""},{"$f":"IF(A117=\"W0\",$K$12,IF(QNST05_B!C126=\"\",\"\",VLOOKUP(QNST05_B!C126,$J$4:$K$12,2,FALSE)))","v":""},{"$f":"IF(OR(A117=\"W0\"),L5A!$L$21,IF(QNST05_B!D126=\"\",\"\",VLOOKUP(QNST05_B!D126,L5A!$K$18:$L$21,2,FALSE)))","v":""},{"$f":"IF(ISERROR(ROUND(QNST05_B!E126,4))=TRUE,\"\",ROUND(QNST05_B!E126,4))","v":0},{"$f":"IF(ISERROR(ROUND(QNST05_B!F126,4))=TRUE,\"\",ROUND(QNST05_B!F126,4))","v":0},{"$f":"IF(ISERROR(ROUND(QNST05_B!G126,4))=TRUE,\"\",ROUND(QNST05_B!G126,4))","v":0}]
[{"$f":"IF(QNST05_B!B127=\"\",\"\",VLOOKUP(QNST05_B!B127,L5A!$S$1:$T$266,2,FALSE))","v":""},{"$f":"IF(A118=\"W0\",$K$12,IF(QNST05_B!C127=\"\",\"\",VLOOKUP(QNST05_B!C127,$J$4:$K$12,2,FALSE)))","v":""},{"$f":"IF(OR(A118=\"W0\"),L5A!$L$21,IF(QNST05_B!D127=\"\",\"\",VLOOKUP(QNST05_B!D127,L5A!$K$18:$L$21,2,FALSE)))","v":""},{"$f":"IF(ISERROR(ROUND(QNST05_B!E127,4))=TRUE,\"\",ROUND(QNST05_B!E127,4))","v":0},{"$f":"IF(ISERROR(ROUND(QNST05_B!F127,4))=TRUE,\"\",ROUND(QNST05_B!F127,4))","v":0},{"$f":"IF(ISERROR(ROUND(QNST05_B!G127,4))=TRUE,\"\",ROUND(QNST05_B!G127,4))","v":0}]
[{"$f":"IF(QNST05_B!B128=\"\",\"\",VLOOKUP(QNST05_B!B128,L5A!$S$1:$T$266,2,FALSE))","v":""},{"$f":"IF(A119=\"W0\",$K$12,IF(QNST05_B!C128=\"\",\"\",VLOOKUP(QNST05_B!C128,$J$4:$K$12,2,FALSE)))","v":""},{"$f":"IF(OR(A119=\"W0\"),L5A!$L$21,IF(QNST05_B!D128=\"\",\"\",VLOOKUP(QNST05_B!D128,L5A!$K$18:$L$21,2,FALSE)))","v":""},{"$f":"IF(ISERROR(ROUND(QNST05_B!E128,4))=TRUE,\"\",ROUND(QNST05_B!E128,4))","v":0},{"$f":"IF(ISERROR(ROUND(QNST05_B!F128,4))=TRUE,\"\",ROUND(QNST05_B!F128,4))","v":0},{"$f":"IF(ISERROR(ROUND(QNST05_B!G128,4))=TRUE,\"\",ROUND(QNST05_B!G128,4))","v":0}]
[{"$f":"IF(QNST05_B!B129=\"\",\"\",VLOOKUP(QNST05_B!B129,L5A!$S$1:$T$266,2,FALSE))","v":""},{"$f":"IF(A120=\"W0\",$K$12,IF(QNST05_B!C129=\"\",\"\",VLOOKUP(QNST05_B!C129,$J$4:$K$12,2,FALSE)))","v":""},{"$f":"IF(OR(A120=\"W0\"),L5A!$L$21,IF(QNST05_B!D129=\"\",\"\",VLOOKUP(QNST05_B!D129,L5A!$K$18:$L$21,2,FALSE)))","v":""},{"$f":"IF(ISERROR(ROUND(QNST05_B!E129,4))=TRUE,\"\",ROUND(QNST05_B!E129,4))","v":0},{"$f":"IF(ISERROR(ROUND(QNST05_B!F129,4))=TRUE,\"\",ROUND(QNST05_B!F129,4))","v":0},{"$f":"IF(ISERROR(ROUND(QNST05_B!G129,4))=TRUE,\"\",ROUND(QNST05_B!G129,4))","v":0}]
[{"$f":"IF(QNST05_B!B130=\"\",\"\",VLOOKUP(QNST05_B!B130,L5A!$S$1:$T$266,2,FALSE))","v":""},{"$f":"IF(A121=\"W0\",$K$12,IF(QNST05_B!C130=\"\",\"\",VLOOKUP(QNST05_B!C130,$J$4:$K$12,2,FALSE)))","v":""},{"$f":"IF(OR(A121=\"W0\"),L5A!$L$21,IF(QNST05_B!D130=\"\",\"\",VLOOKUP(QNST05_B!D130,L5A!$K$18:$L$21,2,FALSE)))","v":""},{"$f":"IF(ISERROR(ROUND(QNST05_B!E130,4))=TRUE,\"\",ROUND(QNST05_B!E130,4))","v":0},{"$f":"IF(ISERROR(ROUND(QNST05_B!F130,4))=TRUE,\"\",ROUND(QNST05_B!F130,4))","v":0},{"$f":"IF(ISERROR(ROUND(QNST05_B!G130,4))=TRUE,\"\",ROUND(QNST05_B!G130,4))","v":0}]
[{"$f":"IF(QNST05_B!B131=\"\",\"\",VLOOKUP(QNST05_B!B131,L5A!$S$1:$T$266,2,FALSE))","v":""},{"$f":"IF(A122=\"W0\",$K$12,IF(QNST05_B!C131=\"\",\"\",VLOOKUP(QNST05_B!C131,$J$4:$K$12,2,FALSE)))","v":""},{"$f":"IF(OR(A122=\"W0\"),L5A!$L$21,IF(QNST05_B!D131=\"\",\"\",VLOOKUP(QNST05_B!D131,L5A!$K$18:$L$21,2,FALSE)))","v":""},{"$f":"IF(ISERROR(ROUND(QNST05_B!E131,4))=TRUE,\"\",ROUND(QNST05_B!E131,4))","v":0},{"$f":"IF(ISERROR(ROUND(QNST05_B!F131,4))=TRUE,\"\",ROUND(QNST05_B!F131,4))","v":0},{"$f":"IF(ISERROR(ROUND(QNST05_B!G131,4))=TRUE,\"\",ROUND(QNST05_B!G131,4))","v":0}]
[{"$f":"IF(QNST05_B!B132=\"\",\"\",VLOOKUP(QNST05_B!B132,L5A!$S$1:$T$266,2,FALSE))","v":""},{"$f":"IF(A123=\"W0\",$K$12,IF(QNST05_B!C132=\"\",\"\",VLOOKUP(QNST05_B!C132,$J$4:$K$12,2,FALSE)))","v":""},{"$f":"IF(OR(A123=\"W0\"),L5A!$L$21,IF(QNST05_B!D132=\"\",\"\",VLOOKUP(QNST05_B!D132,L5A!$K$18:$L$21,2,FALSE)))","v":""},{"$f":"IF(ISERROR(ROUND(QNST05_B!E132,4))=TRUE,\"\",ROUND(QNST05_B!E132,4))","v":0},{"$f":"IF(ISERROR(ROUND(QNST05_B!F132,4))=TRUE,\"\",ROUND(QNST05_B!F132,4))","v":0},{"$f":"IF(ISERROR(ROUND(QNST05_B!G132,4))=TRUE,\"\",ROUND(QNST05_B!G132,4))","v":0}]
[{"$f":"IF(QNST05_B!B133=\"\",\"\",VLOOKUP(QNST05_B!B133,L5A!$S$1:$T$266,2,FALSE))","v":""},{"$f":"IF(A124=\"W0\",$K$12,IF(QNST05_B!C133=\"\",\"\",VLOOKUP(QNST05_B!C133,$J$4:$K$12,2,FALSE)))","v":""},{"$f":"IF(OR(A124=\"W0\"),L5A!$L$21,IF(QNST05_B!D133=\"\",\"\",VLOOKUP(QNST05_B!D133,L5A!$K$18:$L$21,2,FALSE)))","v":""},{"$f":"IF(ISERROR(ROUND(QNST05_B!E133,4))=TRUE,\"\",ROUND(QNST05_B!E133,4))","v":0},{"$f":"IF(ISERROR(ROUND(QNST05_B!F133,4))=TRUE,\"\",ROUND(QNST05_B!F133,4))","v":0},{"$f":"IF(ISERROR(ROUND(QNST05_B!G133,4))=TRUE,\"\",ROUND(QNST05_B!G133,4))","v":0}]
[{"$f":"IF(QNST05_B!B134=\"\",\"\",VLOOKUP(QNST05_B!B134,L5A!$S$1:$T$266,2,FALSE))","v":""},{"$f":"IF(A125=\"W0\",$K$12,IF(QNST05_B!C134=\"\",\"\",VLOOKUP(QNST05_B!C134,$J$4:$K$12,2,FALSE)))","v":""},{"$f":"IF(OR(A125=\"W0\"),L5A!$L$21,IF(QNST05_B!D134=\"\",\"\",VLOOKUP(QNST05_B!D134,L5A!$K$18:$L$21,2,FALSE)))","v":""},{"$f":"IF(ISERROR(ROUND(QNST05_B!E134,4))=TRUE,\"\",ROUND(QNST05_B!E134,4))","v":0},{"$f":"IF(ISERROR(ROUND(QNST05_B!F134,4))=TRUE,\"\",ROUND(QNST05_B!F134,4))","v":0},{"$f":"IF(ISERROR(ROUND(QNST05_B!G134,4))=TRUE,\"\",ROUND(QNST05_B!G134,4))","v":0}]
[{"$f":"IF(QNST05_B!B135=\"\",\"\",VLOOKUP(QNST05_B!B135,L5A!$S$1:$T$266,2,FALSE))","v":""},{"$f":"IF(A126=\"W0\",$K$12,IF(QNST05_B!C135=\"\",\"\",VLOOKUP(QNST05_B!C135,$J$4:$K$12,2,FALSE)))","v":""},{"$f":"IF(OR(A126=\"W0\"),L5A!$L$21,IF(QNST05_B!D135=\"\",\"\",VLOOKUP(QNST05_B!D135,L5A!$K$18:$L$21,2,FALSE)))","v":""},{"$f":"IF(ISERROR(ROUND(QNST05_B!E135,4))=TRUE,\"\",ROUND(QNST05_B!E135,4))","v":0},{"$f":"IF(ISERROR(ROUND(QNST05_B!F135,4))=TRUE,\"\",ROUND(QNST05_B!F135,4))","v":0},{"$f":"IF(ISERROR(ROUND(QNST05_B!G135,4))=TRUE,\"\",ROUND(QNST05_B!G135,4))","v":0}]
[{"$f":"IF(QNST05_B!B136=\"\",\"\",VLOOKUP(QNST05_B!B136,L5A!$S$1:$T$266,2,FALSE))","v":""},{"$f":"IF(A127=\"W0\",$K$12,IF(QNST05_B!C136=\"\",\"\",VLOOKUP(QNST05_B!C136,$J$4:$K$12,2,FALSE)))","v":""},{"$f":"IF(OR(A127=\"W0\"),L5A!$L$21,IF(QNST05_B!D136=\"\",\"\",VLOOKUP(QNST05_B!D136,L5A!$K$18:$L$21,2,FALSE)))","v":""},{"$f":"IF(ISERROR(ROUND(QNST05_B!E136,4))=TRUE,\"\",ROUND(QNST05_B!E136,4))","v":0},{"$f":"IF(ISERROR(ROUND(QNST05_B!F136,4))=TRUE,\"\",ROUND(QNST05_B!F136,4))","v":0},{"$f":"IF(ISERROR(ROUND(QNST05_B!G136,4))=TRUE,\"\",ROUND(QNST05_B!G136,4))","v":0}]
[{"$f":"IF(QNST05_B!B137=\"\",\"\",VLOOKUP(QNST05_B!B137,L5A!$S$1:$T$266,2,FALSE))","v":""},{"$f":"IF(A128=\"W0\",$K$12,IF(QNST05_B!C137=\"\",\"\",VLOOKUP(QNST05_B!C137,$J$4:$K$12,2,FALSE)))","v":""},{"$f":"IF(OR(A128=\"W0\"),L5A!$L$21,IF(QNST05_B!D137=\"\",\"\",VLOOKUP(QNST05_B!D137,L5A!$K$18:$L$21,2,FALSE)))","v":""},{"$f":"IF(ISERROR(ROUND(QNST05_B!E137,4))=TRUE,\"\",ROUND(QNST05_B!E137,4))","v":0},{"$f":"IF(ISERROR(ROUND(QNST05_B!F137,4))=TRUE,\"\",ROUND(QNST05_B!F137,4))","v":0},{"$f":"IF(ISERROR(ROUND(QNST05_B!G137,4))=TRUE,\"\",ROUND(QNST05_B!G137,4))","v":0}]
[{"$f":"IF(QNST05_B!B138=\"\",\"\",VLOOKUP(QNST05_B!B138,L5A!$S$1:$T$266,2,FALSE))","v":""},{"$f":"IF(A129=\"W0\",$K$12,IF(QNST05_B!C138=\"\",\"\",VLOOKUP(QNST05_B!C138,$J$4:$K$12,2,FALSE)))","v":""},{"$f":"IF(OR(A129=\"W0\"),L5A!$L$21,IF(QNST05_B!D138=\"\",\"\",VLOOKUP(QNST05_B!D138,L5A!$K$18:$L$21,2,FALSE)))","v":""},{"$f":"IF(ISERROR(ROUND(QNST05_B!E138,4))=TRUE,\"\",ROUND(QNST05_B!E138,4))","v":0},{"$f":"IF(ISERROR(ROUND(QNST05_B!F138,4))=TRUE,\"\",ROUND(QNST05_B!F138,4))","v":0},{"$f":"IF(ISERROR(ROUND(QNST05_B!G138,4))=TRUE,\"\",ROUND(QNST05_B!G138,4))","v":0}]
[{"$f":"IF(QNST05_B!B139=\"\",\"\",VLOOKUP(QNST05_B!B139,L5A!$S$1:$T$266,2,FALSE))","v":""},{"$f":"IF(A130=\"W0\",$K$12,IF(QNST05_B!C139=\"\",\"\",VLOOKUP(QNST05_B!C139,$J$4:$K$12,2,FALSE)))","v":""},{"$f":"IF(OR(A130=\"W0\"),L5A!$L$21,IF(QNST05_B!D139=\"\",\"\",VLOOKUP(QNST05_B!D139,L5A!$K$18:$L$21,2,FALSE)))","v":""},{"$f":"IF(ISERROR(ROUND(QNST05_B!E139,4))=TRUE,\"\",ROUND(QNST05_B!E139,4))","v":0},{"$f":"IF(ISERROR(ROUND(QNST05_B!F139,4))=TRUE,\"\",ROUND(QNST05_B!F139,4))","v":0},{"$f":"IF(ISERROR(ROUND(QNST05_B!G139,4))=TRUE,\"\",ROUND(QNST05_B!G139,4))","v":0}]
[{"$f":"IF(QNST05_B!B140=\"\",\"\",VLOOKUP(QNST05_B!B140,L5A!$S$1:$T$266,2,FALSE))","v":""},{"$f":"IF(A131=\"W0\",$K$12,IF(QNST05_B!C140=\"\",\"\",VLOOKUP(QNST05_B!C140,$J$4:$K$12,2,FALSE)))","v":""},{"$f":"IF(OR(A131=\"W0\"),L5A!$L$21,IF(QNST05_B!D140=\"\",\"\",VLOOKUP(QNST05_B!D140,L5A!$K$18:$L$21,2,FALSE)))","v":""},{"$f":"IF(ISERROR(ROUND(QNST05_B!E140,4))=TRUE,\"\",ROUND(QNST05_B!E140,4))","v":0},{"$f":"IF(ISERROR(ROUND(QNST05_B!F140,4))=TRUE,\"\",ROUND(QNST05_B!F140,4))","v":0},{"$f":"IF(ISERROR(ROUND(QNST05_B!G140,4))=TRUE,\"\",ROUND(QNST05_B!G140,4))","v":0}]
[{"$f":"IF(QNST05_B!B141=\"\",\"\",VLOOKUP(QNST05_B!B141,L5A!$S$1:$T$266,2,FALSE))","v":""},{"$f":"IF(A132=\"W0\",$K$12,IF(QNST05_B!C141=\"\",\"\",VLOOKUP(QNST05_B!C141,$J$4:$K$12,2,FALSE)))","v":""},{"$f":"IF(OR(A132=\"W0\"),L5A!$L$21,IF(QNST05_B!D141=\"\",\"\",VLOOKUP(QNST05_B!D141,L5A!$K$18:$L$21,2,FALSE)))","v":""},{"$f":"IF(ISERROR(ROUND(QNST05_B!E141,4))=TRUE,\"\",ROUND(QNST05_B!E141,4))","v":0},{"$f":"IF(ISERROR(ROUND(QNST05_B!F141,4))=TRUE,\"\",ROUND(QNST05_B!F141,4))","v":0},{"$f":"IF(ISERROR(ROUND(QNST05_B!G141,4))=TRUE,\"\",ROUND(QNST05_B!G141,4))","v":0}]
[{"$f":"IF(QNST05_B!B142=\"\",\"\",VLOOKUP(QNST05_B!B142,L5A!$S$1:$T$266,2,FALSE))","v":""},{"$f":"IF(A133=\"W0\",$K$12,IF(QNST05_B!C142=\"\",\"\",VLOOKUP(QNST05_B!C142,$J$4:$K$12,2,FALSE)))","v":""},{"$f":"IF(OR(A133=\"W0\"),L5A!$L$21,IF(QNST05_B!D142=\"\",\"\",VLOOKUP(QNST05_B!D142,L5A!$K$18:$L$21,2,FALSE)))","v":""},{"$f":"IF(ISERROR(ROUND(QNST05_B!E142,4))=TRUE,\"\",ROUND(QNST05_B!E142,4))","v":0},{"$f":"IF(ISERROR(ROUND(QNST05_B!F142,4))=TRUE,\"\",ROUND(QNST05_B!F142,4))","v":0},{"$f":"IF(ISERROR(ROUND(QNST05_B!G142,4))=TRUE,\"\",ROUND(QNST05_B!G142,4))","v":0}]
[{"$f":"IF(QNST05_B!B143=\"\",\"\",VLOOKUP(QNST05_B!B143,L5A!$S$1:$T$266,2,FALSE))","v":""},{"$f":"IF(A134=\"W0\",$K$12,IF(QNST05_B!C143=\"\",\"\",VLOOKUP(QNST05_B!C143,$J$4:$K$12,2,FALSE)))","v":""},{"$f":"IF(OR(A134=\"W0\"),L5A!$L$21,IF(QNST05_B!D143=\"\",\"\",VLOOKUP(QNST05_B!D143,L5A!$K$18:$L$21,2,FALSE)))","v":""},{"$f":"IF(ISERROR(ROUND(QNST05_B!E143,4))=TRUE,\"\",ROUND(QNST05_B!E143,4))","v":0},{"$f":"IF(ISERROR(ROUND(QNST05_B!F143,4))=TRUE,\"\",ROUND(QNST05_B!F143,4))","v":0},{"$f":"IF(ISERROR(ROUND(QNST05_B!G143,4))=TRUE,\"\",ROUND(QNST05_B!G143,4))","v":0}]
[{"$f":"IF(QNST05_B!B144=\"\",\"\",VLOOKUP(QNST05_B!B144,L5A!$S$1:$T$266,2,FALSE))","v":""},{"$f":"IF(A135=\"W0\",$K$12,IF(QNST05_B!C144=\"\",\"\",VLOOKUP(QNST05_B!C144,$J$4:$K$12,2,FALSE)))","v":""},{"$f":"IF(OR(A135=\"W0\"),L5A!$L$21,IF(QNST05_B!D144=\"\",\"\",VLOOKUP(QNST05_B!D144,L5A!$K$18:$L$21,2,FALSE)))","v":""},{"$f":"IF(ISERROR(ROUND(QNST05_B!E144,4))=TRUE,\"\",ROUND(QNST05_B!E144,4))","v":0},{"$f":"IF(ISERROR(ROUND(QNST05_B!F144,4))=TRUE,\"\",ROUND(QNST05_B!F144,4))","v":0},{"$f":"IF(ISERROR(ROUND(QNST05_B!G144,4))=TRUE,\"\",ROUND(QNST05_B!G144,4))","v":0}]
[{"$f":"IF(QNST05_B!B145=\"\",\"\",VLOOKUP(QNST05_B!B145,L5A!$S$1:$T$266,2,FALSE))","v":""},{"$f":"IF(A136=\"W0\",$K$12,IF(QNST05_B!C145=\"\",\"\",VLOOKUP(QNST05_B!C145,$J$4:$K$12,2,FALSE)))","v":""},{"$f":"IF(OR(A136=\"W0\"),L5A!$L$21,IF(QNST05_B!D145=\"\",\"\",VLOOKUP(QNST05_B!D145,L5A!$K$18:$L$21,2,FALSE)))","v":""},{"$f":"IF(ISERROR(ROUND(QNST05_B!E145,4))=TRUE,\"\",ROUND(QNST05_B!E145,4))","v":0},{"$f":"IF(ISERROR(ROUND(QNST05_B!F145,4))=TRUE,\"\",ROUND(QNST05_B!F145,4))","v":0},{"$f":"IF(ISERROR(ROUND(QNST05_B!G145,4))=TRUE,\"\",ROUND(QNST05_B!G145,4))","v":0}]
[{"$f":"IF(QNST05_B!B146=\"\",\"\",VLOOKUP(QNST05_B!B146,L5A!$S$1:$T$266,2,FALSE))","v":""},{"$f":"IF(A137=\"W0\",$K$12,IF(QNST05_B!C146=\"\",\"\",VLOOKUP(QNST05_B!C146,$J$4:$K$12,2,FALSE)))","v":""},{"$f":"IF(OR(A137=\"W0\"),L5A!$L$21,IF(QNST05_B!D146=\"\",\"\",VLOOKUP(QNST05_B!D146,L5A!$K$18:$L$21,2,FALSE)))","v":""},{"$f":"IF(ISERROR(ROUND(QNST05_B!E146,4))=TRUE,\"\",ROUND(QNST05_B!E146,4))","v":0},{"$f":"IF(ISERROR(ROUND(QNST05_B!F146,4))=TRUE,\"\",ROUND(QNST05_B!F146,4))","v":0},{"$f":"IF(ISERROR(ROUND(QNST05_B!G146,4))=TRUE,\"\",ROUND(QNST05_B!G146,4))","v":0}]
[{"$f":"IF(QNST05_B!B147=\"\",\"\",VLOOKUP(QNST05_B!B147,L5A!$S$1:$T$266,2,FALSE))","v":""},{"$f":"IF(A138=\"W0\",$K$12,IF(QNST05_B!C147=\"\",\"\",VLOOKUP(QNST05_B!C147,$J$4:$K$12,2,FALSE)))","v":""},{"$f":"IF(OR(A138=\"W0\"),L5A!$L$21,IF(QNST05_B!D147=\"\",\"\",VLOOKUP(QNST05_B!D147,L5A!$K$18:$L$21,2,FALSE)))","v":""},{"$f":"IF(ISERROR(ROUND(QNST05_B!E147,4))=TRUE,\"\",ROUND(QNST05_B!E147,4))","v":0},{"$f":"IF(ISERROR(ROUND(QNST05_B!F147,4))=TRUE,\"\",ROUND(QNST05_B!F147,4))","v":0},{"$f":"IF(ISERROR(ROUND(QNST05_B!G147,4))=TRUE,\"\",ROUND(QNST05_B!G147,4))","v":0}]
[{"$f":"IF(QNST05_B!B148=\"\",\"\",VLOOKUP(QNST05_B!B148,L5A!$S$1:$T$266,2,FALSE))","v":""},{"$f":"IF(A139=\"W0\",$K$12,IF(QNST05_B!C148=\"\",\"\",VLOOKUP(QNST05_B!C148,$J$4:$K$12,2,FALSE)))","v":""},{"$f":"IF(OR(A139=\"W0\"),L5A!$L$21,IF(QNST05_B!D148=\"\",\"\",VLOOKUP(QNST05_B!D148,L5A!$K$18:$L$21,2,FALSE)))","v":""},{"$f":"IF(ISERROR(ROUND(QNST05_B!E148,4))=TRUE,\"\",ROUND(QNST05_B!E148,4))","v":0},{"$f":"IF(ISERROR(ROUND(QNST05_B!F148,4))=TRUE,\"\",ROUND(QNST05_B!F148,4))","v":0},{"$f":"IF(ISERROR(ROUND(QNST05_B!G148,4))=TRUE,\"\",ROUND(QNST05_B!G148,4))","v":0}]
[{"$f":"IF(QNST05_B!B149=\"\",\"\",VLOOKUP(QNST05_B!B149,L5A!$S$1:$T$266,2,FALSE))","v":""},{"$f":"IF(A140=\"W0\",$K$12,IF(QNST05_B!C149=\"\",\"\",VLOOKUP(QNST05_B!C149,$J$4:$K$12,2,FALSE)))","v":""},{"$f":"IF(OR(A140=\"W0\"),L5A!$L$21,IF(QNST05_B!D149=\"\",\"\",VLOOKUP(QNST05_B!D149,L5A!$K$18:$L$21,2,FALSE)))","v":""},{"$f":"IF(ISERROR(ROUND(QNST05_B!E149,4))=TRUE,\"\",ROUND(QNST05_B!E149,4))","v":0},{"$f":"IF(ISERROR(ROUND(QNST05_B!F149,4))=TRUE,\"\",ROUND(QNST05_B!F149,4))","v":0},{"$f":"IF(ISERROR(ROUND(QNST05_B!G149,4))=TRUE,\"\",ROUND(QNST05_B!G149,4))","v":0}]
[{"$f":"IF(QNST05_B!B150=\"\",\"\",VLOOKUP(QNST05_B!B150,L5A!$S$1:$T$266,2,FALSE))","v":""},{"$f":"IF(A141=\"W0\",$K$12,IF(QNST05_B!C150=\"\",\"\",VLOOKUP(QNST05_B!C150,$J$4:$K$12,2,FALSE)))","v":""},{"$f":"IF(OR(A141=\"W0\"),L5A!$L$21,IF(QNST05_B!D150=\"\",\"\",VLOOKUP(QNST05_B!D150,L5A!$K$18:$L$21,2,FALSE)))","v":""},{"$f":"IF(ISERROR(ROUND(QNST05_B!E150,4))=TRUE,\"\",ROUND(QNST05_B!E150,4))","v":0},{"$f":"IF(ISERROR(ROUND(QNST05_B!F150,4))=TRUE,\"\",ROUND(QNST05_B!F150,4))","v":0},{"$f":"IF(ISERROR(ROUND(QNST05_B!G150,4))=TRUE,\"\",ROUND(QNST05_B!G150,4))","v":0}]
[{"$f":"IF(QNST05_B!B151=\"\",\"\",VLOOKUP(QNST05_B!B151,L5A!$S$1:$T$266,2,FALSE))","v":""},{"$f":"IF(A142=\"W0\",$K$12,IF(QNST05_B!C151=\"\",\"\",VLOOKUP(QNST05_B!C151,$J$4:$K$12,2,FALSE)))","v":""},{"$f":"IF(OR(A142=\"W0\"),L5A!$L$21,IF(QNST05_B!D151=\"\",\"\",VLOOKUP(QNST05_B!D151,L5A!$K$18:$L$21,2,FALSE)))","v":""},{"$f":"IF(ISERROR(ROUND(QNST05_B!E151,4))=TRUE,\"\",ROUND(QNST05_B!E151,4))","v":0},{"$f":"IF(ISERROR(ROUND(QNST05_B!F151,4))=TRUE,\"\",ROUND(QNST05_B!F151,4))","v":0},{"$f":"IF(ISERROR(ROUND(QNST05_B!G151,4))=TRUE,\"\",ROUND(QNST05_B!G151,4))","v":0}]
[{"$f":"IF(QNST05_B!B152=\"\",\"\",VLOOKUP(QNST05_B!B152,L5A!$S$1:$T$266,2,FALSE))","v":""},{"$f":"IF(A143=\"W0\",$K$12,IF(QNST05_B!C152=\"\",\"\",VLOOKUP(QNST05_B!C152,$J$4:$K$12,2,FALSE)))","v":""},{"$f":"IF(OR(A143=\"W0\"),L5A!$L$21,IF(QNST05_B!D152=\"\",\"\",VLOOKUP(QNST05_B!D152,L5A!$K$18:$L$21,2,FALSE)))","v":""},{"$f":"IF(ISERROR(ROUND(QNST05_B!E152,4))=TRUE,\"\",ROUND(QNST05_B!E152,4))","v":0},{"$f":"IF(ISERROR(ROUND(QNST05_B!F152,4))=TRUE,\"\",ROUND(QNST05_B!F152,4))","v":0},{"$f":"IF(ISERROR(ROUND(QNST05_B!G152,4))=TRUE,\"\",ROUND(QNST05_B!G152,4))","v":0}]
[{"$f":"IF(QNST05_B!B153=\"\",\"\",VLOOKUP(QNST05_B!B153,L5A!$S$1:$T$266,2,FALSE))","v":""},{"$f":"IF(A144=\"W0\",$K$12,IF(QNST05_B!C153=\"\",\"\",VLOOKUP(QNST05_B!C153,$J$4:$K$12,2,FALSE)))","v":""},{"$f":"IF(OR(A144=\"W0\"),L5A!$L$21,IF(QNST05_B!D153=\"\",\"\",VLOOKUP(QNST05_B!D153,L5A!$K$18:$L$21,2,FALSE)))","v":""},{"$f":"IF(ISERROR(ROUND(QNST05_B!E153,4))=TRUE,\"\",ROUND(QNST05_B!E153,4))","v":0},{"$f":"IF(ISERROR(ROUND(QNST05_B!F153,4))=TRUE,\"\",ROUND(QNST05_B!F153,4))","v":0},{"$f":"IF(ISERROR(ROUND(QNST05_B!G153,4))=TRUE,\"\",ROUND(QNST05_B!G153,4))","v":0}]
[{"$f":"IF(QNST05_B!B154=\"\",\"\",VLOOKUP(QNST05_B!B154,L5A!$S$1:$T$266,2,FALSE))","v":""},{"$f":"IF(A145=\"W0\",$K$12,IF(QNST05_B!C154=\"\",\"\",VLOOKUP(QNST05_B!C154,$J$4:$K$12,2,FALSE)))","v":""},{"$f":"IF(OR(A145=\"W0\"),L5A!$L$21,IF(QNST05_B!D154=\"\",\"\",VLOOKUP(QNST05_B!D154,L5A!$K$18:$L$21,2,FALSE)))","v":""},{"$f":"IF(ISERROR(ROUND(QNST05_B!E154,4))=TRUE,\"\",ROUND(QNST05_B!E154,4))","v":0},{"$f":"IF(ISERROR(ROUND(QNST05_B!F154,4))=TRUE,\"\",ROUND(QNST05_B!F154,4))","v":0},{"$f":"IF(ISERROR(ROUND(QNST05_B!G154,4))=TRUE,\"\",ROUND(QNST05_B!G154,4))","v":0}]
[{"$f":"IF(QNST05_B!B155=\"\",\"\",VLOOKUP(QNST05_B!B155,L5A!$S$1:$T$266,2,FALSE))","v":""},{"$f":"IF(A146=\"W0\",$K$12,IF(QNST05_B!C155=\"\",\"\",VLOOKUP(QNST05_B!C155,$J$4:$K$12,2,FALSE)))","v":""},{"$f":"IF(OR(A146=\"W0\"),L5A!$L$21,IF(QNST05_B!D155=\"\",\"\",VLOOKUP(QNST05_B!D155,L5A!$K$18:$L$21,2,FALSE)))","v":""},{"$f":"IF(ISERROR(ROUND(QNST05_B!E155,4))=TRUE,\"\",ROUND(QNST05_B!E155,4))","v":0},{"$f":"IF(ISERROR(ROUND(QNST05_B!F155,4))=TRUE,\"\",ROUND(QNST05_B!F155,4))","v":0},{"$f":"IF(ISERROR(ROUND(QNST05_B!G155,4))=TRUE,\"\",ROUND(QNST05_B!G155,4))","v":0}]
[{"$f":"IF(QNST05_B!B156=\"\",\"\",VLOOKUP(QNST05_B!B156,L5A!$S$1:$T$266,2,FALSE))","v":""},{"$f":"IF(A147=\"W0\",$K$12,IF(QNST05_B!C156=\"\",\"\",VLOOKUP(QNST05_B!C156,$J$4:$K$12,2,FALSE)))","v":""},{"$f":"IF(OR(A147=\"W0\"),L5A!$L$21,IF(QNST05_B!D156=\"\",\"\",VLOOKUP(QNST05_B!D156,L5A!$K$18:$L$21,2,FALSE)))","v":""},{"$f":"IF(ISERROR(ROUND(QNST05_B!E156,4))=TRUE,\"\",ROUND(QNST05_B!E156,4))","v":0},{"$f":"IF(ISERROR(ROUND(QNST05_B!F156,4))=TRUE,\"\",ROUND(QNST05_B!F156,4))","v":0},{"$f":"IF(ISERROR(ROUND(QNST05_B!G156,4))=TRUE,\"\",ROUND(QNST05_B!G156,4))","v":0}]
[{"$f":"IF(QNST05_B!B157=\"\",\"\",VLOOKUP(QNST05_B!B157,L5A!$S$1:$T$266,2,FALSE))","v":""},{"$f":"IF(A148=\"W0\",$K$12,IF(QNST05_B!C157=\"\",\"\",VLOOKUP(QNST05_B!C157,$J$4:$K$12,2,FALSE)))","v":""},{"$f":"IF(OR(A148=\"W0\"),L5A!$L$21,IF(QNST05_B!D157=\"\",\"\",VLOOKUP(QNST05_B!D157,L5A!$K$18:$L$21,2,FALSE)))","v":""},{"$f":"IF(ISERROR(ROUND(QNST05_B!E157,4))=TRUE,\"\",ROUND(QNST05_B!E157,4))","v":0},{"$f":"IF(ISERROR(ROUND(QNST05_B!F157,4))=TRUE,\"\",ROUND(QNST05_B!F157,4))","v":0},{"$f":"IF(ISERROR(ROUND(QNST05_B!G157,4))=TRUE,\"\",ROUND(QNST05_B!G157,4))","v":0}]
[{"$f":"IF(QNST05_B!B158=\"\",\"\",VLOOKUP(QNST05_B!B158,L5A!$S$1:$T$266,2,FALSE))","v":""},{"$f":"IF(A149=\"W0\",$K$12,IF(QNST05_B!C158=\"\",\"\",VLOOKUP(QNST05_B!C158,$J$4:$K$12,2,FALSE)))","v":""},{"$f":"IF(OR(A149=\"W0\"),L5A!$L$21,IF(QNST05_B!D158=\"\",\"\",VLOOKUP(QNST05_B!D158,L5A!$K$18:$L$21,2,FALSE)))","v":""},{"$f":"IF(ISERROR(ROUND(QNST05_B!E158,4))=TRUE,\"\",ROUND(QNST05_B!E158,4))","v":0},{"$f":"IF(ISERROR(ROUND(QNST05_B!F158,4))=TRUE,\"\",ROUND(QNST05_B!F158,4))","v":0},{"$f":"IF(ISERROR(ROUND(QNST05_B!G158,4))=TRUE,\"\",ROUND(QNST05_B!G158,4))","v":0}]
[{"$f":"IF(QNST05_B!B159=\"\",\"\",VLOOKUP(QNST05_B!B159,L5A!$S$1:$T$266,2,FALSE))","v":""},{"$f":"IF(A150=\"W0\",$K$12,IF(QNST05_B!C159=\"\",\"\",VLOOKUP(QNST05_B!C159,$J$4:$K$12,2,FALSE)))","v":""},{"$f":"IF(OR(A150=\"W0\"),L5A!$L$21,IF(QNST05_B!D159=\"\",\"\",VLOOKUP(QNST05_B!D159,L5A!$K$18:$L$21,2,FALSE)))","v":""},{"$f":"IF(ISERROR(ROUND(QNST05_B!E159,4))=TRUE,\"\",ROUND(QNST05_B!E159,4))","v":0},{"$f":"IF(ISERROR(ROUND(QNST05_B!F159,4))=TRUE,\"\",ROUND(QNST05_B!F159,4))","v":0},{"$f":"IF(ISERROR(ROUND(QNST05_B!G159,4))=TRUE,\"\",ROUND(QNST05_B!G159,4))","v":0}]
[{"$f":"IF(QNST05_B!B160=\"\",\"\",VLOOKUP(QNST05_B!B160,L5A!$S$1:$T$266,2,FALSE))","v":""},{"$f":"IF(A151=\"W0\",$K$12,IF(QNST05_B!C160=\"\",\"\",VLOOKUP(QNST05_B!C160,$J$4:$K$12,2,FALSE)))","v":""},{"$f":"IF(OR(A151=\"W0\"),L5A!$L$21,IF(QNST05_B!D160=\"\",\"\",VLOOKUP(QNST05_B!D160,L5A!$K$18:$L$21,2,FALSE)))","v":""},{"$f":"IF(ISERROR(ROUND(QNST05_B!E160,4))=TRUE,\"\",ROUND(QNST05_B!E160,4))","v":0},{"$f":"IF(ISERROR(ROUND(QNST05_B!F160,4))=TRUE,\"\",ROUND(QNST05_B!F160,4))","v":0},{"$f":"IF(ISERROR(ROUND(QNST05_B!G160,4))=TRUE,\"\",ROUND(QNST05_B!G160,4))","v":0}]
[{"$f":"IF(QNST05_B!B161=\"\",\"\",VLOOKUP(QNST05_B!B161,L5A!$S$1:$T$266,2,FALSE))","v":""},{"$f":"IF(A152=\"W0\",$K$12,IF(QNST05_B!C161=\"\",\"\",VLOOKUP(QNST05_B!C161,$J$4:$K$12,2,FALSE)))","v":""},{"$f":"IF(OR(A152=\"W0\"),L5A!$L$21,IF(QNST05_B!D161=\"\",\"\",VLOOKUP(QNST05_B!D161,L5A!$K$18:$L$21,2,FALSE)))","v":""},{"$f":"IF(ISERROR(ROUND(QNST05_B!E161,4))=TRUE,\"\",ROUND(QNST05_B!E161,4))","v":0},{"$f":"IF(ISERROR(ROUND(QNST05_B!F161,4))=TRUE,\"\",ROUND(QNST05_B!F161,4))","v":0},{"$f":"IF(ISERROR(ROUND(QNST05_B!G161,4))=TRUE,\"\",ROUND(QNST05_B!G161,4))","v":0}]
[{"$f":"IF(QNST05_B!B162=\"\",\"\",VLOOKUP(QNST05_B!B162,L5A!$S$1:$T$266,2,FALSE))","v":""},{"$f":"IF(A153=\"W0\",$K$12,IF(QNST05_B!C162=\"\",\"\",VLOOKUP(QNST05_B!C162,$J$4:$K$12,2,FALSE)))","v":""},{"$f":"IF(OR(A153=\"W0\"),L5A!$L$21,IF(QNST05_B!D162=\"\",\"\",VLOOKUP(QNST05_B!D162,L5A!$K$18:$L$21,2,FALSE)))","v":""},{"$f":"IF(ISERROR(ROUND(QNST05_B!E162,4))=TRUE,\"\",ROUND(QNST05_B!E162,4))","v":0},{"$f":"IF(ISERROR(ROUND(QNST05_B!F162,4))=TRUE,\"\",ROUND(QNST05_B!F162,4))","v":0},{"$f":"IF(ISERROR(ROUND(QNST05_B!G162,4))=TRUE,\"\",ROUND(QNST05_B!G162,4))","v":0}]
[{"$f":"IF(QNST05_B!B163=\"\",\"\",VLOOKUP(QNST05_B!B163,L5A!$S$1:$T$266,2,FALSE))","v":""},{"$f":"IF(A154=\"W0\",$K$12,IF(QNST05_B!C163=\"\",\"\",VLOOKUP(QNST05_B!C163,$J$4:$K$12,2,FALSE)))","v":""},{"$f":"IF(OR(A154=\"W0\"),L5A!$L$21,IF(QNST05_B!D163=\"\",\"\",VLOOKUP(QNST05_B!D163,L5A!$K$18:$L$21,2,FALSE)))","v":""},{"$f":"IF(ISERROR(ROUND(QNST05_B!E163,4))=TRUE,\"\",ROUND(QNST05_B!E163,4))","v":0},{"$f":"IF(ISERROR(ROUND(QNST05_B!F163,4))=TRUE,\"\",ROUND(QNST05_B!F163,4))","v":0},{"$f":"IF(ISERROR(ROUND(QNST05_B!G163,4))=TRUE,\"\",ROUND(QNST05_B!G163,4))","v":0}]
[{"$f":"IF(QNST05_B!B164=\"\",\"\",VLOOKUP(QNST05_B!B164,L5A!$S$1:$T$266,2,FALSE))","v":""},{"$f":"IF(A155=\"W0\",$K$12,IF(QNST05_B!C164=\"\",\"\",VLOOKUP(QNST05_B!C164,$J$4:$K$12,2,FALSE)))","v":""},{"$f":"IF(OR(A155=\"W0\"),L5A!$L$21,IF(QNST05_B!D164=\"\",\"\",VLOOKUP(QNST05_B!D164,L5A!$K$18:$L$21,2,FALSE)))","v":""},{"$f":"IF(ISERROR(ROUND(QNST05_B!E164,4))=TRUE,\"\",ROUND(QNST05_B!E164,4))","v":0},{"$f":"IF(ISERROR(ROUND(QNST05_B!F164,4))=TRUE,\"\",ROUND(QNST05_B!F164,4))","v":0},{"$f":"IF(ISERROR(ROUND(QNST05_B!G164,4))=TRUE,\"\",ROUND(QNST05_B!G164,4))","v":0}]
[{"$f":"IF(QNST05_B!B165=\"\",\"\",VLOOKUP(QNST05_B!B165,L5A!$S$1:$T$266,2,FALSE))","v":""},{"$f":"IF(A156=\"W0\",$K$12,IF(QNST05_B!C165=\"\",\"\",VLOOKUP(QNST05_B!C165,$J$4:$K$12,2,FALSE)))","v":""},{"$f":"IF(OR(A156=\"W0\"),L5A!$L$21,IF(QNST05_B!D165=\"\",\"\",VLOOKUP(QNST05_B!D165,L5A!$K$18:$L$21,2,FALSE)))","v":""},{"$f":"IF(ISERROR(ROUND(QNST05_B!E165,4))=TRUE,\"\",ROUND(QNST05_B!E165,4))","v":0},{"$f":"IF(ISERROR(ROUND(QNST05_B!F165,4))=TRUE,\"\",ROUND(QNST05_B!F165,4))","v":0},{"$f":"IF(ISERROR(ROUND(QNST05_B!G165,4))=TRUE,\"\",ROUND(QNST05_B!G165,4))","v":0}]
[{"$f":"IF(QNST05_B!B166=\"\",\"\",VLOOKUP(QNST05_B!B166,L5A!$S$1:$T$266,2,FALSE))","v":""},{"$f":"IF(A157=\"W0\",$K$12,IF(QNST05_B!C166=\"\",\"\",VLOOKUP(QNST05_B!C166,$J$4:$K$12,2,FALSE)))","v":""},{"$f":"IF(OR(A157=\"W0\"),L5A!$L$21,IF(QNST05_B!D166=\"\",\"\",VLOOKUP(QNST05_B!D166,L5A!$K$18:$L$21,2,FALSE)))","v":""},{"$f":"IF(ISERROR(ROUND(QNST05_B!E166,4))=TRUE,\"\",ROUND(QNST05_B!E166,4))","v":0},{"$f":"IF(ISERROR(ROUND(QNST05_B!F166,4))=TRUE,\"\",ROUND(QNST05_B!F166,4))","v":0},{"$f":"IF(ISERROR(ROUND(QNST05_B!G166,4))=TRUE,\"\",ROUND(QNST05_B!G166,4))","v":0}]
[{"$f":"IF(QNST05_B!B167=\"\",\"\",VLOOKUP(QNST05_B!B167,L5A!$S$1:$T$266,2,FALSE))","v":""},{"$f":"IF(A158=\"W0\",$K$12,IF(QNST05_B!C167=\"\",\"\",VLOOKUP(QNST05_B!C167,$J$4:$K$12,2,FALSE)))","v":""},{"$f":"IF(OR(A158=\"W0\"),L5A!$L$21,IF(QNST05_B!D167=\"\",\"\",VLOOKUP(QNST05_B!D167,L5A!$K$18:$L$21,2,FALSE)))","v":""},{"$f":"IF(ISERROR(ROUND(QNST05_B!E167,4))=TRUE,\"\",ROUND(QNST05_B!E167,4))","v":0},{"$f":"IF(ISERROR(ROUND(QNST05_B!F167,4))=TRUE,\"\",ROUND(QNST05_B!F167,4))","v":0},{"$f":"IF(ISERROR(ROUND(QNST05_B!G167,4))=TRUE,\"\",ROUND(QNST05_B!G167,4))","v":0}]
[{"$f":"IF(QNST05_B!B168=\"\",\"\",VLOOKUP(QNST05_B!B168,L5A!$S$1:$T$266,2,FALSE))","v":""},{"$f":"IF(A159=\"W0\",$K$12,IF(QNST05_B!C168=\"\",\"\",VLOOKUP(QNST05_B!C168,$J$4:$K$12,2,FALSE)))","v":""},{"$f":"IF(OR(A159=\"W0\"),L5A!$L$21,IF(QNST05_B!D168=\"\",\"\",VLOOKUP(QNST05_B!D168,L5A!$K$18:$L$21,2,FALSE)))","v":""},{"$f":"IF(ISERROR(ROUND(QNST05_B!E168,4))=TRUE,\"\",ROUND(QNST05_B!E168,4))","v":0},{"$f":"IF(ISERROR(ROUND(QNST05_B!F168,4))=TRUE,\"\",ROUND(QNST05_B!F168,4))","v":0},{"$f":"IF(ISERROR(ROUND(QNST05_B!G168,4))=TRUE,\"\",ROUND(QNST05_B!G168,4))","v":0}]
[{"$f":"IF(QNST05_B!B169=\"\",\"\",VLOOKUP(QNST05_B!B169,L5A!$S$1:$T$266,2,FALSE))","v":""},{"$f":"IF(A160=\"W0\",$K$12,IF(QNST05_B!C169=\"\",\"\",VLOOKUP(QNST05_B!C169,$J$4:$K$12,2,FALSE)))","v":""},{"$f":"IF(OR(A160=\"W0\"),L5A!$L$21,IF(QNST05_B!D169=\"\",\"\",VLOOKUP(QNST05_B!D169,L5A!$K$18:$L$21,2,FALSE)))","v":""},{"$f":"IF(ISERROR(ROUND(QNST05_B!E169,4))=TRUE,\"\",ROUND(QNST05_B!E169,4))","v":0},{"$f":"IF(ISERROR(ROUND(QNST05_B!F169,4))=TRUE,\"\",ROUND(QNST05_B!F169,4))","v":0},{"$f":"IF(ISERROR(ROUND(QNST05_B!G169,4))=TRUE,\"\",ROUND(QNST05_B!G169,4))","v":0}]
[{"$f":"IF(QNST05_B!B170=\"\",\"\",VLOOKUP(QNST05_B!B170,L5A!$S$1:$T$266,2,FALSE))","v":""},{"$f":"IF(A161=\"W0\",$K$12,IF(QNST05_B!C170=\"\",\"\",VLOOKUP(QNST05_B!C170,$J$4:$K$12,2,FALSE)))","v":""},{"$f":"IF(OR(A161=\"W0\"),L5A!$L$21,IF(QNST05_B!D170=\"\",\"\",VLOOKUP(QNST05_B!D170,L5A!$K$18:$L$21,2,FALSE)))","v":""},{"$f":"IF(ISERROR(ROUND(QNST05_B!E170,4))=TRUE,\"\",ROUND(QNST05_B!E170,4))","v":0},{"$f":"IF(ISERROR(ROUND(QNST05_B!F170,4))=TRUE,\"\",ROUND(QNST05_B!F170,4))","v":0},{"$f":"IF(ISERROR(ROUND(QNST05_B!G170,4))=TRUE,\"\",ROUND(QNST05_B!G170,4))","v":0}]
[{"$f":"IF(QNST05_B!B171=\"\",\"\",VLOOKUP(QNST05_B!B171,L5A!$S$1:$T$266,2,FALSE))","v":""},{"$f":"IF(A162=\"W0\",$K$12,IF(QNST05_B!C171=\"\",\"\",VLOOKUP(QNST05_B!C171,$J$4:$K$12,2,FALSE)))","v":""},{"$f":"IF(OR(A162=\"W0\"),L5A!$L$21,IF(QNST05_B!D171=\"\",\"\",VLOOKUP(QNST05_B!D171,L5A!$K$18:$L$21,2,FALSE)))","v":""},{"$f":"IF(ISERROR(ROUND(QNST05_B!E171,4))=TRUE,\"\",ROUND(QNST05_B!E171,4))","v":0},{"$f":"IF(ISERROR(ROUND(QNST05_B!F171,4))=TRUE,\"\",ROUND(QNST05_B!F171,4))","v":0},{"$f":"IF(ISERROR(ROUND(QNST05_B!G171,4))=TRUE,\"\",ROUND(QNST05_B!G171,4))","v":0}]
[{"$f":"IF(QNST05_B!B172=\"\",\"\",VLOOKUP(QNST05_B!B172,L5A!$S$1:$T$266,2,FALSE))","v":""},{"$f":"IF(A163=\"W0\",$K$12,IF(QNST05_B!C172=\"\",\"\",VLOOKUP(QNST05_B!C172,$J$4:$K$12,2,FALSE)))","v":""},{"$f":"IF(OR(A163=\"W0\"),L5A!$L$21,IF(QNST05_B!D172=\"\",\"\",VLOOKUP(QNST05_B!D172,L5A!$K$18:$L$21,2,FALSE)))","v":""},{"$f":"IF(ISERROR(ROUND(QNST05_B!E172,4))=TRUE,\"\",ROUND(QNST05_B!E172,4))","v":0},{"$f":"IF(ISERROR(ROUND(QNST05_B!F172,4))=TRUE,\"\",ROUND(QNST05_B!F172,4))","v":0},{"$f":"IF(ISERROR(ROUND(QNST05_B!G172,4))=TRUE,\"\",ROUND(QNST05_B!G172,4))","v":0}]
[{"$f":"IF(QNST05_B!B173=\"\",\"\",VLOOKUP(QNST05_B!B173,L5A!$S$1:$T$266,2,FALSE))","v":""},{"$f":"IF(A164=\"W0\",$K$12,IF(QNST05_B!C173=\"\",\"\",VLOOKUP(QNST05_B!C173,$J$4:$K$12,2,FALSE)))","v":""},{"$f":"IF(OR(A164=\"W0\"),L5A!$L$21,IF(QNST05_B!D173=\"\",\"\",VLOOKUP(QNST05_B!D173,L5A!$K$18:$L$21,2,FALSE)))","v":""},{"$f":"IF(ISERROR(ROUND(QNST05_B!E173,4))=TRUE,\"\",ROUND(QNST05_B!E173,4))","v":0},{"$f":"IF(ISERROR(ROUND(QNST05_B!F173,4))=TRUE,\"\",ROUND(QNST05_B!F173,4))","v":0},{"$f":"IF(ISERROR(ROUND(QNST05_B!G173,4))=TRUE,\"\",ROUND(QNST05_B!G173,4))","v":0}]
[{"$f":"IF(QNST05_B!B174=\"\",\"\",VLOOKUP(QNST05_B!B174,L5A!$S$1:$T$266,2,FALSE))","v":""},{"$f":"IF(A165=\"W0\",$K$12,IF(QNST05_B!C174=\"\",\"\",VLOOKUP(QNST05_B!C174,$J$4:$K$12,2,FALSE)))","v":""},{"$f":"IF(OR(A165=\"W0\"),L5A!$L$21,IF(QNST05_B!D174=\"\",\"\",VLOOKUP(QNST05_B!D174,L5A!$K$18:$L$21,2,FALSE)))","v":""},{"$f":"IF(ISERROR(ROUND(QNST05_B!E174,4))=TRUE,\"\",ROUND(QNST05_B!E174,4))","v":0},{"$f":"IF(ISERROR(ROUND(QNST05_B!F174,4))=TRUE,\"\",ROUND(QNST05_B!F174,4))","v":0},{"$f":"IF(ISERROR(ROUND(QNST05_B!G174,4))=TRUE,\"\",ROUND(QNST05_B!G174,4))","v":0}]
[{"$f":"IF(QNST05_B!B175=\"\",\"\",VLOOKUP(QNST05_B!B175,L5A!$S$1:$T$266,2,FALSE))","v":""},{"$f":"IF(A166=\"W0\",$K$12,IF(QNST05_B!C175=\"\",\"\",VLOOKUP(QNST05_B!C175,$J$4:$K$12,2,FALSE)))","v":""},{"$f":"IF(OR(A166=\"W0\"),L5A!$L$21,IF(QNST05_B!D175=\"\",\"\",VLOOKUP(QNST05_B!D175,L5A!$K$18:$L$21,2,FALSE)))","v":""},{"$f":"IF(ISERROR(ROUND(QNST05_B!E175,4))=TRUE,\"\",ROUND(QNST05_B!E175,4))","v":0},{"$f":"IF(ISERROR(ROUND(QNST05_B!F175,4))=TRUE,\"\",ROUND(QNST05_B!F175,4))","v":0},{"$f":"IF(ISERROR(ROUND(QNST05_B!G175,4))=TRUE,\"\",ROUND(QNST05_B!G175,4))","v":0}]
[{"$f":"IF(QNST05_B!B176=\"\",\"\",VLOOKUP(QNST05_B!B176,L5A!$S$1:$T$266,2,FALSE))","v":""},{"$f":"IF(A167=\"W0\",$K$12,IF(QNST05_B!C176=\"\",\"\",VLOOKUP(QNST05_B!C176,$J$4:$K$12,2,FALSE)))","v":""},{"$f":"IF(OR(A167=\"W0\"),L5A!$L$21,IF(QNST05_B!D176=\"\",\"\",VLOOKUP(QNST05_B!D176,L5A!$K$18:$L$21,2,FALSE)))","v":""},{"$f":"IF(ISERROR(ROUND(QNST05_B!E176,4))=TRUE,\"\",ROUND(QNST05_B!E176,4))","v":0},{"$f":"IF(ISERROR(ROUND(QNST05_B!F176,4))=TRUE,\"\",ROUND(QNST05_B!F176,4))","v":0},{"$f":"IF(ISERROR(ROUND(QNST05_B!G176,4))=TRUE,\"\",ROUND(QNST05_B!G176,4))","v":0}]
[{"$f":"IF(QNST05_B!B177=\"\",\"\",VLOOKUP(QNST05_B!B177,L5A!$S$1:$T$266,2,FALSE))","v":""},{"$f":"IF(A168=\"W0\",$K$12,IF(QNST05_B!C177=\"\",\"\",VLOOKUP(QNST05_B!C177,$J$4:$K$12,2,FALSE)))","v":""},{"$f":"IF(OR(A168=\"W0\"),L5A!$L$21,IF(QNST05_B!D177=\"\",\"\",VLOOKUP(QNST05_B!D177,L5A!$K$18:$L$21,2,FALSE)))","v":""},{"$f":"IF(ISERROR(ROUND(QNST05_B!E177,4))=TRUE,\"\",ROUND(QNST05_B!E177,4))","v":0},{"$f":"IF(ISERROR(ROUND(QNST05_B!F177,4))=TRUE,\"\",ROUND(QNST05_B!F177,4))","v":0},{"$f":"IF(ISERROR(ROUND(QNST05_B!G177,4))=TRUE,\"\",ROUND(QNST05_B!G177,4))","v":0}]
[{"$f":"IF(QNST05_B!B178=\"\",\"\",VLOOKUP(QNST05_B!B178,L5A!$S$1:$T$266,2,FALSE))","v":""},{"$f":"IF(A169=\"W0\",$K$12,IF(QNST05_B!C178=\"\",\"\",VLOOKUP(QNST05_B!C178,$J$4:$K$12,2,FALSE)))","v":""},{"$f":"IF(OR(A169=\"W0\"),L5A!$L$21,IF(QNST05_B!D178=\"\",\"\",VLOOKUP(QNST05_B!D178,L5A!$K$18:$L$21,2,FALSE)))","v":""},{"$f":"IF(ISERROR(ROUND(QNST05_B!E178,4))=TRUE,\"\",ROUND(QNST05_B!E178,4))","v":0},{"$f":"IF(ISERROR(ROUND(QNST05_B!F178,4))=TRUE,\"\",ROUND(QNST05_B!F178,4))","v":0},{"$f":"IF(ISERROR(ROUND(QNST05_B!G178,4))=TRUE,\"\",ROUND(QNST05_B!G178,4))","v":0}]
[{"$f":"IF(QNST05_B!B179=\"\",\"\",VLOOKUP(QNST05_B!B179,L5A!$S$1:$T$266,2,FALSE))","v":""},{"$f":"IF(A170=\"W0\",$K$12,IF(QNST05_B!C179=\"\",\"\",VLOOKUP(QNST05_B!C179,$J$4:$K$12,2,FALSE)))","v":""},{"$f":"IF(OR(A170=\"W0\"),L5A!$L$21,IF(QNST05_B!D179=\"\",\"\",VLOOKUP(QNST05_B!D179,L5A!$K$18:$L$21,2,FALSE)))","v":""},{"$f":"IF(ISERROR(ROUND(QNST05_B!E179,4))=TRUE,\"\",ROUND(QNST05_B!E179,4))","v":0},{"$f":"IF(ISERROR(ROUND(QNST05_B!F179,4))=TRUE,\"\",ROUND(QNST05_B!F179,4))","v":0},{"$f":"IF(ISERROR(ROUND(QNST05_B!G179,4))=TRUE,\"\",ROUND(QNST05_B!G179,4))","v":0}]
[{"$f":"IF(QNST05_B!B180=\"\",\"\",VLOOKUP(QNST05_B!B180,L5A!$S$1:$T$266,2,FALSE))","v":""},{"$f":"IF(A171=\"W0\",$K$12,IF(QNST05_B!C180=\"\",\"\",VLOOKUP(QNST05_B!C180,$J$4:$K$12,2,FALSE)))","v":""},{"$f":"IF(OR(A171=\"W0\"),L5A!$L$21,IF(QNST05_B!D180=\"\",\"\",VLOOKUP(QNST05_B!D180,L5A!$K$18:$L$21,2,FALSE)))","v":""},{"$f":"IF(ISERROR(ROUND(QNST05_B!E180,4))=TRUE,\"\",ROUND(QNST05_B!E180,4))","v":0},{"$f":"IF(ISERROR(ROUND(QNST05_B!F180,4))=TRUE,\"\",ROUND(QNST05_B!F180,4))","v":0},{"$f":"IF(ISERROR(ROUND(QNST05_B!G180,4))=TRUE,\"\",ROUND(QNST05_B!G180,4))","v":0}]
[{"$f":"IF(QNST05_B!B181=\"\",\"\",VLOOKUP(QNST05_B!B181,L5A!$S$1:$T$266,2,FALSE))","v":""},{"$f":"IF(A172=\"W0\",$K$12,IF(QNST05_B!C181=\"\",\"\",VLOOKUP(QNST05_B!C181,$J$4:$K$12,2,FALSE)))","v":""},{"$f":"IF(OR(A172=\"W0\"),L5A!$L$21,IF(QNST05_B!D181=\"\",\"\",VLOOKUP(QNST05_B!D181,L5A!$K$18:$L$21,2,FALSE)))","v":""},{"$f":"IF(ISERROR(ROUND(QNST05_B!E181,4))=TRUE,\"\",ROUND(QNST05_B!E181,4))","v":0},{"$f":"IF(ISERROR(ROUND(QNST05_B!F181,4))=TRUE,\"\",ROUND(QNST05_B!F181,4))","v":0},{"$f":"IF(ISERROR(ROUND(QNST05_B!G181,4))=TRUE,\"\",ROUND(QNST05_B!G181,4))","v":0}]
[{"$f":"IF(QNST05_B!B182=\"\",\"\",VLOOKUP(QNST05_B!B182,L5A!$S$1:$T$266,2,FALSE))","v":""},{"$f":"IF(A173=\"W0\",$K$12,IF(QNST05_B!C182=\"\",\"\",VLOOKUP(QNST05_B!C182,$J$4:$K$12,2,FALSE)))","v":""},{"$f":"IF(OR(A173=\"W0\"),L5A!$L$21,IF(QNST05_B!D182=\"\",\"\",VLOOKUP(QNST05_B!D182,L5A!$K$18:$L$21,2,FALSE)))","v":""},{"$f":"IF(ISERROR(ROUND(QNST05_B!E182,4))=TRUE,\"\",ROUND(QNST05_B!E182,4))","v":0},{"$f":"IF(ISERROR(ROUND(QNST05_B!F182,4))=TRUE,\"\",ROUND(QNST05_B!F182,4))","v":0},{"$f":"IF(ISERROR(ROUND(QNST05_B!G182,4))=TRUE,\"\",ROUND(QNST05_B!G182,4))","v":0}]
[{"$f":"IF(QNST05_B!B183=\"\",\"\",VLOOKUP(QNST05_B!B183,L5A!$S$1:$T$266,2,FALSE))","v":""},{"$f":"IF(A174=\"W0\",$K$12,IF(QNST05_B!C183=\"\",\"\",VLOOKUP(QNST05_B!C183,$J$4:$K$12,2,FALSE)))","v":""},{"$f":"IF(OR(A174=\"W0\"),L5A!$L$21,IF(QNST05_B!D183=\"\",\"\",VLOOKUP(QNST05_B!D183,L5A!$K$18:$L$21,2,FALSE)))","v":""},{"$f":"IF(ISERROR(ROUND(QNST05_B!E183,4))=TRUE,\"\",ROUND(QNST05_B!E183,4))","v":0},{"$f":"IF(ISERROR(ROUND(QNST05_B!F183,4))=TRUE,\"\",ROUND(QNST05_B!F183,4))","v":0},{"$f":"IF(ISERROR(ROUND(QNST05_B!G183,4))=TRUE,\"\",ROUND(QNST05_B!G183,4))","v":0}]
[{"$f":"IF(QNST05_B!B184=\"\",\"\",VLOOKUP(QNST05_B!B184,L5A!$S$1:$T$266,2,FALSE))","v":""},{"$f":"IF(A175=\"W0\",$K$12,IF(QNST05_B!C184=\"\",\"\",VLOOKUP(QNST05_B!C184,$J$4:$K$12,2,FALSE)))","v":""},{"$f":"IF(OR(A175=\"W0\"),L5A!$L$21,IF(QNST05_B!D184=\"\",\"\",VLOOKUP(QNST05_B!D184,L5A!$K$18:$L$21,2,FALSE)))","v":""},{"$f":"IF(ISERROR(ROUND(QNST05_B!E184,4))=TRUE,\"\",ROUND(QNST05_B!E184,4))","v":0},{"$f":"IF(ISERROR(ROUND(QNST05_B!F184,4))=TRUE,\"\",ROUND(QNST05_B!F184,4))","v":0},{"$f":"IF(ISERROR(ROUND(QNST05_B!G184,4))=TRUE,\"\",ROUND(QNST05_B!G184,4))","v":0}]
[{"$f":"IF(QNST05_B!B185=\"\",\"\",VLOOKUP(QNST05_B!B185,L5A!$S$1:$T$266,2,FALSE))","v":""},{"$f":"IF(A176=\"W0\",$K$12,IF(QNST05_B!C185=\"\",\"\",VLOOKUP(QNST05_B!C185,$J$4:$K$12,2,FALSE)))","v":""},{"$f":"IF(OR(A176=\"W0\"),L5A!$L$21,IF(QNST05_B!D185=\"\",\"\",VLOOKUP(QNST05_B!D185,L5A!$K$18:$L$21,2,FALSE)))","v":""},{"$f":"IF(ISERROR(ROUND(QNST05_B!E185,4))=TRUE,\"\",ROUND(QNST05_B!E185,4))","v":0},{"$f":"IF(ISERROR(ROUND(QNST05_B!F185,4))=TRUE,\"\",ROUND(QNST05_B!F185,4))","v":0},{"$f":"IF(ISERROR(ROUND(QNST05_B!G185,4))=TRUE,\"\",ROUND(QNST05_B!G185,4))","v":0}]
[{"$f":"IF(QNST05_B!B186=\"\",\"\",VLOOKUP(QNST05_B!B186,L5A!$S$1:$T$266,2,FALSE))","v":""},{"$f":"IF(A177=\"W0\",$K$12,IF(QNST05_B!C186=\"\",\"\",VLOOKUP(QNST05_B!C186,$J$4:$K$12,2,FALSE)))","v":""},{"$f":"IF(OR(A177=\"W0\"),L5A!$L$21,IF(QNST05_B!D186=\"\",\"\",VLOOKUP(QNST05_B!D186,L5A!$K$18:$L$21,2,FALSE)))","v":""},{"$f":"IF(ISERROR(ROUND(QNST05_B!E186,4))=TRUE,\"\",ROUND(QNST05_B!E186,4))","v":0},{"$f":"IF(ISERROR(ROUND(QNST05_B!F186,4))=TRUE,\"\",ROUND(QNST05_B!F186,4))","v":0},{"$f":"IF(ISERROR(ROUND(QNST05_B!G186,4))=TRUE,\"\",ROUND(QNST05_B!G186,4))","v":0}]
[{"$f":"IF(QNST05_B!B187=\"\",\"\",VLOOKUP(QNST05_B!B187,L5A!$S$1:$T$266,2,FALSE))","v":""},{"$f":"IF(A178=\"W0\",$K$12,IF(QNST05_B!C187=\"\",\"\",VLOOKUP(QNST05_B!C187,$J$4:$K$12,2,FALSE)))","v":""},{"$f":"IF(OR(A178=\"W0\"),L5A!$L$21,IF(QNST05_B!D187=\"\",\"\",VLOOKUP(QNST05_B!D187,L5A!$K$18:$L$21,2,FALSE)))","v":""},{"$f":"IF(ISERROR(ROUND(QNST05_B!E187,4))=TRUE,\"\",ROUND(QNST05_B!E187,4))","v":0},{"$f":"IF(ISERROR(ROUND(QNST05_B!F187,4))=TRUE,\"\",ROUND(QNST05_B!F187,4))","v":0},{"$f":"IF(ISERROR(ROUND(QNST05_B!G187,4))=TRUE,\"\",ROUND(QNST05_B!G187,4))","v":0}]
[{"$f":"IF(QNST05_B!B188=\"\",\"\",VLOOKUP(QNST05_B!B188,L5A!$S$1:$T$266,2,FALSE))","v":""},{"$f":"IF(A179=\"W0\",$K$12,IF(QNST05_B!C188=\"\",\"\",VLOOKUP(QNST05_B!C188,$J$4:$K$12,2,FALSE)))","v":""},{"$f":"IF(OR(A179=\"W0\"),L5A!$L$21,IF(QNST05_B!D188=\"\",\"\",VLOOKUP(QNST05_B!D188,L5A!$K$18:$L$21,2,FALSE)))","v":""},{"$f":"IF(ISERROR(ROUND(QNST05_B!E188,4))=TRUE,\"\",ROUND(QNST05_B!E188,4))","v":0},{"$f":"IF(ISERROR(ROUND(QNST05_B!F188,4))=TRUE,\"\",ROUND(QNST05_B!F188,4))","v":0},{"$f":"IF(ISERROR(ROUND(QNST05_B!G188,4))=TRUE,\"\",ROUND(QNST05_B!G188,4))","v":0}]
[{"$f":"IF(QNST05_B!B189=\"\",\"\",VLOOKUP(QNST05_B!B189,L5A!$S$1:$T$266,2,FALSE))","v":""},{"$f":"IF(A180=\"W0\",$K$12,IF(QNST05_B!C189=\"\",\"\",VLOOKUP(QNST05_B!C189,$J$4:$K$12,2,FALSE)))","v":""},{"$f":"IF(OR(A180=\"W0\"),L5A!$L$21,IF(QNST05_B!D189=\"\",\"\",VLOOKUP(QNST05_B!D189,L5A!$K$18:$L$21,2,FALSE)))","v":""},{"$f":"IF(ISERROR(ROUND(QNST05_B!E189,4))=TRUE,\"\",ROUND(QNST05_B!E189,4))","v":0},{"$f":"IF(ISERROR(ROUND(QNST05_B!F189,4))=TRUE,\"\",ROUND(QNST05_B!F189,4))","v":0},{"$f":"IF(ISERROR(ROUND(QNST05_B!G189,4))=TRUE,\"\",ROUND(QNST05_B!G189,4))","v":0}]
[{"$f":"IF(QNST05_B!B190=\"\",\"\",VLOOKUP(QNST05_B!B190,L5A!$S$1:$T$266,2,FALSE))","v":""},{"$f":"IF(A181=\"W0\",$K$12,IF(QNST05_B!C190=\"\",\"\",VLOOKUP(QNST05_B!C190,$J$4:$K$12,2,FALSE)))","v":""},{"$f":"IF(OR(A181=\"W0\"),L5A!$L$21,IF(QNST05_B!D190=\"\",\"\",VLOOKUP(QNST05_B!D190,L5A!$K$18:$L$21,2,FALSE)))","v":""},{"$f":"IF(ISERROR(ROUND(QNST05_B!E190,4))=TRUE,\"\",ROUND(QNST05_B!E190,4))","v":0},{"$f":"IF(ISERROR(ROUND(QNST05_B!F190,4))=TRUE,\"\",ROUND(QNST05_B!F190,4))","v":0},{"$f":"IF(ISERROR(ROUND(QNST05_B!G190,4))=TRUE,\"\",ROUND(QNST05_B!G190,4))","v":0}]
[{"$f":"IF(QNST05_B!B191=\"\",\"\",VLOOKUP(QNST05_B!B191,L5A!$S$1:$T$266,2,FALSE))","v":""},{"$f":"IF(A182=\"W0\",$K$12,IF(QNST05_B!C191=\"\",\"\",VLOOKUP(QNST05_B!C191,$J$4:$K$12,2,FALSE)))","v":""},{"$f":"IF(OR(A182=\"W0\"),L5A!$L$21,IF(QNST05_B!D191=\"\",\"\",VLOOKUP(QNST05_B!D191,L5A!$K$18:$L$21,2,FALSE)))","v":""},{"$f":"IF(ISERROR(ROUND(QNST05_B!E191,4))=TRUE,\"\",ROUND(QNST05_B!E191,4))","v":0},{"$f":"IF(ISERROR(ROUND(QNST05_B!F191,4))=TRUE,\"\",ROUND(QNST05_B!F191,4))","v":0},{"$f":"IF(ISERROR(ROUND(QNST05_B!G191,4))=TRUE,\"\",ROUND(QNST05_B!G191,4))","v":0}]
[{"$f":"IF(QNST05_B!B192=\"\",\"\",VLOOKUP(QNST05_B!B192,L5A!$S$1:$T$266,2,FALSE))","v":""},{"$f":"IF(A183=\"W0\",$K$12,IF(QNST05_B!C192=\"\",\"\",VLOOKUP(QNST05_B!C192,$J$4:$K$12,2,FALSE)))","v":""},{"$f":"IF(OR(A183=\"W0\"),L5A!$L$21,IF(QNST05_B!D192=\"\",\"\",VLOOKUP(QNST05_B!D192,L5A!$K$18:$L$21,2,FALSE)))","v":""},{"$f":"IF(ISERROR(ROUND(QNST05_B!E192,4))=TRUE,\"\",ROUND(QNST05_B!E192,4))","v":0},{"$f":"IF(ISERROR(ROUND(QNST05_B!F192,4))=TRUE,\"\",ROUND(QNST05_B!F192,4))","v":0},{"$f":"IF(ISERROR(ROUND(QNST05_B!G192,4))=TRUE,\"\",ROUND(QNST05_B!G192,4))","v":0}]
[{"$f":"IF(QNST05_B!B193=\"\",\"\",VLOOKUP(QNST05_B!B193,L5A!$S$1:$T$266,2,FALSE))","v":""},{"$f":"IF(A184=\"W0\",$K$12,IF(QNST05_B!C193=\"\",\"\",VLOOKUP(QNST05_B!C193,$J$4:$K$12,2,FALSE)))","v":""},{"$f":"IF(OR(A184=\"W0\"),L5A!$L$21,IF(QNST05_B!D193=\"\",\"\",VLOOKUP(QNST05_B!D193,L5A!$K$18:$L$21,2,FALSE)))","v":""},{"$f":"IF(ISERROR(ROUND(QNST05_B!E193,4))=TRUE,\"\",ROUND(QNST05_B!E193,4))","v":0},{"$f":"IF(ISERROR(ROUND(QNST05_B!F193,4))=TRUE,\"\",ROUND(QNST05_B!F193,4))","v":0},{"$f":"IF(ISERROR(ROUND(QNST05_B!G193,4))=TRUE,\"\",ROUND(QNST05_B!G193,4))","v":0}]
[{"$f":"IF(QNST05_B!B194=\"\",\"\",VLOOKUP(QNST05_B!B194,L5A!$S$1:$T$266,2,FALSE))","v":""},{"$f":"IF(A185=\"W0\",$K$12,IF(QNST05_B!C194=\"\",\"\",VLOOKUP(QNST05_B!C194,$J$4:$K$12,2,FALSE)))","v":""},{"$f":"IF(OR(A185=\"W0\"),L5A!$L$21,IF(QNST05_B!D194=\"\",\"\",VLOOKUP(QNST05_B!D194,L5A!$K$18:$L$21,2,FALSE)))","v":""},{"$f":"IF(ISERROR(ROUND(QNST05_B!E194,4))=TRUE,\"\",ROUND(QNST05_B!E194,4))","v":0},{"$f":"IF(ISERROR(ROUND(QNST05_B!F194,4))=TRUE,\"\",ROUND(QNST05_B!F194,4))","v":0},{"$f":"IF(ISERROR(ROUND(QNST05_B!G194,4))=TRUE,\"\",ROUND(QNST05_B!G194,4))","v":0}]
[{"$f":"IF(QNST05_B!B195=\"\",\"\",VLOOKUP(QNST05_B!B195,L5A!$S$1:$T$266,2,FALSE))","v":""},{"$f":"IF(A186=\"W0\",$K$12,IF(QNST05_B!C195=\"\",\"\",VLOOKUP(QNST05_B!C195,$J$4:$K$12,2,FALSE)))","v":""},{"$f":"IF(OR(A186=\"W0\"),L5A!$L$21,IF(QNST05_B!D195=\"\",\"\",VLOOKUP(QNST05_B!D195,L5A!$K$18:$L$21,2,FALSE)))","v":""},{"$f":"IF(ISERROR(ROUND(QNST05_B!E195,4))=TRUE,\"\",ROUND(QNST05_B!E195,4))","v":0},{"$f":"IF(ISERROR(ROUND(QNST05_B!F195,4))=TRUE,\"\",ROUND(QNST05_B!F195,4))","v":0},{"$f":"IF(ISERROR(ROUND(QNST05_B!G195,4))=TRUE,\"\",ROUND(QNST05_B!G195,4))","v":0}]
[{"$f":"IF(QNST05_B!B196=\"\",\"\",VLOOKUP(QNST05_B!B196,L5A!$S$1:$T$266,2,FALSE))","v":""},{"$f":"IF(A187=\"W0\",$K$12,IF(QNST05_B!C196=\"\",\"\",VLOOKUP(QNST05_B!C196,$J$4:$K$12,2,FALSE)))","v":""},{"$f":"IF(OR(A187=\"W0\"),L5A!$L$21,IF(QNST05_B!D196=\"\",\"\",VLOOKUP(QNST05_B!D196,L5A!$K$18:$L$21,2,FALSE)))","v":""},{"$f":"IF(ISERROR(ROUND(QNST05_B!E196,4))=TRUE,\"\",ROUND(QNST05_B!E196,4))","v":0},{"$f":"IF(ISERROR(ROUND(QNST05_B!F196,4))=TRUE,\"\",ROUND(QNST05_B!F196,4))","v":0},{"$f":"IF(ISERROR(ROUND(QNST05_B!G196,4))=TRUE,\"\",ROUND(QNST05_B!G196,4))","v":0}]
[{"$f":"IF(QNST05_B!B197=\"\",\"\",VLOOKUP(QNST05_B!B197,L5A!$S$1:$T$266,2,FALSE))","v":""},{"$f":"IF(A188=\"W0\",$K$12,IF(QNST05_B!C197=\"\",\"\",VLOOKUP(QNST05_B!C197,$J$4:$K$12,2,FALSE)))","v":""},{"$f":"IF(OR(A188=\"W0\"),L5A!$L$21,IF(QNST05_B!D197=\"\",\"\",VLOOKUP(QNST05_B!D197,L5A!$K$18:$L$21,2,FALSE)))","v":""},{"$f":"IF(ISERROR(ROUND(QNST05_B!E197,4))=TRUE,\"\",ROUND(QNST05_B!E197,4))","v":0},{"$f":"IF(ISERROR(ROUND(QNST05_B!F197,4))=TRUE,\"\",ROUND(QNST05_B!F197,4))","v":0},{"$f":"IF(ISERROR(ROUND(QNST05_B!G197,4))=TRUE,\"\",ROUND(QNST05_B!G197,4))","v":0}]
[{"$f":"IF(QNST05_B!B198=\"\",\"\",VLOOKUP(QNST05_B!B198,L5A!$S$1:$T$266,2,FALSE))","v":""},{"$f":"IF(A189=\"W0\",$K$12,IF(QNST05_B!C198=\"\",\"\",VLOOKUP(QNST05_B!C198,$J$4:$K$12,2,FALSE)))","v":""},{"$f":"IF(OR(A189=\"W0\"),L5A!$L$21,IF(QNST05_B!D198=\"\",\"\",VLOOKUP(QNST05_B!D198,L5A!$K$18:$L$21,2,FALSE)))","v":""},{"$f":"IF(ISERROR(ROUND(QNST05_B!E198,4))=TRUE,\"\",ROUND(QNST05_B!E198,4))","v":0},{"$f":"IF(ISERROR(ROUND(QNST05_B!F198,4))=TRUE,\"\",ROUND(QNST05_B!F198,4))","v":0},{"$f":"IF(ISERROR(ROUND(QNST05_B!G198,4))=TRUE,\"\",ROUND(QNST05_B!G198,4))","v":0}]
[{"$f":"IF(QNST05_B!B199=\"\",\"\",VLOOKUP(QNST05_B!B199,L5A!$S$1:$T$266,2,FALSE))","v":""},{"$f":"IF(A190=\"W0\",$K$12,IF(QNST05_B!C199=\"\",\"\",VLOOKUP(QNST05_B!C199,$J$4:$K$12,2,FALSE)))","v":""},{"$f":"IF(OR(A190=\"W0\"),L5A!$L$21,IF(QNST05_B!D199=\"\",\"\",VLOOKUP(QNST05_B!D199,L5A!$K$18:$L$21,2,FALSE)))","v":""},{"$f":"IF(ISERROR(ROUND(QNST05_B!E199,4))=TRUE,\"\",ROUND(QNST05_B!E199,4))","v":0},{"$f":"IF(ISERROR(ROUND(QNST05_B!F199,4))=TRUE,\"\",ROUND(QNST05_B!F199,4))","v":0},{"$f":"IF(ISERROR(ROUND(QNST05_B!G199,4))=TRUE,\"\",ROUND(QNST05_B!G199,4))","v":0}]
[{"$f":"IF(QNST05_B!B200=\"\",\"\",VLOOKUP(QNST05_B!B200,L5A!$S$1:$T$266,2,FALSE))","v":""},{"$f":"IF(A191=\"W0\",$K$12,IF(QNST05_B!C200=\"\",\"\",VLOOKUP(QNST05_B!C200,$J$4:$K$12,2,FALSE)))","v":""},{"$f":"IF(OR(A191=\"W0\"),L5A!$L$21,IF(QNST05_B!D200=\"\",\"\",VLOOKUP(QNST05_B!D200,L5A!$K$18:$L$21,2,FALSE)))","v":""},{"$f":"IF(ISERROR(ROUND(QNST05_B!E200,4))=TRUE,\"\",ROUND(QNST05_B!E200,4))","v":0},{"$f":"IF(ISERROR(ROUND(QNST05_B!F200,4))=TRUE,\"\",ROUND(QNST05_B!F200,4))","v":0},{"$f":"IF(ISERROR(ROUND(QNST05_B!G200,4))=TRUE,\"\",ROUND(QNST05_B!G200,4))","v":0}]
[{"$f":"IF(QNST05_B!B201=\"\",\"\",VLOOKUP(QNST05_B!B201,L5A!$S$1:$T$266,2,FALSE))","v":""},{"$f":"IF(A192=\"W0\",$K$12,IF(QNST05_B!C201=\"\",\"\",VLOOKUP(QNST05_B!C201,$J$4:$K$12,2,FALSE)))","v":""},{"$f":"IF(OR(A192=\"W0\"),L5A!$L$21,IF(QNST05_B!D201=\"\",\"\",VLOOKUP(QNST05_B!D201,L5A!$K$18:$L$21,2,FALSE)))","v":""},{"$f":"IF(ISERROR(ROUND(QNST05_B!E201,4))=TRUE,\"\",ROUND(QNST05_B!E201,4))","v":0},{"$f":"IF(ISERROR(ROUND(QNST05_B!F201,4))=TRUE,\"\",ROUND(QNST05_B!F201,4))","v":0},{"$f":"IF(ISERROR(ROUND(QNST05_B!G201,4))=TRUE,\"\",ROUND(QNST05_B!G201,4))","v":0}]
[{"$f":"IF(QNST05_B!B202=\"\",\"\",VLOOKUP(QNST05_B!B202,L5A!$S$1:$T$266,2,FALSE))","v":""},{"$f":"IF(A193=\"W0\",$K$12,IF(QNST05_B!C202=\"\",\"\",VLOOKUP(QNST05_B!C202,$J$4:$K$12,2,FALSE)))","v":""},{"$f":"IF(OR(A193=\"W0\"),L5A!$L$21,IF(QNST05_B!D202=\"\",\"\",VLOOKUP(QNST05_B!D202,L5A!$K$18:$L$21,2,FALSE)))","v":""},{"$f":"IF(ISERROR(ROUND(QNST05_B!E202,4))=TRUE,\"\",ROUND(QNST05_B!E202,4))","v":0},{"$f":"IF(ISERROR(ROUND(QNST05_B!F202,4))=TRUE,\"\",ROUND(QNST05_B!F202,4))","v":0},{"$f":"IF(ISERROR(ROUND(QNST05_B!G202,4))=TRUE,\"\",ROUND(QNST05_B!G202,4))","v":0}]
[{"$f":"IF(QNST05_B!B203=\"\",\"\",VLOOKUP(QNST05_B!B203,L5A!$S$1:$T$266,2,FALSE))","v":""},{"$f":"IF(A194=\"W0\",$K$12,IF(QNST05_B!C203=\"\",\"\",VLOOKUP(QNST05_B!C203,$J$4:$K$12,2,FALSE)))","v":""},{"$f":"IF(OR(A194=\"W0\"),L5A!$L$21,IF(QNST05_B!D203=\"\",\"\",VLOOKUP(QNST05_B!D203,L5A!$K$18:$L$21,2,FALSE)))","v":""},{"$f":"IF(ISERROR(ROUND(QNST05_B!E203,4))=TRUE,\"\",ROUND(QNST05_B!E203,4))","v":0},{"$f":"IF(ISERROR(ROUND(QNST05_B!F203,4))=TRUE,\"\",ROUND(QNST05_B!F203,4))","v":0},{"$f":"IF(ISERROR(ROUND(QNST05_B!G203,4))=TRUE,\"\",ROUND(QNST05_B!G203,4))","v":0}]
[{"$f":"IF(QNST05_B!B204=\"\",\"\",VLOOKUP(QNST05_B!B204,L5A!$S$1:$T$266,2,FALSE))","v":""},{"$f":"IF(A195=\"W0\",$K$12,IF(QNST05_B!C204=\"\",\"\",VLOOKUP(QNST05_B!C204,$J$4:$K$12,2,FALSE)))","v":""},{"$f":"IF(OR(A195=\"W0\"),L5A!$L$21,IF(QNST05_B!D204=\"\",\"\",VLOOKUP(QNST05_B!D204,L5A!$K$18:$L$21,2,FALSE)))","v":""},{"$f":"IF(ISERROR(ROUND(QNST05_B!E204,4))=TRUE,\"\",ROUND(QNST05_B!E204,4))","v":0},{"$f":"IF(ISERROR(ROUND(QNST05_B!F204,4))=TRUE,\"\",ROUND(QNST05_B!F204,4))","v":0},{"$f":"IF(ISERROR(ROUND(QNST05_B!G204,4))=TRUE,\"\",ROUND(QNST05_B!G204,4))","v":0}]
[{"$f":"IF(QNST05_B!B205=\"\",\"\",VLOOKUP(QNST05_B!B205,L5A!$S$1:$T$266,2,FALSE))","v":""},{"$f":"IF(A196=\"W0\",$K$12,IF(QNST05_B!C205=\"\",\"\",VLOOKUP(QNST05_B!C205,$J$4:$K$12,2,FALSE)))","v":""},{"$f":"IF(OR(A196=\"W0\"),L5A!$L$21,IF(QNST05_B!D205=\"\",\"\",VLOOKUP(QNST05_B!D205,L5A!$K$18:$L$21,2,FALSE)))","v":""},{"$f":"IF(ISERROR(ROUND(QNST05_B!E205,4))=TRUE,\"\",ROUND(QNST05_B!E205,4))","v":0},{"$f":"IF(ISERROR(ROUND(QNST05_B!F205,4))=TRUE,\"\",ROUND(QNST05_B!F205,4))","v":0},{"$f":"IF(ISERROR(ROUND(QNST05_B!G205,4))=TRUE,\"\",ROUND(QNST05_B!G205,4))","v":0}]
[{"$f":"IF(QNST05_B!B206=\"\",\"\",VLOOKUP(QNST05_B!B206,L5A!$S$1:$T$266,2,FALSE))","v":""},{"$f":"IF(A197=\"W0\",$K$12,IF(QNST05_B!C206=\"\",\"\",VLOOKUP(QNST05_B!C206,$J$4:$K$12,2,FALSE)))","v":""},{"$f":"IF(OR(A197=\"W0\"),L5A!$L$21,IF(QNST05_B!D206=\"\",\"\",VLOOKUP(QNST05_B!D206,L5A!$K$18:$L$21,2,FALSE)))","v":""},{"$f":"IF(ISERROR(ROUND(QNST05_B!E206,4))=TRUE,\"\",ROUND(QNST05_B!E206,4))","v":0},{"$f":"IF(ISERROR(ROUND(QNST05_B!F206,4))=TRUE,\"\",ROUND(QNST05_B!F206,4))","v":0},{"$f":"IF(ISERROR(ROUND(QNST05_B!G206,4))=TRUE,\"\",ROUND(QNST05_B!G206,4))","v":0}]
[{"$f":"IF(QNST05_B!B207=\"\",\"\",VLOOKUP(QNST05_B!B207,L5A!$S$1:$T$266,2,FALSE))","v":""},{"$f":"IF(A198=\"W0\",$K$12,IF(QNST05_B!C207=\"\",\"\",VLOOKUP(QNST05_B!C207,$J$4:$K$12,2,FALSE)))","v":""},{"$f":"IF(OR(A198=\"W0\"),L5A!$L$21,IF(QNST05_B!D207=\"\",\"\",VLOOKUP(QNST05_B!D207,L5A!$K$18:$L$21,2,FALSE)))","v":""},{"$f":"IF(ISERROR(ROUND(QNST05_B!E207,4))=TRUE,\"\",ROUND(QNST05_B!E207,4))","v":0},{"$f":"IF(ISERROR(ROUND(QNST05_B!F207,4))=TRUE,\"\",ROUND(QNST05_B!F207,4))","v":0},{"$f":"IF(ISERROR(ROUND(QNST05_B!G207,4))=TRUE,\"\",ROUND(QNST05_B!G207,4))","v":0}]
[{"$f":"IF(QNST05_B!B208=\"\",\"\",VLOOKUP(QNST05_B!B208,L5A!$S$1:$T$266,2,FALSE))","v":""},{"$f":"IF(A199=\"W0\",$K$12,IF(QNST05_B!C208=\"\",\"\",VLOOKUP(QNST05_B!C208,$J$4:$K$12,2,FALSE)))","v":""},{"$f":"IF(OR(A199=\"W0\"),L5A!$L$21,IF(QNST05_B!D208=\"\",\"\",VLOOKUP(QNST05_B!D208,L5A!$K$18:$L$21,2,FALSE)))","v":""},{"$f":"IF(ISERROR(ROUND(QNST05_B!E208,4))=TRUE,\"\",ROUND(QNST05_B!E208,4))","v":0},{"$f":"IF(ISERROR(ROUND(QNST05_B!F208,4))=TRUE,\"\",ROUND(QNST05_B!F208,4))","v":0},{"$f":"IF(ISERROR(ROUND(QNST05_B!G208,4))=TRUE,\"\",ROUND(QNST05_B!G208,4))","v":0}]
[{"$f":"IF(QNST05_B!B209=\"\",\"\",VLOOKUP(QNST05_B!B209,L5A!$S$1:$T$266,2,FALSE))","v":""},{"$f":"IF(A200=\"W0\",$K$12,IF(QNST05_B!C209=\"\",\"\",VLOOKUP(QNST05_B!C209,$J$4:$K$12,2,FALSE)))","v":""},{"$f":"IF(OR(A200=\"W0\"),L5A!$L$21,IF(QNST05_B!D209=\"\",\"\",VLOOKUP(QNST05_B!D209,L5A!$K$18:$L$21,2,FALSE)))","v":""},{"$f":"IF(ISERROR(ROUND(QNST05_B!E209,4))=TRUE,\"\",ROUND(QNST05_B!E209,4))","v":0},{"$f":"IF(ISERROR(ROUND(QNST05_B!F209,4))=TRUE,\"\",ROUND(QNST05_B!F209,4))","v":0},{"$f":"IF(ISERROR(ROUND(QNST05_B!G209,4))=TRUE,\"\",ROUND(QNST05_B!G209,4))","v":0}]
[{"$f":"IF(QNST05_B!B210=\"\",\"\",VLOOKUP(QNST05_B!B210,L5A!$S$1:$T$266,2,FALSE))","v":""},{"$f":"IF(A201=\"W0\",$K$12,IF(QNST05_B!C210=\"\",\"\",VLOOKUP(QNST05_B!C210,$J$4:$K$12,2,FALSE)))","v":""},{"$f":"IF(OR(A201=\"W0\"),L5A!$L$21,IF(QNST05_B!D210=\"\",\"\",VLOOKUP(QNST05_B!D210,L5A!$K$18:$L$21,2,FALSE)))","v":""},{"$f":"IF(ISERROR(ROUND(QNST05_B!E210,4))=TRUE,\"\",ROUND(QNST05_B!E210,4))","v":0},{"$f":"IF(ISERROR(ROUND(QNST05_B!F210,4))=TRUE,\"\",ROUND(QNST05_B!F210,4))","v":0},{"$f":"IF(ISERROR(ROUND(QNST05_B!G210,4))=TRUE,\"\",ROUND(QNST05_B!G210,4))","v":0}]
[{"$f":"IF(QNST05_B!B211=\"\",\"\",VLOOKUP(QNST05_B!B211,L5A!$S$1:$T$266,2,FALSE))","v":""},{"$f":"IF(A202=\"W0\",$K$12,IF(QNST05_B!C211=\"\",\"\",VLOOKUP(QNST05_B!C211,$J$4:$K$12,2,FALSE)))","v":""},{"$f":"IF(OR(A202=\"W0\"),L5A!$L$21,IF(QNST05_B!D211=\"\",\"\",VLOOKUP(QNST05_B!D211,L5A!$K$18:$L$21,2,FALSE)))","v":""},{"$f":"IF(ISERROR(ROUND(QNST05_B!E211,4))=TRUE,\"\",ROUND(QNST05_B!E211,4))","v":0},{"$f":"IF(ISERROR(ROUND(QNST05_B!F211,4))=TRUE,\"\",ROUND(QNST05_B!F211,4))","v":0},{"$f":"IF(ISERROR(ROUND(QNST05_B!G211,4))=TRUE,\"\",ROUND(QNST05_B!G211,4))","v":0}]
[{"$f":"IF(QNST05_B!B212=\"\",\"\",VLOOKUP(QNST05_B!B212,L5A!$S$1:$T$266,2,FALSE))","v":""},{"$f":"IF(A203=\"W0\",$K$12,IF(QNST05_B!C212=\"\",\"\",VLOOKUP(QNST05_B!C212,$J$4:$K$12,2,FALSE)))","v":""},{"$f":"IF(OR(A203=\"W0\"),L5A!$L$21,IF(QNST05_B!D212=\"\",\"\",VLOOKUP(QNST05_B!D212,L5A!$K$18:$L$21,2,FALSE)))","v":""},{"$f":"IF(ISERROR(ROUND(QNST05_B!E212,4))=TRUE,\"\",ROUND(QNST05_B!E212,4))","v":0},{"$f":"IF(ISERROR(ROUND(QNST05_B!F212,4))=TRUE,\"\",ROUND(QNST05_B!F212,4))","v":0},{"$f":"IF(ISERROR(ROUND(QNST05_B!G212,4))=TRUE,\"\",ROUND(QNST05_B!G212,4))","v":0}]
[{"$f":"IF(QNST05_B!B213=\"\",\"\",VLOOKUP(QNST05_B!B213,L5A!$S$1:$T$266,2,FALSE))","v":""},{"$f":"IF(A204=\"W0\",$K$12,IF(QNST05_B!C213=\"\",\"\",VLOOKUP(QNST05_B!C213,$J$4:$K$12,2,FALSE)))","v":""},{"$f":"IF(OR(A204=\"W0\"),L5A!$L$21,IF(QNST05_B!D213=\"\",\"\",VLOOKUP(QNST05_B!D213,L5A!$K$18:$L$21,2,FALSE)))","v":""},{"$f":"IF(ISERROR(ROUND(QNST05_B!E213,4))=TRUE,\"\",ROUND(QNST05_B!E213,4))","v":0},{"$f":"IF(ISERROR(ROUND(QNST05_B!F213,4))=TRUE,\"\",ROUND(QNST05_B!F213,4))","v":0},{"$f":"IF(ISERROR(ROUND(QNST05_B!G213,4))=TRUE,\"\",ROUND(QNST05_B!G213,4))","v":0}]
[{"$f":"IF(QNST05_B!B214=\"\",\"\",VLOOKUP(QNST05_B!B214,L5A!$S$1:$T$266,2,FALSE))","v":""},{"$f":"IF(A205=\"W0\",$K$12,IF(QNST05_B!C214=\"\",\"\",VLOOKUP(QNST05_B!C214,$J$4:$K$12,2,FALSE)))","v":""},{"$f":"IF(OR(A205=\"W0\"),L5A!$L$21,IF(QNST05_B!D214=\"\",\"\",VLOOKUP(QNST05_B!D214,L5A!$K$18:$L$21,2,FALSE)))","v":""},{"$f":"IF(ISERROR(ROUND(QNST05_B!E214,4))=TRUE,\"\",ROUND(QNST05_B!E214,4))","v":0},{"$f":"IF(ISERROR(ROUND(QNST05_B!F214,4))=TRUE,\"\",ROUND(QNST05_B!F214,4))","v":0},{"$f":"IF(ISERROR(ROUND(QNST05_B!G214,4))=TRUE,\"\",ROUND(QNST05_B!G214,4))","v":0}]
[{"$f":"IF(QNST05_B!B215=\"\",\"\",VLOOKUP(QNST05_B!B215,L5A!$S$1:$T$266,2,FALSE))","v":""},{"$f":"IF(A206=\"W0\",$K$12,IF(QNST05_B!C215=\"\",\"\",VLOOKUP(QNST05_B!C215,$J$4:$K$12,2,FALSE)))","v":""},{"$f":"IF(OR(A206=\"W0\"),L5A!$L$21,IF(QNST05_B!D215=\"\",\"\",VLOOKUP(QNST05_B!D215,L5A!$K$18:$L$21,2,FALSE)))","v":""},{"$f":"IF(ISERROR(ROUND(QNST05_B!E215,4))=TRUE,\"\",ROUND(QNST05_B!E215,4))","v":0},{"$f":"IF(ISERROR(ROUND(QNST05_B!F215,4))=TRUE,\"\",ROUND(QNST05_B!F215,4))","v":0},{"$f":"IF(ISERROR(ROUND(QNST05_B!G215,4))=TRUE,\"\",ROUND(QNST05_B!G215,4))","v":0}]
[{"$f":"IF(QNST05_B!B216=\"\",\"\",VLOOKUP(QNST05_B!B216,L5A!$S$1:$T$266,2,FALSE))","v":""},{"$f":"IF(A207=\"W0\",$K$12,IF(QNST05_B!C216=\"\",\"\",VLOOKUP(QNST05_B!C216,$J$4:$K$12,2,FALSE)))","v":""},{"$f":"IF(OR(A207=\"W0\"),L5A!$L$21,IF(QNST05_B!D216=\"\",\"\",VLOOKUP(QNST05_B!D216,L5A!$K$18:$L$21,2,FALSE)))","v":""},{"$f":"IF(ISERROR(ROUND(QNST05_B!E216,4))=TRUE,\"\",ROUND(QNST05_B!E216,4))","v":0},{"$f":"IF(ISERROR(ROUND(QNST05_B!F216,4))=TRUE,\"\",ROUND(QNST05_B!F216,4))","v":0},{"$f":"IF(ISERROR(ROUND(QNST05_B!G216,4))=TRUE,\"\",ROUND(QNST05_B!G216,4))","v":0}]
[{"$f":"IF(QNST05_B!B217=\"\",\"\",VLOOKUP(QNST05_B!B217,L5A!$S$1:$T$266,2,FALSE))","v":""},{"$f":"IF(A208=\"W0\",$K$12,IF(QNST05_B!C217=\"\",\"\",VLOOKUP(QNST05_B!C217,$J$4:$K$12,2,FALSE)))","v":""},{"$f":"IF(OR(A208=\"W0\"),L5A!$L$21,IF(QNST05_B!D217=\"\",\"\",VLOOKUP(QNST05_B!D217,L5A!$K$18:$L$21,2,FALSE)))","v":""},{"$f":"IF(ISERROR(ROUND(QNST05_B!E217,4))=TRUE,\"\",ROUND(QNST05_B!E217,4))","v":0},{"$f":"IF(ISERROR(ROUND(QNST05_B!F217,4))=TRUE,\"\",ROUND(QNST05_B!F217,4))","v":0},{"$f":"IF(ISERROR(ROUND(QNST05_B!G217,4))=TRUE,\"\",ROUND(QNST05_B!G217,4))","v":0}]
[{"$f":"IF(QNST05_B!B218=\"\",\"\",VLOOKUP(QNST05_B!B218,L5A!$S$1:$T$266,2,FALSE))","v":""},{"$f":"IF(A209=\"W0\",$K$12,IF(QNST05_B!C218=\"\",\"\",VLOOKUP(QNST05_B!C218,$J$4:$K$12,2,FALSE)))","v":""},{"$f":"IF(OR(A209=\"W0\"),L5A!$L$21,IF(QNST05_B!D218=\"\",\"\",VLOOKUP(QNST05_B!D218,L5A!$K$18:$L$21,2,FALSE)))","v":""},{"$f":"IF(ISERROR(ROUND(QNST05_B!E218,4))=TRUE,\"\",ROUND(QNST05_B!E218,4))","v":0},{"$f":"IF(ISERROR(ROUND(QNST05_B!F218,4))=TRUE,\"\",ROUND(QNST05_B!F218,4))","v":0},{"$f":"IF(ISERROR(ROUND(QNST05_B!G218,4))=TRUE,\"\",ROUND(QNST05_B!G218,4))","v":0}]
[{"$f":"IF(QNST05_B!B219=\"\",\"\",VLOOKUP(QNST05_B!B219,L5A!$S$1:$T$266,2,FALSE))","v":""},{"$f":"IF(A210=\"W0\",$K$12,IF(QNST05_B!C219=\"\",\"\",VLOOKUP(QNST05_B!C219,$J$4:$K$12,2,FALSE)))","v":""},{"$f":"IF(OR(A210=\"W0\"),L5A!$L$21,IF(QNST05_B!D219=\"\",\"\",VLOOKUP(QNST05_B!D219,L5A!$K$18:$L$21,2,FALSE)))","v":""},{"$f":"IF(ISERROR(ROUND(QNST05_B!E219,4))=TRUE,\"\",ROUND(QNST05_B!E219,4))","v":0},{"$f":"IF(ISERROR(ROUND(QNST05_B!F219,4))=TRUE,\"\",ROUND(QNST05_B!F219,4))","v":0},{"$f":"IF(ISERROR(ROUND(QNST05_B!G219,4))=TRUE,\"\",ROUND(QNST05_B!G219,4))","v":0}]
[{"$f":"IF(QNST05_B!B220=\"\",\"\",VLOOKUP(QNST05_B!B220,L5A!$S$1:$T$266,2,FALSE))","v":""},{"$f":"IF(A211=\"W0\",$K$12,IF(QNST05_B!C220=\"\",\"\",VLOOKUP(QNST05_B!C220,$J$4:$K$12,2,FALSE)))","v":""},{"$f":"IF(OR(A211=\"W0\"),L5A!$L$21,IF(QNST05_B!D220=\"\",\"\",VLOOKUP(QNST05_B!D220,L5A!$K$18:$L$21,2,FALSE)))","v":""},{"$f":"IF(ISERROR(ROUND(QNST05_B!E220,4))=TRUE,\"\",ROUND(QNST05_B!E220,4))","v":0},{"$f":"IF(ISERROR(ROUND(QNST05_B!F220,4))=TRUE,\"\",ROUND(QNST05_B!F220,4))","v":0},{"$f":"IF(ISERROR(ROUND(QNST05_B!G220,4))=TRUE,\"\",ROUND(QNST05_B!G220,4))","v":0}]
[{"$f":"IF(QNST05_B!B221=\"\",\"\",VLOOKUP(QNST05_B!B221,L5A!$S$1:$T$266,2,FALSE))","v":""},{"$f":"IF(A212=\"W0\",$K$12,IF(QNST05_B!C221=\"\",\"\",VLOOKUP(QNST05_B!C221,$J$4:$K$12,2,FALSE)))","v":""},{"$f":"IF(OR(A212=\"W0\"),L5A!$L$21,IF(QNST05_B!D221=\"\",\"\",VLOOKUP(QNST05_B!D221,L5A!$K$18:$L$21,2,FALSE)))","v":""},{"$f":"IF(ISERROR(ROUND(QNST05_B!E221,4))=TRUE,\"\",ROUND(QNST05_B!E221,4))","v":0},{"$f":"IF(ISERROR(ROUND(QNST05_B!F221,4))=TRUE,\"\",ROUND(QNST05_B!F221,4))","v":0},{"$f":"IF(ISERROR(ROUND(QNST05_B!G221,4))=TRUE,\"\",ROUND(QNST05_B!G221,4))","v":0}]
[{"$f":"IF(QNST05_B!B222=\"\",\"\",VLOOKUP(QNST05_B!B222,L5A!$S$1:$T$266,2,FALSE))","v":""},{"$f":"IF(A213=\"W0\",$K$12,IF(QNST05_B!C222=\"\",\"\",VLOOKUP(QNST05_B!C222,$J$4:$K$12,2,FALSE)))","v":""},{"$f":"IF(OR(A213=\"W0\"),L5A!$L$21,IF(QNST05_B!D222=\"\",\"\",VLOOKUP(QNST05_B!D222,L5A!$K$18:$L$21,2,FALSE)))","v":""},{"$f":"IF(ISERROR(ROUND(QNST05_B!E222,4))=TRUE,\"\",ROUND(QNST05_B!E222,4))","v":0},{"$f":"IF(ISERROR(ROUND(QNST05_B!F222,4))=TRUE,\"\",ROUND(QNST05_B!F222,4))","v":0},{"$f":"IF(ISERROR(ROUND(QNST05_B!G222,4))=TRUE,\"\",ROUND(QNST05_B!G222,4))","v":0}]
[{"$f":"IF(QNST05_B!B223=\"\",\"\",VLOOKUP(QNST05_B!B223,L5A!$S$1:$T$266,2,FALSE))","v":""},{"$f":"IF(A214=\"W0\",$K$12,IF(QNST05_B!C223=\"\",\"\",VLOOKUP(QNST05_B!C223,$J$4:$K$12,2,FALSE)))","v":""},{"$f":"IF(OR(A214=\"W0\"),L5A!$L$21,IF(QNST05_B!D223=\"\",\"\",VLOOKUP(QNST05_B!D223,L5A!$K$18:$L$21,2,FALSE)))","v":""},{"$f":"IF(ISERROR(ROUND(QNST05_B!E223,4))=TRUE,\"\",ROUND(QNST05_B!E223,4))","v":0},{"$f":"IF(ISERROR(ROUND(QNST05_B!F223,4))=TRUE,\"\",ROUND(QNST05_B!F223,4))","v":0},{"$f":"IF(ISERROR(ROUND(QNST05_B!G223,4))=TRUE,\"\",ROUND(QNST05_B!G223,4))","v":0}]
[{"$f":"IF(QNST05_B!B224=\"\",\"\",VLOOKUP(QNST05_B!B224,L5A!$S$1:$T$266,2,FALSE))","v":""},{"$f":"IF(A215=\"W0\",$K$12,IF(QNST05_B!C224=\"\",\"\",VLOOKUP(QNST05_B!C224,$J$4:$K$12,2,FALSE)))","v":""},{"$f":"IF(OR(A215=\"W0\"),L5A!$L$21,IF(QNST05_B!D224=\"\",\"\",VLOOKUP(QNST05_B!D224,L5A!$K$18:$L$21,2,FALSE)))","v":""},{"$f":"IF(ISERROR(ROUND(QNST05_B!E224,4))=TRUE,\"\",ROUND(QNST05_B!E224,4))","v":0},{"$f":"IF(ISERROR(ROUND(QNST05_B!F224,4))=TRUE,\"\",ROUND(QNST05_B!F224,4))","v":0},{"$f":"IF(ISERROR(ROUND(QNST05_B!G224,4))=TRUE,\"\",ROUND(QNST05_B!G224,4))","v":0}]
[{"$f":"IF(QNST05_B!B225=\"\",\"\",VLOOKUP(QNST05_B!B225,L5A!$S$1:$T$266,2,FALSE))","v":""},{"$f":"IF(A216=\"W0\",$K$12,IF(QNST05_B!C225=\"\",\"\",VLOOKUP(QNST05_B!C225,$J$4:$K$12,2,FALSE)))","v":""},{"$f":"IF(OR(A216=\"W0\"),L5A!$L$21,IF(QNST05_B!D225=\"\",\"\",VLOOKUP(QNST05_B!D225,L5A!$K$18:$L$21,2,FALSE)))","v":""},{"$f":"IF(ISERROR(ROUND(QNST05_B!E225,4))=TRUE,\"\",ROUND(QNST05_B!E225,4))","v":0},{"$f":"IF(ISERROR(ROUND(QNST05_B!F225,4))=TRUE,\"\",ROUND(QNST05_B!F225,4))","v":0},{"$f":"IF(ISERROR(ROUND(QNST05_B!G225,4))=TRUE,\"\",ROUND(QNST05_B!G225,4))","v":0}]
[{"$f":"IF(QNST05_B!B226=\"\",\"\",VLOOKUP(QNST05_B!B226,L5A!$S$1:$T$266,2,FALSE))","v":""},{"$f":"IF(A217=\"W0\",$K$12,IF(QNST05_B!C226=\"\",\"\",VLOOKUP(QNST05_B!C226,$J$4:$K$12,2,FALSE)))","v":""},{"$f":"IF(OR(A217=\"W0\"),L5A!$L$21,IF(QNST05_B!D226=\"\",\"\",VLOOKUP(QNST05_B!D226,L5A!$K$18:$L$21,2,FALSE)))","v":""},{"$f":"IF(ISERROR(ROUND(QNST05_B!E226,4))=TRUE,\"\",ROUND(QNST05_B!E226,4))","v":0},{"$f":"IF(ISERROR(ROUND(QNST05_B!F226,4))=TRUE,\"\",ROUND(QNST05_B!F226,4))","v":0},{"$f":"IF(ISERROR(ROUND(QNST05_B!G226,4))=TRUE,\"\",ROUND(QNST05_B!G226,4))","v":0}]
[{"$f":"IF(QNST05_B!B227=\"\",\"\",VLOOKUP(QNST05_B!B227,L5A!$S$1:$T$266,2,FALSE))","v":""},{"$f":"IF(A218=\"W0\",$K$12,IF(QNST05_B!C227=\"\",\"\",VLOOKUP(QNST05_B!C227,$J$4:$K$12,2,FALSE)))","v":""},{"$f":"IF(OR(A218=\"W0\"),L5A!$L$21,IF(QNST05_B!D227=\"\",\"\",VLOOKUP(QNST05_B!D227,L5A!$K$18:$L$21,2,FALSE)))","v":""},{"$f":"IF(ISERROR(ROUND(QNST05_B!E227,4))=TRUE,\"\",ROUND(QNST05_B!E227,4))","v":0},{"$f":"IF(ISERROR(ROUND(QNST05_B!F227,4))=TRUE,\"\",ROUND(QNST05_B!F227,4))","v":0},{"$f":"IF(ISERROR(ROUND(QNST05_B!G227,4))=TRUE,\"\",ROUND(QNST05_B!G227,4))","v":0}]
[{"$f":"IF(QNST05_B!B228=\"\",\"\",VLOOKUP(QNST05_B!B228,L5A!$S$1:$T$266,2,FALSE))","v":""},{"$f":"IF(A219=\"W0\",$K$12,IF(QNST05_B!C228=\"\",\"\",VLOOKUP(QNST05_B!C228,$J$4:$K$12,2,FALSE)))","v":""},{"$f":"IF(OR(A219=\"W0\"),L5A!$L$21,IF(QNST05_B!D228=\"\",\"\",VLOOKUP(QNST05_B!D228,L5A!$K$18:$L$21,2,FALSE)))","v":""},{"$f":"IF(ISERROR(ROUND(QNST05_B!E228,4))=TRUE,\"\",ROUND(QNST05_B!E228,4))","v":0},{"$f":"IF(ISERROR(ROUND(QNST05_B!F228,4))=TRUE,\"\",ROUND(QNST05_B!F228,4))","v":0},{"$f":"IF(ISERROR(ROUND(QNST05_B!G228,4))=TRUE,\"\",ROUND(QNST05_B!G228,4))","v":0}]
[{"$f":"IF(QNST05_B!B229=\"\",\"\",VLOOKUP(QNST05_B!B229,L5A!$S$1:$T$266,2,FALSE))","v":""},{"$f":"IF(A220=\"W0\",$K$12,IF(QNST05_B!C229=\"\",\"\",VLOOKUP(QNST05_B!C229,$J$4:$K$12,2,FALSE)))","v":""},{"$f":"IF(OR(A220=\"W0\"),L5A!$L$21,IF(QNST05_B!D229=\"\",\"\",VLOOKUP(QNST05_B!D229,L5A!$K$18:$L$21,2,FALSE)))","v":""},{"$f":"IF(ISERROR(ROUND(QNST05_B!E229,4))=TRUE,\"\",ROUND(QNST05_B!E229,4))","v":0},{"$f":"IF(ISERROR(ROUND(QNST05_B!F229,4))=TRUE,\"\",ROUND(QNST05_B!F229,4))","v":0},{"$f":"IF(ISERROR(ROUND(QNST05_B!G229,4))=TRUE,\"\",ROUND(QNST05_B!G229,4))","v":0}]
[{"$f":"IF(QNST05_B!B230=\"\",\"\",VLOOKUP(QNST05_B!B230,L5A!$S$1:$T$266,2,FALSE))","v":""},{"$f":"IF(A221=\"W0\",$K$12,IF(QNST05_B!C230=\"\",\"\",VLOOKUP(QNST05_B!C230,$J$4:$K$12,2,FALSE)))","v":""},{"$f":"IF(OR(A221=\"W0\"),L5A!$L$21,IF(QNST05_B!D230=\"\",\"\",VLOOKUP(QNST05_B!D230,L5A!$K$18:$L$21,2,FALSE)))","v":""},{"$f":"IF(ISERROR(ROUND(QNST05_B!E230,4))=TRUE,\"\",ROUND(QNST05_B!E230,4))","v":0},{"$f":"IF(ISERROR(ROUND(QNST05_B!F230,4))=TRUE,\"\",ROUND(QNST05_B!F230,4))","v":0},{"$f":"IF(ISERROR(ROUND(QNST05_B!G230,4))=TRUE,\"\",ROUND(QNST05_B!G230,4))","v":0}]
[{"$f":"IF(QNST05_B!B231=\"\",\"\",VLOOKUP(QNST05_B!B231,L5A!$S$1:$T$266,2,FALSE))","v":""},{"$f":"IF(A222=\"W0\",$K$12,IF(QNST05_B!C231=\"\",\"\",VLOOKUP(QNST05_B!C231,$J$4:$K$12,2,FALSE)))","v":""},{"$f":"IF(OR(A222=\"W0\"),L5A!$L$21,IF(QNST05_B!D231=\"\",\"\",VLOOKUP(QNST05_B!D231,L5A!$K$18:$L$21,2,FALSE)))","v":""},{"$f":"IF(ISERROR(ROUND(QNST05_B!E231,4))=TRUE,\"\",ROUND(QNST05_B!E231,4))","v":0},{"$f":"IF(ISERROR(ROUND(QNST05_B!F231,4))=TRUE,\"\",ROUND(QNST05_B!F231,4))","v":0},{"$f":"IF(ISERROR(ROUND(QNST05_B!G231,4))=TRUE,\"\",ROUND(QNST05_B!G231,4))","v":0}]
[{"$f":"IF(QNST05_B!B232=\"\",\"\",VLOOKUP(QNST05_B!B232,L5A!$S$1:$T$266,2,FALSE))","v":""},{"$f":"IF(A223=\"W0\",$K$12,IF(QNST05_B!C232=\"\",\"\",VLOOKUP(QNST05_B!C232,$J$4:$K$12,2,FALSE)))","v":""},{"$f":"IF(OR(A223=\"W0\"),L5A!$L$21,IF(QNST05_B!D232=\"\",\"\",VLOOKUP(QNST05_B!D232,L5A!$K$18:$L$21,2,FALSE)))","v":""},{"$f":"IF(ISERROR(ROUND(QNST05_B!E232,4))=TRUE,\"\",ROUND(QNST05_B!E232,4))","v":0},{"$f":"IF(ISERROR(ROUND(QNST05_B!F232,4))=TRUE,\"\",ROUND(QNST05_B!F232,4))","v":0},{"$f":"IF(ISERROR(ROUND(QNST05_B!G232,4))=TRUE,\"\",ROUND(QNST05_B!G232,4))","v":0}]
[{"$f":"IF(QNST05_B!B233=\"\",\"\",VLOOKUP(QNST05_B!B233,L5A!$S$1:$T$266,2,FALSE))","v":""},{"$f":"IF(A224=\"W0\",$K$12,IF(QNST05_B!C233=\"\",\"\",VLOOKUP(QNST05_B!C233,$J$4:$K$12,2,FALSE)))","v":""},{"$f":"IF(OR(A224=\"W0\"),L5A!$L$21,IF(QNST05_B!D233=\"\",\"\",VLOOKUP(QNST05_B!D233,L5A!$K$18:$L$21,2,FALSE)))","v":""},{"$f":"IF(ISERROR(ROUND(QNST05_B!E233,4))=TRUE,\"\",ROUND(QNST05_B!E233,4))","v":0},{"$f":"IF(ISERROR(ROUND(QNST05_B!F233,4))=TRUE,\"\",ROUND(QNST05_B!F233,4))","v":0},{"$f":"IF(ISERROR(ROUND(QNST05_B!G233,4))=TRUE,\"\",ROUND(QNST05_B!G233,4))","v":0}]
[{"$f":"IF(QNST05_B!B234=\"\",\"\",VLOOKUP(QNST05_B!B234,L5A!$S$1:$T$266,2,FALSE))","v":""},{"$f":"IF(A225=\"W0\",$K$12,IF(QNST05_B!C234=\"\",\"\",VLOOKUP(QNST05_B!C234,$J$4:$K$12,2,FALSE)))","v":""},{"$f":"IF(OR(A225=\"W0\"),L5A!$L$21,IF(QNST05_B!D234=\"\",\"\",VLOOKUP(QNST05_B!D234,L5A!$K$18:$L$21,2,FALSE)))","v":""},{"$f":"IF(ISERROR(ROUND(QNST05_B!E234,4))=TRUE,\"\",ROUND(QNST05_B!E234,4))","v":0},{"$f":"IF(ISERROR(ROUND(QNST05_B!F234,4))=TRUE,\"\",ROUND(QNST05_B!F234,4))","v":0},{"$f":"IF(ISERROR(ROUND(QNST05_B!G234,4))=TRUE,\"\",ROUND(QNST05_B!G234,4))","v":0}]
[{"$f":"IF(QNST05_B!B235=\"\",\"\",VLOOKUP(QNST05_B!B235,L5A!$S$1:$T$266,2,FALSE))","v":""},{"$f":"IF(A226=\"W0\",$K$12,IF(QNST05_B!C235=\"\",\"\",VLOOKUP(QNST05_B!C235,$J$4:$K$12,2,FALSE)))","v":""},{"$f":"IF(OR(A226=\"W0\"),L5A!$L$21,IF(QNST05_B!D235=\"\",\"\",VLOOKUP(QNST05_B!D235,L5A!$K$18:$L$21,2,FALSE)))","v":""},{"$f":"IF(ISERROR(ROUND(QNST05_B!E235,4))=TRUE,\"\",ROUND(QNST05_B!E235,4))","v":0},{"$f":"IF(ISERROR(ROUND(QNST05_B!F235,4))=TRUE,\"\",ROUND(QNST05_B!F235,4))","v":0},{"$f":"IF(ISERROR(ROUND(QNST05_B!G235,4))=TRUE,\"\",ROUND(QNST05_B!G235,4))","v":0}]
[{"$f":"IF(QNST05_B!B236=\"\",\"\",VLOOKUP(QNST05_B!B236,L5A!$S$1:$T$266,2,FALSE))","v":""},{"$f":"IF(A227=\"W0\",$K$12,IF(QNST05_B!C236=\"\",\"\",VLOOKUP(QNST05_B!C236,$J$4:$K$12,2,FALSE)))","v":""},{"$f":"IF(OR(A227=\"W0\"),L5A!$L$21,IF(QNST05_B!D236=\"\",\"\",VLOOKUP(QNST05_B!D236,L5A!$K$18:$L$21,2,FALSE)))","v":""},{"$f":"IF(ISERROR(ROUND(QNST05_B!E236,4))=TRUE,\"\",ROUND(QNST05_B!E236,4))","v":0},{"$f":"IF(ISERROR(ROUND(QNST05_B!F236,4))=TRUE,\"\",ROUND(QNST05_B!F236,4))","v":0},{"$f":"IF(ISERROR(ROUND(QNST05_B!G236,4))=TRUE,\"\",ROUND(QNST05_B!G236,4))","v":0}]
[{"$f":"IF(QNST05_B!B237=\"\",\"\",VLOOKUP(QNST05_B!B237,L5A!$S$1:$T$266,2,FALSE))","v":""},{"$f":"IF(A228=\"W0\",$K$12,IF(QNST05_B!C237=\"\",\"\",VLOOKUP(QNST05_B!C237,$J$4:$K$12,2,FALSE)))","v":""},{"$f":"IF(OR(A228=\"W0\"),L5A!$L$21,IF(QNST05_B!D237=\"\",\"\",VLOOKUP(QNST05_B!D237,L5A!$K$18:$L$21,2,FALSE)))","v":""},{"$f":"IF(ISERROR(ROUND(QNST05_B!E237,4))=TRUE,\"\",ROUND(QNST05_B!E237,4))","v":0},{"$f":"IF(ISERROR(ROUND(QNST05_B!F237,4))=TRUE,\"\",ROUND(QNST05_B!F237,4))","v":0},{"$f":"IF(ISERROR(ROUND(QNST05_B!G237,4))=TRUE,\"\",ROUND(QNST05_B!G237,4))","v":0}]
[{"$f":"IF(QNST05_B!B238=\"\",\"\",VLOOKUP(QNST05_B!B238,L5A!$S$1:$T$266,2,FALSE))","v":""},{"$f":"IF(A229=\"W0\",$K$12,IF(QNST05_B!C238=\"\",\"\",VLOOKUP(QNST05_B!C238,$J$4:$K$12,2,FALSE)))","v":""},{"$f":"IF(OR(A229=\"W0\"),L5A!$L$21,IF(QNST05_B!D238=\"\",\"\",VLOOKUP(QNST05_B!D238,L5A!$K$18:$L$21,2,FALSE)))","v":""},{"$f":"IF(ISERROR(ROUND(QNST05_B!E238,4))=TRUE,\"\",ROUND(QNST05_B!E238,4))","v":0},{"$f":"IF(ISERROR(ROUND(QNST05_B!F238,4))=TRUE,\"\",ROUND(QNST05_B!F238,4))","v":0},{"$f":"IF(ISERROR(ROUND(QNST05_B!G238,4))=TRUE,\"\",ROUND(QNST05_B!G238,4))","v":0}]
[{"$f":"IF(QNST05_B!B239=\"\",\"\",VLOOKUP(QNST05_B!B239,L5A!$S$1:$T$266,2,FALSE))","v":""},{"$f":"IF(A230=\"W0\",$K$12,IF(QNST05_B!C239=\"\",\"\",VLOOKUP(QNST05_B!C239,$J$4:$K$12,2,FALSE)))","v":""},{"$f":"IF(OR(A230=\"W0\"),L5A!$L$21,IF(QNST05_B!D239=\"\",\"\",VLOOKUP(QNST05_B!D239,L5A!$K$18:$L$21,2,FALSE)))","v":""},{"$f":"IF(ISERROR(ROUND(QNST05_B!E239,4))=TRUE,\"\",ROUND(QNST05_B!E239,4))","v":0},{"$f":"IF(ISERROR(ROUND(QNST05_B!F239,4))=TRUE,\"\",ROUND(QNST05_B!F239,4))","v":0},{"$f":"IF(ISERROR(ROUND(QNST05_B!G239,4))=TRUE,\"\",ROUND(QNST05_B!G239,4))","v":0}]
[{"$f":"IF(QNST05_B!B240=\"\",\"\",VLOOKUP(QNST05_B!B240,L5A!$S$1:$T$266,2,FALSE))","v":""},{"$f":"IF(A231=\"W0\",$K$12,IF(QNST05_B!C240=\"\",\"\",VLOOKUP(QNST05_B!C240,$J$4:$K$12,2,FALSE)))","v":""},{"$f":"IF(OR(A231=\"W0\"),L5A!$L$21,IF(QNST05_B!D240=\"\",\"\",VLOOKUP(QNST05_B!D240,L5A!$K$18:$L$21,2,FALSE)))","v":""},{"$f":"IF(ISERROR(ROUND(QNST05_B!E240,4))=TRUE,\"\",ROUND(QNST05_B!E240,4))","v":0},{"$f":"IF(ISERROR(ROUND(QNST05_B!F240,4))=TRUE,\"\",ROUND(QNST05_B!F240,4))","v":0},{"$f":"IF(ISERROR(ROUND(QNST05_B!G240,4))=TRUE,\"\",ROUND(QNST05_B!G240,4))","v":0}]
[{"$f":"IF(QNST05_B!B241=\"\",\"\",VLOOKUP(QNST05_B!B241,L5A!$S$1:$T$266,2,FALSE))","v":""},{"$f":"IF(A232=\"W0\",$K$12,IF(QNST05_B!C241=\"\",\"\",VLOOKUP(QNST05_B!C241,$J$4:$K$12,2,FALSE)))","v":""},{"$f":"IF(OR(A232=\"W0\"),L5A!$L$21,IF(QNST05_B!D241=\"\",\"\",VLOOKUP(QNST05_B!D241,L5A!$K$18:$L$21,2,FALSE)))","v":""},{"$f":"IF(ISERROR(ROUND(QNST05_B!E241,4))=TRUE,\"\",ROUND(QNST05_B!E241,4))","v":0},{"$f":"IF(ISERROR(ROUND(QNST05_B!F241,4))=TRUE,\"\",ROUND(QNST05_B!F241,4))","v":0},{"$f":"IF(ISERROR(ROUND(QNST05_B!G241,4))=TRUE,\"\",ROUND(QNST05_B!G241,4))","v":0}]
[{"$f":"IF(QNST05_B!B242=\"\",\"\",VLOOKUP(QNST05_B!B242,L5A!$S$1:$T$266,2,FALSE))","v":""},{"$f":"IF(A233=\"W0\",$K$12,IF(QNST05_B!C242=\"\",\"\",VLOOKUP(QNST05_B!C242,$J$4:$K$12,2,FALSE)))","v":""},{"$f":"IF(OR(A233=\"W0\"),L5A!$L$21,IF(QNST05_B!D242=\"\",\"\",VLOOKUP(QNST05_B!D242,L5A!$K$18:$L$21,2,FALSE)))","v":""},{"$f":"IF(ISERROR(ROUND(QNST05_B!E242,4))=TRUE,\"\",ROUND(QNST05_B!E242,4))","v":0},{"$f":"IF(ISERROR(ROUND(QNST05_B!F242,4))=TRUE,\"\",ROUND(QNST05_B!F242,4))","v":0},{"$f":"IF(ISERROR(ROUND(QNST05_B!G242,4))=TRUE,\"\",ROUND(QNST05_B!G242,4))","v":0}]
[{"$f":"IF(QNST05_B!B243=\"\",\"\",VLOOKUP(QNST05_B!B243,L5A!$S$1:$T$266,2,FALSE))","v":""},{"$f":"IF(A234=\"W0\",$K$12,IF(QNST05_B!C243=\"\",\"\",VLOOKUP(QNST05_B!C243,$J$4:$K$12,2,FALSE)))","v":""},{"$f":"IF(OR(A234=\"W0\"),L5A!$L$21,IF(QNST05_B!D243=\"\",\"\",VLOOKUP(QNST05_B!D243,L5A!$K$18:$L$21,2,FALSE)))","v":""},{"$f":"IF(ISERROR(ROUND(QNST05_B!E243,4))=TRUE,\"\",ROUND(QNST05_B!E243,4))","v":0},{"$f":"IF(ISERROR(ROUND(QNST05_B!F243,4))=TRUE,\"\",ROUND(QNST05_B!F243,4))","v":0},{"$f":"IF(ISERROR(ROUND(QNST05_B!G243,4))=TRUE,\"\",ROUND(QNST05_B!G243,4))","v":0}]
[{"$f":"IF(QNST05_B!B244=\"\",\"\",VLOOKUP(QNST05_B!B244,L5A!$S$1:$T$266,2,FALSE))","v":""},{"$f":"IF(A235=\"W0\",$K$12,IF(QNST05_B!C244=\"\",\"\",VLOOKUP(QNST05_B!C244,$J$4:$K$12,2,FALSE)))","v":""},{"$f":"IF(OR(A235=\"W0\"),L5A!$L$21,IF(QNST05_B!D244=\"\",\"\",VLOOKUP(QNST05_B!D244,L5A!$K$18:$L$21,2,FALSE)))","v":""},{"$f":"IF(ISERROR(ROUND(QNST05_B!E244,4))=TRUE,\"\",ROUND(QNST05_B!E244,4))","v":0},{"$f":"IF(ISERROR(ROUND(QNST05_B!F244,4))=TRUE,\"\",ROUND(QNST05_B!F244,4))","v":0},{"$f":"IF(ISERROR(ROUND(QNST05_B!G244,4))=TRUE,\"\",ROUND(QNST05_B!G244,4))","v":0}]
[{"$f":"IF(QNST05_B!B245=\"\",\"\",VLOOKUP(QNST05_B!B245,L5A!$S$1:$T$266,2,FALSE))","v":""},{"$f":"IF(A236=\"W0\",$K$12,IF(QNST05_B!C245=\"\",\"\",VLOOKUP(QNST05_B!C245,$J$4:$K$12,2,FALSE)))","v":""},{"$f":"IF(OR(A236=\"W0\"),L5A!$L$21,IF(QNST05_B!D245=\"\",\"\",VLOOKUP(QNST05_B!D245,L5A!$K$18:$L$21,2,FALSE)))","v":""},{"$f":"IF(ISERROR(ROUND(QNST05_B!E245,4))=TRUE,\"\",ROUND(QNST05_B!E245,4))","v":0},{"$f":"IF(ISERROR(ROUND(QNST05_B!F245,4))=TRUE,\"\",ROUND(QNST05_B!F245,4))","v":0},{"$f":"IF(ISERROR(ROUND(QNST05_B!G245,4))=TRUE,\"\",ROUND(QNST05_B!G245,4))","v":0}]
[{"$f":"IF(QNST05_B!B246=\"\",\"\",VLOOKUP(QNST05_B!B246,L5A!$S$1:$T$266,2,FALSE))","v":""},{"$f":"IF(A237=\"W0\",$K$12,IF(QNST05_B!C246=\"\",\"\",VLOOKUP(QNST05_B!C246,$J$4:$K$12,2,FALSE)))","v":""},{"$f":"IF(OR(A237=\"W0\"),L5A!$L$21,IF(QNST05_B!D246=\"\",\"\",VLOOKUP(QNST05_B!D246,L5A!$K$18:$L$21,2,FALSE)))","v":""},{"$f":"IF(ISERROR(ROUND(QNST05_B!E246,4))=TRUE,\"\",ROUND(QNST05_B!E246,4))","v":0},{"$f":"IF(ISERROR(ROUND(QNST05_B!F246,4))=TRUE,\"\",ROUND(QNST05_B!F246,4))","v":0},{"$f":"IF(ISERROR(ROUND(QNST05_B!G246,4))=TRUE,\"\",ROUND(QNST05_B!G246,4))","v":0}]
[{"$f":"IF(QNST05_B!B247=\"\",\"\",VLOOKUP(QNST05_B!B247,L5A!$S$1:$T$266,2,FALSE))","v":""},{"$f":"IF(A238=\"W0\",$K$12,IF(QNST05_B!C247=\"\",\"\",VLOOKUP(QNST05_B!C247,$J$4:$K$12,2,FALSE)))","v":""},{"$f":"IF(OR(A238=\"W0\"),L5A!$L$21,IF(QNST05_B!D247=\"\",\"\",VLOOKUP(QNST05_B!D247,L5A!$K$18:$L$21,2,FALSE)))","v":""},{"$f":"IF(ISERROR(ROUND(QNST05_B!E247,4))=TRUE,\"\",ROUND(QNST05_B!E247,4))","v":0},{"$f":"IF(ISERROR(ROUND(QNST05_B!F247,4))=TRUE,\"\",ROUND(QNST05_B!F247,4))","v":0},{"$f":"IF(ISERROR(ROUND(QNST05_B!G247,4))=TRUE,\"\",ROUND(QNST05_B!G247,4))","v":0}]
[{"$f":"IF(QNST05_B!B248=\"\",\"\",VLOOKUP(QNST05_B!B248,L5A!$S$1:$T$266,2,FALSE))","v":""},{"$f":"IF(A239=\"W0\",$K$12,IF(QNST05_B!C248=\"\",\"\",VLOOKUP(QNST05_B!C248,$J$4:$K$12,2,FALSE)))","v":""},{"$f":"IF(OR(A239=\"W0\"),L5A!$L$21,IF(QNST05_B!D248=\"\",\"\",VLOOKUP(QNST05_B!D248,L5A!$K$18:$L$21,2,FALSE)))","v":""},{"$f":"IF(ISERROR(ROUND(QNST05_B!E248,4))=TRUE,\"\",ROUND(QNST05_B!E248,4))","v":0},{"$f":"IF(ISERROR(ROUND(QNST05_B!F248,4))=TRUE,\"\",ROUND(QNST05_B!F248,4))","v":0},{"$f":"IF(ISERROR(ROUND(QNST05_B!G248,4))=TRUE,\"\",ROUND(QNST05_B!G248,4))","v":0}]
[{"$f":"IF(QNST05_B!B249=\"\",\"\",VLOOKUP(QNST05_B!B249,L5A!$S$1:$T$266,2,FALSE))","v":""},{"$f":"IF(A240=\"W0\",$K$12,IF(QNST05_B!C249=\"\",\"\",VLOOKUP(QNST05_B!C249,$J$4:$K$12,2,FALSE)))","v":""},{"$f":"IF(OR(A240=\"W0\"),L5A!$L$21,IF(QNST05_B!D249=\"\",\"\",VLOOKUP(QNST05_B!D249,L5A!$K$18:$L$21,2,FALSE)))","v":""},{"$f":"IF(ISERROR(ROUND(QNST05_B!E249,4))=TRUE,\"\",ROUND(QNST05_B!E249,4))","v":0},{"$f":"IF(ISERROR(ROUND(QNST05_B!F249,4))=TRUE,\"\",ROUND(QNST05_B!F249,4))","v":0},{"$f":"IF(ISERROR(ROUND(QNST05_B!G249,4))=TRUE,\"\",ROUND(QNST05_B!G249,4))","v":0}]
[{"$f":"IF(QNST05_B!B250=\"\",\"\",VLOOKUP(QNST05_B!B250,L5A!$S$1:$T$266,2,FALSE))","v":""},{"$f":"IF(A241=\"W0\",$K$12,IF(QNST05_B!C250=\"\",\"\",VLOOKUP(QNST05_B!C250,$J$4:$K$12,2,FALSE)))","v":""},{"$f":"IF(OR(A241=\"W0\"),L5A!$L$21,IF(QNST05_B!D250=\"\",\"\",VLOOKUP(QNST05_B!D250,L5A!$K$18:$L$21,2,FALSE)))","v":""},{"$f":"IF(ISERROR(ROUND(QNST05_B!E250,4))=TRUE,\"\",ROUND(QNST05_B!E250,4))","v":0},{"$f":"IF(ISERROR(ROUND(QNST05_B!F250,4))=TRUE,\"\",ROUND(QNST05_B!F250,4))","v":0},{"$f":"IF(ISERROR(ROUND(QNST05_B!G250,4))=TRUE,\"\",ROUND(QNST05_B!G250,4))","v":0}]
[{"$f":"IF(QNST05_B!B251=\"\",\"\",VLOOKUP(QNST05_B!B251,L5A!$S$1:$T$266,2,FALSE))","v":""},{"$f":"IF(A242=\"W0\",$K$12,IF(QNST05_B!C251=\"\",\"\",VLOOKUP(QNST05_B!C251,$J$4:$K$12,2,FALSE)))","v":""},{"$f":"IF(OR(A242=\"W0\"),L5A!$L$21,IF(QNST05_B!D251=\"\",\"\",VLOOKUP(QNST05_B!D251,L5A!$K$18:$L$21,2,FALSE)))","v":""},{"$f":"IF(ISERROR(ROUND(QNST05_B!E251,4))=TRUE,\"\",ROUND(QNST05_B!E251,4))","v":0},{"$f":"IF(ISERROR(ROUND(QNST05_B!F251,4))=TRUE,\"\",ROUND(QNST05_B!F251,4))","v":0},{"$f":"IF(ISERROR(ROUND(QNST05_B!G251,4))=TRUE,\"\",ROUND(QNST05_B!G251,4))","v":0}]
[{"$f":"IF(QNST05_B!B252=\"\",\"\",VLOOKUP(QNST05_B!B252,L5A!$S$1:$T$266,2,FALSE))","v":""},{"$f":"IF(A243=\"W0\",$K$12,IF(QNST05_B!C252=\"\",\"\",VLOOKUP(QNST05_B!C252,$J$4:$K$12,2,FALSE)))","v":""},{"$f":"IF(OR(A243=\"W0\"),L5A!$L$21,IF(QNST05_B!D252=\"\",\"\",VLOOKUP(QNST05_B!D252,L5A!$K$18:$L$21,2,FALSE)))","v":""},{"$f":"IF(ISERROR(ROUND(QNST05_B!E252,4))=TRUE,\"\",ROUND(QNST05_B!E252,4))","v":0},{"$f":"IF(ISERROR(ROUND(QNST05_B!F252,4))=TRUE,\"\",ROUND(QNST05_B!F252,4))","v":0},{"$f":"IF(ISERROR(ROUND(QNST05_B!G252,4))=TRUE,\"\",ROUND(QNST05_B!G252,4))","v":0}]
[{"$f":"IF(QNST05_B!B253=\"\",\"\",VLOOKUP(QNST05_B!B253,L5A!$S$1:$T$266,2,FALSE))","v":""},{"$f":"IF(A244=\"W0\",$K$12,IF(QNST05_B!C253=\"\",\"\",VLOOKUP(QNST05_B!C253,$J$4:$K$12,2,FALSE)))","v":""},{"$f":"IF(OR(A244=\"W0\"),L5A!$L$21,IF(QNST05_B!D253=\"\",\"\",VLOOKUP(QNST05_B!D253,L5A!$K$18:$L$21,2,FALSE)))","v":""},{"$f":"IF(ISERROR(ROUND(QNST05_B!E253,4))=TRUE,\"\",ROUND(QNST05_B!E253,4))","v":0},{"$f":"IF(ISERROR(ROUND(QNST05_B!F253,4))=TRUE,\"\",ROUND(QNST05_B!F253,4))","v":0},{"$f":"IF(ISERROR(ROUND(QNST05_B!G253,4))=TRUE,\"\",ROUND(QNST05_B!G253,4))","v":0}]
[{"$f":"IF(QNST05_B!B254=\"\",\"\",VLOOKUP(QNST05_B!B254,L5A!$S$1:$T$266,2,FALSE))","v":""},{"$f":"IF(A245=\"W0\",$K$12,IF(QNST05_B!C254=\"\",\"\",VLOOKUP(QNST05_B!C254,$J$4:$K$12,2,FALSE)))","v":""},{"$f":"IF(OR(A245=\"W0\"),L5A!$L$21,IF(QNST05_B!D254=\"\",\"\",VLOOKUP(QNST05_B!D254,L5A!$K$18:$L$21,2,FALSE)))","v":""},{"$f":"IF(ISERROR(ROUND(QNST05_B!E254,4))=TRUE,\"\",ROUND(QNST05_B!E254,4))","v":0},{"$f":"IF(ISERROR(ROUND(QNST05_B!F254,4))=TRUE,\"\",ROUND(QNST05_B!F254,4))","v":0},{"$f":"IF(ISERROR(ROUND(QNST05_B!G254,4))=TRUE,\"\",ROUND(QNST05_B!G254,4))","v":0}]
[{"$f":"IF(QNST05_B!B255=\"\",\"\",VLOOKUP(QNST05_B!B255,L5A!$S$1:$T$266,2,FALSE))","v":""},{"$f":"IF(A246=\"W0\",$K$12,IF(QNST05_B!C255=\"\",\"\",VLOOKUP(QNST05_B!C255,$J$4:$K$12,2,FALSE)))","v":""},{"$f":"IF(OR(A246=\"W0\"),L5A!$L$21,IF(QNST05_B!D255=\"\",\"\",VLOOKUP(QNST05_B!D255,L5A!$K$18:$L$21,2,FALSE)))","v":""},{"$f":"IF(ISERROR(ROUND(QNST05_B!E255,4))=TRUE,\"\",ROUND(QNST05_B!E255,4))","v":0},{"$f":"IF(ISERROR(ROUND(QNST05_B!F255,4))=TRUE,\"\",ROUND(QNST05_B!F255,4))","v":0},{"$f":"IF(ISERROR(ROUND(QNST05_B!G255,4))=TRUE,\"\",ROUND(QNST05_B!G255,4))","v":0}]
[{"$f":"IF(QNST05_B!B256=\"\",\"\",VLOOKUP(QNST05_B!B256,L5A!$S$1:$T$266,2,FALSE))","v":""},{"$f":"IF(A247=\"W0\",$K$12,IF(QNST05_B!C256=\"\",\"\",VLOOKUP(QNST05_B!C256,$J$4:$K$12,2,FALSE)))","v":""},{"$f":"IF(OR(A247=\"W0\"),L5A!$L$21,IF(QNST05_B!D256=\"\",\"\",VLOOKUP(QNST05_B!D256,L5A!$K$18:$L$21,2,FALSE)))","v":""},{"$f":"IF(ISERROR(ROUND(QNST05_B!E256,4))=TRUE,\"\",ROUND(QNST05_B!E256,4))","v":0},{"$f":"IF(ISERROR(ROUND(QNST05_B!F256,4))=TRUE,\"\",ROUND(QNST05_B!F256,4))","v":0},{"$f":"IF(ISERROR(ROUND(QNST05_B!G256,4))=TRUE,\"\",ROUND(QNST05_B!G256,4))","v":0}]
[{"$f":"IF(QNST05_B!B257=\"\",\"\",VLOOKUP(QNST05_B!B257,L5A!$S$1:$T$266,2,FALSE))","v":""},{"$f":"IF(A248=\"W0\",$K$12,IF(QNST05_B!C257=\"\",\"\",VLOOKUP(QNST05_B!C257,$J$4:$K$12,2,FALSE)))","v":""},{"$f":"IF(OR(A248=\"W0\"),L5A!$L$21,IF(QNST05_B!D257=\"\",\"\",VLOOKUP(QNST05_B!D257,L5A!$K$18:$L$21,2,FALSE)))","v":""},{"$f":"IF(ISERROR(ROUND(QNST05_B!E257,4))=TRUE,\"\",ROUND(QNST05_B!E257,4))","v":0},{"$f":"IF(ISERROR(ROUND(QNST05_B!F257,4))=TRUE,\"\",ROUND(QNST05_B!F257,4))","v":0},{"$f":"IF(ISERROR(ROUND(QNST05_B!G257,4))=TRUE,\"\",ROUND(QNST05_B!G257,4))","v":0}]
[{"$f":"IF(QNST05_B!B258=\"\",\"\",VLOOKUP(QNST05_B!B258,L5A!$S$1:$T$266,2,FALSE))","v":""},{"$f":"IF(A249=\"W0\",$K$12,IF(QNST05_B!C258=\"\",\"\",VLOOKUP(QNST05_B!C258,$J$4:$K$12,2,FALSE)))","v":""},{"$f":"IF(OR(A249=\"W0\"),L5A!$L$21,IF(QNST05_B!D258=\"\",\"\",VLOOKUP(QNST05_B!D258,L5A!$K$18:$L$21,2,FALSE)))","v":""},{"$f":"IF(ISERROR(ROUND(QNST05_B!E258,4))=TRUE,\"\",ROUND(QNST05_B!E258,4))","v":0},{"$f":"IF(ISERROR(ROUND(QNST05_B!F258,4))=TRUE,\"\",ROUND(QNST05_B!F258,4))","v":0},{"$f":"IF(ISERROR(ROUND(QNST05_B!G258,4))=TRUE,\"\",ROUND(QNST05_B!G258,4))","v":0}]
[{"$f":"IF(QNST05_B!B259=\"\",\"\",VLOOKUP(QNST05_B!B259,L5A!$S$1:$T$266,2,FALSE))","v":""},{"$f":"IF(A250=\"W0\",$K$12,IF(QNST05_B!C259=\"\",\"\",VLOOKUP(QNST05_B!C259,$J$4:$K$12,2,FALSE)))","v":""},{"$f":"IF(OR(A250=\"W0\"),L5A!$L$21,IF(QNST05_B!D259=\"\",\"\",VLOOKUP(QNST05_B!D259,L5A!$K$18:$L$21,2,FALSE)))","v":""},{"$f":"IF(ISERROR(ROUND(QNST05_B!E259,4))=TRUE,\"\",ROUND(QNST05_B!E259,4))","v":0},{"$f":"IF(ISERROR(ROUND(QNST05_B!F259,4))=TRUE,\"\",ROUND(QNST05_B!F259,4))","v":0},{"$f":"IF(ISERROR(ROUND(QNST05_B!G259,4))=TRUE,\"\",ROUND(QNST05_B!G259,4))","v":0}]
[{"$f":"IF(QNST05_B!B260=\"\",\"\",VLOOKUP(QNST05_B!B260,L5A!$S$1:$T$266,2,FALSE))","v":""},{"$f":"IF(A251=\"W0\",$K$12,IF(QNST05_B!C260=\"\",\"\",VLOOKUP(QNST05_B!C260,$J$4:$K$12,2,FALSE)))","v":""},{"$f":"IF(OR(A251=\"W0\"),L5A!$L$21,IF(QNST05_B!D260=\"\",\"\",VLOOKUP(QNST05_B!D260,L5A!$K$18:$L$21,2,FALSE)))","v":""},{"$f":"IF(ISERROR(ROUND(QNST05_B!E260,4))=TRUE,\"\",ROUND(QNST05_B!E260,4))","v":0},{"$f":"IF(ISERROR(ROUND(QNST05_B!F260,4))=TRUE,\"\",ROUND(QNST05_B!F260,4))","v":0},{"$f":"IF(ISERROR(ROUND(QNST05_B!G260,4))=TRUE,\"\",ROUND(QNST05_B!G260,4))","v":0}]
[{"$f":"IF(QNST05_B!B261=\"\",\"\",VLOOKUP(QNST05_B!B261,L5A!$S$1:$T$266,2,FALSE))","v":""},{"$f":"IF(A252=\"W0\",$K$12,IF(QNST05_B!C261=\"\",\"\",VLOOKUP(QNST05_B!C261,$J$4:$K$12,2,FALSE)))","v":""},{"$f":"IF(OR(A252=\"W0\"),L5A!$L$21,IF(QNST05_B!D261=\"\",\"\",VLOOKUP(QNST05_B!D261,L5A!$K$18:$L$21,2,FALSE)))","v":""},{"$f":"IF(ISERROR(ROUND(QNST05_B!E261,4))=TRUE,\"\",ROUND(QNST05_B!E261,4))","v":0},{"$f":"IF(ISERROR(ROUND(QNST05_B!F261,4))=TRUE,\"\",ROUND(QNST05_B!F261,4))","v":0},{"$f":"IF(ISERROR(ROUND(QNST05_B!G261,4))=TRUE,\"\",ROUND(QNST05_B!G261,4))","v":0}]
[{"$f":"IF(QNST05_B!B262=\"\",\"\",VLOOKUP(QNST05_B!B262,L5A!$S$1:$T$266,2,FALSE))","v":""},{"$f":"IF(A253=\"W0\",$K$12,IF(QNST05_B!C262=\"\",\"\",VLOOKUP(QNST05_B!C262,$J$4:$K$12,2,FALSE)))","v":""},{"$f":"IF(OR(A253=\"W0\"),L5A!$L$21,IF(QNST05_B!D262=\"\",\"\",VLOOKUP(QNST05_B!D262,L5A!$K$18:$L$21,2,FALSE)))","v":""},{"$f":"IF(ISERROR(ROUND(QNST05_B!E262,4))=TRUE,\"\",ROUND(QNST05_B!E262,4))","v":0},{"$f":"IF(ISERROR(ROUND(QNST05_B!F262,4))=TRUE,\"\",ROUND(QNST05_B!F262,4))","v":0},{"$f":"IF(ISERROR(ROUND(QNST05_B!G262,4))=TRUE,\"\",ROUND(QNST05_B!G262,4))","v":0}]
[{"$f":"IF(QNST05_B!B263=\"\",\"\",VLOOKUP(QNST05_B!B263,L5A!$S$1:$T$266,2,FALSE))","v":""},{"$f":"IF(A254=\"W0\",$K$12,IF(QNST05_B!C263=\"\",\"\",VLOOKUP(QNST05_B!C263,$J$4:$K$12,2,FALSE)))","v":""},{"$f":"IF(OR(A254=\"W0\"),L5A!$L$21,IF(QNST05_B!D263=\"\",\"\",VLOOKUP(QNST05_B!D263,L5A!$K$18:$L$21,2,FALSE)))","v":""},{"$f":"IF(ISERROR(ROUND(QNST05_B!E263,4))=TRUE,\"\",ROUND(QNST05_B!E263,4))","v":0},{"$f":"IF(ISERROR(ROUND(QNST05_B!F263,4))=TRUE,\"\",ROUND(QNST05_B!F263,4))","v":0},{"$f":"IF(ISERROR(ROUND(QNST05_B!G263,4))=TRUE,\"\",ROUND(QNST05_B!G263,4))","v":0}]
[{"$f":"IF(QNST05_B!B264=\"\",\"\",VLOOKUP(QNST05_B!B264,L5A!$S$1:$T$266,2,FALSE))","v":""},{"$f":"IF(A255=\"W0\",$K$12,IF(QNST05_B!C264=\"\",\"\",VLOOKUP(QNST05_B!C264,$J$4:$K$12,2,FALSE)))","v":""},{"$f":"IF(OR(A255=\"W0\"),L5A!$L$21,IF(QNST05_B!D264=\"\",\"\",VLOOKUP(QNST05_B!D264,L5A!$K$18:$L$21,2,FALSE)))","v":""},{"$f":"IF(ISERROR(ROUND(QNST05_B!E264,4))=TRUE,\"\",ROUND(QNST05_B!E264,4))","v":0},{"$f":"IF(ISERROR(ROUND(QNST05_B!F264,4))=TRUE,\"\",ROUND(QNST05_B!F264,4))","v":0},{"$f":"IF(ISERROR(ROUND(QNST05_B!G264,4))=TRUE,\"\",ROUND(QNST05_B!G264,4))","v":0}]
[{"$f":"IF(QNST05_B!B265=\"\",\"\",VLOOKUP(QNST05_B!B265,L5A!$S$1:$T$266,2,FALSE))","v":""},{"$f":"IF(A256=\"W0\",$K$12,IF(QNST05_B!C265=\"\",\"\",VLOOKUP(QNST05_B!C265,$J$4:$K$12,2,FALSE)))","v":""},{"$f":"IF(OR(A256=\"W0\"),L5A!$L$21,IF(QNST05_B!D265=\"\",\"\",VLOOKUP(QNST05_B!D265,L5A!$K$18:$L$21,2,FALSE)))","v":""},{"$f":"IF(ISERROR(ROUND(QNST05_B!E265,4))=TRUE,\"\",ROUND(QNST05_B!E265,4))","v":0},{"$f":"IF(ISERROR(ROUND(QNST05_B!F265,4))=TRUE,\"\",ROUND(QNST05_B!F265,4))","v":0},{"$f":"IF(ISERROR(ROUND(QNST05_B!G265,4))=TRUE,\"\",ROUND(QNST05_B!G265,4))","v":0}]
[{"$f":"IF(QNST05_B!B266=\"\",\"\",VLOOKUP(QNST05_B!B266,L5A!$S$1:$T$266,2,FALSE))","v":""},{"$f":"IF(A257=\"W0\",$K$12,IF(QNST05_B!C266=\"\",\"\",VLOOKUP(QNST05_B!C266,$J$4:$K$12,2,FALSE)))","v":""},{"$f":"IF(OR(A257=\"W0\"),L5A!$L$21,IF(QNST05_B!D266=\"\",\"\",VLOOKUP(QNST05_B!D266,L5A!$K$18:$L$21,2,FALSE)))","v":""},{"$f":"IF(ISERROR(ROUND(QNST05_B!E266,4))=TRUE,\"\",ROUND(QNST05_B!E266,4))","v":0},{"$f":"IF(ISERROR(ROUND(QNST05_B!F266,4))=TRUE,\"\",ROUND(QNST05_B!F266,4))","v":0},{"$f":"IF(ISERROR(ROUND(QNST05_B!G266,4))=TRUE,\"\",ROUND(QNST05_B!G266,4))","v":0}]
[{"$f":"IF(QNST05_B!B267=\"\",\"\",VLOOKUP(QNST05_B!B267,L5A!$S$1:$T$266,2,FALSE))","v":""},{"$f":"IF(A258=\"W0\",$K$12,IF(QNST05_B!C267=\"\",\"\",VLOOKUP(QNST05_B!C267,$J$4:$K$12,2,FALSE)))","v":""},{"$f":"IF(OR(A258=\"W0\"),L5A!$L$21,IF(QNST05_B!D267=\"\",\"\",VLOOKUP(QNST05_B!D267,L5A!$K$18:$L$21,2,FALSE)))","v":""},{"$f":"IF(ISERROR(ROUND(QNST05_B!E267,4))=TRUE,\"\",ROUND(QNST05_B!E267,4))","v":0},{"$f":"IF(ISERROR(ROUND(QNST05_B!F267,4))=TRUE,\"\",ROUND(QNST05_B!F267,4))","v":0},{"$f":"IF(ISERROR(ROUND(QNST05_B!G267,4))=TRUE,\"\",ROUND(QNST05_B!G267,4))","v":0}]
[{"$f":"IF(QNST05_B!B268=\"\",\"\",VLOOKUP(QNST05_B!B268,L5A!$S$1:$T$266,2,FALSE))","v":""},{"$f":"IF(A259=\"W0\",$K$12,IF(QNST05_B!C268=\"\",\"\",VLOOKUP(QNST05_B!C268,$J$4:$K$12,2,FALSE)))","v":""},{"$f":"IF(OR(A259=\"W0\"),L5A!$L$21,IF(QNST05_B!D268=\"\",\"\",VLOOKUP(QNST05_B!D268,L5A!$K$18:$L$21,2,FALSE)))","v":""},{"$f":"IF(ISERROR(ROUND(QNST05_B!E268,4))=TRUE,\"\",ROUND(QNST05_B!E268,4))","v":0},{"$f":"IF(ISERROR(ROUND(QNST05_B!F268,4))=TRUE,\"\",ROUND(QNST05_B!F268,4))","v":0},{"$f":"IF(ISERROR(ROUND(QNST05_B!G268,4))=TRUE,\"\",ROUND(QNST05_B!G268,4))","v":0}]
[{"$f":"IF(QNST05_B!B269=\"\",\"\",VLOOKUP(QNST05_B!B269,L5A!$S$1:$T$266,2,FALSE))","v":""},{"$f":"IF(A260=\"W0\",$K$12,IF(QNST05_B!C269=\"\",\"\",VLOOKUP(QNST05_B!C269,$J$4:$K$12,2,FALSE)))","v":""},{"$f":"IF(OR(A260=\"W0\"),L5A!$L$21,IF(QNST05_B!D269=\"\",\"\",VLOOKUP(QNST05_B!D269,L5A!$K$18:$L$21,2,FALSE)))","v":""},{"$f":"IF(ISERROR(ROUND(QNST05_B!E269,4))=TRUE,\"\",ROUND(QNST05_B!E269,4))","v":0},{"$f":"IF(ISERROR(ROUND(QNST05_B!F269,4))=TRUE,\"\",ROUND(QNST05_B!F269,4))","v":0},{"$f":"IF(ISERROR(ROUND(QNST05_B!G269,4))=TRUE,\"\",ROUND(QNST05_B!G269,4))","v":0}]
[{"$f":"IF(QNST05_B!B270=\"\",\"\",VLOOKUP(QNST05_B!B270,L5A!$S$1:$T$266,2,FALSE))","v":""},{"$f":"IF(A261=\"W0\",$K$12,IF(QNST05_B!C270=\"\",\"\",VLOOKUP(QNST05_B!C270,$J$4:$K$12,2,FALSE)))","v":""},{"$f":"IF(OR(A261=\"W0\"),L5A!$L$21,IF(QNST05_B!D270=\"\",\"\",VLOOKUP(QNST05_B!D270,L5A!$K$18:$L$21,2,FALSE)))","v":""},{"$f":"IF(ISERROR(ROUND(QNST05_B!E270,4))=TRUE,\"\",ROUND(QNST05_B!E270,4))","v":0},{"$f":"IF(ISERROR(ROUND(QNST05_B!F270,4))=TRUE,\"\",ROUND(QNST05_B!F270,4))","v":0},{"$f":"IF(ISERROR(ROUND(QNST05_B!G270,4))=TRUE,\"\",ROUND(QNST05_B!G270,4))","v":0}]
[{"$f":"IF(QNST05_B!B271=\"\",\"\",VLOOKUP(QNST05_B!B271,L5A!$S$1:$T$266,2,FALSE))","v":""},{"$f":"IF(A262=\"W0\",$K$12,IF(QNST05_B!C271=\"\",\"\",VLOOKUP(QNST05_B!C271,$J$4:$K$12,2,FALSE)))","v":""},{"$f":"IF(OR(A262=\"W0\"),L5A!$L$21,IF(QNST05_B!D271=\"\",\"\",VLOOKUP(QNST05_B!D271,L5A!$K$18:$L$21,2,FALSE)))","v":""},{"$f":"IF(ISERROR(ROUND(QNST05_B!E271,4))=TRUE,\"\",ROUND(QNST05_B!E271,4))","v":0},{"$f":"IF(ISERROR(ROUND(QNST05_B!F271,4))=TRUE,\"\",ROUND(QNST05_B!F271,4))","v":0},{"$f":"IF(ISERROR(ROUND(QNST05_B!G271,4))=TRUE,\"\",ROUND(QNST05_B!G271,4))","v":0}]
[{"$f":"IF(QNST05_B!B272=\"\",\"\",VLOOKUP(QNST05_B!B272,L5A!$S$1:$T$266,2,FALSE))","v":""},{"$f":"IF(A263=\"W0\",$K$12,IF(QNST05_B!C272=\"\",\"\",VLOOKUP(QNST05_B!C272,$J$4:$K$12,2,FALSE)))","v":""},{"$f":"IF(OR(A263=\"W0\"),L5A!$L$21,IF(QNST05_B!D272=\"\",\"\",VLOOKUP(QNST05_B!D272,L5A!$K$18:$L$21,2,FALSE)))","v":""},{"$f":"IF(ISERROR(ROUND(QNST05_B!E272,4))=TRUE,\"\",ROUND(QNST05_B!E272,4))","v":0},{"$f":"IF(ISERROR(ROUND(QNST05_B!F272,4))=TRUE,\"\",ROUND(QNST05_B!F272,4))","v":0},{"$f":"IF(ISERROR(ROUND(QNST05_B!G272,4))=TRUE,\"\",ROUND(QNST05_B!G272,4))","v":0}]
[{"$f":"IF(QNST05_B!B273=\"\",\"\",VLOOKUP(QNST05_B!B273,L5A!$S$1:$T$266,2,FALSE))","v":""},{"$f":"IF(A264=\"W0\",$K$12,IF(QNST05_B!C273=\"\",\"\",VLOOKUP(QNST05_B!C273,$J$4:$K$12,2,FALSE)))","v":""},{"$f":"IF(OR(A264=\"W0\"),L5A!$L$21,IF(QNST05_B!D273=\"\",\"\",VLOOKUP(QNST05_B!D273,L5A!$K$18:$L$21,2,FALSE)))","v":""},{"$f":"IF(ISERROR(ROUND(QNST05_B!E273,4))=TRUE,\"\",ROUND(QNST05_B!E273,4))","v":0},{"$f":"IF(ISERROR(ROUND(QNST05_B!F273,4))=TRUE,\"\",ROUND(QNST05_B!F273,4))","v":0},{"$f":"IF(ISERROR(ROUND(QNST05_B!G273,4))=TRUE,\"\",ROUND(QNST05_B!G273,4))","v":0}]
[{"$f":"IF(QNST05_B!B274=\"\",\"\",VLOOKUP(QNST05_B!B274,L5A!$S$1:$T$266,2,FALSE))","v":""},{"$f":"IF(A265=\"W0\",$K$12,IF(QNST05_B!C274=\"\",\"\",VLOOKUP(QNST05_B!C274,$J$4:$K$12,2,FALSE)))","v":""},{"$f":"IF(OR(A265=\"W0\"),L5A!$L$21,IF(QNST05_B!D274=\"\",\"\",VLOOKUP(QNST05_B!D274,L5A!$K$18:$L$21,2,FALSE)))","v":""},{"$f":"IF(ISERROR(ROUND(QNST05_B!E274,4))=TRUE,\"\",ROUND(QNST05_B!E274,4))","v":0},{"$f":"IF(ISERROR(ROUND(QNST05_B!F274,4))=TRUE,\"\",ROUND(QNST05_B!F274,4))","v":0},{"$f":"IF(ISERROR(ROUND(QNST05_B!G274,4))=TRUE,\"\",ROUND(QNST05_B!G274,4))","v":0}]

{"sheet":"CBM","index":10,"n_rows":889,"n_cols":11,"rows_kept":889,"cut":false,"hidden":false,"merged":[[264,1,264,2],[38,1,38,2],[8,1,8,4],[8,9,8,10]],"read":"row_number_cap"}
["A"]
[1,null,null,null,null,null,null,"CONFIDENTIAL"]
[0]
[2]
[1,"Period from:",{"$f":"IF('Cover Sheet'!C21=\"\",\"\",'Cover Sheet'!C21)","v":""}]
[1,"Period to:",{"$f":"IF('Cover Sheet'!C22=\"\",\"\",'Cover Sheet'!C22)","v":""}]
[1]
[1]
[1,"PART A:  SELECTED INCOME AND EXPENSE ITEMS (cumulative for the undertaking's financial year)",null,null,null,null,"Amount"]
[1,null,"Income"]
[1,1.1000000000000001,"interest receivable"]
[1,1.2,"dividends receivable"]
[1,1.3,"rental income"]
[1,1.4,"exchange differences"]
[1,1.5,"income from financial investments at fair value through PL"]
[1,1.6,"gains/losses from revaluation of financial assets (net fair value gains/losses)"]
[1,1.7,"gains/losses from revaluation of investment property (net fair value gains/losses)"]
[1,1.8,"other technical income"]
[1,1.9,"interest expense"]
[1,1.1000000000000001,"share of losses from related parties"]
[1,1.1100000000000001,"investment expenses"]
[1,null,"Expenses"]
[1,2.1,"wages and salaries (including directors' fees and remuneration)"]
[1,2.2000000000000002,"social security contributions"]
[1,2.2999999999999998,"depreciation"]
[1,2.4,"amortisation"]
[1]
[1,3,"Bonuses and rebates"]
[1,4,"Movement in value of in-force business"]
[1]
[1]
[1,"PART B:  ADDITIONAL INFORMATION"]
[1,5,"Number of employees",null,null,null,{"$f":"SUM(G34:G35)","v":0}]
[1,5.0999999999999996,"   full time"]
[1,5.2,"   part time"]
[1]
[1]
[1,"PART C:  SELECTED TRANSACTIONS WITH NON-RESIDENTS OF MALTA"]
[1,"Insurance transactions (for the quarter)",null,"* Press +/- to add\n/delete countries","Country *","Country Code","Premiums","Claims"]
[1,6,"Primary insurance (with non-residents of Malta)",null,null,{"$f":"IF(E40=\"\",\"\",VLOOKUP(E40,$C$813:$E$853,2,FALSE))","v":""},{"$f":"SUM(G41:G84)","v":0},{"$f":"SUM(H41:H84)","v":0}]
[1,null,"Primary insurance (with non-residents of Malta)",null,null,"",null,null,null,{"$f":"IF(COUNTIF(E$41:E$84,E41)>1,\"Duplicate country\",\"-\")","v":"-"},{"$f":"IF(AND(E41<>\"\",AND(G41=\"\",H41=\"\")),\"Input values\",\"-\")","v":"-"}]
[{"$f":"IF(OR(E42<>\"\",G42<>\"\",H42<>\"\"),1,0)","v":0},null,"Primary insurance (with non-residents of Malta)",null,null,"",null,null,null,{"$f":"IF(COUNTIF(E$41:E$84,E42)>1,\"Duplicate country\",\"-\")","v":"-"},{"$f":"IF(AND(E42<>\"\",AND(G42=\"\",H42=\"\")),\"Input values\",\"-\")","v":"-"}]
[0,null,"Primary insurance (with non-residents of Malta)",null,null,"",null,null,null,"-","-"]
[0,null,"Primary insurance (with non-residents of Malta)",null,null,"",null,null,null,"-","-"]
[0,null,"Primary insurance (with non-residents of Malta)",null,null,"",null,null,null,"-","-"]
[0,null,"Primary insurance (with non-residents of Malta)",null,null,"",null,null,null,"-","-"]
[0,null,"Primary insurance (with non-residents of Malta)",null,null,"",null,null,null,"-","-"]
[0,null,"Primary insurance (with non-residents of Malta)",null,null,"",null,null,null,"-","-"]
[0,null,"Primary insurance (with non-residents of Malta)",null,null,"",null,null,null,"-","-"]
[0,null,"Primary insurance (with non-residents of Malta)",null,null,"",null,null,null,"-","-"]
[0,null,"Primary insurance (with non-residents of Malta)",null,null,"",null,null,null,"-","-"]
[0,null,"Primary insurance (with non-residents of Malta)",null,null,"",null,null,null,"-","-"]
[0,null,"Primary insurance (with non-residents of Malta)",null,null,"",null,null,null,"-","-"]
[0,null,"Primary insurance (with non-residents of Malta)",null,null,"",null,null,null,"-","-"]
[0,null,"Primary insurance (with non-residents of Malta)",null,null,"",null,null,null,"-","-"]
[0,null,"Primary insurance (with non-residents of Malta)",null,null,"",null,null,null,"-","-"]
[0,null,"Primary insurance (with non-residents of Malta)",null,null,"",null,null,null,"-","-"]
[0,null,"Primary insurance (with non-residents of Malta)",null,null,"",null,null,null,"-","-"]
[0,null,"Primary insurance (with non-residents of Malta)",null,null,"",null,null,null,"-","-"]
[0,null,"Primary insurance (with non-residents of Malta)",null,null,"",null,null,null,"-","-"]
[0,null,"Primary insurance (with non-residents of Malta)",null,null,"",null,null,null,"-","-"]
[0,null,"Primary insurance (with non-residents of Malta)",null,null,"",null,null,null,"-","-"]
[0,null,"Primary insurance (with non-residents of Malta)",null,null,"",null,null,null,"-","-"]
[0,null,"Primary insurance (with non-residents of Malta)",null,null,"",null,null,null,"-","-"]
[0,null,"Primary insurance (with non-residents of Malta)",null,null,"",null,null,null,"-","-"]
[0,null,"Primary insurance (with non-residents of Malta)",null,null,"",null,null,null,"-","-"]
[0,null,"Primary insurance (with non-residents of Malta)",null,null,"",null,null,null,"-","-"]
[0,null,"Primary insurance (with non-residents of Malta)",null,null,"",null,null,null,"-","-"]
[0,null,"Primary insurance (with non-residents of Malta)",null,null,"",null,null,null,"-","-"]
[0,null,"Primary insurance (with non-residents of Malta)",null,null,"",null,null,null,"-","-"]
[0,null,"Primary insurance (with non-residents of Malta)",null,null,"",null,null,null,"-","-"]
[0,null,"Primary insurance (with non-residents of Malta)",null,null,"",null,null,null,"-","-"]
[0,null,"Primary insurance (with non-residents of Malta)",null,null,"",null,null,null,"-","-"]
[0,null,"Primary insurance (with non-residents of Malta)",null,null,"",null,null,null,"-","-"]
[0,null,"Primary insurance (with non-residents of Malta)",null,null,"",null,null,null,"-","-"]
[0,null,"Primary insurance (with non-residents of Malta)",null,null,"",null,null,null,"-","-"]
[0,null,"Primary insurance (with non-residents of Malta)",null,null,"",null,null,null,"-","-"]
[0,null,"Primary insurance (with non-residents of Malta)",null,null,"",null,null,null,"-","-"]
[0,null,"Primary insurance (with non-residents of Malta)",null,null,"",null,null,null,"-","-"]
[0,null,"Primary insurance (with non-residents of Malta)",null,null,"",null,null,null,"-","-"]
[0,null,"Primary insurance (with non-residents of Malta)",null,null,"",null,null,null,"-","-"]
[0,null,"Primary insurance (with non-residents of Malta)",null,null,"",null,null,null,"-","-"]
[0,null,"Primary insurance (with non-residents of Malta)",null,null,"",null,null,null,"-","-"]
[0,null,"Primary insurance (with non-residents of Malta)",null,null,"",null,null,null,"-","-"]
[1,7,"Life insurance and pension funds",null,null,"",{"$f":"SUM(G86:G129)","v":0},{"$f":"SUM(H86:H129)","v":0}]
[1,null,"Life insurance and pension funds",null,null,"",null,null,null,{"$f":"IF(COUNTIF(E$86:E$129,E86)>1,\"Duplicate country\",\"-\")","v":"-"},{"$f":"IF(AND(E86<>\"\",AND(G86=\"\",H86=\"\")),\"Input values\",\"-\")","v":"-"}]
[{"$f":"IF(OR(E87<>\"\",G87<>\"\",H87<>\"\"),1,0)","v":0},null,"Life insurance and pension funds",null,null,"",null,null,null,{"$f":"IF(COUNTIF(E$86:E$129,E87)>1,\"Duplicate country\",\"-\")","v":"-"},{"$f":"IF(AND(E87<>\"\",AND(G87=\"\",H87=\"\")),\"Input values\",\"-\")","v":"-"}]
[0,null,"Life insurance and pension funds",null,null,"",null,null,null,"-","-"]
[0,null,"Life insurance and pension funds",null,null,"",null,null,null,"-","-"]
[0,null,"Life insurance and pension funds",null,null,"",null,null,null,"-","-"]
[0,null,"Life insurance and pension funds",null,null,"",null,null,null,"-","-"]
[0,null,"Life insurance and pension funds",null,null,"",null,null,null,"-","-"]
[0,null,"Life insurance and pension funds",null,null,"",null,null,null,"-","-"]
[0,null,"Life insurance and pension funds",null,null,"",null,null,null,"-","-"]
[0,null,"Life insurance and pension funds",null,null,"",null,null,null,"-","-"]
[0,null,"Life insurance and pension funds",null,null,"",null,null,null,"-","-"]
[0,null,"Life insurance and pension funds",null,null,"",null,null,null,"-","-"]
[0,null,"Life insurance and pension funds",null,null,"",null,null,null,"-","-"]
[0,null,"Life insurance and pension funds",null,null,"",null,null,null,"-","-"]
[0,null,"Life insurance and pension funds",null,null,"",null,null,null,"-","-"]
[0,null,"Life insurance and pension funds",null,null,"",null,null,null,"-","-"]
[0,null,"Life insurance and pension funds",null,null,"",null,null,null,"-","-"]
[0,null,"Life insurance and pension funds",null,null,"",null,null,null,"-","-"]
[0,null,"Life insurance and pension funds",null,null,{"$f":"IF(E104=\"\",\"\",VLOOKUP(E104,$C$813:$E$853,2,FALSE))","v":""},null,null,null,"-","-"]
[0,null,"Life insurance and pension funds",null,null,"",null,null,null,"-","-"]
[0,null,"Life insurance and pension funds",null,null,"",null,null,null,"-","-"]
[0,null,"Life insurance and pension funds",null,null,"",null,null,null,"-","-"]
[0,null,"Life insurance and pension funds",null,null,"",null,null,null,"-","-"]
[0,null,"Life insurance and pension funds",null,null,"",null,null,null,"-","-"]
[0,null,"Life insurance and pension funds",null,null,"",null,null,null,"-","-"]
[0,null,"Life insurance and pension funds",null,null,"",null,null,null,"-","-"]
[0,null,"Life insurance and pension funds",null,null,"",null,null,null,"-","-"]
[0,null,"Life insurance and pension funds",null,null,"",null,null,null,"-","-"]
[0,null,"Life insurance and pension funds",null,null,"",null,null,null,"-","-"]
[0,null,"Life insurance and pension funds",null,null,"",null,null,null,"-","-"]
[0,null,"Life insurance and pension funds",null,null,"",null,null,null,"-","-"]
[0,null,"Life insurance and pension funds",null,null,"",null,null,null,"-","-"]
[0,null,"Life insurance and pension funds",null,null,"",null,null,null,"-","-"]
[0,null,"Life insurance and pension funds",null,null,"",null,null,null,"-","-"]
[0,null,"Life insurance and pension funds",null,null,"",null,null,null,"-","-"]
[0,null,"Life insurance and pension funds",null,null,"",null,null,null,"-","-"]
[0,null,"Life insurance and pension funds",null,null,"",null,null,null,"-","-"]
[0,null,"Life insurance and pension funds",null,null,"",null,null,null,"-","-"]
[0,null,"Life insurance and pension funds",null,null,"",null,null,null,"-","-"]
[0,null,"Life insurance and pension funds",null,null,"",null,null,null,"-","-"]
[0,null,"Life insurance and pension funds",null,null,"",null,null,null,"-","-"]
[0,null,"Life insurance and pension funds",null,null,"",null,null,null,"-","-"]
[0,null,"Life insurance and pension funds",null,null,"",null,null,null,"-","-"]
[0,null,"Life insurance and pension funds",null,null,"",null,null,null,"-","-"]
[1,8,"Freight insurance",null,null,"",{"$f":"SUM(G131:G174)","v":0},{"$f":"SUM(H131:H174)","v":0}]
[1,null,"Freight insurance",null,null,"",null,null,null,{"$f":"IF(COUNTIF(E$131:E$174,E131)>1,\"Duplicate country\",\"-\")","v":"-"},{"$f":"IF(AND(E131<>\"\",AND(G131=\"\",H131=\"\")),\"Input values\",\"-\")","v":"-"}]
[{"$f":"IF(OR(E132<>\"\",G132<>\"\",H132<>\"\"),1,0)","v":0},null,"Freight insurance",null,null,"",null,null,null,{"$f":"IF(COUNTIF(E$131:E$174,E132)>1,\"Duplicate country\",\"-\")","v":"-"},{"$f":"IF(AND(E132<>\"\",AND(G132=\"\",H132=\"\")),\"Input values\",\"-\")","v":"-"}]
[0,null,"Freight insurance",null,null,"",null,null,null,"-","-"]
[0,null,"Freight insurance",null,null,"",null,null,null,"-","-"]
[0,null,"Freight insurance",null,null,"",null,null,null,"-","-"]
[0,null,"Freight insurance",null,null,"",null,null,null,"-","-"]
[0,null,"Freight insurance",null,null,"",null,null,null,"-","-"]
[0,null,"Freight insurance",null,null,"",null,null,null,"-","-"]
[0,null,"Freight insurance",null,null,"",null,null,null,"-","-"]
[0,null,"Freight insurance",null,null,"",null,null,null,"-","-"]
[0,null,"Freight insurance",null,null,"",null,null,null,"-","-"]
[0,null,"Freight insurance",null,null,"",null,null,null,"-","-"]
[0,null,"Freight insurance",null,null,"",null,null,null,"-","-"]
[0,null,"Freight insurance",null,null,"",null,null,null,"-","-"]
[0,null,"Freight insurance",null,null,"",null,null,null,"-","-"]
[0,null,"Freight insurance",null,null,"",null,null,null,"-","-"]
[0,null,"Freight insurance",null,null,"",null,null,null,"-","-"]
[0,null,"Freight insurance",null,null,"",null,null,null,"-","-"]
[0,null,"Freight insurance",null,null,"",null,null,null,"-","-"]
[0,null,"Freight insurance",null,null,"",null,null,null,"-","-"]
[0,null,"Freight insurance",null,null,"",null,null,null,"-","-"]
[0,null,"Freight insurance",null,null,"",null,null,null,"-","-"]
[0,null,"Freight insurance",null,null,"",null,null,null,"-","-"]
[0,null,"Freight insurance",null,null,"",null,null,null,"-","-"]
[0,null,"Freight insurance",null,null,"",null,null,null,"-","-"]
[0,null,"Freight insurance",null,null,"",null,null,null,"-","-"]
[0,null,"Freight insurance",null,null,"",null,null,null,"-","-"]
[0,null,"Freight insurance",null,null,"",null,null,null,"-","-"]
[0,null,"Freight insurance",null,null,"",null,null,null,"-","-"]
[0,null,"Freight insurance",null,null,"",null,null,null,"-","-"]
[0,null,"Freight insurance",null,null,"",null,null,null,"-","-"]
[0,null,"Freight insurance",null,null,"",null,null,null,"-","-"]
[0,null,"Freight insurance",null,null,"",null,null,null,"-","-"]
[0,null,"Freight insurance",null,null,"",null,null,null,"-","-"]
[0,null,"Freight insurance",null,null,"",null,null,null,"-","-"]
[0,null,"Freight insurance",null,null,"",null,null,null,"-","-"]
[0,null,"Freight insurance",null,null,"",null,null,null,"-","-"]
[0,null,"Freight insurance",null,null,{"$f":"IF(E168=\"\",\"\",VLOOKUP(E168,$C$813:$E$853,2,FALSE))","v":""},null,null,null,"-","-"]
[0,null,"Freight insurance",null,null,"",null,null,null,"-","-"]
[0,null,"Freight insurance",null,null,"",null,null,null,"-","-"]
[0,null,"Freight insurance",null,null,"",null,null,null,"-","-"]
[0,null,"Freight insurance",null,null,"",null,null,null,"-","-"]
[0,null,"Freight insurance",null,null,"",null,null,null,"-","-"]
[0,null,"Freight insurance",null,null,"",null,null,null,"-","-"]
[1,9,"Re-insurance assumed (from non-residents)",null,null,"",{"$f":"SUM(G176:G219)","v":0},{"$f":"SUM(H176:H219)","v":0}]
[1,null,"Re-insurance assumed (from non-residents)",null,null,"",null,null,null,{"$f":"IF(COUNTIF(E$176:E$219,E176)>1,\"Duplicate country\",\"-\")","v":"-"},{"$f":"IF(AND(E176<>\"\",AND(G176=\"\",H176=\"\")),\"Input values\",\"-\")","v":"-"}]
[{"$f":"IF(OR(E177<>\"\",G177<>\"\",H177<>\"\"),1,0)","v":0},null,"Re-insurance assumed (from non-residents)",null,null,"",null,null,null,{"$f":"IF(COUNTIF(E$176:E$219,E177)>1,\"Duplicate country\",\"-\")","v":"-"},{"$f":"IF(AND(E177<>\"\",AND(G177=\"\",H177=\"\")),\"Input values\",\"-\")","v":"-"}]
[0,null,"Re-insurance assumed (from non-residents)",null,null,"",null,null,null,"-","-"]
[0,null,"Re-insurance assumed (from non-residents)",null,null,"",null,null,null,"-","-"]
[0,null,"Re-insurance assumed (from non-residents)",null,null,"",null,null,null,"-","-"]
[0,null,"Re-insurance assumed (from non-residents)",null,null,"",null,null,null,"-","-"]
[0,null,"Re-insurance assumed (from non-residents)",null,null,"",null,null,null,"-","-"]
[0,null,"Re-insurance assumed (from non-residents)",null,null,"",null,null,null,"-","-"]
[0,null,"Re-insurance assumed (from non-residents)",null,null,"",null,null,null,"-","-"]
[0,null,"Re-insurance assumed (from non-residents)",null,null,"",null,null,null,"-","-"]
[0,null,"Re-insurance assumed (from non-residents)",null,null,"",null,null,null,"-","-"]
[0,null,"Re-insurance assumed (from non-residents)",null,null,"",null,null,null,"-","-"]
[0,null,"Re-insurance assumed (from non-residents)",null,null,"",null,null,null,"-","-"]
[0,null,"Re-insurance assumed (from non-residents)",null,null,"",null,null,null,"-","-"]
[0,null,"Re-insurance assumed (from non-residents)",null,null,"",null,null,null,"-","-"]
[0,null,"Re-insurance assumed (from non-residents)",null,null,"",null,null,null,"-","-"]
[0,null,"Re-insurance assumed (from non-residents)",null,null,"",null,null,null,"-","-"]
[0,null,"Re-insurance assumed (from non-residents)",null,null,"",null,null,null,"-","-"]
[0,null,"Re-insurance assumed (from non-residents)",null,null,"",null,null,null,"-","-"]
[0,null,"Re-insurance assumed (from non-residents)",null,null,"",null,null,null,"-","-"]
[0,null,"Re-insurance assumed (from non-residents)",null,null,"",null,null,null,"-","-"]
[0,null,"Re-insurance assumed (from non-residents)",null,null,"",null,null,null,"-","-"]
[0,null,"Re-insurance assumed (from non-residents)",null,null,"",null,null,null,"-","-"]
[0,null,"Re-insurance assumed (from non-residents)",null,null,"",null,null,null,"-","-"]
[0,null,"Re-insurance assumed (from non-residents)",null,null,"",null,null,null,"-","-"]
[0,null,"Re-insurance assumed (from non-residents)",null,null,"",null,null,null,"-","-"]
[0,null,"Re-insurance assumed (from non-residents)",null,null,"",null,null,null,"-","-"]
[0,null,"Re-insurance assumed (from non-residents)",null,null,"",null,null,null,"-","-"]
[0,null,"Re-insurance assumed (from non-residents)",null,null,"",null,null,null,"-","-"]
[0,null,"Re-insurance assumed (from non-residents)",null,null,"",null,null,null,"-","-"]
[0,null,"Re-insurance assumed (from non-residents)",null,null,"",null,null,null,"-","-"]
[0,null,"Re-insurance assumed (from non-residents)",null,null,"",null,null,null,"-","-"]
[0,null,"Re-insurance assumed (from non-residents)",null,null,"",null,null,null,"-","-"]
[0,null,"Re-insurance assumed (from non-residents)",null,null,"",null,null,null,"-","-"]
[0,null,"Re-insurance assumed (from non-residents)",null,null,"",null,null,null,"-","-"]
[0,null,"Re-insurance assumed (from non-residents)",null,null,"",null,null,null,"-","-"]
[0,null,"Re-insurance assumed (from non-residents)",null,null,"",null,null,null,"-","-"]
[0,null,"Re-insurance assumed (from non-residents)",null,null,"",null,null,null,"-","-"]
[0,null,"Re-insurance assumed (from non-residents)",null,null,"",null,null,null,"-","-"]
[0,null,"Re-insurance assumed (from non-residents)",null,null,"",null,null,null,"-","-"]
[0,null,"Re-insurance assumed (from non-residents)",null,null,"",null,null,null,"-","-"]
[0,null,"Re-insurance assumed (from non-residents)",null,null,"",null,null,null,"-","-"]
[0,null,"Re-insurance assumed (from non-residents)",null,null,"",null,null,null,"-","-"]
[0,null,"Re-insurance assumed (from non-residents)",null,null,"",null,null,null,"-","-"]
[1,10,"Re-insurance ceded (to non-residents)",null,null,"",{"$f":"SUM(G221:G264)","v":0},{"$f":"SUM(H221:H264)","v":0}]
[1,null,"Re-insurance ceded (to non-residents)",null,null,"",null,null,null,{"$f":"IF(COUNTIF(E$221:E$264,E221)>1,\"Duplicate country\",\"-\")","v":"-"},{"$f":"IF(AND(E221<>\"\",AND(G221=\"\",H221=\"\")),\"Input values\",\"-\")","v":"-"}]
[{"$f":"IF(OR(E222<>\"\",G222<>\"\",H222<>\"\"),1,0)","v":0},null,"Re-insurance ceded (to non-residents)",null,null,"",null,null,null,{"$f":"IF(COUNTIF(E$221:E$264,E222)>1,\"Duplicate country\",\"-\")","v":"-"},{"$f":"IF(AND(E222<>\"\",AND(G222=\"\",H222=\"\")),\"Input values\",\"-\")","v":"-"}]
[0,null,"Re-insurance ceded (to non-residents)",null,null,"",null,null,null,"-","-"]
[0,null,"Re-insurance ceded (to non-residents)",null,null,"",null,null,null,"-","-"]
[0,null,"Re-insurance ceded (to non-residents)",null,null,"",null,null,null,"-","-"]
[0,null,"Re-insurance ceded (to non-residents)",null,null,"",null,null,null,"-","-"]
[0,null,"Re-insurance ceded (to non-residents)",null,null,"",null,null,null,"-","-"]
[0,null,"Re-insurance ceded (to non-residents)",null,null,"",null,null,null,"-","-"]
[0,null,"Re-insurance ceded (to non-residents)",null,null,"",null,null,null,"-","-"]
[0,null,"Re-insurance ceded (to non-residents)",null,null,"",null,null,null,"-","-"]
[0,null,"Re-insurance ceded (to non-residents)",null,null,"",null,null,null,"-","-"]
[0,null,"Re-insurance ceded (to non-residents)",null,null,{"$f":"IF(E232=\"\",\"\",VLOOKUP(E232,$C$813:$E$853,2,FALSE))","v":""},null,null,null,"-","-"]
[0,null,"Re-insurance ceded (to non-residents)",null,null,"",null,null,null,"-","-"]
[0,null,"Re-insurance ceded (to non-residents)",null,null,"",null,null,null,"-","-"]
[0,null,"Re-insurance ceded (to non-residents)",null,null,"",null,null,null,"-","-"]
[0,null,"Re-insurance ceded (to non-residents)",null,null,"",null,null,null,"-","-"]
[0,null,"Re-insurance ceded (to non-residents)",null,null,"",null,null,null,"-","-"]
[0,null,"Re-insurance ceded (to non-residents)",null,null,"",null,null,null,"-","-"]
[0,null,"Re-insurance ceded (to non-residents)",null,null,"",null,null,null,"-","-"]
[0,null,"Re-insurance ceded (to non-residents)",null,null,"",null,null,null,"-","-"]
[0,null,"Re-insurance ceded (to non-residents)",null,null,"",null,null,null,"-","-"]
[0,null,"Re-insurance ceded (to non-residents)",null,null,"",null,null,null,"-","-"]
[0,null,"Re-insurance ceded (to non-residents)",null,null,"",null,null,null,"-","-"]
[0,null,"Re-insurance ceded (to non-residents)",null,null,"",null,null,null,"-","-"]
[0,null,"Re-insurance ceded (to non-residents)",null,null,"",null,null,null,"-","-"]
[0,null,"Re-insurance ceded (to non-residents)",null,null,"",null,null,null,"-","-"]
[0,null,"Re-insurance ceded (to non-residents)",null,null,"",null,null,null,"-","-"]
[0,null,"Re-insurance ceded (to non-residents)",null,null,"",null,null,null,"-","-"]
[0,null,"Re-insurance ceded (to non-residents)",null,null,"",null,null,null,"-","-"]
[0,null,"Re-insurance ceded (to non-residents)",null,null,"",null,null,null,"-","-"]
[0,null,"Re-insurance ceded (to non-residents)",null,null,"",null,null,null,"-","-"]
[0,null,"Re-insurance ceded (to non-residents)",null,null,"",null,null,null,"-","-"]
[0,null,"Re-insurance ceded (to non-residents)",null,null,"",null,null,null,"-","-"]
[0,null,"Re-insurance ceded (to non-residents)",null,null,"",null,null,null,"-","-"]
[0,null,"Re-insurance ceded (to non-residents)",null,null,"",null,null,null,"-","-"]
[0,null,"Re-insurance ceded (to non-residents)",null,null,"",null,null,null,"-","-"]
[0,null,"Re-insurance ceded (to non-residents)",null,null,"",null,null,null,"-","-"]
[0,null,"Re-insurance ceded (to non-residents)",null,null,"",null,null,null,"-","-"]
[0,null,"Re-insurance ceded (to non-residents)",null,null,"",null,null,null,"-","-"]
[0,null,"Re-insurance ceded (to non-residents)",null,null,"",null,null,null,"-","-"]
[0,null,"Re-insurance ceded (to non-residents)",null,null,"",null,null,null,"-","-"]
[0,null,"Re-insurance ceded (to non-residents)",null,null,"",null,null,null,"-","-"]
[0,null,"Re-insurance ceded (to non-residents)",null,null,"",null,null,null,"-","-"]
[0,null,"Re-insurance ceded (to non-residents)",null,null,"",null,null,null,"-","-"]
[1,"Other services (for the quarter)",null,null,"Country *",null,"Income","Expenditure"]
[1,11,"   Accounting, auditing, book-keeping and tax consultancy services",null,null,{"$f":"IF(E266=\"\",\"\",VLOOKUP(E266,$C$813:$E$853,2,FALSE))","v":""},{"$f":"SUM(G267:G310)","v":0},{"$f":"SUM(H267:H310)","v":0}]
[1,null,"   Accounting, auditing, book-keeping and tax consultancy services",null,null,"",null,null,null,{"$f":"IF(COUNTIF(E$267:E$310,E267)>1,\"Duplicate country\",\"-\")","v":"-"},{"$f":"IF(AND(E267<>\"\",AND(G267=\"\",H267=\"\")),\"Input values\",\"-\")","v":"-"}]
[{"$f":"IF(OR(E268<>\"\",G268<>\"\",H268<>\"\"),1,0)","v":0},null,"   Accounting, auditing, book-keeping and tax consultancy services",null,null,"",null,null,null,{"$f":"IF(COUNTIF(E$267:E$310,E268)>1,\"Duplicate country\",\"-\")","v":"-"},{"$f":"IF(AND(E268<>\"\",AND(G268=\"\",H268=\"\")),\"Input values\",\"-\")","v":"-"}]
[0,null,"   Accounting, auditing, book-keeping and tax consultancy services",null,null,"",null,null,null,"-","-"]
[0,null,"   Accounting, auditing, book-keeping and tax consultancy services",null,null,"",null,null,null,"-","-"]
[0,null,"   Accounting, auditing, book-keeping and tax consultancy services",null,null,"",null,null,null,"-","-"]
[0,null,"   Accounting, auditing, book-keeping and tax consultancy services",null,null,"",null,null,null,"-","-"]
[0,null,"   Accounting, auditing, book-keeping and tax consultancy services",null,null,"",null,null,null,"-","-"]
[0,null,"   Accounting, auditing, book-keeping and tax consultancy services",null,null,"",null,null,null,"-","-"]
[0,null,"   Accounting, auditing, book-keeping and tax consultancy services",null,null,"",null,null,null,"-","-"]
[0,null,"   Accounting, auditing, book-keeping and tax consultancy services",null,null,"",null,null,null,"-","-"]
[0,null,"   Accounting, auditing, book-keeping and tax consultancy services",null,null,"",null,null,null,"-","-"]
[0,null,"   Accounting, auditing, book-keeping and tax consultancy services",null,null,"",null,null,null,"-","-"]
[0,null,"   Accounting, auditing, book-keeping and tax consultancy services",null,null,"",null,null,null,"-","-"]
[0,null,"   Accounting, auditing, book-keeping and tax consultancy services",null,null,"",null,null,null,"-","-"]
[0,null,"   Accounting, auditing, book-keeping and tax consultancy services",null,null,"",null,null,null,"-","-"]
[0,null,"   Accounting, auditing, book-keeping and tax consultancy services",null,null,"",null,null,null,"-","-"]
[0,null,"   Accounting, auditing, book-keeping and tax consultancy services",null,null,"",null,null,null,"-","-"]
[0,null,"   Accounting, auditing, book-keeping and tax consultancy services",null,null,"",null,null,null,"-","-"]
[0,null,"   Accounting, auditing, book-keeping and tax consultancy services",null,null,"",null,null,null,"-","-"]
[0,null,"   Accounting, auditing, book-keeping and tax consultancy services",null,null,"",null,null,null,"-","-"]
[0,null,"   Accounting, auditing, book-keeping and tax consultancy services",null,null,"",null,null,null,"-","-"]
[0,null,"   Accounting, auditing, book-keeping and tax consultancy services",null,null,"",null,null,null,"-","-"]
[0,null,"   Accounting, auditing, book-keeping and tax consultancy services",null,null,"",null,null,null,"-","-"]
[0,null,"   Accounting, auditing, book-keeping and tax consultancy services",null,null,"",null,null,null,"-","-"]
[0,null,"   Accounting, auditing, book-keeping and tax consultancy services",null,null,"",null,null,null,"-","-"]
[0,null,"   Accounting, auditing, book-keeping and tax consultancy services",null,null,"",null,null,null,"-","-"]
[0,null,"   Accounting, auditing, book-keeping and tax consultancy services",null,null,"",null,null,null,"-","-"]
[0,null,"   Accounting, auditing, book-keeping and tax consultancy services",null,null,"",null,null,null,"-","-"]
[0,null,"   Accounting, auditing, book-keeping and tax consultancy services",null,null,"",null,null,null,"-","-"]
[0,null,"   Accounting, auditing, book-keeping and tax consultancy services",null,null,"",null,null,null,"-","-"]
[0,null,"   Accounting, auditing, book-keeping and tax consultancy services",null,null,"",null,null,null,"-","-"]
[0,null,"   Accounting, auditing, book-keeping and tax consultancy services",null,null,"",null,null,null,"-","-"]
[0,null,"   Accounting, auditing, book-keeping and tax consultancy services",null,null,"",null,null,null,"-","-"]
[0,null,"   Accounting, auditing, book-keeping and tax consultancy services",null,null,"",null,null,null,"-","-"]
[0,null,"   Accounting, auditing, book-keeping and tax consultancy services",null,null,"",null,null,null,"-","-"]
[0,null,"   Accounting, auditing, book-keeping and tax consultancy services",null,null,"",null,null,null,"-","-"]
[0,null,"   Accounting, auditing, book-keeping and tax consultancy services",null,null,"",null,null,null,"-","-"]
[0,null,"   Accounting, auditing, book-keeping and tax consultancy services",null,null,"",null,null,null,"-","-"]
[0,null,"   Accounting, auditing, book-keeping and tax consultancy services",null,null,"",null,null,null,"-","-"]
[0,null,"   Accounting, auditing, book-keeping and tax consultancy services",null,null,"",null,null,null,"-","-"]
[0,null,"   Accounting, auditing, book-keeping and tax consultancy services",null,null,"",null,null,null,"-","-"]
[0,null,"   Accounting, auditing, book-keeping and tax consultancy services",null,null,"",null,null,null,"-","-"]
[0,null,"   Accounting, auditing, book-keeping and tax consultancy services",null,null,"",null,null,null,"-","-"]
[0,null,"   Accounting, auditing, book-keeping and tax consultancy services",null,null,"",null,null,null,"-","-"]
[1,12,"   Advertising, market research and public opinion polling",null,null,"",{"$f":"SUM(G312:G355)","v":0},{"$f":"SUM(H312:H355)","v":0}]
[1,null,"   Advertising, market research and public opinion polling",null,null,"",null,null,null,{"$f":"IF(COUNTIF(E$312:E$355,E312)>1,\"Duplicate country\",\"-\")","v":"-"},{"$f":"IF(AND(E312<>\"\",AND(G312=\"\",H312=\"\")),\"Input values\",\"-\")","v":"-"}]
[{"$f":"IF(OR(E313<>\"\",G313<>\"\",H313<>\"\"),1,0)","v":0},null,"   Advertising, market research and public opinion polling",null,null,"",null,null,null,{"$f":"IF(COUNTIF(E$312:E$355,E313)>1,\"Duplicate country\",\"-\")","v":"-"},{"$f":"IF(AND(E313<>\"\",AND(G313=\"\",H313=\"\")),\"Input values\",\"-\")","v":"-"}]
[0,null,"   Advertising, market research and public opinion polling",null,null,"",null,null,null,"-","-"]
[0,null,"   Advertising, market research and public opinion polling",null,null,"",null,null,null,"-","-"]
[0,null,"   Advertising, market research and public opinion polling",null,null,"",null,null,null,"-","-"]
[0,null,"   Advertising, market research and public opinion polling",null,null,"",null,null,null,"-","-"]
[0,null,"   Advertising, market research and public opinion polling",null,null,"",null,null,null,"-","-"]
[0,null,"   Advertising, market research and public opinion polling",null,null,"",null,null,null,"-","-"]
[0,null,"   Advertising, market research and public opinion polling",null,null,"",null,null,null,"-","-"]
[0,null,"   Advertising, market research and public opinion polling",null,null,"",null,null,null,"-","-"]
[0,null,"   Advertising, market research and public opinion polling",null,null,"",null,null,null,"-","-"]
[0,null,"   Advertising, market research and public opinion polling",null,null,"",null,null,null,"-","-"]
[0,null,"   Advertising, market research and public opinion polling",null,null,"",null,null,null,"-","-"]
[0,null,"   Advertising, market research and public opinion polling",null,null,"",null,null,null,"-","-"]
[0,null,"   Advertising, market research and public opinion polling",null,null,"",null,null,null,"-","-"]
[0,null,"   Advertising, market research and public opinion polling",null,null,"",null,null,null,"-","-"]
[0,null,"   Advertising, market research and public opinion polling",null,null,"",null,null,null,"-","-"]
[0,null,"   Advertising, market research and public opinion polling",null,null,"",null,null,null,"-","-"]
[0,null,"   Advertising, market research and public opinion polling",null,null,{"$f":"IF(E330=\"\",\"\",VLOOKUP(E330,$C$813:$E$853,2,FALSE))","v":""},null,null,null,"-","-"]
[0,null,"   Advertising, market research and public opinion polling",null,null,"",null,null,null,"-","-"]
[0,null,"   Advertising, market research and public opinion polling",null,null,"",null,null,null,"-","-"]
[0,null,"   Advertising, market research and public opinion polling",null,null,"",null,null,null,"-","-"]
[0,null,"   Advertising, market research and public opinion polling",null,null,"",null,null,null,"-","-"]
[0,null,"   Advertising, market research and public opinion polling",null,null,"",null,null,null,"-","-"]
[0,null,"   Advertising, market research and public opinion polling",null,null,"",null,null,null,"-","-"]
[0,null,"   Advertising, market research and public opinion polling",null,null,"",null,null,null,"-","-"]
[0,null,"   Advertising, market research and public opinion polling",null,null,"",null,null,null,"-","-"]
[0,null,"   Advertising, market research and public opinion polling",null,null,"",null,null,null,"-","-"]
[0,null,"   Advertising, market research and public opinion polling",null,null,"",null,null,null,"-","-"]
[0,null,"   Advertising, market research and public opinion polling",null,null,"",null,null,null,"-","-"]
[0,null,"   Advertising, market research and public opinion polling",null,null,"",null,null,null,"-","-"]
[0,null,"   Advertising, market research and public opinion polling",null,null,"",null,null,null,"-","-"]
[0,null,"   Advertising, market research and public opinion polling",null,null,"",null,null,null,"-","-"]
[0,null,"   Advertising, market research and public opinion polling",null,null,"",null,null,null,"-","-"]
[0,null,"   Advertising, market research and public opinion polling",null,null,"",null,null,null,"-","-"]
[0,null,"   Advertising, market research and public opinion polling",null,null,"",null,null,null,"-","-"]
[0,null,"   Advertising, market research and public opinion polling",null,null,"",null,null,null,"-","-"]
[0,null,"   Advertising, market research and public opinion polling",null,null,"",null,null,null,"-","-"]
[0,null,"   Advertising, market research and public opinion polling",null,null,"",null,null,null,"-","-"]
[0,null,"   Advertising, market research and public opinion polling",null,null,"",null,null,null,"-","-"]
[0,null,"   Advertising, market research and public opinion polling",null,null,"",null,null,null,"-","-"]
[0,null,"   Advertising, market research and public opinion polling",null,null,"",null,null,null,"-","-"]
[0,null,"   Advertising, market research and public opinion polling",null,null,"",null,null,null,"-","-"]
[0,null,"   Advertising, market research and public opinion polling",null,null,"",null,null,null,"-","-"]
[1,13,"   Business and management consultancy and public relations services",null,null,"",{"$f":"SUM(G357:G400)","v":0},{"$f":"SUM(H357:H400)","v":0}]
[1,null,"   Business and management consultancy and public relations services",null,null,"",null,null,null,{"$f":"IF(COUNTIF(E$357:E$400,E357)>1,\"Duplicate country\",\"-\")","v":"-"},{"$f":"IF(AND(E357<>\"\",AND(G357=\"\",H357=\"\")),\"Input values\",\"-\")","v":"-"}]
[{"$f":"IF(OR(E358<>\"\",G358<>\"\",H358<>\"\"),1,0)","v":0},null,"   Business and management consultancy and public relations services",null,null,"",null,null,null,{"$f":"IF(COUNTIF(E$357:E$400,E358)>1,\"Duplicate country\",\"-\")","v":"-"},{"$f":"IF(AND(E358<>\"\",AND(G358=\"\",H358=\"\")),\"Input values\",\"-\")","v":"-"}]
[0,null,"   Business and management consultancy and public relations services",null,null,"",null,null,null,"-","-"]
[0,null,"   Business and management consultancy and public relations services",null,null,"",null,null,null,"-","-"]
[0,null,"   Business and management consultancy and public relations services",null,null,"",null,null,null,"-","-"]
[0,null,"   Business and management consultancy and public relations services",null,null,"",null,null,null,"-","-"]
[0,null,"   Business and management consultancy and public relations services",null,null,"",null,null,null,"-","-"]
[0,null,"   Business and management consultancy and public relations services",null,null,"",null,null,null,"-","-"]
[0,null,"   Business and management consultancy and public relations services",null,null,"",null,null,null,"-","-"]
[0,null,"   Business and management consultancy and public relations services",null,null,"",null,null,null,"-","-"]
[0,null,"   Business and management consultancy and public relations services",null,null,"",null,null,null,"-","-"]
[0,null,"   Business and management consultancy and public relations services",null,null,"",null,null,null,"-","-"]
[0,null,"   Business and management consultancy and public relations services",null,null,"",null,null,null,"-","-"]
[0,null,"   Business and management consultancy and public relations services",null,null,"",null,null,null,"-","-"]
[0,null,"   Business and management consultancy and public relations services",null,null,"",null,null,null,"-","-"]
[0,null,"   Business and management consultancy and public relations services",null,null,"",null,null,null,"-","-"]
[0,null,"   Business and management consultancy and public relations services",null,null,"",null,null,null,"-","-"]
[0,null,"   Business and management consultancy and public relations services",null,null,"",null,null,null,"-","-"]
[0,null,"   Business and management consultancy and public relations services",null,null,"",null,null,null,"-","-"]
[0,null,"   Business and management consultancy and public relations services",null,null,"",null,null,null,"-","-"]
[0,null,"   Business and management consultancy and public relations services",null,null,"",null,null,null,"-","-"]
[0,null,"   Business and management consultancy and public relations services",null,null,"",null,null,null,"-","-"]
[0,null,"   Business and management consultancy and public relations services",null,null,"",null,null,null,"-","-"]
[0,null,"   Business and management consultancy and public relations services",null,null,"",null,null,null,"-","-"]
[0,null,"   Business and management consultancy and public relations services",null,null,"",null,null,null,"-","-"]
[0,null,"   Business and management consultancy and public relations services",null,null,"",null,null,null,"-","-"]
[0,null,"   Business and management consultancy and public relations services",null,null,"",null,null,null,"-","-"]
[0,null,"   Business and management consultancy and public relations services",null,null,"",null,null,null,"-","-"]
[0,null,"   Business and management consultancy and public relations services",null,null,"",null,null,null,"-","-"]
[0,null,"   Business and management consultancy and public relations services",null,null,"",null,null,null,"-","-"]
[0,null,"   Business and management consultancy and public relations services",null,null,"",null,null,null,"-","-"]
[0,null,"   Business and management consultancy and public relations services",null,null,"",null,null,null,"-","-"]
[0,null,"   Business and management consultancy and public relations services",null,null,"",null,null,null,"-","-"]
[0,null,"   Business and management consultancy and public relations services",null,null,"",null,null,null,"-","-"]
[0,null,"   Business and management consultancy and public relations services",null,null,"",null,null,null,"-","-"]
[0,null,"   Business and management consultancy and public relations services",null,null,"",null,null,null,"-","-"]
[0,null,"   Business and management consultancy and public relations services",null,null,"",null,null,null,"-","-"]
[0,null,"   Business and management consultancy and public relations services",null,null,{"$f":"IF(E394=\"\",\"\",VLOOKUP(E394,$C$813:$E$853,2,FALSE))","v":""},null,null,null,"-","-"]
[0,null,"   Business and management consultancy and public relations services",null,null,"",null,null,null,"-","-"]
[0,null,"   Business and management consultancy and public relations services",null,null,"",null,null,null,"-","-"]
[0,null,"   Business and management consultancy and public relations services",null,null,"",null,null,null,"-","-"]
[0,null,"   Business and management consultancy and public relations services",null,null,"",null,null,null,"-","-"]
[0,null,"   Business and management consultancy and public relations services",null,null,"",null,null,null,"-","-"]
[0,null,"   Business and management consultancy and public relations services",null,null,"",null,null,null,"-","-"]
[1,14," Telecommunication services",null,null,"",{"$f":"SUM(G402:G445)","v":0},{"$f":"SUM(H402:H445)","v":0}]
[1,null," Telecommunication services",null,null,"",null,null,null,{"$f":"IF(COUNTIF(E$402:E$445,E402)>1,\"Duplicate country\",\"-\")","v":"-"},{"$f":"IF(AND(E402<>\"\",AND(G402=\"\",H402=\"\")),\"Input values\",\"-\")","v":"-"}]
[{"$f":"IF(OR(E403<>\"\",G403<>\"\",H403<>\"\"),1,0)","v":0},null," Telecommunication services",null,null,"",null,null,null,{"$f":"IF(COUNTIF(E$402:E$445,E403)>1,\"Duplicate country\",\"-\")","v":"-"},{"$f":"IF(AND(E403<>\"\",AND(G403=\"\",H403=\"\")),\"Input values\",\"-\")","v":"-"}]
[0,null," Telecommunication services",null,null,"",null,null,null,"-","-"]
[0,null," Telecommunication services",null,null,"",null,null,null,"-","-"]
[0,null," Telecommunication services",null,null,"",null,null,null,"-","-"]
[0,null," Telecommunication services",null,null,"",null,null,null,"-","-"]
[0,null," Telecommunication services",null,null,"",null,null,null,"-","-"]
[0,null," Telecommunication services",null,null,"",null,null,null,"-","-"]
[0,null," Telecommunication services",null,null,"",null,null,null,"-","-"]
[0,null," Telecommunication services",null,null,"",null,null,null,"-","-"]
[0,null," Telecommunication services",null,null,"",null,null,null,"-","-"]
[0,null," Telecommunication services",null,null,"",null,null,null,"-","-"]
[0,null," Telecommunication services",null,null,"",null,null,null,"-","-"]
[0,null," Telecommunication services",null,null,"",null,null,null,"-","-"]
[0,null," Telecommunication services",null,null,"",null,null,null,"-","-"]
[0,null," Telecommunication services",null,null,"",null,null,null,"-","-"]
[0,null," Telecommunication services",null,null,"",null,null,null,"-","-"]
[0,null," Telecommunication services",null,null,"",null,null,null,"-","-"]
[0,null," Telecommunication services",null,null,"",null,null,null,"-","-"]
[0,null," Telecommunication services",null,null,"",null,null,null,"-","-"]
[0,null," Telecommunication services",null,null,"",null,null,null,"-","-"]
[0,null," Telecommunication services",null,null,"",null,null,null,"-","-"]
[0,null," Telecommunication services",null,null,"",null,null,null,"-","-"]
[0,null," Telecommunication services",null,null,"",null,null,null,"-","-"]
[0,null," Telecommunication services",null,null,"",null,null,null,"-","-"]
[0,null," Telecommunication services",null,null,"",null,null,null,"-","-"]
[0,null," Telecommunication services",null,null,"",null,null,null,"-","-"]
[0,null," Telecommunication services",null,null,"",null,null,null,"-","-"]
[0,null," Telecommunication services",null,null,"",null,null,null,"-","-"]
[0,null," Telecommunication services",null,null,"",null,null,null,"-","-"]
[0,null," Telecommunication services",null,null,"",null,null,null,"-","-"]
[0,null," Telecommunication services",null,null,"",null,null,null,"-","-"]
[0,null," Telecommunication services",null,null,"",null,null,null,"-","-"]
[0,null," Telecommunication services",null,null,"",null,null,null,"-","-"]
[0,null," Telecommunication services",null,null,"",null,null,null,"-","-"]
[0,null," Telecommunication services",null,null,"",null,null,null,"-","-"]
[0,null," Telecommunication services",null,null,"",null,null,null,"-","-"]
[0,null," Telecommunication services",null,null,"",null,null,null,"-","-"]
[0,null," Telecommunication services",null,null,"",null,null,null,"-","-"]
[0,null," Telecommunication services",null,null,"",null,null,null,"-","-"]
[0,null," Telecommunication services",null,null,"",null,null,null,"-","-"]
[0,null," Telecommunication services",null,null,"",null,null,null,"-","-"]
[0,null," Telecommunication services",null,null,"",null,null,null,"-","-"]
[0,null," Telecommunication services",null,null,"",null,null,null,"-","-"]
[1,15,"   Financial services",null,null,"",{"$f":"SUM(G447:G490)","v":0},{"$f":"SUM(H447:H490)","v":0}]
[1,null,"   Financial services",null,null,"",null,null,null,{"$f":"IF(COUNTIF(E$447:E$490,E447)>1,\"Duplicate country\",\"-\")","v":"-"},{"$f":"IF(AND(E447<>\"\",AND(G447=\"\",H447=\"\")),\"Input values\",\"-\")","v":"-"}]
[{"$f":"IF(OR(E448<>\"\",G448<>\"\",H448<>\"\"),1,0)","v":0},null,"   Financial services",null,null,"",null,null,null,{"$f":"IF(COUNTIF(E$447:E$490,E448)>1,\"Duplicate country\",\"-\")","v":"-"},{"$f":"IF(AND(E448<>\"\",AND(G448=\"\",H448=\"\")),\"Input values\",\"-\")","v":"-"}]
[0,null,"   Financial services",null,null,"",null,null,null,"-","-"]
[0,null,"   Financial services",null,null,"",null,null,null,"-","-"]
[0,null,"   Financial services",null,null,"",null,null,null,"-","-"]
[0,null,"   Financial services",null,null,"",null,null,null,"-","-"]
[0,null,"   Financial services",null,null,"",null,null,null,"-","-"]
[0,null,"   Financial services",null,null,"",null,null,null,"-","-"]
[0,null,"   Financial services",null,null,"",null,null,null,"-","-"]
[0,null,"   Financial services",null,null,"",null,null,null,"-","-"]
[0,null,"   Financial services",null,null,"",null,null,null,"-","-"]
[0,null,"   Financial services",null,null,{"$f":"IF(E458=\"\",\"\",VLOOKUP(E458,$C$813:$E$853,2,FALSE))","v":""},null,null,null,"-","-"]
[0,null,"   Financial services",null,null,"",null,null,null,"-","-"]
[0,null,"   Financial services",null,null,"",null,null,null,"-","-"]
[0,null,"   Financial services",null,null,"",null,null,null,"-","-"]
[0,null,"   Financial services",null,null,"",null,null,null,"-","-"]
[0,null,"   Financial services",null,null,"",null,null,null,"-","-"]
[0,null,"   Financial services",null,null,"",null,null,null,"-","-"]
[0,null,"   Financial services",null,null,"",null,null,null,"-","-"]
[0,null,"   Financial services",null,null,"",null,null,null,"-","-"]
[0,null,"   Financial services",null,null,"",null,null,null,"-","-"]
[0,null,"   Financial services",null,null,"",null,null,null,"-","-"]
[0,null,"   Financial services",null,null,"",null,null,null,"-","-"]
[0,null,"   Financial services",null,null,"",null,null,null,"-","-"]
[0,null,"   Financial services",null,null,"",null,null,null,"-","-"]
[0,null,"   Financial services",null,null,"",null,null,null,"-","-"]
[0,null,"   Financial services",null,null,"",null,null,null,"-","-"]
[0,null,"   Financial services",null,null,"",null,null,null,"-","-"]
[0,null,"   Financial services",null,null,"",null,null,null,"-","-"]
[0,null,"   Financial services",null,null,"",null,null,null,"-","-"]
[0,null,"   Financial services",null,null,"",null,null,null,"-","-"]
[0,null,"   Financial services",null,null,"",null,null,null,"-","-"]
[0,null,"   Financial services",null,null,"",null,null,null,"-","-"]
[0,null,"   Financial services",null,null,"",null,null,null,"-","-"]
[0,null,"   Financial services",null,null,"",null,null,null,"-","-"]
[0,null,"   Financial services",null,null,"",null,null,null,"-","-"]
[0,null,"   Financial services",null,null,"",null,null,null,"-","-"]
[0,null,"   Financial services",null,null,"",null,null,null,"-","-"]
[0,null,"   Financial services",null,null,"",null,null,null,"-","-"]
[0,null,"   Financial services",null,null,"",null,null,null,"-","-"]
[0,null,"   Financial services",null,null,"",null,null,null,"-","-"]
[0,null,"   Financial services",null,null,"",null,null,null,"-","-"]
[0,null,"   Financial services",null,null,"",null,null,null,"-","-"]
[0,null,"   Financial services",null,null,"",null,null,null,"-","-"]
[1,16,"Charges for the use of intellectual property",null,null,"",{"$f":"SUM(G492:G535)","v":0},{"$f":"SUM(H492:H535)","v":0}]
[1,null,"   Charges for the use of intellectual property",null,null,"",null,null,null,{"$f":"IF(COUNTIF(E$492:E$535,E492)>1,\"Duplicate country\",\"-\")","v":"-"},{"$f":"IF(AND(E492<>\"\",AND(G492=\"\",H492=\"\")),\"Input values\",\"-\")","v":"-"}]
[{"$f":"IF(OR(E493<>\"\",G493<>\"\",H493<>\"\"),1,0)","v":0},null,"   Charges for the use of intellectual property",null,null,"",null,null,null,{"$f":"IF(COUNTIF(E$492:E$535,E493)>1,\"Duplicate country\",\"-\")","v":"-"},{"$f":"IF(AND(E493<>\"\",AND(G493=\"\",H493=\"\")),\"Input values\",\"-\")","v":"-"}]
[0,null,"   Charges for the use of intellectual property",null,null,"",null,null,null,"-","-"]
[0,null,"   Charges for the use of intellectual property",null,null,"",null,null,null,"-","-"]
[0,null,"   Charges for the use of intellectual property",null,null,"",null,null,null,"-","-"]
[0,null,"   Charges for the use of intellectual property",null,null,"",null,null,null,"-","-"]
[0,null,"   Charges for the use of intellectual property",null,null,"",null,null,null,"-","-"]
[0,null,"   Charges for the use of intellectual property",null,null,"",null,null,null,"-","-"]
[0,null,"   Charges for the use of intellectual property",null,null,"",null,null,null,"-","-"]
[0,null,"   Charges for the use of intellectual property",null,null,"",null,null,null,"-","-"]
[0,null,"   Charges for the use of intellectual property",null,null,"",null,null,null,"-","-"]
[0,null,"   Charges for the use of intellectual property",null,null,{"$f":"IF(E503=\"\",\"\",VLOOKUP(E503,$C$813:$E$853,2,FALSE))","v":""},null,null,null,"-","-"]
[0,null,"   Charges for the use of intellectual property",null,null,"",null,null,null,"-","-"]
[0,null,"   Charges for the use of intellectual property",null,null,"",null,null,null,"-","-"]
[0,null,"   Charges for the use of intellectual property",null,null,"",null,null,null,"-","-"]
[0,null,"   Charges for the use of intellectual property",null,null,"",null,null,null,"-","-"]
[0,null,"   Charges for the use of intellectual property",null,null,"",null,null,null,"-","-"]
[0,null,"   Charges for the use of intellectual property",null,null,"",null,null,null,"-","-"]
[0,null,"   Charges for the use of intellectual property",null,null,"",null,null,null,"-","-"]
[0,null,"   Charges for the use of intellectual property",null,null,"",null,null,null,"-","-"]
[0,null,"   Charges for the use of intellectual property",null,null,"",null,null,null,"-","-"]
[0,null,"   Charges for the use of intellectual property",null,null,"",null,null,null,"-","-"]
[0,null,"   Charges for the use of intellectual property",null,null,"",null,null,null,"-","-"]
[0,null,"   Charges for the use of intellectual property",null,null,"",null,null,null,"-","-"]
[0,null,"   Charges for the use of intellectual property",null,null,"",null,null,null,"-","-"]
[0,null,"   Charges for the use of intellectual property",null,null,"",null,null,null,"-","-"]
[0,null,"   Charges for the use of intellectual property",null,null,"",null,null,null,"-","-"]
[0,null,"   Charges for the use of intellectual property",null,null,"",null,null,null,"-","-"]
[0,null,"   Charges for the use of intellectual property",null,null,"",null,null,null,"-","-"]
[0,null,"   Charges for the use of intellectual property",null,null,"",null,null,null,"-","-"]
[0,null,"   Charges for the use of intellectual property",null,null,"",null,null,null,"-","-"]
[0,null,"   Charges for the use of intellectual property",null,null,"",null,null,null,"-","-"]
[0,null,"   Charges for the use of intellectual property",null,null,"",null,null,null,"-","-"]
[0,null,"   Charges for the use of intellectual property",null,null,"",null,null,null,"-","-"]
[0,null,"   Charges for the use of intellectual property",null,null,"",null,null,null,"-","-"]
[0,null,"   Charges for the use of intellectual property",null,null,"",null,null,null,"-","-"]
[0,null,"   Charges for the use of intellectual property",null,null,"",null,null,null,"-","-"]
[0,null,"   Charges for the use of intellectual property",null,null,"",null,null,null,"-","-"]
[0,null,"   Charges for the use of intellectual property",null,null,"",null,null,null,"-","-"]
[0,null,"   Charges for the use of intellectual property",null,null,"",null,null,null,"-","-"]
[0,null,"   Charges for the use of intellectual property",null,null,"",null,null,null,"-","-"]
[0,null,"   Charges for the use of intellectual property",null,null,"",null,null,null,"-","-"]
[0,null,"   Charges for the use of intellectual property",null,null,"",null,null,null,"-","-"]
[0,null,"   Charges for the use of intellectual property",null,null,"",null,null,null,"-","-"]
[1,17,"Computer services",null,null,"",{"$f":"SUM(G537:G580)","v":0},{"$f":"SUM(H537:H580)","v":0}]
[1,null,"Computer services",null,null,"",null,null,null,{"$f":"IF(COUNTIF(E$537:E$580,E537)>1,\"Duplicate country\",\"-\")","v":"-"},{"$f":"IF(AND(E537<>\"\",AND(G537=\"\",H537=\"\")),\"Input values\",\"-\")","v":"-"}]
[{"$f":"IF(OR(E538<>\"\",G538<>\"\",H538<>\"\"),1,0)","v":0},null,"Computer services",null,null,"",null,null,null,{"$f":"IF(COUNTIF(E$537:E$580,E538)>1,\"Duplicate country\",\"-\")","v":"-"},{"$f":"IF(AND(E538<>\"\",AND(G538=\"\",H538=\"\")),\"Input values\",\"-\")","v":"-"}]
[0,null,"Computer services",null,null,"",null,null,null,"-","-"]
[0,null,"Computer services",null,null,"",null,null,null,"-","-"]
[0,null,"Computer services",null,null,"",null,null,null,"-","-"]
[0,null,"Computer services",null,null,"",null,null,null,"-","-"]
[0,null,"Computer services",null,null,"",null,null,null,"-","-"]
[0,null,"Computer services",null,null,"",null,null,null,"-","-"]
[0,null,"Computer services",null,null,"",null,null,null,"-","-"]
[0,null,"Computer services",null,null,"",null,null,null,"-","-"]
[0,null,"Computer services",null,null,"",null,null,null,"-","-"]
[0,null,"Computer services",null,null,{"$f":"IF(E548=\"\",\"\",VLOOKUP(E548,$C$813:$E$853,2,FALSE))","v":""},null,null,null,"-","-"]
[0,null,"Computer services",null,null,"",null,null,null,"-","-"]
[0,null,"Computer services",null,null,"",null,null,null,"-","-"]
[0,null,"Computer services",null,null,"",null,null,null,"-","-"]
[0,null,"Computer services",null,null,"",null,null,null,"-","-"]
[0,null,"Computer services",null,null,"",null,null,null,"-","-"]
[0,null,"Computer services",null,null,"",null,null,null,"-","-"]
[0,null,"Computer services",null,null,"",null,null,null,"-","-"]
[0,null,"Computer services",null,null,"",null,null,null,"-","-"]
[0,null,"Computer services",null,null,"",null,null,null,"-","-"]
[0,null,"Computer services",null,null,"",null,null,null,"-","-"]
[0,null,"Computer services",null,null,"",null,null,null,"-","-"]
[0,null,"Computer services",null,null,"",null,null,null,"-","-"]
[0,null,"Computer services",null,null,"",null,null,null,"-","-"]
[0,null,"Computer services",null,null,"",null,null,null,"-","-"]
[0,null,"Computer services",null,null,"",null,null,null,"-","-"]
[0,null,"Computer services",null,null,"",null,null,null,"-","-"]
[0,null,"Computer services",null,null,"",null,null,null,"-","-"]
[0,null,"Computer services",null,null,"",null,null,null,"-","-"]
[0,null,"Computer services",null,null,"",null,null,null,"-","-"]
[0,null,"Computer services",null,null,"",null,null,null,"-","-"]
[0,null,"Computer services",null,null,"",null,null,null,"-","-"]
[0,null,"Computer services",null,null,"",null,null,null,"-","-"]
[0,null,"Computer services",null,null,"",null,null,null,"-","-"]
[0,null,"Computer services",null,null,"",null,null,null,"-","-"]
[0,null,"Computer services",null,null,"",null,null,null,"-","-"]
[0,null,"Computer services",null,null,"",null,null,null,"-","-"]
[0,null,"Computer services",null,null,"",null,null,null,"-","-"]
[0,null,"Computer services",null,null,"",null,null,null,"-","-"]
[0,null,"Computer services",null,null,"",null,null,null,"-","-"]
[0,null,"Computer services",null,null,"",null,null,null,"-","-"]
[0,null,"Computer services",null,null,"",null,null,null,"-","-"]
[0,null,"Computer services",null,null,"",null,null,null,"-","-"]
[1,18,"Information services",null,null,"",{"$f":"SUM(G582:G625)","v":0},{"$f":"SUM(H582:H625)","v":0}]
[1,null,"Information services",null,null,"",null,null,null,{"$f":"IF(COUNTIF(E$582:E$625,E582)>1,\"Duplicate country\",\"-\")","v":"-"},{"$f":"IF(AND(E582<>\"\",AND(G582=\"\",H582=\"\")),\"Input values\",\"-\")","v":"-"}]
[{"$f":"IF(OR(E583<>\"\",G583<>\"\",H583<>\"\"),1,0)","v":0},null,"Information services",null,null,"",null,null,null,{"$f":"IF(COUNTIF(E$582:E$625,E583)>1,\"Duplicate country\",\"-\")","v":"-"},{"$f":"IF(AND(E583<>\"\",AND(G583=\"\",H583=\"\")),\"Input values\",\"-\")","v":"-"}]
[0,null,"Information services",null,null,"",null,null,null,"-","-"]
[0,null,"Information services",null,null,"",null,null,null,"-","-"]
[0,null,"Information services",null,null,"",null,null,null,"-","-"]
[0,null,"Information services",null,null,"",null,null,null,"-","-"]
[0,null,"Information services",null,null,"",null,null,null,"-","-"]
[0,null,"Information services",null,null,"",null,null,null,"-","-"]
[0,null,"Information services",null,null,"",null,null,null,"-","-"]
[0,null,"Information services",null,null,"",null,null,null,"-","-"]
[0,null,"Information services",null,null,"",null,null,null,"-","-"]
[0,null,"Information services",null,null,{"$f":"IF(E593=\"\",\"\",VLOOKUP(E593,$C$813:$E$853,2,FALSE))","v":""},null,null,null,"-","-"]
[0,null,"Information services",null,null,"",null,null,null,"-","-"]
[0,null,"Information services",null,null,"",null,null,null,"-","-"]
[0,null,"Information services",null,null,"",null,null,null,"-","-"]
[0,null,"Information services",null,null,"",null,null,null,"-","-"]
[0,null,"Information services",null,null,"",null,null,null,"-","-"]
[0,null,"Information services",null,null,"",null,null,null,"-","-"]
[0,null,"Information services",null,null,"",null,null,null,"-","-"]
[0,null,"Information services",null,null,"",null,null,null,"-","-"]
[0,null,"Information services",null,null,"",null,null,null,"-","-"]
[0,null,"Information services",null,null,"",null,null,null,"-","-"]
[0,null,"Information services",null,null,"",null,null,null,"-","-"]
[0,null,"Information services",null,null,"",null,null,null,"-","-"]
[0,null,"Information services",null,null,"",null,null,null,"-","-"]
[0,null,"Information services",null,null,"",null,null,null,"-","-"]
[0,null,"Information services",null,null,"",null,null,null,"-","-"]
[0,null,"Information services",null,null,"",null,null,null,"-","-"]
[0,null,"Information services",null,null,"",null,null,null,"-","-"]
[0,null,"Information services",null,null,"",null,null,null,"-","-"]
[0,null,"Information services",null,null,"",null,null,null,"-","-"]
[0,null,"Information services",null,null,"",null,null,null,"-","-"]
[0,null,"Information services",null,null,"",null,null,null,"-","-"]
[0,null,"Information services",null,null,"",null,null,null,"-","-"]
[0,null,"Information services",null,null,"",null,null,null,"-","-"]
[0,null,"Information services",null,null,"",null,null,null,"-","-"]
[0,null,"Information services",null,null,"",null,null,null,"-","-"]
[0,null,"Information services",null,null,"",null,null,null,"-","-"]
[0,null,"Information services",null,null,"",null,null,null,"-","-"]
[0,null,"Information services",null,null,"",null,null,null,"-","-"]
[0,null,"Information services",null,null,"",null,null,null,"-","-"]
[0,null,"Information services",null,null,"",null,null,null,"-","-"]
[0,null,"Information services",null,null,"",null,null,null,"-","-"]
[0,null,"Information services",null,null,"",null,null,null,"-","-"]
[1,19,"Legal services",null,null,"",{"$f":"SUM(G627:G670)","v":0},{"$f":"SUM(H627:H670)","v":0}]
[1,null,"Legal services",null,null,"",null,null,null,{"$f":"IF(COUNTIF(E$627:E$670,E627)>1,\"Duplicate country\",\"-\")","v":"-"},{"$f":"IF(AND(E627<>\"\",AND(G627=\"\",H627=\"\")),\"Input values\",\"-\")","v":"-"}]
[{"$f":"IF(OR(E628<>\"\",G628<>\"\",H628<>\"\"),1,0)","v":0},null,"Legal services",null,null,"",null,null,null,{"$f":"IF(COUNTIF(E$627:E$670,E628)>1,\"Duplicate country\",\"-\")","v":"-"},{"$f":"IF(AND(E628<>\"\",AND(G628=\"\",H628=\"\")),\"Input values\",\"-\")","v":"-"}]
[0,null,"Legal services",null,null,"",null,null,null,"-","-"]
[0,null,"Legal services",null,null,"",null,null,null,"-","-"]
[0,null,"Legal services",null,null,"",null,null,null,"-","-"]
[0,null,"Legal services",null,null,"",null,null,null,"-","-"]
[0,null,"Legal services",null,null,"",null,null,null,"-","-"]
[0,null,"Legal services",null,null,"",null,null,null,"-","-"]
[0,null,"Legal services",null,null,"",null,null,null,"-","-"]
[0,null,"Legal services",null,null,"",null,null,null,"-","-"]
[0,null,"Legal services",null,null,"",null,null,null,"-","-"]
[0,null,"Legal services",null,null,{"$f":"IF(E638=\"\",\"\",VLOOKUP(E638,$C$813:$E$853,2,FALSE))","v":""},null,null,null,"-","-"]
[0,null,"Legal services",null,null,"",null,null,null,"-","-"]
[0,null,"Legal services",null,null,"",null,null,null,"-","-"]
[0,null,"Legal services",null,null,"",null,null,null,"-","-"]
[0,null,"Legal services",null,null,"",null,null,null,"-","-"]
[0,null,"Legal services",null,null,"",null,null,null,"-","-"]
[0,null,"Legal services",null,null,"",null,null,null,"-","-"]
[0,null,"Legal services",null,null,"",null,null,null,"-","-"]
[0,null,"Legal services",null,null,"",null,null,null,"-","-"]
[0,null,"Legal services",null,null,"",null,null,null,"-","-"]
[0,null,"Legal services",null,null,"",null,null,null,"-","-"]
[0,null,"Legal services",null,null,"",null,null,null,"-","-"]
[0,null,"Legal services",null,null,"",null,null,null,"-","-"]
[0,null,"Legal services",null,null,"",null,null,null,"-","-"]
[0,null,"Legal services",null,null,"",null,null,null,"-","-"]
[0,null,"Legal services",null,null,"",null,null,null,"-","-"]
[0,null,"Legal services",null,null,"",null,null,null,"-","-"]
[0,null,"Legal services",null,null,"",null,null,null,"-","-"]
[0,null,"Legal services",null,null,"",null,null,null,"-","-"]
[0,null,"Legal services",null,null,"",null,null,null,"-","-"]
[0,null,"Legal services",null,null,"",null,null,null,"-","-"]
[0,null,"Legal services",null,null,"",null,null,null,"-","-"]
[0,null,"Legal services",null,null,"",null,null,null,"-","-"]
[0,null,"Legal services",null,null,"",null,null,null,"-","-"]
[0,null,"Legal services",null,null,"",null,null,null,"-","-"]
[0,null,"Legal services",null,null,"",null,null,null,"-","-"]
[0,null,"Legal services",null,null,"",null,null,null,"-","-"]
[0,null,"Legal services",null,null,"",null,null,null,"-","-"]
[0,null,"Legal services",null,null,"",null,null,null,"-","-"]
[0,null,"Legal services",null,null,"",null,null,null,"-","-"]
[0,null,"Legal services",null,null,"",null,null,null,"-","-"]
[0,null,"Legal services",null,null,"",null,null,null,"-","-"]
[0,null,"Legal services",null,null,"",null,null,null,"-","-"]
[1,20,"Research and development services",null,null,"",{"$f":"SUM(G672:G715)","v":0},{"$f":"SUM(H672:H715)","v":0}]
[1,null,"Research and development services",null,null,"",null,null,null,{"$f":"IF(COUNTIF(E$672:E$715,E672)>1,\"Duplicate country\",\"-\")","v":"-"},{"$f":"IF(AND(E672<>\"\",AND(G672=\"\",H672=\"\")),\"Input values\",\"-\")","v":"-"}]
[{"$f":"IF(OR(E673<>\"\",G673<>\"\",H673<>\"\"),1,0)","v":0},null,"Research and development services",null,null,"",null,null,null,{"$f":"IF(COUNTIF(E$672:E$715,E673)>1,\"Duplicate country\",\"-\")","v":"-"},{"$f":"IF(AND(E673<>\"\",AND(G673=\"\",H673=\"\")),\"Input values\",\"-\")","v":"-"}]
[0,null,"Research and development services",null,null,"",null,null,null,"-","-"]
[0,null,"Research and development services",null,null,"",null,null,null,"-","-"]
[0,null,"Research and development services",null,null,"",null,null,null,"-","-"]
[0,null,"Research and development services",null,null,"",null,null,null,"-","-"]
[0,null,"Research and development services",null,null,"",null,null,null,"-","-"]
[0,null,"Research and development services",null,null,"",null,null,null,"-","-"]
[0,null,"Research and development services",null,null,"",null,null,null,"-","-"]
[0,null,"Research and development services",null,null,"",null,null,null,"-","-"]
[0,null,"Research and development services",null,null,"",null,null,null,"-","-"]
[0,null,"Research and development services",null,null,{"$f":"IF(E683=\"\",\"\",VLOOKUP(E683,$C$813:$E$853,2,FALSE))","v":""},null,null,null,"-","-"]
[0,null,"Research and development services",null,null,"",null,null,null,"-","-"]
[0,null,"Research and development services",null,null,"",null,null,null,"-","-"]
[0,null,"Research and development services",null,null,"",null,null,null,"-","-"]
[0,null,"Research and development services",null,null,"",null,null,null,"-","-"]
[0,null,"Research and development services",null,null,"",null,null,null,"-","-"]
[0,null,"Research and development services",null,null,"",null,null,null,"-","-"]
[0,null,"Research and development services",null,null,"",null,null,null,"-","-"]
[0,null,"Research and development services",null,null,"",null,null,null,"-","-"]
[0,null,"Research and development services",null,null,"",null,null,null,"-","-"]
[0,null,"Research and development services",null,null,"",null,null,null,"-","-"]
[0,null,"Research and development services",null,null,"",null,null,null,"-","-"]
[0,null,"Research and development services",null,null,"",null,null,null,"-","-"]
[0,null,"Research and development services",null,null,"",null,null,null,"-","-"]
[0,null,"Research and development services",null,null,"",null,null,null,"-","-"]
[0,null,"Research and development services",null,null,"",null,null,null,"-","-"]
[0,null,"Research and development services",null,null,"",null,null,null,"-","-"]
[0,null,"Research and development services",null,null,"",null,null,null,"-","-"]
[0,null,"Research and development services",null,null,"",null,null,null,"-","-"]
[0,null,"Research and development services",null,null,"",null,null,null,"-","-"]
[0,null,"Research and development services",null,null,"",null,null,null,"-","-"]
[0,null,"Research and development services",null,null,"",null,null,null,"-","-"]
[0,null,"Research and development services",null,null,"",null,null,null,"-","-"]
[0,null,"Research and development services",null,null,"",null,null,null,"-","-"]
[0,null,"Research and development services",null,null,"",null,null,null,"-","-"]
[0,null,"Research and development services",null,null,"",null,null,null,"-","-"]
[0,null,"Research and development services",null,null,"",null,null,null,"-","-"]
[0,null,"Research and development services",null,null,"",null,null,null,"-","-"]
[0,null,"Research and development services",null,null,"",null,null,null,"-","-"]
[0,null,"Research and development services",null,null,"",null,null,null,"-","-"]
[0,null,"Research and development services",null,null,"",null,null,null,"-","-"]
[0,null,"Research and development services",null,null,"",null,null,null,"-","-"]
[0,null,"Research and development services",null,null,"",null,null,null,"-","-"]
[1,21,"Commissions",null,null,"",{"$f":"SUM(G717:G760)","v":0},{"$f":"SUM(H717:H760)","v":0}]
[1,null,"Commissions",null,null,"",null,null,null,{"$f":"IF(COUNTIF(E$717:E$760,E717)>1,\"Duplicate country\",\"-\")","v":"-"},{"$f":"IF(AND(E717<>\"\",AND(G717=\"\",H717=\"\")),\"Input values\",\"-\")","v":"-"}]
[{"$f":"IF(OR(E718<>\"\",G718<>\"\",H718<>\"\"),1,0)","v":0},null,"Commissions",null,null,"",null,null,null,{"$f":"IF(COUNTIF(E$717:E$760,E718)>1,\"Duplicate country\",\"-\")","v":"-"},{"$f":"IF(AND(E718<>\"\",AND(G718=\"\",H718=\"\")),\"Input values\",\"-\")","v":"-"}]
[0,null,"Commissions",null,null,"",null,null,null,"-","-"]
[0,null,"Commissions",null,null,"",null,null,null,"-","-"]
[0,null,"Commissions",null,null,"",null,null,null,"-","-"]
[0,null,"Commissions",null,null,"",null,null,null,"-","-"]
[0,null,"Commissions",null,null,"",null,null,null,"-","-"]
[0,null,"Commissions",null,null,"",null,null,null,"-","-"]
[0,null,"Commissions",null,null,"",null,null,null,"-","-"]
[0,null,"Commissions",null,null,"",null,null,null,"-","-"]
[0,null,"Commissions",null,null,"",null,null,null,"-","-"]
[0,null,"Commissions",null,null,{"$f":"IF(E728=\"\",\"\",VLOOKUP(E728,$C$813:$E$853,2,FALSE))","v":""},null,null,null,"-","-"]
[0,null,"Commissions",null,null,"",null,null,null,"-","-"]
[0,null,"Commissions",null,null,"",null,null,null,"-","-"]
[0,null,"Commissions",null,null,"",null,null,null,"-","-"]
[0,null,"Commissions",null,null,"",null,null,null,"-","-"]
[0,null,"Commissions",null,null,"",null,null,null,"-","-"]
[0,null,"Commissions",null,null,"",null,null,null,"-","-"]
[0,null,"Commissions",null,null,"",null,null,null,"-","-"]
[0,null,"Commissions",null,null,"",null,null,null,"-","-"]
[0,null,"Commissions",null,null,"",null,null,null,"-","-"]
[0,null,"Commissions",null,null,"",null,null,null,"-","-"]
[0,null,"Commissions",null,null,"",null,null,null,"-","-"]
[0,null,"Commissions",null,null,"",null,null,null,"-","-"]
[0,null,"Commissions",null,null,"",null,null,null,"-","-"]
[0,null,"Commissions",null,null,"",null,null,null,"-","-"]
[0,null,"Commissions",null,null,"",null,null,null,"-","-"]
[0,null,"Commissions",null,null,"",null,null,null,"-","-"]
[0,null,"Commissions",null,null,"",null,null,null,"-","-"]
[0,null,"Commissions",null,null,"",null,null,null,"-","-"]
[0,null,"Commissions",null,null,"",null,null,null,"-","-"]
[0,null,"Commissions",null,null,"",null,null,null,"-","-"]
[0,null,"Commissions",null,null,"",null,null,null,"-","-"]
[0,null,"Commissions",null,null,"",null,null,null,"-","-"]
[0,null,"Commissions",null,null,"",null,null,null,"-","-"]
[0,null,"Commissions",null,null,"",null,null,null,"-","-"]
[0,null,"Commissions",null,null,"",null,null,null,"-","-"]
[0,null,"Commissions",null,null,"",null,null,null,"-","-"]
[0,null,"Commissions",null,null,"",null,null,null,"-","-"]
[0,null,"Commissions",null,null,"",null,null,null,"-","-"]
[0,null,"Commissions",null,null,"",null,null,null,"-","-"]
[0,null,"Commissions",null,null,"",null,null,null,"-","-"]
[0,null,"Commissions",null,null,"",null,null,null,"-","-"]
[0,null,"Commissions",null,null,"",null,null,null,"-","-"]
[1,22,"Other services not included elsewhere",null,null,"",{"$f":"SUM(G762:G805)","v":0},{"$f":"SUM(H762:H805)","v":0}]
[1,null,"Other services not included elsewhere",null,null,"",null,null,null,{"$f":"IF(COUNTIF(E$762:E$805,E762)>1,\"Duplicate country\",\"-\")","v":"-"},{"$f":"IF(AND(E762<>\"\",AND(G762=\"\",H762=\"\")),\"Input values\",\"-\")","v":"-"}]
[{"$f":"IF(OR(E763<>\"\",G763<>\"\",H763<>\"\"),1,0)","v":0},null,"Other services not included elsewhere",null,null,"",null,null,null,{"$f":"IF(COUNTIF(E$762:E$805,E763)>1,\"Duplicate country\",\"-\")","v":"-"},{"$f":"IF(AND(E763<>\"\",AND(G763=\"\",H763=\"\")),\"Input values\",\"-\")","v":"-"}]
[0,null,"Other services not included elsewhere",null,null,"",null,null,null,"-","-"]
[0,null,"Other services not included elsewhere",null,null,"",null,null,null,"-","-"]
[0,null,"Other services not included elsewhere",null,null,"",null,null,null,"-","-"]
[0,null,"Other services not included elsewhere",null,null,"",null,null,null,"-","-"]
[0,null,"Other services not included elsewhere",null,null,"",null,null,null,"-","-"]
[0,null,"Other services not included elsewhere",null,null,"",null,null,null,"-","-"]
[0,null,"Other services not included elsewhere",null,null,"",null,null,null,"-","-"]
[0,null,"Other services not included elsewhere",null,null,"",null,null,null,"-","-"]
[0,null,"Other services not included elsewhere",null,null,"",null,null,null,"-","-"]
[0,null,"Other services not included elsewhere",null,null,{"$f":"IF(E773=\"\",\"\",VLOOKUP(E773,$C$813:$E$853,2,FALSE))","v":""},null,null,null,"-","-"]
[0,null,"Other services not included elsewhere",null,null,"",null,null,null,"-","-"]
[0,null,"Other services not included elsewhere",null,null,"",null,null,null,"-","-"]
[0,null,"Other services not included elsewhere",null,null,"",null,null,null,"-","-"]
[0,null,"Other services not included elsewhere",null,null,"",null,null,null,"-","-"]
[0,null,"Other services not included elsewhere",null,null,"",null,null,null,"-","-"]
[0,null,"Other services not included elsewhere",null,null,"",null,null,null,"-","-"]
[0,null,"Other services not included elsewhere",null,null,"",null,null,null,"-","-"]
[0,null,"Other services not included elsewhere",null,null,"",null,null,null,"-","-"]
[0,null,"Other services not included elsewhere",null,null,"",null,null,null,"-","-"]
[0,null,"Other services not included elsewhere",null,null,"",null,null,null,"-","-"]
[0,null,"Other services not included elsewhere",null,null,"",null,null,null,"-","-"]
[0,null,"Other services not included elsewhere",null,null,"",null,null,null,"-","-"]
[0,null,"Other services not included elsewhere",null,null,"",null,null,null,"-","-"]
[0,null,"Other services not included elsewhere",null,null,"",null,null,null,"-","-"]
[0,null,"Other services not included elsewhere",null,null,"",null,null,null,"-","-"]
[0,null,"Other services not included elsewhere",null,null,"",null,null,null,"-","-"]
[0,null,"Other services not included elsewhere",null,null,"",null,null,null,"-","-"]
[0,null,"Other services not included elsewhere",null,null,"",null,null,null,"-","-"]
[0,null,"Other services not included elsewhere",null,null,"",null,null,null,"-","-"]
[0,null,"Other services not included elsewhere",null,null,"",null,null,null,"-","-"]
[0,null,"Other services not included elsewhere",null,null,"",null,null,null,"-","-"]
[0,null,"Other services not included elsewhere",null,null,"",null,null,null,"-","-"]
[0,null,"Other services not included elsewhere",null,null,"",null,null,null,"-","-"]
[0,null,"Other services not included elsewhere",null,null,"",null,null,null,"-","-"]
[0,null,"Other services not included elsewhere",null,null,"",null,null,null,"-","-"]
[0,null,"Other services not included elsewhere",null,null,"",null,null,null,"-","-"]
[0,null,"Other services not included elsewhere",null,null,"",null,null,null,"-","-"]
[0,null,"Other services not included elsewhere",null,null,"",null,null,null,"-","-"]
[0,null,"Other services not included elsewhere",null,null,"",null,null,null,"-","-"]
[0,null,"Other services not included elsewhere",null,null,"",null,null,null,"-","-"]
[0,null,"Other services not included elsewhere",null,null,"",null,null,null,"-","-"]
[0,null,"Other services not included elsewhere",null,null,"",null,null,null,"-","-"]
[1]
[1,"* Contains a dropdown menu"]
[2]
[2]
[2]
[2]
[2]
[2,null,"Austria ","AT"]
[2,null,"Belgium ","BE"]
[2,null,"Brazil ","BR"]
[2,null,"Bulgaria ","BG"]
[2,null,"Canada ","CA"]
[2,null,"China ","CN"]
[2,null,"Croatia ","HR"]
[2,null,"Cyprus ","CY"]
[2,null,"Czech Republic ","CZ"]
[2,null,"Denmark ","DK"]
[2,null,"Estonia ","EE"]
[2,null,"Finland ","FI"]
[2,null,"France ","FR"]
[2,null,"Germany ","DE"]
[2,null,"Greece ","GR"]
[2,null,"Hong Kong ","HK"]
[2,null,"Hungary ","HU"]
[2,null,"India ","IN"]
[2,null,"Ireland ","IE"]
[2,null,"Italy ","IT"]
[2,null,"Japan ","JP"]
[2,null,"Latvia ","LV"]
[2,null,"Lithuania ","LT"]
[2,null,"Luxembourg ","LU"]
[2,null,"Netherlands ","NL"]
[2,null,"Poland ","PL"]
[2,null,"Portugal ","PT"]
[2,null,"Romania ","RO"]
[2,null,"Russian Federation ","RU"]
[2,null,"Slovak Republic ","SK"]
[2,null,"Slovenia ","SI"]
[2,null,"Spain ","ES"]
[2,null,"Sweden ","SE"]
[2,null,"Switzerland ","CH"]
[2,null,"United Kingdom ","GB"]
[2,null,"United States ","US"]
[2,null,"European Investment Bank ","4C"]
[2,null,"International Monetary Fund ","1C"]
[2,null,"International organisations (excluding Union Institutions)","9A"]
[2,null,"Union Institutions (excluding ECB)","4AA",null,"BPM5 was"]
[2,null,"Other countries not specified elsewhere","0_x28","Z8","Z8"]
[2]
[2]
[2]
[2]
[2]
[2]
[2]
[2]
[2]
[2]
[2]
[2]
[2]
[2]
[2]
[2]
[2]
[2]
[2]
[2]
[2]
[2]
[2]
[2]
[2]
[2]
[2]
[2]
[2]
[2]
[2]
[2]
[2]
[2]
[2]
[2]

{"sheet":"List","index":11,"n_rows":252,"n_cols":15,"rows_kept":252,"cut":false,"hidden":true,"merged":[]}
[]
[]
[null,"AFGHANISTAN",null,null,null,null,"01 - Medical Expenses insurance ",null,null,null,null,null,null,null,"Health insurance"]
[null,"ÅLAND ISLANDS",null,null,"FOS",null,"02 - Income Protection insurance ",null,null,null,null,null,null,null,"Insurance with profit participation"]
[null,"ALBANIA",null,null,"FOE",null,"03 - Workers’ Compensation insurance ",null,null,null,null,null,null,null,"Index-linked and unit-linked insurance"]
[null,"ALGERIA",null,null,"Non-EEA",null,"04 - Motor Vehicle Liability insurance",null,null,null,null,null,null,null,"Other life insurance"]
[null,"AMERICAN SAMOA",null,null,"Not applicable",null,"05 - Other Motor insurance",null,null,null,null,null,null,null,"Annuities stemming from non-life insurance contracts and relating to health insurance obligations"]
[null,"ANDORRA",null,null,null,null,"06 - Marine, aviation and transport insurance",null,null,null,null,null,null,null,"Annuities stemming from non-life insurance contracts and relating to insurance obligations other than health insurance obligations"]
[null,"ANGOLA",null,null,null,null,"07 - Fire and other damage to property insurance ",null,null,null,null,null,null,null,"Health reinsurance"]
[null,"ANGUILLA",null,null,null,null,"08 - General liability insurance",null,null,null,null,null,null,null,"Life reinsurance"]
[null,"ANTARCTICA",null,null,null,null,"09 - Credit and suretyship insurance "]
[null,"ANTIGUA AND BARBUDA",null,null,null,null,"10 - Legal expenses insurance"]
[null,"ARGENTINA",null,null,null,null,"11 - Assistance"]
[null,"ARMENIA",null,null,null,null,"12 - Miscellaneous financial loss "]
[null,"ARUBA",null,null,null,null,"13 - Medical Expense proportional reinsurance "]
[null,"AUSTRALIA",null,null,null,null,"14 - Income Protection proportional reinsurance "]
[null,"AUSTRIA",null,null,null,null,"15 - Workers’ compensation proportional reinsurance "]
[null,"AZERBAIJAN",null,null,null,null,"16 - Motor Vehicle Liability proportional reinsurance"]
[null,"BAHAMAS",null,null,null,null,"17 - Other Motor proportional reinsurance"]
[null,"BAHRAIN",null,null,null,null,"18 - Marine, aviation and transport proportional reinsurance"]
[null,"BANGLADESH",null,null,null,null,"19 - Fire and other damage to property proportional reinsurance "]
[null,"BARBADOS",null,null,null,null,"20 - General liability proportional reinsurance"]
[null,"BELARUS",null,null,null,null,"21 - Credit and suretyship proportional reinsurance "]
[null,"BELGIUM",null,null,null,null,"22 - Legal expenses proportional reinsurance"]
[null,"BELIZE",null,null,null,null,"23 - Assistance proportional reinsurance "]
[null,"BENIN",null,null,null,null,"24 - Miscellaneous financial loss proportional reinsurance "]
[null,"BERMUDA",null,null,null,null,"25 - Non-proportional health reinsurance "]
[null,"BHUTAN",null,null,null,null,"26 - Non-proportional casualty reinsurance "]
[null,"BOLIVIA, PLURINATIONAL STATE OF",null,null,null,null,"27 - Non-proportional marine, aviation and transport reinsurance "]
[null,"BONAIRE, SINT EUSTATIUS AND SABA",null,null,null,null,"28 - Non-proportional property reinsurance "]
[null,"BOSNIA AND HERZEGOVINA",null,null,null,null,"29 - Long-term business - Health Insurance "]
[null,"BOTSWANA",null,null,null,null,"30 - Long-term business - Insurance with profit participation "]
[null,"BOUVET ISLAND",null,null,null,null,"31 - Long-term business - Index-linked and unit-linked insurance "]
[null,"BRAZIL",null,null,null,null,"32 - Long-term business - Other life insurance "]
[null,"BRITISH INDIAN OCEAN TERRITORY",null,null,null,null,"33 - Long-term business - Annuities stemming from non-life insurance contracts and relating to health insurance obligations "]
[null,"BRUNEI DARUSSALAM",null,null,null,null,"34 - Long-term business - Annuities stemming from non-life insurance contracts and relating to insurance obligations other than health insurance obligations "]
[null,"BULGARIA",null,null,null,null,"35 - Long-term business - Health Reinsurance"]
[null,"BURKINA FASO",null,null,null,null,"36 - Long-term business - Life reinsurance"]
[null,"BURUNDI"]
[null,"CAMBODIA"]
[null,"CAMEROON"]
[null,"CANADA"]
[null,"CAPE VERDE"]
[null,"CAYMAN ISLANDS"]
[null,"CENTRAL AFRICAN REPUBLIC"]
[null,"CHAD"]
[null,"CHILE"]
[null,"CHINA"]
[null,"CHRISTMAS ISLAND"]
[null,"COCOS (KEELING) ISLANDS"]
[null,"COLOMBIA"]
[null,"COMOROS"]
[null,"CONGO"]
[null,"CONGO, THE DEMOCRATIC REPUBLIC OF THE"]
[null,"COOK ISLANDS"]
[null,"COSTA RICA"]
[null,"CÔTE D'IVOIRE"]
[null,"CROATIA"]
[null,"CUBA"]
[null,"CURAÇAO"]
[null,"CYPRUS"]
[null,"CZECHIA"]
[null,"DENMARK"]
[null,"DJIBOUTI"]
[null,"DOMINICA"]
[null,"DOMINICAN REPUBLIC"]
[null,"ECUADOR"]
[null,"EGYPT"]
[null,"EL SALVADOR"]
[null,"EQUATORIAL GUINEA"]
[null,"ERITREA"]
[null,"ESTONIA"]
[null,"ESWATINI"]
[null,"ETHIOPIA"]
[null,"FALKLAND ISLANDS (MALVINAS)"]
[null,"FAROE ISLANDS"]
[null,"FIJI"]
[null,"FINLAND"]
[null,"FRANCE"]
[null,"FRENCH GUIANA"]
[null,"FRENCH POLYNESIA"]
[null,"FRENCH SOUTHERN TERRITORIES"]
[null,"GABON"]
[null,"GAMBIA"]
[null,"GEORGIA"]
[null,"GERMANY"]
[null,"GHANA"]
[null,"GREECE"]
[null,"GREENLAND"]
[null,"GRENADA"]
[null,"GUADELOUPE"]
[null,"GUAM"]
[null,"GUATEMALA"]
[null,"GUERNSEY"]
[null,"GUINEA"]
[null,"GUINEA-BISSAU"]
[null,"GUYANA"]
[null,"HAITI"]
[null,"HEARD ISLAND AND MCDONALD ISLANDS"]
[null,"HOLY SEE (VATICAN CITY STATE)"]
[null,"HONDURAS"]
[null,"HONG KONG"]
[null,"HUNGARY"]
[null,"ICELAND"]
[null,"INDIA"]
[null,"INDONESIA"]
[null,"IRAN, ISLAMIC REPUBLIC OF"]
[null,"IRAQ"]
[null,"IRELAND"]
[null,"ISLE OF MAN"]
[null,"ISRAEL"]
[null,"ITALY"]
[null,"JAMAICA"]
[null,"JAPAN"]
[null,"JERSEY"]
[null,"JORDAN"]
[null,"KAZAKHSTAN"]
[null,"KENYA"]
[null,"KIRIBATI"]
[null,"KOREA, DEMOCRATIC PEOPLE'S REPUBLIC OF"]
[null,"KOREA, REPUBLIC OF"]
[null,"KOSOVO"]
[null,"KUWAIT"]
[null,"KYRGYZSTAN"]
[null,"LAO PEOPLE'S DEMOCRATIC REPUBLIC"]
[null,"LATVIA"]
[null,"LEBANON"]
[null,"LESOTHO"]
[null,"LIBERIA"]
[null,"LIBYA"]
[null,"LIECHTENSTEIN"]
[null,"LITHUANIA"]
[null,"LUXEMBOURG"]
[null,"MACAO"]
[null,"MADAGASCAR"]
[null,"MALAWI"]
[null,"MALAYSIA"]
[null,"MALDIVES"]
[null,"MALI"]
[null,"MALTA"]
[null,"MARSHALL ISLANDS"]
[null,"MARTINIQUE"]
[null,"MAURITANIA"]
[null,"MAURITIUS"]
[null,"MAYOTTE"]
[null,"MEXICO"]
[null,"MICRONESIA, FEDERATED STATES OF"]
[null,"MOLDOVA, REPUBLIC OF"]
[null,"MONACO"]
[null,"MONGOLIA"]
[null,"MONTENEGRO"]
[null,"MONTSERRAT"]
[null,"MOROCCO"]
[null,"MOZAMBIQUE"]
[null,"MYANMAR"]
[null,"NAMIBIA"]
[null,"NAURU"]
[null,"NEPAL"]
[null,"NETHERLANDS"]
[null,"NEW CALEDONIA"]
[null,"NEW ZEALAND"]
[null,"NICARAGUA"]
[null,"NIGER"]
[null,"NIGERIA"]
[null,"NIUE"]
[null,"NORFOLK ISLAND"]
[null,"NORTH MACEDONIA"]
[null,"NORTHERN MARIANA ISLANDS"]
[null,"NORWAY"]
[null,"OMAN"]
[null,"PAKISTAN"]
[null,"PALAU"]
[null,"PALESTINE, STATE OF"]
[null,"PANAMA"]
[null,"PAPUA NEW GUINEA"]
[null,"PARAGUAY"]
[null,"PERU"]
[null,"PHILIPPINES"]
[null,"PITCAIRN"]
[null,"POLAND"]
[null,"PORTUGAL"]
[null,"PUERTO RICO"]
[null,"QATAR"]
[null,"RÉUNION"]
[null,"ROMANIA"]
[null,"RUSSIAN FEDERATION"]
[null,"RWANDA"]
[null,"SAINT BARTHÉLEMY"]
[null,"SAINT HELENA, ASCENSION AND TRISTAN DA CUNHA"]
[null,"SAINT KITTS AND NEVIS"]
[null,"SAINT LUCIA"]
[null,"SAINT MARTIN (FRENCH PART)"]
[null,"SAINT PIERRE AND MIQUELON"]
[null,"SAINT VINCENT AND THE GRENADINES"]
[null,"SAMOA"]
[null,"SAN MARINO"]
[null,"SAO TOME AND PRINCIPE"]
[null,"SAUDI ARABIA"]
[null,"SENEGAL"]
[null,"SERBIA"]
[null,"SEYCHELLES"]
[null,"SIERRA LEONE"]
[null,"SINGAPORE"]
[null,"SINT MAARTEN (DUTCH PART)"]
[null,"SLOVAKIA"]
[null,"SLOVENIA"]
[null,"SOLOMON ISLANDS"]
[null,"SOMALIA"]
[null,"SOUTH AFRICA"]
[null,"SOUTH GEORGIA AND THE SOUTH SANDWICH ISLANDS"]
[null,"SOUTH SUDAN"]
[null,"SPAIN"]
[null,"SRI LANKA"]
[null,"SUDAN"]
[null,"SURINAME"]
[null,"SVALBARD AND JAN MAYEN"]
[null,"SWEDEN"]
[null,"SWITZERLAND"]
[null,"SYRIAN ARAB REPUBLIC"]
[null,"TAIWAN, PROVINCE OF CHINA"]
[null,"TAJIKISTAN"]
[null,"TANZANIA, UNITED REPUBLIC OF"]
[null,"THAILAND"]
[null,"TIMOR-LESTE"]
[null,"TOGO"]
[null,"TOKELAU"]
[null,"TONGA"]
[null,"TRINIDAD AND TOBAGO"]
[null,"TUNISIA"]
[null,"TURKEY"]
[null,"TURKMENISTAN"]
[null,"TURKS AND CAICOS ISLANDS"]
[null,"TUVALU"]
[null,"UGANDA"]
[null,"UKRAINE"]
[null,"UNITED ARAB EMIRATES"]
[null,"UNITED KINGDOM"]
[null,"UNITED KINGDOM (GIBRALTAR)"]
[null,"UNITED STATES"]
[null,"UNITED STATES MINOR OUTLYING ISLANDS"]
[null,"URUGUAY"]
[null,"UZBEKISTAN"]
[null,"VANUATU"]
[null,"VENEZUELA, BOLIVARIAN REPUBLIC OF"]
[null,"VIET NAM"]
[null,"VIRGIN ISLANDS, BRITISH"]
[null,"VIRGIN ISLANDS, U.S."]
[null,"WALLIS AND FUTUNA"]
[null,"WESTERN SAHARA"]
[null,"YEMEN"]
[null,"ZAMBIA"]
[null,"ZIMBABWE"]