{"text_format":"1","workbook":"xlsx","n_sheets":44,"sheets":["fredImportSheets","C0IN","C0BS","C0FO","C0FR","C0RE","C0RF","C0CP","C0MP","COVER SHEET","Review","LH Names & Codes","CONTENTS","Input Sheet","Index_CBM","Validation_Checks_CBM","SBSA_NOM_HSE","SBSA_NOM_NFC","SBSA_NON-NOM_HSE","SBSA_NON-NOM_NFC","SBSA_OWN_ACC","Non_SBS_Nominee","Non-Resident_Nominee","Non_Nominee","Transactions_for_period","Sectoral_Balance_Sheet","Income_&_Services","External_Balance_Sheet","CSV_workings","CSV_final","C0IS","Income Statement","Balance Sheet","C01","Own Funds Calculation","Memorandum Items","Transitional Provisions","Fixed Overhead Requirement","Financial Resources Requirement","Supervisory Fee Calculator","Representations","VALIDATION SHEET","Applicable Percentages","Subordinated Loan Working"],"not_rendered":{"charts":0,"images":8,"macros":1,"external_links":32,"defined_names":1579,"comments":1,"pivot_tables":0},"unopened":[],"bounds":{"document_bytes":16777216,"sheet_cells":100000,"rows_first":2000,"rows_last":500,"rows_between":2000,"halvings":0,"cell_chars":16384,"cell_head_chars":4096},"cells_cut":0,"cells_raw":0,"read":"whole","date_system":"1900"}

{"sheet":"fredImportSheets","index":0,"n_rows":11,"n_cols":1,"rows_kept":11,"cut":false,"hidden":true,"merged":[]}
["fredImportSheets"]
["C0IN"]
["C0IS"]
["C0BS"]
["C01"]
["C0FO"]
["C0FR"]
["C0RE"]
["C0RF"]
["C0CP"]
["C0MP"]

{"sheet":"C0IN","index":1,"n_rows":276,"n_cols":6,"rows_kept":276,"cut":false,"hidden":true,"merged":[]}
["SheetCode","FieldCode","FICode","Date","ColNum","Value"]
["C0IN","C_00_IN_001",{"$f":"'COVER SHEET'!$C$17","v":""},{"$f":"'COVER SHEET'!$C$24","v":"00:00:00"},1,{"$f":"'Input Sheet'!D14","v":0}]
["C0IN","C_00_IN_002",{"$f":"'COVER SHEET'!$C$17","v":""},{"$f":"'COVER SHEET'!$C$24","v":"00:00:00"},1,{"$f":"'Input Sheet'!D15","v":0}]
["C0IN","C_00_IN_003",{"$f":"'COVER SHEET'!$C$17","v":""},{"$f":"'COVER SHEET'!$C$24","v":"00:00:00"},1,{"$f":"'Input Sheet'!D17","v":0}]
["C0IN","C_00_IN_004",{"$f":"'COVER SHEET'!$C$17","v":""},{"$f":"'COVER SHEET'!$C$24","v":"00:00:00"},1,{"$f":"'Input Sheet'!D19","v":0}]
["C0IN","C_00_IN_005",{"$f":"'COVER SHEET'!$C$17","v":""},{"$f":"'COVER SHEET'!$C$24","v":"00:00:00"},1,{"$f":"'Input Sheet'!D20","v":0}]
["C0IN","C_00_IN_006",{"$f":"'COVER SHEET'!$C$17","v":""},{"$f":"'COVER SHEET'!$C$24","v":"00:00:00"},1,{"$f":"'Input Sheet'!D21","v":0}]
["C0IN","C_00_IN_007",{"$f":"'COVER SHEET'!$C$17","v":""},{"$f":"'COVER SHEET'!$C$24","v":"00:00:00"},1,{"$f":"'Input Sheet'!D22","v":0}]
["C0IN","C_00_IN_008",{"$f":"'COVER SHEET'!$C$17","v":""},{"$f":"'COVER SHEET'!$C$24","v":"00:00:00"},1,{"$f":"'Input Sheet'!D24","v":0}]
["C0IN","C_00_IN_009",{"$f":"'COVER SHEET'!$C$17","v":""},{"$f":"'COVER SHEET'!$C$24","v":"00:00:00"},1,{"$f":"'Input Sheet'!D25","v":0}]
["C0IN","C_00_IN_010",{"$f":"'COVER SHEET'!$C$17","v":""},{"$f":"'COVER SHEET'!$C$24","v":"00:00:00"},1,{"$f":"'Input Sheet'!D26","v":0}]
["C0IN","C_00_IN_011",{"$f":"'COVER SHEET'!$C$17","v":""},{"$f":"'COVER SHEET'!$C$24","v":"00:00:00"},1,{"$f":"'Input Sheet'!D27","v":0}]
["C0IN","C_00_IN_012",{"$f":"'COVER SHEET'!$C$17","v":""},{"$f":"'COVER SHEET'!$C$24","v":"00:00:00"},1,{"$f":"'Input Sheet'!D29","v":0}]
["C0IN","C_00_IN_013",{"$f":"'COVER SHEET'!$C$17","v":""},{"$f":"'COVER SHEET'!$C$24","v":"00:00:00"},1,{"$f":"'Input Sheet'!D30","v":0}]
["C0IN","C_00_IN_014",{"$f":"'COVER SHEET'!$C$17","v":""},{"$f":"'COVER SHEET'!$C$24","v":"00:00:00"},1,{"$f":"'Input Sheet'!D31","v":0}]
["C0IN","C_00_IN_015",{"$f":"'COVER SHEET'!$C$17","v":""},{"$f":"'COVER SHEET'!$C$24","v":"00:00:00"},1,{"$f":"'Input Sheet'!D32","v":0}]
["C0IN","C_00_IN_016",{"$f":"'COVER SHEET'!$C$17","v":""},{"$f":"'COVER SHEET'!$C$24","v":"00:00:00"},1,{"$f":"'Input Sheet'!D33","v":0}]
["C0IN","C_00_IN_017",{"$f":"'COVER SHEET'!$C$17","v":""},{"$f":"'COVER SHEET'!$C$24","v":"00:00:00"},1,{"$f":"'Input Sheet'!D34","v":0}]
["C0IN","C_00_IN_018",{"$f":"'COVER SHEET'!$C$17","v":""},{"$f":"'COVER SHEET'!$C$24","v":"00:00:00"},1,{"$f":"'Input Sheet'!D35","v":0}]
["C0IN","C_00_IN_019",{"$f":"'COVER SHEET'!$C$17","v":""},{"$f":"'COVER SHEET'!$C$24","v":"00:00:00"},1,{"$f":"'Input Sheet'!D36","v":0}]
["C0IN","C_00_IN_020",{"$f":"'COVER SHEET'!$C$17","v":""},{"$f":"'COVER SHEET'!$C$24","v":"00:00:00"},1,{"$f":"'Input Sheet'!D39","v":0}]
["C0IN","C_00_IN_021",{"$f":"'COVER SHEET'!$C$17","v":""},{"$f":"'COVER SHEET'!$C$24","v":"00:00:00"},1,{"$f":"'Input Sheet'!D42","v":0}]
["C0IN","C_00_IN_022",{"$f":"'COVER SHEET'!$C$17","v":""},{"$f":"'COVER SHEET'!$C$24","v":"00:00:00"},1,{"$f":"'Input Sheet'!D44","v":0}]
["C0IN","C_00_IN_023",{"$f":"'COVER SHEET'!$C$17","v":""},{"$f":"'COVER SHEET'!$C$24","v":"00:00:00"},1,{"$f":"'Input Sheet'!D45","v":0}]
["C0IN","C_00_IN_024",{"$f":"'COVER SHEET'!$C$17","v":""},{"$f":"'COVER SHEET'!$C$24","v":"00:00:00"},1,{"$f":"'Input Sheet'!D46","v":0}]
["C0IN","C_00_IN_025",{"$f":"'COVER SHEET'!$C$17","v":""},{"$f":"'COVER SHEET'!$C$24","v":"00:00:00"},1,{"$f":"'Input Sheet'!D47","v":0}]
["C0IN","C_00_IN_026",{"$f":"'COVER SHEET'!$C$17","v":""},{"$f":"'COVER SHEET'!$C$24","v":"00:00:00"},1,{"$f":"'Input Sheet'!D48","v":0}]
["C0IN","C_00_IN_027",{"$f":"'COVER SHEET'!$C$17","v":""},{"$f":"'COVER SHEET'!$C$24","v":"00:00:00"},1,{"$f":"'Input Sheet'!D49","v":0}]
["C0IN","C_00_IN_028",{"$f":"'COVER SHEET'!$C$17","v":""},{"$f":"'COVER SHEET'!$C$24","v":"00:00:00"},1,{"$f":"'Input Sheet'!D50","v":0}]
["C0IN","C_00_IN_029",{"$f":"'COVER SHEET'!$C$17","v":""},{"$f":"'COVER SHEET'!$C$24","v":"00:00:00"},1,{"$f":"'Input Sheet'!D54","v":0}]
["C0IN","C_00_IN_030",{"$f":"'COVER SHEET'!$C$17","v":""},{"$f":"'COVER SHEET'!$C$24","v":"00:00:00"},1,{"$f":"'Input Sheet'!D55","v":0}]
["C0IN","C_00_IN_031",{"$f":"'COVER SHEET'!$C$17","v":""},{"$f":"'COVER SHEET'!$C$24","v":"00:00:00"},1,{"$f":"'Input Sheet'!D56","v":0}]
["C0IN","C_00_IN_032",{"$f":"'COVER SHEET'!$C$17","v":""},{"$f":"'COVER SHEET'!$C$24","v":"00:00:00"},1,{"$f":"'Input Sheet'!D57","v":0}]
["C0IN","C_00_IN_033",{"$f":"'COVER SHEET'!$C$17","v":""},{"$f":"'COVER SHEET'!$C$24","v":"00:00:00"},1,{"$f":"'Input Sheet'!D58","v":0}]
["C0IN","C_00_IN_034",{"$f":"'COVER SHEET'!$C$17","v":""},{"$f":"'COVER SHEET'!$C$24","v":"00:00:00"},1,{"$f":"'Input Sheet'!D59","v":0}]
["C0IN","C_00_IN_035",{"$f":"'COVER SHEET'!$C$17","v":""},{"$f":"'COVER SHEET'!$C$24","v":"00:00:00"},1,{"$f":"'Input Sheet'!D60","v":0}]
["C0IN","C_00_IN_036",{"$f":"'COVER SHEET'!$C$17","v":""},{"$f":"'COVER SHEET'!$C$24","v":"00:00:00"},1,{"$f":"'Input Sheet'!D61","v":0}]
["C0IN","C_00_IN_037",{"$f":"'COVER SHEET'!$C$17","v":""},{"$f":"'COVER SHEET'!$C$24","v":"00:00:00"},1,{"$f":"'Input Sheet'!D62","v":0}]
["C0IN","C_00_IN_038",{"$f":"'COVER SHEET'!$C$17","v":""},{"$f":"'COVER SHEET'!$C$24","v":"00:00:00"},1,{"$f":"'Input Sheet'!D63","v":0}]
["C0IN","C_00_IN_039",{"$f":"'COVER SHEET'!$C$17","v":""},{"$f":"'COVER SHEET'!$C$24","v":"00:00:00"},1,{"$f":"'Input Sheet'!D64","v":0}]
["C0IN","C_00_IN_040",{"$f":"'COVER SHEET'!$C$17","v":""},{"$f":"'COVER SHEET'!$C$24","v":"00:00:00"},1,{"$f":"'Input Sheet'!D66","v":0}]
["C0IN","C_00_IN_041",{"$f":"'COVER SHEET'!$C$17","v":""},{"$f":"'COVER SHEET'!$C$24","v":"00:00:00"},1,{"$f":"'Input Sheet'!D67","v":0}]
["C0IN","C_00_IN_042",{"$f":"'COVER SHEET'!$C$17","v":""},{"$f":"'COVER SHEET'!$C$24","v":"00:00:00"},1,{"$f":"'Input Sheet'!D68","v":0}]
["C0IN","C_00_IN_043",{"$f":"'COVER SHEET'!$C$17","v":""},{"$f":"'COVER SHEET'!$C$24","v":"00:00:00"},1,{"$f":"'Input Sheet'!D69","v":0}]
["C0IN","C_00_IN_044",{"$f":"'COVER SHEET'!$C$17","v":""},{"$f":"'COVER SHEET'!$C$24","v":"00:00:00"},1,{"$f":"'Input Sheet'!#REF!","v":{"$error":"#REF!"}}]
["C0IN","C_00_IN_045",{"$f":"'COVER SHEET'!$C$17","v":""},{"$f":"'COVER SHEET'!$C$24","v":"00:00:00"},1,{"$f":"'Input Sheet'!#REF!","v":{"$error":"#REF!"}}]
["C0IN","C_00_IN_046",{"$f":"'COVER SHEET'!$C$17","v":""},{"$f":"'COVER SHEET'!$C$24","v":"00:00:00"},1,{"$f":"'Input Sheet'!D70","v":0}]
["C0IN","C_00_IN_047",{"$f":"'COVER SHEET'!$C$17","v":""},{"$f":"'COVER SHEET'!$C$24","v":"00:00:00"},1,{"$f":"'Input Sheet'!D71","v":0}]
["C0IN","C_00_IN_048",{"$f":"'COVER SHEET'!$C$17","v":""},{"$f":"'COVER SHEET'!$C$24","v":"00:00:00"},1,{"$f":"'Input Sheet'!D72","v":0}]
["C0IN","C_00_IN_049",{"$f":"'COVER SHEET'!$C$17","v":""},{"$f":"'COVER SHEET'!$C$24","v":"00:00:00"},1,{"$f":"'Input Sheet'!D73","v":0}]
["C0IN","C_00_IN_050",{"$f":"'COVER SHEET'!$C$17","v":""},{"$f":"'COVER SHEET'!$C$24","v":"00:00:00"},1,{"$f":"'Input Sheet'!D77","v":0}]
["C0IN","C_00_IN_051",{"$f":"'COVER SHEET'!$C$17","v":""},{"$f":"'COVER SHEET'!$C$24","v":"00:00:00"},1,{"$f":"'Input Sheet'!D78","v":0}]
["C0IN","C_00_IN_052",{"$f":"'COVER SHEET'!$C$17","v":""},{"$f":"'COVER SHEET'!$C$24","v":"00:00:00"},1,{"$f":"'Input Sheet'!D81","v":0}]
["C0IN","C_00_IN_053",{"$f":"'COVER SHEET'!$C$17","v":""},{"$f":"'COVER SHEET'!$C$24","v":"00:00:00"},1,{"$f":"'Input Sheet'!D82","v":0}]
["C0IN","C_00_IN_054",{"$f":"'COVER SHEET'!$C$17","v":""},{"$f":"'COVER SHEET'!$C$24","v":"00:00:00"},1,{"$f":"'Input Sheet'!D83","v":0}]
["C0IN","C_00_IN_055",{"$f":"'COVER SHEET'!$C$17","v":""},{"$f":"'COVER SHEET'!$C$24","v":"00:00:00"},1,{"$f":"'Input Sheet'!D84","v":0}]
["C0IN","C_00_IN_056",{"$f":"'COVER SHEET'!$C$17","v":""},{"$f":"'COVER SHEET'!$C$24","v":"00:00:00"},1,{"$f":"'Input Sheet'!D85","v":0}]
["C0IN","C_00_IN_057",{"$f":"'COVER SHEET'!$C$17","v":""},{"$f":"'COVER SHEET'!$C$24","v":"00:00:00"},1,{"$f":"'Input Sheet'!D89","v":0}]
["C0IN","C_00_IN_058",{"$f":"'COVER SHEET'!$C$17","v":""},{"$f":"'COVER SHEET'!$C$24","v":"00:00:00"},1,{"$f":"'Input Sheet'!D90","v":0}]
["C0IN","C_00_IN_059",{"$f":"'COVER SHEET'!$C$17","v":""},{"$f":"'COVER SHEET'!$C$24","v":"00:00:00"},1,{"$f":"'Input Sheet'!D91","v":0}]
["C0IN","C_00_IN_060",{"$f":"'COVER SHEET'!$C$17","v":""},{"$f":"'COVER SHEET'!$C$24","v":"00:00:00"},1,{"$f":"'Input Sheet'!D92","v":0}]
["C0IN","C_00_IN_061",{"$f":"'COVER SHEET'!$C$17","v":""},{"$f":"'COVER SHEET'!$C$24","v":"00:00:00"},1,{"$f":"'Input Sheet'!D93","v":0}]
["C0IN","C_00_IN_062",{"$f":"'COVER SHEET'!$C$17","v":""},{"$f":"'COVER SHEET'!$C$24","v":"00:00:00"},1,{"$f":"'Input Sheet'!D94","v":0}]
["C0IN","C_00_IN_063",{"$f":"'COVER SHEET'!$C$17","v":""},{"$f":"'COVER SHEET'!$C$24","v":"00:00:00"},1,{"$f":"'Input Sheet'!D97","v":0}]
["C0IN","C_00_IN_064",{"$f":"'COVER SHEET'!$C$17","v":""},{"$f":"'COVER SHEET'!$C$24","v":"00:00:00"},1,{"$f":"'Input Sheet'!D98","v":0}]
["C0IN","C_00_IN_065",{"$f":"'COVER SHEET'!$C$17","v":""},{"$f":"'COVER SHEET'!$C$24","v":"00:00:00"},1,{"$f":"'Input Sheet'!D99","v":0}]
["C0IN","C_00_IN_066",{"$f":"'COVER SHEET'!$C$17","v":""},{"$f":"'COVER SHEET'!$C$24","v":"00:00:00"},1,{"$f":"'Input Sheet'!D100","v":0}]
["C0IN","C_00_IN_067",{"$f":"'COVER SHEET'!$C$17","v":""},{"$f":"'COVER SHEET'!$C$24","v":"00:00:00"},1,{"$f":"'Input Sheet'!D101","v":0}]
["C0IN","C_00_IN_068",{"$f":"'COVER SHEET'!$C$17","v":""},{"$f":"'COVER SHEET'!$C$24","v":"00:00:00"},1,{"$f":"'Input Sheet'!D102","v":0}]
["C0IN","C_00_IN_069",{"$f":"'COVER SHEET'!$C$17","v":""},{"$f":"'COVER SHEET'!$C$24","v":"00:00:00"},1,{"$f":"'Input Sheet'!D103","v":0}]
["C0IN","C_00_IN_070",{"$f":"'COVER SHEET'!$C$17","v":""},{"$f":"'COVER SHEET'!$C$24","v":"00:00:00"},1,{"$f":"'Input Sheet'!D104","v":0}]
["C0IN","C_00_IN_071",{"$f":"'COVER SHEET'!$C$17","v":""},{"$f":"'COVER SHEET'!$C$24","v":"00:00:00"},1,{"$f":"'Input Sheet'!D105","v":0}]
["C0IN","C_00_IN_072",{"$f":"'COVER SHEET'!$C$17","v":""},{"$f":"'COVER SHEET'!$C$24","v":"00:00:00"},1,{"$f":"'Input Sheet'!D106","v":0}]
["C0IN","C_00_IN_073",{"$f":"'COVER SHEET'!$C$17","v":""},{"$f":"'COVER SHEET'!$C$24","v":"00:00:00"},1,{"$f":"'Input Sheet'!D156","v":0}]
["C0IN","C_00_IN_074",{"$f":"'COVER SHEET'!$C$17","v":""},{"$f":"'COVER SHEET'!$C$24","v":"00:00:00"},1,{"$f":"'Input Sheet'!D157","v":0}]
["C0IN","C_00_IN_075",{"$f":"'COVER SHEET'!$C$17","v":""},{"$f":"'COVER SHEET'!$C$24","v":"00:00:00"},1,{"$f":"'Input Sheet'!D158","v":0}]
["C0IN","C_00_IN_076",{"$f":"'COVER SHEET'!$C$17","v":""},{"$f":"'COVER SHEET'!$C$24","v":"00:00:00"},1,{"$f":"'Input Sheet'!D160","v":0}]
["C0IN","C_00_IN_077",{"$f":"'COVER SHEET'!$C$17","v":""},{"$f":"'COVER SHEET'!$C$24","v":"00:00:00"},1,{"$f":"'Input Sheet'!D161","v":0}]
["C0IN","C_00_IN_078",{"$f":"'COVER SHEET'!$C$17","v":""},{"$f":"'COVER SHEET'!$C$24","v":"00:00:00"},1,{"$f":"'Input Sheet'!D162","v":0}]
["C0IN","C_00_IN_079",{"$f":"'COVER SHEET'!$C$17","v":""},{"$f":"'COVER SHEET'!$C$24","v":"00:00:00"},1,{"$f":"'Input Sheet'!D164","v":0}]
["C0IN","C_00_IN_080",{"$f":"'COVER SHEET'!$C$17","v":""},{"$f":"'COVER SHEET'!$C$24","v":"00:00:00"},1,{"$f":"'Input Sheet'!D165","v":0}]
["C0IN","C_00_IN_081",{"$f":"'COVER SHEET'!$C$17","v":""},{"$f":"'COVER SHEET'!$C$24","v":"00:00:00"},1,{"$f":"'Input Sheet'!D166","v":0}]
["C0IN","C_00_IN_082",{"$f":"'COVER SHEET'!$C$17","v":""},{"$f":"'COVER SHEET'!$C$24","v":"00:00:00"},1,{"$f":"'Input Sheet'!D167","v":0}]
["C0IN","C_00_IN_083",{"$f":"'COVER SHEET'!$C$17","v":""},{"$f":"'COVER SHEET'!$C$24","v":"00:00:00"},1,{"$f":"'Input Sheet'!D168","v":0}]
["C0IN","C_00_IN_084",{"$f":"'COVER SHEET'!$C$17","v":""},{"$f":"'COVER SHEET'!$C$24","v":"00:00:00"},1,{"$f":"'Input Sheet'!D169","v":0}]
["C0IN","C_00_IN_085",{"$f":"'COVER SHEET'!$C$17","v":""},{"$f":"'COVER SHEET'!$C$24","v":"00:00:00"},1,{"$f":"'Input Sheet'!D170","v":0}]
["C0IN","C_00_IN_086",{"$f":"'COVER SHEET'!$C$17","v":""},{"$f":"'COVER SHEET'!$C$24","v":"00:00:00"},1,{"$f":"'Input Sheet'!D171","v":0}]
["C0IN","C_00_IN_087",{"$f":"'COVER SHEET'!$C$17","v":""},{"$f":"'COVER SHEET'!$C$24","v":"00:00:00"},1,{"$f":"'Input Sheet'!D173","v":0}]
["C0IN","C_00_IN_088",{"$f":"'COVER SHEET'!$C$17","v":""},{"$f":"'COVER SHEET'!$C$24","v":"00:00:00"},1,{"$f":"'Input Sheet'!D174","v":0}]
["C0IN","C_00_IN_089",{"$f":"'COVER SHEET'!$C$17","v":""},{"$f":"'COVER SHEET'!$C$24","v":"00:00:00"},1,{"$f":"'Input Sheet'!D175","v":0}]
["C0IN","C_00_IN_090",{"$f":"'COVER SHEET'!$C$17","v":""},{"$f":"'COVER SHEET'!$C$24","v":"00:00:00"},1,{"$f":"'Input Sheet'!D176","v":0}]
["C0IN","C_00_IN_091",{"$f":"'COVER SHEET'!$C$17","v":""},{"$f":"'COVER SHEET'!$C$24","v":"00:00:00"},1,{"$f":"'Input Sheet'!D177","v":0}]
["C0IN","C_00_IN_092",{"$f":"'COVER SHEET'!$C$17","v":""},{"$f":"'COVER SHEET'!$C$24","v":"00:00:00"},1,{"$f":"'Input Sheet'!D178","v":0}]
["C0IN","C_00_IN_093",{"$f":"'COVER SHEET'!$C$17","v":""},{"$f":"'COVER SHEET'!$C$24","v":"00:00:00"},1,{"$f":"'Input Sheet'!D179","v":0}]
["C0IN","C_00_IN_094",{"$f":"'COVER SHEET'!$C$17","v":""},{"$f":"'COVER SHEET'!$C$24","v":"00:00:00"},1,{"$f":"'Input Sheet'!D180","v":0}]
["C0IN","C_00_IN_095",{"$f":"'COVER SHEET'!$C$17","v":""},{"$f":"'COVER SHEET'!$C$24","v":"00:00:00"},1,{"$f":"'Input Sheet'!D182","v":0}]
["C0IN","C_00_IN_096",{"$f":"'COVER SHEET'!$C$17","v":""},{"$f":"'COVER SHEET'!$C$24","v":"00:00:00"},1,{"$f":"'Input Sheet'!D183","v":0}]
["C0IN","C_00_IN_097",{"$f":"'COVER SHEET'!$C$17","v":""},{"$f":"'COVER SHEET'!$C$24","v":"00:00:00"},1,{"$f":"'Input Sheet'!D184","v":0}]
["C0IN","C_00_IN_098",{"$f":"'COVER SHEET'!$C$17","v":""},{"$f":"'COVER SHEET'!$C$24","v":"00:00:00"},1,{"$f":"'Input Sheet'!D185","v":0}]
["C0IN","C_00_IN_099",{"$f":"'COVER SHEET'!$C$17","v":""},{"$f":"'COVER SHEET'!$C$24","v":"00:00:00"},1,{"$f":"'Input Sheet'!D186","v":0}]
["C0IN","C_00_IN_100",{"$f":"'COVER SHEET'!$C$17","v":""},{"$f":"'COVER SHEET'!$C$24","v":"00:00:00"},1,{"$f":"'Input Sheet'!D187","v":0}]
["C0IN","C_00_IN_101",{"$f":"'COVER SHEET'!$C$17","v":""},{"$f":"'COVER SHEET'!$C$24","v":"00:00:00"},1,{"$f":"'Input Sheet'!D189","v":0}]
["C0IN","C_00_IN_102",{"$f":"'COVER SHEET'!$C$17","v":""},{"$f":"'COVER SHEET'!$C$24","v":"00:00:00"},1,{"$f":"'Input Sheet'!D190","v":0}]
["C0IN","C_00_IN_103",{"$f":"'COVER SHEET'!$C$17","v":""},{"$f":"'COVER SHEET'!$C$24","v":"00:00:00"},1,{"$f":"'Input Sheet'!D191","v":0}]
["C0IN","C_00_IN_104",{"$f":"'COVER SHEET'!$C$17","v":""},{"$f":"'COVER SHEET'!$C$24","v":"00:00:00"},1,{"$f":"'Input Sheet'!D192","v":0}]
["C0IN","C_00_IN_105",{"$f":"'COVER SHEET'!$C$17","v":""},{"$f":"'COVER SHEET'!$C$24","v":"00:00:00"},1,{"$f":"'Input Sheet'!D193","v":0}]
["C0IN","C_00_IN_106",{"$f":"'COVER SHEET'!$C$17","v":""},{"$f":"'COVER SHEET'!$C$24","v":"00:00:00"},1,{"$f":"'Input Sheet'!D194","v":0}]
["C0IN","C_00_IN_107",{"$f":"'COVER SHEET'!$C$17","v":""},{"$f":"'COVER SHEET'!$C$24","v":"00:00:00"},1,{"$f":"'Input Sheet'!D195","v":0}]
["C0IN","C_00_IN_108",{"$f":"'COVER SHEET'!$C$17","v":""},{"$f":"'COVER SHEET'!$C$24","v":"00:00:00"},1,{"$f":"'Input Sheet'!D196","v":0}]
["C0IN","C_00_IN_109",{"$f":"'COVER SHEET'!$C$17","v":""},{"$f":"'COVER SHEET'!$C$24","v":"00:00:00"},1,{"$f":"'Input Sheet'!D197","v":0}]
["C0IN","C_00_IN_110",{"$f":"'COVER SHEET'!$C$17","v":""},{"$f":"'COVER SHEET'!$C$24","v":"00:00:00"},1,{"$f":"'Input Sheet'!D198","v":0}]
["C0IN","C_00_IN_111",{"$f":"'COVER SHEET'!$C$17","v":""},{"$f":"'COVER SHEET'!$C$24","v":"00:00:00"},1,{"$f":"'Input Sheet'!D200","v":0}]
["C0IN","C_00_IN_112",{"$f":"'COVER SHEET'!$C$17","v":""},{"$f":"'COVER SHEET'!$C$24","v":"00:00:00"},1,{"$f":"'Input Sheet'!D201","v":0}]
["C0IN","C_00_IN_113",{"$f":"'COVER SHEET'!$C$17","v":""},{"$f":"'COVER SHEET'!$C$24","v":"00:00:00"},1,{"$f":"'Input Sheet'!D202","v":0}]
["C0IN","C_00_IN_114",{"$f":"'COVER SHEET'!$C$17","v":""},{"$f":"'COVER SHEET'!$C$24","v":"00:00:00"},1,{"$f":"'Input Sheet'!D203","v":0}]
["C0IN","C_00_IN_115",{"$f":"'COVER SHEET'!$C$17","v":""},{"$f":"'COVER SHEET'!$C$24","v":"00:00:00"},1,{"$f":"'Input Sheet'!D204","v":0}]
["C0IN","C_00_IN_116",{"$f":"'COVER SHEET'!$C$17","v":""},{"$f":"'COVER SHEET'!$C$24","v":"00:00:00"},1,{"$f":"'Input Sheet'!D205","v":0}]
["C0IN","C_00_IN_117",{"$f":"'COVER SHEET'!$C$17","v":""},{"$f":"'COVER SHEET'!$C$24","v":"00:00:00"},1,{"$f":"'Input Sheet'!D206","v":0}]
["C0IN","C_00_IN_118",{"$f":"'COVER SHEET'!$C$17","v":""},{"$f":"'COVER SHEET'!$C$24","v":"00:00:00"},1,{"$f":"'Input Sheet'!D207","v":0}]
["C0IN","C_00_IN_119",{"$f":"'COVER SHEET'!$C$17","v":""},{"$f":"'COVER SHEET'!$C$24","v":"00:00:00"},1,{"$f":"'Input Sheet'!D208","v":0}]
["C0IN","C_00_IN_120",{"$f":"'COVER SHEET'!$C$17","v":""},{"$f":"'COVER SHEET'!$C$24","v":"00:00:00"},1,{"$f":"'Input Sheet'!D209","v":0}]
["C0IN","C_00_IN_121",{"$f":"'COVER SHEET'!$C$17","v":""},{"$f":"'COVER SHEET'!$C$24","v":"00:00:00"},1,{"$f":"'Input Sheet'!D211","v":0}]
["C0IN","C_00_IN_122",{"$f":"'COVER SHEET'!$C$17","v":""},{"$f":"'COVER SHEET'!$C$24","v":"00:00:00"},1,{"$f":"'Input Sheet'!D212","v":0}]
["C0IN","C_00_IN_123",{"$f":"'COVER SHEET'!$C$17","v":""},{"$f":"'COVER SHEET'!$C$24","v":"00:00:00"},1,{"$f":"'Input Sheet'!D213","v":0}]
["C0IN","C_00_IN_124",{"$f":"'COVER SHEET'!$C$17","v":""},{"$f":"'COVER SHEET'!$C$24","v":"00:00:00"},1,{"$f":"'Input Sheet'!D214","v":0}]
["C0IN","C_00_IN_125",{"$f":"'COVER SHEET'!$C$17","v":""},{"$f":"'COVER SHEET'!$C$24","v":"00:00:00"},1,{"$f":"'Input Sheet'!D215","v":0}]
["C0IN","C_00_IN_126",{"$f":"'COVER SHEET'!$C$17","v":""},{"$f":"'COVER SHEET'!$C$24","v":"00:00:00"},1,{"$f":"'Input Sheet'!D216","v":0}]
["C0IN","C_00_IN_127",{"$f":"'COVER SHEET'!$C$17","v":""},{"$f":"'COVER SHEET'!$C$24","v":"00:00:00"},1,{"$f":"'Input Sheet'!D217","v":0}]
["C0IN","C_00_IN_128",{"$f":"'COVER SHEET'!$C$17","v":""},{"$f":"'COVER SHEET'!$C$24","v":"00:00:00"},1,{"$f":"'Input Sheet'!D218","v":0}]
["C0IN","C_00_IN_129",{"$f":"'COVER SHEET'!$C$17","v":""},{"$f":"'COVER SHEET'!$C$24","v":"00:00:00"},1,{"$f":"'Input Sheet'!D219","v":0}]
["C0IN","C_00_IN_130",{"$f":"'COVER SHEET'!$C$17","v":""},{"$f":"'COVER SHEET'!$C$24","v":"00:00:00"},1,{"$f":"'Input Sheet'!D220","v":0}]
["C0IN","C_00_IN_131",{"$f":"'COVER SHEET'!$C$17","v":""},{"$f":"'COVER SHEET'!$C$24","v":"00:00:00"},1,{"$f":"'Input Sheet'!D222","v":0}]
["C0IN","C_00_IN_132",{"$f":"'COVER SHEET'!$C$17","v":""},{"$f":"'COVER SHEET'!$C$24","v":"00:00:00"},1,{"$f":"'Input Sheet'!D223","v":0}]
["C0IN","C_00_IN_133",{"$f":"'COVER SHEET'!$C$17","v":""},{"$f":"'COVER SHEET'!$C$24","v":"00:00:00"},1,{"$f":"'Input Sheet'!D224","v":0}]
["C0IN","C_00_IN_134",{"$f":"'COVER SHEET'!$C$17","v":""},{"$f":"'COVER SHEET'!$C$24","v":"00:00:00"},1,{"$f":"'Input Sheet'!D225","v":0}]
["C0IN","C_00_IN_135",{"$f":"'COVER SHEET'!$C$17","v":""},{"$f":"'COVER SHEET'!$C$24","v":"00:00:00"},1,{"$f":"'Input Sheet'!D226","v":0}]
["C0IN","C_00_IN_136",{"$f":"'COVER SHEET'!$C$17","v":""},{"$f":"'COVER SHEET'!$C$24","v":"00:00:00"},1,{"$f":"'Input Sheet'!D227","v":0}]
["C0IN","C_00_IN_137",{"$f":"'COVER SHEET'!$C$17","v":""},{"$f":"'COVER SHEET'!$C$24","v":"00:00:00"},1,{"$f":"'Input Sheet'!D228","v":0}]
["C0IN","C_00_IN_138",{"$f":"'COVER SHEET'!$C$17","v":""},{"$f":"'COVER SHEET'!$C$24","v":"00:00:00"},1,{"$f":"'Input Sheet'!D229","v":0}]
["C0IN","C_00_IN_139",{"$f":"'COVER SHEET'!$C$17","v":""},{"$f":"'COVER SHEET'!$C$24","v":"00:00:00"},1,{"$f":"'Input Sheet'!D231","v":0}]
["C0IN","C_00_IN_140",{"$f":"'COVER SHEET'!$C$17","v":""},{"$f":"'COVER SHEET'!$C$24","v":"00:00:00"},1,{"$f":"'Input Sheet'!D232","v":0}]
["C0IN","C_00_IN_141",{"$f":"'COVER SHEET'!$C$17","v":""},{"$f":"'COVER SHEET'!$C$24","v":"00:00:00"},1,{"$f":"'Input Sheet'!D233","v":0}]
["C0IN","C_00_IN_142",{"$f":"'COVER SHEET'!$C$17","v":""},{"$f":"'COVER SHEET'!$C$24","v":"00:00:00"},1,{"$f":"'Input Sheet'!D234","v":0}]
["C0IN","C_00_IN_143",{"$f":"'COVER SHEET'!$C$17","v":""},{"$f":"'COVER SHEET'!$C$24","v":"00:00:00"},1,{"$f":"'Input Sheet'!D235","v":0}]
["C0IN","C_00_IN_144",{"$f":"'COVER SHEET'!$C$17","v":""},{"$f":"'COVER SHEET'!$C$24","v":"00:00:00"},1,{"$f":"'Input Sheet'!D236","v":0}]
["C0IN","C_00_IN_145",{"$f":"'COVER SHEET'!$C$17","v":""},{"$f":"'COVER SHEET'!$C$24","v":"00:00:00"},1,{"$f":"'Input Sheet'!D237","v":0}]
["C0IN","C_00_IN_146",{"$f":"'COVER SHEET'!$C$17","v":""},{"$f":"'COVER SHEET'!$C$24","v":"00:00:00"},1,{"$f":"'Input Sheet'!D238","v":0}]
["C0IN","C_00_IN_147",{"$f":"'COVER SHEET'!$C$17","v":""},{"$f":"'COVER SHEET'!$C$24","v":"00:00:00"},1,{"$f":"'Input Sheet'!D240","v":0}]
["C0IN","C_00_IN_148",{"$f":"'COVER SHEET'!$C$17","v":""},{"$f":"'COVER SHEET'!$C$24","v":"00:00:00"},1,{"$f":"'Input Sheet'!D241","v":0}]
["C0IN","C_00_IN_149",{"$f":"'COVER SHEET'!$C$17","v":""},{"$f":"'COVER SHEET'!$C$24","v":"00:00:00"},1,{"$f":"'Input Sheet'!D242","v":0}]
["C0IN","C_00_IN_150",{"$f":"'COVER SHEET'!$C$17","v":""},{"$f":"'COVER SHEET'!$C$24","v":"00:00:00"},1,{"$f":"'Input Sheet'!D243","v":0}]
["C0IN","C_00_IN_151",{"$f":"'COVER SHEET'!$C$17","v":""},{"$f":"'COVER SHEET'!$C$24","v":"00:00:00"},1,{"$f":"'Input Sheet'!D244","v":0}]
["C0IN","C_00_IN_152",{"$f":"'COVER SHEET'!$C$17","v":""},{"$f":"'COVER SHEET'!$C$24","v":"00:00:00"},1,{"$f":"'Input Sheet'!D245","v":0}]
["C0IN","C_00_IN_153",{"$f":"'COVER SHEET'!$C$17","v":""},{"$f":"'COVER SHEET'!$C$24","v":"00:00:00"},1,{"$f":"'Input Sheet'!D246","v":0}]
["C0IN","C_00_IN_154",{"$f":"'COVER SHEET'!$C$17","v":""},{"$f":"'COVER SHEET'!$C$24","v":"00:00:00"},1,{"$f":"'Input Sheet'!D247","v":0}]
["C0IN","C_00_IN_155",{"$f":"'COVER SHEET'!$C$17","v":""},{"$f":"'COVER SHEET'!$C$24","v":"00:00:00"},1,{"$f":"'Input Sheet'!D248","v":0}]
["C0IN","C_00_IN_156",{"$f":"'COVER SHEET'!$C$17","v":""},{"$f":"'COVER SHEET'!$C$24","v":"00:00:00"},1,{"$f":"'Input Sheet'!D249","v":0}]
["C0IN","C_00_IN_157",{"$f":"'COVER SHEET'!$C$17","v":""},{"$f":"'COVER SHEET'!$C$24","v":"00:00:00"},1,{"$f":"'Input Sheet'!D251","v":0}]
["C0IN","C_00_IN_158",{"$f":"'COVER SHEET'!$C$17","v":""},{"$f":"'COVER SHEET'!$C$24","v":"00:00:00"},1,{"$f":"'Input Sheet'!D252","v":0}]
["C0IN","C_00_IN_159",{"$f":"'COVER SHEET'!$C$17","v":""},{"$f":"'COVER SHEET'!$C$24","v":"00:00:00"},1,{"$f":"'Input Sheet'!D253","v":0}]
["C0IN","C_00_IN_160",{"$f":"'COVER SHEET'!$C$17","v":""},{"$f":"'COVER SHEET'!$C$24","v":"00:00:00"},1,{"$f":"'Input Sheet'!D254","v":0}]
["C0IN","C_00_IN_161",{"$f":"'COVER SHEET'!$C$17","v":""},{"$f":"'COVER SHEET'!$C$24","v":"00:00:00"},1,{"$f":"'Input Sheet'!D255","v":0}]
["C0IN","C_00_IN_162",{"$f":"'COVER SHEET'!$C$17","v":""},{"$f":"'COVER SHEET'!$C$24","v":"00:00:00"},1,{"$f":"'Input Sheet'!D256","v":0}]
["C0IN","C_00_IN_163",{"$f":"'COVER SHEET'!$C$17","v":""},{"$f":"'COVER SHEET'!$C$24","v":"00:00:00"},1,{"$f":"'Input Sheet'!D257","v":0}]
["C0IN","C_00_IN_164",{"$f":"'COVER SHEET'!$C$17","v":""},{"$f":"'COVER SHEET'!$C$24","v":"00:00:00"},1,{"$f":"'Input Sheet'!D258","v":0}]
["C0IN","C_00_IN_165",{"$f":"'COVER SHEET'!$C$17","v":""},{"$f":"'COVER SHEET'!$C$24","v":"00:00:00"},1,{"$f":"'Input Sheet'!D259","v":0}]
["C0IN","C_00_IN_166",{"$f":"'COVER SHEET'!$C$17","v":""},{"$f":"'COVER SHEET'!$C$24","v":"00:00:00"},1,{"$f":"'Input Sheet'!D260","v":0}]
["C0IN","C_00_IN_167",{"$f":"'COVER SHEET'!$C$17","v":""},{"$f":"'COVER SHEET'!$C$24","v":"00:00:00"},1,{"$f":"'Input Sheet'!D262","v":0}]
["C0IN","C_00_IN_168",{"$f":"'COVER SHEET'!$C$17","v":""},{"$f":"'COVER SHEET'!$C$24","v":"00:00:00"},1,{"$f":"'Input Sheet'!D263","v":0}]
["C0IN","C_00_IN_169",{"$f":"'COVER SHEET'!$C$17","v":""},{"$f":"'COVER SHEET'!$C$24","v":"00:00:00"},1,{"$f":"'Input Sheet'!D264","v":0}]
["C0IN","C_00_IN_170",{"$f":"'COVER SHEET'!$C$17","v":""},{"$f":"'COVER SHEET'!$C$24","v":"00:00:00"},1,{"$f":"'Input Sheet'!D265","v":0}]
["C0IN","C_00_IN_171",{"$f":"'COVER SHEET'!$C$17","v":""},{"$f":"'COVER SHEET'!$C$24","v":"00:00:00"},1,{"$f":"'Input Sheet'!D266","v":0}]
["C0IN","C_00_IN_172",{"$f":"'COVER SHEET'!$C$17","v":""},{"$f":"'COVER SHEET'!$C$24","v":"00:00:00"},1,{"$f":"'Input Sheet'!D267","v":0}]
["C0IN","C_00_IN_173",{"$f":"'COVER SHEET'!$C$17","v":""},{"$f":"'COVER SHEET'!$C$24","v":"00:00:00"},1,{"$f":"'Input Sheet'!D268","v":0}]
["C0IN","C_00_IN_174",{"$f":"'COVER SHEET'!$C$17","v":""},{"$f":"'COVER SHEET'!$C$24","v":"00:00:00"},1,{"$f":"'Input Sheet'!D269","v":0}]
["C0IN","C_00_IN_175",{"$f":"'COVER SHEET'!$C$17","v":""},{"$f":"'COVER SHEET'!$C$24","v":"00:00:00"},1,{"$f":"'Input Sheet'!D270","v":0}]
["C0IN","C_00_IN_176",{"$f":"'COVER SHEET'!$C$17","v":""},{"$f":"'COVER SHEET'!$C$24","v":"00:00:00"},1,{"$f":"'Input Sheet'!D271","v":0}]
["C0IN","C_00_IN_177",{"$f":"'COVER SHEET'!$C$17","v":""},{"$f":"'COVER SHEET'!$C$24","v":"00:00:00"},1,{"$f":"'Input Sheet'!D273","v":0}]
["C0IN","C_00_IN_178",{"$f":"'COVER SHEET'!$C$17","v":""},{"$f":"'COVER SHEET'!$C$24","v":"00:00:00"},1,{"$f":"'Input Sheet'!D274","v":0}]
["C0IN","C_00_IN_179",{"$f":"'COVER SHEET'!$C$17","v":""},{"$f":"'COVER SHEET'!$C$24","v":"00:00:00"},1,{"$f":"'Input Sheet'!D275","v":0}]
["C0IN","C_00_IN_180",{"$f":"'COVER SHEET'!$C$17","v":""},{"$f":"'COVER SHEET'!$C$24","v":"00:00:00"},1,{"$f":"'Input Sheet'!D276","v":0}]
["C0IN","C_00_IN_181",{"$f":"'COVER SHEET'!$C$17","v":""},{"$f":"'COVER SHEET'!$C$24","v":"00:00:00"},1,{"$f":"'Input Sheet'!D277","v":0}]
["C0IN","C_00_IN_182",{"$f":"'COVER SHEET'!$C$17","v":""},{"$f":"'COVER SHEET'!$C$24","v":"00:00:00"},1,{"$f":"'Input Sheet'!D278","v":0}]
["C0IN","C_00_IN_183",{"$f":"'COVER SHEET'!$C$17","v":""},{"$f":"'COVER SHEET'!$C$24","v":"00:00:00"},1,{"$f":"'Input Sheet'!D279","v":0}]
["C0IN","C_00_IN_184",{"$f":"'COVER SHEET'!$C$17","v":""},{"$f":"'COVER SHEET'!$C$24","v":"00:00:00"},1,{"$f":"'Input Sheet'!D280","v":0}]
["C0IN","C_00_IN_185",{"$f":"'COVER SHEET'!$C$17","v":""},{"$f":"'COVER SHEET'!$C$24","v":"00:00:00"},1,{"$f":"'Input Sheet'!D281","v":0}]
["C0IN","C_00_IN_186",{"$f":"'COVER SHEET'!$C$17","v":""},{"$f":"'COVER SHEET'!$C$24","v":"00:00:00"},1,{"$f":"'Input Sheet'!D282","v":0}]
["C0IN","C_00_IN_187",{"$f":"'COVER SHEET'!$C$17","v":""},{"$f":"'COVER SHEET'!$C$24","v":"00:00:00"},1,{"$f":"'Input Sheet'!D284","v":0}]
["C0IN","C_00_IN_188",{"$f":"'COVER SHEET'!$C$17","v":""},{"$f":"'COVER SHEET'!$C$24","v":"00:00:00"},1,{"$f":"'Input Sheet'!D285","v":0}]
["C0IN","C_00_IN_189",{"$f":"'COVER SHEET'!$C$17","v":""},{"$f":"'COVER SHEET'!$C$24","v":"00:00:00"},1,{"$f":"'Input Sheet'!D286","v":0}]
["C0IN","C_00_IN_190",{"$f":"'COVER SHEET'!$C$17","v":""},{"$f":"'COVER SHEET'!$C$24","v":"00:00:00"},1,{"$f":"'Input Sheet'!D287","v":0}]
["C0IN","C_00_IN_191",{"$f":"'COVER SHEET'!$C$17","v":""},{"$f":"'COVER SHEET'!$C$24","v":"00:00:00"},1,{"$f":"'Input Sheet'!D288","v":0}]
["C0IN","C_00_IN_192",{"$f":"'COVER SHEET'!$C$17","v":""},{"$f":"'COVER SHEET'!$C$24","v":"00:00:00"},1,{"$f":"'Input Sheet'!D289","v":0}]
["C0IN","C_00_IN_193",{"$f":"'COVER SHEET'!$C$17","v":""},{"$f":"'COVER SHEET'!$C$24","v":"00:00:00"},1,{"$f":"'Input Sheet'!D290","v":0}]
["C0IN","C_00_IN_194",{"$f":"'COVER SHEET'!$C$17","v":""},{"$f":"'COVER SHEET'!$C$24","v":"00:00:00"},1,{"$f":"'Input Sheet'!D291","v":0}]
["C0IN","C_00_IN_195",{"$f":"'COVER SHEET'!$C$17","v":""},{"$f":"'COVER SHEET'!$C$24","v":"00:00:00"},1,{"$f":"'Input Sheet'!D292","v":0}]
["C0IN","C_00_IN_196",{"$f":"'COVER SHEET'!$C$17","v":""},{"$f":"'COVER SHEET'!$C$24","v":"00:00:00"},1,{"$f":"'Input Sheet'!D293","v":0}]
["C0IN","C_00_IN_197",{"$f":"'COVER SHEET'!$C$17","v":""},{"$f":"'COVER SHEET'!$C$24","v":"00:00:00"},1,{"$f":"'Input Sheet'!D296","v":0}]
["C0IN","C_00_IN_198",{"$f":"'COVER SHEET'!$C$17","v":""},{"$f":"'COVER SHEET'!$C$24","v":"00:00:00"},1,{"$f":"'Input Sheet'!D297","v":0}]
["C0IN","C_00_IN_199",{"$f":"'COVER SHEET'!$C$17","v":""},{"$f":"'COVER SHEET'!$C$24","v":"00:00:00"},1,{"$f":"'Input Sheet'!D298","v":0}]
["C0IN","C_00_IN_200",{"$f":"'COVER SHEET'!$C$17","v":""},{"$f":"'COVER SHEET'!$C$24","v":"00:00:00"},1,{"$f":"'Input Sheet'!D299","v":0}]
["C0IN","C_00_IN_201",{"$f":"'COVER SHEET'!$C$17","v":""},{"$f":"'COVER SHEET'!$C$24","v":"00:00:00"},1,{"$f":"'Input Sheet'!D300","v":0}]
["C0IN","C_00_IN_202",{"$f":"'COVER SHEET'!$C$17","v":""},{"$f":"'COVER SHEET'!$C$24","v":"00:00:00"},1,{"$f":"'Input Sheet'!D303","v":0}]
["C0IN","C_00_IN_203",{"$f":"'COVER SHEET'!$C$17","v":""},{"$f":"'COVER SHEET'!$C$24","v":"00:00:00"},1,{"$f":"'Input Sheet'!D305","v":0}]
["C0IN","C_00_IN_204",{"$f":"'COVER SHEET'!$C$17","v":""},{"$f":"'COVER SHEET'!$C$24","v":"00:00:00"},1,{"$f":"'Input Sheet'!D307","v":0}]
["C0IN","C_00_IN_205",{"$f":"'COVER SHEET'!$C$17","v":""},{"$f":"'COVER SHEET'!$C$24","v":"00:00:00"},1,{"$f":"'Input Sheet'!D310","v":0}]
["C0IN","C_00_IN_206",{"$f":"'COVER SHEET'!$C$17","v":""},{"$f":"'COVER SHEET'!$C$24","v":"00:00:00"},1,{"$f":"'Input Sheet'!D312","v":0}]
["C0IN","C_00_IN_207",{"$f":"'COVER SHEET'!$C$17","v":""},{"$f":"'COVER SHEET'!$C$24","v":"00:00:00"},1,{"$f":"'Input Sheet'!D314","v":0}]
["C0IN","C_00_IN_208",{"$f":"'COVER SHEET'!$C$17","v":""},{"$f":"'COVER SHEET'!$C$24","v":"00:00:00"},1,{"$f":"'Input Sheet'!D316","v":0}]
["C0IN","C_00_IN_209",{"$f":"'COVER SHEET'!$C$17","v":""},{"$f":"'COVER SHEET'!$C$24","v":"00:00:00"},1,{"$f":"'Input Sheet'!D318","v":0}]
["C0IN","C_00_IN_210",{"$f":"'COVER SHEET'!$C$17","v":""},{"$f":"'COVER SHEET'!$C$24","v":"00:00:00"},1,{"$f":"'Input Sheet'!D319","v":0}]
["C0IN","C_00_IN_211",{"$f":"'COVER SHEET'!$C$17","v":""},{"$f":"'COVER SHEET'!$C$24","v":"00:00:00"},1,{"$f":"'Input Sheet'!D320","v":0}]
["C0IN","C_00_IN_212",{"$f":"'COVER SHEET'!$C$17","v":""},{"$f":"'COVER SHEET'!$C$24","v":"00:00:00"},1,{"$f":"'Input Sheet'!D321","v":0}]
["C0IN","C_00_IN_213",{"$f":"'COVER SHEET'!$C$17","v":""},{"$f":"'COVER SHEET'!$C$24","v":"00:00:00"},1,{"$f":"'Input Sheet'!D322","v":0}]
["C0IN","C_00_IN_214",{"$f":"'COVER SHEET'!$C$17","v":""},{"$f":"'COVER SHEET'!$C$24","v":"00:00:00"},1,{"$f":"'Input Sheet'!D323","v":0}]
["C0IN","C_00_IN_215",{"$f":"'COVER SHEET'!$C$17","v":""},{"$f":"'COVER SHEET'!$C$24","v":"00:00:00"},1,{"$f":"'Input Sheet'!D325","v":0}]
["C0IN","C_00_IN_216",{"$f":"'COVER SHEET'!$C$17","v":""},{"$f":"'COVER SHEET'!$C$24","v":"00:00:00"},1,{"$f":"'Input Sheet'!D326","v":0}]
["C0IN","C_00_IN_217",{"$f":"'COVER SHEET'!$C$17","v":""},{"$f":"'COVER SHEET'!$C$24","v":"00:00:00"},1,{"$f":"'Input Sheet'!D328","v":0}]
["C0IN","C_00_IN_218",{"$f":"'COVER SHEET'!$C$17","v":""},{"$f":"'COVER SHEET'!$C$24","v":"00:00:00"},1,{"$f":"'Input Sheet'!D329","v":0}]
["C0IN","C_00_IN_219",{"$f":"'COVER SHEET'!$C$17","v":""},{"$f":"'COVER SHEET'!$C$24","v":"00:00:00"},1,{"$f":"'Input Sheet'!D330","v":0}]
["C0IN","C_00_IN_220",{"$f":"'COVER SHEET'!$C$17","v":""},{"$f":"'COVER SHEET'!$C$24","v":"00:00:00"},1,{"$f":"'Input Sheet'!D332","v":0}]
["C0IN","C_00_IN_221",{"$f":"'COVER SHEET'!$C$17","v":""},{"$f":"'COVER SHEET'!$C$24","v":"00:00:00"},1,{"$f":"'Input Sheet'!D333","v":0}]
["C0IN","C_00_IN_222",{"$f":"'COVER SHEET'!$C$17","v":""},{"$f":"'COVER SHEET'!$C$24","v":"00:00:00"},1,{"$f":"'Input Sheet'!D336","v":0}]
["C0IN","C_00_IN_223",{"$f":"'COVER SHEET'!$C$17","v":""},{"$f":"'COVER SHEET'!$C$24","v":"00:00:00"},1,{"$f":"'Input Sheet'!D337","v":0}]
["C0IN","C_00_IN_224",{"$f":"'COVER SHEET'!$C$17","v":""},{"$f":"'COVER SHEET'!$C$24","v":"00:00:00"},1,{"$f":"'Input Sheet'!D339","v":0}]
["C0IN","C_00_IN_225",{"$f":"'COVER SHEET'!$C$17","v":""},{"$f":"'COVER SHEET'!$C$24","v":"00:00:00"},1,{"$f":"'Input Sheet'!D340","v":0}]
["C0IN","C_00_IN_226",{"$f":"'COVER SHEET'!$C$17","v":""},{"$f":"'COVER SHEET'!$C$24","v":"00:00:00"},1,{"$f":"'Input Sheet'!D341","v":0}]
["C0IN","C_00_IN_227",{"$f":"'COVER SHEET'!$C$17","v":""},{"$f":"'COVER SHEET'!$C$24","v":"00:00:00"},1,{"$f":"'Input Sheet'!D342","v":0}]
["C0IN","C_00_IN_228",{"$f":"'COVER SHEET'!$C$17","v":""},{"$f":"'COVER SHEET'!$C$24","v":"00:00:00"},1,{"$f":"'Input Sheet'!D344","v":0}]
["C0IN","C_00_IN_229",{"$f":"'COVER SHEET'!$C$17","v":""},{"$f":"'COVER SHEET'!$C$24","v":"00:00:00"},1,{"$f":"'Input Sheet'!D345","v":0}]
["C0IN","C_00_IN_230",{"$f":"'COVER SHEET'!$C$17","v":""},{"$f":"'COVER SHEET'!$C$24","v":"00:00:00"},1,{"$f":"'Input Sheet'!D346","v":0}]
["C0IN","C_00_IN_231",{"$f":"'COVER SHEET'!$C$17","v":""},{"$f":"'COVER SHEET'!$C$24","v":"00:00:00"},1,{"$f":"'Input Sheet'!D347","v":0}]
["C0IN","C_00_IN_232",{"$f":"'COVER SHEET'!$C$17","v":""},{"$f":"'COVER SHEET'!$C$24","v":"00:00:00"},1,{"$f":"'Input Sheet'!D349","v":0}]
["C0IN","C_00_IN_233",{"$f":"'COVER SHEET'!$C$17","v":""},{"$f":"'COVER SHEET'!$C$24","v":"00:00:00"},1,{"$f":"'Input Sheet'!D350","v":0}]
["C0IN","C_00_IN_234",{"$f":"'COVER SHEET'!$C$17","v":""},{"$f":"'COVER SHEET'!$C$24","v":"00:00:00"},1,{"$f":"'Input Sheet'!D351","v":0}]
["C0IN","C_00_IN_235",{"$f":"'COVER SHEET'!$C$17","v":""},{"$f":"'COVER SHEET'!$C$24","v":"00:00:00"},1,{"$f":"'Input Sheet'!D352","v":0}]
["C0IN","C_00_IN_236",{"$f":"'COVER SHEET'!$C$17","v":""},{"$f":"'COVER SHEET'!$C$24","v":"00:00:00"},1,{"$f":"'Input Sheet'!D353","v":0}]
["C0IN","C_00_IN_237",{"$f":"'COVER SHEET'!$C$17","v":""},{"$f":"'COVER SHEET'!$C$24","v":"00:00:00"},1,{"$f":"'Input Sheet'!D354","v":0}]
["C0IN","C_00_IN_238",{"$f":"'COVER SHEET'!$C$17","v":""},{"$f":"'COVER SHEET'!$C$24","v":"00:00:00"},1,{"$f":"'Input Sheet'!D357","v":0}]
["C0IN","C_00_IN_239",{"$f":"'COVER SHEET'!$C$17","v":""},{"$f":"'COVER SHEET'!$C$24","v":"00:00:00"},1,{"$f":"'Input Sheet'!D358","v":0}]
["C0IN","C_00_IN_240",{"$f":"'COVER SHEET'!$C$17","v":""},{"$f":"'COVER SHEET'!$C$24","v":"00:00:00"},1,{"$f":"'Input Sheet'!D359","v":0}]
["C0IN","C_00_IN_241",{"$f":"'COVER SHEET'!$C$17","v":""},{"$f":"'COVER SHEET'!$C$24","v":"00:00:00"},1,{"$f":"'Input Sheet'!D360","v":0}]
["C0IN","C_00_IN_242",{"$f":"'COVER SHEET'!$C$17","v":""},{"$f":"'COVER SHEET'!$C$24","v":"00:00:00"},1,{"$f":"'Input Sheet'!D361","v":0}]
["C0IN","C_00_IN_243",{"$f":"'COVER SHEET'!$C$17","v":""},{"$f":"'COVER SHEET'!$C$24","v":"00:00:00"},1,{"$f":"'Input Sheet'!D362","v":0}]
["C0IN","C_00_IN_244",{"$f":"'COVER SHEET'!$C$17","v":""},{"$f":"'COVER SHEET'!$C$24","v":"00:00:00"},1,{"$f":"'Input Sheet'!D363","v":0}]
["C0IN","C_00_IN_245",{"$f":"'COVER SHEET'!$C$17","v":""},{"$f":"'COVER SHEET'!$C$24","v":"00:00:00"},1,{"$f":"'Input Sheet'!D364","v":0}]
["C0IN","C_00_IN_246",{"$f":"'COVER SHEET'!$C$17","v":""},{"$f":"'COVER SHEET'!$C$24","v":"00:00:00"},1,{"$f":"'Input Sheet'!D365","v":0}]
["C0IN","C_00_IN_247",{"$f":"'COVER SHEET'!$C$17","v":""},{"$f":"'COVER SHEET'!$C$24","v":"00:00:00"},1,{"$f":"'Input Sheet'!D367","v":0}]
["C0IN","C_00_IN_248",{"$f":"'COVER SHEET'!$C$17","v":""},{"$f":"'COVER SHEET'!$C$24","v":"00:00:00"},1,{"$f":"'Input Sheet'!D368","v":0}]
["C0IN","C_00_IN_249",{"$f":"'COVER SHEET'!$C$17","v":""},{"$f":"'COVER SHEET'!$C$24","v":"00:00:00"},1,{"$f":"'Input Sheet'!D369","v":0}]
["C0IN","C_00_IN_250",{"$f":"'COVER SHEET'!$C$17","v":""},{"$f":"'COVER SHEET'!$C$24","v":"00:00:00"},1,{"$f":"'Input Sheet'!D370","v":0}]
["C0IN","C_00_IN_251",{"$f":"'COVER SHEET'!$C$17","v":""},{"$f":"'COVER SHEET'!$C$24","v":"00:00:00"},1,{"$f":"'Input Sheet'!D371","v":0}]
["C0IN","C_00_IN_252",{"$f":"'COVER SHEET'!$C$17","v":""},{"$f":"'COVER SHEET'!$C$24","v":"00:00:00"},1,{"$f":"'Input Sheet'!D372","v":0}]
["C0IN","C_00_IN_253",{"$f":"'COVER SHEET'!$C$17","v":""},{"$f":"'COVER SHEET'!$C$24","v":"00:00:00"},1,{"$f":"'Input Sheet'!D373","v":0}]
["C0IN","C_00_IN_254",{"$f":"'COVER SHEET'!$C$17","v":""},{"$f":"'COVER SHEET'!$C$24","v":"00:00:00"},1,{"$f":"'Input Sheet'!D374","v":0}]
["C0IN","C_00_IN_255",{"$f":"'COVER SHEET'!$C$17","v":""},{"$f":"'COVER SHEET'!$C$24","v":"00:00:00"},1,{"$f":"'Input Sheet'!D377","v":0}]
["C0IN","C_00_IN_256",{"$f":"'COVER SHEET'!$C$17","v":""},{"$f":"'COVER SHEET'!$C$24","v":"00:00:00"},1]
["C0IN","C_00_IN_257",{"$f":"'COVER SHEET'!$C$17","v":""},{"$f":"'COVER SHEET'!$C$24","v":"00:00:00"},1,{"$f":"'Input Sheet'!D385","v":0}]
["C0IN","C_00_IN_258",{"$f":"'COVER SHEET'!$C$17","v":""},{"$f":"'COVER SHEET'!$C$24","v":"00:00:00"},1,{"$f":"'Input Sheet'!D387","v":0}]
["C0IN","C_00_IN_259",{"$f":"'COVER SHEET'!$C$17","v":""},{"$f":"'COVER SHEET'!$C$24","v":"00:00:00"},1,{"$f":"'Input Sheet'!D390","v":0}]
["C0IN","C_00_IN_260",{"$f":"'COVER SHEET'!$C$17","v":""},{"$f":"'COVER SHEET'!$C$24","v":"00:00:00"},1,{"$f":"'Input Sheet'!D392","v":0}]
["C0IN","C_00_IN_261",{"$f":"'COVER SHEET'!$C$17","v":""},{"$f":"'COVER SHEET'!$C$24","v":"00:00:00"},1,{"$f":"'Input Sheet'!D396","v":0}]
["C0IN","C_00_IN_262",{"$f":"'COVER SHEET'!$C$17","v":""},{"$f":"'COVER SHEET'!$C$24","v":"00:00:00"},1,{"$f":"'Input Sheet'!D399","v":0}]
["C0IN","C_00_IN_263",{"$f":"'COVER SHEET'!$C$17","v":""},{"$f":"'COVER SHEET'!$C$24","v":"00:00:00"},1,{"$f":"'Input Sheet'!D403","v":0}]
["C0IN","C_00_IN_264",{"$f":"'COVER SHEET'!$C$17","v":""},{"$f":"'COVER SHEET'!$C$24","v":"00:00:00"},1,{"$f":"'Input Sheet'!D407","v":0}]
["C0IN","C_00_IN_265",{"$f":"'COVER SHEET'!$C$17","v":""},{"$f":"'COVER SHEET'!$C$24","v":"00:00:00"},1]
["C0IN","C_00_IN_266",{"$f":"'COVER SHEET'!$C$17","v":""},{"$f":"'COVER SHEET'!$C$24","v":"00:00:00"},1,{"$f":"'Input Sheet'!D410","v":0}]
["C0IN","C_00_IN_267",{"$f":"'COVER SHEET'!$C$17","v":""},{"$f":"'COVER SHEET'!$C$24","v":"00:00:00"},1]
["C0IN","C_00_IN_268",{"$f":"'COVER SHEET'!$C$17","v":""},{"$f":"'COVER SHEET'!$C$24","v":"00:00:00"},1]
["C0IN","C_00_IN_269",{"$f":"'COVER SHEET'!$C$17","v":""},{"$f":"'COVER SHEET'!$C$24","v":"00:00:00"},1]
["C0IN","C_00_IN_270",{"$f":"'COVER SHEET'!$C$17","v":""},{"$f":"'COVER SHEET'!$C$24","v":"00:00:00"},1]
["C0IN","C_00_IN_271",{"$f":"'COVER SHEET'!$C$17","v":""},{"$f":"'COVER SHEET'!$C$24","v":"00:00:00"},1]
["C0IN","C_00_IN_272",{"$f":"'COVER SHEET'!$C$17","v":""},{"$f":"'COVER SHEET'!$C$24","v":"00:00:00"},1]
["C0IN","C_00_IN_273",{"$f":"'COVER SHEET'!$C$17","v":""},{"$f":"'COVER SHEET'!$C$24","v":"00:00:00"},1]
["C0IN","C_00_IN_274",{"$f":"'COVER SHEET'!$C$17","v":""},{"$f":"'COVER SHEET'!$C$24","v":"00:00:00"},1]
["C0IN","C_00_IN_275",{"$f":"'COVER SHEET'!$C$17","v":""},{"$f":"'COVER SHEET'!$C$24","v":"00:00:00"},1,{"$f":"'Input Sheet'!D414","v":0}]

{"sheet":"C0BS","index":2,"n_rows":48,"n_cols":6,"rows_kept":48,"cut":false,"hidden":true,"merged":[]}
["SheetCode","FieldCode","FICode","Date","ColNum","Value"]
["C0BS","C_00_BS_26",{"$f":"'COVER SHEET'!$C$17","v":""},{"$f":"'COVER SHEET'!$C$24","v":"00:00:00"},1,{"$f":"#REF!","v":{"$error":"#REF!"}}]
["C0BS","C_00_BS_27",{"$f":"'COVER SHEET'!$C$17","v":""},{"$f":"'COVER SHEET'!$C$24","v":"00:00:00"},1,{"$f":"#REF!","v":{"$error":"#REF!"}}]
["C0BS","C_00_BS_01",{"$f":"'COVER SHEET'!$C$17","v":""},{"$f":"'COVER SHEET'!$C$24","v":"00:00:00"},2,{"$f":"#REF!","v":{"$error":"#REF!"}}]
["C0BS","C_00_BS_02",{"$f":"'COVER SHEET'!$C$17","v":""},{"$f":"'COVER SHEET'!$C$24","v":"00:00:00"},2,{"$f":"#REF!","v":{"$error":"#REF!"}}]
["C0BS","C_00_BS_03",{"$f":"'COVER SHEET'!$C$17","v":""},{"$f":"'COVER SHEET'!$C$24","v":"00:00:00"},2,{"$f":"#REF!","v":{"$error":"#REF!"}}]
["C0BS","C_00_BS_04",{"$f":"'COVER SHEET'!$C$17","v":""},{"$f":"'COVER SHEET'!$C$24","v":"00:00:00"},2,{"$f":"#REF!","v":{"$error":"#REF!"}}]
["C0BS","C_00_BS_05",{"$f":"'COVER SHEET'!$C$17","v":""},{"$f":"'COVER SHEET'!$C$24","v":"00:00:00"},2,{"$f":"#REF!","v":{"$error":"#REF!"}}]
["C0BS","C_00_BS_06",{"$f":"'COVER SHEET'!$C$17","v":""},{"$f":"'COVER SHEET'!$C$24","v":"00:00:00"},2,{"$f":"#REF!","v":{"$error":"#REF!"}}]
["C0BS","C_00_BS_07",{"$f":"'COVER SHEET'!$C$17","v":""},{"$f":"'COVER SHEET'!$C$24","v":"00:00:00"},2,{"$f":"#REF!","v":{"$error":"#REF!"}}]
["C0BS","C_00_BS_08",{"$f":"'COVER SHEET'!$C$17","v":""},{"$f":"'COVER SHEET'!$C$24","v":"00:00:00"},2,{"$f":"#REF!","v":{"$error":"#REF!"}}]
["C0BS","C_00_BS_09",{"$f":"'COVER SHEET'!$C$17","v":""},{"$f":"'COVER SHEET'!$C$24","v":"00:00:00"},2,{"$f":"#REF!","v":{"$error":"#REF!"}}]
["C0BS","C_00_BS_10",{"$f":"'COVER SHEET'!$C$17","v":""},{"$f":"'COVER SHEET'!$C$24","v":"00:00:00"},2,{"$f":"#REF!","v":{"$error":"#REF!"}}]
["C0BS","C_00_BS_11",{"$f":"'COVER SHEET'!$C$17","v":""},{"$f":"'COVER SHEET'!$C$24","v":"00:00:00"},2,{"$f":"#REF!","v":{"$error":"#REF!"}}]
["C0BS","C_00_BS_12",{"$f":"'COVER SHEET'!$C$17","v":""},{"$f":"'COVER SHEET'!$C$24","v":"00:00:00"},2,{"$f":"#REF!","v":{"$error":"#REF!"}}]
["C0BS","C_00_BS_13",{"$f":"'COVER SHEET'!$C$17","v":""},{"$f":"'COVER SHEET'!$C$24","v":"00:00:00"},2,{"$f":"#REF!","v":{"$error":"#REF!"}}]
["C0BS","C_00_BS_14",{"$f":"'COVER SHEET'!$C$17","v":""},{"$f":"'COVER SHEET'!$C$24","v":"00:00:00"},2,{"$f":"#REF!","v":{"$error":"#REF!"}}]
["C0BS","C_00_BS_16",{"$f":"'COVER SHEET'!$C$17","v":""},{"$f":"'COVER SHEET'!$C$24","v":"00:00:00"},2,{"$f":"#REF!","v":{"$error":"#REF!"}}]
["C0BS","C_00_BS_17",{"$f":"'COVER SHEET'!$C$17","v":""},{"$f":"'COVER SHEET'!$C$24","v":"00:00:00"},2,{"$f":"#REF!","v":{"$error":"#REF!"}}]
["C0BS","C_00_BS_18",{"$f":"'COVER SHEET'!$C$17","v":""},{"$f":"'COVER SHEET'!$C$24","v":"00:00:00"},2,{"$f":"#REF!","v":{"$error":"#REF!"}}]
["C0BS","C_00_BS_19",{"$f":"'COVER SHEET'!$C$17","v":""},{"$f":"'COVER SHEET'!$C$24","v":"00:00:00"},2,{"$f":"#REF!","v":{"$error":"#REF!"}}]
["C0BS","C_00_BS_20",{"$f":"'COVER SHEET'!$C$17","v":""},{"$f":"'COVER SHEET'!$C$24","v":"00:00:00"},2,{"$f":"#REF!","v":{"$error":"#REF!"}}]
["C0BS","C_00_BS_21",{"$f":"'COVER SHEET'!$C$17","v":""},{"$f":"'COVER SHEET'!$C$24","v":"00:00:00"},2,{"$f":"#REF!","v":{"$error":"#REF!"}}]
["C0BS","C_00_BS_22",{"$f":"'COVER SHEET'!$C$17","v":""},{"$f":"'COVER SHEET'!$C$24","v":"00:00:00"},2,{"$f":"#REF!","v":{"$error":"#REF!"}}]
["C0BS","C_00_BS_23",{"$f":"'COVER SHEET'!$C$17","v":""},{"$f":"'COVER SHEET'!$C$24","v":"00:00:00"},2,{"$f":"#REF!","v":{"$error":"#REF!"}}]
["C0BS","C_00_BS_24",{"$f":"'COVER SHEET'!$C$17","v":""},{"$f":"'COVER SHEET'!$C$24","v":"00:00:00"},2,{"$f":"#REF!","v":{"$error":"#REF!"}}]
["C0BS","C_00_BS_27a",{"$f":"'COVER SHEET'!$C$17","v":""},{"$f":"'COVER SHEET'!$C$24","v":"00:00:00"},2,{"$f":"#REF!","v":{"$error":"#REF!"}}]
["C0BS","C_00_BS_28",{"$f":"'COVER SHEET'!$C$17","v":""},{"$f":"'COVER SHEET'!$C$24","v":"00:00:00"},2,{"$f":"#REF!","v":{"$error":"#REF!"}}]
["C0BS","C_00_BS_29",{"$f":"'COVER SHEET'!$C$17","v":""},{"$f":"'COVER SHEET'!$C$24","v":"00:00:00"},2,{"$f":"#REF!","v":{"$error":"#REF!"}}]
["C0BS","C_00_BS_30",{"$f":"'COVER SHEET'!$C$17","v":""},{"$f":"'COVER SHEET'!$C$24","v":"00:00:00"},2,{"$f":"#REF!","v":{"$error":"#REF!"}}]
["C0BS","C_00_BS_31",{"$f":"'COVER SHEET'!$C$17","v":""},{"$f":"'COVER SHEET'!$C$24","v":"00:00:00"},2,{"$f":"#REF!","v":{"$error":"#REF!"}}]
["C0BS","C_00_BS_32",{"$f":"'COVER SHEET'!$C$17","v":""},{"$f":"'COVER SHEET'!$C$24","v":"00:00:00"},2,{"$f":"#REF!","v":{"$error":"#REF!"}}]
["C0BS","C_00_BS_33",{"$f":"'COVER SHEET'!$C$17","v":""},{"$f":"'COVER SHEET'!$C$24","v":"00:00:00"},2,{"$f":"#REF!","v":{"$error":"#REF!"}}]
["C0BS","C_00_BS_34",{"$f":"'COVER SHEET'!$C$17","v":""},{"$f":"'COVER SHEET'!$C$24","v":"00:00:00"},2,{"$f":"#REF!","v":{"$error":"#REF!"}}]
["C0BS","C_00_BS_35",{"$f":"'COVER SHEET'!$C$17","v":""},{"$f":"'COVER SHEET'!$C$24","v":"00:00:00"},2,{"$f":"#REF!","v":{"$error":"#REF!"}}]
["C0BS","C_00_BS_36",{"$f":"'COVER SHEET'!$C$17","v":""},{"$f":"'COVER SHEET'!$C$24","v":"00:00:00"},2,{"$f":"#REF!","v":{"$error":"#REF!"}}]
["C0BS","C_00_BS_37",{"$f":"'COVER SHEET'!$C$17","v":""},{"$f":"'COVER SHEET'!$C$24","v":"00:00:00"},2,{"$f":"#REF!","v":{"$error":"#REF!"}}]
["C0BS","C_00_BS_38",{"$f":"'COVER SHEET'!$C$17","v":""},{"$f":"'COVER SHEET'!$C$24","v":"00:00:00"},2,{"$f":"#REF!","v":{"$error":"#REF!"}}]
["C0BS","C_00_BS_39",{"$f":"'COVER SHEET'!$C$17","v":""},{"$f":"'COVER SHEET'!$C$24","v":"00:00:00"},2,{"$f":"#REF!","v":{"$error":"#REF!"}}]
["C0BS","C_00_BS_03a",{"$f":"'COVER SHEET'!$C$17","v":""},{"$f":"'COVER SHEET'!$C$24","v":"00:00:00"},3,{"$f":"#REF!","v":{"$error":"#REF!"}}]
["C0BS","C_00_BS_14a",{"$f":"'COVER SHEET'!$C$17","v":""},{"$f":"'COVER SHEET'!$C$24","v":"00:00:00"},3,{"$f":"#REF!","v":{"$error":"#REF!"}}]
["C0BS","C_00_BS_15",{"$f":"'COVER SHEET'!$C$17","v":""},{"$f":"'COVER SHEET'!$C$24","v":"00:00:00"},3,{"$f":"#REF!","v":{"$error":"#REF!"}}]
["C0BS","C_00_BS_24a",{"$f":"'COVER SHEET'!$C$17","v":""},{"$f":"'COVER SHEET'!$C$24","v":"00:00:00"},3,{"$f":"#REF!","v":{"$error":"#REF!"}}]
["C0BS","C_00_BS_25",{"$f":"'COVER SHEET'!$C$17","v":""},{"$f":"'COVER SHEET'!$C$24","v":"00:00:00"},3,{"$f":"#REF!","v":{"$error":"#REF!"}}]
["C0BS","C_00_BS_30a",{"$f":"'COVER SHEET'!$C$17","v":""},{"$f":"'COVER SHEET'!$C$24","v":"00:00:00"},3,{"$f":"#REF!","v":{"$error":"#REF!"}}]
["C0BS","C_00_BS_39a",{"$f":"'COVER SHEET'!$C$17","v":""},{"$f":"'COVER SHEET'!$C$24","v":"00:00:00"},3,{"$f":"#REF!","v":{"$error":"#REF!"}}]
["C0BS","C_00_BS_40",{"$f":"'COVER SHEET'!$C$17","v":""},{"$f":"'COVER SHEET'!$C$24","v":"00:00:00"},3,{"$f":"#REF!","v":{"$error":"#REF!"}}]
["C0BS","C_00_BS_41",{"$f":"'COVER SHEET'!$C$17","v":""},{"$f":"'COVER SHEET'!$C$24","v":"00:00:00"},3,{"$f":"#REF!","v":{"$error":"#REF!"}}]

{"sheet":"C0FO","index":3,"n_rows":18,"n_cols":6,"rows_kept":18,"cut":false,"hidden":true,"merged":[]}
["SheetCode","FieldCode","FICode","Date","ColNum","Value"]
["C0FO","C_00_FO_03",{"$f":"'COVER SHEET'!$C$17","v":""},{"$f":"'COVER SHEET'!$C$24","v":"00:00:00"},1,{"$f":"'Fixed Overhead Requirement'!G14","v":0}]
["C0FO","C_00_FO_04",{"$f":"'COVER SHEET'!$C$17","v":""},{"$f":"'COVER SHEET'!$C$24","v":"00:00:00"},1,{"$f":"'Fixed Overhead Requirement'!G16","v":0}]
["C0FO","C_00_FO_05",{"$f":"'COVER SHEET'!$C$17","v":""},{"$f":"'COVER SHEET'!$C$24","v":"00:00:00"},1,{"$f":"'Fixed Overhead Requirement'!G18","v":0}]
["C0FO","C_00_FO_06",{"$f":"'COVER SHEET'!$C$17","v":""},{"$f":"'COVER SHEET'!$C$24","v":"00:00:00"},1,{"$f":"'Fixed Overhead Requirement'!G23","v":0}]
["C0FO","C_00_FO_07",{"$f":"'COVER SHEET'!$C$17","v":""},{"$f":"'COVER SHEET'!$C$24","v":"00:00:00"},1,{"$f":"'Fixed Overhead Requirement'!G27","v":0}]
["C0FO","C_00_FO_08",{"$f":"'COVER SHEET'!$C$17","v":""},{"$f":"'COVER SHEET'!$C$24","v":"00:00:00"},1,{"$f":"'Fixed Overhead Requirement'!G28","v":0}]
["C0FO","C_00_FO_09",{"$f":"'COVER SHEET'!$C$17","v":""},{"$f":"'COVER SHEET'!$C$24","v":"00:00:00"},1,{"$f":"'Fixed Overhead Requirement'!G29","v":0}]
["C0FO","C_00_FO_10",{"$f":"'COVER SHEET'!$C$17","v":""},{"$f":"'COVER SHEET'!$C$24","v":"00:00:00"},1,{"$f":"'Fixed Overhead Requirement'!G30","v":0}]
["C0FO","C_00_FO_01",{"$f":"'COVER SHEET'!$C$17","v":""},{"$f":"'COVER SHEET'!$C$24","v":"00:00:00"},2,{"$f":"'Fixed Overhead Requirement'!H8","v":0}]
["C0FO","C_00_FO_02",{"$f":"'COVER SHEET'!$C$17","v":""},{"$f":"'COVER SHEET'!$C$24","v":"00:00:00"},3,{"$f":"'Fixed Overhead Requirement'!I10","v":0}]
["C0FO","C_00_FO_10",{"$f":"'COVER SHEET'!$C$17","v":""},{"$f":"'COVER SHEET'!$C$24","v":"00:00:00"},3,{"$f":"'Fixed Overhead Requirement'!I30","v":0}]
["C0FO","C_00_FO_11",{"$f":"'COVER SHEET'!$C$17","v":""},{"$f":"'COVER SHEET'!$C$24","v":"00:00:00"},3,{"$f":"'Fixed Overhead Requirement'!I33","v":0}]
["C0FO","C_00_FO_12",{"$f":"'COVER SHEET'!$C$17","v":""},{"$f":"'COVER SHEET'!$C$24","v":"00:00:00"},3,{"$f":"'Fixed Overhead Requirement'!I35","v":0}]
["C0FO","C_00_FO_13",{"$f":"'COVER SHEET'!$C$17","v":""},{"$f":"'COVER SHEET'!$C$24","v":"00:00:00"},3,{"$f":"'Fixed Overhead Requirement'!I37","v":0}]
["C0FO","C_00_FO_14",{"$f":"'COVER SHEET'!$C$17","v":""},{"$f":"'COVER SHEET'!$C$24","v":"00:00:00"},3,{"$f":"'Fixed Overhead Requirement'!I40","v":0}]
["C0FO","C_00_FO_15",{"$f":"'COVER SHEET'!$C$17","v":""},{"$f":"'COVER SHEET'!$C$24","v":"00:00:00"},3,{"$f":"'Fixed Overhead Requirement'!I42","v":0}]
["C0FO","C_00_FO_12a",{"$f":"'COVER SHEET'!$C$17","v":""},{"$f":"'COVER SHEET'!$C$24","v":"00:00:00"},4,{"$f":"'Fixed Overhead Requirement'!G37","v":0}]

{"sheet":"C0FR","index":4,"n_rows":12,"n_cols":6,"rows_kept":12,"cut":false,"hidden":true,"merged":[]}
["SheetCode","FieldCode","FICode","Date","ColNum","Value"]
["C0FR","C_00_FR_03",{"$f":"'COVER SHEET'!$C$17","v":""},{"$f":"'COVER SHEET'!$C$24","v":"00:00:00"},1,{"$f":"'Financial Resources Requirement'!H14","v":0}]
["C0FR","C_00_FR_04",{"$f":"'COVER SHEET'!$C$17","v":""},{"$f":"'COVER SHEET'!$C$24","v":"00:00:00"},1,{"$f":"'Financial Resources Requirement'!H15","v":0}]
["C0FR","C_00_FR_05",{"$f":"'COVER SHEET'!$C$17","v":""},{"$f":"'COVER SHEET'!$C$24","v":"00:00:00"},1,{"$f":"'Financial Resources Requirement'!H16","v":0}]
["C0FR","C_00_FR_06",{"$f":"'COVER SHEET'!$C$17","v":""},{"$f":"'COVER SHEET'!$C$24","v":"00:00:00"},1,{"$f":"'Financial Resources Requirement'!H17","v":0}]
["C0FR","C_00_FR_07",{"$f":"'COVER SHEET'!$C$17","v":""},{"$f":"'COVER SHEET'!$C$24","v":"00:00:00"},1,{"$f":"'Financial Resources Requirement'!H18","v":0}]
["C0FR","C_00_FR_08",{"$f":"'COVER SHEET'!$C$17","v":""},{"$f":"'COVER SHEET'!$C$24","v":"00:00:00"},1,{"$f":"'Financial Resources Requirement'!H19","v":0}]
["C0FR","C_00_FR_01",{"$f":"'COVER SHEET'!$C$17","v":""},{"$f":"'COVER SHEET'!$C$24","v":"00:00:00"},2,{"$f":"'Financial Resources Requirement'!J8","v":0}]
["C0FR","C_00_FR_02",{"$f":"'COVER SHEET'!$C$17","v":""},{"$f":"'COVER SHEET'!$C$24","v":"00:00:00"},2,{"$f":"'Financial Resources Requirement'!J10","v":0}]
["C0FR","C_00_FR_09",{"$f":"'COVER SHEET'!$C$17","v":""},{"$f":"'COVER SHEET'!$C$24","v":"00:00:00"},2,{"$f":"'Financial Resources Requirement'!J21","v":0}]
["C0FR","C_00_FR_10",{"$f":"'COVER SHEET'!$C$17","v":""},{"$f":"'COVER SHEET'!$C$24","v":"00:00:00"},2,{"$f":"'Financial Resources Requirement'!J24","v":0}]
["C0FR","C_00_FR_11",{"$f":"'COVER SHEET'!$C$17","v":""},{"$f":"'COVER SHEET'!$C$24","v":"00:00:00"},2,{"$f":"'Financial Resources Requirement'!J26","v":0}]

{"sheet":"C0RE","index":5,"n_rows":5,"n_cols":6,"rows_kept":5,"cut":false,"hidden":true,"merged":[]}
["SheetCode","FieldCode","FICode","Date","ColNum","Value"]
["C0RE","C_00_RE_01",{"$f":"'COVER SHEET'!$C$17","v":""},{"$f":"'COVER SHEET'!$C$24","v":"00:00:00"},1,{"$f":"Representations!K11","v":0}]
["C0RE","C_00_RE_02",{"$f":"'COVER SHEET'!$C$17","v":""},{"$f":"'COVER SHEET'!$C$24","v":"00:00:00"},1,{"$f":"Representations!K13","v":0}]
["C0RE","C_00_RE_03",{"$f":"'COVER SHEET'!$C$17","v":""},{"$f":"'COVER SHEET'!$C$24","v":"00:00:00"},1,{"$f":"Representations!K15","v":0}]
["C0RE","C_00_RE_04",{"$f":"'COVER SHEET'!$C$17","v":""},{"$f":"'COVER SHEET'!$C$24","v":"00:00:00"},1,{"$f":"Representations!K17","v":0}]

{"sheet":"C0RF","index":6,"n_rows":44,"n_cols":6,"rows_kept":44,"cut":false,"hidden":true,"merged":[]}
["SheetCode","FieldCode","FICode","Date","ColNum","Value"]
["C0RF","C_00_RF_001",{"$f":"'COVER SHEET'!$C$17","v":""},{"$f":"'COVER SHEET'!$C$24","v":"00:00:00"},1,{"$f":"Review!C36","v":0}]
["C0RF","C_00_RF_002",{"$f":"'COVER SHEET'!$C$17","v":""},{"$f":"'COVER SHEET'!$C$24","v":"00:00:00"},1,{"$f":"Review!C37","v":0}]
["C0RF","C_00_RF_003",{"$f":"'COVER SHEET'!$C$17","v":""},{"$f":"'COVER SHEET'!$C$24","v":"00:00:00"},1,{"$f":"Review!C38","v":0}]
["C0RF","C_00_RF_004",{"$f":"'COVER SHEET'!$C$17","v":""},{"$f":"'COVER SHEET'!$C$24","v":"00:00:00"},1,{"$f":"Review!C39","v":0}]
["C0RF","C_00_RF_005",{"$f":"'COVER SHEET'!$C$17","v":""},{"$f":"'COVER SHEET'!$C$24","v":"00:00:00"},1,{"$f":"Review!C40","v":0}]
["C0RF","C_00_RF_006",{"$f":"'COVER SHEET'!$C$17","v":""},{"$f":"'COVER SHEET'!$C$24","v":"00:00:00"},1,{"$f":"Review!C41","v":0}]
["C0RF","C_00_RF_007",{"$f":"'COVER SHEET'!$C$17","v":""},{"$f":"'COVER SHEET'!$C$24","v":"00:00:00"},1,{"$f":"Review!C42","v":0}]
["C0RF","C_00_RF_008",{"$f":"'COVER SHEET'!$C$17","v":""},{"$f":"'COVER SHEET'!$C$24","v":"00:00:00"},1,{"$f":"Review!C43","v":0}]
["C0RF","C_00_RF_009",{"$f":"'COVER SHEET'!$C$17","v":""},{"$f":"'COVER SHEET'!$C$24","v":"00:00:00"},1,{"$f":"Review!C44","v":0}]
["C0RF","C_00_RF_010",{"$f":"'COVER SHEET'!$C$17","v":""},{"$f":"'COVER SHEET'!$C$24","v":"00:00:00"},1,{"$f":"Review!C45","v":0}]
["C0RF","C_00_RF_011",{"$f":"'COVER SHEET'!$C$17","v":""},{"$f":"'COVER SHEET'!$C$24","v":"00:00:00"},1,{"$f":"Review!C46","v":0}]
["C0RF","C_00_RF_012",{"$f":"'COVER SHEET'!$C$17","v":""},{"$f":"'COVER SHEET'!$C$24","v":"00:00:00"},1,{"$f":"Review!C47","v":0}]
["C0RF","C_00_RF_013",{"$f":"'COVER SHEET'!$C$17","v":""},{"$f":"'COVER SHEET'!$C$24","v":"00:00:00"},1,{"$f":"Review!C48","v":0}]
["C0RF","C_00_RF_014",{"$f":"'COVER SHEET'!$C$17","v":""},{"$f":"'COVER SHEET'!$C$24","v":"00:00:00"},1,{"$f":"Review!C49","v":0}]
["C0RF","C_00_RF_015",{"$f":"'COVER SHEET'!$C$17","v":""},{"$f":"'COVER SHEET'!$C$24","v":"00:00:00"},1,{"$f":"Review!C50","v":0}]
["C0RF","C_00_RF_016",{"$f":"'COVER SHEET'!$C$17","v":""},{"$f":"'COVER SHEET'!$C$24","v":"00:00:00"},1,{"$f":"Review!C51","v":0}]
["C0RF","C_00_RF_017",{"$f":"'COVER SHEET'!$C$17","v":""},{"$f":"'COVER SHEET'!$C$24","v":"00:00:00"},1,{"$f":"Review!C52","v":0}]
["C0RF","C_00_RF_018",{"$f":"'COVER SHEET'!$C$17","v":""},{"$f":"'COVER SHEET'!$C$24","v":"00:00:00"},1,{"$f":"Review!C53","v":0}]
["C0RF","C_00_RF_019",{"$f":"'COVER SHEET'!$C$17","v":""},{"$f":"'COVER SHEET'!$C$24","v":"00:00:00"},1,{"$f":"Review!C54","v":0}]
["C0RF","C_00_RF_020",{"$f":"'COVER SHEET'!$C$17","v":""},{"$f":"'COVER SHEET'!$C$24","v":"00:00:00"},1,{"$f":"Review!C55","v":0}]
["C0RF","C_00_RF_021",{"$f":"'COVER SHEET'!$C$17","v":""},{"$f":"'COVER SHEET'!$C$24","v":"00:00:00"},1,{"$f":"Review!C56","v":0}]
["C0RF","C_00_RF_022",{"$f":"'COVER SHEET'!$C$17","v":""},{"$f":"'COVER SHEET'!$C$24","v":"00:00:00"},1,{"$f":"Review!C58","v":0}]
["C0RF","C_00_RF_023",{"$f":"'COVER SHEET'!$C$17","v":""},{"$f":"'COVER SHEET'!$C$24","v":"00:00:00"},1,{"$f":"Review!C24","v":0}]
["C0RF","C_00_RF_024",{"$f":"'COVER SHEET'!$C$17","v":""},{"$f":"'COVER SHEET'!$C$24","v":"00:00:00"},1,{"$f":"Review!C26","v":0}]
["C0RF","C_00_RF_025",{"$f":"'COVER SHEET'!$C$17","v":""},{"$f":"'COVER SHEET'!$C$24","v":"00:00:00"},1,{"$f":"Review!C29","v":0}]
["C0RF","C_00_RF_026",{"$f":"'COVER SHEET'!$C$17","v":""},{"$f":"'COVER SHEET'!$C$24","v":"00:00:00"},1,{"$f":"Review!C31","v":0}]
["C0RF","C_00_RF_027",{"$f":"'COVER SHEET'!$C$17","v":""},{"$f":"'COVER SHEET'!$C$24","v":"00:00:00"},1,{"$f":"Review!C33","v":0}]
["C0RF","C_00_RF_029",{"$f":"'COVER SHEET'!$C$17","v":""},{"$f":"'COVER SHEET'!$C$24","v":"00:00:00"},1,{"$f":"Review!C62","v":0}]
["C0RF","C_00_RF_030",{"$f":"'COVER SHEET'!$C$17","v":""},{"$f":"'COVER SHEET'!$C$24","v":"00:00:00"},1,{"$f":"Review!C63","v":0}]
["C0RF","C_00_RF_031",{"$f":"'COVER SHEET'!$C$17","v":""},{"$f":"'COVER SHEET'!$C$24","v":"00:00:00"},1,{"$f":"Review!C64","v":0}]
["C0RF","C_00_RF_032",{"$f":"'COVER SHEET'!$C$17","v":""},{"$f":"'COVER SHEET'!$C$24","v":"00:00:00"},1,{"$f":"Review!C68","v":0}]
["C0RF","C_00_RF_033",{"$f":"'COVER SHEET'!$C$17","v":""},{"$f":"'COVER SHEET'!$C$24","v":"00:00:00"},1,{"$f":"Review!C69","v":0}]
["C0RF","C_00_RF_034",{"$f":"'COVER SHEET'!$C$17","v":""},{"$f":"'COVER SHEET'!$C$24","v":"00:00:00"},1,{"$f":"Review!C70","v":0}]
["C0RF","C_00_RF_035",{"$f":"'COVER SHEET'!$C$17","v":""},{"$f":"'COVER SHEET'!$C$24","v":"00:00:00"},1,{"$f":"Review!C71","v":0}]
["C0RF","C_00_RF_036",{"$f":"'COVER SHEET'!$C$17","v":""},{"$f":"'COVER SHEET'!$C$24","v":"00:00:00"},1,{"$f":"Review!C72","v":0}]
["C0RF","C_00_RF_037",{"$f":"'COVER SHEET'!$C$17","v":""},{"$f":"'COVER SHEET'!$C$24","v":"00:00:00"},1,{"$f":"Review!C74","v":0}]
["C0RF","C_00_RF_038",{"$f":"'COVER SHEET'!$C$17","v":""},{"$f":"'COVER SHEET'!$C$24","v":"00:00:00"},1,{"$f":"Review!C75","v":0}]
["C0RF","C_00_RF_039",{"$f":"'COVER SHEET'!$C$17","v":""},{"$f":"'COVER SHEET'!$C$24","v":"00:00:00"},1,{"$f":"Review!C76","v":0}]
["C0RF","C_00_RF_040",{"$f":"'COVER SHEET'!$C$17","v":""},{"$f":"'COVER SHEET'!$C$24","v":"00:00:00"},1,{"$f":"Review!C80","v":0}]
["C0RF","C_00_RF_041",{"$f":"'COVER SHEET'!$C$17","v":""},{"$f":"'COVER SHEET'!$C$24","v":"00:00:00"},1,{"$f":"Review!C82","v":0}]
["C0RF","C_00_RF_042",{"$f":"'COVER SHEET'!$C$17","v":""},{"$f":"'COVER SHEET'!$C$24","v":"00:00:00"},1,{"$f":"Review!C84","v":0}]
["C0RF","C_00_RF_043",{"$f":"'COVER SHEET'!$C$17","v":""},{"$f":"'COVER SHEET'!$C$24","v":"00:00:00"},1,{"$f":"Review!C90","v":0}]
["C0RF","C_00_RF_044",{"$f":"'COVER SHEET'!$C$17","v":""},{"$f":"'COVER SHEET'!$C$24","v":"00:00:00"},1,{"$f":"Review!C91","v":0}]

{"sheet":"C0CP","index":7,"n_rows":3,"n_cols":6,"rows_kept":3,"cut":false,"hidden":true,"merged":[]}
["SheetCode","FieldCode","FICode","Date","ColNum","Value"]
["C0CP","C_00_C_001",{"$f":"'COVER SHEET'!C17","v":""},{"$f":"'COVER SHEET'!C24","v":"00:00:00"},1,1]
["C0CP","C_00_C_001",{"$f":"'COVER SHEET'!C17","v":""},{"$f":"'COVER SHEET'!C24","v":"00:00:00"},2,{"$f":"'COVER SHEET'!C34","v":0}]

{"sheet":"C0MP","index":8,"n_rows":3,"n_cols":6,"rows_kept":3,"cut":false,"hidden":true,"merged":[]}
["SheetCode","FieldCode","FICode","Date","ColNum","Value"]
["C0MP","C_00_C_001",{"$f":"'COVER SHEET'!C17","v":""},{"$f":"'COVER SHEET'!C24","v":"00:00:00"},1,1]
["C0MP","C_00_C_001",{"$f":"'COVER SHEET'!C17","v":""},{"$f":"'COVER SHEET'!C24","v":"00:00:00"},2,{"$f":"'COVER SHEET'!C38","v":0}]

{"sheet":"COVER SHEET","index":9,"n_rows":62,"n_cols":5,"rows_kept":62,"cut":false,"hidden":false,"merged":[[50,1,52,1],[53,1,54,1],[40,3,40,5],[4,0,4,2],[8,0,8,2],[9,0,9,2],[6,0,6,2],[12,1,12,2],[11,1,11,2]]}
[null,{"$f":"YEAR(C24)","v":1900}]
[]
[null," "]
[]
["INVESTMENT SERVICES RULES FOR INVESTMENT SERVICES PROVIDERS"]
[]
["PART BI: STANDARD LICENCE CONDITIONS"]
[]
["Appendix 2A"]
["Financial Return for Category 1/ Category 4b ISLHs"]
[]
[1,"Document Type:"]
[2,null,null,null,{"$f":"IF(B13=\"\",0,1)","v":0}]
[]
[3,"Name of Licence Holder",null,null,{"$f":"IF(C15=\"\",0,1)","v":0}]
[]
[4,"Licence Holder Code",{"$f":"IF(ISBLANK(C15),\"\",LOOKUP(C15,'LH Names & Codes'!A:A,'LH Names & Codes'!B:B))","v":""}]
[]
[5,"Licence Number",null,null,{"$f":"IF(C19=\"\",0,1)","v":0}]
[]
[6,"Licence Category",null,null,{"$f":"IF(C21=\"\",0,1)","v":0}]
[]
[7,"For the period  from:",null,null,{"$f":"IF(C23=\"\",0,1)","v":0}]
[null,"                          to:",null,null,{"$f":"IF(C24=\"\",0,1)","v":0}]
[]
[8,"Number of months covered by reporting period",{"$f":"IF(C24=\"\",\"\",(YEAR(C24)-YEAR(C23))*12+MONTH(C24)-MONTH(C23)+1)","v":""}]
[]
[9,"Currency in which accounts are reported",null,null,{"$f":"IF(C28=\"\",0,1)","v":0}]
[]
[10,"Exchange rate as at end of reporting period converting the reporting currency to EURO",null,null,{"$f":"IF(C30=\"\",0,1)","v":0}]
[]
[11,"Accounting Framework",null,null,{"$f":"IF(C32=\"\",0,1)","v":0}]
[]
[12,"Compliance Officer Name & Surname",null,null,{"$f":"IF(C34=\"\",0,1)","v":0}]
[]
[13,"Compliance Officer E-mail address",null,null,{"$f":"IF(C36=\"\",0,1)","v":0}]
[]
[14,"MLRO Name & Surname",null,null,{"$f":"IF(C38=\"\",0,1)","v":0}]
[]
[null,"Version 4/2021"]
[null,null,null,{"$f":"SUM(E13:E38)","v":0}]
[]
[null,"EUR"]
[null,"GBP"]
[null,"USD","Category 1a"]
[null,null,"Category 1 a & registered under Insurance Mediation Directive"]
[null,null,"Category 1b"]
[null,"Unaudited","Category 1b - PII Exemption"]
[null,"Audited"]
[null,null,"Category 4b"]
[null,2,"ANNUAL FINANCIAL RETURN"]
[null,null,"ANNUAL AUDIT FINANCIAL RETURN"]
[null,null,"INTERIM FINANCIAL RETURN"]
[null,2.1,"Unaudited"]
[null,null,"Audited"]
[]
[]
[null,"Validation Checks",{"$f":"SUM(E13:E38)","v":0}]
[]
[]
[null,"Level of application ","Individual"]
[null,null,"Consolidated"]

{"sheet":"Review","index":10,"n_rows":107,"n_cols":7,"rows_kept":107,"cut":false,"hidden":true,"merged":[[89,1,90,1],[86,1,86,2],[35,4,44,5],[46,4,51,5],[95,1,96,1],[95,2,96,2],[90,4,91,4],[66,1,66,2],[66,4,66,5],[67,4,79,5],[75,1,76,1],[75,2,76,2],[84,4,85,4],[84,5,85,5],[81,4,81,5],[79,1,80,1],[79,2,80,2],[81,1,82,1],[59,4,59,5],[83,1,84,1],[60,4,63,5],[78,1,78,2],[59,1,59,2],[55,4,57,5],[81,2,82,2],[94,4,101,5],[93,4,93,5],[1,1,2,2],[5,1,5,2],[5,4,5,5],[21,1,21,2],[28,4,28,5],[9,2,10,2],[1,3,2,3],[34,1,34,2],[34,4,34,5],[6,2,7,2],[6,1,7,1],[83,2,84,2]]}
[]
[null,{"$f":"'COVER SHEET'!C15","v":0},null,null,"Review of",{"$f":"IF(AND('COVER SHEET'!B13=\"INTERIM FINANCIAL RETURN\",'COVER SHEET'!C26=3),\"IFR Q1\",IF(AND('COVER SHEET'!B13=\"INTERIM FINANCIAL RETURN\",'COVER SHEET'!C26=6),\"IFR Q2\",IF(AND('COVER SHEET'!B13=\"INTERIM FINANCIAL RETURN\",'COVER SHEET'!C26=9),\"IFR Q3\",IF(AND('COVER SHEET'!B13=\"ANNUAL FINANCIAL RETURN\",'COVER SHEET'!B14=\"Audited\"),\"Audit\",IF(OR('COVER SHEET'!B13=\"INTERIM FINANCIAL RETURN\",'COVER SHEET'!C26<=12),\"AFR\",'COVER SHEET'!C26&\" Months\")))))","v":" Months"}]
[null,null,null,null,"As at",{"$f":"C13","v":"error"}]
[]
[]
[null,"Company Details",null,null,"Validation Checks"]
[null,"Licence Holder Name",{"$f":"B2","v":0}]
[null,null,null,null,"Cover Sheet",{"$f":"IF('VALIDATION SHEET'!E7=1,1,0)","v":0}]
[null,"Licence Holder Code",{"$f":"'COVER SHEET'!C17","v":""},null,"Sheet 1"]
[null,"Licence Category",{"$f":"'COVER SHEET'!C21","v":0},null,"Input Sheet",{"$f":"IF('VALIDATION SHEET'!E9=1,1,0)","v":0}]
[null,null,null,null,"Sheet 2"]
[null,"For the period from:",{"$f":"IF(ISBLANK('COVER SHEET'!C23),\"error\",'COVER SHEET'!C23)","v":"error"},null,"Income Statement",{"$f":"IF('VALIDATION SHEET'!E11=1,1,0)","v":1}]
[null,"For the period      to:",{"$f":"IF(ISBLANK('COVER SHEET'!C24),\"error\",'COVER SHEET'!C24)","v":"error"},null,"Sheet 3"]
[null,null,null,null,"Balance Sheet",{"$f":"IF('VALIDATION SHEET'!E13=1,1,0)","v":1}]
[null,"Number of months",{"$f":"'COVER SHEET'!C26","v":""},null,"Sheet 4"]
[null,null,null,null,"Own Funds Calculation",{"$f":"IF('VALIDATION SHEET'!E15=1,1,0)","v":1}]
[null,"Reporting Currency",{"$f":"'COVER SHEET'!C28","v":0},null,"Sheet 5 "]
[null,null,null,null,"Fixed Overhead Requirement",{"$f":"IF('VALIDATION SHEET'!E17=1,1,0)","v":0}]
[null,"Exchange Rate",{"$f":"'COVER SHEET'!C30","v":0},null,"Supervisory Fee - Revenue",{"$f":"'Supervisory Fee Calculator'!F19","v":1}]
[null,null,null,null,"Supervisory Fee - Commission",{"$f":"'Supervisory Fee Calculator'!F22","v":1}]
[null,null,null,null,"Sheet 7"]
[null,"Financial Resources Requirement",null,null,"Representations",{"$f":"IF('VALIDATION SHEET'!E19=1,1,0)","v":0}]
[]
[null,"Total Own Funds",{"$f":"'Financial Resources Requirement'!J8","v":0}]
[]
[null,"Fixed Overhead Requirement",{"$f":"'Financial Resources Requirement'!J10","v":0},{"$f":"IF(C26<=0,0,1)","v":0}]
[null,"How many months are represented in the F.O.R?",{"$f":"'Fixed Overhead Requirement'!H8","v":0},{"$f":"IF(C27<12,0,1)","v":0}]
[]
[null,"Total Initial Capital",{"$f":"'Financial Resources Requirement'!J21","v":0},null,"Representations"]
[null,null,null,null,"Question 1",{"$f":"Representations!K11","v":0}]
[null,"Capital Resources Requirment",{"$f":"'Financial Resources Requirement'!J24","v":0},null,"Question 2",{"$f":"Representations!K13","v":0}]
[null,null,null,null,"Question 3",{"$f":"Representations!K15","v":0}]
[null,"Financial Resources Requirement",{"$f":"'Financial Resources Requirement'!J26","v":0},null,"Question 4",{"$f":"Representations!K17","v":0}]
[]
[null,"Financials",null,null,"Financials Comments"]
[null,"Dealing Profit/Loss",{"$f":"'Income Statement'!M12","v":0},{"$f":"IF(C36<>0,0,1)","v":1}]
[null,"Commissions Received",{"$f":"'Income Statement'!M23","v":0}]
[null,"Investment Management and \nAdministration fees",{"$f":"'Income Statement'!M30","v":0}]
[null,"Investment Advisory fees",{"$f":"'Income Statement'!M37","v":0}]
[null,"Other ISA related revenue",{"$f":"'Income Statement'!M40","v":0}]
[null,"Non-ISA related revenue",{"$f":"'Income Statement'!M43","v":0},{"$f":"IF(C41>SUM(C36:C40),0,10)","v":10}]
[null,"Total Revenue",{"$f":"'Income Statement'!M46","v":0}]
[null,"Operating Expenses ",{"$f":"'Income Statement'!M63","v":0}]
[null,"Administrative Expenses",{"$f":"'Income Statement'!M69","v":0}]
[null,"Profit/Loss Before Tax",{"$f":"'Income Statement'!M79","v":0},{"$f":"IF(C45<0,0,1)","v":1}]
[null,"Profit/Loss After Tax",{"$f":"'Income Statement'!M84","v":0},{"$f":"IF(C46<0,0,1)","v":1},"  Verified Profits",{"$f":"'Input Sheet'!D418","v":0},{"$f":"IF(F46>0,1,0)","v":0}]
[null,"Total Comprehensive Income",{"$f":"'Income Statement'!M97","v":0}]
[null,"Total Investments (Long Positions)",{"$f":"'Balance Sheet'!H19","v":0}]
[null,"Total Investments (Short Positions)",{"$f":"'Balance Sheet'!H60","v":0}]
[null,"Bank and Cash Balances ",{"$f":"'Balance Sheet'!H26","v":0},null,null,null,"n/a"]
[null,"Intangible Assets",{"$f":"'Balance Sheet'!H12","v":0},null,null,null,"YES"]
[null,"Net Assets",{"$f":"'Balance Sheet'!K29-'Balance Sheet'!K66","v":0},null,null,null,"NO"]
[null,"Subordinated Loan",{"$f":"'Balance Sheet'!G49","v":0},null," Subordinated Loan figure matches with agreement?",null,{"$f":"IF(OR(F53=\"yes\",F53=\"N/A\"),1,0)","v":0}]
[null,"Called up ordinary share capital",{"$f":"'Balance Sheet'!H34","v":0},null," Has there been a change in the Ordinary Share Capital?",null,{"$f":"IF(OR(F54=\"no\",F54=\"N/A\"),1,IF(F54=\"YES\",0.5,0))","v":0}]
[null,"Retained earnings from previous year",{"$f":"'Balance Sheet'!H38","v":0},null," Retained earnings tallies with previous year's AFR?",null,{"$f":"IF(OR(F55=\"yes\",F55=\"N/A\"),1,0)","v":0}]
[null,"Other Reserves",{"$f":"'Balance Sheet'!H42","v":0}]
[null,"Proposed Dividends (not paid)",{"$f":"'Input Sheet'!D78","v":0}]
[null,"Share Premium Account",{"$f":"'Balance Sheet'!H37","v":0}]
[]
[null,"Own Funds and Own Funds Requirements",null,null,"Own Funds Comments"]
[null,"Own Funds",{"$f":"'Own Funds Calculation'!E9","v":0}]
[null,"Tier 1 Capital",{"$f":"'Own Funds Calculation'!E10","v":0}]
[null,"Common Equity Tier 1 Capital",{"$f":"'Own Funds Calculation'!E11","v":0}]
[null,"Tier 2 Capital",{"$f":"'Own Funds Calculation'!E86","v":0}]
[]
[]
[null,"Client Information",null,null,"General Comments"]
[null,"Retail",{"$f":"'Input Sheet'!D423","v":0}]
[null,"Elective Professional",{"$f":"'Input Sheet'!D424","v":0}]
[null,"Professional",{"$f":"'Input Sheet'!D425","v":0}]
[null,"Eligible Counterparty",{"$f":"'Input Sheet'!D426","v":0}]
[null,"Fund of one",{"$f":"'Input Sheet'!D427","v":0}]
[]
[null,"Reception and transmission of orders",{"$f":"'Input Sheet'!D430","v":0}]
[null,"Investment advice",{"$f":"'Input Sheet'!D431","v":0}]
[null,"Place instruments without a firm commitment basis",{"$f":"'Input Sheet'!D432","v":0}]
[]
[]
[null,"Representations Question 3.0 - Complaints"]
[null,"Complaints during last Quarter",{"$f":"Representations!K55","v":0}]
[]
[null,"Resolved Complaints",{"$f":"Representations!K57","v":0},null,"Reviewed by"]
[null,null,null,null,"Name"]
[null,"Outstanding Complaints",{"$f":"Representations!K59","v":0},null,"Date",{"$f":"TODAY()","v":"2021-07-16"}]
[null,null,null,null,"Signature"]
[]
[null,"Other Details"]
[null,{"$f":"Representations!I88","v":0},{"$f":"Representations!C88","v":0},null,"Second Review"]
[null,{"$f":"Representations!I96","v":0},{"$f":"Representations!C96","v":0},null,"Name"]
[null,"Compliance Officer",{"$f":"'COVER SHEET'!C34","v":0},null,"Date"]
[null,null,{"$f":"'COVER SHEET'!C36","v":0},null,"Signature"]
[null,"MLRO",{"$f":"'COVER SHEET'!C38","v":0}]
[]
[null,"Auditor Report to the MFSA - Rule R4 - 4.3.7",null,null,"Management Letter:  __ Observations -- ____ Risk:\n    i."]
[null,"Did the Auditor deem the Audit Report as clean?  ",null,null,"i."]
[null,"Did the Auditor provide the Authority with a qualified opinion?"]
[]
[null,"Auditor Management Letter"]
[null,"Did the Auditor provide a Nil Report?"]
[null,"Did the Auditor provide for any Comments?"]
[]
[]
[]
[null,null,null,null,null,{"$f":"'COVER SHEET'!B40","v":"Version 4/2021"}]
[null,null,"Yes"]
[null,null,"No"]
[null,null,"n/a"]

{"sheet":"LH Names & Codes","index":11,"n_rows":22,"n_cols":5,"rows_kept":22,"cut":false,"hidden":true,"merged":[]}
["Name","Code"]
["Aramis Capital (Europe) Ltd","ARAM",null,null,"GAPSME"]
["Blevin Franks Wealth Management Ltd","BLEV",null,null,"IFRS"]
["Cliff Drive Capital Limited","CLFF"]
["Crystal Finance Investments Ltd","CRYS"]
["Fund Scouting & Advisory Ltd","FSAL"]
["GWA Investments Ltd","ACYT"]
["Hollingsworth International Financial Services Limited ","HOLL"]
["JC Advisory & Capital Limited","JCAC"]
["KBA Investments Ltd","KBAL"]
["Lawsons Equity Limited","LAWS"]
["MFM Fund Services Limited","MFMF"]
["Mirabella Malta Advisers Ltd","MMAL"]
["Neox Capital Limited","NEOX"]
["RMS Financial Advisory Limited","RMSF"]
["Scheuermann & Co Ltd","SMAN"]
["StoneFarm Capital Limited","STNF"]
["Templar EIS Ltd","TPLR"]
["Timberland Invest Limited","TIMB"]
["Vernier Capital Advisors (Europe) Ltd","VERN"]
["Whitecross Investments Ltd","GPEW"]
["Wood Finance Limited","WOOD"]

{"sheet":"CONTENTS","index":12,"n_rows":27,"n_cols":6,"rows_kept":27,"cut":false,"hidden":false,"merged":[[11,3,12,3],[13,3,14,3]]}
[]
[null,"Contents & Validations"]
[]
[null,1,null,null,{"$f":"IF('VALIDATION SHEET'!E9=1,1,0)","v":0}," Requires Manual Input"]
[]
[null,2,null,null,{"$f":"IF('VALIDATION SHEET'!E11=1,1,0)","v":1}]
[]
[null,3,null,null,{"$f":"IF('VALIDATION SHEET'!E13=1,1,0)","v":1}]
[]
[null,4,null,null,{"$f":"IF('VALIDATION SHEET'!E15=1,1,0)","v":1}]
[]
[null,null,null,4.0999999999999996]
[]
[null,null,null,4.2]
[]
[]
[null,5,null,null,{"$f":"IF('VALIDATION SHEET'!E17=1,1,0)","v":0}]
[]
[null,6]
[]
[null,7,null,null,null,"Requires Manual Input & Printing (applicable only for AAFR)"]
[]
[null,8,null,null,{"$f":"IF('VALIDATION SHEET'!E19=1,1,0)","v":0},"Requires Manual Input & Printing"]
[]
[null,9]
[]
[null,10]

{"sheet":"Input Sheet","index":13,"n_rows":437,"n_cols":523,"rows_kept":437,"cut":false,"hidden":false,"merged":[[39,1,39,2],[34,5,34,10],[31,5,31,10],[42,5,42,10],[43,5,43,12],[338,5,338,12],[339,5,339,12],[316,5,316,10],[317,5,317,12],[318,5,318,12],[81,5,81,9],[87,5,87,7],[32,5,32,12],[33,5,33,12],[319,6,320,11],[36,4,36,6],[83,4,83,6],[85,4,85,6],[79,5,79,6],[91,5,91,7],[88,5,88,7],[313,8,313,9],[111,1,111,2],[112,1,112,2],[413,5,413,7],[204,1,204,2],[182,1,182,2],[216,1,216,2],[217,1,217,2],[218,1,218,2],[183,1,183,2],[184,1,184,2],[192,1,192,2],[193,1,193,2],[194,1,194,2],[197,1,197,2],[199,1,199,2],[200,1,200,2],[201,1,201,2],[202,1,202,2],[186,1,186,2],[207,1,207,2],[222,1,222,2],[246,1,246,2],[247,1,247,2],[203,1,203,2],[221,1,221,2],[284,1,284,2],[113,1,113,2],[115,1,115,2],[116,1,116,2],[109,1,109,2],[121,1,121,2],[122,1,122,2],[123,1,123,2],[117,1,117,2],[118,1,118,2],[101,1,101,2],[102,1,102,2],[103,1,103,2],[104,1,104,2],[105,1,105,2],[106,1,106,2],[107,1,107,2],[108,1,108,2],[169,1,169,2],[144,1,144,2],[145,1,145,2],[146,1,146,2],[125,1,125,2],[124,1,124,2],[119,1,119,2],[120,1,120,2],[110,1,110,2],[133,1,133,2],[134,1,134,2],[129,1,129,2],[130,1,130,2],[131,1,131,2],[132,1,132,2],[114,1,114,2],[126,1,126,2],[127,1,127,2],[226,1,226,2],[147,1,147,2],[152,1,152,2],[154,1,154,2],[151,1,151,2],[159,1,159,2],[181,1,181,2],[220,1,220,2],[195,1,195,2],[196,1,196,2],[225,1,225,2],[148,1,148,2],[149,1,149,2],[150,1,150,2],[180,1,180,2],[174,1,174,2],[135,1,135,2],[136,1,136,2],[137,1,137,2],[128,1,128,2],[175,1,175,2],[176,1,176,2],[138,1,138,2],[139,1,139,2],[140,1,140,2],[141,1,141,2],[142,1,142,2],[143,1,143,2],[228,1,228,2],[229,1,229,2],[235,1,235,2],[230,1,230,2],[231,1,231,2],[232,1,232,2],[178,1,178,2],[153,1,153,2],[156,1,156,2],[158,1,158,2],[155,1,155,2],[157,1,157,2],[162,1,162,2],[167,1,167,2],[168,1,168,2],[163,1,163,2],[165,1,165,2],[164,1,164,2],[276,1,276,2],[275,1,275,2],[287,1,287,2],[286,1,286,2],[285,1,285,2],[283,1,283,2],[280,1,280,2],[254,1,254,2],[255,1,255,2],[258,1,258,2],[257,1,257,2],[256,1,256,2],[260,1,260,2],[259,1,259,2],[269,1,269,2],[272,1,272,2],[273,1,273,2],[270,1,270,2],[261,1,261,2],[271,1,271,2],[265,1,265,2],[268,1,268,2],[264,1,264,2],[274,1,274,2],[166,1,166,2],[251,1,251,2],[248,1,248,2],[249,1,249,2],[238,1,238,2],[236,1,236,2],[239,1,239,2],[245,1,245,2],[389,4,390,7],[305,5,305,6],[306,5,306,6],[288,1,288,2],[384,4,385,7],[386,4,388,7],[293,3,294,3],[294,1,294,2],[300,1,300,2],[307,6,308,6],[315,1,315,2],[340,5,340,11],[292,1,292,2],[289,1,289,2],[290,1,290,2],[291,1,291,2],[170,1,170,2],[185,1,185,2],[187,1,187,2],[219,1,219,2],[210,1,210,2],[211,1,211,2],[212,1,212,2],[213,1,213,2],[214,1,214,2],[215,1,215,2],[198,1,198,2],[188,1,188,2],[189,1,189,2],[209,1,209,2],[190,1,190,2],[191,1,191,2],[205,1,205,2],[206,1,206,2],[208,1,208,2],[402,5,402,7],[233,1,233,2],[240,1,240,2],[241,1,241,2],[242,1,242,2],[243,1,243,2],[244,1,244,2],[223,1,223,2],[267,1,267,2],[237,1,237,2],[277,1,277,2],[278,1,278,2],[234,1,234,2],[250,1,250,2],[262,1,262,2],[263,1,263,2],[266,1,266,2],[252,1,252,2],[253,1,253,2],[281,1,281,2],[279,1,279,2],[227,1,227,2],[224,1,224,2],[391,4,393,7],[38,1,38,2],[416,5,418,11],[96,1,96,2],[97,1,97,2],[82,5,82,6],[80,5,80,6],[92,5,92,9],[38,5,38,12],[350,5,350,11],[348,5,348,12],[349,5,349,12],[347,5,347,11],[337,5,337,11],[98,1,98,2],[99,1,99,2],[100,1,100,2],[95,1,95,2],[160,1,160,2],[161,1,161,2],[179,1,179,2],[171,1,171,2],[172,1,172,2],[177,1,177,2],[173,1,173,2]]}
[]
[]
[]
[null,"INPUT SHEET"]
[]
[null,"Licence Holder:    ",{"$f":"IF('COVER SHEET'!C15=0,\"\",'COVER SHEET'!C15)","v":""}]
[null,"Period:    ",{"$f":"IF(OR('COVER SHEET'!C23=0,'COVER SHEET'!C24=0),\" \",(TEXT('COVER SHEET'!C23,\"dd-mm-yyyy\")&\" - \"&(TEXT('COVER SHEET'!C24,\"dd-mm-yyyy\"))))","v":" "},{"$f":"Review!F2","v":" Months"},null,{"$f":"IF(OR('[31]COVER SHEET'!B29=0,'[31]COVER SHEET'!B30=0),\" \",(TEXT('[31]COVER SHEET'!B29,\"dd-mm-yyyy\")&\" - \"&(TEXT('[31]COVER SHEET'!B30,\"dd-mm-yyyy\"))))","v":" "}]
[]
[null,null,"Amounts included on the credit should be -ve "]
[null,null,"Amounts included on the debit should be +ve "]
[null,null,null,"As per Trial Balance"]
[]
[null,"1) Income"]
[null,"a) Dealing Profit or (Loss) - Trading"]
[null,"b) Dealing Profit or (Loss) - Long Term Investments"]
[null,"c) Commissions received on transactions in :"]
[null,"i) locally based schemes"]
[null,"ii) foreign based schemes "]
[null,"1) listed on a Recognised Investment Exchange"]
[null,"2) not listed on a Recognised Investment Exchange"]
[null,"iii) unit linked products"]
[null,"iv) other commissions (equities, debt instruments etc...)"]
[null,"d) Investment Management and Administration Fees"]
[null,"i) Retail clients"]
[null,"ii) Professional clients"]
[null,"iii) Collective Investment Schemes"]
[null,"iv) Other (e.g. connected companies)"]
[null,"e) Investment Advisory Fees"]
[null,"i) Retail clients"]
[null,"ii) Professional clients"]
[null,"iii) Collective Investment Schemes"]
[null,"iv) Other (e.g. connected companies)",null,null,null,"Please Insert details of 'Other ISA Related Revenue' in the cell below (F33)."]
[null,"f) Other ISA related revenue*",null,null,{"$f":"IF(AND(O33=1,ISBLANK(F33)),0,1)","v":1},null,null,null,null,null,null,null,null,null,{"$f":"IF(D33<0,1,0)","v":0}]
[null,"g) Non-ISA related revenue**",null,null,{"$f":"IF(AND(O34=1,ISBLANK(F34)),0,1)","v":1},null,null,null,null,null,null,null,null,null,{"$f":"IF(D34<0,1,0)","v":0}]
[null,"h) Finance Income",null,null,null,"Please Insert details of 'Non-ISA Related Revenue' in the cell above (F34)."]
[null,"i) Fair value changes in Profit or Loss"]
[null,null,null,null,{"$f":"SUM(D14:D34)","v":0}]
[null,"2) Expenditure"]
[null,"a) Commissions that are directly related to the acquisition of gross revenue (derived from investment services activities), paid or payable to third parties and/ or"]
[null,"    i) Fees, brokerage and other charges paid to clearing houses, exchanges and intermediate brokers for the purpose of executing, registering or clearing transactions. "]
[null,"    ii) Fees to tied agents",null,null,null,null,{"$f":"SUM(D39:D41)","v":0}]
[null,"b) Other Commissions payable (not related to investment services activities)"]
[null,"c) Exceptional Items of expenditure",null,null,null,"Please Insert details of 'Expenditure Allowed by MFSA' in the cell below (F42)."]
[null,"i) Allowed by MFSA***",null,null,{"$f":"IF(AND(O44=1,ISBLANK(F44)),0,1)","v":1},null,null,null,null,null,null,null,null,null,{"$f":"IF(D44>=1,1,0)","v":0}]
[null,"ii) Other"]
[null,"d) Depreciation"]
[null,"e) Directors Remuneration"]
[null,"f) Salaries"]
[null,"g) Staff bonuses"]
[null,"h) Other appropriations of profits and other variable remuneration"]
[null,"i) Shared commission and fees payable which are directly related to commission"]
[null,"and fees receivable which are included within total revenue, and where the"]
[null,"payment of the commission and fees payable is contingent upon the actual"]
[" ","receipt of the commission and fees receivable"]
[null,"j) Employees' and directors' shares in profits"]
[null,"k) Investor Compensation Scheme"]
[null,"l) Professional fees"]
[null,"m) Audit fees"]
[null,"n) Registration and Other fees"]
[null,"o) Bank Charges"]
[null,"p) Rental Expenses"]
[null,"q) Travel Expenses"]
[null,"r) Insurance Expenses"]
[null,"s) Advertising Expense"]
[null,"t) Interest charges in respect of borrowing made to finance the "]
[null,"acquisition of  readily realisable investments"]
[null,"u) Interest paid to clients on clients' money"]
[null,"v) Interest paid to counterparties"]
[null,"w) Other interest payable "]
[null,"z) Foreign exchange losses"]
[null,"aa) Non-recurring expenses from non-ordinary activities"]
[null,"ab) Other administrative expenses"]
[null,"ac) Taxation for the year"]
[]
[null,"Movement effected through the statement of changes in Equity "]
[null,"a) Dividends "]
[null,"i) Paid"]
[null,"ii) Proposed but not paid"]
[]
[null,"Statement of Other Comprehensive Income",null,null,null,{"$f":"IF(OR(D81<>0,D83<>0),\"Qualify as P/L or OCI\",\"\")","v":""}]
[null,"a) Fair value movements on Intangible Assets",null,null,"P/L",null,null,"P/L","OCI",null,null,{"$f":"IF(K82=\"Yes\",\"Amount\",\"\")","v":""}]
[null,"b) Gain/Loss on revaulation of available for sale Financial Assets",null,null,null,{"$f":"IF(D82<>0,\"Does this amount include exposures to central governments classified in the AFS category of EU - endorsed IAS 39?\",\"\")","v":""}]
[null,"c)  Gain/Loss on revaluation of property",null,null,null,null,null,null,null,null,"Yes"]
[null,"d) Other items of income and expense included in other comprehensive income",null,null,null,null,null,null,null,null,"No"]
[null,"e) Tax income/expense relating to components of other comprehensive income"]
[null,null,null,null,{"$f":"-E37-E84","v":0}]
[null,"3) Assets"]
[null,"a) Intangible assets",null,null,null,"Type"]
[null,"i) Goodwill"]
[null,"ii) Other Intangible Assets",null,null,null,null,{"$f":"+D90+D89","v":0},null,{"$f":"+G90+G77","v":0}]
[null,"b) Property, Plant and Equipment"]
[null,"c) Investment Property"]
[null,"d) Defered Tax Asset",null,null,null,"Kindly Categorise amount in Table 4.1 (rows 20, 30 &40)",null,null,null,null,null,null,null,null,null,null,null,null,null,null,null,null,null,null,null,null,null,null,null,null,null,null,null,null,null,"CURRENCY","MARKET"]
[null,"e) Inventories",null,null,null,null,null,null,{"$f":"+D94","v":0},null,null,null,null,null,null,null,null,null,null,null,null,null,null,null,null,null,null,null,null,null,null,null,null,null,null,"ALL","Albania"]
[null,"f) Financial Instruments (Short Positions are to be included as trading book positions only.)",null,null,null,null,null,null,null,null,null,null,null,null,null,null,null,null,null,null,null,null,null,null,null,null,null,null,null,null,"Total",null,null,null,null,"BGN","Austria"]
[null,"i) Exposures to Central Governments or Central Banks",null,null,null,null,null,null,null,null,null,null,null,null,null,null,null,null,null,null,null,null,null,null,null,null,null,null,null,null,null,null,null,null,null,"CHF","Belgium"]
[null,null,null,null,null,null,null,null,null,null,null,null,null,null,null,null,null,null,null,null,null,null,null,null,null,null,null,null,null,null,{"$f":"IF(D97>0,D97,0)","v":0},{"$f":"IF(D97<0,D97,0)","v":0},null,null,null,"CZK","Bulgaria"]
[null,null,null,null,null,null,null,null,null,null,null,null,null,null,null,null,null,null,null,null,null,null,null,null,null,null,null,null,null,null,{"$f":"IF(D98>0,D98,0)","v":0},{"$f":"IF(D98<0,D98,0)","v":0},null,null,null,"DKK","Cyprus"]
[null,null,null,null,null,null,null,null,null,null,null,null,null,null,null,null,null,null,null,null,null,null,null,1,null,null,null,null,null,null,0,0,null,null,null,"EUR","Czech Republic"]
[null,null,null,null,null,null,null,null,null,null,null,null,null,null,null,null,null,null,null,null,null,null,null,2,null,null,null,null,null,null,0,0,null,null,null,"EGP","Denmark"]
[null,null,null,null,null,null,null,null,null,null,null,null,null,null,null,null,null,null,null,null,null,null,null,3,null,null,null,null,null,null,0,0,null,null,null,"GBP","Estonia"]
[null,null,null,null,null,null,null,null,null,null,null,null,null,null,null,null,null,null,null,null,null,null,null,4,null,null,null,null,null,null,0,0,null,null,null,"HUF","Finland"]
[null,null,null,null,null,null,null,null,null,null,null,null,null,null,null,null,null,null,null,null,null,null,null,5,null,null,null,null,null,null,0,0,null,null,null,"ISK","France"]
[null,null,null,null,null,null,null,null,null,null,null,null,null,null,null,null,null,null,null,null,null,null,null,6,null,null,null,null,null,null,0,0,null,null,null,"JPY","Germany"]
[null,null,null,null,null,null,null,null,null,null,null,null,null,null,null,null,null,null,null,null,null,null,null,"unrated",null,null,null,null,null,null,0,0,null,null,null,"LIE","Greece"]
[null,null,null,null,null,null,null,null,null,null,null,null,null,null,null,null,null,null,null,null,null,null,null,"0 %",null,null,null,null,null,null,{"$f":"IF(D106>0,D106,0)","v":0},{"$f":"IF(D106<0,D106,0)","v":0},null,null,null,"LTL","Hungary"]
[null,null,null,null,null,null,null,null,null,null,null,null,null,null,null,null,null,null,null,null,null,null,null,0.2,null,null,null,null,null,null,0,0,null,null,null,"LVL","Ireland"]
[null,null,null,null,null,null,null,null,null,null,null,null,null,null,null,null,null,null,null,null,null,null,null,null,null,null,null,null,null,null,0,0,null,null,null,"MKD","Italy"]
[null,null,null,null,null,null,null,null,null,null,null,null,null,null,null,null,null,null,null,null,null,null,null,null,null,null,null,null,null,null,0,0,null,null,null,"PLN","Japan"]
[null,null,null,null,null,null,null,null,null,null,null,null,null,null,null,null,null,null,null,null,null,null,null,null,null,null,null,null,null,null,0,0,null,null,null,"RON","Latvia"]
[null,null,null,null,null,null,null,null,null,null,null,null,null,null,null,null,null,null,null,null,null,null,null,null,null,null,null,null,null,null,0,0,null,null,null,"RSD","Lithuania"]
[null,null,null,null,null,null,null,null,null,null,null,null,null,null,null,null,null,null,null,null,null,null,null,null,null,null,null,null,null,null,0,0,null,null,null,"RUB","Luxembourg"]
[null,null,null,null,null,null,null,null,null,null,null,null,null,null,null,null,null,null,null,null,null,null,null,null,null,null,null,null,null,null,0,0,null,null,null,"SEK","Macedonia"]
[null,null,null,null,null,null,null,null,null,null,null,null,null,null,null,null,null,null,null,null,null,null,null,null,null,null,null,null,null,null,0,0,null,null,null,"TRY","Malta"]
[null,null,null,null,null,null,null,null,null,null,null,null,null,null,null,null,null,null,null,null,null,null,null,null,null,null,null,null,null,null,0,0,null,null,null,"UAH","Netherlands"]
[null,null,null,null,null,null,null,null,null,null,null,null,null,null,null,null,null,null,null,null,null,null,null,null,null,null,null,null,null,null,0,0,null,null,null,"USD","Poland"]
[null,null,null,null,null,null,null,null,null,null,null,null,null,null,null,null,null,null,null,null,null,null,null,null,null,null,null,null,null,null,0,0,null,null,null,"Other","Portugal",null,null,null,null,null,null,null,null,null,null,null,null,null,null,null,null,null,null,null,null,null,null,null,null,null,null,null,null,null,null,null,null,null,null,null,null,null,null,null,null,null,null,null,null,null,null,null,null,null,null,null,null,null,null,null,null,null,null,null,null,null,null,null,null,null,null,null,null,null,null,null,null,null,null,null,null,null,null,null,null,null,null,null,null,null,null,null,null,null,null,null,null,null,null,null,null,null,null,null,null,null,null,null,null,null,null,null,null,null,null,null,null,null,null,null,null,null,null,null,null,null,null,null,null,null,null,null,null,null,null,null,null,null,null,null,null,null,null,null,null,null,null,null,null,null,null,null,null,null,null,null,null,null,null,null,null,null,null,null,null,null,null,null,null,null,null,null,null,null,null,null,null,null,null,null,null,null,null,null,null,null,null,null,null,null,null,null,null,null,null,null,null,null,null,null,null,null,null,null,null,null,null,null,null,null,null,null,null,null,null,null,null,null,null,null,null,null,null,null,null,null,null,null,null,null,null,null,null,null,null,null,null,null,null,null,null,null,null,null,null,null,null,null,null,null,null,null,null,null,null,null,null,null,null,null,null,null,null,null,null,null,null,null,null,null,null,null,null,null,null,null,null,null,null,null,null,null,null,null,null,null,null,null,null,null,null,null,null,null,null,null,null,null,null,null,null,null,null,null,null,null,null,null,null,null,null,null,null,null,null,null,null,null,null,null,null,null,null,null,null,null,null,null,null,null,null,null,null,null,null,null,null,null,null,null,null,null,null,null,null,null,null,null,null,null,null,null,null,null,null,null,null,null,null,null,null,null,null,null,null,null,null,null,null,null,null,null,null,null,null,null,null,null,null,null,null,null,null,null,null,null,null,null,null,null,null,null,null,null,null,null,null,null,null,null,null,null,null,null,null,null,null,null,null,null,null,null,null,null,null,null,null,null,null,null,null,null,null,null,null,null,null,null,null,null,null,null,null,null,null,null,null,null,null,null,null,null,null,null,null,null,null,null,null,null,null,null,null,null,null,null,null,null,null,null,null,null,null,null,null,null,null,null,null,null,null,null,null,null,null,null,null,null,null,null,null,"JUST FOR MULTILATERAL DEVELOPMENT BANKS WORKING IS IN INPUT SHEET"]
[null,null,null,null,null,null,null,null,null,null,null,null,null,null,null,null,null,null,null,null,null,null,null,null,null,null,null,null,null,null,0,0,null,null,null,null,"Romania"]
[null,null,null,null,null,null,null,null,null,null,null,null,null,null,null,null,null,null,null,null,null,null,null,null,null,null,null,null,null,null,0,0,null,null,null,null,"Russian Federation",null,null,null,null,null,null,null,null,null,null,null,null,null,null,null,null,null,null,null,null,null,null,null,null,null,null,null,null,null,null,null,null,null,null,null,null,null,null,null,null,null,null,null,null,null,null,null,null,null,null,null,null,null,null,null,null,null,null,null,null,null,null,null,null,null,null,null,null,null,null,null,null,null,null,null,null,null,null,null,null,null,null,null,null,null,null,null,null,null,null,null,null,null,null,null,null,null,null,null,null,null,null,null,null,null,null,null,null,null,null,null,null,null,null,null,null,null,null,null,null,null,null,null,null,null,null,null,null,null,null,null,null,null,null,null,null,null,null,null,null,null,null,null,null,null,null,null,null,null,null,null,null,null,null,null,null,null,null,null,null,null,null,null,null,null,null,null,null,null,null,null,null,null,null,null,null,null,null,null,null,null,null,null,null,null,null,null,null,null,null,null,null,null,null,null,null,null,null,null,null,null,null,null,null,null,null,null,null,null,null,null,null,null,null,null,null,null,null,null,null,null,null,null,null,null,null,null,null,null,null,null,null,null,null,null,null,null,null,null,null,null,null,null,null,null,null,null,null,null,null,null,null,null,null,null,null,null,null,null,null,null,null,null,null,null,null,null,null,null,null,null,null,null,null,null,null,null,null,null,null,null,null,null,null,null,null,null,null,null,null,null,null,null,null,null,null,null,null,null,null,null,null,null,null,null,null,null,null,null,null,null,null,null,null,null,null,null,null,null,null,null,null,null,null,null,null,null,null,null,null,null,null,null,null,null,null,null,null,null,null,null,null,null,null,null,null,null,null,null,null,null,null,null,null,null,null,null,null,null,null,null,null,null,null,null,null,null,null,null,null,null,null,null,null,null,null,null,null,null,null,null,null,null,null,null,null,null,null,null,null,null,null,null,null,null,null,null,null,null,null,null,null,null,null,null,null,null,null,null,null,null,null,null,null,null,null,null,null,null,null,null,null,null,null,null,null,null,null,null,null,null,null,null,null,null,null,null,null,null,null,null,null,null,null,null,null,null,null,null,null,null,null,null,null,null,null,null,null,null,null,null,null,null,null,null,null,null,null,null,null,null,null,null,null,null,null,null,null,"Type of Multilateral Development Bank"]
[null,null,null,null,null,null,null,null,null,null,null,null,null,null,null,null,null,null,null,null,null,null,null,null,null,null,null,null,null,null,0,0,null,null,null,null,"Serbia",null,null,null,null,null,null,null,null,null,null,null,null,null,null,null,null,null,null,null,null,null,null,null,null,null,null,null,null,null,null,null,null,null,null,null,null,null,null,null,null,null,null,null,null,null,null,null,null,null,null,null,null,null,null,null,null,null,null,null,null,null,null,null,null,null,null,null,null,null,null,null,null,null,null,null,null,null,null,null,null,null,null,null,null,null,null,null,null,null,null,null,null,null,null,null,null,null,null,null,null,null,null,null,null,null,null,null,null,null,null,null,null,null,null,null,null,null,null,null,null,null,null,null,null,null,null,null,null,null,null,null,null,null,null,null,null,null,null,null,null,null,null,null,null,null,null,null,null,null,null,null,null,null,null,null,null,null,null,null,null,null,null,null,null,null,null,null,null,null,null,null,null,null,null,null,null,null,null,null,null,null,null,null,null,null,null,null,null,null,null,null,null,null,null,null,null,null,null,null,null,null,null,null,null,null,null,null,null,null,null,null,null,null,null,null,null,null,null,null,null,null,null,null,null,null,null,null,null,null,null,null,null,null,null,null,null,null,null,null,null,null,null,null,null,null,null,null,null,null,null,null,null,null,null,null,null,null,null,null,null,null,null,null,null,null,null,null,null,null,null,null,null,null,null,null,null,null,null,null,null,null,null,null,null,null,null,null,null,null,null,null,null,null,null,null,null,null,null,null,null,null,null,null,null,null,null,null,null,null,null,null,null,null,null,null,null,null,null,null,null,null,null,null,null,null,null,null,null,null,null,null,null,null,null,null,null,null,null,null,null,null,null,null,null,null,null,null,null,null,null,null,null,null,null,null,null,null,null,null,null,null,null,null,null,null,null,null,null,null,null,null,null,null,null,null,null,null,null,null,null,null,null,null,null,null,null,null,null,null,null,null,null,null,null,null,null,null,null,null,null,null,null,null,null,null,null,null,null,null,null,null,null,null,null,null,null,null,null,null,null,null,null,null,null,null,null,null,null,null,null,null,null,null,null,null,null,null,null,null,null,null,null,null,null,null,null,null,null,null,null,null,null,null,null,null,null,null,null,null,null,null,null,null,null,null,null,null,null,null,null,null,null,null,null,null,null,null,null,"The Inter-American Investment Corporation","N/A"]
[null,null,null,null,null,null,null,null,null,null,null,null,null,null,null,null,null,null,null,null,null,null,null,null,null,null,null,null,null,null,0,0,null,null,null,null,"Slovakia",null,null,null,null,null,null,null,null,null,null,null,null,null,null,null,null,null,null,null,null,null,null,null,null,null,null,null,null,null,null,null,null,null,null,null,null,null,null,null,null,null,null,null,null,null,null,null,null,null,null,null,null,null,null,null,null,null,null,null,null,null,null,null,null,null,null,null,null,null,null,null,null,null,null,null,null,null,null,null,null,null,null,null,null,null,null,null,null,null,null,null,null,null,null,null,null,null,null,null,null,null,null,null,null,null,null,null,null,null,null,null,null,null,null,null,null,null,null,null,null,null,null,null,null,null,null,null,null,null,null,null,null,null,null,null,null,null,null,null,null,null,null,null,null,null,null,null,null,null,null,null,null,null,null,null,null,null,null,null,null,null,null,null,null,null,null,null,null,null,null,null,null,null,null,null,null,null,null,null,null,null,null,null,null,null,null,null,null,null,null,null,null,null,null,null,null,null,null,null,null,null,null,null,null,null,null,null,null,null,null,null,null,null,null,null,null,null,null,null,null,null,null,null,null,null,null,null,null,null,null,null,null,null,null,null,null,null,null,null,null,null,null,null,null,null,null,null,null,null,null,null,null,null,null,null,null,null,null,null,null,null,null,null,null,null,null,null,null,null,null,null,null,null,null,null,null,null,null,null,null,null,null,null,null,null,null,null,null,null,null,null,null,null,null,null,null,null,null,null,null,null,null,null,null,null,null,null,null,null,null,null,null,null,null,null,null,null,null,null,null,null,null,null,null,null,null,null,null,null,null,null,null,null,null,null,null,null,null,null,null,null,null,null,null,null,null,null,null,null,null,null,null,null,null,null,null,null,null,null,null,null,null,null,null,null,null,null,null,null,null,null,null,null,null,null,null,null,null,null,null,null,null,null,null,null,null,null,null,null,null,null,null,null,null,null,null,null,null,null,null,null,null,null,null,null,null,null,null,null,null,null,null,null,null,null,null,null,null,null,null,null,null,null,null,null,null,null,null,null,null,null,null,null,null,null,null,null,null,null,null,null,null,null,null,null,null,null,null,null,null,null,null,null,null,null,null,null,null,null,null,null,null,null,null,null,null,null,null,null,null,null,null,null,null,null,null,null,null,"The Black Sea Trade and Development Bank","N/A"]
[null,null,null,null,null,null,null,null,null,null,null,null,null,null,null,null,null,null,null,null,null,null,null,null,null,null,null,null,null,null,0,0,null,null,null,null,"Slovenia",null,null,null,null,null,null,null,null,null,null,null,null,null,null,null,null,null,null,null,null,null,null,null,null,null,null,null,null,null,null,null,null,null,null,null,null,null,null,null,null,null,null,null,null,null,null,null,null,null,null,null,null,null,null,null,null,null,null,null,null,null,null,null,null,null,null,null,null,null,null,null,null,null,null,null,null,null,null,null,null,null,null,null,null,null,null,null,null,null,null,null,null,null,null,null,null,null,null,null,null,null,null,null,null,null,null,null,null,null,null,null,null,null,null,null,null,null,null,null,null,null,null,null,null,null,null,null,null,null,null,null,null,null,null,null,null,null,null,null,null,null,null,null,null,null,null,null,null,null,null,null,null,null,null,null,null,null,null,null,null,null,null,null,null,null,null,null,null,null,null,null,null,null,null,null,null,null,null,null,null,null,null,null,null,null,null,null,null,null,null,null,null,null,null,null,null,null,null,null,null,null,null,null,null,null,null,null,null,null,null,null,null,null,null,null,null,null,null,null,null,null,null,null,null,null,null,null,null,null,null,null,null,null,null,null,null,null,null,null,null,null,null,null,null,null,null,null,null,null,null,null,null,null,null,null,null,null,null,null,null,null,null,null,null,null,null,null,null,null,null,null,null,null,null,null,null,null,null,null,null,null,null,null,null,null,null,null,null,null,null,null,null,null,null,null,null,null,null,null,null,null,null,null,null,null,null,null,null,null,null,null,null,null,null,null,null,null,null,null,null,null,null,null,null,null,null,null,null,null,null,null,null,null,null,null,null,null,null,null,null,null,null,null,null,null,null,null,null,null,null,null,null,null,null,null,null,null,null,null,null,null,null,null,null,null,null,null,null,null,null,null,null,null,null,null,null,null,null,null,null,null,null,null,null,null,null,null,null,null,null,null,null,null,null,null,null,null,null,null,null,null,null,null,null,null,null,null,null,null,null,null,null,null,null,null,null,null,null,null,null,null,null,null,null,null,null,null,null,null,null,null,null,null,null,null,null,null,null,null,null,null,null,null,null,null,null,null,null,null,null,null,null,null,null,null,null,null,null,null,null,null,null,null,null,null,null,null,null,null,null,null,null,null,null,null,null,null,null,"The Central American Bank for Economic Integration","N/A"]
[null,null,null,null,null,null,null,null,null,null,null,null,null,null,null,null,null,null,null,null,null,null,null,null,null,null,null,null,null,null,0,0,null,null,null,null,"Spain",null,null,null,null,null,null,null,null,null,null,null,null,null,null,null,null,null,null,null,null,null,null,null,null,null,null,null,null,null,null,null,null,null,null,null,null,null,null,null,null,null,null,null,null,null,null,null,null,null,null,null,null,null,null,null,null,null,null,null,null,null,null,null,null,null,null,null,null,null,null,null,null,null,null,null,null,null,null,null,null,null,null,null,null,null,null,null,null,null,null,null,null,null,null,null,null,null,null,null,null,null,null,null,null,null,null,null,null,null,null,null,null,null,null,null,null,null,null,null,null,null,null,null,null,null,null,null,null,null,null,null,null,null,null,null,null,null,null,null,null,null,null,null,null,null,null,null,null,null,null,null,null,null,null,null,null,null,null,null,null,null,null,null,null,null,null,null,null,null,null,null,null,null,null,null,null,null,null,null,null,null,null,null,null,null,null,null,null,null,null,null,null,null,null,null,null,null,null,null,null,null,null,null,null,null,null,null,null,null,null,null,null,null,null,null,null,null,null,null,null,null,null,null,null,null,null,null,null,null,null,null,null,null,null,null,null,null,null,null,null,null,null,null,null,null,null,null,null,null,null,null,null,null,null,null,null,null,null,null,null,null,null,null,null,null,null,null,null,null,null,null,null,null,null,null,null,null,null,null,null,null,null,null,null,null,null,null,null,null,null,null,null,null,null,null,null,null,null,null,null,null,null,null,null,null,null,null,null,null,null,null,null,null,null,null,null,null,null,null,null,null,null,null,null,null,null,null,null,null,null,null,null,null,null,null,null,null,null,null,null,null,null,null,null,null,null,null,null,null,null,null,null,null,null,null,null,null,null,null,null,null,null,null,null,null,null,null,null,null,null,null,null,null,null,null,null,null,null,null,null,null,null,null,null,null,null,null,null,null,null,null,null,null,null,null,null,null,null,null,null,null,null,null,null,null,null,null,null,null,null,null,null,null,null,null,null,null,null,null,null,null,null,null,null,null,null,null,null,null,null,null,null,null,null,null,null,null,null,null,null,null,null,null,null,null,null,null,null,null,null,null,null,null,null,null,null,null,null,null,null,null,null,null,null,null,null,null,null,null,null,null,null,null,null,null,null,null,null,"The International Bank for Reconstruction and Development",0,null,null,"Unrated "]
[null,null,null,null,null,null,null,null,null,null,null,null,null,null,null,null,null,null,null,null,null,null,null,null,null,null,null,null,null,null,0,0,null,null,null,null,"Sweden",null,null,null,null,null,null,null,null,null,null,null,null,null,null,null,null,null,null,null,null,null,null,null,null,null,null,null,null,null,null,null,null,null,null,null,null,null,null,null,null,null,null,null,null,null,null,null,null,null,null,null,null,null,null,null,null,null,null,null,null,null,null,null,null,null,null,null,null,null,null,null,null,null,null,null,null,null,null,null,null,null,null,null,null,null,null,null,null,null,null,null,null,null,null,null,null,null,null,null,null,null,null,null,null,null,null,null,null,null,null,null,null,null,null,null,null,null,null,null,null,null,null,null,null,null,null,null,null,null,null,null,null,null,null,null,null,null,null,null,null,null,null,null,null,null,null,null,null,null,null,null,null,null,null,null,null,null,null,null,null,null,null,null,null,null,null,null,null,null,null,null,null,null,null,null,null,null,null,null,null,null,null,null,null,null,null,null,null,null,null,null,null,null,null,null,null,null,null,null,null,null,null,null,null,null,null,null,null,null,null,null,null,null,null,null,null,null,null,null,null,null,null,null,null,null,null,null,null,null,null,null,null,null,null,null,null,null,null,null,null,null,null,null,null,null,null,null,null,null,null,null,null,null,null,null,null,null,null,null,null,null,null,null,null,null,null,null,null,null,null,null,null,null,null,null,null,null,null,null,null,null,null,null,null,null,null,null,null,null,null,null,null,null,null,null,null,null,null,null,null,null,null,null,null,null,null,null,null,null,null,null,null,null,null,null,null,null,null,null,null,null,null,null,null,null,null,null,null,null,null,null,null,null,null,null,null,null,null,null,null,null,null,null,null,null,null,null,null,null,null,null,null,null,null,null,null,null,null,null,null,null,null,null,null,null,null,null,null,null,null,null,null,null,null,null,null,null,null,null,null,null,null,null,null,null,null,null,null,null,null,null,null,null,null,null,null,null,null,null,null,null,null,null,null,null,null,null,null,null,null,null,null,null,null,null,null,null,null,null,null,null,null,null,null,null,null,null,null,null,null,null,null,null,null,null,null,null,null,null,null,null,null,null,null,null,null,null,null,null,null,null,null,null,null,null,null,null,null,null,null,null,null,null,null,null,null,null,null,null,null,null,null,null,null,null,null,null,null,"The International Finance Corporation",0,null,null,{"$f":"#REF!","v":{"$error":"#REF!"}},null,"unrated with maturity less than 3"]
[null,null,null,null,null,null,null,null,null,null,null,null,null,null,null,null,null,null,null,null,null,null,null,null,null,null,null,null,null,null,0,0,null,null,null,null,"Switzerland",null,null,null,null,null,null,null,null,null,null,null,null,null,null,null,null,null,null,null,null,null,null,null,null,null,null,null,null,null,null,null,null,null,null,null,null,null,null,null,null,null,null,null,null,null,null,null,null,null,null,null,null,null,null,null,null,null,null,null,null,null,null,null,null,null,null,null,null,null,null,null,null,null,null,null,null,null,null,null,null,null,null,null,null,null,null,null,null,null,null,null,null,null,null,null,null,null,null,null,null,null,null,null,null,null,null,null,null,null,null,null,null,null,null,null,null,null,null,null,null,null,null,null,null,null,null,null,null,null,null,null,null,null,null,null,null,null,null,null,null,null,null,null,null,null,null,null,null,null,null,null,null,null,null,null,null,null,null,null,null,null,null,null,null,null,null,null,null,null,null,null,null,null,null,null,null,null,null,null,null,null,null,null,null,null,null,null,null,null,null,null,null,null,null,null,null,null,null,null,null,null,null,null,null,null,null,null,null,null,null,null,null,null,null,null,null,null,null,null,null,null,null,null,null,null,null,null,null,null,null,null,null,null,null,null,null,null,null,null,null,null,null,null,null,null,null,null,null,null,null,null,null,null,null,null,null,null,null,null,null,null,null,null,null,null,null,null,null,null,null,null,null,null,null,null,null,null,null,null,null,null,null,null,null,null,null,null,null,null,null,null,null,null,null,null,null,null,null,null,null,null,null,null,null,null,null,null,null,null,null,null,null,null,null,null,null,null,null,null,null,null,null,null,null,null,null,null,null,null,null,null,null,null,null,null,null,null,null,null,null,null,null,null,null,null,null,null,null,null,null,null,null,null,null,null,null,null,null,null,null,null,null,null,null,null,null,null,null,null,null,null,null,null,null,null,null,null,null,null,null,null,null,null,null,null,null,null,null,null,null,null,null,null,null,null,null,null,null,null,null,null,null,null,null,null,null,null,null,null,null,null,null,null,null,null,null,null,null,null,null,null,null,null,null,null,null,null,null,null,null,null,null,null,null,null,null,null,null,null,null,null,null,null,null,null,null,null,null,null,null,null,null,null,null,null,null,null,null,null,null,null,null,null,null,null,null,null,null,null,null,null,null,null,null,null,null,null,null,"The Inter-American Development Bank",0,null,null,1,{"$f":"SUMIF('Input Sheet'!K173:K180,'Input Sheet'!SZ125,'Input Sheet'!D173:D180)","v":0},{"$f":"IF(AND(H173=\"no\",I173<=3,J173=\"unrated\",K173=\"unrated\"),D173,\"0\")","v":"0"}]
[null,null,null,null,null,null,null,null,null,null,null,null,null,null,null,null,null,null,null,null,null,null,null,null,null,null,null,null,null,null,0,0,null,null,null,null,"Turkey",null,null,null,null,null,null,null,null,null,null,null,null,null,null,null,null,null,null,null,null,null,null,null,null,null,null,null,null,null,null,null,null,null,null,null,null,null,null,null,null,null,null,null,null,null,null,null,null,null,null,null,null,null,null,null,null,null,null,null,null,null,null,null,null,null,null,null,null,null,null,null,null,null,null,null,null,null,null,null,null,null,null,null,null,null,null,null,null,null,null,null,null,null,null,null,null,null,null,null,null,null,null,null,null,null,null,null,null,null,null,null,null,null,null,null,null,null,null,null,null,null,null,null,null,null,null,null,null,null,null,null,null,null,null,null,null,null,null,null,null,null,null,null,null,null,null,null,null,null,null,null,null,null,null,null,null,null,null,null,null,null,null,null,null,null,null,null,null,null,null,null,null,null,null,null,null,null,null,null,null,null,null,null,null,null,null,null,null,null,null,null,null,null,null,null,null,null,null,null,null,null,null,null,null,null,null,null,null,null,null,null,null,null,null,null,null,null,null,null,null,null,null,null,null,null,null,null,null,null,null,null,null,null,null,null,null,null,null,null,null,null,null,null,null,null,null,null,null,null,null,null,null,null,null,null,null,null,null,null,null,null,null,null,null,null,null,null,null,null,null,null,null,null,null,null,null,null,null,null,null,null,null,null,null,null,null,null,null,null,null,null,null,null,null,null,null,null,null,null,null,null,null,null,null,null,null,null,null,null,null,null,null,null,null,null,null,null,null,null,null,null,null,null,null,null,null,null,null,null,null,null,null,null,null,null,null,null,null,null,null,null,null,null,null,null,null,null,null,null,null,null,null,null,null,null,null,null,null,null,null,null,null,null,null,null,null,null,null,null,null,null,null,null,null,null,null,null,null,null,null,null,null,null,null,null,null,null,null,null,null,null,null,null,null,null,null,null,null,null,null,null,null,null,null,null,null,null,null,null,null,null,null,null,null,null,null,null,null,null,null,null,null,null,null,null,null,null,null,null,null,null,null,null,null,null,null,null,null,null,null,null,null,null,null,null,null,null,null,null,null,null,null,null,null,null,null,null,null,null,null,null,null,null,null,null,null,null,null,null,null,null,null,null,null,null,null,null,null,"The Asian Development Bank",0,null,null,2,{"$f":"SUMIF('Input Sheet'!K173:K180,'Input Sheet'!SZ126,'Input Sheet'!D173:D180)","v":0},{"$f":"IF(AND(H174=\"no\",I174<=3,J174=\"unrated\",K174=\"unrated\"),D174,\"0\")","v":"0"}]
[null,null,null,null,null,null,null,null,null,null,null,null,null,null,null,null,null,null,null,null,null,null,null,null,null,null,null,null,null,null,0,0,null,null,null,null,"Ukraine",null,null,null,null,null,null,null,null,null,null,null,null,null,null,null,null,null,null,null,null,null,null,null,null,null,null,null,null,null,null,null,null,null,null,null,null,null,null,null,null,null,null,null,null,null,null,null,null,null,null,null,null,null,null,null,null,null,null,null,null,null,null,null,null,null,null,null,null,null,null,null,null,null,null,null,null,null,null,null,null,null,null,null,null,null,null,null,null,null,null,null,null,null,null,null,null,null,null,null,null,null,null,null,null,null,null,null,null,null,null,null,null,null,null,null,null,null,null,null,null,null,null,null,null,null,null,null,null,null,null,null,null,null,null,null,null,null,null,null,null,null,null,null,null,null,null,null,null,null,null,null,null,null,null,null,null,null,null,null,null,null,null,null,null,null,null,null,null,null,null,null,null,null,null,null,null,null,null,null,null,null,null,null,null,null,null,null,null,null,null,null,null,null,null,null,null,null,null,null,null,null,null,null,null,null,null,null,null,null,null,null,null,null,null,null,null,null,null,null,null,null,null,null,null,null,null,null,null,null,null,null,null,null,null,null,null,null,null,null,null,null,null,null,null,null,null,null,null,null,null,null,null,null,null,null,null,null,null,null,null,null,null,null,null,null,null,null,null,null,null,null,null,null,null,null,null,null,null,null,null,null,null,null,null,null,null,null,null,null,null,null,null,null,null,null,null,null,null,null,null,null,null,null,null,null,null,null,null,null,null,null,null,null,null,null,null,null,null,null,null,null,null,null,null,null,null,null,null,null,null,null,null,null,null,null,null,null,null,null,null,null,null,null,null,null,null,null,null,null,null,null,null,null,null,null,null,null,null,null,null,null,null,null,null,null,null,null,null,null,null,null,null,null,null,null,null,null,null,null,null,null,null,null,null,null,null,null,null,null,null,null,null,null,null,null,null,null,null,null,null,null,null,null,null,null,null,null,null,null,null,null,null,null,null,null,null,null,null,null,null,null,null,null,null,null,null,null,null,null,null,null,null,null,null,null,null,null,null,null,null,null,null,null,null,null,null,null,null,null,null,null,null,null,null,null,null,null,null,null,null,null,null,null,null,null,null,null,null,null,null,null,null,null,null,null,null,null,null,"The African Development Bank",0,null,null,3,{"$f":"SUMIF('Input Sheet'!K173:K180,'Input Sheet'!SZ127,'Input Sheet'!D173:D180)","v":0},"0"]
[null,null,null,null,null,null,null,null,null,null,null,null,null,null,null,null,null,null,null,null,null,null,null,null,null,null,null,null,null,null,0,0,null,null,null,null,"United Kingdom",null,null,null,null,null,null,null,null,null,null,null,null,null,null,null,null,null,null,null,null,null,null,null,null,null,null,null,null,null,null,null,null,null,null,null,null,null,null,null,null,null,null,null,null,null,null,null,null,null,null,null,null,null,null,null,null,null,null,null,null,null,null,null,null,null,null,null,null,null,null,null,null,null,null,null,null,null,null,null,null,null,null,null,null,null,null,null,null,null,null,null,null,null,null,null,null,null,null,null,null,null,null,null,null,null,null,null,null,null,null,null,null,null,null,null,null,null,null,null,null,null,null,null,null,null,null,null,null,null,null,null,null,null,null,null,null,null,null,null,null,null,null,null,null,null,null,null,null,null,null,null,null,null,null,null,null,null,null,null,null,null,null,null,null,null,null,null,null,null,null,null,null,null,null,null,null,null,null,null,null,null,null,null,null,null,null,null,null,null,null,null,null,null,null,null,null,null,null,null,null,null,null,null,null,null,null,null,null,null,null,null,null,null,null,null,null,null,null,null,null,null,null,null,null,null,null,null,null,null,null,null,null,null,null,null,null,null,null,null,null,null,null,null,null,null,null,null,null,null,null,null,null,null,null,null,null,null,null,null,null,null,null,null,null,null,null,null,null,null,null,null,null,null,null,null,null,null,null,null,null,null,null,null,null,null,null,null,null,null,null,null,null,null,null,null,null,null,null,null,null,null,null,null,null,null,null,null,null,null,null,null,null,null,null,null,null,null,null,null,null,null,null,null,null,null,null,null,null,null,null,null,null,null,null,null,null,null,null,null,null,null,null,null,null,null,null,null,null,null,null,null,null,null,null,null,null,null,null,null,null,null,null,null,null,null,null,null,null,null,null,null,null,null,null,null,null,null,null,null,null,null,null,null,null,null,null,null,null,null,null,null,null,null,null,null,null,null,null,null,null,null,null,null,null,null,null,null,null,null,null,null,null,null,null,null,null,null,null,null,null,null,null,null,null,null,null,null,null,null,null,null,null,null,null,null,null,null,null,null,null,null,null,null,null,null,null,null,null,null,null,null,null,null,null,null,null,null,null,null,null,null,null,null,null,null,null,null,null,null,null,null,null,null,null,null,null,null,null,"The Council of Europe Development Bank",0,null,null,4,{"$f":"SUMIF('Input Sheet'!K173:K180,'Input Sheet'!SZ128,'Input Sheet'!D173:D180)","v":0},"0"]
[null,null,null,null,null,null,null,null,null,null,null,null,null,null,null,null,null,null,null,null,null,null,null,null,null,null,null,null,null,null,0,0,null,null,null,null,"USA",null,null,null,null,null,null,null,null,null,null,null,null,null,null,null,null,null,null,null,null,null,null,null,null,null,null,null,null,null,null,null,null,null,null,null,null,null,null,null,null,null,null,null,null,null,null,null,null,null,null,null,null,null,null,null,null,null,null,null,null,null,null,null,null,null,null,null,null,null,null,null,null,null,null,null,null,null,null,null,null,null,null,null,null,null,null,null,null,null,null,null,null,null,null,null,null,null,null,null,null,null,null,null,null,null,null,null,null,null,null,null,null,null,null,null,null,null,null,null,null,null,null,null,null,null,null,null,null,null,null,null,null,null,null,null,null,null,null,null,null,null,null,null,null,null,null,null,null,null,null,null,null,null,null,null,null,null,null,null,null,null,null,null,null,null,null,null,null,null,null,null,null,null,null,null,null,null,null,null,null,null,null,null,null,null,null,null,null,null,null,null,null,null,null,null,null,null,null,null,null,null,null,null,null,null,null,null,null,null,null,null,null,null,null,null,null,null,null,null,null,null,null,null,null,null,null,null,null,null,null,null,null,null,null,null,null,null,null,null,null,null,null,null,null,null,null,null,null,null,null,null,null,null,null,null,null,null,null,null,null,null,null,null,null,null,null,null,null,null,null,null,null,null,null,null,null,null,null,null,null,null,null,null,null,null,null,null,null,null,null,null,null,null,null,null,null,null,null,null,null,null,null,null,null,null,null,null,null,null,null,null,null,null,null,null,null,null,null,null,null,null,null,null,null,null,null,null,null,null,null,null,null,null,null,null,null,null,null,null,null,null,null,null,null,null,null,null,null,null,null,null,null,null,null,null,null,null,null,null,null,null,null,null,null,null,null,null,null,null,null,null,null,null,null,null,null,null,null,null,null,null,null,null,null,null,null,null,null,null,null,null,null,null,null,null,null,null,null,null,null,null,null,null,null,null,null,null,null,null,null,null,null,null,null,null,null,null,null,null,null,null,null,null,null,null,null,null,null,null,null,null,null,null,null,null,null,null,null,null,null,null,null,null,null,null,null,null,null,null,null,null,null,null,null,null,null,null,null,null,null,null,null,null,null,null,null,null,null,null,null,null,null,null,null,null,null,null,null,"The Nordic Investment Bank",0,null,null,5,{"$f":"SUMIF('Input Sheet'!K173:K180,'Input Sheet'!SZ129,'Input Sheet'!D173:D180)","v":0},"0"]
[null,null,null,null,null,null,null,null,null,null,null,null,null,null,null,null,null,null,null,null,null,null,null,null,null,null,null,null,null,null,0,0,null,null,null,null,"Other",null,null,null,null,null,null,null,null,null,null,null,null,null,null,null,null,null,null,null,null,null,null,null,null,null,null,null,null,null,null,null,null,null,null,null,null,null,null,null,null,null,null,null,null,null,null,null,null,null,null,null,null,null,null,null,null,null,null,null,null,null,null,null,null,null,null,null,null,null,null,null,null,null,null,null,null,null,null,null,null,null,null,null,null,null,null,null,null,null,null,null,null,null,null,null,null,null,null,null,null,null,null,null,null,null,null,null,null,null,null,null,null,null,null,null,null,null,null,null,null,null,null,null,null,null,null,null,null,null,null,null,null,null,null,null,null,null,null,null,null,null,null,null,null,null,null,null,null,null,null,null,null,null,null,null,null,null,null,null,null,null,null,null,null,null,null,null,null,null,null,null,null,null,null,null,null,null,null,null,null,null,null,null,null,null,null,null,null,null,null,null,null,null,null,null,null,null,null,null,null,null,null,null,null,null,null,null,null,null,null,null,null,null,null,null,null,null,null,null,null,null,null,null,null,null,null,null,null,null,null,null,null,null,null,null,null,null,null,null,null,null,null,null,null,null,null,null,null,null,null,null,null,null,null,null,null,null,null,null,null,null,null,null,null,null,null,null,null,null,null,null,null,null,null,null,null,null,null,null,null,null,null,null,null,null,null,null,null,null,null,null,null,null,null,null,null,null,null,null,null,null,null,null,null,null,null,null,null,null,null,null,null,null,null,null,null,null,null,null,null,null,null,null,null,null,null,null,null,null,null,null,null,null,null,null,null,null,null,null,null,null,null,null,null,null,null,null,null,null,null,null,null,null,null,null,null,null,null,null,null,null,null,null,null,null,null,null,null,null,null,null,null,null,null,null,null,null,null,null,null,null,null,null,null,null,null,null,null,null,null,null,null,null,null,null,null,null,null,null,null,null,null,null,null,null,null,null,null,null,null,null,null,null,null,null,null,null,null,null,null,null,null,null,null,null,null,null,null,null,null,null,null,null,null,null,null,null,null,null,null,null,null,null,null,null,null,null,null,null,null,null,null,null,null,null,null,null,null,null,null,null,null,null,null,null,null,null,null,null,null,null,null,null,null,null,null,null,null,"The Caribbean Development Bank",0,null,null,6,{"$f":"SUMIF('Input Sheet'!K173:K180,'Input Sheet'!SZ130,'Input Sheet'!D173:D180)","v":0},"0"]
[null,null,null,null,null,null,null,null,null,null,null,null,null,null,null,null,null,null,null,null,null,null,null,null,null,null,null,null,null,null,0,0,null,null,null,null,null,null,null,null,null,null,null,null,null,null,null,null,null,null,null,null,null,null,null,null,null,null,null,null,null,null,null,null,null,null,null,null,null,null,null,null,null,null,null,null,null,null,null,null,null,null,null,null,null,null,null,null,null,null,null,null,null,null,null,null,null,null,null,null,null,null,null,null,null,null,null,null,null,null,null,null,null,null,null,null,null,null,null,null,null,null,null,null,null,null,null,null,null,null,null,null,null,null,null,null,null,null,null,null,null,null,null,null,null,null,null,null,null,null,null,null,null,null,null,null,null,null,null,null,null,null,null,null,null,null,null,null,null,null,null,null,null,null,null,null,null,null,null,null,null,null,null,null,null,null,null,null,null,null,null,null,null,null,null,null,null,null,null,null,null,null,null,null,null,null,null,null,null,null,null,null,null,null,null,null,null,null,null,null,null,null,null,null,null,null,null,null,null,null,null,null,null,null,null,null,null,null,null,null,null,null,null,null,null,null,null,null,null,null,null,null,null,null,null,null,null,null,null,null,null,null,null,null,null,null,null,null,null,null,null,null,null,null,null,null,null,null,null,null,null,null,null,null,null,null,null,null,null,null,null,null,null,null,null,null,null,null,null,null,null,null,null,null,null,null,null,null,null,null,null,null,null,null,null,null,null,null,null,null,null,null,null,null,null,null,null,null,null,null,null,null,null,null,null,null,null,null,null,null,null,null,null,null,null,null,null,null,null,null,null,null,null,null,null,null,null,null,null,null,null,null,null,null,null,null,null,null,null,null,null,null,null,null,null,null,null,null,null,null,null,null,null,null,null,null,null,null,null,null,null,null,null,null,null,null,null,null,null,null,null,null,null,null,null,null,null,null,null,null,null,null,null,null,null,null,null,null,null,null,null,null,null,null,null,null,null,null,null,null,null,null,null,null,null,null,null,null,null,null,null,null,null,null,null,null,null,null,null,null,null,null,null,null,null,null,null,null,null,null,null,null,null,null,null,null,null,null,null,null,null,null,null,null,null,null,null,null,null,null,null,null,null,null,null,null,null,null,null,null,null,null,null,null,null,null,null,null,null,null,null,null,null,null,null,null,null,null,null,null,null,null,null,null,null,"The European Bank for Reconstruction and Development",0,null,null,"unrated",{"$f":"SUMIF('Input Sheet'!K173:K180,'Input Sheet'!SZ131,'Input Sheet'!D173:D180)-TC132","v":0},"0"]
[null,null,null,null,null,null,null,null,null,null,null,null,null,null,null,null,null,null,null,null,null,null,null,null,null,null,null,null,null,null,0,0,null,null,null,null,null,null,null,null,null,null,null,null,null,null,null,null,null,null,null,null,null,null,null,null,null,null,null,null,null,null,null,null,null,null,null,null,null,null,null,null,null,null,null,null,null,null,null,null,null,null,null,null,null,null,null,null,null,null,null,null,null,null,null,null,null,null,null,null,null,null,null,null,null,null,null,null,null,null,null,null,null,null,null,null,null,null,null,null,null,null,null,null,null,null,null,null,null,null,null,null,null,null,null,null,null,null,null,null,null,null,null,null,null,null,null,null,null,null,null,null,null,null,null,null,null,null,null,null,null,null,null,null,null,null,null,null,null,null,null,null,null,null,null,null,null,null,null,null,null,null,null,null,null,null,null,null,null,null,null,null,null,null,null,null,null,null,null,null,null,null,null,null,null,null,null,null,null,null,null,null,null,null,null,null,null,null,null,null,null,null,null,null,null,null,null,null,null,null,null,null,null,null,null,null,null,null,null,null,null,null,null,null,null,null,null,null,null,null,null,null,null,null,null,null,null,null,null,null,null,null,null,null,null,null,null,null,null,null,null,null,null,null,null,null,null,null,null,null,null,null,null,null,null,null,null,null,null,null,null,null,null,null,null,null,null,null,null,null,null,null,null,null,null,null,null,null,null,null,null,null,null,null,null,null,null,null,null,null,null,null,null,null,null,null,null,null,null,null,null,null,null,null,null,null,null,null,null,null,null,null,null,null,null,null,null,null,null,null,null,null,null,null,null,null,null,null,null,null,null,null,null,null,null,null,null,null,null,null,null,null,null,null,null,null,null,null,null,null,null,null,null,null,null,null,null,null,null,null,null,null,null,null,null,null,null,null,null,null,null,null,null,null,null,null,null,null,null,null,null,null,null,null,null,null,null,null,null,null,null,null,null,null,null,null,null,null,null,null,null,null,null,null,null,null,null,null,null,null,null,null,null,null,null,null,null,null,null,null,null,null,null,null,null,null,null,null,null,null,null,null,null,null,null,null,null,null,null,null,null,null,null,null,null,null,null,null,null,null,null,null,null,null,null,null,null,null,null,null,null,null,null,null,null,null,null,null,null,null,null,null,null,null,null,null,null,null,null,null,null,null,null,null,null,"The European Investment Bank",0,null,null,"unr and <3",{"$f":"TC132","v":0},"0",{"$f":"SUM(TB125:TB132)","v":0}]
[null,null,null,null,null,null,null,null,null,null,null,null,null,null,null,null,null,null,null,null,null,null,null,null,null,null,null,null,null,null,0,0,null,null,null,null,null,null,null,null,null,null,null,null,null,null,null,null,null,null,null,null,null,null,null,null,null,null,null,null,null,null,null,null,null,null,null,null,null,null,null,null,null,null,null,null,null,null,null,null,null,null,null,null,null,null,null,null,null,null,null,null,null,null,null,null,null,null,null,null,null,null,null,null,null,null,null,null,null,null,null,null,null,null,null,null,null,null,null,null,null,null,null,null,null,null,null,null,null,null,null,null,null,null,null,null,null,null,null,null,null,null,null,null,null,null,null,null,null,null,null,null,null,null,null,null,null,null,null,null,null,null,null,null,null,null,null,null,null,null,null,null,null,null,null,null,null,null,null,null,null,null,null,null,null,null,null,null,null,null,null,null,null,null,null,null,null,null,null,null,null,null,null,null,null,null,null,null,null,null,null,null,null,null,null,null,null,null,null,null,null,null,null,null,null,null,null,null,null,null,null,null,null,null,null,null,null,null,null,null,null,null,null,null,null,null,null,null,null,null,null,null,null,null,null,null,null,null,null,null,null,null,null,null,null,null,null,null,null,null,null,null,null,null,null,null,null,null,null,null,null,null,null,null,null,null,null,null,null,null,null,null,null,null,null,null,null,null,null,null,null,null,null,null,null,null,null,null,null,null,null,null,null,null,null,null,null,null,null,null,null,null,null,null,null,null,null,null,null,null,null,null,null,null,null,null,null,null,null,null,null,null,null,null,null,null,null,null,null,null,null,null,null,null,null,null,null,null,null,null,null,null,null,null,null,null,null,null,null,null,null,null,null,null,null,null,null,null,null,null,null,null,null,null,null,null,null,null,null,null,null,null,null,null,null,null,null,null,null,null,null,null,null,null,null,null,null,null,null,null,null,null,null,null,null,null,null,null,null,null,null,null,null,null,null,null,null,null,null,null,null,null,null,null,null,null,null,null,null,null,null,null,null,null,null,null,null,null,null,null,null,null,null,null,null,null,null,null,null,null,null,null,null,null,null,null,null,null,null,null,null,null,null,null,null,null,null,null,null,null,null,null,null,null,null,null,null,null,null,null,null,null,null,null,null,null,null,null,null,null,null,null,null,null,null,null,null,null,null,null,null,null,null,null,null,"The European Investment Fund",0]
[null,null,null,null,null,null,null,null,null,null,null,null,null,null,null,null,null,null,null,null,null,null,null,null,null,null,null,null,null,null,0,0,null,null,null,null,null,null,null,null,null,null,null,null,null,null,null,null,null,null,null,null,null,null,null,null,null,null,null,null,null,null,null,null,null,null,null,null,null,null,null,null,null,null,null,null,null,null,null,null,null,null,null,null,null,null,null,null,null,null,null,null,null,null,null,null,null,null,null,null,null,null,null,null,null,null,null,null,null,null,null,null,null,null,null,null,null,null,null,null,null,null,null,null,null,null,null,null,null,null,null,null,null,null,null,null,null,null,null,null,null,null,null,null,null,null,null,null,null,null,null,null,null,null,null,null,null,null,null,null,null,null,null,null,null,null,null,null,null,null,null,null,null,null,null,null,null,null,null,null,null,null,null,null,null,null,null,null,null,null,null,null,null,null,null,null,null,null,null,null,null,null,null,null,null,null,null,null,null,null,null,null,null,null,null,null,null,null,null,null,null,null,null,null,null,null,null,null,null,null,null,null,null,null,null,null,null,null,null,null,null,null,null,null,null,null,null,null,null,null,null,null,null,null,null,null,null,null,null,null,null,null,null,null,null,null,null,null,null,null,null,null,null,null,null,null,null,null,null,null,null,null,null,null,null,null,null,null,null,null,null,null,null,null,null,null,null,null,null,null,null,null,null,null,null,null,null,null,null,null,null,null,null,null,null,null,null,null,null,null,null,null,null,null,null,null,null,null,null,null,null,null,null,null,null,null,null,null,null,null,null,null,null,null,null,null,null,null,null,null,null,null,null,null,null,null,null,null,null,null,null,null,null,null,null,null,null,null,null,null,null,null,null,null,null,null,null,null,null,null,null,null,null,null,null,null,null,null,null,null,null,null,null,null,null,null,null,null,null,null,null,null,null,null,null,null,null,null,null,null,null,null,null,null,null,null,null,null,null,null,null,null,null,null,null,null,null,null,null,null,null,null,null,null,null,null,null,null,null,null,null,null,null,null,null,null,null,null,null,null,null,null,null,null,null,null,null,null,null,null,null,null,null,null,null,null,null,null,null,null,null,null,null,null,null,null,null,null,null,null,null,null,null,null,null,null,null,null,null,null,null,null,null,null,null,null,null,null,null,null,null,null,null,null,null,null,null,null,null,null,null,null,null,null,null,"The Multilateral Investment Guarantee Agency",0]
[null,null,null,null,null,null,null,null,null,null,null,null,null,null,null,null,null,null,null,null,null,null,null,null,null,null,null,null,null,null,0,0,null,null,null,null,null,null,null,null,null,null,null,null,null,null,null,null,null,null,null,null,null,null,null,null,null,null,null,null,null,null,null,null,null,null,null,null,null,null,null,null,null,null,null,null,null,null,null,null,null,null,null,null,null,null,null,null,null,null,null,null,null,null,null,null,null,null,null,null,null,null,null,null,null,null,null,null,null,null,null,null,null,null,null,null,null,null,null,null,null,null,null,null,null,null,null,null,null,null,null,null,null,null,null,null,null,null,null,null,null,null,null,null,null,null,null,null,null,null,null,null,null,null,null,null,null,null,null,null,null,null,null,null,null,null,null,null,null,null,null,null,null,null,null,null,null,null,null,null,null,null,null,null,null,null,null,null,null,null,null,null,null,null,null,null,null,null,null,null,null,null,null,null,null,null,null,null,null,null,null,null,null,null,null,null,null,null,null,null,null,null,null,null,null,null,null,null,null,null,null,null,null,null,null,null,null,null,null,null,null,null,null,null,null,null,null,null,null,null,null,null,null,null,null,null,null,null,null,null,null,null,null,null,null,null,null,null,null,null,null,null,null,null,null,null,null,null,null,null,null,null,null,null,null,null,null,null,null,null,null,null,null,null,null,null,null,null,null,null,null,null,null,null,null,null,null,null,null,null,null,null,null,null,null,null,null,null,null,null,null,null,null,null,null,null,null,null,null,null,null,null,null,null,null,null,null,null,null,null,null,null,null,null,null,null,null,null,null,null,null,null,null,null,null,null,null,null,null,null,null,null,null,null,null,null,null,null,null,null,null,null,null,null,null,null,null,null,null,null,null,null,null,null,null,null,null,null,null,null,null,null,null,null,null,null,null,null,null,null,null,null,null,null,null,null,null,null,null,null,null,null,null,null,null,null,null,null,null,null,null,null,null,null,null,null,null,null,null,null,null,null,null,null,null,null,null,null,null,null,null,null,null,null,null,null,null,null,null,null,null,null,null,null,null,null,null,null,null,null,null,null,null,null,null,null,null,null,null,null,null,null,null,null,null,null,null,null,null,null,null,null,null,null,null,null,null,null,null,null,null,null,null,null,null,null,null,null,null,null,null,null,null,null,null,null,null,null,null,null,null,null,null,null,null,"The International Finance Facility for Immunisation",0]
[null,null,null,null,null,null,null,null,null,null,null,null,null,null,null,null,null,null,null,null,null,null,null,null,null,null,null,null,null,null,0,0,null,null,null,null,null,null,null,null,null,null,null,null,null,null,null,null,null,null,null,null,null,null,null,null,null,null,null,null,null,null,null,null,null,null,null,null,null,null,null,null,null,null,null,null,null,null,null,null,null,null,null,null,null,null,null,null,null,null,null,null,null,null,null,null,null,null,null,null,null,null,null,null,null,null,null,null,null,null,null,null,null,null,null,null,null,null,null,null,null,null,null,null,null,null,null,null,null,null,null,null,null,null,null,null,null,null,null,null,null,null,null,null,null,null,null,null,null,null,null,null,null,null,null,null,null,null,null,null,null,null,null,null,null,null,null,null,null,null,null,null,null,null,null,null,null,null,null,null,null,null,null,null,null,null,null,null,null,null,null,null,null,null,null,null,null,null,null,null,null,null,null,null,null,null,null,null,null,null,null,null,null,null,null,null,null,null,null,null,null,null,null,null,null,null,null,null,null,null,null,null,null,null,null,null,null,null,null,null,null,null,null,null,null,null,null,null,null,null,null,null,null,null,null,null,null,null,null,null,null,null,null,null,null,null,null,null,null,null,null,null,null,null,null,null,null,null,null,null,null,null,null,null,null,null,null,null,null,null,null,null,null,null,null,null,null,null,null,null,null,null,null,null,null,null,null,null,null,null,null,null,null,null,null,null,null,null,null,null,null,null,null,null,null,null,null,null,null,null,null,null,null,null,null,null,null,null,null,null,null,null,null,null,null,null,null,null,null,null,null,null,null,null,null,null,null,null,null,null,null,null,null,null,null,null,null,null,null,null,null,null,null,null,null,null,null,null,null,null,null,null,null,null,null,null,null,null,null,null,null,null,null,null,null,null,null,null,null,null,null,null,null,null,null,null,null,null,null,null,null,null,null,null,null,null,null,null,null,null,null,null,null,null,null,null,null,null,null,null,null,null,null,null,null,null,null,null,null,null,null,null,null,null,null,null,null,null,null,null,null,null,null,null,null,null,null,null,null,null,null,null,null,null,null,null,null,null,null,null,null,null,null,null,null,null,null,null,null,null,null,null,null,null,null,null,null,null,null,null,null,null,null,null,null,null,null,null,null,null,null,null,null,null,null,null,null,null,null,null,null,null,null,null,null,"The Islamic Development Bank",0]
[null,null,null,null,null,null,null,null,null,null,null,null,null,null,null,null,null,null,null,null,null,null,null,null,null,null,null,null,null,null,0,0,null,null,null,null,null,null,null,null,null,null,null,null,null,null,null,null,null,null,null,null,null,null,null,null,null,null,null,null,null,null,null,null,null,null,null,null,null,null,null,null,null,null,null,null,null,null,null,null,null,null,null,null,null,null,null,null,null,null,null,null,null,null,null,null,null,null,null,null,null,null,null,null,null,null,null,null,null,null,null,null,null,null,null,null,null,null,null,null,null,null,null,null,null,null,null,null,null,null,null,null,null,null,null,null,null,null,null,null,null,null,null,null,null,null,null,null,null,null,null,null,null,null,null,null,null,null,null,null,null,null,null,null,null,null,null,null,null,null,null,null,null,null,null,null,null,null,null,null,null,null,null,null,null,null,null,null,null,null,null,null,null,null,null,null,null,null,null,null,null,null,null,null,null,null,null,null,null,null,null,null,null,null,null,null,null,null,null,null,null,null,null,null,null,null,null,null,null,null,null,null,null,null,null,null,null,null,null,null,null,null,null,null,null,null,null,null,null,null,null,null,null,null,null,null,null,null,null,null,null,null,null,null,null,null,null,null,null,null,null,null,null,null,null,null,null,null,null,null,null,null,null,null,null,null,null,null,null,null,null,null,null,null,null,null,null,null,null,null,null,null,null,null,null,null,null,null,null,null,null,null,null,null,null,null,null,null,null,null,null,null,null,null,null,null,null,null,null,null,null,null,null,null,null,null,null,null,null,null,null,null,null,null,null,null,null,null,null,null,null,null,null,null,null,null,null,null,null,null,null,null,null,null,null,null,null,null,null,null,null,null,null,null,null,null,null,null,null,null,null,null,null,null,null,null,null,null,null,null,null,null,null,null,null,null,null,null,null,null,null,null,null,null,null,null,null,null,null,null,null,null,null,null,null,null,null,null,null,null,null,null,null,null,null,null,null,null,null,null,null,null,null,null,null,null,null,null,null,null,null,null,null,null,null,null,null,null,null,null,null,null,null,null,null,null,null,null,null,null,null,null,null,null,null,null,null,null,null,null,null,null,null,null,null,null,null,null,null,null,null,null,null,null,null,null,null,null,null,null,null,null,null,null,null,null,null,null,null,null,null,null,null,null,null,null,null,null,null,null,null,null,null,null,null,"Other","N/A"]
[null,null,null,null,null,null,null,null,null,null,null,null,null,null,null,null,null,null,null,null,null,null,null,null,null,null,null,null,null,null,0,0]
[null,null,null,null,null,null,null,null,null,null,null,null,null,null,null,null,null,null,null,null,null,null,null,null,null,null,null,null,null,null,0,0]
[null,null,null,null,null,null,null,null,null,null,null,null,null,null,null,null,null,null,null,null,null,null,null,null,null,null,null,null,null,null,0,0]
[null,null,null,null,null,null,null,null,null,null,null,null,null,null,null,null,null,null,null,null,null,null,null,null,null,null,null,null,null,null,0,0]
[null,null,null,null,null,null,null,null,null,null,null,null,null,null,null,null,null,null,null,null,null,null,null,null,null,null,null,null,null,null,0,0]
[null,null,null,null,null,null,null,null,null,null,null,null,null,null,null,null,null,null,null,null,null,null,null,null,null,null,null,null,null,null,0,0]
[null,null,null,null,null,null,null,null,null,null,null,null,null,null,null,null,null,null,null,null,null,null,null,null,null,null,null,null,null,null,0,0]
[null,null,null,null,null,null,null,null,null,null,null,null,null,null,null,null,null,null,null,null,null,null,null,null,null,null,null,null,null,null,0,0]
[null,null,null,null,null,null,null,null,null,null,null,null,null,null,null,null,null,null,null,null,null,null,null,null,null,null,null,null,null,null,0,0]
[null,null,null,null,null,null,null,null,null,null,null,null,null,null,null,null,null,null,null,null,null,null,null,null,null,null,null,null,null,null,0,0]
[null,null,null,null,null,null,null,null,null,null,null,null,null,null,null,null,null,null,null,null,null,null,null,null,null,null,null,null,null,null,0,0]
[null,null,null,null,null,null,null,null,null,null,null,null,null,null,null,null,null,null,null,null,null,null,null,null,null,null,null,null,null,null,0,0]
[null,null,null,null,null,null,null,null,null,null,null,null,null,null,null,null,null,null,null,null,null,null,null,null,null,null,null,null,null,null,0,0]
[null,null,null,null,null,null,null,null,null,null,null,null,null,null,null,null,null,null,null,null,null,null,null,null,null,null,null,null,null,null,0,0]
[null,null,null,null,null,null,null,null,null,null,null,null,null,null,null,null,null,null,null,null,null,null,null,null,null,null,null,null,null,null,0,0]
[null,null,null,null,null,null,null,null,null,null,null,null,null,null,null,null,null,null,null,null,null,null,null,null,null,null,null,null,null,null,0,0]
[null,"ii) Exposures to Regional Governments or Local Authorities ",null,null,null,null,null,null,null,null,null,null,null,null,{"$f":"IF(G222<0,G222,0)","v":0},null,null,null,null,null,null,null,null,null,null,null,null,null,null,null,0,0]
[null,"Treated as Central Government",null,null,null,null,null,null,null,null,null,null,null,null,0,null,null,null,null,null,null,null,null,null,null,null,null,null,null,null,0,0]
[null,null,null,null,null,null,null,null,null,null,null,null,null,null,0,null,null,null,null,null,null,null,null,null,null,null,null,null,null,null,0,0]
[null,null,null,null,null,null,null,null,null,null,null,null,null,null,0,null,null,null,null,null,null,null,null,null,null,null,null,null,null,null,{"$f":"IF(D157>0,D157,0)","v":0},{"$f":"IF(D157<0,D157,0)","v":0}]
[null,null,null,null,null,null,null,null,null,null,null,null,null,null,0,null,null,null,null,null,null,null,null,null,null,null,null,null,null,null,0,0]
[null,"Treated as Institutions",null,null,null,null,null,null,null,null,null,null,null,null,0,null,null,null,null,null,null,null,null,null,null,null,null,null,null,null,0,0]
[null,null,null,null,null,null,null,null,null,null,null,null,null,null,0,null,null,null,null,null,null,null,null,null,null,null,null,null,null,null,0,0]
[null,null,null,null,null,null,null,null,null,null,null,null,null,null,0,null,null,null,null,null,null,null,null,null,null,null,null,null,null,null,0,0]
[null,null,null,null,null,null,null,null,null,null,null,null,null,null,null,null,null,null,null,null,null,null,null,null,null,null,null,null,null,null,0,0]
[null,"iii) Exposures to Public Sector Entities",null,null,null,null,null,null,null,null,null,null,null,null,{"$f":"IF(G231<0,G231,0)","v":0},null,null,null,null,null,null,null,null,null,null,null,null,null,null,null,0,0]
[null,null,null,null,null,null,null,null,null,null,null,null,null,null,{"$f":"IF(G232<0,G232,0)","v":0},null,null,null,null,null,null,null,null,null,null,null,null,null,null,null,0,0]
[null,null,null,null,null,null,null,null,null,null,null,null,null,null,{"$f":"IF(G233<0,G233,0)","v":0},null,null,null,null,null,null,null,null,null,null,null,null,null,null,null,0,0]
[null,null,null,null,null,null,null,null,null,null,null,null,null,null,{"$f":"IF(G234<0,G234,0)","v":0},null,null,null,null,null,null,null,null,null,null,null,null,null,null,null,0,0]
[null,null,null,null,null,null,null,null,null,null,null,null,null,null,{"$f":"IF(G235<0,G235,0)","v":0},null,null,null,null,null,null,null,null,null,null,null,null,null,null,null,0,0]
[null,null,null,null,null,null,null,null,null,null,null,null,null,null,null,null,null,null,null,null,null,null,null,null,null,null,null,null,null,null,0,0]
[null,null,null,null,null,null,null,null,null,null,null,null,null,null,null,null,null,null,null,null,null,null,null,null,null,null,null,null,null,null,0,0]
[null,null,null,null,null,null,null,null,null,null,null,null,null,null,null,null,null,null,null,null,null,null,null,null,null,null,null,null,null,null,0,0]
[null,null,null,null,null,null,null,null,null,null,null,null,null,null,null,null,null,null,null,null,null,null,null,null,null,null,null,null,null,null,0,0]
[null,"iv) Exposures to Multilateral Development Banks",null,null,null,null,null,null,null,null,null,null,null,null,null,null,null,null,null,null,null,null,null,null,null,null,null,null,null,null,0,0]
[null,null,null,null,null,null,null,null,null,null,null,null,null,null,null,null,null,null,null,null,null,null,null,null,null,null,null,null,null,null,0,0]
[null,null,null,null,null,null,null,null,null,null,null,null,null,null,null,null,null,null,null,null,null,null,null,null,null,null,null,null,null,null,0,0]
[null,null,null,null,null,null,null,null,null,null,null,null,null,null,null,null,null,null,null,null,null,null,null,null,null,null,null,null,null,null,0,0]
[null,null,null,null,null,null,null,null,null,null,null,null,null,null,null,null,null,null,null,null,null,null,null,null,null,null,null,null,null,null,0,0]
[null,null,null,null,null,null,null,null,null,null,null,null,null,null,null,null,null,null,null,null,null,null,null,null,null,null,null,null,null,null,0,0]
[null,null,null,null,null,null,null,null,null,null,null,null,null,null,null,null,null,null,null,null,null,null,null,null,null,null,null,null,null,null,0,0]
[null,null,null,null,null,null,null,null,null,null,null,null,null,null,null,null,null,null,null,null,null,null,null,null,null,null,null,null,null,null,0,0]
[null,null,null,null,null,null,null,null,null,null,null,null,null,null,null,null,null,null,null,null,null,null,null,null,null,null,null,null,null,null,0,0]
[null,"v) Exposures to International Organisations:",null,null,null,null,null,null,null,null,null,null,null,null,null,null,null,null,null,null,null,null,null,null,null,null,null,null,null,null,0,0]
[null,null,null,null,null,null,null,null,null,null,null,null,null,null,null,null,null,null,null,null,null,null,null,null,null,null,null,null,null,null,0,0]
[null,null,null,null,null,null,null,null,null,null,null,null,null,null,null,null,null,null,null,null,null,null,null,null,null,null,null,null,null,null,0,0]
[null,null,null,null,null,null,null,null,null,null,null,null,null,null,null,null,null,null,null,null,null,null,null,null,null,null,null,null,null,null,0,0]
[null,null,null,null,null,null,null,null,null,null,null,null,null,null,null,null,null,null,null,null,null,null,null,null,null,null,null,null,null,null,0,0]
[null,null,null,null,null,null,null,null,null,null,null,null,null,null,null,null,null,null,null,null,null,null,null,null,null,null,null,null,null,null,0,0]
[null,null,null,null,null,null,null,null,null,null,null,null,null,null,null,null,null,null,null,null,null,null,null,null,null,null,null,null,null,null,0,0]
[null,"vi) Exposures to Rated Institutions",null,null,null,null,null,null,null,null,null,null,null,null,null,null,null,null,null,null,null,null,null,null,null,null,null,null,null,null,0,0]
[null,null,null,null,null,null,null,null,null,null,null,null,null,null,null,null,null,null,null,null,null,null,null,null,null,null,null,null,null,null,0,0]
[null,null,null,null,null,null,null,null,null,null,null,null,null,null,null,null,null,null,null,null,null,null,null,null,null,null,null,null,null,null,0,0]
[null,null,null,null,null,null,null,null,null,null,null,null,null,null,null,null,null,null,null,null,null,null,null,null,null,null,null,null,null,null,0,0]
[null,null,null,null,null,null,null,null,null,null,null,null,null,null,null,null,null,null,null,null,null,null,null,null,null,null,null,null,null,null,0,0]
[null,null,null,null,null,null,null,null,null,null,null,null,null,null,null,null,null,null,null,null,null,null,null,null,null,null,null,null,null,null,0,0]
[null,null,null,null,null,null,null,null,null,null,null,null,null,null,null,null,null,null,null,null,null,null,null,null,null,null,null,null,null,null,0,0]
[null,null,null,null,null,null,null,null,null,null,null,null,null,null,null,null,null,null,null,null,null,null,null,null,null,null,null,null,null,null,0,0]
[null,null,null,null,null,null,null,null,null,null,null,null,null,null,null,null,null,null,null,null,null,null,null,null,null,null,null,null,null,null,0,0]
[null,null,null,null,null,null,null,null,null,null,null,null,null,null,null,null,null,null,null,null,null,null,null,null,null,null,null,null,null,null,0,0]
[null,null,null,null,null,null,null,null,null,null,null,null,null,null,null,null,null,null,null,null,null,null,null,null,null,null,null,null,null,null,0,0]
[null,"vii) Exposures to Unrated Institutions",null,null,null,null,null,null,null,null,null,null,null,null,null,null,null,null,null,null,null,null,null,null,null,null,null,null,null,null,{"$f":"IF(D199>0,D199,0)","v":0},{"$f":"IF(D199<0,D199,0)","v":0}]
[null,null,null,null,null,null,null,null,null,null,null,null,null,null,null,null,null,null,null,null,null,null,null,null,null,null,null,null,null,null,0,0]
[null,null,null,null,null,null,null,null,null,null,null,null,null,null,null,null,null,null,null,null,null,null,null,null,null,null,null,null,null,null,0,0]
[null,null,null,null,null,null,null,null,null,null,null,null,null,null,null,null,null,null,null,null,null,null,null,null,null,null,null,null,null,null,0,0]
[null,null,null,null,null,null,null,null,null,null,null,null,null,null,null,null,null,null,null,null,null,null,null,null,null,null,null,null,null,null,0,0]
[null,null,null,null,null,null,null,null,null,null,null,null,null,null,null,null,null,null,null,null,null,null,null,null,null,null,null,null,null,null,0,0]
[null,null,null,null,null,null,null,null,null,null,null,null,null,null,null,null,null,null,null,null,null,null,null,null,null,null,null,null,null,null,0,0]
[null,null,null,null,null,null,null,null,null,null,null,null,null,null,null,null,null,null,null,null,null,null,null,null,null,null,null,null,null,null,0,0]
[null,null,null,null,null,null,null,null,null,null,null,null,null,null,null,null,null,null,null,null,null,null,null,null,null,null,null,null,null,null,0,0]
[null,null,null,null,null,null,null,null,null,null,null,null,null,null,null,null,null,null,null,null,null,null,null,null,null,null,null,null,null,null,0,0]
[null,null,null,null,null,null,null,null,null,null,null,null,null,null,null,null,null,null,null,null,null,null,null,null,null,null,null,null,null,null,0,0]
[null,"viii) Exposures to Corporates",null,null,null,null,null,null,null,null,null,null,null,null,null,null,null,null,null,null,null,null,null,null,null,null,null,null,null,null,{"$f":"IF(D210>0,D210,0)","v":0},{"$f":"IF(D210<0,D210,0)","v":0}]
[null,null,null,null,null,null,null,null,null,null,null,null,null,null,null,null,null,null,null,null,null,null,null,null,null,null,null,null,null,null,0,0]
[null,null,null,null,null,null,null,null,null,null,null,null,null,null,null,null,null,null,null,null,null,null,null,null,null,null,null,null,null,null,0,0]
[null,null,null,null,null,null,null,null,null,null,null,null,null,null,null,null,null,null,null,null,null,null,null,null,null,null,null,null,null,null,0,0]
[null,null,null,null,null,null,null,null,null,null,null,null,null,null,null,null,null,null,null,null,null,null,null,null,null,null,null,null,null,null,0,0]
[null,null,null,null,null,null,null,null,null,null,null,null,null,null,null,null,null,null,null,null,null,null,null,null,null,null,null,null,null,null,0,0]
[null,null,null,null,null,null,null,null,null,null,null,null,null,null,null,null,null,null,null,null,null,null,null,null,null,null,null,null,null,null,0,0]
[null,null,null,null,null,null,null,null,null,null,null,null,null,null,null,null,null,null,null,null,null,null,null,null,null,null,null,null,null,null,0,0]
[null,null,null,null,null,null,null,null,null,null,null,null,null,null,null,null,null,null,null,null,null,null,null,null,null,null,null,null,null,null,0,0]
[null,null,null,null,null,null,null,null,null,null,null,null,null,null,null,null,null,null,null,null,null,null,null,null,null,null,null,null,null,null,0,0]
[null,null,null,null,null,null,null,null,null,null,null,null,null,null,null,null,null,null,null,null,null,null,null,null,null,null,null,null,null,null,0,0]
[null,"ix) Retail Exposures",null,null,null,null,null,null,null,null,null,null,null,null,null,null,null,null,null,null,null,null,null,null,null,null,null,null,null,null,{"$f":"IF(D221>0,D221,0)","v":0},{"$f":"IF(D221<0,D221,0)","v":0}]
[null,null,null,null,null,null,null,null,null,null,null,null,null,null,null,null,null,null,null,null,null,null,null,null,null,null,null,null,null,null,0,0]
[null,null,null,null,null,null,null,null,null,null,null,null,null,null,null,null,null,null,null,null,null,null,null,null,null,null,null,null,null,null,0,0]
[null,null,null,null,null,null,null,null,null,null,null,null,null,null,null,null,null,null,null,null,null,null,null,null,null,null,null,null,null,null,0,0]
[null,null,null,null,null,null,null,null,null,null,null,null,null,null,null,null,null,null,null,null,null,null,null,null,null,null,null,null,null,null,0,0]
[null,null,null,null,null,null,null,null,null,null,null,null,null,null,null,null,null,null,null,null,null,null,null,null,null,null,null,null,null,null,0,0]
[null,null,null,null,null,null,null,null,null,null,null,null,null,null,null,null,null,null,null,null,null,null,null,null,null,null,null,null,null,null,0,0]
[null,null,null,null,null,null,null,null,null,null,null,null,null,null,null,null,null,null,null,null,null,null,null,null,null,null,null,null,null,null,0,0]
[null,null,null,null,null,null,null,null,null,null,null,null,null,null,null,null,null,null,null,null,null,null,null,null,null,null,null,null,null,null,0,0]
[null,"x) Exposures in Default",null,null,null,null,null,null,null,null,null,null,null,null,null,null,null,null,null,null,null,null,null,null,null,null,null,null,null,null,0,0]
[null,null,null,null,null,null,null,null,null,null,null,null,null,null,null,null,null,null,null,null,null,null,null,null,null,null,null,null,null,null,0,0]
[null,null,null,null,null,null,null,null,null,null,null,null,null,null,null,null,null,null,null,null,null,null,null,null,null,null,null,null,null,null,0,0]
[null,null,null,null,null,null,null,null,null,null,null,null,null,null,null,null,null,null,null,null,null,null,null,null,null,null,null,null,null,null,{"$f":"IF(D233>0,D233,0)","v":0},{"$f":"IF(D233<0,D233,0)","v":0}]
[null,null,null,null,null,null,null,null,null,null,null,null,null,null,null,null,null,null,null,null,null,null,null,null,null,null,null,null,null,null,0,0]
[null,null,null,null,null,null,null,null,null,null,null,null,null,null,null,null,null,null,null,null,null,null,null,null,null,null,null,null,null,null,0,0]
[null,null,null,null,null,null,null,null,null,null,null,null,null,null,null,null,null,null,null,null,null,null,null,null,null,null,null,null,null,null,0,0]
[null,null,null,null,null,null,null,null,null,null,null,null,null,null,null,null,null,null,null,null,null,null,null,null,null,null,null,null,null,null,0,0]
[null,null,null,null,null,null,null,null,null,null,null,null,null,null,null,null,null,null,null,null,null,null,null,null,null,null,null,null,null,null,0,0]
[null,"xi) Items associated with particularly High Risk",null,null,null,null,null,null,null,null,null,null,null,null,null,null,null,null,null,null,null,null,null,null,null,null,null,null,null,null,0,0]
[null,null,null,null,null,null,null,null,null,null,null,null,null,null,null,null,null,null,null,null,null,null,null,null,null,null,null,null,null,null,0,0]
[null,null,null,null,null,null,null,null,null,null,null,null,null,null,null,null,null,null,null,null,null,null,null,null,null,null,null,null,null,null,0,0]
[null,null,null,null,null,null,null,null,null,null,null,null,null,null,null,null,null,null,null,null,null,null,null,null,null,null,null,null,null,null,0,0]
[null,null,null,null,null,null,null,null,null,null,null,null,null,null,null,null,null,null,null,null,null,null,null,null,null,null,null,null,null,null,0,0]
[null,null,null,null,null,null,null,null,null,null,null,null,null,null,null,null,null,null,null,null,null,null,null,null,null,null,null,null,null,null,0,0]
[null,null,null,null,null,null,null,null,null,null,null,null,null,null,null,null,null,null,null,null,null,null,null,null,null,null,null,null,null,null,0,0]
[null,null,null,null,null,null,null,null,null,null,null,null,null,null,null,null,null,null,null,null,null,null,null,null,null,null,null,null,null,null,0,0]
[null,null,null,null,null,null,null,null,null,null,null,null,null,null,null,null,null,null,null,null,null,null,null,null,null,null,null,null,null,null,0,0]
[null,null,null,null,null,null,null,null,null,null,null,null,null,null,null,null,null,null,null,null,null,null,null,null,null,null,null,null,null,null,0,0]
[null,null,null,null,null,null,null,null,null,null,null,null,null,null,null,null,null,null,null,null,null,null,null,null,null,null,null,null,null,null,0,0]
[null,"xii) Exposures in the form of Covered Bonds",null,null,null,null,null,null,null,null,null,null,null,null,null,null,null,null,null,null,null,null,null,null,null,null,null,null,null,null,0,0]
[null,null,null,null,null,null,null,null,null,null,null,null,null,null,null,null,null,null,null,null,null,null,null,null,null,null,null,null,null,null,0,0]
[null,null,null,null,null,null,null,null,null,null,null,null,null,null,null,null,null,null,null,null,null,null,null,null,null,null,null,null,null,null,0,0]
[null,null,null,null,null,null,null,null,null,null,null,null,null,null,null,null,null,null,null,null,null,null,null,null,null,null,null,null,null,null,0,0]
[null,null,null,null,null,null,null,null,null,null,null,null,null,null,null,null,null,null,null,null,null,null,null,null,null,null,null,null,null,null,0,0]
[null,null,null,null,null,null,null,null,null,null,null,null,null,null,null,null,null,null,null,null,null,null,null,null,null,null,null,null,null,null,0,0]
[null,null,null,null,null,null,null,null,null,null,null,null,null,null,null,null,null,null,null,null,null,null,null,null,null,null,null,null,null,null,0,0]
[null,null,null,null,null,null,null,null,null,null,null,null,null,null,null,null,null,null,null,null,null,null,null,null,null,null,null,null,null,null,0,0]
[null,null,null,null,null,null,null,null,null,null,null,null,null,null,null,null,null,null,null,null,null,null,null,null,null,null,null,null,null,null,0,0]
[null,null,null,null,null,null,null,null,null,null,null,null,null,null,null,null,null,null,null,null,null,null,null,null,null,null,null,null,null,null,0,0]
[null,null,null,null,null,null,null,null,null,null,null,null,null,null,null,null,null,null,null,null,null,null,null,null,null,null,null,null,null,null,0,0]
[null,"xiii) Exposures to institutions and corporates with a short-term credit assessment",null,null,null,null,null,null,null,null,null,null,null,null,null,null,null,null,null,null,null,null,null,null,null,null,null,null,null,null,0,0]
[null,null,null,null,null,null,null,null,null,null,null,null,null,null,null,null,null,null,null,null,null,null,null,null,null,null,null,null,null,null,0,0]
[null,null,null,null,null,null,null,null,null,null,null,null,null,null,null,null,null,null,null,null,null,null,null,null,null,null,null,null,null,null,0,0]
[null,null,null,null,null,null,null,null,null,null,null,null,null,null,null,null,null,null,null,null,null,null,null,null,null,null,null,null,null,null,0,0]
[null,null,null,null,null,null,null,null,null,null,null,null,null,null,null,null,null,null,null,null,null,null,null,null,null,null,null,null,null,null,0,0]
[null,null,null,null,null,null,null,null,null,null,null,null,null,null,null,null,null,null,null,null,null,null,null,null,null,null,null,null,null,null,0,0]
[null,null,null,null,null,null,null,null,null,null,null,null,null,null,null,null,null,null,null,null,null,null,null,null,null,null,null,null,null,null,0,0]
[null,null,null,null,null,null,null,null,null,null,null,null,null,null,null,null,null,null,null,null,null,null,null,null,null,null,null,null,null,null,0,0]
[null,null,null,null,null,null,null,null,null,null,null,null,null,null,null,null,null,null,null,null,null,null,null,null,null,null,null,null,null,null,0,0]
[null,null,null,null,null,null,null,null,null,null,null,null,null,null,null,null,null,null,null,null,null,null,null,null,null,null,null,null,null,null,0,0]
[null,null,null,null,null,null,null,null,null,null,null,null,null,null,null,null,null,null,null,null,null,null,null,null,null,null,null,null,null,null,0,0]
[null,"xiv) Exposures in the form of units or shares in collective investment undertakings ",null,null,null,null,null,null,null,null,null,null,null,null,null,null,null,null,null,null,null,null,null,null,null,null,null,null,null,null,0,0]
[null,null,null,null,null,null,null,null,null,null,null,null,null,null,null,null,null,null,null,null,null,null,null,null,null,null,null,null,null,null,0,0]
[null,null,null,null,null,null,null,null,null,null,null,null,null,null,null,null,null,null,null,null,null,null,null,null,null,null,null,null,null,null,0,0]
[null,null,null,null,null,null,null,null,null,null,null,null,null,null,null,null,null,null,null,null,null,null,null,null,null,null,null,null,null,null,0,0]
[null,null,null,null,null,null,null,null,null,null,null,null,null,null,null,null,null,null,null,null,null,null,null,null,null,null,null,null,null,null,0,0]
[null,null,null,null,null,null,null,null,null,null,null,null,null,null,null,null,null,null,null,null,null,null,null,null,null,null,null,null,null,null,0,0]
[null,null,null,null,null,null,null,null,null,null,null,null,null,null,null,null,null,null,null,null,null,null,null,null,null,null,null,null,null,null,0,0]
[null,null,null,null,null,null,null,null,null,null,null,null,null,null,null,null,null,null,null,null,null,null,null,null,null,null,null,null,null,null,0,0]
[null,null,null,null,null,null,null,null,null,null,null,null,null,null,null,null,null,null,null,null,null,null,null,null,null,null,null,null,null,null,0,0]
[null,null,null,null,null,null,null,null,null,null,null,null,null,null,null,null,null,null,null,null,null,null,null,null,null,null,null,null,null,null,0,0]
[null,null,null,null,null,null,null,null,null,null,null,null,null,null,null,null,null,null,null,null,null,null,null,null,null,null,null,null,null,null,0,0]
[null,"xv) Equity Exposures",null,null,null,null,null,null,null,null,null,null,null,null,null,null,null,null,null,null,null,null,null,null,null,null,null,null,null,null,0,0]
[null,null,null,null,null,null,null,null,null,null,null,null,null,null,null,null,null,null,null,null,null,null,null,null,null,null,null,null,null,null,0,0]
[null,null,null,null,null,null,null,null,null,null,null,null,null,null,null,null,null,null,null,null,null,null,null,null,null,null,null,null,null,null,0,0]
[null,null,null,null,null,null,null,null,null,null,null,null,null,null,null,null,null,null,null,null,null,null,null,null,null,null,null,null,null,null,0,0]
[null,null,null,null,null,null,null,null,null,null,null,null,null,null,null,null,null,null,null,null,null,null,null,null,null,null,null,null,null,null,0,0]
[null,null,null,null,null,null,null,null,null,null,null,null,null,null,null,null,null,null,null,null,null,null,null,null,null,null,null,null,null,null,0,0]
[null,null,null,null,null,null,null,null,null,null,null,null,null,null,null,null,null,null,null,null,null,null,null,null,null,null,null,null,null,null,0,0]
[null,null,null,null,null,null,null,null,null,null,null,null,null,null,null,null,null,null,null,null,null,null,null,null,null,null,null,null,null,null,0,0]
[null,null,null,null,null,null,null,null,null,null,null,null,null,null,null,null,null,null,null,null,null,null,null,null,null,null,null,null,null,null,0,0]
[null,null,null,null,null,null,null,null,null,null,null,null,null,null,null,null,null,null,null,null,null,null,null,null,null,null,null,null,null,null,0,0]
[null,null,null,null,null,null,null,null,null,null,null,null,null,null,null,null,null,null,null,null,null,null,null,null,null,null,null,null,null,null,0,0]
[]
[null,"g)  i) unsettled securities transactions - cash against documents",null,null,null,"of which Trading Book","Of which Non Trading Book",null,null,null,null,null,null,null,null,null,null,null,null,null,null,null,null,null,null,null,null,null,null,null,{"$f":"SUM(AE97:AE293)","v":0},{"$f":"SUM(AF97:AF293)","v":0}]
[null,"0 - 4 working days",null,null,null,null,null,null,null,{"$f":"IF(D296=F296+G296,\"\",\"error\")","v":""}]
[null,"5 - 15 working days",null,null,null,null,null,null,null,{"$f":"IF(D297=F297+G297,\"\",\"error\")","v":""}]
[null,"16 - 30 working days",null,null,null,null,null,null,null,{"$f":"IF(D298=F298+G298,\"\",\"error\")","v":""}]
[null,"31 - 45 working days",null,null,null,null,null,null,null,{"$f":"IF(D299=F299+G299,\"\",\"error\")","v":""}]
[null,"46 or more working days",null,null,null,null,null,null,null,{"$f":"IF(D300=F300+G300,\"\",\"error\")","v":""}]
[null,"ii) unsettled securities transactions - free deliveries"]
[null,"a) if securities were delivered "]
[null,"1) Up to first contractual payment"]
[null,"2) From first contractual payment to four days after "]
[null,"second contractual payment."]
[null,"3) From 5 business days post contractual payment",null,null,null,"Calculation Method",null,null,null,null,null,null,null,"Deduct from Own Funds"]
[null,"until extinction of transaction",null,null,null,null,null,null,null,"Risk Weight"]
[]
[null,"b) if securities were paid for by the Licence Holder "]
[null,"1) Up to first contractual delivery lag"]
[null,"2) From first contractual delivery lag to four days after "]
[null,"second contractual delivery lag."]
[null,"3) From 5 business days post contractual delivery lag ",null,null,null,null,null,null,"Calculation Method"]
[null,"until extinction of transaction"]
[]
[null,"iii) Collective investment schemes"]
[null,"iv) Group debtors",null,null,null,"Please Insert details of 'Amounts due from group companies' in the cell below (F320)."]
[null,"   1) Amounts due from group companies*",null,null,{"$f":"IF(AND(O318=1,ISBLANK(F318)),0,1)","v":1},null,null,null,null,null,null,null,null,null,{"$f":"IF(D318>=1,1,0)","v":0}]
[null,"   2) Amounts due from other connected persons*",null,null,{"$f":"IF(AND(O319=1,ISBLANK(F319)),0,1)","v":1},null,null,null,null,null,null,null,null,null,{"$f":"IF(D319>=1,1,0)","v":0}]
[null,"v)  1)Trade receivables (i)",null,null,null,null,"Please Insert details of 'Amounts due from other connected persons' in the cell above (F321)."]
[null,"     2)Trade receivables (ii)"]
[null,"h) Prepayments"]
[null,"i) Accrued income"]
[null,"j) Amounts receivable from Government bodies"]
[null,"i) Amounts receivable within 90 days "]
[null,"ii) Amounts receivable after more than 90 days"]
[null,"k) Amounts receivable from Financial Institutions"]
[null,"i) Amounts receivable within 90 days "]
[null,"ii) Amounts receivable after more than 90 days"]
[null,"l) Other receivables"]
[null,"m) Bank and cash balances"]
[null,"i) Balances which can be withdrawn within 30 days"]
[null,"ii) Balances which can be withdrawn only after 30 days"]
[null,null,null,null,null,null,{"$f":"+SUM(D154:D334)","v":0},{"$f":"+$G$334+$I$94+$I$93","v":0}]
[null,"4) Liabilities"]
[null,"a) Tax liability "]
[null,"b) Overdrafts"]
[null,"c) Group creditors - due within 1 year",null,null,null,"Please Insert details of Amounts due to group companies' in the cell below (F341)."]
[null,"i) Amounts due to group companies**",null,null,{"$f":"IF(AND(O339=1,ISBLANK(F339)),0,1)","v":1},null,null,null,null,null,null,null,null,null,{"$f":"IF(D339<0,1,0)","v":0}]
[null,"ii) Amounts due to other connected persons**",null,null,{"$f":"IF(AND(O340=1,ISBLANK(F340)),0,1)","v":1},null,null,null,null,null,null,null,null,null,{"$f":"IF(D340<0,1,0)","v":0}]
[null,"d) Accruals",null,null,null,"Please Insert details of 'Amounts due to other connected persons' in the cell above (F342)."]
[null,"e) Other creditors"]
[null,"f) Loans: ",null,null,null,{"$f":"IF(OR(D345<0,D346<0),\"Date Issued\",\"\")","v":""},{"$f":"IF(OR(D345<0,D346<0),\"Maturity Date\",\"\")","v":""}]
[null,"i) Subordinated Loan (i) - Perpetual"]
[null,"ii) Subordinated Loan (ii) - Fixed Term"]
[null,"iii) Subordinated Loan (iii) - Fixed Term"]
[null,"ii) other"]
[null,"g) Group creditors - due after more than 1 year",null,null,null,"Please Insert details of Amounts due to group companies' in the cell below (F351)."]
[null,"i) Amounts due to group companies**",null,null,{"$f":"IF(AND(O349=1,ISBLANK(F349)),0,1)","v":1},null,null,null,null,null,null,null,null,null,{"$f":"IF(D349<0,1,0)","v":0}]
[null,"ii) Amounts due to other connected persons **",null,null,{"$f":"IF(AND(O350=1,ISBLANK(F350)),0,1)","v":1},null,null,null,null,null,null,null,null,null,{"$f":"IF(D350<0,1,0)","v":0}]
[null,"h) Other Payables",null,null,null,"Please Insert details of 'Amounts due to other connected persons' in the cell above (F352)."]
[null,"i) Deferred Tax Liability"]
[null,"j) Other provisions for liabilities/ charges"]
[null,"k) Financial Liabilities"]
[]
[null,"5) Capital & Reserves "]
[null,"a) Called up ordinary share capital "]
[null,"b) i) Perpetual Non-Cumulative Preference Shares prior to 31/12/2011 (grandfathered)"]
[null,"    ii)Perpetual Non-Cumulative Preference Shares as from 01/01/2012"]
[null,"c) Perpetual Cumulative Preference Shares"]
[null,"d) Fixed term Non-cumulative Pref shares with an original maturity of more than 5 years"]
[null,"e) Fixed term Non-cumulative Pref shares with an original maturity of less than 5 years"]
[null,"f) Fixed term Cumulative Pref Share Capital with an original maturity of more than 5 years"]
[null,"g) Fixed term Cumulative Pref Share Capital with an original maturity of less than 5 years"]
[null,"h) Investor Compensation Scheme Reserve"]
[null,"i) Share premium account"]
[null,"   i) Eligible as grandfathered Perpetual non-cumulative preference shares"]
[null,"ii) Eligible as CET1 Capital"]
[null,"iii) Eligible as AT1 Capital"]
[null,"iv) Eligible as T2 Capital"]
[null,"v) Other"]
[null,"j) Revenue reserves as per the previous year's audited financial statements",null,null,null,{"$f":"IF(D373<>0,\"Unrealised Loss\",\"\")","v":""},{"$f":"IF(D373<>0,\"Unrealised Gain\",\"\")","v":""}]
[null,"k)  OCI as per the previous year's audited financial statements",null,null,null,null,null,{"$f":"IF(D373=\"\",\"\",IF(OR(-G373-F373=D373,F373+G373=D373),\"ok\",\"error\"))","v":""}]
[null,"l) Other reserves",null,{"$f":"SUM(D375:D376)","v":0}]
[null,"     (i) Capital Contribution"]
[null,"     (ii) Other"]
[null,"m) Minority Interest"]
[null,null,null,{"$f":"SUM(D14:D377)-D375-D376","v":0}]
[]
[]
[null,"6) Other"]
[null,null,null,"yes"]
[null,"a) Secured Liabilities",null,"no"]
[null,"i) Include the amount of secured liabilities ",null,null,null,null,"Liabilities secured on properties"]
[null,"- which are due within 1 year",null,null,{"$f":"IF(D385>(-D337-D339-D340-D341-D342),\"CHECK\",\"\")","v":""}]
[null,"ii) Include the amount of secured liabilities"]
[null,"-which are due within 1 year & secured by a charge on land & building",null,null,{"$f":"IF(D387>D385,\"CHECK: Cannot be greater than amount disclosed under (i) above\",\"\")","v":""}]
[]
[null,"iii) Include the amount of secured liabilities "]
[null,"- which are due after more than 1 year",null,null,{"$f":"IF(D390>(-D347-D349-D350-D351),\"CHECK\",\"\")","v":""}]
[null,"iv) Include in full the amount of secured liabilities"]
[null,"- which are due after more than 1 year & secured by a charge on land & building",null,null,{"$f":"IF(D392>D390,\"CHECK: Cannot be greater than amount disclosed under (iii) above\",\"\")","v":""}]
[]
[]
[null,"b) Contingent Liabilities"]
[null,"Insert the amount of any Contingent Liabilities "]
[]
[null,"c) Investment in Own Shares",null,null,null,"Capital Type","Holding Type","Amount",null,"CET 1","Direct"]
[null,"Does the Licence Holder hold Investments in Own CET 1,  AT1 or T2 Instruments?",null,null,null,null,null,null,null,"AT 1","Indirect"]
[null,null,null,null,null,null,null,null,null,"T2","Synthetic"]
[null,"d) Instruments of financial sector entities where the institution "]
[null,"has a significant investment"]
[null,"Does the Licence Holder hold (>10%) holding in credit/financial institution?",null,null,null,{"$f":"IF(D403=\"yes\",\"Please Inform MFSA\",\"\")","v":""}]
[]
[null,"e) Instruments of financial sector entities where the institution does not "]
[null,"have a significant investment",null,null,null,"Capital Type"]
[null,"Instruments of financial sector entities where institution has no significant investment"]
[]
[null,"f) Bank and/ or other third party guarantees approved by the MFSA"]
[null,"Include any Bank and/ or other third party guarantees approved by the MFSA"]
[]
[null,"g) Fixed Overheads"]
[null,"Has the change in the firm's business resulted in a material change in projected",null,null,null,""]
[null,"fixed overheads as stated in the Regulatory Technical Standards?",null,null,null,{"$f":"IF(D414=\"Yes\",\"Please Inform MFSA\",\"\")","v":""}]
[]
[null,"h) The Financial Return is showing a Profit or Loss of:",null,{"$f":"'Income Statement'!M84","v":0}]
[null,"Kindly input the profits which been verified by persons independent of the institution",null,null,null,{"$f":"IF(D418>0,\"Please note that the Company is required to have all the necessary verification evidence as stipulated in the Regulation (EU) No 575/2013 (CRR) on the guidance provided through the MFSA circular dated 28 May 2015. This may be requested by the MFSA.\",\"\")","v":""}]
[null," that are responsible for the auditing of the accounts of that institution"]
[null,null,null,{"$f":"IF(D418<=D416,1,0)","v":1}]
[]
[null,"i) Kindly indicate the Total Number of Clients as at Reporting Date",null,null,{"$f":"IF(ISBLANK(D421),0,1)","v":0},{"$f":"IF(D421<=0,0,IF(D421<>SUM(D423:D427),0,1))","v":0},{"$f":"IF(D421<>SUM(D423:D427),\"Total  Number of Clients does not match!\",\"\")","v":""}]
[]
[null,null,"of which Retail",null,{"$f":"IF(NOT(ISBLANK(D423)),1,0)","v":0}]
[null,null,"of which Elective Professional",null,{"$f":"IF(NOT(ISBLANK(D424)),1,0)","v":0}]
[null,null,"of which Professional",null,{"$f":"IF(NOT(ISBLANK(D425)),1,0)","v":0}]
[null,null,"of which Eligible Counterparty",null,{"$f":"IF(NOT(ISBLANK(D426)),1,0)","v":0}]
[null,null,"of which Fund of one",null,{"$f":"IF(NOT(ISBLANK(D427)),1,0)","v":0}]
[]
[null,"j) Kindly indicate the number of clients to which you provide the following investment services:"]
[null,null,"Reception and transmission of orders",null,{"$f":"IF(NOT(ISBLANK(D430)),1,0)","v":0}]
[null,null,"Investment advice",null,{"$f":"IF(NOT(ISBLANK(D431)),1,0)","v":0}]
[null,null,"Place instruments without a firm commitment basis",null,{"$f":"IF(NOT(ISBLANK(D432)),1,0)","v":0}]
[]
[]
[]
[]
[null,null,null,null,null,null,null,null,null,null,null,null,null,null,{"$f":"IF(E33+E34+E44+E318+E319+E339+E340+E349+E350+E432+E431+E430+E427+E426+E425+E424+E423+E421+F421+D419=20,\"1\",\"0\")","v":"0"}]

{"sheet":"Index_CBM","index":14,"n_rows":25,"n_cols":12,"rows_kept":25,"cut":false,"hidden":true,"merged":[]}
[null,null,null,null,null,null,null,null,null,null,"Version 2.0","2016-05-24"]
[null,"SECTION 1 - VALIDATION CHECKS SCHEDULE / TEMPLATE",null,null,null,null,null,null,null,null,"Index_CBM:","Inserted Version 2.0"]
[null,null,null,null,null,null,null,null,null,null,null,"'Transactions for period' moved from SECTION 3 to SECTION 2"]
[null,null,null,null,null,null,null,null,null,null,null,"SECTION 3 reduced blue box size"]
[null,null,"Validation Checks CBM",{"$f":"Validation_Checks_CBM!H19","v":"9 check/s"},null,null,null,null,null,null,null,"Added version number"]
[null,null,null,null,null,null,null,null,null,null,null,"B9 added ' FOR QUARTERLY REPORTING'"]
[null,null,null,null,null,null,null,null,null,null,null,"B18 added ' FOR ANNUAL REPORTING'"]
[null,null,null,null,null,null,null,null,null,null,null,"B2, B9, B18 changed font to 10.5"]
[null,"SECTION 2 - SBS REPORTING SCHEDULE / TEMPLATE FOR QUARTERLY REPORTING",null,null,null,null,null,null,null,null,"Validation_Checks_CBM:","C3:H3 - changed from 'C   H   E   C   K       S   H   E   E   T   S       1   8       t   o       2   5' "]
[null,null,null,null,null,null,null,null,null,null,null,"to 'C   E   N   T   R   A   L       B   A   N   K       R   E   T   U   R   N   S       C   H   E   C   K   S'"]
[null,null,null,null,null,null,null,null,null,null,"SBSA_NOM_HSE:","Increased input range from 1000 to 5000"]
[null,null,"SBSA - NOM HSE",null,null,"SBSA - NON-NOM HSE",null,null,null,null,null,"VB line 575 (now 586) adjusted delete data range from Range(\"C10:G1009\") to Range(\"C10:G5009\")"]
[null,null,"SBSA - NOM NFC",null,null,"SBSA - NON-NOM NFC",null,null,null,null,null,"VB line 215 (now 215), 780-1 (794), 790,2 (818) If Appendix 2A / 2B select sheet  \"CONTENTS\"; If 2C select sheet \"Index\""]
[null,null,"SBSA - OWN ACC",null,null,"Transactions for period",null,null,null,null,null,"VB created macros 'PrintSetUpSBSA5010' & 'ShowAllSBSA5010'"]
[null,null,null,null,null,null,null,null,null,null,null,"Reassigned macro button 'Print Set up' to 'PrintSetUpSBSA5010'"]
[null,null,null,null,null,null,null,null,null,null,null,"Reassigned macro button 'Show All' to 'ShowAllSBSA5010'"]
[null,null,null,null,null,null,null,null,null,null,null,"In cell E5 replaced \"Select 'MONTH'\" with \"Kindly fill-in period details in sheet 'Validation_Checks_CBM' cells E8, E9, E10\", font 11, removed center justification"]
[null,"SECTION 3 - GENERAL REPORTING SCHEDULE / TEMPLATE FOR ANNUAL REPORTING",null,null,null,null,null,null,null,null,null,"Unhidden rows till 5010 (to cater up to 5000 ISINs)"]
[null,null,null,null,null,null,null,null,null,null,null,"Continued Statistika uploading codes in columns A:B from 1009 till 5009"]
[null,null,null,null,null,null,null,null,null,null,null,"Formats and formulas in C758:H758 copied till row 5009"]
[null,null,"Non SBS Nominee",null,null,"Sectoral Balance Sheet",null,null,null,null,null,"Sum totals range end in AA8:AM8 changed from 1009 to 5009"]
[null,null,"Non-Resident Nominee",null,null,"Income & Services",null,null,null,null,null,"Formula range end in AD1 changed to 5009"]
[null,null,"Non Nominee",null,null,"External Balance Sheet",null,null,null,null,"Transactions_for_period:","D10:D15 Removed data validation rules that did not allow negative values"]
[null,null,null,null,null,null,null,null,null,null,"Visual Basic:","In order to group CBM non-Private (visible) macros together, macro name 'ShowAllAll' changed to 'CBMSheets_ShowAllAll'"]
[null,"Version 2.0",null,null,null,null,null,null,null,null,null,"General macro ugrade"]

{"sheet":"Validation_Checks_CBM","index":15,"n_rows":77,"n_cols":29,"rows_kept":77,"cut":false,"hidden":true,"merged":[[11,4,11,6],[1,2,1,7],[2,2,2,7],[5,2,5,3],[5,4,5,7],[7,2,7,3],[73,2,76,2],[13,4,13,7],[14,6,14,7],[16,2,16,7],[33,2,43,2],[33,3,37,3],[39,3,43,3],[46,2,49,2],[52,2,55,2],[58,2,61,2],[64,2,65,2],[68,2,70,2]]}
[null,null,null,null,null,null,null,null,null,null,null,null,null,null,null,null,null,"Named range"]
[null,null,"Investment Service Providers",null,null,null,null,null,null,null,null,null,null,null,{"$f":"IF(ISERROR(VLOOKUP(E10,O3:P18,2,FALSE))=FALSE,VLOOKUP(E10,O3:P18,2,FALSE),0)","v":0},null,null,"M","Q","H","A","YEARLY COMPENSATION",null,null,null,null,{"$f":"E9&E10","v":""},{"$f":"VLOOKUP(AA2,AA4:AC22,2,FALSE)","v":{"$error":"#N/A"}},"SBSA months"]
[null,null,"C   E   N   T   R   A   L       B   A   N   K       R   E   T   U   R   N   S       C   H   E   C   K   S",null,null,null,null,null,null,null,"CHECK SHEET",null,2012,null,{"$f":"IF(E$9=\"A\",1,IF(E$9=\"H\",1,IF(E$9=\"Q\",1,IF(E$9=\"M\",1,\"\"))))","v":""},"01",null,{"$f":"IF(E9&E10=\"A1\",\"MonthBeginning\",0)","v":0},null,null,null,"M","Q","H","A",null,"Frequency + Period List","Period Covered List","Period Ending List"]
[null,null,null,null,null,null,null,null,null,null,"Sheet 18 SBSA",null,2013,null,{"$f":"IF(E$9=\"A\",\"\",IF(E$9=\"H\",2,IF(E$9=\"Q\",2,IF(E$9=\"M\",2,\"\"))))","v":""},"02",null,"1st January","31st March","30th June","31st December",0,0,0,0,null,"A1","1st January - 31st December","December"]
[null,1,"UNIT ID:",null,null,null,null,null,null,null,"Sheet 18 SBSA - NOM HSE",null,2014,null,{"$f":"IF(E$9=\"A\",\"\",IF(E$9=\"H\",\"\",IF(E$9=\"Q\",3,IF(E$9=\"M\",3,\"\"))))","v":""},"03",null,"1st February","30th April","31st July","31st January",0,0,0,1,null,"H1","1st January - 30th June","June"]
[null,2,"NAME OF REPORTING INSTITUTION:",null,{"$f":"'COVER SHEET'!C15","v":0},null,null,null,null,null,"Sheet 18 SBSA - NOM NFC",null,2015,null,{"$f":"IF(E$9=\"A\",\"\",IF(E$9=\"H\",\"\",IF(E$9=\"Q\",4,IF(E$9=\"M\",4,\"\"))))","v":""},"04",null,"1st March","31st May","31st August","28th February",0,0,0,1,null,"H2","1st July -31st December","December"]
[null,3,"BOP:",null,null,null,null,null,null,null,"Sheet 18 SBSA - NON-NOM HSE",null,2016,null,{"$f":"IF(E$9=\"A\",\"\",IF(E$9=\"H\",\"\",IF(E$9=\"Q\",\"\",IF(E$9=\"M\",5,\"\"))))","v":""},"05",null,"1st April","30th June","30th September","31st March",0,0,0,1,null,"Q1","1st January - 31st March","March"]
[null,4,"YEAR:",null,null,null,null,null,null,null,"Sheet 18 SBSA - NON-NOM NFC",null,2017,null,{"$f":"IF(E$9=\"A\",\"\",IF(E$9=\"H\",\"\",IF(E$9=\"Q\",\"\",IF(E$9=\"M\",6,\"\"))))","v":""},"06",null,"1st May","31st July","31st October","30th April",0,0,0,1,null,"Q2","1st April - 30th June","June"]
[null,5,"FREQUENCY:",null,null,null,null,null,null,null,"Sheet 18 SBSA - OWN ACC",null,2018,null,{"$f":"IF(E$9=\"A\",\"\",IF(E$9=\"H\",\"\",IF(E$9=\"Q\",\"\",IF(E$9=\"M\",7,\"\"))))","v":""},"07",null,"1st June","31st August","30th November","31st May",0,0,0,1,null,"Q3","1st July - 30th September","September"]
[null,6,"PERIOD:",null,null,null,null,null,null,null,"Sheet 19 Non SBS Nominee",null,2019,null,{"$f":"IF(E$9=\"A\",\"\",IF(E$9=\"H\",\"\",IF(E$9=\"Q\",\"\",IF(E$9=\"M\",8,\"\"))))","v":""},"08",null,"1st July","30th September","31st December","30th June",0,0,0,1,null,"Q4","1st October - 31st December","December"]
[null,7,"MONTH BEGINNING: (for annual reporting ONLY)",null,null,null,null,null,null,null,"Sheet 20 Non-Resident Nominee",null,2020,null,{"$f":"IF(E$9=\"A\",\"\",IF(E$9=\"H\",\"\",IF(E$9=\"Q\",\"\",IF(E$9=\"M\",9,\"\"))))","v":""},"09",null,"1st August","31st October","31st January","31st July",0,0,1,1,null,"M1","1st January - 31st January","January"]
[null,8,"FOR THE PERIOD:",null,{"$f":"IF(OR(E8=\"\",E8=\"Select Year\",E9=\"\",E10=\"\",AND(E9=\"A\",E11=\"\")),\"\",\nIF(ISERROR(VLOOKUP(AA2,AA4:AC22,2,FALSE))=TRUE,\"Incorrect period selection!\",\nIF(E9=\"A\",E11&\" \"&E8&\" - \"&VLOOKUP(E11,R4:U15,MATCH(Validation_Checks_CBM!E9,Validation_Checks_CBM!R2:U2,0),FALSE)&\" \"&E8+VLOOKUP(E11,R4:Y15,MATCH(Validation_Checks_CBM!E9,Validation_Checks_CBM!R3:Y3,0),FALSE),\nIF(OR(E9=\"M\",E9=\"Q\",E9=\"H\"),VLOOKUP(AA2,AA4:AB22,2,FALSE)&\" \"&E8\n))))","v":""},null,null,null,null,null,"Sheet 21 Non Nominee",null,2021,null,{"$f":"IF(E$9=\"A\",\"\",IF(E$9=\"H\",\"\",IF(E$9=\"Q\",\"\",IF(E$9=\"M\",10,\"\"))))","v":""},"10",null,"1st September","30th November","28th February","31st August",0,0,1,1,null,"M2","1st February - 28th February","February"]
[null,9,"REPORTING CURRENCY:",null,"EURO",null,null,null,null,null,"Sheet 22Transactions for period",null,2022,null,{"$f":"IF(E$9=\"A\",\"\",IF(E$9=\"H\",\"\",IF(E$9=\"Q\",\"\",IF(E$9=\"M\",11,\"\"))))","v":""},"11",null,"1st October","31st December","31st March","30th September",0,0,1,1,null,"M3","1st March - 31st March","March"]
[null,10,"COMPILED BY:",null,null,null,null,null,null,null,"Sheet 23 Sectoral Balance Sheet",null,2023,null,{"$f":"IF(E$9=\"A\",\"\",IF(E$9=\"H\",\"\",IF(E$9=\"Q\",\"\",IF(E$9=\"M\",12,\"\"))))","v":""},"12",null,"1st November","31st January","30th April","31st October",0,1,1,1,null,"M4","1st April - 30th April","April"]
[null,11,"CONTACT DETAILS:","Tel. No.:",null,"Email:",null,null,null,null,"Sheet 24 Income & services",null,2024,"Named range","Named range","Named range","Named range","1st December","28th February","31st May","30th November",0,1,1,1,null,"M5","1st May - 31st May","May"]
[null,null,null,null,null,null,null,null,null,null,"Sheet 25 External Balance Sheet",null,2025,"M","Q","H","A","Select Month",null,null,null,null,null,null,null,null,"M6","1st June - 30th June","June"]
[null,null,"Please ensure that all the checks are OK prior to submitting the returns",null,null,null,null,null,null,null,"CSV workings",null,"Select Year",1,1,1,1,null,null,null,null,null,null,null,null,null,"M7","1st July - 31st July","July"]
[null,null,null,null,null,null,null,null,null,null,"CSV final",null,null,2,2,2,null,null,null,null,null,null,null,null,null,null,"M8","1st August - 31st August","August"]
[null,null,null,null,"Sheet result:",null,null,{"$f":"IF(SUM(COUNTIF(H22:H36,\"ok\"),COUNTIF(H38:H77,\"ok\"))=40,\"ok\",40-SUM(COUNTIF(H22:H36,\"ok\"),COUNTIF(H38:H77,\"ok\"))&\" check/s\")","v":"9 check/s"},{"$f":"IF(H19=\"OK\",1,0)","v":0},null,null,null,null,3,3,null,null,null,null,null,null,null,null,null,null,null,"M9","1st September - 30th September","September"]
[null,null,null,null,null,null,null,null,null,null,null,null,null,4,4,null,null,null,null,null,null,null,null,null,null,null,"M10","1st October - 31st October","October"]
[null,null,null,null,null,null,null,null,null,null,null,null,null,5,null,null,null,null,null,null,null,null,null,null,null,null,"M11","1st November - 30th November","November"]
[null,null,"Validation Checks CBM",null,"UnitID",null,null,{"$f":"IF(E5=\"\",\"Missing\",\"ok\")","v":"Missing"},{"$f":"IF(H22=\"OK\",1,0)","v":0},null,null,null,null,6,null,null,null,null,null,null,null,null,null,null,null,null,"M12","1st December - 31st December","December"]
[null,null,null,null,"Institution",null,null,{"$f":"IF(E6=0,\"Missing\",\"ok\")","v":"Missing"},{"$f":"IF(H23=\"OK\",1,0)","v":0},null,null,null,null,7]
[null,null,null,null,"BOP",null,null,"Missing",{"$f":"IF(H24=\"OK\",1,0)","v":0},null,null,null,null,8]
[null,null,null,null,"Year",null,null,"Missing",0,null,null,null,null,9]
[null,null,null,null,"Frequency",null,null,"Missing",0,null,null,null,null,10]
[null,null,null,null,"Period",null,null,"Missing",0,null,null,null,null,11]
[null,null,null,null,"Month beginning:",null,null,{"$f":"IF(OR(AND(OR(E9=\"M\",E9=\"Q\",E9=\"H\"),E11<>\"\"),AND(E9=\"A\",E11=\"\")),\"Missing\",\"ok\")","v":"ok"},1,null,null,null,null,12]
[null,null,null,null,"For the period",null,null,{"$f":"IF(E9=\"\",\"Missing\",IF(ISERROR(VLOOKUP(AA2,AA4:AC22,2,FALSE))=TRUE,\"Incorrect period selection!\",\"ok\"))","v":"Missing"},0]
[null,null,null,null,"Compiled by",null,null,{"$f":"IF(E14=\"\",\"Missing\",\"ok\")","v":"Missing"},0]
[null,null,null,null,"Contact details",null,null,{"$f":"IF(OR(E15=\"\",G15=\"\"),\"Missing\",\"ok\")","v":"Missing"},0]
[]
[]
[null,null,"SBSA - NOM HSE","Validation","Fill in the Security identifier code (ISIN)",null,null,{"$f":"IF(COUNTIF(SBSA_NOM_HSE!AA10:AA1009,\"Check\")=0,\"ok\",COUNTIF(SBSA_NOM_HSE!AA10:AA1009,\"Check\"))","v":"ok"},{"$f":"IF(H34=\"OK\",1,0)","v":1}]
[null,null,null,null,"Fill either 'No of shares' & / or 'Nominal value",null,null,{"$f":"IF(COUNTIF(SBSA_NOM_HSE!AB10:AB1009,\"Check\")=0,\"ok\",COUNTIF(SBSA_NOM_HSE!AB10:AB1009,\"Check\"))","v":"ok"},{"$f":"IF(H35=\"OK\",1,0)","v":1}]
[null,null,null,null,"Currency cannot be left blank",null,null,{"$f":"IF(COUNTIF(SBSA_NOM_HSE!AC10:AC1009,\"Check\")=0,\"ok\",COUNTIF(SBSA_NOM_HSE!AC10:AC1009,\"Check\"))","v":"ok"},{"$f":"IF(H36=\"OK\",1,0)","v":1}]
[null,null,null,null,"\"Total debt position SBSA - NOM HSE minus (SBSA)' ('Sheet 23 Sectoral Balance Sheet' lines 62 + 66 column E) = zero",null,null,{"$f":"SBSA_NOM_HSE!AD1+SUMIF(Non_SBS_Nominee!B13:C61,\"Debt Securities acquired/sold by Residents of Malta\",Non_SBS_Nominee!J13:J61)-Sectoral_Balance_Sheet!E62","v":0}]
[null,null,null,null,"Market Price cannot be left blank",null,null,{"$f":"IF(COUNTIF(SBSA_NOM_HSE!AE10:AE1009,\"Check\")=0,\"ok\",COUNTIF(SBSA_NOM_HSE!AE10:AE1009,\"Check\"))","v":"ok"},{"$f":"IF(H38=\"OK\",1,0)","v":1}]
[]
[null,null,null,"Input","Input 12 digit ISIN",null,null,{"$f":"IF(COUNTIF(SBSA_NOM_HSE!AI10:AI1009,\"Check\")=0,\"ok\",COUNTIF(SBSA_NOM_HSE!AI10:AI1009,\"Check\"))","v":"ok"},{"$f":"IF(H40=\"OK\",1,0)","v":1}]
[null,null,null,null,"Duplicate ISINS must have same Market Price",null,null,{"$f":"IF(COUNTIF(SBSA_NOM_HSE!AJ10:AJ1009,\"Check\")=0,\"ok\",COUNTIF(SBSA_NOM_HSE!AJ10:AJ1009,\"Check\"))","v":"ok"},{"$f":"IF(H41=\"OK\",1,0)","v":1}]
[null,null,null,null,"Input 3 digit currency denomination",null,null,{"$f":"IF(COUNTIF(SBSA_NOM_HSE!AK10:AK1009,\"Check\")=0,\"ok\",COUNTIF(SBSA_NOM_HSE!AK10:AK1009,\"Check\"))","v":"ok"},{"$f":"IF(H42=\"OK\",1,0)","v":1}]
[null,null,null,null,"Input numbers only",null,null,{"$f":"IF(COUNTIF(SBSA_NOM_HSE!AL10:AL1009,\"Check\")=0,\"ok\",COUNTIF(SBSA_NOM_HSE!AL10:AL1009,\"Check\"))","v":"ok"},{"$f":"IF(H43=\"OK\",1,0)","v":1}]
[null,null,null,null,"Positive values only",null,null,{"$f":"IF(COUNTIF(SBSA_NOM_HSE!AM10:AM1009,\"Check\")=0,\"ok\",COUNTIF(SBSA_NOM_HSE!AM10:AM1009,\"Check\"))","v":"ok"},{"$f":"IF(H44=\"OK\",1,0)","v":1}]
[]
[]
[null,null,"Non SBS Nominee",null,"Select Instrument",null,null,{"$f":"IF(COUNTIF(Non_SBS_Nominee!K13:K134,\"Select Instrument\")=0,\"ok\",COUNTIF(Non_SBS_Nominee!K13:K134,\"Select Instrument\"))","v":"ok"},{"$f":"IF(H47=\"OK\",1,0)","v":1}]
[null,null,null,null,"Select Country",null,null,{"$f":"IF(COUNTIF(Non_SBS_Nominee!L13:L134,\"Select Country\")=0,\"ok\",COUNTIF(Non_SBS_Nominee!L13:L134,\"Select Country\"))","v":"ok"},{"$f":"IF(H48=\"OK\",1,0)","v":1}]
[null,null,null,null,"Select Sector",null,null,{"$f":"IF(COUNTIF(Non_SBS_Nominee!M13:M134,\"Select Sector\")=0,\"ok\",COUNTIF(Non_SBS_Nominee!M13:M134,\"Select Sector\"))","v":"ok"},{"$f":"IF(H49=\"OK\",1,0)","v":1}]
[null,null,null,null,"Input Values",null,null,{"$f":"IF(COUNTIF(Non_SBS_Nominee!N13:N134,\"Input Values\")=0,\"ok\",COUNTIF(Non_SBS_Nominee!N13:N134,\"Input Values\"))","v":"ok"},{"$f":"IF(H50=\"OK\",1,0)","v":1}]
[]
[]
[null,null,"Non-Resident Nominee",null,"Select Instrument",null,null,{"$f":"IF(COUNTIF('Non-Resident_Nominee'!K13:K124,\"Select Instrument\")=0,\"ok\",COUNTIF('Non-Resident_Nominee'!K13:K124,\"Select Instrument\"))","v":"ok"},{"$f":"IF(H53=\"OK\",1,0)","v":1}]
[null,null,null,null,"Select Country",null,null,{"$f":"IF(COUNTIF('Non-Resident_Nominee'!L13:L124,\"Select Country\")=0,\"ok\",COUNTIF('Non-Resident_Nominee'!L13:L124,\"Select Country\"))","v":"ok"},{"$f":"IF(H54=\"OK\",1,0)","v":1}]
[null,null,null,null,"Select Sector",null,null,{"$f":"IF(COUNTIF('Non-Resident_Nominee'!M13:M124,\"Select Sector\")=0,\"ok\",COUNTIF('Non-Resident_Nominee'!M13:M124,\"Select Sector\"))","v":"ok"},{"$f":"IF(H55=\"OK\",1,0)","v":1}]
[null,null,null,null,"Input Values",null,null,{"$f":"IF(COUNTIF('Non-Resident_Nominee'!N13:N124,\"Input Values\")=0,\"ok\",COUNTIF('Non-Resident_Nominee'!N13:N124,\"Input Values\"))","v":"ok"},{"$f":"IF(H56=\"OK\",1,0)","v":1}]
[]
[]
[null,null,"Non Nominee",null,"Select Instrument",null,null,{"$f":"IF(COUNTIF(Non_Nominee!K13:K91,\"Select Instrument\")=0,\"ok\",COUNTIF(Non_Nominee!K13:K91,\"Select Instrument\"))","v":"ok"},{"$f":"IF(H59=\"OK\",1,0)","v":1}]
[null,null,null,null,"Select Country",null,null,{"$f":"IF(COUNTIF(Non_Nominee!L13:L91,\"Select Country\")=0,\"ok\",COUNTIF(Non_Nominee!L13:L91,\"Select Country\"))","v":"ok"},{"$f":"IF(H60=\"OK\",1,0)","v":1}]
[null,null,null,null,"Select Sector",null,null,{"$f":"IF(COUNTIF(Non_Nominee!M13:M91,\"Select Sector\")=0,\"ok\",COUNTIF(Non_Nominee!M13:M91,\"Select Sector\"))","v":"ok"},{"$f":"IF(H61=\"OK\",1,0)","v":1}]
[null,null,null,null,"Input Values",null,null,{"$f":"IF(COUNTIF(Non_Nominee!N13:N91,\"Input Values\")=0,\"ok\",COUNTIF(Non_Nominee!N13:N91,\"Input Values\"))","v":"ok"},{"$f":"IF(H62=\"OK\",1,0)","v":1}]
[]
[]
[null,null,"Transactions for period",null,"Select Month",null,null,{"$f":"IF(Transactions_for_period!C6=\"Select Month\",Transactions_for_period!C6,\"ok\")","v":"ok"},{"$f":"IF(H65=\"OK\",1,0)","v":1}]
[null,null,null,null,"Select Year",null,null,{"$f":"IF(Transactions_for_period!D6=\"Select Year\",Transactions_for_period!D6,\"ok\")","v":"ok"},{"$f":"IF(H66=\"OK\",1,0)","v":1}]
[]
[]
[null,null,"Income & Services",null,"Select Instrument",null,null,{"$f":"IF(COUNTIF('Income_&_Services'!G13:G85,\"Select Instrument\")=0,\"ok\",COUNTIF('Income_&_Services'!G13:G85,\"Select Instrument\"))","v":"ok"},{"$f":"IF(H69=\"OK\",1,0)","v":1}]
[null,null,null,null,"Select Country",null,null,{"$f":"IF(COUNTIF('Income_&_Services'!H13:H85,\"Select Country\")=0,\"ok\",COUNTIF('Income_&_Services'!H13:H85,\"Select Country\"))","v":"ok"},{"$f":"IF(H70=\"OK\",1,0)","v":1}]
[null,null,null,null,"Input Values",null,null,{"$f":"IF(COUNTIF('Income_&_Services'!I13:I85,\"Input Values\")=0,\"ok\",COUNTIF('Income_&_Services'!I13:I85,\"Input Values\"))","v":"ok"},{"$f":"IF(H71=\"OK\",1,0)","v":1}]
[]
[]
[null,null,"External Balance Sheet",null,"Select Instrument",null,null,{"$f":"IF(COUNTIF(External_Balance_Sheet!K13:K106,\"Select Instrument\")=0,\"ok\",COUNTIF(External_Balance_Sheet!K13:K106,\"Select Instrument\"))","v":"ok"},{"$f":"IF(H74=\"OK\",1,0)","v":1}]
[null,null,null,null,"Select Country",null,null,{"$f":"IF(COUNTIF(External_Balance_Sheet!L13:L106,\"Select Country\")=0,\"ok\",COUNTIF(External_Balance_Sheet!L13:L106,\"Select Country\"))","v":"ok"},{"$f":"IF(H75=\"OK\",1,0)","v":1}]
[null,null,null,null,"Input Values",null,null,{"$f":"IF(COUNTIF(External_Balance_Sheet!M13:M106,\"Input Values\")=0,\"ok\",COUNTIF(External_Balance_Sheet!M13:M106,\"Input Values\"))","v":"ok"},{"$f":"IF(H76=\"OK\",1,0)","v":1}]
[null,null,null,null,"Select sector of issuer",null,null,{"$f":"IF(COUNTIF(External_Balance_Sheet!N13:N106,\"Select sector of issuer\")=0,\"ok\",COUNTIF(External_Balance_Sheet!N13:N106,\"Select sector of issuer\"))","v":"ok"},{"$f":"IF(H77=\"OK\",1,0)","v":1}]

{"sheet":"SBSA_NOM_HSE","index":16,"n_rows":5010,"n_cols":39,"rows_kept":2250,"cut":true,"hidden":true,"merged":[[0,2,0,6],[4,26,4,30],[4,34,4,38],[7,3,7,6]],"bounds":{"rows_first":1000,"rows_last":250,"rows_between":1000,"halvings":1}}
[null,null,"REPORTING OF SECURITIES HELD ON BEHALF OF RESIDENT HOUSEHOLD CLIENTS (NOMINEE) ON A SECURITY BY SECURITY (SBS) BASIS",null,null,null,null,null,null,null,null,null,null,null,null,null,null,null,null,null,null,null,null,null,null,null,null,null,null,{"$f":"IF(ABS(SUM(AD10:AD5009))>=0.55,SUM(AD10:AD5009),0)","v":0},null,null,"HIDE\nPINK","A"]
[null,null,"Company Name:",{"$f":"IF(Validation_Checks_CBM!E6<>\"\",Validation_Checks_CBM!E6,\"\")","v":0},null,null,null,null,null,null,null,null,null,null,null,null,null,null,null,null,null,null,null,null,null,null,null,null,null,{"$f":"\"Difference in € '000s: \"&AD1","v":"Difference in € '000s: 0"},null,null,"SHADED\nCOLUMNS",1]
[null,null,null,null,null,null,null,null,null,null,null,null,null,null,null,null,null,null,null,null,null,null,null,null,null,null,null,null,null,null,null,null,null,0]
[null,null,"Return for the quarter ending:",null,{"$f":"IF(AND(Validation_Checks_CBM!E12<>\"\",Validation_Checks_CBM!E13<>\"\"),VLOOKUP(Validation_Checks_CBM!AA2,Validation_Checks_CBM!AA4:AC22,3,FALSE),\"\")","v":""},{"$f":"IF(AND(Validation_Checks_CBM!E12<>\"\",Validation_Checks_CBM!E8<>\"\"),Validation_Checks_CBM!E8,\"\")","v":""},{"$f":"IF(SUM(AA8:AC8,AE8,AI8:AM8)<>0,\"Input error. Kindly refer to columns AA to AM\",\"\")","v":""},null,null,null,null,null,null,null,null,null,null,null,null,null,null,null,null,null,null,null,null,null,null,null,null,null,null,1]
[null,null,null,null,{"$f":"IF(AND(COUNTBLANK(C10:C1009)<1000,E4=\"\"),\"Kindly fill-in period details in sheet 'Validation_Checks_CBM' cells E8, E9, E10\",\"\")","v":""},null,null,null,null,null,null,null,null,null,null,null,null,null,null,null,null,null,null,null,null,null,{"$f":"IF(OR(AA8<>0,AB8<>0,AC8<>0,AE8<>0),\"V     A     L     I     D     A     T     I     O     N           C     H     E     C     K     S\",\"\")","v":""},null,null,null,null,null,null,1,{"$f":"IF(OR(AI8<>0,AJ8<>0,AK8<>0, AL8<>0,AM8<>0),\"I     N     P     U     T           C     H     E     C     K     S\",\"\")","v":""}]
[null,null,"SBSTIT1","SBSTIT2","SBSTIT3","SBSTIT4","SBSTIT5",null,null,null,null,null,null,null,null,null,null,null,null,null,null,null,null,null,null,null,null,null,null,null,null,null,null,2]
[null,null,"Security identifier code","Position at end of period; Number of Units/shares","Position at end of period; Nominal Value ","Position at end of period; Nominal Currency","Position at end of period; Market price",null,null,null,null,null,null,null,null,null,null,null,null,null,null,null,null,null,null,null,null,null,null,null,null,null,null,2]
[null,null,null,"Position at end of period",null,null,null,null,null,null,null,null,null,null,null,null,null,null,null,null,null,null,null,null,null,null,{"$f":"COUNTIF(AA10:AA5009,\"Check\")","v":0},{"$f":"COUNTIF(AB10:AB5009,\"Check\")","v":0},{"$f":"COUNTIF(AC10:AC5009,\"Check\")","v":0},{"$f":"IF(AD1=0,AD1,AD2)","v":0},{"$f":"COUNTIF(AE10:AE5009,\"Check\")","v":0},null,null,1,{"$f":"COUNTIF(AI10:AI5009,\"Check\")","v":0},{"$f":"COUNTIF(AJ10:AJ5009,\"Check\")","v":0},{"$f":"COUNTIF(AK10:AK5009,\"Check\")","v":0},{"$f":"COUNTIF(AL10:AL5009,\"Check\")","v":0},{"$f":"COUNTIF(AM10:AM5009,\"Check\")","v":0}]
[null,null,"Security identifier code (ISIN)","Number of units/shares (in 000s and applicable for shares and other equity only)","Nominal value (in euro 000s and applicable for debt securities only)","Denominated  currency","Market Price per unit/share in denomination  currency",null,null,null,null,null,null,null,null,null,null,null,null,null,null,null,null,null,null,null,{"$f":"IF(AA8<>0,\"Fill in the Security identifier code (ISIN)'\",\"\")","v":""},{"$f":"IF(AB8<>0,\"Fill either 'No of shares' & / or 'Nominal value'\",\"\")","v":""},{"$f":"IF(AC8<>0,\"Currency cannot be left blank'\",\"\")","v":""},{"$f":"IF(AD8<>0,\"Total debt position SBSA - NOM HSE + SBSA - NOM NFC (summation of each instrument's Nominal value divided by Price) minus 'Debt securities reported on a security by security basis (SBSA)' ('Sheet 23 Sectoral Balance Sheet' lines 62 + 66 column E) = zero\",\"\")","v":""},{"$f":"IF(AE8<>0,\"Market Price cannot be left blank'\",\"\")","v":""},null,"Security identifier code\n_Market price",1,{"$f":"IF(AI8<>0,\"Input 12 digit ISIN\",\"\")","v":""},{"$f":"IF(AJ8<>0,\"Duplicate ISINS must have same Market Price\",\"\")","v":""},{"$f":"IF(AK8<>0,\"Input 3 digit currency denomination\",\"\")","v":""},{"$f":"IF(AL8<>0,\"Input numbers only\",\"\")","v":""},{"$f":"IF(AM8<>0,\"Positive values only\",\"\")","v":""}]
["SBSA_1","SBSA_1",null,null,null,null,null,null,null,null,null,null,null,null,null,null,null,null,null,null,null,null,null,null,null,null,{"$f":"IF(AND(C10=\"\",OR(D10<>\"\",E10<>\"\",F10<>\"\",G10<>\"\")),\"Check\",\"\")","v":""},{"$f":"IF(AND(C10<>\"\",OR(AND(D10=\"\",E10=\"\"),AND(D10=0,E10=0),AND(ABS(D10)>0,ABS(E10)>0))),\"Check\",\"\")","v":""},{"$f":"IF(OR(\nOR(AND(D10<>\"\",F10=\"\"),AND(E10<>\"\",F10=\"\")),\nF10=LEFT(F10,MIN(FIND(0,SUBSTITUTE(F10,{1,2,3,4,5,6,7,8,9},0)&0))-1)=FALSE\n),\"Check\",\"\")","v":""},{"$f":"IF(OR(E10=\"\",G10=\"\"),\"\",(E10*G10)/100)","v":""},{"$f":"IF(AND(F10<>\"\",G10=\"\"),\"Check\",\"\")","v":""},null,{"$f":"IF(C10=\"\",\"\",C10&\"_\"&IF(G10=\"\",0,G10))","v":""},{"$f":"IF(COUNTBLANK(C10:G10)<5,1,0)","v":0},{"$f":"IF(C10=\"\",\"\",IF(LEN(C10)=12,\"\",\"Check\"))","v":""},{"$f":"IF(C10=\"\",\"\",IF(COUNTIF(C$10:C$65536,C10)=COUNTIF(AG$10:AG$65536,AG10),\"\",\"Check\"))","v":""},{"$f":"IF(F10=\"\",\"\",IF(LEN(F10)=3,\"\",\"Check\"))","v":""},{"$f":"IF(OR(IF(D10=\"\",\"\",IF(ISNUMBER(D10)=TRUE,\"\",\"TEXT\"))=\"TEXT\",IF(E10=\"\",\"\",IF(ISNUMBER(E10)=TRUE,\"\",\"TEXT\"))=\"TEXT\",IF(G10=\"\",\"\",IF(ISNUMBER(G10)=TRUE,\"\",\"TEXT\"))=\"TEXT\"),\"Check\",\"\")","v":""},{"$f":"IF(G10<0,\"Check\",\"\")","v":""}]
["SBSA_2","SBSA_2",null,null,null,null,null,null,null,null,null,null,null,null,null,null,null,null,null,null,null,null,null,null,null,null,"","",{"$f":"IF(OR(\nOR(AND(D11<>\"\",F11=\"\"),AND(E11<>\"\",F11=\"\")),\nF11=LEFT(F11,MIN(FIND(0,SUBSTITUTE(F11,{1,2,3,4,5,6,7,8,9},0)&0))-1)=FALSE\n),\"Check\",\"\")","v":""},"","",null,"",0,"","","","",""]
["SBSA_3","SBSA_3",null,null,null,null,null,null,null,null,null,null,null,null,null,null,null,null,null,null,null,null,null,null,null,null,"","",{"$f":"IF(OR(\nOR(AND(D12<>\"\",F12=\"\"),AND(E12<>\"\",F12=\"\")),\nF12=LEFT(F12,MIN(FIND(0,SUBSTITUTE(F12,{1,2,3,4,5,6,7,8,9},0)&0))-1)=FALSE\n),\"Check\",\"\")","v":""},"","",null,"",0,"","","","",""]
["SBSA_4","SBSA_4",null,null,null,null,null,null,null,null,null,null,null,null,null,null,null,null,null,null,null,null,null,null,null,null,"","",{"$f":"IF(OR(\nOR(AND(D13<>\"\",F13=\"\"),AND(E13<>\"\",F13=\"\")),\nF13=LEFT(F13,MIN(FIND(0,SUBSTITUTE(F13,{1,2,3,4,5,6,7,8,9},0)&0))-1)=FALSE\n),\"Check\",\"\")","v":""},"","",null,"",0,"","","","",""]
["SBSA_5","SBSA_5",null,null,null,null,null,null,null,null,null,null,null,null,null,null,null,null,null,null,null,null,null,null,null,null,"","",{"$f":"IF(OR(\nOR(AND(D14<>\"\",F14=\"\"),AND(E14<>\"\",F14=\"\")),\nF14=LEFT(F14,MIN(FIND(0,SUBSTITUTE(F14,{1,2,3,4,5,6,7,8,9},0)&0))-1)=FALSE\n),\"Check\",\"\")","v":""},"","",null,"",0,"","","","",""]
["SBSA_6","SBSA_6",null,null,null,null,null,null,null,null,null,null,null,null,null,null,null,null,null,null,null,null,null,null,null,null,"","",{"$f":"IF(OR(\nOR(AND(D15<>\"\",F15=\"\"),AND(E15<>\"\",F15=\"\")),\nF15=LEFT(F15,MIN(FIND(0,SUBSTITUTE(F15,{1,2,3,4,5,6,7,8,9},0)&0))-1)=FALSE\n),\"Check\",\"\")","v":""},"","",null,"",0,"","","","",""]
["SBSA_7","SBSA_7",null,null,null,null,null,null,null,null,null,null,null,null,null,null,null,null,null,null,null,null,null,null,null,null,"","",{"$f":"IF(OR(\nOR(AND(D16<>\"\",F16=\"\"),AND(E16<>\"\",F16=\"\")),\nF16=LEFT(F16,MIN(FIND(0,SUBSTITUTE(F16,{1,2,3,4,5,6,7,8,9},0)&0))-1)=FALSE\n),\"Check\",\"\")","v":""},"","",null,"",0,"","","","",""]
["SBSA_8","SBSA_8",null,null,null,null,null,null,null,null,null,null,null,null,null,null,null,null,null,null,null,null,null,null,null,null,"","",{"$f":"IF(OR(\nOR(AND(D17<>\"\",F17=\"\"),AND(E17<>\"\",F17=\"\")),\nF17=LEFT(F17,MIN(FIND(0,SUBSTITUTE(F17,{1,2,3,4,5,6,7,8,9},0)&0))-1)=FALSE\n),\"Check\",\"\")","v":""},"","",null,"",0,"","","","",""]
["SBSA_9","SBSA_9",null,null,null,null,null,null,null,null,null,null,null,null,null,null,null,null,null,null,null,null,null,null,null,null,"","",{"$f":"IF(OR(\nOR(AND(D18<>\"\",F18=\"\"),AND(E18<>\"\",F18=\"\")),\nF18=LEFT(F18,MIN(FIND(0,SUBSTITUTE(F18,{1,2,3,4,5,6,7,8,9},0)&0))-1)=FALSE\n),\"Check\",\"\")","v":""},"","",null,"",0,"","","","",""]
["SBSA_10","SBSA_10",null,null,null,null,null,null,null,null,null,null,null,null,null,null,null,null,null,null,null,null,null,null,null,null,"","",{"$f":"IF(OR(\nOR(AND(D19<>\"\",F19=\"\"),AND(E19<>\"\",F19=\"\")),\nF19=LEFT(F19,MIN(FIND(0,SUBSTITUTE(F19,{1,2,3,4,5,6,7,8,9},0)&0))-1)=FALSE\n),\"Check\",\"\")","v":""},"","",null,"",0,"","","","",""]
["SBSA_11","SBSA_11",null,null,null,null,null,null,null,null,null,null,null,null,null,null,null,null,null,null,null,null,null,null,null,null,"","",{"$f":"IF(OR(\nOR(AND(D20<>\"\",F20=\"\"),AND(E20<>\"\",F20=\"\")),\nF20=LEFT(F20,MIN(FIND(0,SUBSTITUTE(F20,{1,2,3,4,5,6,7,8,9},0)&0))-1)=FALSE\n),\"Check\",\"\")","v":""},"","",null,"",0,"","","","",""]
["SBSA_12","SBSA_12",null,null,null,null,null,null,null,null,null,null,null,null,null,null,null,null,null,null,null,null,null,null,null,null,"","",{"$f":"IF(OR(\nOR(AND(D21<>\"\",F21=\"\"),AND(E21<>\"\",F21=\"\")),\nF21=LEFT(F21,MIN(FIND(0,SUBSTITUTE(F21,{1,2,3,4,5,6,7,8,9},0)&0))-1)=FALSE\n),\"Check\",\"\")","v":""},"","",null,"",0,"","","","",""]
["SBSA_13","SBSA_13",null,null,null,null,null,null,null,null,null,null,null,null,null,null,null,null,null,null,null,null,null,null,null,null,"","",{"$f":"IF(OR(\nOR(AND(D22<>\"\",F22=\"\"),AND(E22<>\"\",F22=\"\")),\nF22=LEFT(F22,MIN(FIND(0,SUBSTITUTE(F22,{1,2,3,4,5,6,7,8,9},0)&0))-1)=FALSE\n),\"Check\",\"\")","v":""},"","",null,"",0,"","","","",""]
["SBSA_14","SBSA_14",null,null,null,null,null,null,null,null,null,null,null,null,null,null,null,null,null,null,null,null,null,null,null,null,"","",{"$f":"IF(OR(\nOR(AND(D23<>\"\",F23=\"\"),AND(E23<>\"\",F23=\"\")),\nF23=LEFT(F23,MIN(FIND(0,SUBSTITUTE(F23,{1,2,3,4,5,6,7,8,9},0)&0))-1)=FALSE\n),\"Check\",\"\")","v":""},"","",null,"",0,"","","","",""]
["SBSA_15","SBSA_15",null,null,null,null,null,null,null,null,null,null,null,null,null,null,null,null,null,null,null,null,null,null,null,null,"","",{"$f":"IF(OR(\nOR(AND(D24<>\"\",F24=\"\"),AND(E24<>\"\",F24=\"\")),\nF24=LEFT(F24,MIN(FIND(0,SUBSTITUTE(F24,{1,2,3,4,5,6,7,8,9},0)&0))-1)=FALSE\n),\"Check\",\"\")","v":""},"","",null,"",0,"","","","",""]
["SBSA_16","SBSA_16",null,null,null,null,null,null,null,null,null,null,null,null,null,null,null,null,null,null,null,null,null,null,null,null,"","",{"$f":"IF(OR(\nOR(AND(D25<>\"\",F25=\"\"),AND(E25<>\"\",F25=\"\")),\nF25=LEFT(F25,MIN(FIND(0,SUBSTITUTE(F25,{1,2,3,4,5,6,7,8,9},0)&0))-1)=FALSE\n),\"Check\",\"\")","v":""},"","",null,"",0,"","","","",""]
["SBSA_17","SBSA_17",null,null,null,null,null,null,null,null,null,null,null,null,null,null,null,null,null,null,null,null,null,null,null,null,"","",{"$f":"IF(OR(\nOR(AND(D26<>\"\",F26=\"\"),AND(E26<>\"\",F26=\"\")),\nF26=LEFT(F26,MIN(FIND(0,SUBSTITUTE(F26,{1,2,3,4,5,6,7,8,9},0)&0))-1)=FALSE\n),\"Check\",\"\")","v":""},"","",null,"",0,"","","","",""]
["SBSA_18","SBSA_18",null,null,null,null,null,null,null,null,null,null,null,null,null,null,null,null,null,null,null,null,null,null,null,null,"","",{"$f":"IF(OR(\nOR(AND(D27<>\"\",F27=\"\"),AND(E27<>\"\",F27=\"\")),\nF27=LEFT(F27,MIN(FIND(0,SUBSTITUTE(F27,{1,2,3,4,5,6,7,8,9},0)&0))-1)=FALSE\n),\"Check\",\"\")","v":""},"","",null,"",0,"","","","",""]
["SBSA_19","SBSA_19",null,null,null,null,null,null,null,null,null,null,null,null,null,null,null,null,null,null,null,null,null,null,null,null,"","",{"$f":"IF(OR(\nOR(AND(D28<>\"\",F28=\"\"),AND(E28<>\"\",F28=\"\")),\nF28=LEFT(F28,MIN(FIND(0,SUBSTITUTE(F28,{1,2,3,4,5,6,7,8,9},0)&0))-1)=FALSE\n),\"Check\",\"\")","v":""},"","",null,"",0,"","","","",""]
["SBSA_20","SBSA_20",null,null,null,null,null,null,null,null,null,null,null,null,null,null,null,null,null,null,null,null,null,null,null,null,"","",{"$f":"IF(OR(\nOR(AND(D29<>\"\",F29=\"\"),AND(E29<>\"\",F29=\"\")),\nF29=LEFT(F29,MIN(FIND(0,SUBSTITUTE(F29,{1,2,3,4,5,6,7,8,9},0)&0))-1)=FALSE\n),\"Check\",\"\")","v":""},"","",null,"",0,"","","","",""]
["SBSA_21","SBSA_21",null,null,null,null,null,null,null,null,null,null,null,null,null,null,null,null,null,null,null,null,null,null,null,null,"","",{"$f":"IF(OR(\nOR(AND(D30<>\"\",F30=\"\"),AND(E30<>\"\",F30=\"\")),\nF30=LEFT(F30,MIN(FIND(0,SUBSTITUTE(F30,{1,2,3,4,5,6,7,8,9},0)&0))-1)=FALSE\n),\"Check\",\"\")","v":""},"","",null,"",0,"","","","",""]
["SBSA_22","SBSA_22",null,null,null,null,null,null,null,null,null,null,null,null,null,null,null,null,null,null,null,null,null,null,null,null,"","",{"$f":"IF(OR(\nOR(AND(D31<>\"\",F31=\"\"),AND(E31<>\"\",F31=\"\")),\nF31=LEFT(F31,MIN(FIND(0,SUBSTITUTE(F31,{1,2,3,4,5,6,7,8,9},0)&0))-1)=FALSE\n),\"Check\",\"\")","v":""},"","",null,"",0,"","","","",""]
["SBSA_23","SBSA_23",null,null,null,null,null,null,null,null,null,null,null,null,null,null,null,null,null,null,null,null,null,null,null,null,"","",{"$f":"IF(OR(\nOR(AND(D32<>\"\",F32=\"\"),AND(E32<>\"\",F32=\"\")),\nF32=LEFT(F32,MIN(FIND(0,SUBSTITUTE(F32,{1,2,3,4,5,6,7,8,9},0)&0))-1)=FALSE\n),\"Check\",\"\")","v":""},"","",null,"",0,"","","","",""]
["SBSA_24","SBSA_24",null,null,null,null,null,null,null,null,null,null,null,null,null,null,null,null,null,null,null,null,null,null,null,null,"","",{"$f":"IF(OR(\nOR(AND(D33<>\"\",F33=\"\"),AND(E33<>\"\",F33=\"\")),\nF33=LEFT(F33,MIN(FIND(0,SUBSTITUTE(F33,{1,2,3,4,5,6,7,8,9},0)&0))-1)=FALSE\n),\"Check\",\"\")","v":""},"","",null,"",0,"","","","",""]
["SBSA_25","SBSA_25",null,null,null,null,null,null,null,null,null,null,null,null,null,null,null,null,null,null,null,null,null,null,null,null,"","",{"$f":"IF(OR(\nOR(AND(D34<>\"\",F34=\"\"),AND(E34<>\"\",F34=\"\")),\nF34=LEFT(F34,MIN(FIND(0,SUBSTITUTE(F34,{1,2,3,4,5,6,7,8,9},0)&0))-1)=FALSE\n),\"Check\",\"\")","v":""},"","",null,"",0,"","","","",""]
["SBSA_26","SBSA_26",null,null,null,null,null,null,null,null,null,null,null,null,null,null,null,null,null,null,null,null,null,null,null,null,"","",{"$f":"IF(OR(\nOR(AND(D35<>\"\",F35=\"\"),AND(E35<>\"\",F35=\"\")),\nF35=LEFT(F35,MIN(FIND(0,SUBSTITUTE(F35,{1,2,3,4,5,6,7,8,9},0)&0))-1)=FALSE\n),\"Check\",\"\")","v":""},"","",null,"",0,"","","","",""]
["SBSA_27","SBSA_27",null,null,null,null,null,null,null,null,null,null,null,null,null,null,null,null,null,null,null,null,null,null,null,null,"","",{"$f":"IF(OR(\nOR(AND(D36<>\"\",F36=\"\"),AND(E36<>\"\",F36=\"\")),\nF36=LEFT(F36,MIN(FIND(0,SUBSTITUTE(F36,{1,2,3,4,5,6,7,8,9},0)&0))-1)=FALSE\n),\"Check\",\"\")","v":""},"","",null,"",0,"","","","",""]
["SBSA_28","SBSA_28",null,null,null,null,null,null,null,null,null,null,null,null,null,null,null,null,null,null,null,null,null,null,null,null,"","",{"$f":"IF(OR(\nOR(AND(D37<>\"\",F37=\"\"),AND(E37<>\"\",F37=\"\")),\nF37=LEFT(F37,MIN(FIND(0,SUBSTITUTE(F37,{1,2,3,4,5,6,7,8,9},0)&0))-1)=FALSE\n),\"Check\",\"\")","v":""},"","",null,"",0,"","","","",""]
["SBSA_29","SBSA_29",null,null,null,null,null,null,null,null,null,null,null,null,null,null,null,null,null,null,null,null,null,null,null,null,"","",{"$f":"IF(OR(\nOR(AND(D38<>\"\",F38=\"\"),AND(E38<>\"\",F38=\"\")),\nF38=LEFT(F38,MIN(FIND(0,SUBSTITUTE(F38,{1,2,3,4,5,6,7,8,9},0)&0))-1)=FALSE\n),\"Check\",\"\")","v":""},"","",null,"",0,"","","","",""]
["SBSA_30","SBSA_30",null,null,null,null,null,null,null,null,null,null,null,null,null,null,null,null,null,null,null,null,null,null,null,null,"","",{"$f":"IF(OR(\nOR(AND(D39<>\"\",F39=\"\"),AND(E39<>\"\",F39=\"\")),\nF39=LEFT(F39,MIN(FIND(0,SUBSTITUTE(F39,{1,2,3,4,5,6,7,8,9},0)&0))-1)=FALSE\n),\"Check\",\"\")","v":""},"","",null,"",0,"","","","",""]
["SBSA_31","SBSA_31",null,null,null,null,null,null,null,null,null,null,null,null,null,null,null,null,null,null,null,null,null,null,null,null,"","",{"$f":"IF(OR(\nOR(AND(D40<>\"\",F40=\"\"),AND(E40<>\"\",F40=\"\")),\nF40=LEFT(F40,MIN(FIND(0,SUBSTITUTE(F40,{1,2,3,4,5,6,7,8,9},0)&0))-1)=FALSE\n),\"Check\",\"\")","v":""},"","",null,"",0,"","","","",""]
["SBSA_32","SBSA_32",null,null,null,null,null,null,null,null,null,null,null,null,null,null,null,null,null,null,null,null,null,null,null,null,"","",{"$f":"IF(OR(\nOR(AND(D41<>\"\",F41=\"\"),AND(E41<>\"\",F41=\"\")),\nF41=LEFT(F41,MIN(FIND(0,SUBSTITUTE(F41,{1,2,3,4,5,6,7,8,9},0)&0))-1)=FALSE\n),\"Check\",\"\")","v":""},"","",null,"",0,"","","","",""]
["SBSA_33","SBSA_33",null,null,null,null,null,null,null,null,null,null,null,null,null,null,null,null,null,null,null,null,null,null,null,null,"","",{"$f":"IF(OR(\nOR(AND(D42<>\"\",F42=\"\"),AND(E42<>\"\",F42=\"\")),\nF42=LEFT(F42,MIN(FIND(0,SUBSTITUTE(F42,{1,2,3,4,5,6,7,8,9},0)&0))-1)=FALSE\n),\"Check\",\"\")","v":""},"","",null,"",0,"","","","",""]
["SBSA_34","SBSA_34",null,null,null,null,null,null,null,null,null,null,null,null,null,null,null,null,null,null,null,null,null,null,null,null,"","",{"$f":"IF(OR(\nOR(AND(D43<>\"\",F43=\"\"),AND(E43<>\"\",F43=\"\")),\nF43=LEFT(F43,MIN(FIND(0,SUBSTITUTE(F43,{1,2,3,4,5,6,7,8,9},0)&0))-1)=FALSE\n),\"Check\",\"\")","v":""},"","",null,"",0,"","","","",""]
["SBSA_35","SBSA_35",null,null,null,null,null,null,null,null,null,null,null,null,null,null,null,null,null,null,null,null,null,null,null,null,"","",{"$f":"IF(OR(\nOR(AND(D44<>\"\",F44=\"\"),AND(E44<>\"\",F44=\"\")),\nF44=LEFT(F44,MIN(FIND(0,SUBSTITUTE(F44,{1,2,3,4,5,6,7,8,9},0)&0))-1)=FALSE\n),\"Check\",\"\")","v":""},"","",null,"",0,"","","","",""]
["SBSA_36","SBSA_36",null,null,null,null,null,null,null,null,null,null,null,null,null,null,null,null,null,null,null,null,null,null,null,null,"","",{"$f":"IF(OR(\nOR(AND(D45<>\"\",F45=\"\"),AND(E45<>\"\",F45=\"\")),\nF45=LEFT(F45,MIN(FIND(0,SUBSTITUTE(F45,{1,2,3,4,5,6,7,8,9},0)&0))-1)=FALSE\n),\"Check\",\"\")","v":""},"","",null,"",0,"","","","",""]
["SBSA_37","SBSA_37",null,null,null,null,null,null,null,null,null,null,null,null,null,null,null,null,null,null,null,null,null,null,null,null,"","",{"$f":"IF(OR(\nOR(AND(D46<>\"\",F46=\"\"),AND(E46<>\"\",F46=\"\")),\nF46=LEFT(F46,MIN(FIND(0,SUBSTITUTE(F46,{1,2,3,4,5,6,7,8,9},0)&0))-1)=FALSE\n),\"Check\",\"\")","v":""},"","",null,"",0,"","","","",""]
["SBSA_38","SBSA_38",null,null,null,null,null,null,null,null,null,null,null,null,null,null,null,null,null,null,null,null,null,null,null,null,"","",{"$f":"IF(OR(\nOR(AND(D47<>\"\",F47=\"\"),AND(E47<>\"\",F47=\"\")),\nF47=LEFT(F47,MIN(FIND(0,SUBSTITUTE(F47,{1,2,3,4,5,6,7,8,9},0)&0))-1)=FALSE\n),\"Check\",\"\")","v":""},"","",null,"",0,"","","","",""]
["SBSA_39","SBSA_39",null,null,null,null,null,null,null,null,null,null,null,null,null,null,null,null,null,null,null,null,null,null,null,null,"","",{"$f":"IF(OR(\nOR(AND(D48<>\"\",F48=\"\"),AND(E48<>\"\",F48=\"\")),\nF48=LEFT(F48,MIN(FIND(0,SUBSTITUTE(F48,{1,2,3,4,5,6,7,8,9},0)&0))-1)=FALSE\n),\"Check\",\"\")","v":""},"","",null,"",0,"","","","",""]
["SBSA_40","SBSA_40",null,null,null,null,null,null,null,null,null,null,null,null,null,null,null,null,null,null,null,null,null,null,null,null,"","",{"$f":"IF(OR(\nOR(AND(D49<>\"\",F49=\"\"),AND(E49<>\"\",F49=\"\")),\nF49=LEFT(F49,MIN(FIND(0,SUBSTITUTE(F49,{1,2,3,4,5,6,7,8,9},0)&0))-1)=FALSE\n),\"Check\",\"\")","v":""},"","",null,"",0,"","","","",""]
["SBSA_41","SBSA_41",null,null,null,null,null,null,null,null,null,null,null,null,null,null,null,null,null,null,null,null,null,null,null,null,"","",{"$f":"IF(OR(\nOR(AND(D50<>\"\",F50=\"\"),AND(E50<>\"\",F50=\"\")),\nF50=LEFT(F50,MIN(FIND(0,SUBSTITUTE(F50,{1,2,3,4,5,6,7,8,9},0)&0))-1)=FALSE\n),\"Check\",\"\")","v":""},"","",null,"",0,"","","","",""]
["SBSA_42","SBSA_42",null,null,null,null,null,null,null,null,null,null,null,null,null,null,null,null,null,null,null,null,null,null,null,null,"","",{"$f":"IF(OR(\nOR(AND(D51<>\"\",F51=\"\"),AND(E51<>\"\",F51=\"\")),\nF51=LEFT(F51,MIN(FIND(0,SUBSTITUTE(F51,{1,2,3,4,5,6,7,8,9},0)&0))-1)=FALSE\n),\"Check\",\"\")","v":""},"","",null,"",0,"","","","",""]
["SBSA_43","SBSA_43",null,null,null,null,null,null,null,null,null,null,null,null,null,null,null,null,null,null,null,null,null,null,null,null,"","",{"$f":"IF(OR(\nOR(AND(D52<>\"\",F52=\"\"),AND(E52<>\"\",F52=\"\")),\nF52=LEFT(F52,MIN(FIND(0,SUBSTITUTE(F52,{1,2,3,4,5,6,7,8,9},0)&0))-1)=FALSE\n),\"Check\",\"\")","v":""},"","",null,"",0,"","","","",""]
["SBSA_44","SBSA_44",null,null,null,null,null,null,null,null,null,null,null,null,null,null,null,null,null,null,null,null,null,null,null,null,"","",{"$f":"IF(OR(\nOR(AND(D53<>\"\",F53=\"\"),AND(E53<>\"\",F53=\"\")),\nF53=LEFT(F53,MIN(FIND(0,SUBSTITUTE(F53,{1,2,3,4,5,6,7,8,9},0)&0))-1)=FALSE\n),\"Check\",\"\")","v":""},"","",null,"",0,"","","","",""]
["SBSA_45","SBSA_45",null,null,null,null,null,null,null,null,null,null,null,null,null,null,null,null,null,null,null,null,null,null,null,null,"","",{"$f":"IF(OR(\nOR(AND(D54<>\"\",F54=\"\"),AND(E54<>\"\",F54=\"\")),\nF54=LEFT(F54,MIN(FIND(0,SUBSTITUTE(F54,{1,2,3,4,5,6,7,8,9},0)&0))-1)=FALSE\n),\"Check\",\"\")","v":""},"","",null,"",0,"","","","",""]
["SBSA_46","SBSA_46",null,null,null,null,null,null,null,null,null,null,null,null,null,null,null,null,null,null,null,null,null,null,null,null,"","",{"$f":"IF(OR(\nOR(AND(D55<>\"\",F55=\"\"),AND(E55<>\"\",F55=\"\")),\nF55=LEFT(F55,MIN(FIND(0,SUBSTITUTE(F55,{1,2,3,4,5,6,7,8,9},0)&0))-1)=FALSE\n),\"Check\",\"\")","v":""},"","",null,"",0,"","","","",""]
["SBSA_47","SBSA_47",null,null,null,null,null,null,null,null,null,null,null,null,null,null,null,null,null,null,null,null,null,null,null,null,"","",{"$f":"IF(OR(\nOR(AND(D56<>\"\",F56=\"\"),AND(E56<>\"\",F56=\"\")),\nF56=LEFT(F56,MIN(FIND(0,SUBSTITUTE(F56,{1,2,3,4,5,6,7,8,9},0)&0))-1)=FALSE\n),\"Check\",\"\")","v":""},"","",null,"",0,"","","","",""]
["SBSA_48","SBSA_48",null,null,null,null,null,null,null,null,null,null,null,null,null,null,null,null,null,null,null,null,null,null,null,null,"","",{"$f":"IF(OR(\nOR(AND(D57<>\"\",F57=\"\"),AND(E57<>\"\",F57=\"\")),\nF57=LEFT(F57,MIN(FIND(0,SUBSTITUTE(F57,{1,2,3,4,5,6,7,8,9},0)&0))-1)=FALSE\n),\"Check\",\"\")","v":""},"","",null,"",0,"","","","",""]
["SBSA_49","SBSA_49",null,null,null,null,null,null,null,null,null,null,null,null,null,null,null,null,null,null,null,null,null,null,null,null,"","",{"$f":"IF(OR(\nOR(AND(D58<>\"\",F58=\"\"),AND(E58<>\"\",F58=\"\")),\nF58=LEFT(F58,MIN(FIND(0,SUBSTITUTE(F58,{1,2,3,4,5,6,7,8,9},0)&0))-1)=FALSE\n),\"Check\",\"\")","v":""},"","",null,"",0,"","","","",""]
["SBSA_50","SBSA_50",null,null,null,null,null,null,null,null,null,null,null,null,null,null,null,null,null,null,null,null,null,null,null,null,"","",{"$f":"IF(OR(\nOR(AND(D59<>\"\",F59=\"\"),AND(E59<>\"\",F59=\"\")),\nF59=LEFT(F59,MIN(FIND(0,SUBSTITUTE(F59,{1,2,3,4,5,6,7,8,9},0)&0))-1)=FALSE\n),\"Check\",\"\")","v":""},"","",null,"",0,"","","","",""]
["SBSA_51","SBSA_51",null,null,null,null,null,null,null,null,null,null,null,null,null,null,null,null,null,null,null,null,null,null,null,null,"","",{"$f":"IF(OR(\nOR(AND(D60<>\"\",F60=\"\"),AND(E60<>\"\",F60=\"\")),\nF60=LEFT(F60,MIN(FIND(0,SUBSTITUTE(F60,{1,2,3,4,5,6,7,8,9},0)&0))-1)=FALSE\n),\"Check\",\"\")","v":""},"","",null,"",0,"","","","",""]
["SBSA_52","SBSA_52",null,null,null,null,null,null,null,null,null,null,null,null,null,null,null,null,null,null,null,null,null,null,null,null,"","",{"$f":"IF(OR(\nOR(AND(D61<>\"\",F61=\"\"),AND(E61<>\"\",F61=\"\")),\nF61=LEFT(F61,MIN(FIND(0,SUBSTITUTE(F61,{1,2,3,4,5,6,7,8,9},0)&0))-1)=FALSE\n),\"Check\",\"\")","v":""},"","",null,"",0,"","","","",""]
["SBSA_53","SBSA_53",null,null,null,null,null,null,null,null,null,null,null,null,null,null,null,null,null,null,null,null,null,null,null,null,"","",{"$f":"IF(OR(\nOR(AND(D62<>\"\",F62=\"\"),AND(E62<>\"\",F62=\"\")),\nF62=LEFT(F62,MIN(FIND(0,SUBSTITUTE(F62,{1,2,3,4,5,6,7,8,9},0)&0))-1)=FALSE\n),\"Check\",\"\")","v":""},"","",null,"",0,"","","","",""]
["SBSA_54","SBSA_54",null,null,null,null,null,null,null,null,null,null,null,null,null,null,null,null,null,null,null,null,null,null,null,null,"","",{"$f":"IF(OR(\nOR(AND(D63<>\"\",F63=\"\"),AND(E63<>\"\",F63=\"\")),\nF63=LEFT(F63,MIN(FIND(0,SUBSTITUTE(F63,{1,2,3,4,5,6,7,8,9},0)&0))-1)=FALSE\n),\"Check\",\"\")","v":""},"","",null,"",0,"","","","",""]
["SBSA_55","SBSA_55",null,null,null,null,null,null,null,null,null,null,null,null,null,null,null,null,null,null,null,null,null,null,null,null,"","",{"$f":"IF(OR(\nOR(AND(D64<>\"\",F64=\"\"),AND(E64<>\"\",F64=\"\")),\nF64=LEFT(F64,MIN(FIND(0,SUBSTITUTE(F64,{1,2,3,4,5,6,7,8,9},0)&0))-1)=FALSE\n),\"Check\",\"\")","v":""},"","",null,"",0,"","","","",""]
["SBSA_56","SBSA_56",null,null,null,null,null,null,null,null,null,null,null,null,null,null,null,null,null,null,null,null,null,null,null,null,"","",{"$f":"IF(OR(\nOR(AND(D65<>\"\",F65=\"\"),AND(E65<>\"\",F65=\"\")),\nF65=LEFT(F65,MIN(FIND(0,SUBSTITUTE(F65,{1,2,3,4,5,6,7,8,9},0)&0))-1)=FALSE\n),\"Check\",\"\")","v":""},"","",null,"",0,"","","","",""]
["SBSA_57","SBSA_57",null,null,null,null,null,null,null,null,null,null,null,null,null,null,null,null,null,null,null,null,null,null,null,null,"","",{"$f":"IF(OR(\nOR(AND(D66<>\"\",F66=\"\"),AND(E66<>\"\",F66=\"\")),\nF66=LEFT(F66,MIN(FIND(0,SUBSTITUTE(F66,{1,2,3,4,5,6,7,8,9},0)&0))-1)=FALSE\n),\"Check\",\"\")","v":""},"","",null,"",0,"","","","",""]
["SBSA_58","SBSA_58",null,null,null,null,null,null,null,null,null,null,null,null,null,null,null,null,null,null,null,null,null,null,null,null,"","",{"$f":"IF(OR(\nOR(AND(D67<>\"\",F67=\"\"),AND(E67<>\"\",F67=\"\")),\nF67=LEFT(F67,MIN(FIND(0,SUBSTITUTE(F67,{1,2,3,4,5,6,7,8,9},0)&0))-1)=FALSE\n),\"Check\",\"\")","v":""},"","",null,"",0,"","","","",""]
["SBSA_59","SBSA_59",null,null,null,null,null,null,null,null,null,null,null,null,null,null,null,null,null,null,null,null,null,null,null,null,"","",{"$f":"IF(OR(\nOR(AND(D68<>\"\",F68=\"\"),AND(E68<>\"\",F68=\"\")),\nF68=LEFT(F68,MIN(FIND(0,SUBSTITUTE(F68,{1,2,3,4,5,6,7,8,9},0)&0))-1)=FALSE\n),\"Check\",\"\")","v":""},"","",null,"",0,"","","","",""]
["SBSA_60","SBSA_60",null,null,null,null,null,null,null,null,null,null,null,null,null,null,null,null,null,null,null,null,null,null,null,null,"","",{"$f":"IF(OR(\nOR(AND(D69<>\"\",F69=\"\"),AND(E69<>\"\",F69=\"\")),\nF69=LEFT(F69,MIN(FIND(0,SUBSTITUTE(F69,{1,2,3,4,5,6,7,8,9},0)&0))-1)=FALSE\n),\"Check\",\"\")","v":""},"","",null,"",0,"","","","",""]
["SBSA_61","SBSA_61",null,null,null,null,null,null,null,null,null,null,null,null,null,null,null,null,null,null,null,null,null,null,null,null,"","",{"$f":"IF(OR(\nOR(AND(D70<>\"\",F70=\"\"),AND(E70<>\"\",F70=\"\")),\nF70=LEFT(F70,MIN(FIND(0,SUBSTITUTE(F70,{1,2,3,4,5,6,7,8,9},0)&0))-1)=FALSE\n),\"Check\",\"\")","v":""},"","",null,"",0,"","","","",""]
["SBSA_62","SBSA_62",null,null,null,null,null,null,null,null,null,null,null,null,null,null,null,null,null,null,null,null,null,null,null,null,"","",{"$f":"IF(OR(\nOR(AND(D71<>\"\",F71=\"\"),AND(E71<>\"\",F71=\"\")),\nF71=LEFT(F71,MIN(FIND(0,SUBSTITUTE(F71,{1,2,3,4,5,6,7,8,9},0)&0))-1)=FALSE\n),\"Check\",\"\")","v":""},"","",null,"",0,"","","","",""]
["SBSA_63","SBSA_63",null,null,null,null,null,null,null,null,null,null,null,null,null,null,null,null,null,null,null,null,null,null,null,null,"","",{"$f":"IF(OR(\nOR(AND(D72<>\"\",F72=\"\"),AND(E72<>\"\",F72=\"\")),\nF72=LEFT(F72,MIN(FIND(0,SUBSTITUTE(F72,{1,2,3,4,5,6,7,8,9},0)&0))-1)=FALSE\n),\"Check\",\"\")","v":""},"","",null,"",0,"","","","",""]
["SBSA_64","SBSA_64",null,null,null,null,null,null,null,null,null,null,null,null,null,null,null,null,null,null,null,null,null,null,null,null,"","",{"$f":"IF(OR(\nOR(AND(D73<>\"\",F73=\"\"),AND(E73<>\"\",F73=\"\")),\nF73=LEFT(F73,MIN(FIND(0,SUBSTITUTE(F73,{1,2,3,4,5,6,7,8,9},0)&0))-1)=FALSE\n),\"Check\",\"\")","v":""},"","",null,"",0,"","","","",""]
["SBSA_65","SBSA_65",null,null,null,null,null,null,null,null,null,null,null,null,null,null,null,null,null,null,null,null,null,null,null,null,{"$f":"IF(AND(C74=\"\",OR(D74<>\"\",E74<>\"\",F74<>\"\",G74<>\"\")),\"Check\",\"\")","v":""},{"$f":"IF(AND(C74<>\"\",OR(AND(D74=\"\",E74=\"\"),AND(D74=0,E74=0),AND(ABS(D74)>0,ABS(E74)>0))),\"Check\",\"\")","v":""},{"$f":"IF(OR(\nOR(AND(D74<>\"\",F74=\"\"),AND(E74<>\"\",F74=\"\")),\nF74=LEFT(F74,MIN(FIND(0,SUBSTITUTE(F74,{1,2,3,4,5,6,7,8,9},0)&0))-1)=FALSE\n),\"Check\",\"\")","v":""},{"$f":"IF(OR(E74=\"\",G74=\"\"),\"\",(E74*G74)/100)","v":""},{"$f":"IF(AND(F74<>\"\",G74=\"\"),\"Check\",\"\")","v":""},null,{"$f":"IF(C74=\"\",\"\",C74&\"_\"&IF(G74=\"\",0,G74))","v":""},{"$f":"IF(COUNTBLANK(C74:G74)<5,1,0)","v":0},{"$f":"IF(C74=\"\",\"\",IF(LEN(C74)=12,\"\",\"Check\"))","v":""},{"$f":"IF(C74=\"\",\"\",IF(COUNTIF(C$10:C$65536,C74)=COUNTIF(AG$10:AG$65536,AG74),\"\",\"Check\"))","v":""},{"$f":"IF(F74=\"\",\"\",IF(LEN(F74)=3,\"\",\"Check\"))","v":""},{"$f":"IF(OR(IF(D74=\"\",\"\",IF(ISNUMBER(D74)=TRUE,\"\",\"TEXT\"))=\"TEXT\",IF(E74=\"\",\"\",IF(ISNUMBER(E74)=TRUE,\"\",\"TEXT\"))=\"TEXT\",IF(G74=\"\",\"\",IF(ISNUMBER(G74)=TRUE,\"\",\"TEXT\"))=\"TEXT\"),\"Check\",\"\")","v":""},{"$f":"IF(G74<0,\"Check\",\"\")","v":""}]
["SBSA_66","SBSA_66",null,null,null,null,null,null,null,null,null,null,null,null,null,null,null,null,null,null,null,null,null,null,null,null,"","",{"$f":"IF(OR(\nOR(AND(D75<>\"\",F75=\"\"),AND(E75<>\"\",F75=\"\")),\nF75=LEFT(F75,MIN(FIND(0,SUBSTITUTE(F75,{1,2,3,4,5,6,7,8,9},0)&0))-1)=FALSE\n),\"Check\",\"\")","v":""},"","",null,"",0,"","","","",""]
["SBSA_67","SBSA_67",null,null,null,null,null,null,null,null,null,null,null,null,null,null,null,null,null,null,null,null,null,null,null,null,"","",{"$f":"IF(OR(\nOR(AND(D76<>\"\",F76=\"\"),AND(E76<>\"\",F76=\"\")),\nF76=LEFT(F76,MIN(FIND(0,SUBSTITUTE(F76,{1,2,3,4,5,6,7,8,9},0)&0))-1)=FALSE\n),\"Check\",\"\")","v":""},"","",null,"",0,"","","","",""]
["SBSA_68","SBSA_68",null,null,null,null,null,null,null,null,null,null,null,null,null,null,null,null,null,null,null,null,null,null,null,null,"","",{"$f":"IF(OR(\nOR(AND(D77<>\"\",F77=\"\"),AND(E77<>\"\",F77=\"\")),\nF77=LEFT(F77,MIN(FIND(0,SUBSTITUTE(F77,{1,2,3,4,5,6,7,8,9},0)&0))-1)=FALSE\n),\"Check\",\"\")","v":""},"","",null,"",0,"","","","",""]
["SBSA_69","SBSA_69",null,null,null,null,null,null,null,null,null,null,null,null,null,null,null,null,null,null,null,null,null,null,null,null,"","",{"$f":"IF(OR(\nOR(AND(D78<>\"\",F78=\"\"),AND(E78<>\"\",F78=\"\")),\nF78=LEFT(F78,MIN(FIND(0,SUBSTITUTE(F78,{1,2,3,4,5,6,7,8,9},0)&0))-1)=FALSE\n),\"Check\",\"\")","v":""},"","",null,"",0,"","","","",""]
["SBSA_70","SBSA_70",null,null,null,null,null,null,null,null,null,null,null,null,null,null,null,null,null,null,null,null,null,null,null,null,"","",{"$f":"IF(OR(\nOR(AND(D79<>\"\",F79=\"\"),AND(E79<>\"\",F79=\"\")),\nF79=LEFT(F79,MIN(FIND(0,SUBSTITUTE(F79,{1,2,3,4,5,6,7,8,9},0)&0))-1)=FALSE\n),\"Check\",\"\")","v":""},"","",null,"",0,"","","","",""]
["SBSA_71","SBSA_71",null,null,null,null,null,null,null,null,null,null,null,null,null,null,null,null,null,null,null,null,null,null,null,null,"","",{"$f":"IF(OR(\nOR(AND(D80<>\"\",F80=\"\"),AND(E80<>\"\",F80=\"\")),\nF80=LEFT(F80,MIN(FIND(0,SUBSTITUTE(F80,{1,2,3,4,5,6,7,8,9},0)&0))-1)=FALSE\n),\"Check\",\"\")","v":""},"","",null,"",0,"","","","",""]
["SBSA_72","SBSA_72",null,null,null,null,null,null,null,null,null,null,null,null,null,null,null,null,null,null,null,null,null,null,null,null,"","",{"$f":"IF(OR(\nOR(AND(D81<>\"\",F81=\"\"),AND(E81<>\"\",F81=\"\")),\nF81=LEFT(F81,MIN(FIND(0,SUBSTITUTE(F81,{1,2,3,4,5,6,7,8,9},0)&0))-1)=FALSE\n),\"Check\",\"\")","v":""},"","",null,"",0,"","","","",""]
["SBSA_73","SBSA_73",null,null,null,null,null,null,null,null,null,null,null,null,null,null,null,null,null,null,null,null,null,null,null,null,"","",{"$f":"IF(OR(\nOR(AND(D82<>\"\",F82=\"\"),AND(E82<>\"\",F82=\"\")),\nF82=LEFT(F82,MIN(FIND(0,SUBSTITUTE(F82,{1,2,3,4,5,6,7,8,9},0)&0))-1)=FALSE\n),\"Check\",\"\")","v":""},"","",null,"",0,"","","","",""]
["SBSA_74","SBSA_74",null,null,null,null,null,null,null,null,null,null,null,null,null,null,null,null,null,null,null,null,null,null,null,null,"","",{"$f":"IF(OR(\nOR(AND(D83<>\"\",F83=\"\"),AND(E83<>\"\",F83=\"\")),\nF83=LEFT(F83,MIN(FIND(0,SUBSTITUTE(F83,{1,2,3,4,5,6,7,8,9},0)&0))-1)=FALSE\n),\"Check\",\"\")","v":""},"","",null,"",0,"","","","",""]
["SBSA_75","SBSA_75",null,null,null,null,null,null,null,null,null,null,null,null,null,null,null,null,null,null,null,null,null,null,null,null,"","",{"$f":"IF(OR(\nOR(AND(D84<>\"\",F84=\"\"),AND(E84<>\"\",F84=\"\")),\nF84=LEFT(F84,MIN(FIND(0,SUBSTITUTE(F84,{1,2,3,4,5,6,7,8,9},0)&0))-1)=FALSE\n),\"Check\",\"\")","v":""},"","",null,"",0,"","","","",""]
["SBSA_76","SBSA_76",null,null,null,null,null,null,null,null,null,null,null,null,null,null,null,null,null,null,null,null,null,null,null,null,"","",{"$f":"IF(OR(\nOR(AND(D85<>\"\",F85=\"\"),AND(E85<>\"\",F85=\"\")),\nF85=LEFT(F85,MIN(FIND(0,SUBSTITUTE(F85,{1,2,3,4,5,6,7,8,9},0)&0))-1)=FALSE\n),\"Check\",\"\")","v":""},"","",null,"",0,"","","","",""]
["SBSA_77","SBSA_77",null,null,null,null,null,null,null,null,null,null,null,null,null,null,null,null,null,null,null,null,null,null,null,null,"","",{"$f":"IF(OR(\nOR(AND(D86<>\"\",F86=\"\"),AND(E86<>\"\",F86=\"\")),\nF86=LEFT(F86,MIN(FIND(0,SUBSTITUTE(F86,{1,2,3,4,5,6,7,8,9},0)&0))-1)=FALSE\n),\"Check\",\"\")","v":""},"","",null,"",0,"","","","",""]
["SBSA_78","SBSA_78",null,null,null,null,null,null,null,null,null,null,null,null,null,null,null,null,null,null,null,null,null,null,null,null,"","",{"$f":"IF(OR(\nOR(AND(D87<>\"\",F87=\"\"),AND(E87<>\"\",F87=\"\")),\nF87=LEFT(F87,MIN(FIND(0,SUBSTITUTE(F87,{1,2,3,4,5,6,7,8,9},0)&0))-1)=FALSE\n),\"Check\",\"\")","v":""},"","",null,"",0,"","","","",""]
["SBSA_79","SBSA_79",null,null,null,null,null,null,null,null,null,null,null,null,null,null,null,null,null,null,null,null,null,null,null,null,"","",{"$f":"IF(OR(\nOR(AND(D88<>\"\",F88=\"\"),AND(E88<>\"\",F88=\"\")),\nF88=LEFT(F88,MIN(FIND(0,SUBSTITUTE(F88,{1,2,3,4,5,6,7,8,9},0)&0))-1)=FALSE\n),\"Check\",\"\")","v":""},"","",null,"",0,"","","","",""]
["SBSA_80","SBSA_80",null,null,null,null,null,null,null,null,null,null,null,null,null,null,null,null,null,null,null,null,null,null,null,null,"","",{"$f":"IF(OR(\nOR(AND(D89<>\"\",F89=\"\"),AND(E89<>\"\",F89=\"\")),\nF89=LEFT(F89,MIN(FIND(0,SUBSTITUTE(F89,{1,2,3,4,5,6,7,8,9},0)&0))-1)=FALSE\n),\"Check\",\"\")","v":""},"","",null,"",0,"","","","",""]
["SBSA_81","SBSA_81",null,null,null,null,null,null,null,null,null,null,null,null,null,null,null,null,null,null,null,null,null,null,null,null,"","",{"$f":"IF(OR(\nOR(AND(D90<>\"\",F90=\"\"),AND(E90<>\"\",F90=\"\")),\nF90=LEFT(F90,MIN(FIND(0,SUBSTITUTE(F90,{1,2,3,4,5,6,7,8,9},0)&0))-1)=FALSE\n),\"Check\",\"\")","v":""},"","",null,"",0,"","","","",""]
["SBSA_82","SBSA_82",null,null,null,null,null,null,null,null,null,null,null,null,null,null,null,null,null,null,null,null,null,null,null,null,"","",{"$f":"IF(OR(\nOR(AND(D91<>\"\",F91=\"\"),AND(E91<>\"\",F91=\"\")),\nF91=LEFT(F91,MIN(FIND(0,SUBSTITUTE(F91,{1,2,3,4,5,6,7,8,9},0)&0))-1)=FALSE\n),\"Check\",\"\")","v":""},"","",null,"",0,"","","","",""]
["SBSA_83","SBSA_83",null,null,null,null,null,null,null,null,null,null,null,null,null,null,null,null,null,null,null,null,null,null,null,null,"","",{"$f":"IF(OR(\nOR(AND(D92<>\"\",F92=\"\"),AND(E92<>\"\",F92=\"\")),\nF92=LEFT(F92,MIN(FIND(0,SUBSTITUTE(F92,{1,2,3,4,5,6,7,8,9},0)&0))-1)=FALSE\n),\"Check\",\"\")","v":""},"","",null,"",0,"","","","",""]
["SBSA_84","SBSA_84",null,null,null,null,null,null,null,null,null,null,null,null,null,null,null,null,null,null,null,null,null,null,null,null,"","",{"$f":"IF(OR(\nOR(AND(D93<>\"\",F93=\"\"),AND(E93<>\"\",F93=\"\")),\nF93=LEFT(F93,MIN(FIND(0,SUBSTITUTE(F93,{1,2,3,4,5,6,7,8,9},0)&0))-1)=FALSE\n),\"Check\",\"\")","v":""},"","",null,"",0,"","","","",""]
["SBSA_85","SBSA_85",null,null,null,null,null,null,null,null,null,null,null,null,null,null,null,null,null,null,null,null,null,null,null,null,"","",{"$f":"IF(OR(\nOR(AND(D94<>\"\",F94=\"\"),AND(E94<>\"\",F94=\"\")),\nF94=LEFT(F94,MIN(FIND(0,SUBSTITUTE(F94,{1,2,3,4,5,6,7,8,9},0)&0))-1)=FALSE\n),\"Check\",\"\")","v":""},"","",null,"",0,"","","","",""]
["SBSA_86","SBSA_86",null,null,null,null,null,null,null,null,null,null,null,null,null,null,null,null,null,null,null,null,null,null,null,null,"","",{"$f":"IF(OR(\nOR(AND(D95<>\"\",F95=\"\"),AND(E95<>\"\",F95=\"\")),\nF95=LEFT(F95,MIN(FIND(0,SUBSTITUTE(F95,{1,2,3,4,5,6,7,8,9},0)&0))-1)=FALSE\n),\"Check\",\"\")","v":""},"","",null,"",0,"","","","",""]
["SBSA_87","SBSA_87",null,null,null,null,null,null,null,null,null,null,null,null,null,null,null,null,null,null,null,null,null,null,null,null,"","",{"$f":"IF(OR(\nOR(AND(D96<>\"\",F96=\"\"),AND(E96<>\"\",F96=\"\")),\nF96=LEFT(F96,MIN(FIND(0,SUBSTITUTE(F96,{1,2,3,4,5,6,7,8,9},0)&0))-1)=FALSE\n),\"Check\",\"\")","v":""},"","",null,"",0,"","","","",""]
["SBSA_88","SBSA_88",null,null,null,null,null,null,null,null,null,null,null,null,null,null,null,null,null,null,null,null,null,null,null,null,"","",{"$f":"IF(OR(\nOR(AND(D97<>\"\",F97=\"\"),AND(E97<>\"\",F97=\"\")),\nF97=LEFT(F97,MIN(FIND(0,SUBSTITUTE(F97,{1,2,3,4,5,6,7,8,9},0)&0))-1)=FALSE\n),\"Check\",\"\")","v":""},"","",null,"",0,"","","","",""]
["SBSA_89","SBSA_89",null,null,null,null,null,null,null,null,null,null,null,null,null,null,null,null,null,null,null,null,null,null,null,null,"","",{"$f":"IF(OR(\nOR(AND(D98<>\"\",F98=\"\"),AND(E98<>\"\",F98=\"\")),\nF98=LEFT(F98,MIN(FIND(0,SUBSTITUTE(F98,{1,2,3,4,5,6,7,8,9},0)&0))-1)=FALSE\n),\"Check\",\"\")","v":""},"","",null,"",0,"","","","",""]
["SBSA_90","SBSA_90",null,null,null,null,null,null,null,null,null,null,null,null,null,null,null,null,null,null,null,null,null,null,null,null,"","",{"$f":"IF(OR(\nOR(AND(D99<>\"\",F99=\"\"),AND(E99<>\"\",F99=\"\")),\nF99=LEFT(F99,MIN(FIND(0,SUBSTITUTE(F99,{1,2,3,4,5,6,7,8,9},0)&0))-1)=FALSE\n),\"Check\",\"\")","v":""},"","",null,"",0,"","","","",""]
["SBSA_91","SBSA_91",null,null,null,null,null,null,null,null,null,null,null,null,null,null,null,null,null,null,null,null,null,null,null,null,"","",{"$f":"IF(OR(\nOR(AND(D100<>\"\",F100=\"\"),AND(E100<>\"\",F100=\"\")),\nF100=LEFT(F100,MIN(FIND(0,SUBSTITUTE(F100,{1,2,3,4,5,6,7,8,9},0)&0))-1)=FALSE\n),\"Check\",\"\")","v":""},"","",null,"",0,"","","","",""]
["SBSA_92","SBSA_92",null,null,null,null,null,null,null,null,null,null,null,null,null,null,null,null,null,null,null,null,null,null,null,null,"","",{"$f":"IF(OR(\nOR(AND(D101<>\"\",F101=\"\"),AND(E101<>\"\",F101=\"\")),\nF101=LEFT(F101,MIN(FIND(0,SUBSTITUTE(F101,{1,2,3,4,5,6,7,8,9},0)&0))-1)=FALSE\n),\"Check\",\"\")","v":""},"","",null,"",0,"","","","",""]
["SBSA_93","SBSA_93",null,null,null,null,null,null,null,null,null,null,null,null,null,null,null,null,null,null,null,null,null,null,null,null,"","",{"$f":"IF(OR(\nOR(AND(D102<>\"\",F102=\"\"),AND(E102<>\"\",F102=\"\")),\nF102=LEFT(F102,MIN(FIND(0,SUBSTITUTE(F102,{1,2,3,4,5,6,7,8,9},0)&0))-1)=FALSE\n),\"Check\",\"\")","v":""},"","",null,"",0,"","","","",""]
["SBSA_94","SBSA_94",null,null,null,null,null,null,null,null,null,null,null,null,null,null,null,null,null,null,null,null,null,null,null,null,"","",{"$f":"IF(OR(\nOR(AND(D103<>\"\",F103=\"\"),AND(E103<>\"\",F103=\"\")),\nF103=LEFT(F103,MIN(FIND(0,SUBSTITUTE(F103,{1,2,3,4,5,6,7,8,9},0)&0))-1)=FALSE\n),\"Check\",\"\")","v":""},"","",null,"",0,"","","","",""]
["SBSA_95","SBSA_95",null,null,null,null,null,null,null,null,null,null,null,null,null,null,null,null,null,null,null,null,null,null,null,null,"","",{"$f":"IF(OR(\nOR(AND(D104<>\"\",F104=\"\"),AND(E104<>\"\",F104=\"\")),\nF104=LEFT(F104,MIN(FIND(0,SUBSTITUTE(F104,{1,2,3,4,5,6,7,8,9},0)&0))-1)=FALSE\n),\"Check\",\"\")","v":""},"","",null,"",0,"","","","",""]
["SBSA_96","SBSA_96",null,null,null,null,null,null,null,null,null,null,null,null,null,null,null,null,null,null,null,null,null,null,null,null,"","",{"$f":"IF(OR(\nOR(AND(D105<>\"\",F105=\"\"),AND(E105<>\"\",F105=\"\")),\nF105=LEFT(F105,MIN(FIND(0,SUBSTITUTE(F105,{1,2,3,4,5,6,7,8,9},0)&0))-1)=FALSE\n),\"Check\",\"\")","v":""},"","",null,"",0,"","","","",""]
["SBSA_97","SBSA_97",null,null,null,null,null,null,null,null,null,null,null,null,null,null,null,null,null,null,null,null,null,null,null,null,"","",{"$f":"IF(OR(\nOR(AND(D106<>\"\",F106=\"\"),AND(E106<>\"\",F106=\"\")),\nF106=LEFT(F106,MIN(FIND(0,SUBSTITUTE(F106,{1,2,3,4,5,6,7,8,9},0)&0))-1)=FALSE\n),\"Check\",\"\")","v":""},"","",null,"",0,"","","","",""]
["SBSA_98","SBSA_98",null,null,null,null,null,null,null,null,null,null,null,null,null,null,null,null,null,null,null,null,null,null,null,null,"","",{"$f":"IF(OR(\nOR(AND(D107<>\"\",F107=\"\"),AND(E107<>\"\",F107=\"\")),\nF107=LEFT(F107,MIN(FIND(0,SUBSTITUTE(F107,{1,2,3,4,5,6,7,8,9},0)&0))-1)=FALSE\n),\"Check\",\"\")","v":""},"","",null,"",0,"","","","",""]
["SBSA_99","SBSA_99",null,null,null,null,null,null,null,null,null,null,null,null,null,null,null,null,null,null,null,null,null,null,null,null,"","",{"$f":"IF(OR(\nOR(AND(D108<>\"\",F108=\"\"),AND(E108<>\"\",F108=\"\")),\nF108=LEFT(F108,MIN(FIND(0,SUBSTITUTE(F108,{1,2,3,4,5,6,7,8,9},0)&0))-1)=FALSE\n),\"Check\",\"\")","v":""},"","",null,"",0,"","","","",""]
["SBSA_100","SBSA_100",null,null,null,null,null,null,null,null,null,null,null,null,null,null,null,null,null,null,null,null,null,null,null,null,"","",{"$f":"IF(OR(\nOR(AND(D109<>\"\",F109=\"\"),AND(E109<>\"\",F109=\"\")),\nF109=LEFT(F109,MIN(FIND(0,SUBSTITUTE(F109,{1,2,3,4,5,6,7,8,9},0)&0))-1)=FALSE\n),\"Check\",\"\")","v":""},"","",null,"",0,"","","","",""]
["SBSA_101","SBSA_101",null,null,null,null,null,null,null,null,null,null,null,null,null,null,null,null,null,null,null,null,null,null,null,null,"","",{"$f":"IF(OR(\nOR(AND(D110<>\"\",F110=\"\"),AND(E110<>\"\",F110=\"\")),\nF110=LEFT(F110,MIN(FIND(0,SUBSTITUTE(F110,{1,2,3,4,5,6,7,8,9},0)&0))-1)=FALSE\n),\"Check\",\"\")","v":""},"","",null,"",0,"","","","",""]
["SBSA_102","SBSA_102",null,null,null,null,null,null,null,null,null,null,null,null,null,null,null,null,null,null,null,null,null,null,null,null,"","",{"$f":"IF(OR(\nOR(AND(D111<>\"\",F111=\"\"),AND(E111<>\"\",F111=\"\")),\nF111=LEFT(F111,MIN(FIND(0,SUBSTITUTE(F111,{1,2,3,4,5,6,7,8,9},0)&0))-1)=FALSE\n),\"Check\",\"\")","v":""},"","",null,"",0,"","","","",""]
["SBSA_103","SBSA_103",null,null,null,null,null,null,null,null,null,null,null,null,null,null,null,null,null,null,null,null,null,null,null,null,"","",{"$f":"IF(OR(\nOR(AND(D112<>\"\",F112=\"\"),AND(E112<>\"\",F112=\"\")),\nF112=LEFT(F112,MIN(FIND(0,SUBSTITUTE(F112,{1,2,3,4,5,6,7,8,9},0)&0))-1)=FALSE\n),\"Check\",\"\")","v":""},"","",null,"",0,"","","","",""]
["SBSA_104","SBSA_104",null,null,null,null,null,null,null,null,null,null,null,null,null,null,null,null,null,null,null,null,null,null,null,null,"","",{"$f":"IF(OR(\nOR(AND(D113<>\"\",F113=\"\"),AND(E113<>\"\",F113=\"\")),\nF113=LEFT(F113,MIN(FIND(0,SUBSTITUTE(F113,{1,2,3,4,5,6,7,8,9},0)&0))-1)=FALSE\n),\"Check\",\"\")","v":""},"","",null,"",0,"","","","",""]
["SBSA_105","SBSA_105",null,null,null,null,null,null,null,null,null,null,null,null,null,null,null,null,null,null,null,null,null,null,null,null,"","",{"$f":"IF(OR(\nOR(AND(D114<>\"\",F114=\"\"),AND(E114<>\"\",F114=\"\")),\nF114=LEFT(F114,MIN(FIND(0,SUBSTITUTE(F114,{1,2,3,4,5,6,7,8,9},0)&0))-1)=FALSE\n),\"Check\",\"\")","v":""},"","",null,"",0,"","","","",""]
["SBSA_106","SBSA_106",null,null,null,null,null,null,null,null,null,null,null,null,null,null,null,null,null,null,null,null,null,null,null,null,"","",{"$f":"IF(OR(\nOR(AND(D115<>\"\",F115=\"\"),AND(E115<>\"\",F115=\"\")),\nF115=LEFT(F115,MIN(FIND(0,SUBSTITUTE(F115,{1,2,3,4,5,6,7,8,9},0)&0))-1)=FALSE\n),\"Check\",\"\")","v":""},"","",null,"",0,"","","","",""]
["SBSA_107","SBSA_107",null,null,null,null,null,null,null,null,null,null,null,null,null,null,null,null,null,null,null,null,null,null,null,null,"","",{"$f":"IF(OR(\nOR(AND(D116<>\"\",F116=\"\"),AND(E116<>\"\",F116=\"\")),\nF116=LEFT(F116,MIN(FIND(0,SUBSTITUTE(F116,{1,2,3,4,5,6,7,8,9},0)&0))-1)=FALSE\n),\"Check\",\"\")","v":""},"","",null,"",0,"","","","",""]
["SBSA_108","SBSA_108",null,null,null,null,null,null,null,null,null,null,null,null,null,null,null,null,null,null,null,null,null,null,null,null,"","",{"$f":"IF(OR(\nOR(AND(D117<>\"\",F117=\"\"),AND(E117<>\"\",F117=\"\")),\nF117=LEFT(F117,MIN(FIND(0,SUBSTITUTE(F117,{1,2,3,4,5,6,7,8,9},0)&0))-1)=FALSE\n),\"Check\",\"\")","v":""},"","",null,"",0,"","","","",""]
["SBSA_109","SBSA_109",null,null,null,null,null,null,null,null,null,null,null,null,null,null,null,null,null,null,null,null,null,null,null,null,"","",{"$f":"IF(OR(\nOR(AND(D118<>\"\",F118=\"\"),AND(E118<>\"\",F118=\"\")),\nF118=LEFT(F118,MIN(FIND(0,SUBSTITUTE(F118,{1,2,3,4,5,6,7,8,9},0)&0))-1)=FALSE\n),\"Check\",\"\")","v":""},"","",null,"",0,"","","","",""]
["SBSA_110","SBSA_110",null,null,null,null,null,null,null,null,null,null,null,null,null,null,null,null,null,null,null,null,null,null,null,null,"","",{"$f":"IF(OR(\nOR(AND(D119<>\"\",F119=\"\"),AND(E119<>\"\",F119=\"\")),\nF119=LEFT(F119,MIN(FIND(0,SUBSTITUTE(F119,{1,2,3,4,5,6,7,8,9},0)&0))-1)=FALSE\n),\"Check\",\"\")","v":""},"","",null,"",0,"","","","",""]
["SBSA_111","SBSA_111",null,null,null,null,null,null,null,null,null,null,null,null,null,null,null,null,null,null,null,null,null,null,null,null,"","",{"$f":"IF(OR(\nOR(AND(D120<>\"\",F120=\"\"),AND(E120<>\"\",F120=\"\")),\nF120=LEFT(F120,MIN(FIND(0,SUBSTITUTE(F120,{1,2,3,4,5,6,7,8,9},0)&0))-1)=FALSE\n),\"Check\",\"\")","v":""},"","",null,"",0,"","","","",""]
["SBSA_112","SBSA_112",null,null,null,null,null,null,null,null,null,null,null,null,null,null,null,null,null,null,null,null,null,null,null,null,"","",{"$f":"IF(OR(\nOR(AND(D121<>\"\",F121=\"\"),AND(E121<>\"\",F121=\"\")),\nF121=LEFT(F121,MIN(FIND(0,SUBSTITUTE(F121,{1,2,3,4,5,6,7,8,9},0)&0))-1)=FALSE\n),\"Check\",\"\")","v":""},"","",null,"",0,"","","","",""]
["SBSA_113","SBSA_113",null,null,null,null,null,null,null,null,null,null,null,null,null,null,null,null,null,null,null,null,null,null,null,null,"","",{"$f":"IF(OR(\nOR(AND(D122<>\"\",F122=\"\"),AND(E122<>\"\",F122=\"\")),\nF122=LEFT(F122,MIN(FIND(0,SUBSTITUTE(F122,{1,2,3,4,5,6,7,8,9},0)&0))-1)=FALSE\n),\"Check\",\"\")","v":""},"","",null,"",0,"","","","",""]
["SBSA_114","SBSA_114",null,null,null,null,null,null,null,null,null,null,null,null,null,null,null,null,null,null,null,null,null,null,null,null,"","",{"$f":"IF(OR(\nOR(AND(D123<>\"\",F123=\"\"),AND(E123<>\"\",F123=\"\")),\nF123=LEFT(F123,MIN(FIND(0,SUBSTITUTE(F123,{1,2,3,4,5,6,7,8,9},0)&0))-1)=FALSE\n),\"Check\",\"\")","v":""},"","",null,"",0,"","","","",""]
["SBSA_115","SBSA_115",null,null,null,null,null,null,null,null,null,null,null,null,null,null,null,null,null,null,null,null,null,null,null,null,"","",{"$f":"IF(OR(\nOR(AND(D124<>\"\",F124=\"\"),AND(E124<>\"\",F124=\"\")),\nF124=LEFT(F124,MIN(FIND(0,SUBSTITUTE(F124,{1,2,3,4,5,6,7,8,9},0)&0))-1)=FALSE\n),\"Check\",\"\")","v":""},"","",null,"",0,"","","","",""]
["SBSA_116","SBSA_116",null,null,null,null,null,null,null,null,null,null,null,null,null,null,null,null,null,null,null,null,null,null,null,null,"","",{"$f":"IF(OR(\nOR(AND(D125<>\"\",F125=\"\"),AND(E125<>\"\",F125=\"\")),\nF125=LEFT(F125,MIN(FIND(0,SUBSTITUTE(F125,{1,2,3,4,5,6,7,8,9},0)&0))-1)=FALSE\n),\"Check\",\"\")","v":""},"","",null,"",0,"","","","",""]
["SBSA_117","SBSA_117",null,null,null,null,null,null,null,null,null,null,null,null,null,null,null,null,null,null,null,null,null,null,null,null,"","",{"$f":"IF(OR(\nOR(AND(D126<>\"\",F126=\"\"),AND(E126<>\"\",F126=\"\")),\nF126=LEFT(F126,MIN(FIND(0,SUBSTITUTE(F126,{1,2,3,4,5,6,7,8,9},0)&0))-1)=FALSE\n),\"Check\",\"\")","v":""},"","",null,"",0,"","","","",""]
["SBSA_118","SBSA_118",null,null,null,null,null,null,null,null,null,null,null,null,null,null,null,null,null,null,null,null,null,null,null,null,"","",{"$f":"IF(OR(\nOR(AND(D127<>\"\",F127=\"\"),AND(E127<>\"\",F127=\"\")),\nF127=LEFT(F127,MIN(FIND(0,SUBSTITUTE(F127,{1,2,3,4,5,6,7,8,9},0)&0))-1)=FALSE\n),\"Check\",\"\")","v":""},"","",null,"",0,"","","","",""]
["SBSA_119","SBSA_119",null,null,null,null,null,null,null,null,null,null,null,null,null,null,null,null,null,null,null,null,null,null,null,null,"","",{"$f":"IF(OR(\nOR(AND(D128<>\"\",F128=\"\"),AND(E128<>\"\",F128=\"\")),\nF128=LEFT(F128,MIN(FIND(0,SUBSTITUTE(F128,{1,2,3,4,5,6,7,8,9},0)&0))-1)=FALSE\n),\"Check\",\"\")","v":""},"","",null,"",0,"","","","",""]
["SBSA_120","SBSA_120",null,null,null,null,null,null,null,null,null,null,null,null,null,null,null,null,null,null,null,null,null,null,null,null,"","",{"$f":"IF(OR(\nOR(AND(D129<>\"\",F129=\"\"),AND(E129<>\"\",F129=\"\")),\nF129=LEFT(F129,MIN(FIND(0,SUBSTITUTE(F129,{1,2,3,4,5,6,7,8,9},0)&0))-1)=FALSE\n),\"Check\",\"\")","v":""},"","",null,"",0,"","","","",""]
["SBSA_121","SBSA_121",null,null,null,null,null,null,null,null,null,null,null,null,null,null,null,null,null,null,null,null,null,null,null,null,"","",{"$f":"IF(OR(\nOR(AND(D130<>\"\",F130=\"\"),AND(E130<>\"\",F130=\"\")),\nF130=LEFT(F130,MIN(FIND(0,SUBSTITUTE(F130,{1,2,3,4,5,6,7,8,9},0)&0))-1)=FALSE\n),\"Check\",\"\")","v":""},"","",null,"",0,"","","","",""]
["SBSA_122","SBSA_122",null,null,null,null,null,null,null,null,null,null,null,null,null,null,null,null,null,null,null,null,null,null,null,null,"","",{"$f":"IF(OR(\nOR(AND(D131<>\"\",F131=\"\"),AND(E131<>\"\",F131=\"\")),\nF131=LEFT(F131,MIN(FIND(0,SUBSTITUTE(F131,{1,2,3,4,5,6,7,8,9},0)&0))-1)=FALSE\n),\"Check\",\"\")","v":""},"","",null,"",0,"","","","",""]
["SBSA_123","SBSA_123",null,null,null,null,null,null,null,null,null,null,null,null,null,null,null,null,null,null,null,null,null,null,null,null,"","",{"$f":"IF(OR(\nOR(AND(D132<>\"\",F132=\"\"),AND(E132<>\"\",F132=\"\")),\nF132=LEFT(F132,MIN(FIND(0,SUBSTITUTE(F132,{1,2,3,4,5,6,7,8,9},0)&0))-1)=FALSE\n),\"Check\",\"\")","v":""},"","",null,"",0,"","","","",""]
["SBSA_124","SBSA_124",null,null,null,null,null,null,null,null,null,null,null,null,null,null,null,null,null,null,null,null,null,null,null,null,"","",{"$f":"IF(OR(\nOR(AND(D133<>\"\",F133=\"\"),AND(E133<>\"\",F133=\"\")),\nF133=LEFT(F133,MIN(FIND(0,SUBSTITUTE(F133,{1,2,3,4,5,6,7,8,9},0)&0))-1)=FALSE\n),\"Check\",\"\")","v":""},"","",null,"",0,"","","","",""]
["SBSA_125","SBSA_125",null,null,null,null,null,null,null,null,null,null,null,null,null,null,null,null,null,null,null,null,null,null,null,null,"","",{"$f":"IF(OR(\nOR(AND(D134<>\"\",F134=\"\"),AND(E134<>\"\",F134=\"\")),\nF134=LEFT(F134,MIN(FIND(0,SUBSTITUTE(F134,{1,2,3,4,5,6,7,8,9},0)&0))-1)=FALSE\n),\"Check\",\"\")","v":""},"","",null,"",0,"","","","",""]
["SBSA_126","SBSA_126",null,null,null,null,null,null,null,null,null,null,null,null,null,null,null,null,null,null,null,null,null,null,null,null,"","",{"$f":"IF(OR(\nOR(AND(D135<>\"\",F135=\"\"),AND(E135<>\"\",F135=\"\")),\nF135=LEFT(F135,MIN(FIND(0,SUBSTITUTE(F135,{1,2,3,4,5,6,7,8,9},0)&0))-1)=FALSE\n),\"Check\",\"\")","v":""},"","",null,"",0,"","","","",""]
["SBSA_127","SBSA_127",null,null,null,null,null,null,null,null,null,null,null,null,null,null,null,null,null,null,null,null,null,null,null,null,"","",{"$f":"IF(OR(\nOR(AND(D136<>\"\",F136=\"\"),AND(E136<>\"\",F136=\"\")),\nF136=LEFT(F136,MIN(FIND(0,SUBSTITUTE(F136,{1,2,3,4,5,6,7,8,9},0)&0))-1)=FALSE\n),\"Check\",\"\")","v":""},"","",null,"",0,"","","","",""]
["SBSA_128","SBSA_128",null,null,null,null,null,null,null,null,null,null,null,null,null,null,null,null,null,null,null,null,null,null,null,null,"","",{"$f":"IF(OR(\nOR(AND(D137<>\"\",F137=\"\"),AND(E137<>\"\",F137=\"\")),\nF137=LEFT(F137,MIN(FIND(0,SUBSTITUTE(F137,{1,2,3,4,5,6,7,8,9},0)&0))-1)=FALSE\n),\"Check\",\"\")","v":""},"","",null,"",0,"","","","",""]
["SBSA_129","SBSA_129",null,null,null,null,null,null,null,null,null,null,null,null,null,null,null,null,null,null,null,null,null,null,null,null,{"$f":"IF(AND(C138=\"\",OR(D138<>\"\",E138<>\"\",F138<>\"\",G138<>\"\")),\"Check\",\"\")","v":""},{"$f":"IF(AND(C138<>\"\",OR(AND(D138=\"\",E138=\"\"),AND(D138=0,E138=0),AND(ABS(D138)>0,ABS(E138)>0))),\"Check\",\"\")","v":""},{"$f":"IF(OR(\nOR(AND(D138<>\"\",F138=\"\"),AND(E138<>\"\",F138=\"\")),\nF138=LEFT(F138,MIN(FIND(0,SUBSTITUTE(F138,{1,2,3,4,5,6,7,8,9},0)&0))-1)=FALSE\n),\"Check\",\"\")","v":""},{"$f":"IF(OR(E138=\"\",G138=\"\"),\"\",(E138*G138)/100)","v":""},{"$f":"IF(AND(F138<>\"\",G138=\"\"),\"Check\",\"\")","v":""},null,{"$f":"IF(C138=\"\",\"\",C138&\"_\"&IF(G138=\"\",0,G138))","v":""},{"$f":"IF(COUNTBLANK(C138:G138)<5,1,0)","v":0},{"$f":"IF(C138=\"\",\"\",IF(LEN(C138)=12,\"\",\"Check\"))","v":""},{"$f":"IF(C138=\"\",\"\",IF(COUNTIF(C$10:C$65536,C138)=COUNTIF(AG$10:AG$65536,AG138),\"\",\"Check\"))","v":""},{"$f":"IF(F138=\"\",\"\",IF(LEN(F138)=3,\"\",\"Check\"))","v":""},{"$f":"IF(OR(IF(D138=\"\",\"\",IF(ISNUMBER(D138)=TRUE,\"\",\"TEXT\"))=\"TEXT\",IF(E138=\"\",\"\",IF(ISNUMBER(E138)=TRUE,\"\",\"TEXT\"))=\"TEXT\",IF(G138=\"\",\"\",IF(ISNUMBER(G138)=TRUE,\"\",\"TEXT\"))=\"TEXT\"),\"Check\",\"\")","v":""},{"$f":"IF(G138<0,\"Check\",\"\")","v":""}]
["SBSA_130","SBSA_130",null,null,null,null,null,null,null,null,null,null,null,null,null,null,null,null,null,null,null,null,null,null,null,null,"","",{"$f":"IF(OR(\nOR(AND(D139<>\"\",F139=\"\"),AND(E139<>\"\",F139=\"\")),\nF139=LEFT(F139,MIN(FIND(0,SUBSTITUTE(F139,{1,2,3,4,5,6,7,8,9},0)&0))-1)=FALSE\n),\"Check\",\"\")","v":""},"","",null,"",0,"","","","",""]
["SBSA_131","SBSA_131",null,null,null,null,null,null,null,null,null,null,null,null,null,null,null,null,null,null,null,null,null,null,null,null,"","",{"$f":"IF(OR(\nOR(AND(D140<>\"\",F140=\"\"),AND(E140<>\"\",F140=\"\")),\nF140=LEFT(F140,MIN(FIND(0,SUBSTITUTE(F140,{1,2,3,4,5,6,7,8,9},0)&0))-1)=FALSE\n),\"Check\",\"\")","v":""},"","",null,"",0,"","","","",""]
["SBSA_132","SBSA_132",null,null,null,null,null,null,null,null,null,null,null,null,null,null,null,null,null,null,null,null,null,null,null,null,"","",{"$f":"IF(OR(\nOR(AND(D141<>\"\",F141=\"\"),AND(E141<>\"\",F141=\"\")),\nF141=LEFT(F141,MIN(FIND(0,SUBSTITUTE(F141,{1,2,3,4,5,6,7,8,9},0)&0))-1)=FALSE\n),\"Check\",\"\")","v":""},"","",null,"",0,"","","","",""]
["SBSA_133","SBSA_133",null,null,null,null,null,null,null,null,null,null,null,null,null,null,null,null,null,null,null,null,null,null,null,null,"","",{"$f":"IF(OR(\nOR(AND(D142<>\"\",F142=\"\"),AND(E142<>\"\",F142=\"\")),\nF142=LEFT(F142,MIN(FIND(0,SUBSTITUTE(F142,{1,2,3,4,5,6,7,8,9},0)&0))-1)=FALSE\n),\"Check\",\"\")","v":""},"","",null,"",0,"","","","",""]
["SBSA_134","SBSA_134",null,null,null,null,null,null,null,null,null,null,null,null,null,null,null,null,null,null,null,null,null,null,null,null,"","",{"$f":"IF(OR(\nOR(AND(D143<>\"\",F143=\"\"),AND(E143<>\"\",F143=\"\")),\nF143=LEFT(F143,MIN(FIND(0,SUBSTITUTE(F143,{1,2,3,4,5,6,7,8,9},0)&0))-1)=FALSE\n),\"Check\",\"\")","v":""},"","",null,"",0,"","","","",""]
["SBSA_135","SBSA_135",null,null,null,null,null,null,null,null,null,null,null,null,null,null,null,null,null,null,null,null,null,null,null,null,"","",{"$f":"IF(OR(\nOR(AND(D144<>\"\",F144=\"\"),AND(E144<>\"\",F144=\"\")),\nF144=LEFT(F144,MIN(FIND(0,SUBSTITUTE(F144,{1,2,3,4,5,6,7,8,9},0)&0))-1)=FALSE\n),\"Check\",\"\")","v":""},"","",null,"",0,"","","","",""]
["SBSA_136","SBSA_136",null,null,null,null,null,null,null,null,null,null,null,null,null,null,null,null,null,null,null,null,null,null,null,null,"","",{"$f":"IF(OR(\nOR(AND(D145<>\"\",F145=\"\"),AND(E145<>\"\",F145=\"\")),\nF145=LEFT(F145,MIN(FIND(0,SUBSTITUTE(F145,{1,2,3,4,5,6,7,8,9},0)&0))-1)=FALSE\n),\"Check\",\"\")","v":""},"","",null,"",0,"","","","",""]
["SBSA_137","SBSA_137",null,null,null,null,null,null,null,null,null,null,null,null,null,null,null,null,null,null,null,null,null,null,null,null,"","",{"$f":"IF(OR(\nOR(AND(D146<>\"\",F146=\"\"),AND(E146<>\"\",F146=\"\")),\nF146=LEFT(F146,MIN(FIND(0,SUBSTITUTE(F146,{1,2,3,4,5,6,7,8,9},0)&0))-1)=FALSE\n),\"Check\",\"\")","v":""},"","",null,"",0,"","","","",""]
["SBSA_138","SBSA_138",null,null,null,null,null,null,null,null,null,null,null,null,null,null,null,null,null,null,null,null,null,null,null,null,"","",{"$f":"IF(OR(\nOR(AND(D147<>\"\",F147=\"\"),AND(E147<>\"\",F147=\"\")),\nF147=LEFT(F147,MIN(FIND(0,SUBSTITUTE(F147,{1,2,3,4,5,6,7,8,9},0)&0))-1)=FALSE\n),\"Check\",\"\")","v":""},"","",null,"",0,"","","","",""]
["SBSA_139","SBSA_139",null,null,null,null,null,null,null,null,null,null,null,null,null,null,null,null,null,null,null,null,null,null,null,null,"","",{"$f":"IF(OR(\nOR(AND(D148<>\"\",F148=\"\"),AND(E148<>\"\",F148=\"\")),\nF148=LEFT(F148,MIN(FIND(0,SUBSTITUTE(F148,{1,2,3,4,5,6,7,8,9},0)&0))-1)=FALSE\n),\"Check\",\"\")","v":""},"","",null,"",0,"","","","",""]
["SBSA_140","SBSA_140",null,null,null,null,null,null,null,null,null,null,null,null,null,null,null,null,null,null,null,null,null,null,null,null,"","",{"$f":"IF(OR(\nOR(AND(D149<>\"\",F149=\"\"),AND(E149<>\"\",F149=\"\")),\nF149=LEFT(F149,MIN(FIND(0,SUBSTITUTE(F149,{1,2,3,4,5,6,7,8,9},0)&0))-1)=FALSE\n),\"Check\",\"\")","v":""},"","",null,"",0,"","","","",""]
["SBSA_141","SBSA_141",null,null,null,null,null,null,null,null,null,null,null,null,null,null,null,null,null,null,null,null,null,null,null,null,"","",{"$f":"IF(OR(\nOR(AND(D150<>\"\",F150=\"\"),AND(E150<>\"\",F150=\"\")),\nF150=LEFT(F150,MIN(FIND(0,SUBSTITUTE(F150,{1,2,3,4,5,6,7,8,9},0)&0))-1)=FALSE\n),\"Check\",\"\")","v":""},"","",null,"",0,"","","","",""]
["SBSA_142","SBSA_142",null,null,null,null,null,null,null,null,null,null,null,null,null,null,null,null,null,null,null,null,null,null,null,null,"","",{"$f":"IF(OR(\nOR(AND(D151<>\"\",F151=\"\"),AND(E151<>\"\",F151=\"\")),\nF151=LEFT(F151,MIN(FIND(0,SUBSTITUTE(F151,{1,2,3,4,5,6,7,8,9},0)&0))-1)=FALSE\n),\"Check\",\"\")","v":""},"","",null,"",0,"","","","",""]
["SBSA_143","SBSA_143",null,null,null,null,null,null,null,null,null,null,null,null,null,null,null,null,null,null,null,null,null,null,null,null,"","",{"$f":"IF(OR(\nOR(AND(D152<>\"\",F152=\"\"),AND(E152<>\"\",F152=\"\")),\nF152=LEFT(F152,MIN(FIND(0,SUBSTITUTE(F152,{1,2,3,4,5,6,7,8,9},0)&0))-1)=FALSE\n),\"Check\",\"\")","v":""},"","",null,"",0,"","","","",""]
["SBSA_144","SBSA_144",null,null,null,null,null,null,null,null,null,null,null,null,null,null,null,null,null,null,null,null,null,null,null,null,"","",{"$f":"IF(OR(\nOR(AND(D153<>\"\",F153=\"\"),AND(E153<>\"\",F153=\"\")),\nF153=LEFT(F153,MIN(FIND(0,SUBSTITUTE(F153,{1,2,3,4,5,6,7,8,9},0)&0))-1)=FALSE\n),\"Check\",\"\")","v":""},"","",null,"",0,"","","","",""]
["SBSA_145","SBSA_145",null,null,null,null,null,null,null,null,null,null,null,null,null,null,null,null,null,null,null,null,null,null,null,null,"","",{"$f":"IF(OR(\nOR(AND(D154<>\"\",F154=\"\"),AND(E154<>\"\",F154=\"\")),\nF154=LEFT(F154,MIN(FIND(0,SUBSTITUTE(F154,{1,2,3,4,5,6,7,8,9},0)&0))-1)=FALSE\n),\"Check\",\"\")","v":""},"","",null,"",0,"","","","",""]
["SBSA_146","SBSA_146",null,null,null,null,null,null,null,null,null,null,null,null,null,null,null,null,null,null,null,null,null,null,null,null,"","",{"$f":"IF(OR(\nOR(AND(D155<>\"\",F155=\"\"),AND(E155<>\"\",F155=\"\")),\nF155=LEFT(F155,MIN(FIND(0,SUBSTITUTE(F155,{1,2,3,4,5,6,7,8,9},0)&0))-1)=FALSE\n),\"Check\",\"\")","v":""},"","",null,"",0,"","","","",""]
["SBSA_147","SBSA_147",null,null,null,null,null,null,null,null,null,null,null,null,null,null,null,null,null,null,null,null,null,null,null,null,"","",{"$f":"IF(OR(\nOR(AND(D156<>\"\",F156=\"\"),AND(E156<>\"\",F156=\"\")),\nF156=LEFT(F156,MIN(FIND(0,SUBSTITUTE(F156,{1,2,3,4,5,6,7,8,9},0)&0))-1)=FALSE\n),\"Check\",\"\")","v":""},"","",null,"",0,"","","","",""]
["SBSA_148","SBSA_148",null,null,null,null,null,null,null,null,null,null,null,null,null,null,null,null,null,null,null,null,null,null,null,null,"","",{"$f":"IF(OR(\nOR(AND(D157<>\"\",F157=\"\"),AND(E157<>\"\",F157=\"\")),\nF157=LEFT(F157,MIN(FIND(0,SUBSTITUTE(F157,{1,2,3,4,5,6,7,8,9},0)&0))-1)=FALSE\n),\"Check\",\"\")","v":""},"","",null,"",0,"","","","",""]
["SBSA_149","SBSA_149",null,null,null,null,null,null,null,null,null,null,null,null,null,null,null,null,null,null,null,null,null,null,null,null,"","",{"$f":"IF(OR(\nOR(AND(D158<>\"\",F158=\"\"),AND(E158<>\"\",F158=\"\")),\nF158=LEFT(F158,MIN(FIND(0,SUBSTITUTE(F158,{1,2,3,4,5,6,7,8,9},0)&0))-1)=FALSE\n),\"Check\",\"\")","v":""},"","",null,"",0,"","","","",""]
["SBSA_150","SBSA_150",null,null,null,null,null,null,null,null,null,null,null,null,null,null,null,null,null,null,null,null,null,null,null,null,"","",{"$f":"IF(OR(\nOR(AND(D159<>\"\",F159=\"\"),AND(E159<>\"\",F159=\"\")),\nF159=LEFT(F159,MIN(FIND(0,SUBSTITUTE(F159,{1,2,3,4,5,6,7,8,9},0)&0))-1)=FALSE\n),\"Check\",\"\")","v":""},"","",null,"",0,"","","","",""]
["SBSA_151","SBSA_151",null,null,null,null,null,null,null,null,null,null,null,null,null,null,null,null,null,null,null,null,null,null,null,null,"","",{"$f":"IF(OR(\nOR(AND(D160<>\"\",F160=\"\"),AND(E160<>\"\",F160=\"\")),\nF160=LEFT(F160,MIN(FIND(0,SUBSTITUTE(F160,{1,2,3,4,5,6,7,8,9},0)&0))-1)=FALSE\n),\"Check\",\"\")","v":""},"","",null,"",0,"","","","",""]
["SBSA_152","SBSA_152",null,null,null,null,null,null,null,null,null,null,null,null,null,null,null,null,null,null,null,null,null,null,null,null,"","",{"$f":"IF(OR(\nOR(AND(D161<>\"\",F161=\"\"),AND(E161<>\"\",F161=\"\")),\nF161=LEFT(F161,MIN(FIND(0,SUBSTITUTE(F161,{1,2,3,4,5,6,7,8,9},0)&0))-1)=FALSE\n),\"Check\",\"\")","v":""},"","",null,"",0,"","","","",""]
["SBSA_153","SBSA_153",null,null,null,null,null,null,null,null,null,null,null,null,null,null,null,null,null,null,null,null,null,null,null,null,"","",{"$f":"IF(OR(\nOR(AND(D162<>\"\",F162=\"\"),AND(E162<>\"\",F162=\"\")),\nF162=LEFT(F162,MIN(FIND(0,SUBSTITUTE(F162,{1,2,3,4,5,6,7,8,9},0)&0))-1)=FALSE\n),\"Check\",\"\")","v":""},"","",null,"",0,"","","","",""]
["SBSA_154","SBSA_154",null,null,null,null,null,null,null,null,null,null,null,null,null,null,null,null,null,null,null,null,null,null,null,null,"","",{"$f":"IF(OR(\nOR(AND(D163<>\"\",F163=\"\"),AND(E163<>\"\",F163=\"\")),\nF163=LEFT(F163,MIN(FIND(0,SUBSTITUTE(F163,{1,2,3,4,5,6,7,8,9},0)&0))-1)=FALSE\n),\"Check\",\"\")","v":""},"","",null,"",0,"","","","",""]
["SBSA_155","SBSA_155",null,null,null,null,null,null,null,null,null,null,null,null,null,null,null,null,null,null,null,null,null,null,null,null,"","",{"$f":"IF(OR(\nOR(AND(D164<>\"\",F164=\"\"),AND(E164<>\"\",F164=\"\")),\nF164=LEFT(F164,MIN(FIND(0,SUBSTITUTE(F164,{1,2,3,4,5,6,7,8,9},0)&0))-1)=FALSE\n),\"Check\",\"\")","v":""},"","",null,"",0,"","","","",""]
["SBSA_156","SBSA_156",null,null,null,null,null,null,null,null,null,null,null,null,null,null,null,null,null,null,null,null,null,null,null,null,"","",{"$f":"IF(OR(\nOR(AND(D165<>\"\",F165=\"\"),AND(E165<>\"\",F165=\"\")),\nF165=LEFT(F165,MIN(FIND(0,SUBSTITUTE(F165,{1,2,3,4,5,6,7,8,9},0)&0))-1)=FALSE\n),\"Check\",\"\")","v":""},"","",null,"",0,"","","","",""]
["SBSA_157","SBSA_157",null,null,null,null,null,null,null,null,null,null,null,null,null,null,null,null,null,null,null,null,null,null,null,null,"","",{"$f":"IF(OR(\nOR(AND(D166<>\"\",F166=\"\"),AND(E166<>\"\",F166=\"\")),\nF166=LEFT(F166,MIN(FIND(0,SUBSTITUTE(F166,{1,2,3,4,5,6,7,8,9},0)&0))-1)=FALSE\n),\"Check\",\"\")","v":""},"","",null,"",0,"","","","",""]
["SBSA_158","SBSA_158",null,null,null,null,null,null,null,null,null,null,null,null,null,null,null,null,null,null,null,null,null,null,null,null,"","",{"$f":"IF(OR(\nOR(AND(D167<>\"\",F167=\"\"),AND(E167<>\"\",F167=\"\")),\nF167=LEFT(F167,MIN(FIND(0,SUBSTITUTE(F167,{1,2,3,4,5,6,7,8,9},0)&0))-1)=FALSE\n),\"Check\",\"\")","v":""},"","",null,"",0,"","","","",""]
["SBSA_159","SBSA_159",null,null,null,null,null,null,null,null,null,null,null,null,null,null,null,null,null,null,null,null,null,null,null,null,"","",{"$f":"IF(OR(\nOR(AND(D168<>\"\",F168=\"\"),AND(E168<>\"\",F168=\"\")),\nF168=LEFT(F168,MIN(FIND(0,SUBSTITUTE(F168,{1,2,3,4,5,6,7,8,9},0)&0))-1)=FALSE\n),\"Check\",\"\")","v":""},"","",null,"",0,"","","","",""]
["SBSA_160","SBSA_160",null,null,null,null,null,null,null,null,null,null,null,null,null,null,null,null,null,null,null,null,null,null,null,null,"","",{"$f":"IF(OR(\nOR(AND(D169<>\"\",F169=\"\"),AND(E169<>\"\",F169=\"\")),\nF169=LEFT(F169,MIN(FIND(0,SUBSTITUTE(F169,{1,2,3,4,5,6,7,8,9},0)&0))-1)=FALSE\n),\"Check\",\"\")","v":""},"","",null,"",0,"","","","",""]
["SBSA_161","SBSA_161",null,null,null,null,null,null,null,null,null,null,null,null,null,null,null,null,null,null,null,null,null,null,null,null,"","",{"$f":"IF(OR(\nOR(AND(D170<>\"\",F170=\"\"),AND(E170<>\"\",F170=\"\")),\nF170=LEFT(F170,MIN(FIND(0,SUBSTITUTE(F170,{1,2,3,4,5,6,7,8,9},0)&0))-1)=FALSE\n),\"Check\",\"\")","v":""},"","",null,"",0,"","","","",""]
["SBSA_162","SBSA_162",null,null,null,null,null,null,null,null,null,null,null,null,null,null,null,null,null,null,null,null,null,null,null,null,"","",{"$f":"IF(OR(\nOR(AND(D171<>\"\",F171=\"\"),AND(E171<>\"\",F171=\"\")),\nF171=LEFT(F171,MIN(FIND(0,SUBSTITUTE(F171,{1,2,3,4,5,6,7,8,9},0)&0))-1)=FALSE\n),\"Check\",\"\")","v":""},"","",null,"",0,"","","","",""]
["SBSA_163","SBSA_163",null,null,null,null,null,null,null,null,null,null,null,null,null,null,null,null,null,null,null,null,null,null,null,null,"","",{"$f":"IF(OR(\nOR(AND(D172<>\"\",F172=\"\"),AND(E172<>\"\",F172=\"\")),\nF172=LEFT(F172,MIN(FIND(0,SUBSTITUTE(F172,{1,2,3,4,5,6,7,8,9},0)&0))-1)=FALSE\n),\"Check\",\"\")","v":""},"","",null,"",0,"","","","",""]
["SBSA_164","SBSA_164",null,null,null,null,null,null,null,null,null,null,null,null,null,null,null,null,null,null,null,null,null,null,null,null,"","",{"$f":"IF(OR(\nOR(AND(D173<>\"\",F173=\"\"),AND(E173<>\"\",F173=\"\")),\nF173=LEFT(F173,MIN(FIND(0,SUBSTITUTE(F173,{1,2,3,4,5,6,7,8,9},0)&0))-1)=FALSE\n),\"Check\",\"\")","v":""},"","",null,"",0,"","","","",""]
["SBSA_165","SBSA_165",null,null,null,null,null,null,null,null,null,null,null,null,null,null,null,null,null,null,null,null,null,null,null,null,"","",{"$f":"IF(OR(\nOR(AND(D174<>\"\",F174=\"\"),AND(E174<>\"\",F174=\"\")),\nF174=LEFT(F174,MIN(FIND(0,SUBSTITUTE(F174,{1,2,3,4,5,6,7,8,9},0)&0))-1)=FALSE\n),\"Check\",\"\")","v":""},"","",null,"",0,"","","","",""]
["SBSA_166","SBSA_166",null,null,null,null,null,null,null,null,null,null,null,null,null,null,null,null,null,null,null,null,null,null,null,null,"","",{"$f":"IF(OR(\nOR(AND(D175<>\"\",F175=\"\"),AND(E175<>\"\",F175=\"\")),\nF175=LEFT(F175,MIN(FIND(0,SUBSTITUTE(F175,{1,2,3,4,5,6,7,8,9},0)&0))-1)=FALSE\n),\"Check\",\"\")","v":""},"","",null,"",0,"","","","",""]
["SBSA_167","SBSA_167",null,null,null,null,null,null,null,null,null,null,null,null,null,null,null,null,null,null,null,null,null,null,null,null,"","",{"$f":"IF(OR(\nOR(AND(D176<>\"\",F176=\"\"),AND(E176<>\"\",F176=\"\")),\nF176=LEFT(F176,MIN(FIND(0,SUBSTITUTE(F176,{1,2,3,4,5,6,7,8,9},0)&0))-1)=FALSE\n),\"Check\",\"\")","v":""},"","",null,"",0,"","","","",""]
["SBSA_168","SBSA_168",null,null,null,null,null,null,null,null,null,null,null,null,null,null,null,null,null,null,null,null,null,null,null,null,"","",{"$f":"IF(OR(\nOR(AND(D177<>\"\",F177=\"\"),AND(E177<>\"\",F177=\"\")),\nF177=LEFT(F177,MIN(FIND(0,SUBSTITUTE(F177,{1,2,3,4,5,6,7,8,9},0)&0))-1)=FALSE\n),\"Check\",\"\")","v":""},"","",null,"",0,"","","","",""]
["SBSA_169","SBSA_169",null,null,null,null,null,null,null,null,null,null,null,null,null,null,null,null,null,null,null,null,null,null,null,null,"","",{"$f":"IF(OR(\nOR(AND(D178<>\"\",F178=\"\"),AND(E178<>\"\",F178=\"\")),\nF178=LEFT(F178,MIN(FIND(0,SUBSTITUTE(F178,{1,2,3,4,5,6,7,8,9},0)&0))-1)=FALSE\n),\"Check\",\"\")","v":""},"","",null,"",0,"","","","",""]
["SBSA_170","SBSA_170",null,null,null,null,null,null,null,null,null,null,null,null,null,null,null,null,null,null,null,null,null,null,null,null,"","",{"$f":"IF(OR(\nOR(AND(D179<>\"\",F179=\"\"),AND(E179<>\"\",F179=\"\")),\nF179=LEFT(F179,MIN(FIND(0,SUBSTITUTE(F179,{1,2,3,4,5,6,7,8,9},0)&0))-1)=FALSE\n),\"Check\",\"\")","v":""},"","",null,"",0,"","","","",""]
["SBSA_171","SBSA_171",null,null,null,null,null,null,null,null,null,null,null,null,null,null,null,null,null,null,null,null,null,null,null,null,"","",{"$f":"IF(OR(\nOR(AND(D180<>\"\",F180=\"\"),AND(E180<>\"\",F180=\"\")),\nF180=LEFT(F180,MIN(FIND(0,SUBSTITUTE(F180,{1,2,3,4,5,6,7,8,9},0)&0))-1)=FALSE\n),\"Check\",\"\")","v":""},"","",null,"",0,"","","","",""]
["SBSA_172","SBSA_172",null,null,null,null,null,null,null,null,null,null,null,null,null,null,null,null,null,null,null,null,null,null,null,null,"","",{"$f":"IF(OR(\nOR(AND(D181<>\"\",F181=\"\"),AND(E181<>\"\",F181=\"\")),\nF181=LEFT(F181,MIN(FIND(0,SUBSTITUTE(F181,{1,2,3,4,5,6,7,8,9},0)&0))-1)=FALSE\n),\"Check\",\"\")","v":""},"","",null,"",0,"","","","",""]
["SBSA_173","SBSA_173",null,null,null,null,null,null,null,null,null,null,null,null,null,null,null,null,null,null,null,null,null,null,null,null,"","",{"$f":"IF(OR(\nOR(AND(D182<>\"\",F182=\"\"),AND(E182<>\"\",F182=\"\")),\nF182=LEFT(F182,MIN(FIND(0,SUBSTITUTE(F182,{1,2,3,4,5,6,7,8,9},0)&0))-1)=FALSE\n),\"Check\",\"\")","v":""},"","",null,"",0,"","","","",""]
["SBSA_174","SBSA_174",null,null,null,null,null,null,null,null,null,null,null,null,null,null,null,null,null,null,null,null,null,null,null,null,"","",{"$f":"IF(OR(\nOR(AND(D183<>\"\",F183=\"\"),AND(E183<>\"\",F183=\"\")),\nF183=LEFT(F183,MIN(FIND(0,SUBSTITUTE(F183,{1,2,3,4,5,6,7,8,9},0)&0))-1)=FALSE\n),\"Check\",\"\")","v":""},"","",null,"",0,"","","","",""]
["SBSA_175","SBSA_175",null,null,null,null,null,null,null,null,null,null,null,null,null,null,null,null,null,null,null,null,null,null,null,null,"","",{"$f":"IF(OR(\nOR(AND(D184<>\"\",F184=\"\"),AND(E184<>\"\",F184=\"\")),\nF184=LEFT(F184,MIN(FIND(0,SUBSTITUTE(F184,{1,2,3,4,5,6,7,8,9},0)&0))-1)=FALSE\n),\"Check\",\"\")","v":""},"","",null,"",0,"","","","",""]
["SBSA_176","SBSA_176",null,null,null,null,null,null,null,null,null,null,null,null,null,null,null,null,null,null,null,null,null,null,null,null,"","",{"$f":"IF(OR(\nOR(AND(D185<>\"\",F185=\"\"),AND(E185<>\"\",F185=\"\")),\nF185=LEFT(F185,MIN(FIND(0,SUBSTITUTE(F185,{1,2,3,4,5,6,7,8,9},0)&0))-1)=FALSE\n),\"Check\",\"\")","v":""},"","",null,"",0,"","","","",""]
["SBSA_177","SBSA_177",null,null,null,null,null,null,null,null,null,null,null,null,null,null,null,null,null,null,null,null,null,null,null,null,"","",{"$f":"IF(OR(\nOR(AND(D186<>\"\",F186=\"\"),AND(E186<>\"\",F186=\"\")),\nF186=LEFT(F186,MIN(FIND(0,SUBSTITUTE(F186,{1,2,3,4,5,6,7,8,9},0)&0))-1)=FALSE\n),\"Check\",\"\")","v":""},"","",null,"",0,"","","","",""]
["SBSA_178","SBSA_178",null,null,null,null,null,null,null,null,null,null,null,null,null,null,null,null,null,null,null,null,null,null,null,null,"","",{"$f":"IF(OR(\nOR(AND(D187<>\"\",F187=\"\"),AND(E187<>\"\",F187=\"\")),\nF187=LEFT(F187,MIN(FIND(0,SUBSTITUTE(F187,{1,2,3,4,5,6,7,8,9},0)&0))-1)=FALSE\n),\"Check\",\"\")","v":""},"","",null,"",0,"","","","",""]
["SBSA_179","SBSA_179",null,null,null,null,null,null,null,null,null,null,null,null,null,null,null,null,null,null,null,null,null,null,null,null,"","",{"$f":"IF(OR(\nOR(AND(D188<>\"\",F188=\"\"),AND(E188<>\"\",F188=\"\")),\nF188=LEFT(F188,MIN(FIND(0,SUBSTITUTE(F188,{1,2,3,4,5,6,7,8,9},0)&0))-1)=FALSE\n),\"Check\",\"\")","v":""},"","",null,"",0,"","","","",""]
["SBSA_180","SBSA_180",null,null,null,null,null,null,null,null,null,null,null,null,null,null,null,null,null,null,null,null,null,null,null,null,"","",{"$f":"IF(OR(\nOR(AND(D189<>\"\",F189=\"\"),AND(E189<>\"\",F189=\"\")),\nF189=LEFT(F189,MIN(FIND(0,SUBSTITUTE(F189,{1,2,3,4,5,6,7,8,9},0)&0))-1)=FALSE\n),\"Check\",\"\")","v":""},"","",null,"",0,"","","","",""]
["SBSA_181","SBSA_181",null,null,null,null,null,null,null,null,null,null,null,null,null,null,null,null,null,null,null,null,null,null,null,null,"","",{"$f":"IF(OR(\nOR(AND(D190<>\"\",F190=\"\"),AND(E190<>\"\",F190=\"\")),\nF190=LEFT(F190,MIN(FIND(0,SUBSTITUTE(F190,{1,2,3,4,5,6,7,8,9},0)&0))-1)=FALSE\n),\"Check\",\"\")","v":""},"","",null,"",0,"","","","",""]
["SBSA_182","SBSA_182",null,null,null,null,null,null,null,null,null,null,null,null,null,null,null,null,null,null,null,null,null,null,null,null,"","",{"$f":"IF(OR(\nOR(AND(D191<>\"\",F191=\"\"),AND(E191<>\"\",F191=\"\")),\nF191=LEFT(F191,MIN(FIND(0,SUBSTITUTE(F191,{1,2,3,4,5,6,7,8,9},0)&0))-1)=FALSE\n),\"Check\",\"\")","v":""},"","",null,"",0,"","","","",""]
["SBSA_183","SBSA_183",null,null,null,null,null,null,null,null,null,null,null,null,null,null,null,null,null,null,null,null,null,null,null,null,"","",{"$f":"IF(OR(\nOR(AND(D192<>\"\",F192=\"\"),AND(E192<>\"\",F192=\"\")),\nF192=LEFT(F192,MIN(FIND(0,SUBSTITUTE(F192,{1,2,3,4,5,6,7,8,9},0)&0))-1)=FALSE\n),\"Check\",\"\")","v":""},"","",null,"",0,"","","","",""]
["SBSA_184","SBSA_184",null,null,null,null,null,null,null,null,null,null,null,null,null,null,null,null,null,null,null,null,null,null,null,null,"","",{"$f":"IF(OR(\nOR(AND(D193<>\"\",F193=\"\"),AND(E193<>\"\",F193=\"\")),\nF193=LEFT(F193,MIN(FIND(0,SUBSTITUTE(F193,{1,2,3,4,5,6,7,8,9},0)&0))-1)=FALSE\n),\"Check\",\"\")","v":""},"","",null,"",0,"","","","",""]
["SBSA_185","SBSA_185",null,null,null,null,null,null,null,null,null,null,null,null,null,null,null,null,null,null,null,null,null,null,null,null,"","",{"$f":"IF(OR(\nOR(AND(D194<>\"\",F194=\"\"),AND(E194<>\"\",F194=\"\")),\nF194=LEFT(F194,MIN(FIND(0,SUBSTITUTE(F194,{1,2,3,4,5,6,7,8,9},0)&0))-1)=FALSE\n),\"Check\",\"\")","v":""},"","",null,"",0,"","","","",""]
["SBSA_186","SBSA_186",null,null,null,null,null,null,null,null,null,null,null,null,null,null,null,null,null,null,null,null,null,null,null,null,"","",{"$f":"IF(OR(\nOR(AND(D195<>\"\",F195=\"\"),AND(E195<>\"\",F195=\"\")),\nF195=LEFT(F195,MIN(FIND(0,SUBSTITUTE(F195,{1,2,3,4,5,6,7,8,9},0)&0))-1)=FALSE\n),\"Check\",\"\")","v":""},"","",null,"",0,"","","","",""]
["SBSA_187","SBSA_187",null,null,null,null,null,null,null,null,null,null,null,null,null,null,null,null,null,null,null,null,null,null,null,null,"","",{"$f":"IF(OR(\nOR(AND(D196<>\"\",F196=\"\"),AND(E196<>\"\",F196=\"\")),\nF196=LEFT(F196,MIN(FIND(0,SUBSTITUTE(F196,{1,2,3,4,5,6,7,8,9},0)&0))-1)=FALSE\n),\"Check\",\"\")","v":""},"","",null,"",0,"","","","",""]
["SBSA_188","SBSA_188",null,null,null,null,null,null,null,null,null,null,null,null,null,null,null,null,null,null,null,null,null,null,null,null,"","",{"$f":"IF(OR(\nOR(AND(D197<>\"\",F197=\"\"),AND(E197<>\"\",F197=\"\")),\nF197=LEFT(F197,MIN(FIND(0,SUBSTITUTE(F197,{1,2,3,4,5,6,7,8,9},0)&0))-1)=FALSE\n),\"Check\",\"\")","v":""},"","",null,"",0,"","","","",""]
["SBSA_189","SBSA_189",null,null,null,null,null,null,null,null,null,null,null,null,null,null,null,null,null,null,null,null,null,null,null,null,"","",{"$f":"IF(OR(\nOR(AND(D198<>\"\",F198=\"\"),AND(E198<>\"\",F198=\"\")),\nF198=LEFT(F198,MIN(FIND(0,SUBSTITUTE(F198,{1,2,3,4,5,6,7,8,9},0)&0))-1)=FALSE\n),\"Check\",\"\")","v":""},"","",null,"",0,"","","","",""]
["SBSA_190","SBSA_190",null,null,null,null,null,null,null,null,null,null,null,null,null,null,null,null,null,null,null,null,null,null,null,null,"","",{"$f":"IF(OR(\nOR(AND(D199<>\"\",F199=\"\"),AND(E199<>\"\",F199=\"\")),\nF199=LEFT(F199,MIN(FIND(0,SUBSTITUTE(F199,{1,2,3,4,5,6,7,8,9},0)&0))-1)=FALSE\n),\"Check\",\"\")","v":""},"","",null,"",0,"","","","",""]
["SBSA_191","SBSA_191",null,null,null,null,null,null,null,null,null,null,null,null,null,null,null,null,null,null,null,null,null,null,null,null,"","",{"$f":"IF(OR(\nOR(AND(D200<>\"\",F200=\"\"),AND(E200<>\"\",F200=\"\")),\nF200=LEFT(F200,MIN(FIND(0,SUBSTITUTE(F200,{1,2,3,4,5,6,7,8,9},0)&0))-1)=FALSE\n),\"Check\",\"\")","v":""},"","",null,"",0,"","","","",""]
["SBSA_192","SBSA_192",null,null,null,null,null,null,null,null,null,null,null,null,null,null,null,null,null,null,null,null,null,null,null,null,"","",{"$f":"IF(OR(\nOR(AND(D201<>\"\",F201=\"\"),AND(E201<>\"\",F201=\"\")),\nF201=LEFT(F201,MIN(FIND(0,SUBSTITUTE(F201,{1,2,3,4,5,6,7,8,9},0)&0))-1)=FALSE\n),\"Check\",\"\")","v":""},"","",null,"",0,"","","","",""]
["SBSA_193","SBSA_193",null,null,null,null,null,null,null,null,null,null,null,null,null,null,null,null,null,null,null,null,null,null,null,null,{"$f":"IF(AND(C202=\"\",OR(D202<>\"\",E202<>\"\",F202<>\"\",G202<>\"\")),\"Check\",\"\")","v":""},{"$f":"IF(AND(C202<>\"\",OR(AND(D202=\"\",E202=\"\"),AND(D202=0,E202=0),AND(ABS(D202)>0,ABS(E202)>0))),\"Check\",\"\")","v":""},{"$f":"IF(OR(\nOR(AND(D202<>\"\",F202=\"\"),AND(E202<>\"\",F202=\"\")),\nF202=LEFT(F202,MIN(FIND(0,SUBSTITUTE(F202,{1,2,3,4,5,6,7,8,9},0)&0))-1)=FALSE\n),\"Check\",\"\")","v":""},{"$f":"IF(OR(E202=\"\",G202=\"\"),\"\",(E202*G202)/100)","v":""},{"$f":"IF(AND(F202<>\"\",G202=\"\"),\"Check\",\"\")","v":""},null,{"$f":"IF(C202=\"\",\"\",C202&\"_\"&IF(G202=\"\",0,G202))","v":""},{"$f":"IF(COUNTBLANK(C202:G202)<5,1,0)","v":0},{"$f":"IF(C202=\"\",\"\",IF(LEN(C202)=12,\"\",\"Check\"))","v":""},{"$f":"IF(C202=\"\",\"\",IF(COUNTIF(C$10:C$65536,C202)=COUNTIF(AG$10:AG$65536,AG202),\"\",\"Check\"))","v":""},{"$f":"IF(F202=\"\",\"\",IF(LEN(F202)=3,\"\",\"Check\"))","v":""},{"$f":"IF(OR(IF(D202=\"\",\"\",IF(ISNUMBER(D202)=TRUE,\"\",\"TEXT\"))=\"TEXT\",IF(E202=\"\",\"\",IF(ISNUMBER(E202)=TRUE,\"\",\"TEXT\"))=\"TEXT\",IF(G202=\"\",\"\",IF(ISNUMBER(G202)=TRUE,\"\",\"TEXT\"))=\"TEXT\"),\"Check\",\"\")","v":""},{"$f":"IF(G202<0,\"Check\",\"\")","v":""}]
["SBSA_194","SBSA_194",null,null,null,null,null,null,null,null,null,null,null,null,null,null,null,null,null,null,null,null,null,null,null,null,"","",{"$f":"IF(OR(\nOR(AND(D203<>\"\",F203=\"\"),AND(E203<>\"\",F203=\"\")),\nF203=LEFT(F203,MIN(FIND(0,SUBSTITUTE(F203,{1,2,3,4,5,6,7,8,9},0)&0))-1)=FALSE\n),\"Check\",\"\")","v":""},"","",null,"",0,"","","","",""]
["SBSA_195","SBSA_195",null,null,null,null,null,null,null,null,null,null,null,null,null,null,null,null,null,null,null,null,null,null,null,null,"","",{"$f":"IF(OR(\nOR(AND(D204<>\"\",F204=\"\"),AND(E204<>\"\",F204=\"\")),\nF204=LEFT(F204,MIN(FIND(0,SUBSTITUTE(F204,{1,2,3,4,5,6,7,8,9},0)&0))-1)=FALSE\n),\"Check\",\"\")","v":""},"","",null,"",0,"","","","",""]
["SBSA_196","SBSA_196",null,null,null,null,null,null,null,null,null,null,null,null,null,null,null,null,null,null,null,null,null,null,null,null,"","",{"$f":"IF(OR(\nOR(AND(D205<>\"\",F205=\"\"),AND(E205<>\"\",F205=\"\")),\nF205=LEFT(F205,MIN(FIND(0,SUBSTITUTE(F205,{1,2,3,4,5,6,7,8,9},0)&0))-1)=FALSE\n),\"Check\",\"\")","v":""},"","",null,"",0,"","","","",""]
["SBSA_197","SBSA_197",null,null,null,null,null,null,null,null,null,null,null,null,null,null,null,null,null,null,null,null,null,null,null,null,"","",{"$f":"IF(OR(\nOR(AND(D206<>\"\",F206=\"\"),AND(E206<>\"\",F206=\"\")),\nF206=LEFT(F206,MIN(FIND(0,SUBSTITUTE(F206,{1,2,3,4,5,6,7,8,9},0)&0))-1)=FALSE\n),\"Check\",\"\")","v":""},"","",null,"",0,"","","","",""]
["SBSA_198","SBSA_198",null,null,null,null,null,null,null,null,null,null,null,null,null,null,null,null,null,null,null,null,null,null,null,null,"","",{"$f":"IF(OR(\nOR(AND(D207<>\"\",F207=\"\"),AND(E207<>\"\",F207=\"\")),\nF207=LEFT(F207,MIN(FIND(0,SUBSTITUTE(F207,{1,2,3,4,5,6,7,8,9},0)&0))-1)=FALSE\n),\"Check\",\"\")","v":""},"","",null,"",0,"","","","",""]
["SBSA_199","SBSA_199",null,null,null,null,null,null,null,null,null,null,null,null,null,null,null,null,null,null,null,null,null,null,null,null,"","",{"$f":"IF(OR(\nOR(AND(D208<>\"\",F208=\"\"),AND(E208<>\"\",F208=\"\")),\nF208=LEFT(F208,MIN(FIND(0,SUBSTITUTE(F208,{1,2,3,4,5,6,7,8,9},0)&0))-1)=FALSE\n),\"Check\",\"\")","v":""},"","",null,"",0,"","","","",""]
["SBSA_200","SBSA_200",null,null,null,null,null,null,null,null,null,null,null,null,null,null,null,null,null,null,null,null,null,null,null,null,"","",{"$f":"IF(OR(\nOR(AND(D209<>\"\",F209=\"\"),AND(E209<>\"\",F209=\"\")),\nF209=LEFT(F209,MIN(FIND(0,SUBSTITUTE(F209,{1,2,3,4,5,6,7,8,9},0)&0))-1)=FALSE\n),\"Check\",\"\")","v":""},"","",null,"",0,"","","","",""]
["SBSA_201","SBSA_201",null,null,null,null,null,null,null,null,null,null,null,null,null,null,null,null,null,null,null,null,null,null,null,null,"","",{"$f":"IF(OR(\nOR(AND(D210<>\"\",F210=\"\"),AND(E210<>\"\",F210=\"\")),\nF210=LEFT(F210,MIN(FIND(0,SUBSTITUTE(F210,{1,2,3,4,5,6,7,8,9},0)&0))-1)=FALSE\n),\"Check\",\"\")","v":""},"","",null,"",0,"","","","",""]
["SBSA_202","SBSA_202",null,null,null,null,null,null,null,null,null,null,null,null,null,null,null,null,null,null,null,null,null,null,null,null,"","",{"$f":"IF(OR(\nOR(AND(D211<>\"\",F211=\"\"),AND(E211<>\"\",F211=\"\")),\nF211=LEFT(F211,MIN(FIND(0,SUBSTITUTE(F211,{1,2,3,4,5,6,7,8,9},0)&0))-1)=FALSE\n),\"Check\",\"\")","v":""},"","",null,"",0,"","","","",""]
["SBSA_203","SBSA_203",null,null,null,null,null,null,null,null,null,null,null,null,null,null,null,null,null,null,null,null,null,null,null,null,"","",{"$f":"IF(OR(\nOR(AND(D212<>\"\",F212=\"\"),AND(E212<>\"\",F212=\"\")),\nF212=LEFT(F212,MIN(FIND(0,SUBSTITUTE(F212,{1,2,3,4,5,6,7,8,9},0)&0))-1)=FALSE\n),\"Check\",\"\")","v":""},"","",null,"",0,"","","","",""]
["SBSA_204","SBSA_204",null,null,null,null,null,null,null,null,null,null,null,null,null,null,null,null,null,null,null,null,null,null,null,null,"","",{"$f":"IF(OR(\nOR(AND(D213<>\"\",F213=\"\"),AND(E213<>\"\",F213=\"\")),\nF213=LEFT(F213,MIN(FIND(0,SUBSTITUTE(F213,{1,2,3,4,5,6,7,8,9},0)&0))-1)=FALSE\n),\"Check\",\"\")","v":""},"","",null,"",0,"","","","",""]
["SBSA_205","SBSA_205",null,null,null,null,null,null,null,null,null,null,null,null,null,null,null,null,null,null,null,null,null,null,null,null,"","",{"$f":"IF(OR(\nOR(AND(D214<>\"\",F214=\"\"),AND(E214<>\"\",F214=\"\")),\nF214=LEFT(F214,MIN(FIND(0,SUBSTITUTE(F214,{1,2,3,4,5,6,7,8,9},0)&0))-1)=FALSE\n),\"Check\",\"\")","v":""},"","",null,"",0,"","","","",""]
["SBSA_206","SBSA_206",null,null,null,null,null,null,null,null,null,null,null,null,null,null,null,null,null,null,null,null,null,null,null,null,"","",{"$f":"IF(OR(\nOR(AND(D215<>\"\",F215=\"\"),AND(E215<>\"\",F215=\"\")),\nF215=LEFT(F215,MIN(FIND(0,SUBSTITUTE(F215,{1,2,3,4,5,6,7,8,9},0)&0))-1)=FALSE\n),\"Check\",\"\")","v":""},"","",null,"",0,"","","","",""]
["SBSA_207","SBSA_207",null,null,null,null,null,null,null,null,null,null,null,null,null,null,null,null,null,null,null,null,null,null,null,null,"","",{"$f":"IF(OR(\nOR(AND(D216<>\"\",F216=\"\"),AND(E216<>\"\",F216=\"\")),\nF216=LEFT(F216,MIN(FIND(0,SUBSTITUTE(F216,{1,2,3,4,5,6,7,8,9},0)&0))-1)=FALSE\n),\"Check\",\"\")","v":""},"","",null,"",0,"","","","",""]
["SBSA_208","SBSA_208",null,null,null,null,null,null,null,null,null,null,null,null,null,null,null,null,null,null,null,null,null,null,null,null,"","",{"$f":"IF(OR(\nOR(AND(D217<>\"\",F217=\"\"),AND(E217<>\"\",F217=\"\")),\nF217=LEFT(F217,MIN(FIND(0,SUBSTITUTE(F217,{1,2,3,4,5,6,7,8,9},0)&0))-1)=FALSE\n),\"Check\",\"\")","v":""},"","",null,"",0,"","","","",""]
["SBSA_209","SBSA_209",null,null,null,null,null,null,null,null,null,null,null,null,null,null,null,null,null,null,null,null,null,null,null,null,"","",{"$f":"IF(OR(\nOR(AND(D218<>\"\",F218=\"\"),AND(E218<>\"\",F218=\"\")),\nF218=LEFT(F218,MIN(FIND(0,SUBSTITUTE(F218,{1,2,3,4,5,6,7,8,9},0)&0))-1)=FALSE\n),\"Check\",\"\")","v":""},"","",null,"",0,"","","","",""]
["SBSA_210","SBSA_210",null,null,null,null,null,null,null,null,null,null,null,null,null,null,null,null,null,null,null,null,null,null,null,null,"","",{"$f":"IF(OR(\nOR(AND(D219<>\"\",F219=\"\"),AND(E219<>\"\",F219=\"\")),\nF219=LEFT(F219,MIN(FIND(0,SUBSTITUTE(F219,{1,2,3,4,5,6,7,8,9},0)&0))-1)=FALSE\n),\"Check\",\"\")","v":""},"","",null,"",0,"","","","",""]
["SBSA_211","SBSA_211",null,null,null,null,null,null,null,null,null,null,null,null,null,null,null,null,null,null,null,null,null,null,null,null,"","",{"$f":"IF(OR(\nOR(AND(D220<>\"\",F220=\"\"),AND(E220<>\"\",F220=\"\")),\nF220=LEFT(F220,MIN(FIND(0,SUBSTITUTE(F220,{1,2,3,4,5,6,7,8,9},0)&0))-1)=FALSE\n),\"Check\",\"\")","v":""},"","",null,"",0,"","","","",""]
["SBSA_212","SBSA_212",null,null,null,null,null,null,null,null,null,null,null,null,null,null,null,null,null,null,null,null,null,null,null,null,"","",{"$f":"IF(OR(\nOR(AND(D221<>\"\",F221=\"\"),AND(E221<>\"\",F221=\"\")),\nF221=LEFT(F221,MIN(FIND(0,SUBSTITUTE(F221,{1,2,3,4,5,6,7,8,9},0)&0))-1)=FALSE\n),\"Check\",\"\")","v":""},"","",null,"",0,"","","","",""]
["SBSA_213","SBSA_213",null,null,null,null,null,null,null,null,null,null,null,null,null,null,null,null,null,null,null,null,null,null,null,null,"","",{"$f":"IF(OR(\nOR(AND(D222<>\"\",F222=\"\"),AND(E222<>\"\",F222=\"\")),\nF222=LEFT(F222,MIN(FIND(0,SUBSTITUTE(F222,{1,2,3,4,5,6,7,8,9},0)&0))-1)=FALSE\n),\"Check\",\"\")","v":""},"","",null,"",0,"","","","",""]
["SBSA_214","SBSA_214",null,null,null,null,null,null,null,null,null,null,null,null,null,null,null,null,null,null,null,null,null,null,null,null,"","",{"$f":"IF(OR(\nOR(AND(D223<>\"\",F223=\"\"),AND(E223<>\"\",F223=\"\")),\nF223=LEFT(F223,MIN(FIND(0,SUBSTITUTE(F223,{1,2,3,4,5,6,7,8,9},0)&0))-1)=FALSE\n),\"Check\",\"\")","v":""},"","",null,"",0,"","","","",""]
["SBSA_215","SBSA_215",null,null,null,null,null,null,null,null,null,null,null,null,null,null,null,null,null,null,null,null,null,null,null,null,"","",{"$f":"IF(OR(\nOR(AND(D224<>\"\",F224=\"\"),AND(E224<>\"\",F224=\"\")),\nF224=LEFT(F224,MIN(FIND(0,SUBSTITUTE(F224,{1,2,3,4,5,6,7,8,9},0)&0))-1)=FALSE\n),\"Check\",\"\")","v":""},"","",null,"",0,"","","","",""]
["SBSA_216","SBSA_216",null,null,null,null,null,null,null,null,null,null,null,null,null,null,null,null,null,null,null,null,null,null,null,null,"","",{"$f":"IF(OR(\nOR(AND(D225<>\"\",F225=\"\"),AND(E225<>\"\",F225=\"\")),\nF225=LEFT(F225,MIN(FIND(0,SUBSTITUTE(F225,{1,2,3,4,5,6,7,8,9},0)&0))-1)=FALSE\n),\"Check\",\"\")","v":""},"","",null,"",0,"","","","",""]
["SBSA_217","SBSA_217",null,null,null,null,null,null,null,null,null,null,null,null,null,null,null,null,null,null,null,null,null,null,null,null,"","",{"$f":"IF(OR(\nOR(AND(D226<>\"\",F226=\"\"),AND(E226<>\"\",F226=\"\")),\nF226=LEFT(F226,MIN(FIND(0,SUBSTITUTE(F226,{1,2,3,4,5,6,7,8,9},0)&0))-1)=FALSE\n),\"Check\",\"\")","v":""},"","",null,"",0,"","","","",""]
["SBSA_218","SBSA_218",null,null,null,null,null,null,null,null,null,null,null,null,null,null,null,null,null,null,null,null,null,null,null,null,"","",{"$f":"IF(OR(\nOR(AND(D227<>\"\",F227=\"\"),AND(E227<>\"\",F227=\"\")),\nF227=LEFT(F227,MIN(FIND(0,SUBSTITUTE(F227,{1,2,3,4,5,6,7,8,9},0)&0))-1)=FALSE\n),\"Check\",\"\")","v":""},"","",null,"",0,"","","","",""]
["SBSA_219","SBSA_219",null,null,null,null,null,null,null,null,null,null,null,null,null,null,null,null,null,null,null,null,null,null,null,null,"","",{"$f":"IF(OR(\nOR(AND(D228<>\"\",F228=\"\"),AND(E228<>\"\",F228=\"\")),\nF228=LEFT(F228,MIN(FIND(0,SUBSTITUTE(F228,{1,2,3,4,5,6,7,8,9},0)&0))-1)=FALSE\n),\"Check\",\"\")","v":""},"","",null,"",0,"","","","",""]
["SBSA_220","SBSA_220",null,null,null,null,null,null,null,null,null,null,null,null,null,null,null,null,null,null,null,null,null,null,null,null,"","",{"$f":"IF(OR(\nOR(AND(D229<>\"\",F229=\"\"),AND(E229<>\"\",F229=\"\")),\nF229=LEFT(F229,MIN(FIND(0,SUBSTITUTE(F229,{1,2,3,4,5,6,7,8,9},0)&0))-1)=FALSE\n),\"Check\",\"\")","v":""},"","",null,"",0,"","","","",""]
["SBSA_221","SBSA_221",null,null,null,null,null,null,null,null,null,null,null,null,null,null,null,null,null,null,null,null,null,null,null,null,"","",{"$f":"IF(OR(\nOR(AND(D230<>\"\",F230=\"\"),AND(E230<>\"\",F230=\"\")),\nF230=LEFT(F230,MIN(FIND(0,SUBSTITUTE(F230,{1,2,3,4,5,6,7,8,9},0)&0))-1)=FALSE\n),\"Check\",\"\")","v":""},"","",null,"",0,"","","","",""]
["SBSA_222","SBSA_222",null,null,null,null,null,null,null,null,null,null,null,null,null,null,null,null,null,null,null,null,null,null,null,null,"","",{"$f":"IF(OR(\nOR(AND(D231<>\"\",F231=\"\"),AND(E231<>\"\",F231=\"\")),\nF231=LEFT(F231,MIN(FIND(0,SUBSTITUTE(F231,{1,2,3,4,5,6,7,8,9},0)&0))-1)=FALSE\n),\"Check\",\"\")","v":""},"","",null,"",0,"","","","",""]
["SBSA_223","SBSA_223",null,null,null,null,null,null,null,null,null,null,null,null,null,null,null,null,null,null,null,null,null,null,null,null,"","",{"$f":"IF(OR(\nOR(AND(D232<>\"\",F232=\"\"),AND(E232<>\"\",F232=\"\")),\nF232=LEFT(F232,MIN(FIND(0,SUBSTITUTE(F232,{1,2,3,4,5,6,7,8,9},0)&0))-1)=FALSE\n),\"Check\",\"\")","v":""},"","",null,"",0,"","","","",""]
["SBSA_224","SBSA_224",null,null,null,null,null,null,null,null,null,null,null,null,null,null,null,null,null,null,null,null,null,null,null,null,"","",{"$f":"IF(OR(\nOR(AND(D233<>\"\",F233=\"\"),AND(E233<>\"\",F233=\"\")),\nF233=LEFT(F233,MIN(FIND(0,SUBSTITUTE(F233,{1,2,3,4,5,6,7,8,9},0)&0))-1)=FALSE\n),\"Check\",\"\")","v":""},"","",null,"",0,"","","","",""]
["SBSA_225","SBSA_225",null,null,null,null,null,null,null,null,null,null,null,null,null,null,null,null,null,null,null,null,null,null,null,null,"","",{"$f":"IF(OR(\nOR(AND(D234<>\"\",F234=\"\"),AND(E234<>\"\",F234=\"\")),\nF234=LEFT(F234,MIN(FIND(0,SUBSTITUTE(F234,{1,2,3,4,5,6,7,8,9},0)&0))-1)=FALSE\n),\"Check\",\"\")","v":""},"","",null,"",0,"","","","",""]
["SBSA_226","SBSA_226",null,null,null,null,null,null,null,null,null,null,null,null,null,null,null,null,null,null,null,null,null,null,null,null,"","",{"$f":"IF(OR(\nOR(AND(D235<>\"\",F235=\"\"),AND(E235<>\"\",F235=\"\")),\nF235=LEFT(F235,MIN(FIND(0,SUBSTITUTE(F235,{1,2,3,4,5,6,7,8,9},0)&0))-1)=FALSE\n),\"Check\",\"\")","v":""},"","",null,"",0,"","","","",""]
["SBSA_227","SBSA_227",null,null,null,null,null,null,null,null,null,null,null,null,null,null,null,null,null,null,null,null,null,null,null,null,"","",{"$f":"IF(OR(\nOR(AND(D236<>\"\",F236=\"\"),AND(E236<>\"\",F236=\"\")),\nF236=LEFT(F236,MIN(FIND(0,SUBSTITUTE(F236,{1,2,3,4,5,6,7,8,9},0)&0))-1)=FALSE\n),\"Check\",\"\")","v":""},"","",null,"",0,"","","","",""]
["SBSA_228","SBSA_228",null,null,null,null,null,null,null,null,null,null,null,null,null,null,null,null,null,null,null,null,null,null,null,null,"","",{"$f":"IF(OR(\nOR(AND(D237<>\"\",F237=\"\"),AND(E237<>\"\",F237=\"\")),\nF237=LEFT(F237,MIN(FIND(0,SUBSTITUTE(F237,{1,2,3,4,5,6,7,8,9},0)&0))-1)=FALSE\n),\"Check\",\"\")","v":""},"","",null,"",0,"","","","",""]
["SBSA_229","SBSA_229",null,null,null,null,null,null,null,null,null,null,null,null,null,null,null,null,null,null,null,null,null,null,null,null,"","",{"$f":"IF(OR(\nOR(AND(D238<>\"\",F238=\"\"),AND(E238<>\"\",F238=\"\")),\nF238=LEFT(F238,MIN(FIND(0,SUBSTITUTE(F238,{1,2,3,4,5,6,7,8,9},0)&0))-1)=FALSE\n),\"Check\",\"\")","v":""},"","",null,"",0,"","","","",""]
["SBSA_230","SBSA_230",null,null,null,null,null,null,null,null,null,null,null,null,null,null,null,null,null,null,null,null,null,null,null,null,"","",{"$f":"IF(OR(\nOR(AND(D239<>\"\",F239=\"\"),AND(E239<>\"\",F239=\"\")),\nF239=LEFT(F239,MIN(FIND(0,SUBSTITUTE(F239,{1,2,3,4,5,6,7,8,9},0)&0))-1)=FALSE\n),\"Check\",\"\")","v":""},"","",null,"",0,"","","","",""]
["SBSA_231","SBSA_231",null,null,null,null,null,null,null,null,null,null,null,null,null,null,null,null,null,null,null,null,null,null,null,null,"","",{"$f":"IF(OR(\nOR(AND(D240<>\"\",F240=\"\"),AND(E240<>\"\",F240=\"\")),\nF240=LEFT(F240,MIN(FIND(0,SUBSTITUTE(F240,{1,2,3,4,5,6,7,8,9},0)&0))-1)=FALSE\n),\"Check\",\"\")","v":""},"","",null,"",0,"","","","",""]
["SBSA_232","SBSA_232",null,null,null,null,null,null,null,null,null,null,null,null,null,null,null,null,null,null,null,null,null,null,null,null,"","",{"$f":"IF(OR(\nOR(AND(D241<>\"\",F241=\"\"),AND(E241<>\"\",F241=\"\")),\nF241=LEFT(F241,MIN(FIND(0,SUBSTITUTE(F241,{1,2,3,4,5,6,7,8,9},0)&0))-1)=FALSE\n),\"Check\",\"\")","v":""},"","",null,"",0,"","","","",""]
["SBSA_233","SBSA_233",null,null,null,null,null,null,null,null,null,null,null,null,null,null,null,null,null,null,null,null,null,null,null,null,"","",{"$f":"IF(OR(\nOR(AND(D242<>\"\",F242=\"\"),AND(E242<>\"\",F242=\"\")),\nF242=LEFT(F242,MIN(FIND(0,SUBSTITUTE(F242,{1,2,3,4,5,6,7,8,9},0)&0))-1)=FALSE\n),\"Check\",\"\")","v":""},"","",null,"",0,"","","","",""]
["SBSA_234","SBSA_234",null,null,null,null,null,null,null,null,null,null,null,null,null,null,null,null,null,null,null,null,null,null,null,null,"","",{"$f":"IF(OR(\nOR(AND(D243<>\"\",F243=\"\"),AND(E243<>\"\",F243=\"\")),\nF243=LEFT(F243,MIN(FIND(0,SUBSTITUTE(F243,{1,2,3,4,5,6,7,8,9},0)&0))-1)=FALSE\n),\"Check\",\"\")","v":""},"","",null,"",0,"","","","",""]
["SBSA_235","SBSA_235",null,null,null,null,null,null,null,null,null,null,null,null,null,null,null,null,null,null,null,null,null,null,null,null,"","",{"$f":"IF(OR(\nOR(AND(D244<>\"\",F244=\"\"),AND(E244<>\"\",F244=\"\")),\nF244=LEFT(F244,MIN(FIND(0,SUBSTITUTE(F244,{1,2,3,4,5,6,7,8,9},0)&0))-1)=FALSE\n),\"Check\",\"\")","v":""},"","",null,"",0,"","","","",""]
["SBSA_236","SBSA_236",null,null,null,null,null,null,null,null,null,null,null,null,null,null,null,null,null,null,null,null,null,null,null,null,"","",{"$f":"IF(OR(\nOR(AND(D245<>\"\",F245=\"\"),AND(E245<>\"\",F245=\"\")),\nF245=LEFT(F245,MIN(FIND(0,SUBSTITUTE(F245,{1,2,3,4,5,6,7,8,9},0)&0))-1)=FALSE\n),\"Check\",\"\")","v":""},"","",null,"",0,"","","","",""]
["SBSA_237","SBSA_237",null,null,null,null,null,null,null,null,null,null,null,null,null,null,null,null,null,null,null,null,null,null,null,null,"","",{"$f":"IF(OR(\nOR(AND(D246<>\"\",F246=\"\"),AND(E246<>\"\",F246=\"\")),\nF246=LEFT(F246,MIN(FIND(0,SUBSTITUTE(F246,{1,2,3,4,5,6,7,8,9},0)&0))-1)=FALSE\n),\"Check\",\"\")","v":""},"","",null,"",0,"","","","",""]
["SBSA_238","SBSA_238",null,null,null,null,null,null,null,null,null,null,null,null,null,null,null,null,null,null,null,null,null,null,null,null,"","",{"$f":"IF(OR(\nOR(AND(D247<>\"\",F247=\"\"),AND(E247<>\"\",F247=\"\")),\nF247=LEFT(F247,MIN(FIND(0,SUBSTITUTE(F247,{1,2,3,4,5,6,7,8,9},0)&0))-1)=FALSE\n),\"Check\",\"\")","v":""},"","",null,"",0,"","","","",""]
["SBSA_239","SBSA_239",null,null,null,null,null,null,null,null,null,null,null,null,null,null,null,null,null,null,null,null,null,null,null,null,"","",{"$f":"IF(OR(\nOR(AND(D248<>\"\",F248=\"\"),AND(E248<>\"\",F248=\"\")),\nF248=LEFT(F248,MIN(FIND(0,SUBSTITUTE(F248,{1,2,3,4,5,6,7,8,9},0)&0))-1)=FALSE\n),\"Check\",\"\")","v":""},"","",null,"",0,"","","","",""]
["SBSA_240","SBSA_240",null,null,null,null,null,null,null,null,null,null,null,null,null,null,null,null,null,null,null,null,null,null,null,null,"","",{"$f":"IF(OR(\nOR(AND(D249<>\"\",F249=\"\"),AND(E249<>\"\",F249=\"\")),\nF249=LEFT(F249,MIN(FIND(0,SUBSTITUTE(F249,{1,2,3,4,5,6,7,8,9},0)&0))-1)=FALSE\n),\"Check\",\"\")","v":""},"","",null,"",0,"","","","",""]
["SBSA_241","SBSA_241",null,null,null,null,null,null,null,null,null,null,null,null,null,null,null,null,null,null,null,null,null,null,null,null,"","",{"$f":"IF(OR(\nOR(AND(D250<>\"\",F250=\"\"),AND(E250<>\"\",F250=\"\")),\nF250=LEFT(F250,MIN(FIND(0,SUBSTITUTE(F250,{1,2,3,4,5,6,7,8,9},0)&0))-1)=FALSE\n),\"Check\",\"\")","v":""},"","",null,"",0,"","","","",""]
["SBSA_242","SBSA_242",null,null,null,null,null,null,null,null,null,null,null,null,null,null,null,null,null,null,null,null,null,null,null,null,"","",{"$f":"IF(OR(\nOR(AND(D251<>\"\",F251=\"\"),AND(E251<>\"\",F251=\"\")),\nF251=LEFT(F251,MIN(FIND(0,SUBSTITUTE(F251,{1,2,3,4,5,6,7,8,9},0)&0))-1)=FALSE\n),\"Check\",\"\")","v":""},"","",null,"",0,"","","","",""]
["SBSA_243","SBSA_243",null,null,null,null,null,null,null,null,null,null,null,null,null,null,null,null,null,null,null,null,null,null,null,null,"","",{"$f":"IF(OR(\nOR(AND(D252<>\"\",F252=\"\"),AND(E252<>\"\",F252=\"\")),\nF252=LEFT(F252,MIN(FIND(0,SUBSTITUTE(F252,{1,2,3,4,5,6,7,8,9},0)&0))-1)=FALSE\n),\"Check\",\"\")","v":""},"","",null,"",0,"","","","",""]
["SBSA_244","SBSA_244",null,null,null,null,null,null,null,null,null,null,null,null,null,null,null,null,null,null,null,null,null,null,null,null,"","",{"$f":"IF(OR(\nOR(AND(D253<>\"\",F253=\"\"),AND(E253<>\"\",F253=\"\")),\nF253=LEFT(F253,MIN(FIND(0,SUBSTITUTE(F253,{1,2,3,4,5,6,7,8,9},0)&0))-1)=FALSE\n),\"Check\",\"\")","v":""},"","",null,"",0,"","","","",""]
["SBSA_245","SBSA_245",null,null,null,null,null,null,null,null,null,null,null,null,null,null,null,null,null,null,null,null,null,null,null,null,"","",{"$f":"IF(OR(\nOR(AND(D254<>\"\",F254=\"\"),AND(E254<>\"\",F254=\"\")),\nF254=LEFT(F254,MIN(FIND(0,SUBSTITUTE(F254,{1,2,3,4,5,6,7,8,9},0)&0))-1)=FALSE\n),\"Check\",\"\")","v":""},"","",null,"",0,"","","","",""]
["SBSA_246","SBSA_246",null,null,null,null,null,null,null,null,null,null,null,null,null,null,null,null,null,null,null,null,null,null,null,null,"","",{"$f":"IF(OR(\nOR(AND(D255<>\"\",F255=\"\"),AND(E255<>\"\",F255=\"\")),\nF255=LEFT(F255,MIN(FIND(0,SUBSTITUTE(F255,{1,2,3,4,5,6,7,8,9},0)&0))-1)=FALSE\n),\"Check\",\"\")","v":""},"","",null,"",0,"","","","",""]
["SBSA_247","SBSA_247",null,null,null,null,null,null,null,null,null,null,null,null,null,null,null,null,null,null,null,null,null,null,null,null,"","",{"$f":"IF(OR(\nOR(AND(D256<>\"\",F256=\"\"),AND(E256<>\"\",F256=\"\")),\nF256=LEFT(F256,MIN(FIND(0,SUBSTITUTE(F256,{1,2,3,4,5,6,7,8,9},0)&0))-1)=FALSE\n),\"Check\",\"\")","v":""},"","",null,"",0,"","","","",""]
["SBSA_248","SBSA_248",null,null,null,null,null,null,null,null,null,null,null,null,null,null,null,null,null,null,null,null,null,null,null,null,"","",{"$f":"IF(OR(\nOR(AND(D257<>\"\",F257=\"\"),AND(E257<>\"\",F257=\"\")),\nF257=LEFT(F257,MIN(FIND(0,SUBSTITUTE(F257,{1,2,3,4,5,6,7,8,9},0)&0))-1)=FALSE\n),\"Check\",\"\")","v":""},"","",null,"",0,"","","","",""]
["SBSA_249","SBSA_249",null,null,null,null,null,null,null,null,null,null,null,null,null,null,null,null,null,null,null,null,null,null,null,null,"","",{"$f":"IF(OR(\nOR(AND(D258<>\"\",F258=\"\"),AND(E258<>\"\",F258=\"\")),\nF258=LEFT(F258,MIN(FIND(0,SUBSTITUTE(F258,{1,2,3,4,5,6,7,8,9},0)&0))-1)=FALSE\n),\"Check\",\"\")","v":""},"","",null,"",0,"","","","",""]
["SBSA_250","SBSA_250",null,null,null,null,null,null,null,null,null,null,null,null,null,null,null,null,null,null,null,null,null,null,null,null,"","",{"$f":"IF(OR(\nOR(AND(D259<>\"\",F259=\"\"),AND(E259<>\"\",F259=\"\")),\nF259=LEFT(F259,MIN(FIND(0,SUBSTITUTE(F259,{1,2,3,4,5,6,7,8,9},0)&0))-1)=FALSE\n),\"Check\",\"\")","v":""},"","",null,"",0,"","","","",""]
["SBSA_251","SBSA_251",null,null,null,null,null,null,null,null,null,null,null,null,null,null,null,null,null,null,null,null,null,null,null,null,"","",{"$f":"IF(OR(\nOR(AND(D260<>\"\",F260=\"\"),AND(E260<>\"\",F260=\"\")),\nF260=LEFT(F260,MIN(FIND(0,SUBSTITUTE(F260,{1,2,3,4,5,6,7,8,9},0)&0))-1)=FALSE\n),\"Check\",\"\")","v":""},"","",null,"",0,"","","","",""]
["SBSA_252","SBSA_252",null,null,null,null,null,null,null,null,null,null,null,null,null,null,null,null,null,null,null,null,null,null,null,null,"","",{"$f":"IF(OR(\nOR(AND(D261<>\"\",F261=\"\"),AND(E261<>\"\",F261=\"\")),\nF261=LEFT(F261,MIN(FIND(0,SUBSTITUTE(F261,{1,2,3,4,5,6,7,8,9},0)&0))-1)=FALSE\n),\"Check\",\"\")","v":""},"","",null,"",0,"","","","",""]
["SBSA_253","SBSA_253",null,null,null,null,null,null,null,null,null,null,null,null,null,null,null,null,null,null,null,null,null,null,null,null,"","",{"$f":"IF(OR(\nOR(AND(D262<>\"\",F262=\"\"),AND(E262<>\"\",F262=\"\")),\nF262=LEFT(F262,MIN(FIND(0,SUBSTITUTE(F262,{1,2,3,4,5,6,7,8,9},0)&0))-1)=FALSE\n),\"Check\",\"\")","v":""},"","",null,"",0,"","","","",""]
["SBSA_254","SBSA_254",null,null,null,null,null,null,null,null,null,null,null,null,null,null,null,null,null,null,null,null,null,null,null,null,"","",{"$f":"IF(OR(\nOR(AND(D263<>\"\",F263=\"\"),AND(E263<>\"\",F263=\"\")),\nF263=LEFT(F263,MIN(FIND(0,SUBSTITUTE(F263,{1,2,3,4,5,6,7,8,9},0)&0))-1)=FALSE\n),\"Check\",\"\")","v":""},"","",null,"",0,"","","","",""]
["SBSA_255","SBSA_255",null,null,null,null,null,null,null,null,null,null,null,null,null,null,null,null,null,null,null,null,null,null,null,null,"","",{"$f":"IF(OR(\nOR(AND(D264<>\"\",F264=\"\"),AND(E264<>\"\",F264=\"\")),\nF264=LEFT(F264,MIN(FIND(0,SUBSTITUTE(F264,{1,2,3,4,5,6,7,8,9},0)&0))-1)=FALSE\n),\"Check\",\"\")","v":""},"","",null,"",0,"","","","",""]
["SBSA_256","SBSA_256",null,null,null,null,null,null,null,null,null,null,null,null,null,null,null,null,null,null,null,null,null,null,null,null,"","",{"$f":"IF(OR(\nOR(AND(D265<>\"\",F265=\"\"),AND(E265<>\"\",F265=\"\")),\nF265=LEFT(F265,MIN(FIND(0,SUBSTITUTE(F265,{1,2,3,4,5,6,7,8,9},0)&0))-1)=FALSE\n),\"Check\",\"\")","v":""},"","",null,"",0,"","","","",""]
["SBSA_257","SBSA_257",null,null,null,null,null,null,null,null,null,null,null,null,null,null,null,null,null,null,null,null,null,null,null,null,{"$f":"IF(AND(C266=\"\",OR(D266<>\"\",E266<>\"\",F266<>\"\",G266<>\"\")),\"Check\",\"\")","v":""},{"$f":"IF(AND(C266<>\"\",OR(AND(D266=\"\",E266=\"\"),AND(D266=0,E266=0),AND(ABS(D266)>0,ABS(E266)>0))),\"Check\",\"\")","v":""},{"$f":"IF(OR(\nOR(AND(D266<>\"\",F266=\"\"),AND(E266<>\"\",F266=\"\")),\nF266=LEFT(F266,MIN(FIND(0,SUBSTITUTE(F266,{1,2,3,4,5,6,7,8,9},0)&0))-1)=FALSE\n),\"Check\",\"\")","v":""},{"$f":"IF(OR(E266=\"\",G266=\"\"),\"\",(E266*G266)/100)","v":""},{"$f":"IF(AND(F266<>\"\",G266=\"\"),\"Check\",\"\")","v":""},null,{"$f":"IF(C266=\"\",\"\",C266&\"_\"&IF(G266=\"\",0,G266))","v":""},{"$f":"IF(COUNTBLANK(C266:G266)<5,1,0)","v":0},{"$f":"IF(C266=\"\",\"\",IF(LEN(C266)=12,\"\",\"Check\"))","v":""},{"$f":"IF(C266=\"\",\"\",IF(COUNTIF(C$10:C$65536,C266)=COUNTIF(AG$10:AG$65536,AG266),\"\",\"Check\"))","v":""},{"$f":"IF(F266=\"\",\"\",IF(LEN(F266)=3,\"\",\"Check\"))","v":""},{"$f":"IF(OR(IF(D266=\"\",\"\",IF(ISNUMBER(D266)=TRUE,\"\",\"TEXT\"))=\"TEXT\",IF(E266=\"\",\"\",IF(ISNUMBER(E266)=TRUE,\"\",\"TEXT\"))=\"TEXT\",IF(G266=\"\",\"\",IF(ISNUMBER(G266)=TRUE,\"\",\"TEXT\"))=\"TEXT\"),\"Check\",\"\")","v":""},{"$f":"IF(G266<0,\"Check\",\"\")","v":""}]
["SBSA_258","SBSA_258",null,null,null,null,null,null,null,null,null,null,null,null,null,null,null,null,null,null,null,null,null,null,null,null,"","",{"$f":"IF(OR(\nOR(AND(D267<>\"\",F267=\"\"),AND(E267<>\"\",F267=\"\")),\nF267=LEFT(F267,MIN(FIND(0,SUBSTITUTE(F267,{1,2,3,4,5,6,7,8,9},0)&0))-1)=FALSE\n),\"Check\",\"\")","v":""},"","",null,"",0,"","","","",""]
["SBSA_259","SBSA_259",null,null,null,null,null,null,null,null,null,null,null,null,null,null,null,null,null,null,null,null,null,null,null,null,"","",{"$f":"IF(OR(\nOR(AND(D268<>\"\",F268=\"\"),AND(E268<>\"\",F268=\"\")),\nF268=LEFT(F268,MIN(FIND(0,SUBSTITUTE(F268,{1,2,3,4,5,6,7,8,9},0)&0))-1)=FALSE\n),\"Check\",\"\")","v":""},"","",null,"",0,"","","","",""]
["SBSA_260","SBSA_260",null,null,null,null,null,null,null,null,null,null,null,null,null,null,null,null,null,null,null,null,null,null,null,null,"","",{"$f":"IF(OR(\nOR(AND(D269<>\"\",F269=\"\"),AND(E269<>\"\",F269=\"\")),\nF269=LEFT(F269,MIN(FIND(0,SUBSTITUTE(F269,{1,2,3,4,5,6,7,8,9},0)&0))-1)=FALSE\n),\"Check\",\"\")","v":""},"","",null,"",0,"","","","",""]
["SBSA_261","SBSA_261",null,null,null,null,null,null,null,null,null,null,null,null,null,null,null,null,null,null,null,null,null,null,null,null,"","",{"$f":"IF(OR(\nOR(AND(D270<>\"\",F270=\"\"),AND(E270<>\"\",F270=\"\")),\nF270=LEFT(F270,MIN(FIND(0,SUBSTITUTE(F270,{1,2,3,4,5,6,7,8,9},0)&0))-1)=FALSE\n),\"Check\",\"\")","v":""},"","",null,"",0,"","","","",""]
["SBSA_262","SBSA_262",null,null,null,null,null,null,null,null,null,null,null,null,null,null,null,null,null,null,null,null,null,null,null,null,"","",{"$f":"IF(OR(\nOR(AND(D271<>\"\",F271=\"\"),AND(E271<>\"\",F271=\"\")),\nF271=LEFT(F271,MIN(FIND(0,SUBSTITUTE(F271,{1,2,3,4,5,6,7,8,9},0)&0))-1)=FALSE\n),\"Check\",\"\")","v":""},"","",null,"",0,"","","","",""]
["SBSA_263","SBSA_263",null,null,null,null,null,null,null,null,null,null,null,null,null,null,null,null,null,null,null,null,null,null,null,null,"","",{"$f":"IF(OR(\nOR(AND(D272<>\"\",F272=\"\"),AND(E272<>\"\",F272=\"\")),\nF272=LEFT(F272,MIN(FIND(0,SUBSTITUTE(F272,{1,2,3,4,5,6,7,8,9},0)&0))-1)=FALSE\n),\"Check\",\"\")","v":""},"","",null,"",0,"","","","",""]
["SBSA_264","SBSA_264",null,null,null,null,null,null,null,null,null,null,null,null,null,null,null,null,null,null,null,null,null,null,null,null,"","",{"$f":"IF(OR(\nOR(AND(D273<>\"\",F273=\"\"),AND(E273<>\"\",F273=\"\")),\nF273=LEFT(F273,MIN(FIND(0,SUBSTITUTE(F273,{1,2,3,4,5,6,7,8,9},0)&0))-1)=FALSE\n),\"Check\",\"\")","v":""},"","",null,"",0,"","","","",""]
["SBSA_265","SBSA_265",null,null,null,null,null,null,null,null,null,null,null,null,null,null,null,null,null,null,null,null,null,null,null,null,"","",{"$f":"IF(OR(\nOR(AND(D274<>\"\",F274=\"\"),AND(E274<>\"\",F274=\"\")),\nF274=LEFT(F274,MIN(FIND(0,SUBSTITUTE(F274,{1,2,3,4,5,6,7,8,9},0)&0))-1)=FALSE\n),\"Check\",\"\")","v":""},"","",null,"",0,"","","","",""]
["SBSA_266","SBSA_266",null,null,null,null,null,null,null,null,null,null,null,null,null,null,null,null,null,null,null,null,null,null,null,null,"","",{"$f":"IF(OR(\nOR(AND(D275<>\"\",F275=\"\"),AND(E275<>\"\",F275=\"\")),\nF275=LEFT(F275,MIN(FIND(0,SUBSTITUTE(F275,{1,2,3,4,5,6,7,8,9},0)&0))-1)=FALSE\n),\"Check\",\"\")","v":""},"","",null,"",0,"","","","",""]
["SBSA_267","SBSA_267",null,null,null,null,null,null,null,null,null,null,null,null,null,null,null,null,null,null,null,null,null,null,null,null,"","",{"$f":"IF(OR(\nOR(AND(D276<>\"\",F276=\"\"),AND(E276<>\"\",F276=\"\")),\nF276=LEFT(F276,MIN(FIND(0,SUBSTITUTE(F276,{1,2,3,4,5,6,7,8,9},0)&0))-1)=FALSE\n),\"Check\",\"\")","v":""},"","",null,"",0,"","","","",""]
["SBSA_268","SBSA_268",null,null,null,null,null,null,null,null,null,null,null,null,null,null,null,null,null,null,null,null,null,null,null,null,"","",{"$f":"IF(OR(\nOR(AND(D277<>\"\",F277=\"\"),AND(E277<>\"\",F277=\"\")),\nF277=LEFT(F277,MIN(FIND(0,SUBSTITUTE(F277,{1,2,3,4,5,6,7,8,9},0)&0))-1)=FALSE\n),\"Check\",\"\")","v":""},"","",null,"",0,"","","","",""]
["SBSA_269","SBSA_269",null,null,null,null,null,null,null,null,null,null,null,null,null,null,null,null,null,null,null,null,null,null,null,null,"","",{"$f":"IF(OR(\nOR(AND(D278<>\"\",F278=\"\"),AND(E278<>\"\",F278=\"\")),\nF278=LEFT(F278,MIN(FIND(0,SUBSTITUTE(F278,{1,2,3,4,5,6,7,8,9},0)&0))-1)=FALSE\n),\"Check\",\"\")","v":""},"","",null,"",0,"","","","",""]
["SBSA_270","SBSA_270",null,null,null,null,null,null,null,null,null,null,null,null,null,null,null,null,null,null,null,null,null,null,null,null,"","",{"$f":"IF(OR(\nOR(AND(D279<>\"\",F279=\"\"),AND(E279<>\"\",F279=\"\")),\nF279=LEFT(F279,MIN(FIND(0,SUBSTITUTE(F279,{1,2,3,4,5,6,7,8,9},0)&0))-1)=FALSE\n),\"Check\",\"\")","v":""},"","",null,"",0,"","","","",""]
["SBSA_271","SBSA_271",null,null,null,null,null,null,null,null,null,null,null,null,null,null,null,null,null,null,null,null,null,null,null,null,"","",{"$f":"IF(OR(\nOR(AND(D280<>\"\",F280=\"\"),AND(E280<>\"\",F280=\"\")),\nF280=LEFT(F280,MIN(FIND(0,SUBSTITUTE(F280,{1,2,3,4,5,6,7,8,9},0)&0))-1)=FALSE\n),\"Check\",\"\")","v":""},"","",null,"",0,"","","","",""]
["SBSA_272","SBSA_272",null,null,null,null,null,null,null,null,null,null,null,null,null,null,null,null,null,null,null,null,null,null,null,null,"","",{"$f":"IF(OR(\nOR(AND(D281<>\"\",F281=\"\"),AND(E281<>\"\",F281=\"\")),\nF281=LEFT(F281,MIN(FIND(0,SUBSTITUTE(F281,{1,2,3,4,5,6,7,8,9},0)&0))-1)=FALSE\n),\"Check\",\"\")","v":""},"","",null,"",0,"","","","",""]
["SBSA_273","SBSA_273",null,null,null,null,null,null,null,null,null,null,null,null,null,null,null,null,null,null,null,null,null,null,null,null,"","",{"$f":"IF(OR(\nOR(AND(D282<>\"\",F282=\"\"),AND(E282<>\"\",F282=\"\")),\nF282=LEFT(F282,MIN(FIND(0,SUBSTITUTE(F282,{1,2,3,4,5,6,7,8,9},0)&0))-1)=FALSE\n),\"Check\",\"\")","v":""},"","",null,"",0,"","","","",""]
["SBSA_274","SBSA_274",null,null,null,null,null,null,null,null,null,null,null,null,null,null,null,null,null,null,null,null,null,null,null,null,"","",{"$f":"IF(OR(\nOR(AND(D283<>\"\",F283=\"\"),AND(E283<>\"\",F283=\"\")),\nF283=LEFT(F283,MIN(FIND(0,SUBSTITUTE(F283,{1,2,3,4,5,6,7,8,9},0)&0))-1)=FALSE\n),\"Check\",\"\")","v":""},"","",null,"",0,"","","","",""]
["SBSA_275","SBSA_275",null,null,null,null,null,null,null,null,null,null,null,null,null,null,null,null,null,null,null,null,null,null,null,null,"","",{"$f":"IF(OR(\nOR(AND(D284<>\"\",F284=\"\"),AND(E284<>\"\",F284=\"\")),\nF284=LEFT(F284,MIN(FIND(0,SUBSTITUTE(F284,{1,2,3,4,5,6,7,8,9},0)&0))-1)=FALSE\n),\"Check\",\"\")","v":""},"","",null,"",0,"","","","",""]
["SBSA_276","SBSA_276",null,null,null,null,null,null,null,null,null,null,null,null,null,null,null,null,null,null,null,null,null,null,null,null,"","",{"$f":"IF(OR(\nOR(AND(D285<>\"\",F285=\"\"),AND(E285<>\"\",F285=\"\")),\nF285=LEFT(F285,MIN(FIND(0,SUBSTITUTE(F285,{1,2,3,4,5,6,7,8,9},0)&0))-1)=FALSE\n),\"Check\",\"\")","v":""},"","",null,"",0,"","","","",""]
["SBSA_277","SBSA_277",null,null,null,null,null,null,null,null,null,null,null,null,null,null,null,null,null,null,null,null,null,null,null,null,"","",{"$f":"IF(OR(\nOR(AND(D286<>\"\",F286=\"\"),AND(E286<>\"\",F286=\"\")),\nF286=LEFT(F286,MIN(FIND(0,SUBSTITUTE(F286,{1,2,3,4,5,6,7,8,9},0)&0))-1)=FALSE\n),\"Check\",\"\")","v":""},"","",null,"",0,"","","","",""]
["SBSA_278","SBSA_278",null,null,null,null,null,null,null,null,null,null,null,null,null,null,null,null,null,null,null,null,null,null,null,null,"","",{"$f":"IF(OR(\nOR(AND(D287<>\"\",F287=\"\"),AND(E287<>\"\",F287=\"\")),\nF287=LEFT(F287,MIN(FIND(0,SUBSTITUTE(F287,{1,2,3,4,5,6,7,8,9},0)&0))-1)=FALSE\n),\"Check\",\"\")","v":""},"","",null,"",0,"","","","",""]
["SBSA_279","SBSA_279",null,null,null,null,null,null,null,null,null,null,null,null,null,null,null,null,null,null,null,null,null,null,null,null,"","",{"$f":"IF(OR(\nOR(AND(D288<>\"\",F288=\"\"),AND(E288<>\"\",F288=\"\")),\nF288=LEFT(F288,MIN(FIND(0,SUBSTITUTE(F288,{1,2,3,4,5,6,7,8,9},0)&0))-1)=FALSE\n),\"Check\",\"\")","v":""},"","",null,"",0,"","","","",""]
["SBSA_280","SBSA_280",null,null,null,null,null,null,null,null,null,null,null,null,null,null,null,null,null,null,null,null,null,null,null,null,"","",{"$f":"IF(OR(\nOR(AND(D289<>\"\",F289=\"\"),AND(E289<>\"\",F289=\"\")),\nF289=LEFT(F289,MIN(FIND(0,SUBSTITUTE(F289,{1,2,3,4,5,6,7,8,9},0)&0))-1)=FALSE\n),\"Check\",\"\")","v":""},"","",null,"",0,"","","","",""]
["SBSA_281","SBSA_281",null,null,null,null,null,null,null,null,null,null,null,null,null,null,null,null,null,null,null,null,null,null,null,null,"","",{"$f":"IF(OR(\nOR(AND(D290<>\"\",F290=\"\"),AND(E290<>\"\",F290=\"\")),\nF290=LEFT(F290,MIN(FIND(0,SUBSTITUTE(F290,{1,2,3,4,5,6,7,8,9},0)&0))-1)=FALSE\n),\"Check\",\"\")","v":""},"","",null,"",0,"","","","",""]
["SBSA_282","SBSA_282",null,null,null,null,null,null,null,null,null,null,null,null,null,null,null,null,null,null,null,null,null,null,null,null,"","",{"$f":"IF(OR(\nOR(AND(D291<>\"\",F291=\"\"),AND(E291<>\"\",F291=\"\")),\nF291=LEFT(F291,MIN(FIND(0,SUBSTITUTE(F291,{1,2,3,4,5,6,7,8,9},0)&0))-1)=FALSE\n),\"Check\",\"\")","v":""},"","",null,"",0,"","","","",""]
["SBSA_283","SBSA_283",null,null,null,null,null,null,null,null,null,null,null,null,null,null,null,null,null,null,null,null,null,null,null,null,"","",{"$f":"IF(OR(\nOR(AND(D292<>\"\",F292=\"\"),AND(E292<>\"\",F292=\"\")),\nF292=LEFT(F292,MIN(FIND(0,SUBSTITUTE(F292,{1,2,3,4,5,6,7,8,9},0)&0))-1)=FALSE\n),\"Check\",\"\")","v":""},"","",null,"",0,"","","","",""]
["SBSA_284","SBSA_284",null,null,null,null,null,null,null,null,null,null,null,null,null,null,null,null,null,null,null,null,null,null,null,null,"","",{"$f":"IF(OR(\nOR(AND(D293<>\"\",F293=\"\"),AND(E293<>\"\",F293=\"\")),\nF293=LEFT(F293,MIN(FIND(0,SUBSTITUTE(F293,{1,2,3,4,5,6,7,8,9},0)&0))-1)=FALSE\n),\"Check\",\"\")","v":""},"","",null,"",0,"","","","",""]
["SBSA_285","SBSA_285",null,null,null,null,null,null,null,null,null,null,null,null,null,null,null,null,null,null,null,null,null,null,null,null,"","",{"$f":"IF(OR(\nOR(AND(D294<>\"\",F294=\"\"),AND(E294<>\"\",F294=\"\")),\nF294=LEFT(F294,MIN(FIND(0,SUBSTITUTE(F294,{1,2,3,4,5,6,7,8,9},0)&0))-1)=FALSE\n),\"Check\",\"\")","v":""},"","",null,"",0,"","","","",""]
["SBSA_286","SBSA_286",null,null,null,null,null,null,null,null,null,null,null,null,null,null,null,null,null,null,null,null,null,null,null,null,"","",{"$f":"IF(OR(\nOR(AND(D295<>\"\",F295=\"\"),AND(E295<>\"\",F295=\"\")),\nF295=LEFT(F295,MIN(FIND(0,SUBSTITUTE(F295,{1,2,3,4,5,6,7,8,9},0)&0))-1)=FALSE\n),\"Check\",\"\")","v":""},"","",null,"",0,"","","","",""]
["SBSA_287","SBSA_287",null,null,null,null,null,null,null,null,null,null,null,null,null,null,null,null,null,null,null,null,null,null,null,null,"","",{"$f":"IF(OR(\nOR(AND(D296<>\"\",F296=\"\"),AND(E296<>\"\",F296=\"\")),\nF296=LEFT(F296,MIN(FIND(0,SUBSTITUTE(F296,{1,2,3,4,5,6,7,8,9},0)&0))-1)=FALSE\n),\"Check\",\"\")","v":""},"","",null,"",0,"","","","",""]
["SBSA_288","SBSA_288",null,null,null,null,null,null,null,null,null,null,null,null,null,null,null,null,null,null,null,null,null,null,null,null,"","",{"$f":"IF(OR(\nOR(AND(D297<>\"\",F297=\"\"),AND(E297<>\"\",F297=\"\")),\nF297=LEFT(F297,MIN(FIND(0,SUBSTITUTE(F297,{1,2,3,4,5,6,7,8,9},0)&0))-1)=FALSE\n),\"Check\",\"\")","v":""},"","",null,"",0,"","","","",""]
["SBSA_289","SBSA_289",null,null,null,null,null,null,null,null,null,null,null,null,null,null,null,null,null,null,null,null,null,null,null,null,"","",{"$f":"IF(OR(\nOR(AND(D298<>\"\",F298=\"\"),AND(E298<>\"\",F298=\"\")),\nF298=LEFT(F298,MIN(FIND(0,SUBSTITUTE(F298,{1,2,3,4,5,6,7,8,9},0)&0))-1)=FALSE\n),\"Check\",\"\")","v":""},"","",null,"",0,"","","","",""]
["SBSA_290","SBSA_290",null,null,null,null,null,null,null,null,null,null,null,null,null,null,null,null,null,null,null,null,null,null,null,null,"","",{"$f":"IF(OR(\nOR(AND(D299<>\"\",F299=\"\"),AND(E299<>\"\",F299=\"\")),\nF299=LEFT(F299,MIN(FIND(0,SUBSTITUTE(F299,{1,2,3,4,5,6,7,8,9},0)&0))-1)=FALSE\n),\"Check\",\"\")","v":""},"","",null,"",0,"","","","",""]
["SBSA_291","SBSA_291",null,null,null,null,null,null,null,null,null,null,null,null,null,null,null,null,null,null,null,null,null,null,null,null,"","",{"$f":"IF(OR(\nOR(AND(D300<>\"\",F300=\"\"),AND(E300<>\"\",F300=\"\")),\nF300=LEFT(F300,MIN(FIND(0,SUBSTITUTE(F300,{1,2,3,4,5,6,7,8,9},0)&0))-1)=FALSE\n),\"Check\",\"\")","v":""},"","",null,"",0,"","","","",""]
["SBSA_292","SBSA_292",null,null,null,null,null,null,null,null,null,null,null,null,null,null,null,null,null,null,null,null,null,null,null,null,"","",{"$f":"IF(OR(\nOR(AND(D301<>\"\",F301=\"\"),AND(E301<>\"\",F301=\"\")),\nF301=LEFT(F301,MIN(FIND(0,SUBSTITUTE(F301,{1,2,3,4,5,6,7,8,9},0)&0))-1)=FALSE\n),\"Check\",\"\")","v":""},"","",null,"",0,"","","","",""]
["SBSA_293","SBSA_293",null,null,null,null,null,null,null,null,null,null,null,null,null,null,null,null,null,null,null,null,null,null,null,null,"","",{"$f":"IF(OR(\nOR(AND(D302<>\"\",F302=\"\"),AND(E302<>\"\",F302=\"\")),\nF302=LEFT(F302,MIN(FIND(0,SUBSTITUTE(F302,{1,2,3,4,5,6,7,8,9},0)&0))-1)=FALSE\n),\"Check\",\"\")","v":""},"","",null,"",0,"","","","",""]
["SBSA_294","SBSA_294",null,null,null,null,null,null,null,null,null,null,null,null,null,null,null,null,null,null,null,null,null,null,null,null,"","",{"$f":"IF(OR(\nOR(AND(D303<>\"\",F303=\"\"),AND(E303<>\"\",F303=\"\")),\nF303=LEFT(F303,MIN(FIND(0,SUBSTITUTE(F303,{1,2,3,4,5,6,7,8,9},0)&0))-1)=FALSE\n),\"Check\",\"\")","v":""},"","",null,"",0,"","","","",""]
["SBSA_295","SBSA_295",null,null,null,null,null,null,null,null,null,null,null,null,null,null,null,null,null,null,null,null,null,null,null,null,"","",{"$f":"IF(OR(\nOR(AND(D304<>\"\",F304=\"\"),AND(E304<>\"\",F304=\"\")),\nF304=LEFT(F304,MIN(FIND(0,SUBSTITUTE(F304,{1,2,3,4,5,6,7,8,9},0)&0))-1)=FALSE\n),\"Check\",\"\")","v":""},"","",null,"",0,"","","","",""]
["SBSA_296","SBSA_296",null,null,null,null,null,null,null,null,null,null,null,null,null,null,null,null,null,null,null,null,null,null,null,null,"","",{"$f":"IF(OR(\nOR(AND(D305<>\"\",F305=\"\"),AND(E305<>\"\",F305=\"\")),\nF305=LEFT(F305,MIN(FIND(0,SUBSTITUTE(F305,{1,2,3,4,5,6,7,8,9},0)&0))-1)=FALSE\n),\"Check\",\"\")","v":""},"","",null,"",0,"","","","",""]
["SBSA_297","SBSA_297",null,null,null,null,null,null,null,null,null,null,null,null,null,null,null,null,null,null,null,null,null,null,null,null,"","",{"$f":"IF(OR(\nOR(AND(D306<>\"\",F306=\"\"),AND(E306<>\"\",F306=\"\")),\nF306=LEFT(F306,MIN(FIND(0,SUBSTITUTE(F306,{1,2,3,4,5,6,7,8,9},0)&0))-1)=FALSE\n),\"Check\",\"\")","v":""},"","",null,"",0,"","","","",""]
["SBSA_298","SBSA_298",null,null,null,null,null,null,null,null,null,null,null,null,null,null,null,null,null,null,null,null,null,null,null,null,"","",{"$f":"IF(OR(\nOR(AND(D307<>\"\",F307=\"\"),AND(E307<>\"\",F307=\"\")),\nF307=LEFT(F307,MIN(FIND(0,SUBSTITUTE(F307,{1,2,3,4,5,6,7,8,9},0)&0))-1)=FALSE\n),\"Check\",\"\")","v":""},"","",null,"",0,"","","","",""]
["SBSA_299","SBSA_299",null,null,null,null,null,null,null,null,null,null,null,null,null,null,null,null,null,null,null,null,null,null,null,null,"","",{"$f":"IF(OR(\nOR(AND(D308<>\"\",F308=\"\"),AND(E308<>\"\",F308=\"\")),\nF308=LEFT(F308,MIN(FIND(0,SUBSTITUTE(F308,{1,2,3,4,5,6,7,8,9},0)&0))-1)=FALSE\n),\"Check\",\"\")","v":""},"","",null,"",0,"","","","",""]
["SBSA_300","SBSA_300",null,null,null,null,null,null,null,null,null,null,null,null,null,null,null,null,null,null,null,null,null,null,null,null,"","",{"$f":"IF(OR(\nOR(AND(D309<>\"\",F309=\"\"),AND(E309<>\"\",F309=\"\")),\nF309=LEFT(F309,MIN(FIND(0,SUBSTITUTE(F309,{1,2,3,4,5,6,7,8,9},0)&0))-1)=FALSE\n),\"Check\",\"\")","v":""},"","",null,"",0,"","","","",""]
["SBSA_301","SBSA_301",null,null,null,null,null,null,null,null,null,null,null,null,null,null,null,null,null,null,null,null,null,null,null,null,"","",{"$f":"IF(OR(\nOR(AND(D310<>\"\",F310=\"\"),AND(E310<>\"\",F310=\"\")),\nF310=LEFT(F310,MIN(FIND(0,SUBSTITUTE(F310,{1,2,3,4,5,6,7,8,9},0)&0))-1)=FALSE\n),\"Check\",\"\")","v":""},"","",null,"",0,"","","","",""]
["SBSA_302","SBSA_302",null,null,null,null,null,null,null,null,null,null,null,null,null,null,null,null,null,null,null,null,null,null,null,null,"","",{"$f":"IF(OR(\nOR(AND(D311<>\"\",F311=\"\"),AND(E311<>\"\",F311=\"\")),\nF311=LEFT(F311,MIN(FIND(0,SUBSTITUTE(F311,{1,2,3,4,5,6,7,8,9},0)&0))-1)=FALSE\n),\"Check\",\"\")","v":""},"","",null,"",0,"","","","",""]
["SBSA_303","SBSA_303",null,null,null,null,null,null,null,null,null,null,null,null,null,null,null,null,null,null,null,null,null,null,null,null,"","",{"$f":"IF(OR(\nOR(AND(D312<>\"\",F312=\"\"),AND(E312<>\"\",F312=\"\")),\nF312=LEFT(F312,MIN(FIND(0,SUBSTITUTE(F312,{1,2,3,4,5,6,7,8,9},0)&0))-1)=FALSE\n),\"Check\",\"\")","v":""},"","",null,"",0,"","","","",""]
["SBSA_304","SBSA_304",null,null,null,null,null,null,null,null,null,null,null,null,null,null,null,null,null,null,null,null,null,null,null,null,"","",{"$f":"IF(OR(\nOR(AND(D313<>\"\",F313=\"\"),AND(E313<>\"\",F313=\"\")),\nF313=LEFT(F313,MIN(FIND(0,SUBSTITUTE(F313,{1,2,3,4,5,6,7,8,9},0)&0))-1)=FALSE\n),\"Check\",\"\")","v":""},"","",null,"",0,"","","","",""]
["SBSA_305","SBSA_305",null,null,null,null,null,null,null,null,null,null,null,null,null,null,null,null,null,null,null,null,null,null,null,null,"","",{"$f":"IF(OR(\nOR(AND(D314<>\"\",F314=\"\"),AND(E314<>\"\",F314=\"\")),\nF314=LEFT(F314,MIN(FIND(0,SUBSTITUTE(F314,{1,2,3,4,5,6,7,8,9},0)&0))-1)=FALSE\n),\"Check\",\"\")","v":""},"","",null,"",0,"","","","",""]
["SBSA_306","SBSA_306",null,null,null,null,null,null,null,null,null,null,null,null,null,null,null,null,null,null,null,null,null,null,null,null,"","",{"$f":"IF(OR(\nOR(AND(D315<>\"\",F315=\"\"),AND(E315<>\"\",F315=\"\")),\nF315=LEFT(F315,MIN(FIND(0,SUBSTITUTE(F315,{1,2,3,4,5,6,7,8,9},0)&0))-1)=FALSE\n),\"Check\",\"\")","v":""},"","",null,"",0,"","","","",""]
["SBSA_307","SBSA_307",null,null,null,null,null,null,null,null,null,null,null,null,null,null,null,null,null,null,null,null,null,null,null,null,"","",{"$f":"IF(OR(\nOR(AND(D316<>\"\",F316=\"\"),AND(E316<>\"\",F316=\"\")),\nF316=LEFT(F316,MIN(FIND(0,SUBSTITUTE(F316,{1,2,3,4,5,6,7,8,9},0)&0))-1)=FALSE\n),\"Check\",\"\")","v":""},"","",null,"",0,"","","","",""]
["SBSA_308","SBSA_308",null,null,null,null,null,null,null,null,null,null,null,null,null,null,null,null,null,null,null,null,null,null,null,null,"","",{"$f":"IF(OR(\nOR(AND(D317<>\"\",F317=\"\"),AND(E317<>\"\",F317=\"\")),\nF317=LEFT(F317,MIN(FIND(0,SUBSTITUTE(F317,{1,2,3,4,5,6,7,8,9},0)&0))-1)=FALSE\n),\"Check\",\"\")","v":""},"","",null,"",0,"","","","",""]
["SBSA_309","SBSA_309",null,null,null,null,null,null,null,null,null,null,null,null,null,null,null,null,null,null,null,null,null,null,null,null,"","",{"$f":"IF(OR(\nOR(AND(D318<>\"\",F318=\"\"),AND(E318<>\"\",F318=\"\")),\nF318=LEFT(F318,MIN(FIND(0,SUBSTITUTE(F318,{1,2,3,4,5,6,7,8,9},0)&0))-1)=FALSE\n),\"Check\",\"\")","v":""},"","",null,"",0,"","","","",""]
["SBSA_310","SBSA_310",null,null,null,null,null,null,null,null,null,null,null,null,null,null,null,null,null,null,null,null,null,null,null,null,"","",{"$f":"IF(OR(\nOR(AND(D319<>\"\",F319=\"\"),AND(E319<>\"\",F319=\"\")),\nF319=LEFT(F319,MIN(FIND(0,SUBSTITUTE(F319,{1,2,3,4,5,6,7,8,9},0)&0))-1)=FALSE\n),\"Check\",\"\")","v":""},"","",null,"",0,"","","","",""]
["SBSA_311","SBSA_311",null,null,null,null,null,null,null,null,null,null,null,null,null,null,null,null,null,null,null,null,null,null,null,null,"","",{"$f":"IF(OR(\nOR(AND(D320<>\"\",F320=\"\"),AND(E320<>\"\",F320=\"\")),\nF320=LEFT(F320,MIN(FIND(0,SUBSTITUTE(F320,{1,2,3,4,5,6,7,8,9},0)&0))-1)=FALSE\n),\"Check\",\"\")","v":""},"","",null,"",0,"","","","",""]
["SBSA_312","SBSA_312",null,null,null,null,null,null,null,null,null,null,null,null,null,null,null,null,null,null,null,null,null,null,null,null,"","",{"$f":"IF(OR(\nOR(AND(D321<>\"\",F321=\"\"),AND(E321<>\"\",F321=\"\")),\nF321=LEFT(F321,MIN(FIND(0,SUBSTITUTE(F321,{1,2,3,4,5,6,7,8,9},0)&0))-1)=FALSE\n),\"Check\",\"\")","v":""},"","",null,"",0,"","","","",""]
["SBSA_313","SBSA_313",null,null,null,null,null,null,null,null,null,null,null,null,null,null,null,null,null,null,null,null,null,null,null,null,"","",{"$f":"IF(OR(\nOR(AND(D322<>\"\",F322=\"\"),AND(E322<>\"\",F322=\"\")),\nF322=LEFT(F322,MIN(FIND(0,SUBSTITUTE(F322,{1,2,3,4,5,6,7,8,9},0)&0))-1)=FALSE\n),\"Check\",\"\")","v":""},"","",null,"",0,"","","","",""]
["SBSA_314","SBSA_314",null,null,null,null,null,null,null,null,null,null,null,null,null,null,null,null,null,null,null,null,null,null,null,null,"","",{"$f":"IF(OR(\nOR(AND(D323<>\"\",F323=\"\"),AND(E323<>\"\",F323=\"\")),\nF323=LEFT(F323,MIN(FIND(0,SUBSTITUTE(F323,{1,2,3,4,5,6,7,8,9},0)&0))-1)=FALSE\n),\"Check\",\"\")","v":""},"","",null,"",0,"","","","",""]
["SBSA_315","SBSA_315",null,null,null,null,null,null,null,null,null,null,null,null,null,null,null,null,null,null,null,null,null,null,null,null,"","",{"$f":"IF(OR(\nOR(AND(D324<>\"\",F324=\"\"),AND(E324<>\"\",F324=\"\")),\nF324=LEFT(F324,MIN(FIND(0,SUBSTITUTE(F324,{1,2,3,4,5,6,7,8,9},0)&0))-1)=FALSE\n),\"Check\",\"\")","v":""},"","",null,"",0,"","","","",""]
["SBSA_316","SBSA_316",null,null,null,null,null,null,null,null,null,null,null,null,null,null,null,null,null,null,null,null,null,null,null,null,"","",{"$f":"IF(OR(\nOR(AND(D325<>\"\",F325=\"\"),AND(E325<>\"\",F325=\"\")),\nF325=LEFT(F325,MIN(FIND(0,SUBSTITUTE(F325,{1,2,3,4,5,6,7,8,9},0)&0))-1)=FALSE\n),\"Check\",\"\")","v":""},"","",null,"",0,"","","","",""]
["SBSA_317","SBSA_317",null,null,null,null,null,null,null,null,null,null,null,null,null,null,null,null,null,null,null,null,null,null,null,null,"","",{"$f":"IF(OR(\nOR(AND(D326<>\"\",F326=\"\"),AND(E326<>\"\",F326=\"\")),\nF326=LEFT(F326,MIN(FIND(0,SUBSTITUTE(F326,{1,2,3,4,5,6,7,8,9},0)&0))-1)=FALSE\n),\"Check\",\"\")","v":""},"","",null,"",0,"","","","",""]
["SBSA_318","SBSA_318",null,null,null,null,null,null,null,null,null,null,null,null,null,null,null,null,null,null,null,null,null,null,null,null,"","",{"$f":"IF(OR(\nOR(AND(D327<>\"\",F327=\"\"),AND(E327<>\"\",F327=\"\")),\nF327=LEFT(F327,MIN(FIND(0,SUBSTITUTE(F327,{1,2,3,4,5,6,7,8,9},0)&0))-1)=FALSE\n),\"Check\",\"\")","v":""},"","",null,"",0,"","","","",""]
["SBSA_319","SBSA_319",null,null,null,null,null,null,null,null,null,null,null,null,null,null,null,null,null,null,null,null,null,null,null,null,"","",{"$f":"IF(OR(\nOR(AND(D328<>\"\",F328=\"\"),AND(E328<>\"\",F328=\"\")),\nF328=LEFT(F328,MIN(FIND(0,SUBSTITUTE(F328,{1,2,3,4,5,6,7,8,9},0)&0))-1)=FALSE\n),\"Check\",\"\")","v":""},"","",null,"",0,"","","","",""]
["SBSA_320","SBSA_320",null,null,null,null,null,null,null,null,null,null,null,null,null,null,null,null,null,null,null,null,null,null,null,null,"","",{"$f":"IF(OR(\nOR(AND(D329<>\"\",F329=\"\"),AND(E329<>\"\",F329=\"\")),\nF329=LEFT(F329,MIN(FIND(0,SUBSTITUTE(F329,{1,2,3,4,5,6,7,8,9},0)&0))-1)=FALSE\n),\"Check\",\"\")","v":""},"","",null,"",0,"","","","",""]
["SBSA_321","SBSA_321",null,null,null,null,null,null,null,null,null,null,null,null,null,null,null,null,null,null,null,null,null,null,null,null,{"$f":"IF(AND(C330=\"\",OR(D330<>\"\",E330<>\"\",F330<>\"\",G330<>\"\")),\"Check\",\"\")","v":""},{"$f":"IF(AND(C330<>\"\",OR(AND(D330=\"\",E330=\"\"),AND(D330=0,E330=0),AND(ABS(D330)>0,ABS(E330)>0))),\"Check\",\"\")","v":""},{"$f":"IF(OR(\nOR(AND(D330<>\"\",F330=\"\"),AND(E330<>\"\",F330=\"\")),\nF330=LEFT(F330,MIN(FIND(0,SUBSTITUTE(F330,{1,2,3,4,5,6,7,8,9},0)&0))-1)=FALSE\n),\"Check\",\"\")","v":""},{"$f":"IF(OR(E330=\"\",G330=\"\"),\"\",(E330*G330)/100)","v":""},{"$f":"IF(AND(F330<>\"\",G330=\"\"),\"Check\",\"\")","v":""},null,{"$f":"IF(C330=\"\",\"\",C330&\"_\"&IF(G330=\"\",0,G330))","v":""},{"$f":"IF(COUNTBLANK(C330:G330)<5,1,0)","v":0},{"$f":"IF(C330=\"\",\"\",IF(LEN(C330)=12,\"\",\"Check\"))","v":""},{"$f":"IF(C330=\"\",\"\",IF(COUNTIF(C$10:C$65536,C330)=COUNTIF(AG$10:AG$65536,AG330),\"\",\"Check\"))","v":""},{"$f":"IF(F330=\"\",\"\",IF(LEN(F330)=3,\"\",\"Check\"))","v":""},{"$f":"IF(OR(IF(D330=\"\",\"\",IF(ISNUMBER(D330)=TRUE,\"\",\"TEXT\"))=\"TEXT\",IF(E330=\"\",\"\",IF(ISNUMBER(E330)=TRUE,\"\",\"TEXT\"))=\"TEXT\",IF(G330=\"\",\"\",IF(ISNUMBER(G330)=TRUE,\"\",\"TEXT\"))=\"TEXT\"),\"Check\",\"\")","v":""},{"$f":"IF(G330<0,\"Check\",\"\")","v":""}]
["SBSA_322","SBSA_322",null,null,null,null,null,null,null,null,null,null,null,null,null,null,null,null,null,null,null,null,null,null,null,null,"","",{"$f":"IF(OR(\nOR(AND(D331<>\"\",F331=\"\"),AND(E331<>\"\",F331=\"\")),\nF331=LEFT(F331,MIN(FIND(0,SUBSTITUTE(F331,{1,2,3,4,5,6,7,8,9},0)&0))-1)=FALSE\n),\"Check\",\"\")","v":""},"","",null,"",0,"","","","",""]
["SBSA_323","SBSA_323",null,null,null,null,null,null,null,null,null,null,null,null,null,null,null,null,null,null,null,null,null,null,null,null,"","",{"$f":"IF(OR(\nOR(AND(D332<>\"\",F332=\"\"),AND(E332<>\"\",F332=\"\")),\nF332=LEFT(F332,MIN(FIND(0,SUBSTITUTE(F332,{1,2,3,4,5,6,7,8,9},0)&0))-1)=FALSE\n),\"Check\",\"\")","v":""},"","",null,"",0,"","","","",""]
["SBSA_324","SBSA_324",null,null,null,null,null,null,null,null,null,null,null,null,null,null,null,null,null,null,null,null,null,null,null,null,"","",{"$f":"IF(OR(\nOR(AND(D333<>\"\",F333=\"\"),AND(E333<>\"\",F333=\"\")),\nF333=LEFT(F333,MIN(FIND(0,SUBSTITUTE(F333,{1,2,3,4,5,6,7,8,9},0)&0))-1)=FALSE\n),\"Check\",\"\")","v":""},"","",null,"",0,"","","","",""]
["SBSA_325","SBSA_325",null,null,null,null,null,null,null,null,null,null,null,null,null,null,null,null,null,null,null,null,null,null,null,null,"","",{"$f":"IF(OR(\nOR(AND(D334<>\"\",F334=\"\"),AND(E334<>\"\",F334=\"\")),\nF334=LEFT(F334,MIN(FIND(0,SUBSTITUTE(F334,{1,2,3,4,5,6,7,8,9},0)&0))-1)=FALSE\n),\"Check\",\"\")","v":""},"","",null,"",0,"","","","",""]
["SBSA_326","SBSA_326",null,null,null,null,null,null,null,null,null,null,null,null,null,null,null,null,null,null,null,null,null,null,null,null,"","",{"$f":"IF(OR(\nOR(AND(D335<>\"\",F335=\"\"),AND(E335<>\"\",F335=\"\")),\nF335=LEFT(F335,MIN(FIND(0,SUBSTITUTE(F335,{1,2,3,4,5,6,7,8,9},0)&0))-1)=FALSE\n),\"Check\",\"\")","v":""},"","",null,"",0,"","","","",""]
["SBSA_327","SBSA_327",null,null,null,null,null,null,null,null,null,null,null,null,null,null,null,null,null,null,null,null,null,null,null,null,"","",{"$f":"IF(OR(\nOR(AND(D336<>\"\",F336=\"\"),AND(E336<>\"\",F336=\"\")),\nF336=LEFT(F336,MIN(FIND(0,SUBSTITUTE(F336,{1,2,3,4,5,6,7,8,9},0)&0))-1)=FALSE\n),\"Check\",\"\")","v":""},"","",null,"",0,"","","","",""]
["SBSA_328","SBSA_328",null,null,null,null,null,null,null,null,null,null,null,null,null,null,null,null,null,null,null,null,null,null,null,null,"","",{"$f":"IF(OR(\nOR(AND(D337<>\"\",F337=\"\"),AND(E337<>\"\",F337=\"\")),\nF337=LEFT(F337,MIN(FIND(0,SUBSTITUTE(F337,{1,2,3,4,5,6,7,8,9},0)&0))-1)=FALSE\n),\"Check\",\"\")","v":""},"","",null,"",0,"","","","",""]
["SBSA_329","SBSA_329",null,null,null,null,null,null,null,null,null,null,null,null,null,null,null,null,null,null,null,null,null,null,null,null,"","",{"$f":"IF(OR(\nOR(AND(D338<>\"\",F338=\"\"),AND(E338<>\"\",F338=\"\")),\nF338=LEFT(F338,MIN(FIND(0,SUBSTITUTE(F338,{1,2,3,4,5,6,7,8,9},0)&0))-1)=FALSE\n),\"Check\",\"\")","v":""},"","",null,"",0,"","","","",""]
["SBSA_330","SBSA_330",null,null,null,null,null,null,null,null,null,null,null,null,null,null,null,null,null,null,null,null,null,null,null,null,"","",{"$f":"IF(OR(\nOR(AND(D339<>\"\",F339=\"\"),AND(E339<>\"\",F339=\"\")),\nF339=LEFT(F339,MIN(FIND(0,SUBSTITUTE(F339,{1,2,3,4,5,6,7,8,9},0)&0))-1)=FALSE\n),\"Check\",\"\")","v":""},"","",null,"",0,"","","","",""]
["SBSA_331","SBSA_331",null,null,null,null,null,null,null,null,null,null,null,null,null,null,null,null,null,null,null,null,null,null,null,null,"","",{"$f":"IF(OR(\nOR(AND(D340<>\"\",F340=\"\"),AND(E340<>\"\",F340=\"\")),\nF340=LEFT(F340,MIN(FIND(0,SUBSTITUTE(F340,{1,2,3,4,5,6,7,8,9},0)&0))-1)=FALSE\n),\"Check\",\"\")","v":""},"","",null,"",0,"","","","",""]
["SBSA_332","SBSA_332",null,null,null,null,null,null,null,null,null,null,null,null,null,null,null,null,null,null,null,null,null,null,null,null,"","",{"$f":"IF(OR(\nOR(AND(D341<>\"\",F341=\"\"),AND(E341<>\"\",F341=\"\")),\nF341=LEFT(F341,MIN(FIND(0,SUBSTITUTE(F341,{1,2,3,4,5,6,7,8,9},0)&0))-1)=FALSE\n),\"Check\",\"\")","v":""},"","",null,"",0,"","","","",""]
["SBSA_333","SBSA_333",null,null,null,null,null,null,null,null,null,null,null,null,null,null,null,null,null,null,null,null,null,null,null,null,"","",{"$f":"IF(OR(\nOR(AND(D342<>\"\",F342=\"\"),AND(E342<>\"\",F342=\"\")),\nF342=LEFT(F342,MIN(FIND(0,SUBSTITUTE(F342,{1,2,3,4,5,6,7,8,9},0)&0))-1)=FALSE\n),\"Check\",\"\")","v":""},"","",null,"",0,"","","","",""]
["SBSA_334","SBSA_334",null,null,null,null,null,null,null,null,null,null,null,null,null,null,null,null,null,null,null,null,null,null,null,null,"","",{"$f":"IF(OR(\nOR(AND(D343<>\"\",F343=\"\"),AND(E343<>\"\",F343=\"\")),\nF343=LEFT(F343,MIN(FIND(0,SUBSTITUTE(F343,{1,2,3,4,5,6,7,8,9},0)&0))-1)=FALSE\n),\"Check\",\"\")","v":""},"","",null,"",0,"","","","",""]
["SBSA_335","SBSA_335",null,null,null,null,null,null,null,null,null,null,null,null,null,null,null,null,null,null,null,null,null,null,null,null,"","",{"$f":"IF(OR(\nOR(AND(D344<>\"\",F344=\"\"),AND(E344<>\"\",F344=\"\")),\nF344=LEFT(F344,MIN(FIND(0,SUBSTITUTE(F344,{1,2,3,4,5,6,7,8,9},0)&0))-1)=FALSE\n),\"Check\",\"\")","v":""},"","",null,"",0,"","","","",""]
["SBSA_336","SBSA_336",null,null,null,null,null,null,null,null,null,null,null,null,null,null,null,null,null,null,null,null,null,null,null,null,"","",{"$f":"IF(OR(\nOR(AND(D345<>\"\",F345=\"\"),AND(E345<>\"\",F345=\"\")),\nF345=LEFT(F345,MIN(FIND(0,SUBSTITUTE(F345,{1,2,3,4,5,6,7,8,9},0)&0))-1)=FALSE\n),\"Check\",\"\")","v":""},"","",null,"",0,"","","","",""]
["SBSA_337","SBSA_337",null,null,null,null,null,null,null,null,null,null,null,null,null,null,null,null,null,null,null,null,null,null,null,null,"","",{"$f":"IF(OR(\nOR(AND(D346<>\"\",F346=\"\"),AND(E346<>\"\",F346=\"\")),\nF346=LEFT(F346,MIN(FIND(0,SUBSTITUTE(F346,{1,2,3,4,5,6,7,8,9},0)&0))-1)=FALSE\n),\"Check\",\"\")","v":""},"","",null,"",0,"","","","",""]
["SBSA_338","SBSA_338",null,null,null,null,null,null,null,null,null,null,null,null,null,null,null,null,null,null,null,null,null,null,null,null,"","",{"$f":"IF(OR(\nOR(AND(D347<>\"\",F347=\"\"),AND(E347<>\"\",F347=\"\")),\nF347=LEFT(F347,MIN(FIND(0,SUBSTITUTE(F347,{1,2,3,4,5,6,7,8,9},0)&0))-1)=FALSE\n),\"Check\",\"\")","v":""},"","",null,"",0,"","","","",""]
["SBSA_339","SBSA_339",null,null,null,null,null,null,null,null,null,null,null,null,null,null,null,null,null,null,null,null,null,null,null,null,"","",{"$f":"IF(OR(\nOR(AND(D348<>\"\",F348=\"\"),AND(E348<>\"\",F348=\"\")),\nF348=LEFT(F348,MIN(FIND(0,SUBSTITUTE(F348,{1,2,3,4,5,6,7,8,9},0)&0))-1)=FALSE\n),\"Check\",\"\")","v":""},"","",null,"",0,"","","","",""]
["SBSA_340","SBSA_340",null,null,null,null,null,null,null,null,null,null,null,null,null,null,null,null,null,null,null,null,null,null,null,null,"","",{"$f":"IF(OR(\nOR(AND(D349<>\"\",F349=\"\"),AND(E349<>\"\",F349=\"\")),\nF349=LEFT(F349,MIN(FIND(0,SUBSTITUTE(F349,{1,2,3,4,5,6,7,8,9},0)&0))-1)=FALSE\n),\"Check\",\"\")","v":""},"","",null,"",0,"","","","",""]
["SBSA_341","SBSA_341",null,null,null,null,null,null,null,null,null,null,null,null,null,null,null,null,null,null,null,null,null,null,null,null,"","",{"$f":"IF(OR(\nOR(AND(D350<>\"\",F350=\"\"),AND(E350<>\"\",F350=\"\")),\nF350=LEFT(F350,MIN(FIND(0,SUBSTITUTE(F350,{1,2,3,4,5,6,7,8,9},0)&0))-1)=FALSE\n),\"Check\",\"\")","v":""},"","",null,"",0,"","","","",""]
["SBSA_342","SBSA_342",null,null,null,null,null,null,null,null,null,null,null,null,null,null,null,null,null,null,null,null,null,null,null,null,"","",{"$f":"IF(OR(\nOR(AND(D351<>\"\",F351=\"\"),AND(E351<>\"\",F351=\"\")),\nF351=LEFT(F351,MIN(FIND(0,SUBSTITUTE(F351,{1,2,3,4,5,6,7,8,9},0)&0))-1)=FALSE\n),\"Check\",\"\")","v":""},"","",null,"",0,"","","","",""]
["SBSA_343","SBSA_343",null,null,null,null,null,null,null,null,null,null,null,null,null,null,null,null,null,null,null,null,null,null,null,null,"","",{"$f":"IF(OR(\nOR(AND(D352<>\"\",F352=\"\"),AND(E352<>\"\",F352=\"\")),\nF352=LEFT(F352,MIN(FIND(0,SUBSTITUTE(F352,{1,2,3,4,5,6,7,8,9},0)&0))-1)=FALSE\n),\"Check\",\"\")","v":""},"","",null,"",0,"","","","",""]
["SBSA_344","SBSA_344",null,null,null,null,null,null,null,null,null,null,null,null,null,null,null,null,null,null,null,null,null,null,null,null,"","",{"$f":"IF(OR(\nOR(AND(D353<>\"\",F353=\"\"),AND(E353<>\"\",F353=\"\")),\nF353=LEFT(F353,MIN(FIND(0,SUBSTITUTE(F353,{1,2,3,4,5,6,7,8,9},0)&0))-1)=FALSE\n),\"Check\",\"\")","v":""},"","",null,"",0,"","","","",""]
["SBSA_345","SBSA_345",null,null,null,null,null,null,null,null,null,null,null,null,null,null,null,null,null,null,null,null,null,null,null,null,"","",{"$f":"IF(OR(\nOR(AND(D354<>\"\",F354=\"\"),AND(E354<>\"\",F354=\"\")),\nF354=LEFT(F354,MIN(FIND(0,SUBSTITUTE(F354,{1,2,3,4,5,6,7,8,9},0)&0))-1)=FALSE\n),\"Check\",\"\")","v":""},"","",null,"",0,"","","","",""]
["SBSA_346","SBSA_346",null,null,null,null,null,null,null,null,null,null,null,null,null,null,null,null,null,null,null,null,null,null,null,null,"","",{"$f":"IF(OR(\nOR(AND(D355<>\"\",F355=\"\"),AND(E355<>\"\",F355=\"\")),\nF355=LEFT(F355,MIN(FIND(0,SUBSTITUTE(F355,{1,2,3,4,5,6,7,8,9},0)&0))-1)=FALSE\n),\"Check\",\"\")","v":""},"","",null,"",0,"","","","",""]
["SBSA_347","SBSA_347",null,null,null,null,null,null,null,null,null,null,null,null,null,null,null,null,null,null,null,null,null,null,null,null,"","",{"$f":"IF(OR(\nOR(AND(D356<>\"\",F356=\"\"),AND(E356<>\"\",F356=\"\")),\nF356=LEFT(F356,MIN(FIND(0,SUBSTITUTE(F356,{1,2,3,4,5,6,7,8,9},0)&0))-1)=FALSE\n),\"Check\",\"\")","v":""},"","",null,"",0,"","","","",""]
["SBSA_348","SBSA_348",null,null,null,null,null,null,null,null,null,null,null,null,null,null,null,null,null,null,null,null,null,null,null,null,"","",{"$f":"IF(OR(\nOR(AND(D357<>\"\",F357=\"\"),AND(E357<>\"\",F357=\"\")),\nF357=LEFT(F357,MIN(FIND(0,SUBSTITUTE(F357,{1,2,3,4,5,6,7,8,9},0)&0))-1)=FALSE\n),\"Check\",\"\")","v":""},"","",null,"",0,"","","","",""]
["SBSA_349","SBSA_349",null,null,null,null,null,null,null,null,null,null,null,null,null,null,null,null,null,null,null,null,null,null,null,null,"","",{"$f":"IF(OR(\nOR(AND(D358<>\"\",F358=\"\"),AND(E358<>\"\",F358=\"\")),\nF358=LEFT(F358,MIN(FIND(0,SUBSTITUTE(F358,{1,2,3,4,5,6,7,8,9},0)&0))-1)=FALSE\n),\"Check\",\"\")","v":""},"","",null,"",0,"","","","",""]
["SBSA_350","SBSA_350",null,null,null,null,null,null,null,null,null,null,null,null,null,null,null,null,null,null,null,null,null,null,null,null,"","",{"$f":"IF(OR(\nOR(AND(D359<>\"\",F359=\"\"),AND(E359<>\"\",F359=\"\")),\nF359=LEFT(F359,MIN(FIND(0,SUBSTITUTE(F359,{1,2,3,4,5,6,7,8,9},0)&0))-1)=FALSE\n),\"Check\",\"\")","v":""},"","",null,"",0,"","","","",""]
["SBSA_351","SBSA_351",null,null,null,null,null,null,null,null,null,null,null,null,null,null,null,null,null,null,null,null,null,null,null,null,"","",{"$f":"IF(OR(\nOR(AND(D360<>\"\",F360=\"\"),AND(E360<>\"\",F360=\"\")),\nF360=LEFT(F360,MIN(FIND(0,SUBSTITUTE(F360,{1,2,3,4,5,6,7,8,9},0)&0))-1)=FALSE\n),\"Check\",\"\")","v":""},"","",null,"",0,"","","","",""]
["SBSA_352","SBSA_352",null,null,null,null,null,null,null,null,null,null,null,null,null,null,null,null,null,null,null,null,null,null,null,null,"","",{"$f":"IF(OR(\nOR(AND(D361<>\"\",F361=\"\"),AND(E361<>\"\",F361=\"\")),\nF361=LEFT(F361,MIN(FIND(0,SUBSTITUTE(F361,{1,2,3,4,5,6,7,8,9},0)&0))-1)=FALSE\n),\"Check\",\"\")","v":""},"","",null,"",0,"","","","",""]
["SBSA_353","SBSA_353",null,null,null,null,null,null,null,null,null,null,null,null,null,null,null,null,null,null,null,null,null,null,null,null,"","",{"$f":"IF(OR(\nOR(AND(D362<>\"\",F362=\"\"),AND(E362<>\"\",F362=\"\")),\nF362=LEFT(F362,MIN(FIND(0,SUBSTITUTE(F362,{1,2,3,4,5,6,7,8,9},0)&0))-1)=FALSE\n),\"Check\",\"\")","v":""},"","",null,"",0,"","","","",""]
["SBSA_354","SBSA_354",null,null,null,null,null,null,null,null,null,null,null,null,null,null,null,null,null,null,null,null,null,null,null,null,"","",{"$f":"IF(OR(\nOR(AND(D363<>\"\",F363=\"\"),AND(E363<>\"\",F363=\"\")),\nF363=LEFT(F363,MIN(FIND(0,SUBSTITUTE(F363,{1,2,3,4,5,6,7,8,9},0)&0))-1)=FALSE\n),\"Check\",\"\")","v":""},"","",null,"",0,"","","","",""]
["SBSA_355","SBSA_355",null,null,null,null,null,null,null,null,null,null,null,null,null,null,null,null,null,null,null,null,null,null,null,null,"","",{"$f":"IF(OR(\nOR(AND(D364<>\"\",F364=\"\"),AND(E364<>\"\",F364=\"\")),\nF364=LEFT(F364,MIN(FIND(0,SUBSTITUTE(F364,{1,2,3,4,5,6,7,8,9},0)&0))-1)=FALSE\n),\"Check\",\"\")","v":""},"","",null,"",0,"","","","",""]
["SBSA_356","SBSA_356",null,null,null,null,null,null,null,null,null,null,null,null,null,null,null,null,null,null,null,null,null,null,null,null,"","",{"$f":"IF(OR(\nOR(AND(D365<>\"\",F365=\"\"),AND(E365<>\"\",F365=\"\")),\nF365=LEFT(F365,MIN(FIND(0,SUBSTITUTE(F365,{1,2,3,4,5,6,7,8,9},0)&0))-1)=FALSE\n),\"Check\",\"\")","v":""},"","",null,"",0,"","","","",""]
["SBSA_357","SBSA_357",null,null,null,null,null,null,null,null,null,null,null,null,null,null,null,null,null,null,null,null,null,null,null,null,"","",{"$f":"IF(OR(\nOR(AND(D366<>\"\",F366=\"\"),AND(E366<>\"\",F366=\"\")),\nF366=LEFT(F366,MIN(FIND(0,SUBSTITUTE(F366,{1,2,3,4,5,6,7,8,9},0)&0))-1)=FALSE\n),\"Check\",\"\")","v":""},"","",null,"",0,"","","","",""]
["SBSA_358","SBSA_358",null,null,null,null,null,null,null,null,null,null,null,null,null,null,null,null,null,null,null,null,null,null,null,null,"","",{"$f":"IF(OR(\nOR(AND(D367<>\"\",F367=\"\"),AND(E367<>\"\",F367=\"\")),\nF367=LEFT(F367,MIN(FIND(0,SUBSTITUTE(F367,{1,2,3,4,5,6,7,8,9},0)&0))-1)=FALSE\n),\"Check\",\"\")","v":""},"","",null,"",0,"","","","",""]
["SBSA_359","SBSA_359",null,null,null,null,null,null,null,null,null,null,null,null,null,null,null,null,null,null,null,null,null,null,null,null,"","",{"$f":"IF(OR(\nOR(AND(D368<>\"\",F368=\"\"),AND(E368<>\"\",F368=\"\")),\nF368=LEFT(F368,MIN(FIND(0,SUBSTITUTE(F368,{1,2,3,4,5,6,7,8,9},0)&0))-1)=FALSE\n),\"Check\",\"\")","v":""},"","",null,"",0,"","","","",""]
["SBSA_360","SBSA_360",null,null,null,null,null,null,null,null,null,null,null,null,null,null,null,null,null,null,null,null,null,null,null,null,"","",{"$f":"IF(OR(\nOR(AND(D369<>\"\",F369=\"\"),AND(E369<>\"\",F369=\"\")),\nF369=LEFT(F369,MIN(FIND(0,SUBSTITUTE(F369,{1,2,3,4,5,6,7,8,9},0)&0))-1)=FALSE\n),\"Check\",\"\")","v":""},"","",null,"",0,"","","","",""]
["SBSA_361","SBSA_361",null,null,null,null,null,null,null,null,null,null,null,null,null,null,null,null,null,null,null,null,null,null,null,null,"","",{"$f":"IF(OR(\nOR(AND(D370<>\"\",F370=\"\"),AND(E370<>\"\",F370=\"\")),\nF370=LEFT(F370,MIN(FIND(0,SUBSTITUTE(F370,{1,2,3,4,5,6,7,8,9},0)&0))-1)=FALSE\n),\"Check\",\"\")","v":""},"","",null,"",0,"","","","",""]
["SBSA_362","SBSA_362",null,null,null,null,null,null,null,null,null,null,null,null,null,null,null,null,null,null,null,null,null,null,null,null,"","",{"$f":"IF(OR(\nOR(AND(D371<>\"\",F371=\"\"),AND(E371<>\"\",F371=\"\")),\nF371=LEFT(F371,MIN(FIND(0,SUBSTITUTE(F371,{1,2,3,4,5,6,7,8,9},0)&0))-1)=FALSE\n),\"Check\",\"\")","v":""},"","",null,"",0,"","","","",""]
["SBSA_363","SBSA_363",null,null,null,null,null,null,null,null,null,null,null,null,null,null,null,null,null,null,null,null,null,null,null,null,"","",{"$f":"IF(OR(\nOR(AND(D372<>\"\",F372=\"\"),AND(E372<>\"\",F372=\"\")),\nF372=LEFT(F372,MIN(FIND(0,SUBSTITUTE(F372,{1,2,3,4,5,6,7,8,9},0)&0))-1)=FALSE\n),\"Check\",\"\")","v":""},"","",null,"",0,"","","","",""]
["SBSA_364","SBSA_364",null,null,null,null,null,null,null,null,null,null,null,null,null,null,null,null,null,null,null,null,null,null,null,null,"","",{"$f":"IF(OR(\nOR(AND(D373<>\"\",F373=\"\"),AND(E373<>\"\",F373=\"\")),\nF373=LEFT(F373,MIN(FIND(0,SUBSTITUTE(F373,{1,2,3,4,5,6,7,8,9},0)&0))-1)=FALSE\n),\"Check\",\"\")","v":""},"","",null,"",0,"","","","",""]
["SBSA_365","SBSA_365",null,null,null,null,null,null,null,null,null,null,null,null,null,null,null,null,null,null,null,null,null,null,null,null,"","",{"$f":"IF(OR(\nOR(AND(D374<>\"\",F374=\"\"),AND(E374<>\"\",F374=\"\")),\nF374=LEFT(F374,MIN(FIND(0,SUBSTITUTE(F374,{1,2,3,4,5,6,7,8,9},0)&0))-1)=FALSE\n),\"Check\",\"\")","v":""},"","",null,"",0,"","","","",""]
["SBSA_366","SBSA_366",null,null,null,null,null,null,null,null,null,null,null,null,null,null,null,null,null,null,null,null,null,null,null,null,"","",{"$f":"IF(OR(\nOR(AND(D375<>\"\",F375=\"\"),AND(E375<>\"\",F375=\"\")),\nF375=LEFT(F375,MIN(FIND(0,SUBSTITUTE(F375,{1,2,3,4,5,6,7,8,9},0)&0))-1)=FALSE\n),\"Check\",\"\")","v":""},"","",null,"",0,"","","","",""]
["SBSA_367","SBSA_367",null,null,null,null,null,null,null,null,null,null,null,null,null,null,null,null,null,null,null,null,null,null,null,null,"","",{"$f":"IF(OR(\nOR(AND(D376<>\"\",F376=\"\"),AND(E376<>\"\",F376=\"\")),\nF376=LEFT(F376,MIN(FIND(0,SUBSTITUTE(F376,{1,2,3,4,5,6,7,8,9},0)&0))-1)=FALSE\n),\"Check\",\"\")","v":""},"","",null,"",0,"","","","",""]
["SBSA_368","SBSA_368",null,null,null,null,null,null,null,null,null,null,null,null,null,null,null,null,null,null,null,null,null,null,null,null,"","",{"$f":"IF(OR(\nOR(AND(D377<>\"\",F377=\"\"),AND(E377<>\"\",F377=\"\")),\nF377=LEFT(F377,MIN(FIND(0,SUBSTITUTE(F377,{1,2,3,4,5,6,7,8,9},0)&0))-1)=FALSE\n),\"Check\",\"\")","v":""},"","",null,"",0,"","","","",""]
["SBSA_369","SBSA_369",null,null,null,null,null,null,null,null,null,null,null,null,null,null,null,null,null,null,null,null,null,null,null,null,"","",{"$f":"IF(OR(\nOR(AND(D378<>\"\",F378=\"\"),AND(E378<>\"\",F378=\"\")),\nF378=LEFT(F378,MIN(FIND(0,SUBSTITUTE(F378,{1,2,3,4,5,6,7,8,9},0)&0))-1)=FALSE\n),\"Check\",\"\")","v":""},"","",null,"",0,"","","","",""]
["SBSA_370","SBSA_370",null,null,null,null,null,null,null,null,null,null,null,null,null,null,null,null,null,null,null,null,null,null,null,null,"","",{"$f":"IF(OR(\nOR(AND(D379<>\"\",F379=\"\"),AND(E379<>\"\",F379=\"\")),\nF379=LEFT(F379,MIN(FIND(0,SUBSTITUTE(F379,{1,2,3,4,5,6,7,8,9},0)&0))-1)=FALSE\n),\"Check\",\"\")","v":""},"","",null,"",0,"","","","",""]
["SBSA_371","SBSA_371",null,null,null,null,null,null,null,null,null,null,null,null,null,null,null,null,null,null,null,null,null,null,null,null,"","",{"$f":"IF(OR(\nOR(AND(D380<>\"\",F380=\"\"),AND(E380<>\"\",F380=\"\")),\nF380=LEFT(F380,MIN(FIND(0,SUBSTITUTE(F380,{1,2,3,4,5,6,7,8,9},0)&0))-1)=FALSE\n),\"Check\",\"\")","v":""},"","",null,"",0,"","","","",""]
["SBSA_372","SBSA_372",null,null,null,null,null,null,null,null,null,null,null,null,null,null,null,null,null,null,null,null,null,null,null,null,"","",{"$f":"IF(OR(\nOR(AND(D381<>\"\",F381=\"\"),AND(E381<>\"\",F381=\"\")),\nF381=LEFT(F381,MIN(FIND(0,SUBSTITUTE(F381,{1,2,3,4,5,6,7,8,9},0)&0))-1)=FALSE\n),\"Check\",\"\")","v":""},"","",null,"",0,"","","","",""]
["SBSA_373","SBSA_373",null,null,null,null,null,null,null,null,null,null,null,null,null,null,null,null,null,null,null,null,null,null,null,null,"","",{"$f":"IF(OR(\nOR(AND(D382<>\"\",F382=\"\"),AND(E382<>\"\",F382=\"\")),\nF382=LEFT(F382,MIN(FIND(0,SUBSTITUTE(F382,{1,2,3,4,5,6,7,8,9},0)&0))-1)=FALSE\n),\"Check\",\"\")","v":""},"","",null,"",0,"","","","",""]
["SBSA_374","SBSA_374",null,null,null,null,null,null,null,null,null,null,null,null,null,null,null,null,null,null,null,null,null,null,null,null,"","",{"$f":"IF(OR(\nOR(AND(D383<>\"\",F383=\"\"),AND(E383<>\"\",F383=\"\")),\nF383=LEFT(F383,MIN(FIND(0,SUBSTITUTE(F383,{1,2,3,4,5,6,7,8,9},0)&0))-1)=FALSE\n),\"Check\",\"\")","v":""},"","",null,"",0,"","","","",""]
["SBSA_375","SBSA_375",null,null,null,null,null,null,null,null,null,null,null,null,null,null,null,null,null,null,null,null,null,null,null,null,"","",{"$f":"IF(OR(\nOR(AND(D384<>\"\",F384=\"\"),AND(E384<>\"\",F384=\"\")),\nF384=LEFT(F384,MIN(FIND(0,SUBSTITUTE(F384,{1,2,3,4,5,6,7,8,9},0)&0))-1)=FALSE\n),\"Check\",\"\")","v":""},"","",null,"",0,"","","","",""]
["SBSA_376","SBSA_376",null,null,null,null,null,null,null,null,null,null,null,null,null,null,null,null,null,null,null,null,null,null,null,null,"","",{"$f":"IF(OR(\nOR(AND(D385<>\"\",F385=\"\"),AND(E385<>\"\",F385=\"\")),\nF385=LEFT(F385,MIN(FIND(0,SUBSTITUTE(F385,{1,2,3,4,5,6,7,8,9},0)&0))-1)=FALSE\n),\"Check\",\"\")","v":""},"","",null,"",0,"","","","",""]
["SBSA_377","SBSA_377",null,null,null,null,null,null,null,null,null,null,null,null,null,null,null,null,null,null,null,null,null,null,null,null,"","",{"$f":"IF(OR(\nOR(AND(D386<>\"\",F386=\"\"),AND(E386<>\"\",F386=\"\")),\nF386=LEFT(F386,MIN(FIND(0,SUBSTITUTE(F386,{1,2,3,4,5,6,7,8,9},0)&0))-1)=FALSE\n),\"Check\",\"\")","v":""},"","",null,"",0,"","","","",""]
["SBSA_378","SBSA_378",null,null,null,null,null,null,null,null,null,null,null,null,null,null,null,null,null,null,null,null,null,null,null,null,"","",{"$f":"IF(OR(\nOR(AND(D387<>\"\",F387=\"\"),AND(E387<>\"\",F387=\"\")),\nF387=LEFT(F387,MIN(FIND(0,SUBSTITUTE(F387,{1,2,3,4,5,6,7,8,9},0)&0))-1)=FALSE\n),\"Check\",\"\")","v":""},"","",null,"",0,"","","","",""]
["SBSA_379","SBSA_379",null,null,null,null,null,null,null,null,null,null,null,null,null,null,null,null,null,null,null,null,null,null,null,null,"","",{"$f":"IF(OR(\nOR(AND(D388<>\"\",F388=\"\"),AND(E388<>\"\",F388=\"\")),\nF388=LEFT(F388,MIN(FIND(0,SUBSTITUTE(F388,{1,2,3,4,5,6,7,8,9},0)&0))-1)=FALSE\n),\"Check\",\"\")","v":""},"","",null,"",0,"","","","",""]
["SBSA_380","SBSA_380",null,null,null,null,null,null,null,null,null,null,null,null,null,null,null,null,null,null,null,null,null,null,null,null,"","",{"$f":"IF(OR(\nOR(AND(D389<>\"\",F389=\"\"),AND(E389<>\"\",F389=\"\")),\nF389=LEFT(F389,MIN(FIND(0,SUBSTITUTE(F389,{1,2,3,4,5,6,7,8,9},0)&0))-1)=FALSE\n),\"Check\",\"\")","v":""},"","",null,"",0,"","","","",""]
["SBSA_381","SBSA_381",null,null,null,null,null,null,null,null,null,null,null,null,null,null,null,null,null,null,null,null,null,null,null,null,"","",{"$f":"IF(OR(\nOR(AND(D390<>\"\",F390=\"\"),AND(E390<>\"\",F390=\"\")),\nF390=LEFT(F390,MIN(FIND(0,SUBSTITUTE(F390,{1,2,3,4,5,6,7,8,9},0)&0))-1)=FALSE\n),\"Check\",\"\")","v":""},"","",null,"",0,"","","","",""]
["SBSA_382","SBSA_382",null,null,null,null,null,null,null,null,null,null,null,null,null,null,null,null,null,null,null,null,null,null,null,null,"","",{"$f":"IF(OR(\nOR(AND(D391<>\"\",F391=\"\"),AND(E391<>\"\",F391=\"\")),\nF391=LEFT(F391,MIN(FIND(0,SUBSTITUTE(F391,{1,2,3,4,5,6,7,8,9},0)&0))-1)=FALSE\n),\"Check\",\"\")","v":""},"","",null,"",0,"","","","",""]
["SBSA_383","SBSA_383",null,null,null,null,null,null,null,null,null,null,null,null,null,null,null,null,null,null,null,null,null,null,null,null,"","",{"$f":"IF(OR(\nOR(AND(D392<>\"\",F392=\"\"),AND(E392<>\"\",F392=\"\")),\nF392=LEFT(F392,MIN(FIND(0,SUBSTITUTE(F392,{1,2,3,4,5,6,7,8,9},0)&0))-1)=FALSE\n),\"Check\",\"\")","v":""},"","",null,"",0,"","","","",""]
["SBSA_384","SBSA_384",null,null,null,null,null,null,null,null,null,null,null,null,null,null,null,null,null,null,null,null,null,null,null,null,"","",{"$f":"IF(OR(\nOR(AND(D393<>\"\",F393=\"\"),AND(E393<>\"\",F393=\"\")),\nF393=LEFT(F393,MIN(FIND(0,SUBSTITUTE(F393,{1,2,3,4,5,6,7,8,9},0)&0))-1)=FALSE\n),\"Check\",\"\")","v":""},"","",null,"",0,"","","","",""]
["SBSA_385","SBSA_385",null,null,null,null,null,null,null,null,null,null,null,null,null,null,null,null,null,null,null,null,null,null,null,null,{"$f":"IF(AND(C394=\"\",OR(D394<>\"\",E394<>\"\",F394<>\"\",G394<>\"\")),\"Check\",\"\")","v":""},{"$f":"IF(AND(C394<>\"\",OR(AND(D394=\"\",E394=\"\"),AND(D394=0,E394=0),AND(ABS(D394)>0,ABS(E394)>0))),\"Check\",\"\")","v":""},{"$f":"IF(OR(\nOR(AND(D394<>\"\",F394=\"\"),AND(E394<>\"\",F394=\"\")),\nF394=LEFT(F394,MIN(FIND(0,SUBSTITUTE(F394,{1,2,3,4,5,6,7,8,9},0)&0))-1)=FALSE\n),\"Check\",\"\")","v":""},{"$f":"IF(OR(E394=\"\",G394=\"\"),\"\",(E394*G394)/100)","v":""},{"$f":"IF(AND(F394<>\"\",G394=\"\"),\"Check\",\"\")","v":""},null,{"$f":"IF(C394=\"\",\"\",C394&\"_\"&IF(G394=\"\",0,G394))","v":""},{"$f":"IF(COUNTBLANK(C394:G394)<5,1,0)","v":0},{"$f":"IF(C394=\"\",\"\",IF(LEN(C394)=12,\"\",\"Check\"))","v":""},{"$f":"IF(C394=\"\",\"\",IF(COUNTIF(C$10:C$65536,C394)=COUNTIF(AG$10:AG$65536,AG394),\"\",\"Check\"))","v":""},{"$f":"IF(F394=\"\",\"\",IF(LEN(F394)=3,\"\",\"Check\"))","v":""},{"$f":"IF(OR(IF(D394=\"\",\"\",IF(ISNUMBER(D394)=TRUE,\"\",\"TEXT\"))=\"TEXT\",IF(E394=\"\",\"\",IF(ISNUMBER(E394)=TRUE,\"\",\"TEXT\"))=\"TEXT\",IF(G394=\"\",\"\",IF(ISNUMBER(G394)=TRUE,\"\",\"TEXT\"))=\"TEXT\"),\"Check\",\"\")","v":""},{"$f":"IF(G394<0,\"Check\",\"\")","v":""}]
["SBSA_386","SBSA_386",null,null,null,null,null,null,null,null,null,null,null,null,null,null,null,null,null,null,null,null,null,null,null,null,"","",{"$f":"IF(OR(\nOR(AND(D395<>\"\",F395=\"\"),AND(E395<>\"\",F395=\"\")),\nF395=LEFT(F395,MIN(FIND(0,SUBSTITUTE(F395,{1,2,3,4,5,6,7,8,9},0)&0))-1)=FALSE\n),\"Check\",\"\")","v":""},"","",null,"",0,"","","","",""]
["SBSA_387","SBSA_387",null,null,null,null,null,null,null,null,null,null,null,null,null,null,null,null,null,null,null,null,null,null,null,null,"","",{"$f":"IF(OR(\nOR(AND(D396<>\"\",F396=\"\"),AND(E396<>\"\",F396=\"\")),\nF396=LEFT(F396,MIN(FIND(0,SUBSTITUTE(F396,{1,2,3,4,5,6,7,8,9},0)&0))-1)=FALSE\n),\"Check\",\"\")","v":""},"","",null,"",0,"","","","",""]
["SBSA_388","SBSA_388",null,null,null,null,null,null,null,null,null,null,null,null,null,null,null,null,null,null,null,null,null,null,null,null,"","",{"$f":"IF(OR(\nOR(AND(D397<>\"\",F397=\"\"),AND(E397<>\"\",F397=\"\")),\nF397=LEFT(F397,MIN(FIND(0,SUBSTITUTE(F397,{1,2,3,4,5,6,7,8,9},0)&0))-1)=FALSE\n),\"Check\",\"\")","v":""},"","",null,"",0,"","","","",""]
["SBSA_389","SBSA_389",null,null,null,null,null,null,null,null,null,null,null,null,null,null,null,null,null,null,null,null,null,null,null,null,"","",{"$f":"IF(OR(\nOR(AND(D398<>\"\",F398=\"\"),AND(E398<>\"\",F398=\"\")),\nF398=LEFT(F398,MIN(FIND(0,SUBSTITUTE(F398,{1,2,3,4,5,6,7,8,9},0)&0))-1)=FALSE\n),\"Check\",\"\")","v":""},"","",null,"",0,"","","","",""]
["SBSA_390","SBSA_390",null,null,null,null,null,null,null,null,null,null,null,null,null,null,null,null,null,null,null,null,null,null,null,null,"","",{"$f":"IF(OR(\nOR(AND(D399<>\"\",F399=\"\"),AND(E399<>\"\",F399=\"\")),\nF399=LEFT(F399,MIN(FIND(0,SUBSTITUTE(F399,{1,2,3,4,5,6,7,8,9},0)&0))-1)=FALSE\n),\"Check\",\"\")","v":""},"","",null,"",0,"","","","",""]
["SBSA_391","SBSA_391",null,null,null,null,null,null,null,null,null,null,null,null,null,null,null,null,null,null,null,null,null,null,null,null,"","",{"$f":"IF(OR(\nOR(AND(D400<>\"\",F400=\"\"),AND(E400<>\"\",F400=\"\")),\nF400=LEFT(F400,MIN(FIND(0,SUBSTITUTE(F400,{1,2,3,4,5,6,7,8,9},0)&0))-1)=FALSE\n),\"Check\",\"\")","v":""},"","",null,"",0,"","","","",""]
["SBSA_392","SBSA_392",null,null,null,null,null,null,null,null,null,null,null,null,null,null,null,null,null,null,null,null,null,null,null,null,"","",{"$f":"IF(OR(\nOR(AND(D401<>\"\",F401=\"\"),AND(E401<>\"\",F401=\"\")),\nF401=LEFT(F401,MIN(FIND(0,SUBSTITUTE(F401,{1,2,3,4,5,6,7,8,9},0)&0))-1)=FALSE\n),\"Check\",\"\")","v":""},"","",null,"",0,"","","","",""]
["SBSA_393","SBSA_393",null,null,null,null,null,null,null,null,null,null,null,null,null,null,null,null,null,null,null,null,null,null,null,null,"","",{"$f":"IF(OR(\nOR(AND(D402<>\"\",F402=\"\"),AND(E402<>\"\",F402=\"\")),\nF402=LEFT(F402,MIN(FIND(0,SUBSTITUTE(F402,{1,2,3,4,5,6,7,8,9},0)&0))-1)=FALSE\n),\"Check\",\"\")","v":""},"","",null,"",0,"","","","",""]
["SBSA_394","SBSA_394",null,null,null,null,null,null,null,null,null,null,null,null,null,null,null,null,null,null,null,null,null,null,null,null,"","",{"$f":"IF(OR(\nOR(AND(D403<>\"\",F403=\"\"),AND(E403<>\"\",F403=\"\")),\nF403=LEFT(F403,MIN(FIND(0,SUBSTITUTE(F403,{1,2,3,4,5,6,7,8,9},0)&0))-1)=FALSE\n),\"Check\",\"\")","v":""},"","",null,"",0,"","","","",""]
["SBSA_395","SBSA_395",null,null,null,null,null,null,null,null,null,null,null,null,null,null,null,null,null,null,null,null,null,null,null,null,"","",{"$f":"IF(OR(\nOR(AND(D404<>\"\",F404=\"\"),AND(E404<>\"\",F404=\"\")),\nF404=LEFT(F404,MIN(FIND(0,SUBSTITUTE(F404,{1,2,3,4,5,6,7,8,9},0)&0))-1)=FALSE\n),\"Check\",\"\")","v":""},"","",null,"",0,"","","","",""]
["SBSA_396","SBSA_396",null,null,null,null,null,null,null,null,null,null,null,null,null,null,null,null,null,null,null,null,null,null,null,null,"","",{"$f":"IF(OR(\nOR(AND(D405<>\"\",F405=\"\"),AND(E405<>\"\",F405=\"\")),\nF405=LEFT(F405,MIN(FIND(0,SUBSTITUTE(F405,{1,2,3,4,5,6,7,8,9},0)&0))-1)=FALSE\n),\"Check\",\"\")","v":""},"","",null,"",0,"","","","",""]
["SBSA_397","SBSA_397",null,null,null,null,null,null,null,null,null,null,null,null,null,null,null,null,null,null,null,null,null,null,null,null,"","",{"$f":"IF(OR(\nOR(AND(D406<>\"\",F406=\"\"),AND(E406<>\"\",F406=\"\")),\nF406=LEFT(F406,MIN(FIND(0,SUBSTITUTE(F406,{1,2,3,4,5,6,7,8,9},0)&0))-1)=FALSE\n),\"Check\",\"\")","v":""},"","",null,"",0,"","","","",""]
["SBSA_398","SBSA_398",null,null,null,null,null,null,null,null,null,null,null,null,null,null,null,null,null,null,null,null,null,null,null,null,"","",{"$f":"IF(OR(\nOR(AND(D407<>\"\",F407=\"\"),AND(E407<>\"\",F407=\"\")),\nF407=LEFT(F407,MIN(FIND(0,SUBSTITUTE(F407,{1,2,3,4,5,6,7,8,9},0)&0))-1)=FALSE\n),\"Check\",\"\")","v":""},"","",null,"",0,"","","","",""]
["SBSA_399","SBSA_399",null,null,null,null,null,null,null,null,null,null,null,null,null,null,null,null,null,null,null,null,null,null,null,null,"","",{"$f":"IF(OR(\nOR(AND(D408<>\"\",F408=\"\"),AND(E408<>\"\",F408=\"\")),\nF408=LEFT(F408,MIN(FIND(0,SUBSTITUTE(F408,{1,2,3,4,5,6,7,8,9},0)&0))-1)=FALSE\n),\"Check\",\"\")","v":""},"","",null,"",0,"","","","",""]
["SBSA_400","SBSA_400",null,null,null,null,null,null,null,null,null,null,null,null,null,null,null,null,null,null,null,null,null,null,null,null,"","",{"$f":"IF(OR(\nOR(AND(D409<>\"\",F409=\"\"),AND(E409<>\"\",F409=\"\")),\nF409=LEFT(F409,MIN(FIND(0,SUBSTITUTE(F409,{1,2,3,4,5,6,7,8,9},0)&0))-1)=FALSE\n),\"Check\",\"\")","v":""},"","",null,"",0,"","","","",""]
["SBSA_401","SBSA_401",null,null,null,null,null,null,null,null,null,null,null,null,null,null,null,null,null,null,null,null,null,null,null,null,"","",{"$f":"IF(OR(\nOR(AND(D410<>\"\",F410=\"\"),AND(E410<>\"\",F410=\"\")),\nF410=LEFT(F410,MIN(FIND(0,SUBSTITUTE(F410,{1,2,3,4,5,6,7,8,9},0)&0))-1)=FALSE\n),\"Check\",\"\")","v":""},"","",null,"",0,"","","","",""]
["SBSA_402","SBSA_402",null,null,null,null,null,null,null,null,null,null,null,null,null,null,null,null,null,null,null,null,null,null,null,null,"","",{"$f":"IF(OR(\nOR(AND(D411<>\"\",F411=\"\"),AND(E411<>\"\",F411=\"\")),\nF411=LEFT(F411,MIN(FIND(0,SUBSTITUTE(F411,{1,2,3,4,5,6,7,8,9},0)&0))-1)=FALSE\n),\"Check\",\"\")","v":""},"","",null,"",0,"","","","",""]
["SBSA_403","SBSA_403",null,null,null,null,null,null,null,null,null,null,null,null,null,null,null,null,null,null,null,null,null,null,null,null,"","",{"$f":"IF(OR(\nOR(AND(D412<>\"\",F412=\"\"),AND(E412<>\"\",F412=\"\")),\nF412=LEFT(F412,MIN(FIND(0,SUBSTITUTE(F412,{1,2,3,4,5,6,7,8,9},0)&0))-1)=FALSE\n),\"Check\",\"\")","v":""},"","",null,"",0,"","","","",""]
["SBSA_404","SBSA_404",null,null,null,null,null,null,null,null,null,null,null,null,null,null,null,null,null,null,null,null,null,null,null,null,"","",{"$f":"IF(OR(\nOR(AND(D413<>\"\",F413=\"\"),AND(E413<>\"\",F413=\"\")),\nF413=LEFT(F413,MIN(FIND(0,SUBSTITUTE(F413,{1,2,3,4,5,6,7,8,9},0)&0))-1)=FALSE\n),\"Check\",\"\")","v":""},"","",null,"",0,"","","","",""]
["SBSA_405","SBSA_405",null,null,null,null,null,null,null,null,null,null,null,null,null,null,null,null,null,null,null,null,null,null,null,null,"","",{"$f":"IF(OR(\nOR(AND(D414<>\"\",F414=\"\"),AND(E414<>\"\",F414=\"\")),\nF414=LEFT(F414,MIN(FIND(0,SUBSTITUTE(F414,{1,2,3,4,5,6,7,8,9},0)&0))-1)=FALSE\n),\"Check\",\"\")","v":""},"","",null,"",0,"","","","",""]
["SBSA_406","SBSA_406",null,null,null,null,null,null,null,null,null,null,null,null,null,null,null,null,null,null,null,null,null,null,null,null,"","",{"$f":"IF(OR(\nOR(AND(D415<>\"\",F415=\"\"),AND(E415<>\"\",F415=\"\")),\nF415=LEFT(F415,MIN(FIND(0,SUBSTITUTE(F415,{1,2,3,4,5,6,7,8,9},0)&0))-1)=FALSE\n),\"Check\",\"\")","v":""},"","",null,"",0,"","","","",""]
["SBSA_407","SBSA_407",null,null,null,null,null,null,null,null,null,null,null,null,null,null,null,null,null,null,null,null,null,null,null,null,"","",{"$f":"IF(OR(\nOR(AND(D416<>\"\",F416=\"\"),AND(E416<>\"\",F416=\"\")),\nF416=LEFT(F416,MIN(FIND(0,SUBSTITUTE(F416,{1,2,3,4,5,6,7,8,9},0)&0))-1)=FALSE\n),\"Check\",\"\")","v":""},"","",null,"",0,"","","","",""]
["SBSA_408","SBSA_408",null,null,null,null,null,null,null,null,null,null,null,null,null,null,null,null,null,null,null,null,null,null,null,null,"","",{"$f":"IF(OR(\nOR(AND(D417<>\"\",F417=\"\"),AND(E417<>\"\",F417=\"\")),\nF417=LEFT(F417,MIN(FIND(0,SUBSTITUTE(F417,{1,2,3,4,5,6,7,8,9},0)&0))-1)=FALSE\n),\"Check\",\"\")","v":""},"","",null,"",0,"","","","",""]
["SBSA_409","SBSA_409",null,null,null,null,null,null,null,null,null,null,null,null,null,null,null,null,null,null,null,null,null,null,null,null,"","",{"$f":"IF(OR(\nOR(AND(D418<>\"\",F418=\"\"),AND(E418<>\"\",F418=\"\")),\nF418=LEFT(F418,MIN(FIND(0,SUBSTITUTE(F418,{1,2,3,4,5,6,7,8,9},0)&0))-1)=FALSE\n),\"Check\",\"\")","v":""},"","",null,"",0,"","","","",""]
["SBSA_410","SBSA_410",null,null,null,null,null,null,null,null,null,null,null,null,null,null,null,null,null,null,null,null,null,null,null,null,"","",{"$f":"IF(OR(\nOR(AND(D419<>\"\",F419=\"\"),AND(E419<>\"\",F419=\"\")),\nF419=LEFT(F419,MIN(FIND(0,SUBSTITUTE(F419,{1,2,3,4,5,6,7,8,9},0)&0))-1)=FALSE\n),\"Check\",\"\")","v":""},"","",null,"",0,"","","","",""]
["SBSA_411","SBSA_411",null,null,null,null,null,null,null,null,null,null,null,null,null,null,null,null,null,null,null,null,null,null,null,null,"","",{"$f":"IF(OR(\nOR(AND(D420<>\"\",F420=\"\"),AND(E420<>\"\",F420=\"\")),\nF420=LEFT(F420,MIN(FIND(0,SUBSTITUTE(F420,{1,2,3,4,5,6,7,8,9},0)&0))-1)=FALSE\n),\"Check\",\"\")","v":""},"","",null,"",0,"","","","",""]
["SBSA_412","SBSA_412",null,null,null,null,null,null,null,null,null,null,null,null,null,null,null,null,null,null,null,null,null,null,null,null,"","",{"$f":"IF(OR(\nOR(AND(D421<>\"\",F421=\"\"),AND(E421<>\"\",F421=\"\")),\nF421=LEFT(F421,MIN(FIND(0,SUBSTITUTE(F421,{1,2,3,4,5,6,7,8,9},0)&0))-1)=FALSE\n),\"Check\",\"\")","v":""},"","",null,"",0,"","","","",""]
["SBSA_413","SBSA_413",null,null,null,null,null,null,null,null,null,null,null,null,null,null,null,null,null,null,null,null,null,null,null,null,"","",{"$f":"IF(OR(\nOR(AND(D422<>\"\",F422=\"\"),AND(E422<>\"\",F422=\"\")),\nF422=LEFT(F422,MIN(FIND(0,SUBSTITUTE(F422,{1,2,3,4,5,6,7,8,9},0)&0))-1)=FALSE\n),\"Check\",\"\")","v":""},"","",null,"",0,"","","","",""]
["SBSA_414","SBSA_414",null,null,null,null,null,null,null,null,null,null,null,null,null,null,null,null,null,null,null,null,null,null,null,null,"","",{"$f":"IF(OR(\nOR(AND(D423<>\"\",F423=\"\"),AND(E423<>\"\",F423=\"\")),\nF423=LEFT(F423,MIN(FIND(0,SUBSTITUTE(F423,{1,2,3,4,5,6,7,8,9},0)&0))-1)=FALSE\n),\"Check\",\"\")","v":""},"","",null,"",0,"","","","",""]
["SBSA_415","SBSA_415",null,null,null,null,null,null,null,null,null,null,null,null,null,null,null,null,null,null,null,null,null,null,null,null,"","",{"$f":"IF(OR(\nOR(AND(D424<>\"\",F424=\"\"),AND(E424<>\"\",F424=\"\")),\nF424=LEFT(F424,MIN(FIND(0,SUBSTITUTE(F424,{1,2,3,4,5,6,7,8,9},0)&0))-1)=FALSE\n),\"Check\",\"\")","v":""},"","",null,"",0,"","","","",""]
["SBSA_416","SBSA_416",null,null,null,null,null,null,null,null,null,null,null,null,null,null,null,null,null,null,null,null,null,null,null,null,"","",{"$f":"IF(OR(\nOR(AND(D425<>\"\",F425=\"\"),AND(E425<>\"\",F425=\"\")),\nF425=LEFT(F425,MIN(FIND(0,SUBSTITUTE(F425,{1,2,3,4,5,6,7,8,9},0)&0))-1)=FALSE\n),\"Check\",\"\")","v":""},"","",null,"",0,"","","","",""]
["SBSA_417","SBSA_417",null,null,null,null,null,null,null,null,null,null,null,null,null,null,null,null,null,null,null,null,null,null,null,null,"","",{"$f":"IF(OR(\nOR(AND(D426<>\"\",F426=\"\"),AND(E426<>\"\",F426=\"\")),\nF426=LEFT(F426,MIN(FIND(0,SUBSTITUTE(F426,{1,2,3,4,5,6,7,8,9},0)&0))-1)=FALSE\n),\"Check\",\"\")","v":""},"","",null,"",0,"","","","",""]
["SBSA_418","SBSA_418",null,null,null,null,null,null,null,null,null,null,null,null,null,null,null,null,null,null,null,null,null,null,null,null,"","",{"$f":"IF(OR(\nOR(AND(D427<>\"\",F427=\"\"),AND(E427<>\"\",F427=\"\")),\nF427=LEFT(F427,MIN(FIND(0,SUBSTITUTE(F427,{1,2,3,4,5,6,7,8,9},0)&0))-1)=FALSE\n),\"Check\",\"\")","v":""},"","",null,"",0,"","","","",""]
["SBSA_419","SBSA_419",null,null,null,null,null,null,null,null,null,null,null,null,null,null,null,null,null,null,null,null,null,null,null,null,"","",{"$f":"IF(OR(\nOR(AND(D428<>\"\",F428=\"\"),AND(E428<>\"\",F428=\"\")),\nF428=LEFT(F428,MIN(FIND(0,SUBSTITUTE(F428,{1,2,3,4,5,6,7,8,9},0)&0))-1)=FALSE\n),\"Check\",\"\")","v":""},"","",null,"",0,"","","","",""]
["SBSA_420","SBSA_420",null,null,null,null,null,null,null,null,null,null,null,null,null,null,null,null,null,null,null,null,null,null,null,null,"","",{"$f":"IF(OR(\nOR(AND(D429<>\"\",F429=\"\"),AND(E429<>\"\",F429=\"\")),\nF429=LEFT(F429,MIN(FIND(0,SUBSTITUTE(F429,{1,2,3,4,5,6,7,8,9},0)&0))-1)=FALSE\n),\"Check\",\"\")","v":""},"","",null,"",0,"","","","",""]
["SBSA_421","SBSA_421",null,null,null,null,null,null,null,null,null,null,null,null,null,null,null,null,null,null,null,null,null,null,null,null,"","",{"$f":"IF(OR(\nOR(AND(D430<>\"\",F430=\"\"),AND(E430<>\"\",F430=\"\")),\nF430=LEFT(F430,MIN(FIND(0,SUBSTITUTE(F430,{1,2,3,4,5,6,7,8,9},0)&0))-1)=FALSE\n),\"Check\",\"\")","v":""},"","",null,"",0,"","","","",""]
["SBSA_422","SBSA_422",null,null,null,null,null,null,null,null,null,null,null,null,null,null,null,null,null,null,null,null,null,null,null,null,"","",{"$f":"IF(OR(\nOR(AND(D431<>\"\",F431=\"\"),AND(E431<>\"\",F431=\"\")),\nF431=LEFT(F431,MIN(FIND(0,SUBSTITUTE(F431,{1,2,3,4,5,6,7,8,9},0)&0))-1)=FALSE\n),\"Check\",\"\")","v":""},"","",null,"",0,"","","","",""]
["SBSA_423","SBSA_423",null,null,null,null,null,null,null,null,null,null,null,null,null,null,null,null,null,null,null,null,null,null,null,null,"","",{"$f":"IF(OR(\nOR(AND(D432<>\"\",F432=\"\"),AND(E432<>\"\",F432=\"\")),\nF432=LEFT(F432,MIN(FIND(0,SUBSTITUTE(F432,{1,2,3,4,5,6,7,8,9},0)&0))-1)=FALSE\n),\"Check\",\"\")","v":""},"","",null,"",0,"","","","",""]
["SBSA_424","SBSA_424",null,null,null,null,null,null,null,null,null,null,null,null,null,null,null,null,null,null,null,null,null,null,null,null,"","",{"$f":"IF(OR(\nOR(AND(D433<>\"\",F433=\"\"),AND(E433<>\"\",F433=\"\")),\nF433=LEFT(F433,MIN(FIND(0,SUBSTITUTE(F433,{1,2,3,4,5,6,7,8,9},0)&0))-1)=FALSE\n),\"Check\",\"\")","v":""},"","",null,"",0,"","","","",""]
["SBSA_425","SBSA_425",null,null,null,null,null,null,null,null,null,null,null,null,null,null,null,null,null,null,null,null,null,null,null,null,"","",{"$f":"IF(OR(\nOR(AND(D434<>\"\",F434=\"\"),AND(E434<>\"\",F434=\"\")),\nF434=LEFT(F434,MIN(FIND(0,SUBSTITUTE(F434,{1,2,3,4,5,6,7,8,9},0)&0))-1)=FALSE\n),\"Check\",\"\")","v":""},"","",null,"",0,"","","","",""]
["SBSA_426","SBSA_426",null,null,null,null,null,null,null,null,null,null,null,null,null,null,null,null,null,null,null,null,null,null,null,null,"","",{"$f":"IF(OR(\nOR(AND(D435<>\"\",F435=\"\"),AND(E435<>\"\",F435=\"\")),\nF435=LEFT(F435,MIN(FIND(0,SUBSTITUTE(F435,{1,2,3,4,5,6,7,8,9},0)&0))-1)=FALSE\n),\"Check\",\"\")","v":""},"","",null,"",0,"","","","",""]
["SBSA_427","SBSA_427",null,null,null,null,null,null,null,null,null,null,null,null,null,null,null,null,null,null,null,null,null,null,null,null,"","",{"$f":"IF(OR(\nOR(AND(D436<>\"\",F436=\"\"),AND(E436<>\"\",F436=\"\")),\nF436=LEFT(F436,MIN(FIND(0,SUBSTITUTE(F436,{1,2,3,4,5,6,7,8,9},0)&0))-1)=FALSE\n),\"Check\",\"\")","v":""},"","",null,"",0,"","","","",""]
["SBSA_428","SBSA_428",null,null,null,null,null,null,null,null,null,null,null,null,null,null,null,null,null,null,null,null,null,null,null,null,"","",{"$f":"IF(OR(\nOR(AND(D437<>\"\",F437=\"\"),AND(E437<>\"\",F437=\"\")),\nF437=LEFT(F437,MIN(FIND(0,SUBSTITUTE(F437,{1,2,3,4,5,6,7,8,9},0)&0))-1)=FALSE\n),\"Check\",\"\")","v":""},"","",null,"",0,"","","","",""]
["SBSA_429","SBSA_429",null,null,null,null,null,null,null,null,null,null,null,null,null,null,null,null,null,null,null,null,null,null,null,null,"","",{"$f":"IF(OR(\nOR(AND(D438<>\"\",F438=\"\"),AND(E438<>\"\",F438=\"\")),\nF438=LEFT(F438,MIN(FIND(0,SUBSTITUTE(F438,{1,2,3,4,5,6,7,8,9},0)&0))-1)=FALSE\n),\"Check\",\"\")","v":""},"","",null,"",0,"","","","",""]
["SBSA_430","SBSA_430",null,null,null,null,null,null,null,null,null,null,null,null,null,null,null,null,null,null,null,null,null,null,null,null,"","",{"$f":"IF(OR(\nOR(AND(D439<>\"\",F439=\"\"),AND(E439<>\"\",F439=\"\")),\nF439=LEFT(F439,MIN(FIND(0,SUBSTITUTE(F439,{1,2,3,4,5,6,7,8,9},0)&0))-1)=FALSE\n),\"Check\",\"\")","v":""},"","",null,"",0,"","","","",""]
["SBSA_431","SBSA_431",null,null,null,null,null,null,null,null,null,null,null,null,null,null,null,null,null,null,null,null,null,null,null,null,"","",{"$f":"IF(OR(\nOR(AND(D440<>\"\",F440=\"\"),AND(E440<>\"\",F440=\"\")),\nF440=LEFT(F440,MIN(FIND(0,SUBSTITUTE(F440,{1,2,3,4,5,6,7,8,9},0)&0))-1)=FALSE\n),\"Check\",\"\")","v":""},"","",null,"",0,"","","","",""]
["SBSA_432","SBSA_432",null,null,null,null,null,null,null,null,null,null,null,null,null,null,null,null,null,null,null,null,null,null,null,null,"","",{"$f":"IF(OR(\nOR(AND(D441<>\"\",F441=\"\"),AND(E441<>\"\",F441=\"\")),\nF441=LEFT(F441,MIN(FIND(0,SUBSTITUTE(F441,{1,2,3,4,5,6,7,8,9},0)&0))-1)=FALSE\n),\"Check\",\"\")","v":""},"","",null,"",0,"","","","",""]
["SBSA_433","SBSA_433",null,null,null,null,null,null,null,null,null,null,null,null,null,null,null,null,null,null,null,null,null,null,null,null,"","",{"$f":"IF(OR(\nOR(AND(D442<>\"\",F442=\"\"),AND(E442<>\"\",F442=\"\")),\nF442=LEFT(F442,MIN(FIND(0,SUBSTITUTE(F442,{1,2,3,4,5,6,7,8,9},0)&0))-1)=FALSE\n),\"Check\",\"\")","v":""},"","",null,"",0,"","","","",""]
["SBSA_434","SBSA_434",null,null,null,null,null,null,null,null,null,null,null,null,null,null,null,null,null,null,null,null,null,null,null,null,"","",{"$f":"IF(OR(\nOR(AND(D443<>\"\",F443=\"\"),AND(E443<>\"\",F443=\"\")),\nF443=LEFT(F443,MIN(FIND(0,SUBSTITUTE(F443,{1,2,3,4,5,6,7,8,9},0)&0))-1)=FALSE\n),\"Check\",\"\")","v":""},"","",null,"",0,"","","","",""]
["SBSA_435","SBSA_435",null,null,null,null,null,null,null,null,null,null,null,null,null,null,null,null,null,null,null,null,null,null,null,null,"","",{"$f":"IF(OR(\nOR(AND(D444<>\"\",F444=\"\"),AND(E444<>\"\",F444=\"\")),\nF444=LEFT(F444,MIN(FIND(0,SUBSTITUTE(F444,{1,2,3,4,5,6,7,8,9},0)&0))-1)=FALSE\n),\"Check\",\"\")","v":""},"","",null,"",0,"","","","",""]
["SBSA_436","SBSA_436",null,null,null,null,null,null,null,null,null,null,null,null,null,null,null,null,null,null,null,null,null,null,null,null,"","",{"$f":"IF(OR(\nOR(AND(D445<>\"\",F445=\"\"),AND(E445<>\"\",F445=\"\")),\nF445=LEFT(F445,MIN(FIND(0,SUBSTITUTE(F445,{1,2,3,4,5,6,7,8,9},0)&0))-1)=FALSE\n),\"Check\",\"\")","v":""},"","",null,"",0,"","","","",""]
["SBSA_437","SBSA_437",null,null,null,null,null,null,null,null,null,null,null,null,null,null,null,null,null,null,null,null,null,null,null,null,"","",{"$f":"IF(OR(\nOR(AND(D446<>\"\",F446=\"\"),AND(E446<>\"\",F446=\"\")),\nF446=LEFT(F446,MIN(FIND(0,SUBSTITUTE(F446,{1,2,3,4,5,6,7,8,9},0)&0))-1)=FALSE\n),\"Check\",\"\")","v":""},"","",null,"",0,"","","","",""]
["SBSA_438","SBSA_438",null,null,null,null,null,null,null,null,null,null,null,null,null,null,null,null,null,null,null,null,null,null,null,null,"","",{"$f":"IF(OR(\nOR(AND(D447<>\"\",F447=\"\"),AND(E447<>\"\",F447=\"\")),\nF447=LEFT(F447,MIN(FIND(0,SUBSTITUTE(F447,{1,2,3,4,5,6,7,8,9},0)&0))-1)=FALSE\n),\"Check\",\"\")","v":""},"","",null,"",0,"","","","",""]
["SBSA_439","SBSA_439",null,null,null,null,null,null,null,null,null,null,null,null,null,null,null,null,null,null,null,null,null,null,null,null,"","",{"$f":"IF(OR(\nOR(AND(D448<>\"\",F448=\"\"),AND(E448<>\"\",F448=\"\")),\nF448=LEFT(F448,MIN(FIND(0,SUBSTITUTE(F448,{1,2,3,4,5,6,7,8,9},0)&0))-1)=FALSE\n),\"Check\",\"\")","v":""},"","",null,"",0,"","","","",""]
["SBSA_440","SBSA_440",null,null,null,null,null,null,null,null,null,null,null,null,null,null,null,null,null,null,null,null,null,null,null,null,"","",{"$f":"IF(OR(\nOR(AND(D449<>\"\",F449=\"\"),AND(E449<>\"\",F449=\"\")),\nF449=LEFT(F449,MIN(FIND(0,SUBSTITUTE(F449,{1,2,3,4,5,6,7,8,9},0)&0))-1)=FALSE\n),\"Check\",\"\")","v":""},"","",null,"",0,"","","","",""]
["SBSA_441","SBSA_441",null,null,null,null,null,null,null,null,null,null,null,null,null,null,null,null,null,null,null,null,null,null,null,null,"","",{"$f":"IF(OR(\nOR(AND(D450<>\"\",F450=\"\"),AND(E450<>\"\",F450=\"\")),\nF450=LEFT(F450,MIN(FIND(0,SUBSTITUTE(F450,{1,2,3,4,5,6,7,8,9},0)&0))-1)=FALSE\n),\"Check\",\"\")","v":""},"","",null,"",0,"","","","",""]
["SBSA_442","SBSA_442",null,null,null,null,null,null,null,null,null,null,null,null,null,null,null,null,null,null,null,null,null,null,null,null,"","",{"$f":"IF(OR(\nOR(AND(D451<>\"\",F451=\"\"),AND(E451<>\"\",F451=\"\")),\nF451=LEFT(F451,MIN(FIND(0,SUBSTITUTE(F451,{1,2,3,4,5,6,7,8,9},0)&0))-1)=FALSE\n),\"Check\",\"\")","v":""},"","",null,"",0,"","","","",""]
["SBSA_443","SBSA_443",null,null,null,null,null,null,null,null,null,null,null,null,null,null,null,null,null,null,null,null,null,null,null,null,"","",{"$f":"IF(OR(\nOR(AND(D452<>\"\",F452=\"\"),AND(E452<>\"\",F452=\"\")),\nF452=LEFT(F452,MIN(FIND(0,SUBSTITUTE(F452,{1,2,3,4,5,6,7,8,9},0)&0))-1)=FALSE\n),\"Check\",\"\")","v":""},"","",null,"",0,"","","","",""]
["SBSA_444","SBSA_444",null,null,null,null,null,null,null,null,null,null,null,null,null,null,null,null,null,null,null,null,null,null,null,null,"","",{"$f":"IF(OR(\nOR(AND(D453<>\"\",F453=\"\"),AND(E453<>\"\",F453=\"\")),\nF453=LEFT(F453,MIN(FIND(0,SUBSTITUTE(F453,{1,2,3,4,5,6,7,8,9},0)&0))-1)=FALSE\n),\"Check\",\"\")","v":""},"","",null,"",0,"","","","",""]
["SBSA_445","SBSA_445",null,null,null,null,null,null,null,null,null,null,null,null,null,null,null,null,null,null,null,null,null,null,null,null,"","",{"$f":"IF(OR(\nOR(AND(D454<>\"\",F454=\"\"),AND(E454<>\"\",F454=\"\")),\nF454=LEFT(F454,MIN(FIND(0,SUBSTITUTE(F454,{1,2,3,4,5,6,7,8,9},0)&0))-1)=FALSE\n),\"Check\",\"\")","v":""},"","",null,"",0,"","","","",""]
["SBSA_446","SBSA_446",null,null,null,null,null,null,null,null,null,null,null,null,null,null,null,null,null,null,null,null,null,null,null,null,"","",{"$f":"IF(OR(\nOR(AND(D455<>\"\",F455=\"\"),AND(E455<>\"\",F455=\"\")),\nF455=LEFT(F455,MIN(FIND(0,SUBSTITUTE(F455,{1,2,3,4,5,6,7,8,9},0)&0))-1)=FALSE\n),\"Check\",\"\")","v":""},"","",null,"",0,"","","","",""]
["SBSA_447","SBSA_447",null,null,null,null,null,null,null,null,null,null,null,null,null,null,null,null,null,null,null,null,null,null,null,null,"","",{"$f":"IF(OR(\nOR(AND(D456<>\"\",F456=\"\"),AND(E456<>\"\",F456=\"\")),\nF456=LEFT(F456,MIN(FIND(0,SUBSTITUTE(F456,{1,2,3,4,5,6,7,8,9},0)&0))-1)=FALSE\n),\"Check\",\"\")","v":""},"","",null,"",0,"","","","",""]
["SBSA_448","SBSA_448",null,null,null,null,null,null,null,null,null,null,null,null,null,null,null,null,null,null,null,null,null,null,null,null,"","",{"$f":"IF(OR(\nOR(AND(D457<>\"\",F457=\"\"),AND(E457<>\"\",F457=\"\")),\nF457=LEFT(F457,MIN(FIND(0,SUBSTITUTE(F457,{1,2,3,4,5,6,7,8,9},0)&0))-1)=FALSE\n),\"Check\",\"\")","v":""},"","",null,"",0,"","","","",""]
["SBSA_449","SBSA_449",null,null,null,null,null,null,null,null,null,null,null,null,null,null,null,null,null,null,null,null,null,null,null,null,{"$f":"IF(AND(C458=\"\",OR(D458<>\"\",E458<>\"\",F458<>\"\",G458<>\"\")),\"Check\",\"\")","v":""},{"$f":"IF(AND(C458<>\"\",OR(AND(D458=\"\",E458=\"\"),AND(D458=0,E458=0),AND(ABS(D458)>0,ABS(E458)>0))),\"Check\",\"\")","v":""},{"$f":"IF(OR(\nOR(AND(D458<>\"\",F458=\"\"),AND(E458<>\"\",F458=\"\")),\nF458=LEFT(F458,MIN(FIND(0,SUBSTITUTE(F458,{1,2,3,4,5,6,7,8,9},0)&0))-1)=FALSE\n),\"Check\",\"\")","v":""},{"$f":"IF(OR(E458=\"\",G458=\"\"),\"\",(E458*G458)/100)","v":""},{"$f":"IF(AND(F458<>\"\",G458=\"\"),\"Check\",\"\")","v":""},null,{"$f":"IF(C458=\"\",\"\",C458&\"_\"&IF(G458=\"\",0,G458))","v":""},{"$f":"IF(COUNTBLANK(C458:G458)<5,1,0)","v":0},{"$f":"IF(C458=\"\",\"\",IF(LEN(C458)=12,\"\",\"Check\"))","v":""},{"$f":"IF(C458=\"\",\"\",IF(COUNTIF(C$10:C$65536,C458)=COUNTIF(AG$10:AG$65536,AG458),\"\",\"Check\"))","v":""},{"$f":"IF(F458=\"\",\"\",IF(LEN(F458)=3,\"\",\"Check\"))","v":""},{"$f":"IF(OR(IF(D458=\"\",\"\",IF(ISNUMBER(D458)=TRUE,\"\",\"TEXT\"))=\"TEXT\",IF(E458=\"\",\"\",IF(ISNUMBER(E458)=TRUE,\"\",\"TEXT\"))=\"TEXT\",IF(G458=\"\",\"\",IF(ISNUMBER(G458)=TRUE,\"\",\"TEXT\"))=\"TEXT\"),\"Check\",\"\")","v":""},{"$f":"IF(G458<0,\"Check\",\"\")","v":""}]
["SBSA_450","SBSA_450",null,null,null,null,null,null,null,null,null,null,null,null,null,null,null,null,null,null,null,null,null,null,null,null,"","",{"$f":"IF(OR(\nOR(AND(D459<>\"\",F459=\"\"),AND(E459<>\"\",F459=\"\")),\nF459=LEFT(F459,MIN(FIND(0,SUBSTITUTE(F459,{1,2,3,4,5,6,7,8,9},0)&0))-1)=FALSE\n),\"Check\",\"\")","v":""},"","",null,"",0,"","","","",""]
["SBSA_451","SBSA_451",null,null,null,null,null,null,null,null,null,null,null,null,null,null,null,null,null,null,null,null,null,null,null,null,"","",{"$f":"IF(OR(\nOR(AND(D460<>\"\",F460=\"\"),AND(E460<>\"\",F460=\"\")),\nF460=LEFT(F460,MIN(FIND(0,SUBSTITUTE(F460,{1,2,3,4,5,6,7,8,9},0)&0))-1)=FALSE\n),\"Check\",\"\")","v":""},"","",null,"",0,"","","","",""]
["SBSA_452","SBSA_452",null,null,null,null,null,null,null,null,null,null,null,null,null,null,null,null,null,null,null,null,null,null,null,null,"","",{"$f":"IF(OR(\nOR(AND(D461<>\"\",F461=\"\"),AND(E461<>\"\",F461=\"\")),\nF461=LEFT(F461,MIN(FIND(0,SUBSTITUTE(F461,{1,2,3,4,5,6,7,8,9},0)&0))-1)=FALSE\n),\"Check\",\"\")","v":""},"","",null,"",0,"","","","",""]
["SBSA_453","SBSA_453",null,null,null,null,null,null,null,null,null,null,null,null,null,null,null,null,null,null,null,null,null,null,null,null,"","",{"$f":"IF(OR(\nOR(AND(D462<>\"\",F462=\"\"),AND(E462<>\"\",F462=\"\")),\nF462=LEFT(F462,MIN(FIND(0,SUBSTITUTE(F462,{1,2,3,4,5,6,7,8,9},0)&0))-1)=FALSE\n),\"Check\",\"\")","v":""},"","",null,"",0,"","","","",""]
["SBSA_454","SBSA_454",null,null,null,null,null,null,null,null,null,null,null,null,null,null,null,null,null,null,null,null,null,null,null,null,"","",{"$f":"IF(OR(\nOR(AND(D463<>\"\",F463=\"\"),AND(E463<>\"\",F463=\"\")),\nF463=LEFT(F463,MIN(FIND(0,SUBSTITUTE(F463,{1,2,3,4,5,6,7,8,9},0)&0))-1)=FALSE\n),\"Check\",\"\")","v":""},"","",null,"",0,"","","","",""]
["SBSA_455","SBSA_455",null,null,null,null,null,null,null,null,null,null,null,null,null,null,null,null,null,null,null,null,null,null,null,null,"","",{"$f":"IF(OR(\nOR(AND(D464<>\"\",F464=\"\"),AND(E464<>\"\",F464=\"\")),\nF464=LEFT(F464,MIN(FIND(0,SUBSTITUTE(F464,{1,2,3,4,5,6,7,8,9},0)&0))-1)=FALSE\n),\"Check\",\"\")","v":""},"","",null,"",0,"","","","",""]
["SBSA_456","SBSA_456",null,null,null,null,null,null,null,null,null,null,null,null,null,null,null,null,null,null,null,null,null,null,null,null,"","",{"$f":"IF(OR(\nOR(AND(D465<>\"\",F465=\"\"),AND(E465<>\"\",F465=\"\")),\nF465=LEFT(F465,MIN(FIND(0,SUBSTITUTE(F465,{1,2,3,4,5,6,7,8,9},0)&0))-1)=FALSE\n),\"Check\",\"\")","v":""},"","",null,"",0,"","","","",""]
["SBSA_457","SBSA_457",null,null,null,null,null,null,null,null,null,null,null,null,null,null,null,null,null,null,null,null,null,null,null,null,"","",{"$f":"IF(OR(\nOR(AND(D466<>\"\",F466=\"\"),AND(E466<>\"\",F466=\"\")),\nF466=LEFT(F466,MIN(FIND(0,SUBSTITUTE(F466,{1,2,3,4,5,6,7,8,9},0)&0))-1)=FALSE\n),\"Check\",\"\")","v":""},"","",null,"",0,"","","","",""]
["SBSA_458","SBSA_458",null,null,null,null,null,null,null,null,null,null,null,null,null,null,null,null,null,null,null,null,null,null,null,null,"","",{"$f":"IF(OR(\nOR(AND(D467<>\"\",F467=\"\"),AND(E467<>\"\",F467=\"\")),\nF467=LEFT(F467,MIN(FIND(0,SUBSTITUTE(F467,{1,2,3,4,5,6,7,8,9},0)&0))-1)=FALSE\n),\"Check\",\"\")","v":""},"","",null,"",0,"","","","",""]
["SBSA_459","SBSA_459",null,null,null,null,null,null,null,null,null,null,null,null,null,null,null,null,null,null,null,null,null,null,null,null,"","",{"$f":"IF(OR(\nOR(AND(D468<>\"\",F468=\"\"),AND(E468<>\"\",F468=\"\")),\nF468=LEFT(F468,MIN(FIND(0,SUBSTITUTE(F468,{1,2,3,4,5,6,7,8,9},0)&0))-1)=FALSE\n),\"Check\",\"\")","v":""},"","",null,"",0,"","","","",""]
["SBSA_460","SBSA_460",null,null,null,null,null,null,null,null,null,null,null,null,null,null,null,null,null,null,null,null,null,null,null,null,"","",{"$f":"IF(OR(\nOR(AND(D469<>\"\",F469=\"\"),AND(E469<>\"\",F469=\"\")),\nF469=LEFT(F469,MIN(FIND(0,SUBSTITUTE(F469,{1,2,3,4,5,6,7,8,9},0)&0))-1)=FALSE\n),\"Check\",\"\")","v":""},"","",null,"",0,"","","","",""]
["SBSA_461","SBSA_461",null,null,null,null,null,null,null,null,null,null,null,null,null,null,null,null,null,null,null,null,null,null,null,null,"","",{"$f":"IF(OR(\nOR(AND(D470<>\"\",F470=\"\"),AND(E470<>\"\",F470=\"\")),\nF470=LEFT(F470,MIN(FIND(0,SUBSTITUTE(F470,{1,2,3,4,5,6,7,8,9},0)&0))-1)=FALSE\n),\"Check\",\"\")","v":""},"","",null,"",0,"","","","",""]
["SBSA_462","SBSA_462",null,null,null,null,null,null,null,null,null,null,null,null,null,null,null,null,null,null,null,null,null,null,null,null,"","",{"$f":"IF(OR(\nOR(AND(D471<>\"\",F471=\"\"),AND(E471<>\"\",F471=\"\")),\nF471=LEFT(F471,MIN(FIND(0,SUBSTITUTE(F471,{1,2,3,4,5,6,7,8,9},0)&0))-1)=FALSE\n),\"Check\",\"\")","v":""},"","",null,"",0,"","","","",""]
["SBSA_463","SBSA_463",null,null,null,null,null,null,null,null,null,null,null,null,null,null,null,null,null,null,null,null,null,null,null,null,"","",{"$f":"IF(OR(\nOR(AND(D472<>\"\",F472=\"\"),AND(E472<>\"\",F472=\"\")),\nF472=LEFT(F472,MIN(FIND(0,SUBSTITUTE(F472,{1,2,3,4,5,6,7,8,9},0)&0))-1)=FALSE\n),\"Check\",\"\")","v":""},"","",null,"",0,"","","","",""]
["SBSA_464","SBSA_464",null,null,null,null,null,null,null,null,null,null,null,null,null,null,null,null,null,null,null,null,null,null,null,null,"","",{"$f":"IF(OR(\nOR(AND(D473<>\"\",F473=\"\"),AND(E473<>\"\",F473=\"\")),\nF473=LEFT(F473,MIN(FIND(0,SUBSTITUTE(F473,{1,2,3,4,5,6,7,8,9},0)&0))-1)=FALSE\n),\"Check\",\"\")","v":""},"","",null,"",0,"","","","",""]
["SBSA_465","SBSA_465",null,null,null,null,null,null,null,null,null,null,null,null,null,null,null,null,null,null,null,null,null,null,null,null,"","",{"$f":"IF(OR(\nOR(AND(D474<>\"\",F474=\"\"),AND(E474<>\"\",F474=\"\")),\nF474=LEFT(F474,MIN(FIND(0,SUBSTITUTE(F474,{1,2,3,4,5,6,7,8,9},0)&0))-1)=FALSE\n),\"Check\",\"\")","v":""},"","",null,"",0,"","","","",""]
["SBSA_466","SBSA_466",null,null,null,null,null,null,null,null,null,null,null,null,null,null,null,null,null,null,null,null,null,null,null,null,"","",{"$f":"IF(OR(\nOR(AND(D475<>\"\",F475=\"\"),AND(E475<>\"\",F475=\"\")),\nF475=LEFT(F475,MIN(FIND(0,SUBSTITUTE(F475,{1,2,3,4,5,6,7,8,9},0)&0))-1)=FALSE\n),\"Check\",\"\")","v":""},"","",null,"",0,"","","","",""]
["SBSA_467","SBSA_467",null,null,null,null,null,null,null,null,null,null,null,null,null,null,null,null,null,null,null,null,null,null,null,null,"","",{"$f":"IF(OR(\nOR(AND(D476<>\"\",F476=\"\"),AND(E476<>\"\",F476=\"\")),\nF476=LEFT(F476,MIN(FIND(0,SUBSTITUTE(F476,{1,2,3,4,5,6,7,8,9},0)&0))-1)=FALSE\n),\"Check\",\"\")","v":""},"","",null,"",0,"","","","",""]
["SBSA_468","SBSA_468",null,null,null,null,null,null,null,null,null,null,null,null,null,null,null,null,null,null,null,null,null,null,null,null,"","",{"$f":"IF(OR(\nOR(AND(D477<>\"\",F477=\"\"),AND(E477<>\"\",F477=\"\")),\nF477=LEFT(F477,MIN(FIND(0,SUBSTITUTE(F477,{1,2,3,4,5,6,7,8,9},0)&0))-1)=FALSE\n),\"Check\",\"\")","v":""},"","",null,"",0,"","","","",""]
["SBSA_469","SBSA_469",null,null,null,null,null,null,null,null,null,null,null,null,null,null,null,null,null,null,null,null,null,null,null,null,"","",{"$f":"IF(OR(\nOR(AND(D478<>\"\",F478=\"\"),AND(E478<>\"\",F478=\"\")),\nF478=LEFT(F478,MIN(FIND(0,SUBSTITUTE(F478,{1,2,3,4,5,6,7,8,9},0)&0))-1)=FALSE\n),\"Check\",\"\")","v":""},"","",null,"",0,"","","","",""]
["SBSA_470","SBSA_470",null,null,null,null,null,null,null,null,null,null,null,null,null,null,null,null,null,null,null,null,null,null,null,null,"","",{"$f":"IF(OR(\nOR(AND(D479<>\"\",F479=\"\"),AND(E479<>\"\",F479=\"\")),\nF479=LEFT(F479,MIN(FIND(0,SUBSTITUTE(F479,{1,2,3,4,5,6,7,8,9},0)&0))-1)=FALSE\n),\"Check\",\"\")","v":""},"","",null,"",0,"","","","",""]
["SBSA_471","SBSA_471",null,null,null,null,null,null,null,null,null,null,null,null,null,null,null,null,null,null,null,null,null,null,null,null,"","",{"$f":"IF(OR(\nOR(AND(D480<>\"\",F480=\"\"),AND(E480<>\"\",F480=\"\")),\nF480=LEFT(F480,MIN(FIND(0,SUBSTITUTE(F480,{1,2,3,4,5,6,7,8,9},0)&0))-1)=FALSE\n),\"Check\",\"\")","v":""},"","",null,"",0,"","","","",""]
["SBSA_472","SBSA_472",null,null,null,null,null,null,null,null,null,null,null,null,null,null,null,null,null,null,null,null,null,null,null,null,"","",{"$f":"IF(OR(\nOR(AND(D481<>\"\",F481=\"\"),AND(E481<>\"\",F481=\"\")),\nF481=LEFT(F481,MIN(FIND(0,SUBSTITUTE(F481,{1,2,3,4,5,6,7,8,9},0)&0))-1)=FALSE\n),\"Check\",\"\")","v":""},"","",null,"",0,"","","","",""]
["SBSA_473","SBSA_473",null,null,null,null,null,null,null,null,null,null,null,null,null,null,null,null,null,null,null,null,null,null,null,null,"","",{"$f":"IF(OR(\nOR(AND(D482<>\"\",F482=\"\"),AND(E482<>\"\",F482=\"\")),\nF482=LEFT(F482,MIN(FIND(0,SUBSTITUTE(F482,{1,2,3,4,5,6,7,8,9},0)&0))-1)=FALSE\n),\"Check\",\"\")","v":""},"","",null,"",0,"","","","",""]
["SBSA_474","SBSA_474",null,null,null,null,null,null,null,null,null,null,null,null,null,null,null,null,null,null,null,null,null,null,null,null,"","",{"$f":"IF(OR(\nOR(AND(D483<>\"\",F483=\"\"),AND(E483<>\"\",F483=\"\")),\nF483=LEFT(F483,MIN(FIND(0,SUBSTITUTE(F483,{1,2,3,4,5,6,7,8,9},0)&0))-1)=FALSE\n),\"Check\",\"\")","v":""},"","",null,"",0,"","","","",""]
["SBSA_475","SBSA_475",null,null,null,null,null,null,null,null,null,null,null,null,null,null,null,null,null,null,null,null,null,null,null,null,"","",{"$f":"IF(OR(\nOR(AND(D484<>\"\",F484=\"\"),AND(E484<>\"\",F484=\"\")),\nF484=LEFT(F484,MIN(FIND(0,SUBSTITUTE(F484,{1,2,3,4,5,6,7,8,9},0)&0))-1)=FALSE\n),\"Check\",\"\")","v":""},"","",null,"",0,"","","","",""]
["SBSA_476","SBSA_476",null,null,null,null,null,null,null,null,null,null,null,null,null,null,null,null,null,null,null,null,null,null,null,null,"","",{"$f":"IF(OR(\nOR(AND(D485<>\"\",F485=\"\"),AND(E485<>\"\",F485=\"\")),\nF485=LEFT(F485,MIN(FIND(0,SUBSTITUTE(F485,{1,2,3,4,5,6,7,8,9},0)&0))-1)=FALSE\n),\"Check\",\"\")","v":""},"","",null,"",0,"","","","",""]
["SBSA_477","SBSA_477",null,null,null,null,null,null,null,null,null,null,null,null,null,null,null,null,null,null,null,null,null,null,null,null,"","",{"$f":"IF(OR(\nOR(AND(D486<>\"\",F486=\"\"),AND(E486<>\"\",F486=\"\")),\nF486=LEFT(F486,MIN(FIND(0,SUBSTITUTE(F486,{1,2,3,4,5,6,7,8,9},0)&0))-1)=FALSE\n),\"Check\",\"\")","v":""},"","",null,"",0,"","","","",""]
["SBSA_478","SBSA_478",null,null,null,null,null,null,null,null,null,null,null,null,null,null,null,null,null,null,null,null,null,null,null,null,"","",{"$f":"IF(OR(\nOR(AND(D487<>\"\",F487=\"\"),AND(E487<>\"\",F487=\"\")),\nF487=LEFT(F487,MIN(FIND(0,SUBSTITUTE(F487,{1,2,3,4,5,6,7,8,9},0)&0))-1)=FALSE\n),\"Check\",\"\")","v":""},"","",null,"",0,"","","","",""]
["SBSA_479","SBSA_479",null,null,null,null,null,null,null,null,null,null,null,null,null,null,null,null,null,null,null,null,null,null,null,null,"","",{"$f":"IF(OR(\nOR(AND(D488<>\"\",F488=\"\"),AND(E488<>\"\",F488=\"\")),\nF488=LEFT(F488,MIN(FIND(0,SUBSTITUTE(F488,{1,2,3,4,5,6,7,8,9},0)&0))-1)=FALSE\n),\"Check\",\"\")","v":""},"","",null,"",0,"","","","",""]
["SBSA_480","SBSA_480",null,null,null,null,null,null,null,null,null,null,null,null,null,null,null,null,null,null,null,null,null,null,null,null,"","",{"$f":"IF(OR(\nOR(AND(D489<>\"\",F489=\"\"),AND(E489<>\"\",F489=\"\")),\nF489=LEFT(F489,MIN(FIND(0,SUBSTITUTE(F489,{1,2,3,4,5,6,7,8,9},0)&0))-1)=FALSE\n),\"Check\",\"\")","v":""},"","",null,"",0,"","","","",""]
["SBSA_481","SBSA_481",null,null,null,null,null,null,null,null,null,null,null,null,null,null,null,null,null,null,null,null,null,null,null,null,"","",{"$f":"IF(OR(\nOR(AND(D490<>\"\",F490=\"\"),AND(E490<>\"\",F490=\"\")),\nF490=LEFT(F490,MIN(FIND(0,SUBSTITUTE(F490,{1,2,3,4,5,6,7,8,9},0)&0))-1)=FALSE\n),\"Check\",\"\")","v":""},"","",null,"",0,"","","","",""]
["SBSA_482","SBSA_482",null,null,null,null,null,null,null,null,null,null,null,null,null,null,null,null,null,null,null,null,null,null,null,null,"","",{"$f":"IF(OR(\nOR(AND(D491<>\"\",F491=\"\"),AND(E491<>\"\",F491=\"\")),\nF491=LEFT(F491,MIN(FIND(0,SUBSTITUTE(F491,{1,2,3,4,5,6,7,8,9},0)&0))-1)=FALSE\n),\"Check\",\"\")","v":""},"","",null,"",0,"","","","",""]
["SBSA_483","SBSA_483",null,null,null,null,null,null,null,null,null,null,null,null,null,null,null,null,null,null,null,null,null,null,null,null,"","",{"$f":"IF(OR(\nOR(AND(D492<>\"\",F492=\"\"),AND(E492<>\"\",F492=\"\")),\nF492=LEFT(F492,MIN(FIND(0,SUBSTITUTE(F492,{1,2,3,4,5,6,7,8,9},0)&0))-1)=FALSE\n),\"Check\",\"\")","v":""},"","",null,"",0,"","","","",""]
["SBSA_484","SBSA_484",null,null,null,null,null,null,null,null,null,null,null,null,null,null,null,null,null,null,null,null,null,null,null,null,"","",{"$f":"IF(OR(\nOR(AND(D493<>\"\",F493=\"\"),AND(E493<>\"\",F493=\"\")),\nF493=LEFT(F493,MIN(FIND(0,SUBSTITUTE(F493,{1,2,3,4,5,6,7,8,9},0)&0))-1)=FALSE\n),\"Check\",\"\")","v":""},"","",null,"",0,"","","","",""]
["SBSA_485","SBSA_485",null,null,null,null,null,null,null,null,null,null,null,null,null,null,null,null,null,null,null,null,null,null,null,null,"","",{"$f":"IF(OR(\nOR(AND(D494<>\"\",F494=\"\"),AND(E494<>\"\",F494=\"\")),\nF494=LEFT(F494,MIN(FIND(0,SUBSTITUTE(F494,{1,2,3,4,5,6,7,8,9},0)&0))-1)=FALSE\n),\"Check\",\"\")","v":""},"","",null,"",0,"","","","",""]
["SBSA_486","SBSA_486",null,null,null,null,null,null,null,null,null,null,null,null,null,null,null,null,null,null,null,null,null,null,null,null,"","",{"$f":"IF(OR(\nOR(AND(D495<>\"\",F495=\"\"),AND(E495<>\"\",F495=\"\")),\nF495=LEFT(F495,MIN(FIND(0,SUBSTITUTE(F495,{1,2,3,4,5,6,7,8,9},0)&0))-1)=FALSE\n),\"Check\",\"\")","v":""},"","",null,"",0,"","","","",""]
["SBSA_487","SBSA_487",null,null,null,null,null,null,null,null,null,null,null,null,null,null,null,null,null,null,null,null,null,null,null,null,"","",{"$f":"IF(OR(\nOR(AND(D496<>\"\",F496=\"\"),AND(E496<>\"\",F496=\"\")),\nF496=LEFT(F496,MIN(FIND(0,SUBSTITUTE(F496,{1,2,3,4,5,6,7,8,9},0)&0))-1)=FALSE\n),\"Check\",\"\")","v":""},"","",null,"",0,"","","","",""]
["SBSA_488","SBSA_488",null,null,null,null,null,null,null,null,null,null,null,null,null,null,null,null,null,null,null,null,null,null,null,null,"","",{"$f":"IF(OR(\nOR(AND(D497<>\"\",F497=\"\"),AND(E497<>\"\",F497=\"\")),\nF497=LEFT(F497,MIN(FIND(0,SUBSTITUTE(F497,{1,2,3,4,5,6,7,8,9},0)&0))-1)=FALSE\n),\"Check\",\"\")","v":""},"","",null,"",0,"","","","",""]
["SBSA_489","SBSA_489",null,null,null,null,null,null,null,null,null,null,null,null,null,null,null,null,null,null,null,null,null,null,null,null,"","",{"$f":"IF(OR(\nOR(AND(D498<>\"\",F498=\"\"),AND(E498<>\"\",F498=\"\")),\nF498=LEFT(F498,MIN(FIND(0,SUBSTITUTE(F498,{1,2,3,4,5,6,7,8,9},0)&0))-1)=FALSE\n),\"Check\",\"\")","v":""},"","",null,"",0,"","","","",""]
["SBSA_490","SBSA_490",null,null,null,null,null,null,null,null,null,null,null,null,null,null,null,null,null,null,null,null,null,null,null,null,"","",{"$f":"IF(OR(\nOR(AND(D499<>\"\",F499=\"\"),AND(E499<>\"\",F499=\"\")),\nF499=LEFT(F499,MIN(FIND(0,SUBSTITUTE(F499,{1,2,3,4,5,6,7,8,9},0)&0))-1)=FALSE\n),\"Check\",\"\")","v":""},"","",null,"",0,"","","","",""]
["SBSA_491","SBSA_491",null,null,null,null,null,null,null,null,null,null,null,null,null,null,null,null,null,null,null,null,null,null,null,null,"","",{"$f":"IF(OR(\nOR(AND(D500<>\"\",F500=\"\"),AND(E500<>\"\",F500=\"\")),\nF500=LEFT(F500,MIN(FIND(0,SUBSTITUTE(F500,{1,2,3,4,5,6,7,8,9},0)&0))-1)=FALSE\n),\"Check\",\"\")","v":""},"","",null,"",0,"","","","",""]
["SBSA_492","SBSA_492",null,null,null,null,null,null,null,null,null,null,null,null,null,null,null,null,null,null,null,null,null,null,null,null,"","",{"$f":"IF(OR(\nOR(AND(D501<>\"\",F501=\"\"),AND(E501<>\"\",F501=\"\")),\nF501=LEFT(F501,MIN(FIND(0,SUBSTITUTE(F501,{1,2,3,4,5,6,7,8,9},0)&0))-1)=FALSE\n),\"Check\",\"\")","v":""},"","",null,"",0,"","","","",""]
["SBSA_493","SBSA_493",null,null,null,null,null,null,null,null,null,null,null,null,null,null,null,null,null,null,null,null,null,null,null,null,"","",{"$f":"IF(OR(\nOR(AND(D502<>\"\",F502=\"\"),AND(E502<>\"\",F502=\"\")),\nF502=LEFT(F502,MIN(FIND(0,SUBSTITUTE(F502,{1,2,3,4,5,6,7,8,9},0)&0))-1)=FALSE\n),\"Check\",\"\")","v":""},"","",null,"",0,"","","","",""]
["SBSA_494","SBSA_494",null,null,null,null,null,null,null,null,null,null,null,null,null,null,null,null,null,null,null,null,null,null,null,null,"","",{"$f":"IF(OR(\nOR(AND(D503<>\"\",F503=\"\"),AND(E503<>\"\",F503=\"\")),\nF503=LEFT(F503,MIN(FIND(0,SUBSTITUTE(F503,{1,2,3,4,5,6,7,8,9},0)&0))-1)=FALSE\n),\"Check\",\"\")","v":""},"","",null,"",0,"","","","",""]
["SBSA_495","SBSA_495",null,null,null,null,null,null,null,null,null,null,null,null,null,null,null,null,null,null,null,null,null,null,null,null,"","",{"$f":"IF(OR(\nOR(AND(D504<>\"\",F504=\"\"),AND(E504<>\"\",F504=\"\")),\nF504=LEFT(F504,MIN(FIND(0,SUBSTITUTE(F504,{1,2,3,4,5,6,7,8,9},0)&0))-1)=FALSE\n),\"Check\",\"\")","v":""},"","",null,"",0,"","","","",""]
["SBSA_496","SBSA_496",null,null,null,null,null,null,null,null,null,null,null,null,null,null,null,null,null,null,null,null,null,null,null,null,"","",{"$f":"IF(OR(\nOR(AND(D505<>\"\",F505=\"\"),AND(E505<>\"\",F505=\"\")),\nF505=LEFT(F505,MIN(FIND(0,SUBSTITUTE(F505,{1,2,3,4,5,6,7,8,9},0)&0))-1)=FALSE\n),\"Check\",\"\")","v":""},"","",null,"",0,"","","","",""]
["SBSA_497","SBSA_497",null,null,null,null,null,null,null,null,null,null,null,null,null,null,null,null,null,null,null,null,null,null,null,null,"","",{"$f":"IF(OR(\nOR(AND(D506<>\"\",F506=\"\"),AND(E506<>\"\",F506=\"\")),\nF506=LEFT(F506,MIN(FIND(0,SUBSTITUTE(F506,{1,2,3,4,5,6,7,8,9},0)&0))-1)=FALSE\n),\"Check\",\"\")","v":""},"","",null,"",0,"","","","",""]
["SBSA_498","SBSA_498",null,null,null,null,null,null,null,null,null,null,null,null,null,null,null,null,null,null,null,null,null,null,null,null,"","",{"$f":"IF(OR(\nOR(AND(D507<>\"\",F507=\"\"),AND(E507<>\"\",F507=\"\")),\nF507=LEFT(F507,MIN(FIND(0,SUBSTITUTE(F507,{1,2,3,4,5,6,7,8,9},0)&0))-1)=FALSE\n),\"Check\",\"\")","v":""},"","",null,"",0,"","","","",""]
["SBSA_499","SBSA_499",null,null,null,null,null,null,null,null,null,null,null,null,null,null,null,null,null,null,null,null,null,null,null,null,"","",{"$f":"IF(OR(\nOR(AND(D508<>\"\",F508=\"\"),AND(E508<>\"\",F508=\"\")),\nF508=LEFT(F508,MIN(FIND(0,SUBSTITUTE(F508,{1,2,3,4,5,6,7,8,9},0)&0))-1)=FALSE\n),\"Check\",\"\")","v":""},"","",null,"",0,"","","","",""]
["SBSA_500","SBSA_500",null,null,null,null,null,null,null,null,null,null,null,null,null,null,null,null,null,null,null,null,null,null,null,null,"","",{"$f":"IF(OR(\nOR(AND(D509<>\"\",F509=\"\"),AND(E509<>\"\",F509=\"\")),\nF509=LEFT(F509,MIN(FIND(0,SUBSTITUTE(F509,{1,2,3,4,5,6,7,8,9},0)&0))-1)=FALSE\n),\"Check\",\"\")","v":""},"","",null,"",0,"","","","",""]
["SBSA_501","SBSA_501",null,null,null,null,null,null,null,null,null,null,null,null,null,null,null,null,null,null,null,null,null,null,null,null,"","",{"$f":"IF(OR(\nOR(AND(D510<>\"\",F510=\"\"),AND(E510<>\"\",F510=\"\")),\nF510=LEFT(F510,MIN(FIND(0,SUBSTITUTE(F510,{1,2,3,4,5,6,7,8,9},0)&0))-1)=FALSE\n),\"Check\",\"\")","v":""},"","",null,"",0,"","","","",""]
["SBSA_502","SBSA_502",null,null,null,null,null,null,null,null,null,null,null,null,null,null,null,null,null,null,null,null,null,null,null,null,"","",{"$f":"IF(OR(\nOR(AND(D511<>\"\",F511=\"\"),AND(E511<>\"\",F511=\"\")),\nF511=LEFT(F511,MIN(FIND(0,SUBSTITUTE(F511,{1,2,3,4,5,6,7,8,9},0)&0))-1)=FALSE\n),\"Check\",\"\")","v":""},"","",null,"",0,"","","","",""]
["SBSA_503","SBSA_503",null,null,null,null,null,null,null,null,null,null,null,null,null,null,null,null,null,null,null,null,null,null,null,null,"","",{"$f":"IF(OR(\nOR(AND(D512<>\"\",F512=\"\"),AND(E512<>\"\",F512=\"\")),\nF512=LEFT(F512,MIN(FIND(0,SUBSTITUTE(F512,{1,2,3,4,5,6,7,8,9},0)&0))-1)=FALSE\n),\"Check\",\"\")","v":""},"","",null,"",0,"","","","",""]
["SBSA_504","SBSA_504",null,null,null,null,null,null,null,null,null,null,null,null,null,null,null,null,null,null,null,null,null,null,null,null,"","",{"$f":"IF(OR(\nOR(AND(D513<>\"\",F513=\"\"),AND(E513<>\"\",F513=\"\")),\nF513=LEFT(F513,MIN(FIND(0,SUBSTITUTE(F513,{1,2,3,4,5,6,7,8,9},0)&0))-1)=FALSE\n),\"Check\",\"\")","v":""},"","",null,"",0,"","","","",""]
["SBSA_505","SBSA_505",null,null,null,null,null,null,null,null,null,null,null,null,null,null,null,null,null,null,null,null,null,null,null,null,"","",{"$f":"IF(OR(\nOR(AND(D514<>\"\",F514=\"\"),AND(E514<>\"\",F514=\"\")),\nF514=LEFT(F514,MIN(FIND(0,SUBSTITUTE(F514,{1,2,3,4,5,6,7,8,9},0)&0))-1)=FALSE\n),\"Check\",\"\")","v":""},"","",null,"",0,"","","","",""]
["SBSA_506","SBSA_506",null,null,null,null,null,null,null,null,null,null,null,null,null,null,null,null,null,null,null,null,null,null,null,null,"","",{"$f":"IF(OR(\nOR(AND(D515<>\"\",F515=\"\"),AND(E515<>\"\",F515=\"\")),\nF515=LEFT(F515,MIN(FIND(0,SUBSTITUTE(F515,{1,2,3,4,5,6,7,8,9},0)&0))-1)=FALSE\n),\"Check\",\"\")","v":""},"","",null,"",0,"","","","",""]
["SBSA_507","SBSA_507",null,null,null,null,null,null,null,null,null,null,null,null,null,null,null,null,null,null,null,null,null,null,null,null,"","",{"$f":"IF(OR(\nOR(AND(D516<>\"\",F516=\"\"),AND(E516<>\"\",F516=\"\")),\nF516=LEFT(F516,MIN(FIND(0,SUBSTITUTE(F516,{1,2,3,4,5,6,7,8,9},0)&0))-1)=FALSE\n),\"Check\",\"\")","v":""},"","",null,"",0,"","","","",""]
["SBSA_508","SBSA_508",null,null,null,null,null,null,null,null,null,null,null,null,null,null,null,null,null,null,null,null,null,null,null,null,"","",{"$f":"IF(OR(\nOR(AND(D517<>\"\",F517=\"\"),AND(E517<>\"\",F517=\"\")),\nF517=LEFT(F517,MIN(FIND(0,SUBSTITUTE(F517,{1,2,3,4,5,6,7,8,9},0)&0))-1)=FALSE\n),\"Check\",\"\")","v":""},"","",null,"",0,"","","","",""]
["SBSA_509","SBSA_509",null,null,null,null,null,null,null,null,null,null,null,null,null,null,null,null,null,null,null,null,null,null,null,null,"","",{"$f":"IF(OR(\nOR(AND(D518<>\"\",F518=\"\"),AND(E518<>\"\",F518=\"\")),\nF518=LEFT(F518,MIN(FIND(0,SUBSTITUTE(F518,{1,2,3,4,5,6,7,8,9},0)&0))-1)=FALSE\n),\"Check\",\"\")","v":""},"","",null,"",0,"","","","",""]
["SBSA_510","SBSA_510",null,null,null,null,null,null,null,null,null,null,null,null,null,null,null,null,null,null,null,null,null,null,null,null,"","",{"$f":"IF(OR(\nOR(AND(D519<>\"\",F519=\"\"),AND(E519<>\"\",F519=\"\")),\nF519=LEFT(F519,MIN(FIND(0,SUBSTITUTE(F519,{1,2,3,4,5,6,7,8,9},0)&0))-1)=FALSE\n),\"Check\",\"\")","v":""},"","",null,"",0,"","","","",""]
["SBSA_511","SBSA_511",null,null,null,null,null,null,null,null,null,null,null,null,null,null,null,null,null,null,null,null,null,null,null,null,"","",{"$f":"IF(OR(\nOR(AND(D520<>\"\",F520=\"\"),AND(E520<>\"\",F520=\"\")),\nF520=LEFT(F520,MIN(FIND(0,SUBSTITUTE(F520,{1,2,3,4,5,6,7,8,9},0)&0))-1)=FALSE\n),\"Check\",\"\")","v":""},"","",null,"",0,"","","","",""]
["SBSA_512","SBSA_512",null,null,null,null,null,null,null,null,null,null,null,null,null,null,null,null,null,null,null,null,null,null,null,null,"","",{"$f":"IF(OR(\nOR(AND(D521<>\"\",F521=\"\"),AND(E521<>\"\",F521=\"\")),\nF521=LEFT(F521,MIN(FIND(0,SUBSTITUTE(F521,{1,2,3,4,5,6,7,8,9},0)&0))-1)=FALSE\n),\"Check\",\"\")","v":""},"","",null,"",0,"","","","",""]
["SBSA_513","SBSA_513",null,null,null,null,null,null,null,null,null,null,null,null,null,null,null,null,null,null,null,null,null,null,null,null,{"$f":"IF(AND(C522=\"\",OR(D522<>\"\",E522<>\"\",F522<>\"\",G522<>\"\")),\"Check\",\"\")","v":""},{"$f":"IF(AND(C522<>\"\",OR(AND(D522=\"\",E522=\"\"),AND(D522=0,E522=0),AND(ABS(D522)>0,ABS(E522)>0))),\"Check\",\"\")","v":""},{"$f":"IF(OR(\nOR(AND(D522<>\"\",F522=\"\"),AND(E522<>\"\",F522=\"\")),\nF522=LEFT(F522,MIN(FIND(0,SUBSTITUTE(F522,{1,2,3,4,5,6,7,8,9},0)&0))-1)=FALSE\n),\"Check\",\"\")","v":""},{"$f":"IF(OR(E522=\"\",G522=\"\"),\"\",(E522*G522)/100)","v":""},{"$f":"IF(AND(F522<>\"\",G522=\"\"),\"Check\",\"\")","v":""},null,{"$f":"IF(C522=\"\",\"\",C522&\"_\"&IF(G522=\"\",0,G522))","v":""},{"$f":"IF(COUNTBLANK(C522:G522)<5,1,0)","v":0},{"$f":"IF(C522=\"\",\"\",IF(LEN(C522)=12,\"\",\"Check\"))","v":""},{"$f":"IF(C522=\"\",\"\",IF(COUNTIF(C$10:C$65536,C522)=COUNTIF(AG$10:AG$65536,AG522),\"\",\"Check\"))","v":""},{"$f":"IF(F522=\"\",\"\",IF(LEN(F522)=3,\"\",\"Check\"))","v":""},{"$f":"IF(OR(IF(D522=\"\",\"\",IF(ISNUMBER(D522)=TRUE,\"\",\"TEXT\"))=\"TEXT\",IF(E522=\"\",\"\",IF(ISNUMBER(E522)=TRUE,\"\",\"TEXT\"))=\"TEXT\",IF(G522=\"\",\"\",IF(ISNUMBER(G522)=TRUE,\"\",\"TEXT\"))=\"TEXT\"),\"Check\",\"\")","v":""},{"$f":"IF(G522<0,\"Check\",\"\")","v":""}]
["SBSA_514","SBSA_514",null,null,null,null,null,null,null,null,null,null,null,null,null,null,null,null,null,null,null,null,null,null,null,null,"","",{"$f":"IF(OR(\nOR(AND(D523<>\"\",F523=\"\"),AND(E523<>\"\",F523=\"\")),\nF523=LEFT(F523,MIN(FIND(0,SUBSTITUTE(F523,{1,2,3,4,5,6,7,8,9},0)&0))-1)=FALSE\n),\"Check\",\"\")","v":""},"","",null,"",0,"","","","",""]
["SBSA_515","SBSA_515",null,null,null,null,null,null,null,null,null,null,null,null,null,null,null,null,null,null,null,null,null,null,null,null,"","",{"$f":"IF(OR(\nOR(AND(D524<>\"\",F524=\"\"),AND(E524<>\"\",F524=\"\")),\nF524=LEFT(F524,MIN(FIND(0,SUBSTITUTE(F524,{1,2,3,4,5,6,7,8,9},0)&0))-1)=FALSE\n),\"Check\",\"\")","v":""},"","",null,"",0,"","","","",""]
["SBSA_516","SBSA_516",null,null,null,null,null,null,null,null,null,null,null,null,null,null,null,null,null,null,null,null,null,null,null,null,"","",{"$f":"IF(OR(\nOR(AND(D525<>\"\",F525=\"\"),AND(E525<>\"\",F525=\"\")),\nF525=LEFT(F525,MIN(FIND(0,SUBSTITUTE(F525,{1,2,3,4,5,6,7,8,9},0)&0))-1)=FALSE\n),\"Check\",\"\")","v":""},"","",null,"",0,"","","","",""]
["SBSA_517","SBSA_517",null,null,null,null,null,null,null,null,null,null,null,null,null,null,null,null,null,null,null,null,null,null,null,null,"","",{"$f":"IF(OR(\nOR(AND(D526<>\"\",F526=\"\"),AND(E526<>\"\",F526=\"\")),\nF526=LEFT(F526,MIN(FIND(0,SUBSTITUTE(F526,{1,2,3,4,5,6,7,8,9},0)&0))-1)=FALSE\n),\"Check\",\"\")","v":""},"","",null,"",0,"","","","",""]
["SBSA_518","SBSA_518",null,null,null,null,null,null,null,null,null,null,null,null,null,null,null,null,null,null,null,null,null,null,null,null,"","",{"$f":"IF(OR(\nOR(AND(D527<>\"\",F527=\"\"),AND(E527<>\"\",F527=\"\")),\nF527=LEFT(F527,MIN(FIND(0,SUBSTITUTE(F527,{1,2,3,4,5,6,7,8,9},0)&0))-1)=FALSE\n),\"Check\",\"\")","v":""},"","",null,"",0,"","","","",""]
["SBSA_519","SBSA_519",null,null,null,null,null,null,null,null,null,null,null,null,null,null,null,null,null,null,null,null,null,null,null,null,"","",{"$f":"IF(OR(\nOR(AND(D528<>\"\",F528=\"\"),AND(E528<>\"\",F528=\"\")),\nF528=LEFT(F528,MIN(FIND(0,SUBSTITUTE(F528,{1,2,3,4,5,6,7,8,9},0)&0))-1)=FALSE\n),\"Check\",\"\")","v":""},"","",null,"",0,"","","","",""]
["SBSA_520","SBSA_520",null,null,null,null,null,null,null,null,null,null,null,null,null,null,null,null,null,null,null,null,null,null,null,null,"","",{"$f":"IF(OR(\nOR(AND(D529<>\"\",F529=\"\"),AND(E529<>\"\",F529=\"\")),\nF529=LEFT(F529,MIN(FIND(0,SUBSTITUTE(F529,{1,2,3,4,5,6,7,8,9},0)&0))-1)=FALSE\n),\"Check\",\"\")","v":""},"","",null,"",0,"","","","",""]
["SBSA_521","SBSA_521",null,null,null,null,null,null,null,null,null,null,null,null,null,null,null,null,null,null,null,null,null,null,null,null,"","",{"$f":"IF(OR(\nOR(AND(D530<>\"\",F530=\"\"),AND(E530<>\"\",F530=\"\")),\nF530=LEFT(F530,MIN(FIND(0,SUBSTITUTE(F530,{1,2,3,4,5,6,7,8,9},0)&0))-1)=FALSE\n),\"Check\",\"\")","v":""},"","",null,"",0,"","","","",""]
["SBSA_522","SBSA_522",null,null,null,null,null,null,null,null,null,null,null,null,null,null,null,null,null,null,null,null,null,null,null,null,"","",{"$f":"IF(OR(\nOR(AND(D531<>\"\",F531=\"\"),AND(E531<>\"\",F531=\"\")),\nF531=LEFT(F531,MIN(FIND(0,SUBSTITUTE(F531,{1,2,3,4,5,6,7,8,9},0)&0))-1)=FALSE\n),\"Check\",\"\")","v":""},"","",null,"",0,"","","","",""]
["SBSA_523","SBSA_523",null,null,null,null,null,null,null,null,null,null,null,null,null,null,null,null,null,null,null,null,null,null,null,null,"","",{"$f":"IF(OR(\nOR(AND(D532<>\"\",F532=\"\"),AND(E532<>\"\",F532=\"\")),\nF532=LEFT(F532,MIN(FIND(0,SUBSTITUTE(F532,{1,2,3,4,5,6,7,8,9},0)&0))-1)=FALSE\n),\"Check\",\"\")","v":""},"","",null,"",0,"","","","",""]
["SBSA_524","SBSA_524",null,null,null,null,null,null,null,null,null,null,null,null,null,null,null,null,null,null,null,null,null,null,null,null,"","",{"$f":"IF(OR(\nOR(AND(D533<>\"\",F533=\"\"),AND(E533<>\"\",F533=\"\")),\nF533=LEFT(F533,MIN(FIND(0,SUBSTITUTE(F533,{1,2,3,4,5,6,7,8,9},0)&0))-1)=FALSE\n),\"Check\",\"\")","v":""},"","",null,"",0,"","","","",""]
["SBSA_525","SBSA_525",null,null,null,null,null,null,null,null,null,null,null,null,null,null,null,null,null,null,null,null,null,null,null,null,"","",{"$f":"IF(OR(\nOR(AND(D534<>\"\",F534=\"\"),AND(E534<>\"\",F534=\"\")),\nF534=LEFT(F534,MIN(FIND(0,SUBSTITUTE(F534,{1,2,3,4,5,6,7,8,9},0)&0))-1)=FALSE\n),\"Check\",\"\")","v":""},"","",null,"",0,"","","","",""]
["SBSA_526","SBSA_526",null,null,null,null,null,null,null,null,null,null,null,null,null,null,null,null,null,null,null,null,null,null,null,null,"","",{"$f":"IF(OR(\nOR(AND(D535<>\"\",F535=\"\"),AND(E535<>\"\",F535=\"\")),\nF535=LEFT(F535,MIN(FIND(0,SUBSTITUTE(F535,{1,2,3,4,5,6,7,8,9},0)&0))-1)=FALSE\n),\"Check\",\"\")","v":""},"","",null,"",0,"","","","",""]
["SBSA_527","SBSA_527",null,null,null,null,null,null,null,null,null,null,null,null,null,null,null,null,null,null,null,null,null,null,null,null,"","",{"$f":"IF(OR(\nOR(AND(D536<>\"\",F536=\"\"),AND(E536<>\"\",F536=\"\")),\nF536=LEFT(F536,MIN(FIND(0,SUBSTITUTE(F536,{1,2,3,4,5,6,7,8,9},0)&0))-1)=FALSE\n),\"Check\",\"\")","v":""},"","",null,"",0,"","","","",""]
["SBSA_528","SBSA_528",null,null,null,null,null,null,null,null,null,null,null,null,null,null,null,null,null,null,null,null,null,null,null,null,"","",{"$f":"IF(OR(\nOR(AND(D537<>\"\",F537=\"\"),AND(E537<>\"\",F537=\"\")),\nF537=LEFT(F537,MIN(FIND(0,SUBSTITUTE(F537,{1,2,3,4,5,6,7,8,9},0)&0))-1)=FALSE\n),\"Check\",\"\")","v":""},"","",null,"",0,"","","","",""]
["SBSA_529","SBSA_529",null,null,null,null,null,null,null,null,null,null,null,null,null,null,null,null,null,null,null,null,null,null,null,null,"","",{"$f":"IF(OR(\nOR(AND(D538<>\"\",F538=\"\"),AND(E538<>\"\",F538=\"\")),\nF538=LEFT(F538,MIN(FIND(0,SUBSTITUTE(F538,{1,2,3,4,5,6,7,8,9},0)&0))-1)=FALSE\n),\"Check\",\"\")","v":""},"","",null,"",0,"","","","",""]
["SBSA_530","SBSA_530",null,null,null,null,null,null,null,null,null,null,null,null,null,null,null,null,null,null,null,null,null,null,null,null,"","",{"$f":"IF(OR(\nOR(AND(D539<>\"\",F539=\"\"),AND(E539<>\"\",F539=\"\")),\nF539=LEFT(F539,MIN(FIND(0,SUBSTITUTE(F539,{1,2,3,4,5,6,7,8,9},0)&0))-1)=FALSE\n),\"Check\",\"\")","v":""},"","",null,"",0,"","","","",""]
["SBSA_531","SBSA_531",null,null,null,null,null,null,null,null,null,null,null,null,null,null,null,null,null,null,null,null,null,null,null,null,"","",{"$f":"IF(OR(\nOR(AND(D540<>\"\",F540=\"\"),AND(E540<>\"\",F540=\"\")),\nF540=LEFT(F540,MIN(FIND(0,SUBSTITUTE(F540,{1,2,3,4,5,6,7,8,9},0)&0))-1)=FALSE\n),\"Check\",\"\")","v":""},"","",null,"",0,"","","","",""]
["SBSA_532","SBSA_532",null,null,null,null,null,null,null,null,null,null,null,null,null,null,null,null,null,null,null,null,null,null,null,null,"","",{"$f":"IF(OR(\nOR(AND(D541<>\"\",F541=\"\"),AND(E541<>\"\",F541=\"\")),\nF541=LEFT(F541,MIN(FIND(0,SUBSTITUTE(F541,{1,2,3,4,5,6,7,8,9},0)&0))-1)=FALSE\n),\"Check\",\"\")","v":""},"","",null,"",0,"","","","",""]
["SBSA_533","SBSA_533",null,null,null,null,null,null,null,null,null,null,null,null,null,null,null,null,null,null,null,null,null,null,null,null,"","",{"$f":"IF(OR(\nOR(AND(D542<>\"\",F542=\"\"),AND(E542<>\"\",F542=\"\")),\nF542=LEFT(F542,MIN(FIND(0,SUBSTITUTE(F542,{1,2,3,4,5,6,7,8,9},0)&0))-1)=FALSE\n),\"Check\",\"\")","v":""},"","",null,"",0,"","","","",""]
["SBSA_534","SBSA_534",null,null,null,null,null,null,null,null,null,null,null,null,null,null,null,null,null,null,null,null,null,null,null,null,"","",{"$f":"IF(OR(\nOR(AND(D543<>\"\",F543=\"\"),AND(E543<>\"\",F543=\"\")),\nF543=LEFT(F543,MIN(FIND(0,SUBSTITUTE(F543,{1,2,3,4,5,6,7,8,9},0)&0))-1)=FALSE\n),\"Check\",\"\")","v":""},"","",null,"",0,"","","","",""]
["SBSA_535","SBSA_535",null,null,null,null,null,null,null,null,null,null,null,null,null,null,null,null,null,null,null,null,null,null,null,null,"","",{"$f":"IF(OR(\nOR(AND(D544<>\"\",F544=\"\"),AND(E544<>\"\",F544=\"\")),\nF544=LEFT(F544,MIN(FIND(0,SUBSTITUTE(F544,{1,2,3,4,5,6,7,8,9},0)&0))-1)=FALSE\n),\"Check\",\"\")","v":""},"","",null,"",0,"","","","",""]
["SBSA_536","SBSA_536",null,null,null,null,null,null,null,null,null,null,null,null,null,null,null,null,null,null,null,null,null,null,null,null,"","",{"$f":"IF(OR(\nOR(AND(D545<>\"\",F545=\"\"),AND(E545<>\"\",F545=\"\")),\nF545=LEFT(F545,MIN(FIND(0,SUBSTITUTE(F545,{1,2,3,4,5,6,7,8,9},0)&0))-1)=FALSE\n),\"Check\",\"\")","v":""},"","",null,"",0,"","","","",""]
["SBSA_537","SBSA_537",null,null,null,null,null,null,null,null,null,null,null,null,null,null,null,null,null,null,null,null,null,null,null,null,"","",{"$f":"IF(OR(\nOR(AND(D546<>\"\",F546=\"\"),AND(E546<>\"\",F546=\"\")),\nF546=LEFT(F546,MIN(FIND(0,SUBSTITUTE(F546,{1,2,3,4,5,6,7,8,9},0)&0))-1)=FALSE\n),\"Check\",\"\")","v":""},"","",null,"",0,"","","","",""]
["SBSA_538","SBSA_538",null,null,null,null,null,null,null,null,null,null,null,null,null,null,null,null,null,null,null,null,null,null,null,null,"","",{"$f":"IF(OR(\nOR(AND(D547<>\"\",F547=\"\"),AND(E547<>\"\",F547=\"\")),\nF547=LEFT(F547,MIN(FIND(0,SUBSTITUTE(F547,{1,2,3,4,5,6,7,8,9},0)&0))-1)=FALSE\n),\"Check\",\"\")","v":""},"","",null,"",0,"","","","",""]
["SBSA_539","SBSA_539",null,null,null,null,null,null,null,null,null,null,null,null,null,null,null,null,null,null,null,null,null,null,null,null,"","",{"$f":"IF(OR(\nOR(AND(D548<>\"\",F548=\"\"),AND(E548<>\"\",F548=\"\")),\nF548=LEFT(F548,MIN(FIND(0,SUBSTITUTE(F548,{1,2,3,4,5,6,7,8,9},0)&0))-1)=FALSE\n),\"Check\",\"\")","v":""},"","",null,"",0,"","","","",""]
["SBSA_540","SBSA_540",null,null,null,null,null,null,null,null,null,null,null,null,null,null,null,null,null,null,null,null,null,null,null,null,"","",{"$f":"IF(OR(\nOR(AND(D549<>\"\",F549=\"\"),AND(E549<>\"\",F549=\"\")),\nF549=LEFT(F549,MIN(FIND(0,SUBSTITUTE(F549,{1,2,3,4,5,6,7,8,9},0)&0))-1)=FALSE\n),\"Check\",\"\")","v":""},"","",null,"",0,"","","","",""]
["SBSA_541","SBSA_541",null,null,null,null,null,null,null,null,null,null,null,null,null,null,null,null,null,null,null,null,null,null,null,null,"","",{"$f":"IF(OR(\nOR(AND(D550<>\"\",F550=\"\"),AND(E550<>\"\",F550=\"\")),\nF550=LEFT(F550,MIN(FIND(0,SUBSTITUTE(F550,{1,2,3,4,5,6,7,8,9},0)&0))-1)=FALSE\n),\"Check\",\"\")","v":""},"","",null,"",0,"","","","",""]
["SBSA_542","SBSA_542",null,null,null,null,null,null,null,null,null,null,null,null,null,null,null,null,null,null,null,null,null,null,null,null,"","",{"$f":"IF(OR(\nOR(AND(D551<>\"\",F551=\"\"),AND(E551<>\"\",F551=\"\")),\nF551=LEFT(F551,MIN(FIND(0,SUBSTITUTE(F551,{1,2,3,4,5,6,7,8,9},0)&0))-1)=FALSE\n),\"Check\",\"\")","v":""},"","",null,"",0,"","","","",""]
["SBSA_543","SBSA_543",null,null,null,null,null,null,null,null,null,null,null,null,null,null,null,null,null,null,null,null,null,null,null,null,"","",{"$f":"IF(OR(\nOR(AND(D552<>\"\",F552=\"\"),AND(E552<>\"\",F552=\"\")),\nF552=LEFT(F552,MIN(FIND(0,SUBSTITUTE(F552,{1,2,3,4,5,6,7,8,9},0)&0))-1)=FALSE\n),\"Check\",\"\")","v":""},"","",null,"",0,"","","","",""]
["SBSA_544","SBSA_544",null,null,null,null,null,null,null,null,null,null,null,null,null,null,null,null,null,null,null,null,null,null,null,null,"","",{"$f":"IF(OR(\nOR(AND(D553<>\"\",F553=\"\"),AND(E553<>\"\",F553=\"\")),\nF553=LEFT(F553,MIN(FIND(0,SUBSTITUTE(F553,{1,2,3,4,5,6,7,8,9},0)&0))-1)=FALSE\n),\"Check\",\"\")","v":""},"","",null,"",0,"","","","",""]
["SBSA_545","SBSA_545",null,null,null,null,null,null,null,null,null,null,null,null,null,null,null,null,null,null,null,null,null,null,null,null,"","",{"$f":"IF(OR(\nOR(AND(D554<>\"\",F554=\"\"),AND(E554<>\"\",F554=\"\")),\nF554=LEFT(F554,MIN(FIND(0,SUBSTITUTE(F554,{1,2,3,4,5,6,7,8,9},0)&0))-1)=FALSE\n),\"Check\",\"\")","v":""},"","",null,"",0,"","","","",""]
["SBSA_546","SBSA_546",null,null,null,null,null,null,null,null,null,null,null,null,null,null,null,null,null,null,null,null,null,null,null,null,"","",{"$f":"IF(OR(\nOR(AND(D555<>\"\",F555=\"\"),AND(E555<>\"\",F555=\"\")),\nF555=LEFT(F555,MIN(FIND(0,SUBSTITUTE(F555,{1,2,3,4,5,6,7,8,9},0)&0))-1)=FALSE\n),\"Check\",\"\")","v":""},"","",null,"",0,"","","","",""]
["SBSA_547","SBSA_547",null,null,null,null,null,null,null,null,null,null,null,null,null,null,null,null,null,null,null,null,null,null,null,null,"","",{"$f":"IF(OR(\nOR(AND(D556<>\"\",F556=\"\"),AND(E556<>\"\",F556=\"\")),\nF556=LEFT(F556,MIN(FIND(0,SUBSTITUTE(F556,{1,2,3,4,5,6,7,8,9},0)&0))-1)=FALSE\n),\"Check\",\"\")","v":""},"","",null,"",0,"","","","",""]
["SBSA_548","SBSA_548",null,null,null,null,null,null,null,null,null,null,null,null,null,null,null,null,null,null,null,null,null,null,null,null,"","",{"$f":"IF(OR(\nOR(AND(D557<>\"\",F557=\"\"),AND(E557<>\"\",F557=\"\")),\nF557=LEFT(F557,MIN(FIND(0,SUBSTITUTE(F557,{1,2,3,4,5,6,7,8,9},0)&0))-1)=FALSE\n),\"Check\",\"\")","v":""},"","",null,"",0,"","","","",""]
["SBSA_549","SBSA_549",null,null,null,null,null,null,null,null,null,null,null,null,null,null,null,null,null,null,null,null,null,null,null,null,"","",{"$f":"IF(OR(\nOR(AND(D558<>\"\",F558=\"\"),AND(E558<>\"\",F558=\"\")),\nF558=LEFT(F558,MIN(FIND(0,SUBSTITUTE(F558,{1,2,3,4,5,6,7,8,9},0)&0))-1)=FALSE\n),\"Check\",\"\")","v":""},"","",null,"",0,"","","","",""]
["SBSA_550","SBSA_550",null,null,null,null,null,null,null,null,null,null,null,null,null,null,null,null,null,null,null,null,null,null,null,null,"","",{"$f":"IF(OR(\nOR(AND(D559<>\"\",F559=\"\"),AND(E559<>\"\",F559=\"\")),\nF559=LEFT(F559,MIN(FIND(0,SUBSTITUTE(F559,{1,2,3,4,5,6,7,8,9},0)&0))-1)=FALSE\n),\"Check\",\"\")","v":""},"","",null,"",0,"","","","",""]
["SBSA_551","SBSA_551",null,null,null,null,null,null,null,null,null,null,null,null,null,null,null,null,null,null,null,null,null,null,null,null,"","",{"$f":"IF(OR(\nOR(AND(D560<>\"\",F560=\"\"),AND(E560<>\"\",F560=\"\")),\nF560=LEFT(F560,MIN(FIND(0,SUBSTITUTE(F560,{1,2,3,4,5,6,7,8,9},0)&0))-1)=FALSE\n),\"Check\",\"\")","v":""},"","",null,"",0,"","","","",""]
["SBSA_552","SBSA_552",null,null,null,null,null,null,null,null,null,null,null,null,null,null,null,null,null,null,null,null,null,null,null,null,"","",{"$f":"IF(OR(\nOR(AND(D561<>\"\",F561=\"\"),AND(E561<>\"\",F561=\"\")),\nF561=LEFT(F561,MIN(FIND(0,SUBSTITUTE(F561,{1,2,3,4,5,6,7,8,9},0)&0))-1)=FALSE\n),\"Check\",\"\")","v":""},"","",null,"",0,"","","","",""]
["SBSA_553","SBSA_553",null,null,null,null,null,null,null,null,null,null,null,null,null,null,null,null,null,null,null,null,null,null,null,null,"","",{"$f":"IF(OR(\nOR(AND(D562<>\"\",F562=\"\"),AND(E562<>\"\",F562=\"\")),\nF562=LEFT(F562,MIN(FIND(0,SUBSTITUTE(F562,{1,2,3,4,5,6,7,8,9},0)&0))-1)=FALSE\n),\"Check\",\"\")","v":""},"","",null,"",0,"","","","",""]
["SBSA_554","SBSA_554",null,null,null,null,null,null,null,null,null,null,null,null,null,null,null,null,null,null,null,null,null,null,null,null,"","",{"$f":"IF(OR(\nOR(AND(D563<>\"\",F563=\"\"),AND(E563<>\"\",F563=\"\")),\nF563=LEFT(F563,MIN(FIND(0,SUBSTITUTE(F563,{1,2,3,4,5,6,7,8,9},0)&0))-1)=FALSE\n),\"Check\",\"\")","v":""},"","",null,"",0,"","","","",""]
["SBSA_555","SBSA_555",null,null,null,null,null,null,null,null,null,null,null,null,null,null,null,null,null,null,null,null,null,null,null,null,"","",{"$f":"IF(OR(\nOR(AND(D564<>\"\",F564=\"\"),AND(E564<>\"\",F564=\"\")),\nF564=LEFT(F564,MIN(FIND(0,SUBSTITUTE(F564,{1,2,3,4,5,6,7,8,9},0)&0))-1)=FALSE\n),\"Check\",\"\")","v":""},"","",null,"",0,"","","","",""]
["SBSA_556","SBSA_556",null,null,null,null,null,null,null,null,null,null,null,null,null,null,null,null,null,null,null,null,null,null,null,null,"","",{"$f":"IF(OR(\nOR(AND(D565<>\"\",F565=\"\"),AND(E565<>\"\",F565=\"\")),\nF565=LEFT(F565,MIN(FIND(0,SUBSTITUTE(F565,{1,2,3,4,5,6,7,8,9},0)&0))-1)=FALSE\n),\"Check\",\"\")","v":""},"","",null,"",0,"","","","",""]
["SBSA_557","SBSA_557",null,null,null,null,null,null,null,null,null,null,null,null,null,null,null,null,null,null,null,null,null,null,null,null,"","",{"$f":"IF(OR(\nOR(AND(D566<>\"\",F566=\"\"),AND(E566<>\"\",F566=\"\")),\nF566=LEFT(F566,MIN(FIND(0,SUBSTITUTE(F566,{1,2,3,4,5,6,7,8,9},0)&0))-1)=FALSE\n),\"Check\",\"\")","v":""},"","",null,"",0,"","","","",""]
["SBSA_558","SBSA_558",null,null,null,null,null,null,null,null,null,null,null,null,null,null,null,null,null,null,null,null,null,null,null,null,"","",{"$f":"IF(OR(\nOR(AND(D567<>\"\",F567=\"\"),AND(E567<>\"\",F567=\"\")),\nF567=LEFT(F567,MIN(FIND(0,SUBSTITUTE(F567,{1,2,3,4,5,6,7,8,9},0)&0))-1)=FALSE\n),\"Check\",\"\")","v":""},"","",null,"",0,"","","","",""]
["SBSA_559","SBSA_559",null,null,null,null,null,null,null,null,null,null,null,null,null,null,null,null,null,null,null,null,null,null,null,null,"","",{"$f":"IF(OR(\nOR(AND(D568<>\"\",F568=\"\"),AND(E568<>\"\",F568=\"\")),\nF568=LEFT(F568,MIN(FIND(0,SUBSTITUTE(F568,{1,2,3,4,5,6,7,8,9},0)&0))-1)=FALSE\n),\"Check\",\"\")","v":""},"","",null,"",0,"","","","",""]
["SBSA_560","SBSA_560",null,null,null,null,null,null,null,null,null,null,null,null,null,null,null,null,null,null,null,null,null,null,null,null,"","",{"$f":"IF(OR(\nOR(AND(D569<>\"\",F569=\"\"),AND(E569<>\"\",F569=\"\")),\nF569=LEFT(F569,MIN(FIND(0,SUBSTITUTE(F569,{1,2,3,4,5,6,7,8,9},0)&0))-1)=FALSE\n),\"Check\",\"\")","v":""},"","",null,"",0,"","","","",""]
["SBSA_561","SBSA_561",null,null,null,null,null,null,null,null,null,null,null,null,null,null,null,null,null,null,null,null,null,null,null,null,"","",{"$f":"IF(OR(\nOR(AND(D570<>\"\",F570=\"\"),AND(E570<>\"\",F570=\"\")),\nF570=LEFT(F570,MIN(FIND(0,SUBSTITUTE(F570,{1,2,3,4,5,6,7,8,9},0)&0))-1)=FALSE\n),\"Check\",\"\")","v":""},"","",null,"",0,"","","","",""]
["SBSA_562","SBSA_562",null,null,null,null,null,null,null,null,null,null,null,null,null,null,null,null,null,null,null,null,null,null,null,null,"","",{"$f":"IF(OR(\nOR(AND(D571<>\"\",F571=\"\"),AND(E571<>\"\",F571=\"\")),\nF571=LEFT(F571,MIN(FIND(0,SUBSTITUTE(F571,{1,2,3,4,5,6,7,8,9},0)&0))-1)=FALSE\n),\"Check\",\"\")","v":""},"","",null,"",0,"","","","",""]
["SBSA_563","SBSA_563",null,null,null,null,null,null,null,null,null,null,null,null,null,null,null,null,null,null,null,null,null,null,null,null,"","",{"$f":"IF(OR(\nOR(AND(D572<>\"\",F572=\"\"),AND(E572<>\"\",F572=\"\")),\nF572=LEFT(F572,MIN(FIND(0,SUBSTITUTE(F572,{1,2,3,4,5,6,7,8,9},0)&0))-1)=FALSE\n),\"Check\",\"\")","v":""},"","",null,"",0,"","","","",""]
["SBSA_564","SBSA_564",null,null,null,null,null,null,null,null,null,null,null,null,null,null,null,null,null,null,null,null,null,null,null,null,"","",{"$f":"IF(OR(\nOR(AND(D573<>\"\",F573=\"\"),AND(E573<>\"\",F573=\"\")),\nF573=LEFT(F573,MIN(FIND(0,SUBSTITUTE(F573,{1,2,3,4,5,6,7,8,9},0)&0))-1)=FALSE\n),\"Check\",\"\")","v":""},"","",null,"",0,"","","","",""]
["SBSA_565","SBSA_565",null,null,null,null,null,null,null,null,null,null,null,null,null,null,null,null,null,null,null,null,null,null,null,null,"","",{"$f":"IF(OR(\nOR(AND(D574<>\"\",F574=\"\"),AND(E574<>\"\",F574=\"\")),\nF574=LEFT(F574,MIN(FIND(0,SUBSTITUTE(F574,{1,2,3,4,5,6,7,8,9},0)&0))-1)=FALSE\n),\"Check\",\"\")","v":""},"","",null,"",0,"","","","",""]
["SBSA_566","SBSA_566",null,null,null,null,null,null,null,null,null,null,null,null,null,null,null,null,null,null,null,null,null,null,null,null,"","",{"$f":"IF(OR(\nOR(AND(D575<>\"\",F575=\"\"),AND(E575<>\"\",F575=\"\")),\nF575=LEFT(F575,MIN(FIND(0,SUBSTITUTE(F575,{1,2,3,4,5,6,7,8,9},0)&0))-1)=FALSE\n),\"Check\",\"\")","v":""},"","",null,"",0,"","","","",""]
["SBSA_567","SBSA_567",null,null,null,null,null,null,null,null,null,null,null,null,null,null,null,null,null,null,null,null,null,null,null,null,"","",{"$f":"IF(OR(\nOR(AND(D576<>\"\",F576=\"\"),AND(E576<>\"\",F576=\"\")),\nF576=LEFT(F576,MIN(FIND(0,SUBSTITUTE(F576,{1,2,3,4,5,6,7,8,9},0)&0))-1)=FALSE\n),\"Check\",\"\")","v":""},"","",null,"",0,"","","","",""]
["SBSA_568","SBSA_568",null,null,null,null,null,null,null,null,null,null,null,null,null,null,null,null,null,null,null,null,null,null,null,null,"","",{"$f":"IF(OR(\nOR(AND(D577<>\"\",F577=\"\"),AND(E577<>\"\",F577=\"\")),\nF577=LEFT(F577,MIN(FIND(0,SUBSTITUTE(F577,{1,2,3,4,5,6,7,8,9},0)&0))-1)=FALSE\n),\"Check\",\"\")","v":""},"","",null,"",0,"","","","",""]
["SBSA_569","SBSA_569",null,null,null,null,null,null,null,null,null,null,null,null,null,null,null,null,null,null,null,null,null,null,null,null,"","",{"$f":"IF(OR(\nOR(AND(D578<>\"\",F578=\"\"),AND(E578<>\"\",F578=\"\")),\nF578=LEFT(F578,MIN(FIND(0,SUBSTITUTE(F578,{1,2,3,4,5,6,7,8,9},0)&0))-1)=FALSE\n),\"Check\",\"\")","v":""},"","",null,"",0,"","","","",""]
["SBSA_570","SBSA_570",null,null,null,null,null,null,null,null,null,null,null,null,null,null,null,null,null,null,null,null,null,null,null,null,"","",{"$f":"IF(OR(\nOR(AND(D579<>\"\",F579=\"\"),AND(E579<>\"\",F579=\"\")),\nF579=LEFT(F579,MIN(FIND(0,SUBSTITUTE(F579,{1,2,3,4,5,6,7,8,9},0)&0))-1)=FALSE\n),\"Check\",\"\")","v":""},"","",null,"",0,"","","","",""]
["SBSA_571","SBSA_571",null,null,null,null,null,null,null,null,null,null,null,null,null,null,null,null,null,null,null,null,null,null,null,null,"","",{"$f":"IF(OR(\nOR(AND(D580<>\"\",F580=\"\"),AND(E580<>\"\",F580=\"\")),\nF580=LEFT(F580,MIN(FIND(0,SUBSTITUTE(F580,{1,2,3,4,5,6,7,8,9},0)&0))-1)=FALSE\n),\"Check\",\"\")","v":""},"","",null,"",0,"","","","",""]
["SBSA_572","SBSA_572",null,null,null,null,null,null,null,null,null,null,null,null,null,null,null,null,null,null,null,null,null,null,null,null,"","",{"$f":"IF(OR(\nOR(AND(D581<>\"\",F581=\"\"),AND(E581<>\"\",F581=\"\")),\nF581=LEFT(F581,MIN(FIND(0,SUBSTITUTE(F581,{1,2,3,4,5,6,7,8,9},0)&0))-1)=FALSE\n),\"Check\",\"\")","v":""},"","",null,"",0,"","","","",""]
["SBSA_573","SBSA_573",null,null,null,null,null,null,null,null,null,null,null,null,null,null,null,null,null,null,null,null,null,null,null,null,"","",{"$f":"IF(OR(\nOR(AND(D582<>\"\",F582=\"\"),AND(E582<>\"\",F582=\"\")),\nF582=LEFT(F582,MIN(FIND(0,SUBSTITUTE(F582,{1,2,3,4,5,6,7,8,9},0)&0))-1)=FALSE\n),\"Check\",\"\")","v":""},"","",null,"",0,"","","","",""]
["SBSA_574","SBSA_574",null,null,null,null,null,null,null,null,null,null,null,null,null,null,null,null,null,null,null,null,null,null,null,null,"","",{"$f":"IF(OR(\nOR(AND(D583<>\"\",F583=\"\"),AND(E583<>\"\",F583=\"\")),\nF583=LEFT(F583,MIN(FIND(0,SUBSTITUTE(F583,{1,2,3,4,5,6,7,8,9},0)&0))-1)=FALSE\n),\"Check\",\"\")","v":""},"","",null,"",0,"","","","",""]
["SBSA_575","SBSA_575",null,null,null,null,null,null,null,null,null,null,null,null,null,null,null,null,null,null,null,null,null,null,null,null,"","",{"$f":"IF(OR(\nOR(AND(D584<>\"\",F584=\"\"),AND(E584<>\"\",F584=\"\")),\nF584=LEFT(F584,MIN(FIND(0,SUBSTITUTE(F584,{1,2,3,4,5,6,7,8,9},0)&0))-1)=FALSE\n),\"Check\",\"\")","v":""},"","",null,"",0,"","","","",""]
["SBSA_576","SBSA_576",null,null,null,null,null,null,null,null,null,null,null,null,null,null,null,null,null,null,null,null,null,null,null,null,"","",{"$f":"IF(OR(\nOR(AND(D585<>\"\",F585=\"\"),AND(E585<>\"\",F585=\"\")),\nF585=LEFT(F585,MIN(FIND(0,SUBSTITUTE(F585,{1,2,3,4,5,6,7,8,9},0)&0))-1)=FALSE\n),\"Check\",\"\")","v":""},"","",null,"",0,"","","","",""]
["SBSA_577","SBSA_577",null,null,null,null,null,null,null,null,null,null,null,null,null,null,null,null,null,null,null,null,null,null,null,null,{"$f":"IF(AND(C586=\"\",OR(D586<>\"\",E586<>\"\",F586<>\"\",G586<>\"\")),\"Check\",\"\")","v":""},{"$f":"IF(AND(C586<>\"\",OR(AND(D586=\"\",E586=\"\"),AND(D586=0,E586=0),AND(ABS(D586)>0,ABS(E586)>0))),\"Check\",\"\")","v":""},{"$f":"IF(OR(\nOR(AND(D586<>\"\",F586=\"\"),AND(E586<>\"\",F586=\"\")),\nF586=LEFT(F586,MIN(FIND(0,SUBSTITUTE(F586,{1,2,3,4,5,6,7,8,9},0)&0))-1)=FALSE\n),\"Check\",\"\")","v":""},{"$f":"IF(OR(E586=\"\",G586=\"\"),\"\",(E586*G586)/100)","v":""},{"$f":"IF(AND(F586<>\"\",G586=\"\"),\"Check\",\"\")","v":""},null,{"$f":"IF(C586=\"\",\"\",C586&\"_\"&IF(G586=\"\",0,G586))","v":""},{"$f":"IF(COUNTBLANK(C586:G586)<5,1,0)","v":0},{"$f":"IF(C586=\"\",\"\",IF(LEN(C586)=12,\"\",\"Check\"))","v":""},{"$f":"IF(C586=\"\",\"\",IF(COUNTIF(C$10:C$65536,C586)=COUNTIF(AG$10:AG$65536,AG586),\"\",\"Check\"))","v":""},{"$f":"IF(F586=\"\",\"\",IF(LEN(F586)=3,\"\",\"Check\"))","v":""},{"$f":"IF(OR(IF(D586=\"\",\"\",IF(ISNUMBER(D586)=TRUE,\"\",\"TEXT\"))=\"TEXT\",IF(E586=\"\",\"\",IF(ISNUMBER(E586)=TRUE,\"\",\"TEXT\"))=\"TEXT\",IF(G586=\"\",\"\",IF(ISNUMBER(G586)=TRUE,\"\",\"TEXT\"))=\"TEXT\"),\"Check\",\"\")","v":""},{"$f":"IF(G586<0,\"Check\",\"\")","v":""}]
["SBSA_578","SBSA_578",null,null,null,null,null,null,null,null,null,null,null,null,null,null,null,null,null,null,null,null,null,null,null,null,"","",{"$f":"IF(OR(\nOR(AND(D587<>\"\",F587=\"\"),AND(E587<>\"\",F587=\"\")),\nF587=LEFT(F587,MIN(FIND(0,SUBSTITUTE(F587,{1,2,3,4,5,6,7,8,9},0)&0))-1)=FALSE\n),\"Check\",\"\")","v":""},"","",null,"",0,"","","","",""]
["SBSA_579","SBSA_579",null,null,null,null,null,null,null,null,null,null,null,null,null,null,null,null,null,null,null,null,null,null,null,null,"","",{"$f":"IF(OR(\nOR(AND(D588<>\"\",F588=\"\"),AND(E588<>\"\",F588=\"\")),\nF588=LEFT(F588,MIN(FIND(0,SUBSTITUTE(F588,{1,2,3,4,5,6,7,8,9},0)&0))-1)=FALSE\n),\"Check\",\"\")","v":""},"","",null,"",0,"","","","",""]
["SBSA_580","SBSA_580",null,null,null,null,null,null,null,null,null,null,null,null,null,null,null,null,null,null,null,null,null,null,null,null,"","",{"$f":"IF(OR(\nOR(AND(D589<>\"\",F589=\"\"),AND(E589<>\"\",F589=\"\")),\nF589=LEFT(F589,MIN(FIND(0,SUBSTITUTE(F589,{1,2,3,4,5,6,7,8,9},0)&0))-1)=FALSE\n),\"Check\",\"\")","v":""},"","",null,"",0,"","","","",""]
["SBSA_581","SBSA_581",null,null,null,null,null,null,null,null,null,null,null,null,null,null,null,null,null,null,null,null,null,null,null,null,"","",{"$f":"IF(OR(\nOR(AND(D590<>\"\",F590=\"\"),AND(E590<>\"\",F590=\"\")),\nF590=LEFT(F590,MIN(FIND(0,SUBSTITUTE(F590,{1,2,3,4,5,6,7,8,9},0)&0))-1)=FALSE\n),\"Check\",\"\")","v":""},"","",null,"",0,"","","","",""]
["SBSA_582","SBSA_582",null,null,null,null,null,null,null,null,null,null,null,null,null,null,null,null,null,null,null,null,null,null,null,null,"","",{"$f":"IF(OR(\nOR(AND(D591<>\"\",F591=\"\"),AND(E591<>\"\",F591=\"\")),\nF591=LEFT(F591,MIN(FIND(0,SUBSTITUTE(F591,{1,2,3,4,5,6,7,8,9},0)&0))-1)=FALSE\n),\"Check\",\"\")","v":""},"","",null,"",0,"","","","",""]
["SBSA_583","SBSA_583",null,null,null,null,null,null,null,null,null,null,null,null,null,null,null,null,null,null,null,null,null,null,null,null,"","",{"$f":"IF(OR(\nOR(AND(D592<>\"\",F592=\"\"),AND(E592<>\"\",F592=\"\")),\nF592=LEFT(F592,MIN(FIND(0,SUBSTITUTE(F592,{1,2,3,4,5,6,7,8,9},0)&0))-1)=FALSE\n),\"Check\",\"\")","v":""},"","",null,"",0,"","","","",""]
["SBSA_584","SBSA_584",null,null,null,null,null,null,null,null,null,null,null,null,null,null,null,null,null,null,null,null,null,null,null,null,"","",{"$f":"IF(OR(\nOR(AND(D593<>\"\",F593=\"\"),AND(E593<>\"\",F593=\"\")),\nF593=LEFT(F593,MIN(FIND(0,SUBSTITUTE(F593,{1,2,3,4,5,6,7,8,9},0)&0))-1)=FALSE\n),\"Check\",\"\")","v":""},"","",null,"",0,"","","","",""]
["SBSA_585","SBSA_585",null,null,null,null,null,null,null,null,null,null,null,null,null,null,null,null,null,null,null,null,null,null,null,null,"","",{"$f":"IF(OR(\nOR(AND(D594<>\"\",F594=\"\"),AND(E594<>\"\",F594=\"\")),\nF594=LEFT(F594,MIN(FIND(0,SUBSTITUTE(F594,{1,2,3,4,5,6,7,8,9},0)&0))-1)=FALSE\n),\"Check\",\"\")","v":""},"","",null,"",0,"","","","",""]
["SBSA_586","SBSA_586",null,null,null,null,null,null,null,null,null,null,null,null,null,null,null,null,null,null,null,null,null,null,null,null,"","",{"$f":"IF(OR(\nOR(AND(D595<>\"\",F595=\"\"),AND(E595<>\"\",F595=\"\")),\nF595=LEFT(F595,MIN(FIND(0,SUBSTITUTE(F595,{1,2,3,4,5,6,7,8,9},0)&0))-1)=FALSE\n),\"Check\",\"\")","v":""},"","",null,"",0,"","","","",""]
["SBSA_587","SBSA_587",null,null,null,null,null,null,null,null,null,null,null,null,null,null,null,null,null,null,null,null,null,null,null,null,"","",{"$f":"IF(OR(\nOR(AND(D596<>\"\",F596=\"\"),AND(E596<>\"\",F596=\"\")),\nF596=LEFT(F596,MIN(FIND(0,SUBSTITUTE(F596,{1,2,3,4,5,6,7,8,9},0)&0))-1)=FALSE\n),\"Check\",\"\")","v":""},"","",null,"",0,"","","","",""]
["SBSA_588","SBSA_588",null,null,null,null,null,null,null,null,null,null,null,null,null,null,null,null,null,null,null,null,null,null,null,null,"","",{"$f":"IF(OR(\nOR(AND(D597<>\"\",F597=\"\"),AND(E597<>\"\",F597=\"\")),\nF597=LEFT(F597,MIN(FIND(0,SUBSTITUTE(F597,{1,2,3,4,5,6,7,8,9},0)&0))-1)=FALSE\n),\"Check\",\"\")","v":""},"","",null,"",0,"","","","",""]
["SBSA_589","SBSA_589",null,null,null,null,null,null,null,null,null,null,null,null,null,null,null,null,null,null,null,null,null,null,null,null,"","",{"$f":"IF(OR(\nOR(AND(D598<>\"\",F598=\"\"),AND(E598<>\"\",F598=\"\")),\nF598=LEFT(F598,MIN(FIND(0,SUBSTITUTE(F598,{1,2,3,4,5,6,7,8,9},0)&0))-1)=FALSE\n),\"Check\",\"\")","v":""},"","",null,"",0,"","","","",""]
["SBSA_590","SBSA_590",null,null,null,null,null,null,null,null,null,null,null,null,null,null,null,null,null,null,null,null,null,null,null,null,"","",{"$f":"IF(OR(\nOR(AND(D599<>\"\",F599=\"\"),AND(E599<>\"\",F599=\"\")),\nF599=LEFT(F599,MIN(FIND(0,SUBSTITUTE(F599,{1,2,3,4,5,6,7,8,9},0)&0))-1)=FALSE\n),\"Check\",\"\")","v":""},"","",null,"",0,"","","","",""]
["SBSA_591","SBSA_591",null,null,null,null,null,null,null,null,null,null,null,null,null,null,null,null,null,null,null,null,null,null,null,null,"","",{"$f":"IF(OR(\nOR(AND(D600<>\"\",F600=\"\"),AND(E600<>\"\",F600=\"\")),\nF600=LEFT(F600,MIN(FIND(0,SUBSTITUTE(F600,{1,2,3,4,5,6,7,8,9},0)&0))-1)=FALSE\n),\"Check\",\"\")","v":""},"","",null,"",0,"","","","",""]
["SBSA_592","SBSA_592",null,null,null,null,null,null,null,null,null,null,null,null,null,null,null,null,null,null,null,null,null,null,null,null,"","",{"$f":"IF(OR(\nOR(AND(D601<>\"\",F601=\"\"),AND(E601<>\"\",F601=\"\")),\nF601=LEFT(F601,MIN(FIND(0,SUBSTITUTE(F601,{1,2,3,4,5,6,7,8,9},0)&0))-1)=FALSE\n),\"Check\",\"\")","v":""},"","",null,"",0,"","","","",""]
["SBSA_593","SBSA_593",null,null,null,null,null,null,null,null,null,null,null,null,null,null,null,null,null,null,null,null,null,null,null,null,"","",{"$f":"IF(OR(\nOR(AND(D602<>\"\",F602=\"\"),AND(E602<>\"\",F602=\"\")),\nF602=LEFT(F602,MIN(FIND(0,SUBSTITUTE(F602,{1,2,3,4,5,6,7,8,9},0)&0))-1)=FALSE\n),\"Check\",\"\")","v":""},"","",null,"",0,"","","","",""]
["SBSA_594","SBSA_594",null,null,null,null,null,null,null,null,null,null,null,null,null,null,null,null,null,null,null,null,null,null,null,null,"","",{"$f":"IF(OR(\nOR(AND(D603<>\"\",F603=\"\"),AND(E603<>\"\",F603=\"\")),\nF603=LEFT(F603,MIN(FIND(0,SUBSTITUTE(F603,{1,2,3,4,5,6,7,8,9},0)&0))-1)=FALSE\n),\"Check\",\"\")","v":""},"","",null,"",0,"","","","",""]
["SBSA_595","SBSA_595",null,null,null,null,null,null,null,null,null,null,null,null,null,null,null,null,null,null,null,null,null,null,null,null,"","",{"$f":"IF(OR(\nOR(AND(D604<>\"\",F604=\"\"),AND(E604<>\"\",F604=\"\")),\nF604=LEFT(F604,MIN(FIND(0,SUBSTITUTE(F604,{1,2,3,4,5,6,7,8,9},0)&0))-1)=FALSE\n),\"Check\",\"\")","v":""},"","",null,"",0,"","","","",""]
["SBSA_596","SBSA_596",null,null,null,null,null,null,null,null,null,null,null,null,null,null,null,null,null,null,null,null,null,null,null,null,"","",{"$f":"IF(OR(\nOR(AND(D605<>\"\",F605=\"\"),AND(E605<>\"\",F605=\"\")),\nF605=LEFT(F605,MIN(FIND(0,SUBSTITUTE(F605,{1,2,3,4,5,6,7,8,9},0)&0))-1)=FALSE\n),\"Check\",\"\")","v":""},"","",null,"",0,"","","","",""]
["SBSA_597","SBSA_597",null,null,null,null,null,null,null,null,null,null,null,null,null,null,null,null,null,null,null,null,null,null,null,null,"","",{"$f":"IF(OR(\nOR(AND(D606<>\"\",F606=\"\"),AND(E606<>\"\",F606=\"\")),\nF606=LEFT(F606,MIN(FIND(0,SUBSTITUTE(F606,{1,2,3,4,5,6,7,8,9},0)&0))-1)=FALSE\n),\"Check\",\"\")","v":""},"","",null,"",0,"","","","",""]
["SBSA_598","SBSA_598",null,null,null,null,null,null,null,null,null,null,null,null,null,null,null,null,null,null,null,null,null,null,null,null,"","",{"$f":"IF(OR(\nOR(AND(D607<>\"\",F607=\"\"),AND(E607<>\"\",F607=\"\")),\nF607=LEFT(F607,MIN(FIND(0,SUBSTITUTE(F607,{1,2,3,4,5,6,7,8,9},0)&0))-1)=FALSE\n),\"Check\",\"\")","v":""},"","",null,"",0,"","","","",""]
["SBSA_599","SBSA_599",null,null,null,null,null,null,null,null,null,null,null,null,null,null,null,null,null,null,null,null,null,null,null,null,"","",{"$f":"IF(OR(\nOR(AND(D608<>\"\",F608=\"\"),AND(E608<>\"\",F608=\"\")),\nF608=LEFT(F608,MIN(FIND(0,SUBSTITUTE(F608,{1,2,3,4,5,6,7,8,9},0)&0))-1)=FALSE\n),\"Check\",\"\")","v":""},"","",null,"",0,"","","","",""]
["SBSA_600","SBSA_600",null,null,null,null,null,null,null,null,null,null,null,null,null,null,null,null,null,null,null,null,null,null,null,null,"","",{"$f":"IF(OR(\nOR(AND(D609<>\"\",F609=\"\"),AND(E609<>\"\",F609=\"\")),\nF609=LEFT(F609,MIN(FIND(0,SUBSTITUTE(F609,{1,2,3,4,5,6,7,8,9},0)&0))-1)=FALSE\n),\"Check\",\"\")","v":""},"","",null,"",0,"","","","",""]
["SBSA_601","SBSA_601",null,null,null,null,null,null,null,null,null,null,null,null,null,null,null,null,null,null,null,null,null,null,null,null,"","",{"$f":"IF(OR(\nOR(AND(D610<>\"\",F610=\"\"),AND(E610<>\"\",F610=\"\")),\nF610=LEFT(F610,MIN(FIND(0,SUBSTITUTE(F610,{1,2,3,4,5,6,7,8,9},0)&0))-1)=FALSE\n),\"Check\",\"\")","v":""},"","",null,"",0,"","","","",""]
["SBSA_602","SBSA_602",null,null,null,null,null,null,null,null,null,null,null,null,null,null,null,null,null,null,null,null,null,null,null,null,"","",{"$f":"IF(OR(\nOR(AND(D611<>\"\",F611=\"\"),AND(E611<>\"\",F611=\"\")),\nF611=LEFT(F611,MIN(FIND(0,SUBSTITUTE(F611,{1,2,3,4,5,6,7,8,9},0)&0))-1)=FALSE\n),\"Check\",\"\")","v":""},"","",null,"",0,"","","","",""]
["SBSA_603","SBSA_603",null,null,null,null,null,null,null,null,null,null,null,null,null,null,null,null,null,null,null,null,null,null,null,null,"","",{"$f":"IF(OR(\nOR(AND(D612<>\"\",F612=\"\"),AND(E612<>\"\",F612=\"\")),\nF612=LEFT(F612,MIN(FIND(0,SUBSTITUTE(F612,{1,2,3,4,5,6,7,8,9},0)&0))-1)=FALSE\n),\"Check\",\"\")","v":""},"","",null,"",0,"","","","",""]
["SBSA_604","SBSA_604",null,null,null,null,null,null,null,null,null,null,null,null,null,null,null,null,null,null,null,null,null,null,null,null,"","",{"$f":"IF(OR(\nOR(AND(D613<>\"\",F613=\"\"),AND(E613<>\"\",F613=\"\")),\nF613=LEFT(F613,MIN(FIND(0,SUBSTITUTE(F613,{1,2,3,4,5,6,7,8,9},0)&0))-1)=FALSE\n),\"Check\",\"\")","v":""},"","",null,"",0,"","","","",""]
["SBSA_605","SBSA_605",null,null,null,null,null,null,null,null,null,null,null,null,null,null,null,null,null,null,null,null,null,null,null,null,"","",{"$f":"IF(OR(\nOR(AND(D614<>\"\",F614=\"\"),AND(E614<>\"\",F614=\"\")),\nF614=LEFT(F614,MIN(FIND(0,SUBSTITUTE(F614,{1,2,3,4,5,6,7,8,9},0)&0))-1)=FALSE\n),\"Check\",\"\")","v":""},"","",null,"",0,"","","","",""]
["SBSA_606","SBSA_606",null,null,null,null,null,null,null,null,null,null,null,null,null,null,null,null,null,null,null,null,null,null,null,null,"","",{"$f":"IF(OR(\nOR(AND(D615<>\"\",F615=\"\"),AND(E615<>\"\",F615=\"\")),\nF615=LEFT(F615,MIN(FIND(0,SUBSTITUTE(F615,{1,2,3,4,5,6,7,8,9},0)&0))-1)=FALSE\n),\"Check\",\"\")","v":""},"","",null,"",0,"","","","",""]
["SBSA_607","SBSA_607",null,null,null,null,null,null,null,null,null,null,null,null,null,null,null,null,null,null,null,null,null,null,null,null,"","",{"$f":"IF(OR(\nOR(AND(D616<>\"\",F616=\"\"),AND(E616<>\"\",F616=\"\")),\nF616=LEFT(F616,MIN(FIND(0,SUBSTITUTE(F616,{1,2,3,4,5,6,7,8,9},0)&0))-1)=FALSE\n),\"Check\",\"\")","v":""},"","",null,"",0,"","","","",""]
["SBSA_608","SBSA_608",null,null,null,null,null,null,null,null,null,null,null,null,null,null,null,null,null,null,null,null,null,null,null,null,"","",{"$f":"IF(OR(\nOR(AND(D617<>\"\",F617=\"\"),AND(E617<>\"\",F617=\"\")),\nF617=LEFT(F617,MIN(FIND(0,SUBSTITUTE(F617,{1,2,3,4,5,6,7,8,9},0)&0))-1)=FALSE\n),\"Check\",\"\")","v":""},"","",null,"",0,"","","","",""]
["SBSA_609","SBSA_609",null,null,null,null,null,null,null,null,null,null,null,null,null,null,null,null,null,null,null,null,null,null,null,null,"","",{"$f":"IF(OR(\nOR(AND(D618<>\"\",F618=\"\"),AND(E618<>\"\",F618=\"\")),\nF618=LEFT(F618,MIN(FIND(0,SUBSTITUTE(F618,{1,2,3,4,5,6,7,8,9},0)&0))-1)=FALSE\n),\"Check\",\"\")","v":""},"","",null,"",0,"","","","",""]
["SBSA_610","SBSA_610",null,null,null,null,null,null,null,null,null,null,null,null,null,null,null,null,null,null,null,null,null,null,null,null,"","",{"$f":"IF(OR(\nOR(AND(D619<>\"\",F619=\"\"),AND(E619<>\"\",F619=\"\")),\nF619=LEFT(F619,MIN(FIND(0,SUBSTITUTE(F619,{1,2,3,4,5,6,7,8,9},0)&0))-1)=FALSE\n),\"Check\",\"\")","v":""},"","",null,"",0,"","","","",""]
["SBSA_611","SBSA_611",null,null,null,null,null,null,null,null,null,null,null,null,null,null,null,null,null,null,null,null,null,null,null,null,"","",{"$f":"IF(OR(\nOR(AND(D620<>\"\",F620=\"\"),AND(E620<>\"\",F620=\"\")),\nF620=LEFT(F620,MIN(FIND(0,SUBSTITUTE(F620,{1,2,3,4,5,6,7,8,9},0)&0))-1)=FALSE\n),\"Check\",\"\")","v":""},"","",null,"",0,"","","","",""]
["SBSA_612","SBSA_612",null,null,null,null,null,null,null,null,null,null,null,null,null,null,null,null,null,null,null,null,null,null,null,null,"","",{"$f":"IF(OR(\nOR(AND(D621<>\"\",F621=\"\"),AND(E621<>\"\",F621=\"\")),\nF621=LEFT(F621,MIN(FIND(0,SUBSTITUTE(F621,{1,2,3,4,5,6,7,8,9},0)&0))-1)=FALSE\n),\"Check\",\"\")","v":""},"","",null,"",0,"","","","",""]
["SBSA_613","SBSA_613",null,null,null,null,null,null,null,null,null,null,null,null,null,null,null,null,null,null,null,null,null,null,null,null,"","",{"$f":"IF(OR(\nOR(AND(D622<>\"\",F622=\"\"),AND(E622<>\"\",F622=\"\")),\nF622=LEFT(F622,MIN(FIND(0,SUBSTITUTE(F622,{1,2,3,4,5,6,7,8,9},0)&0))-1)=FALSE\n),\"Check\",\"\")","v":""},"","",null,"",0,"","","","",""]
["SBSA_614","SBSA_614",null,null,null,null,null,null,null,null,null,null,null,null,null,null,null,null,null,null,null,null,null,null,null,null,"","",{"$f":"IF(OR(\nOR(AND(D623<>\"\",F623=\"\"),AND(E623<>\"\",F623=\"\")),\nF623=LEFT(F623,MIN(FIND(0,SUBSTITUTE(F623,{1,2,3,4,5,6,7,8,9},0)&0))-1)=FALSE\n),\"Check\",\"\")","v":""},"","",null,"",0,"","","","",""]
["SBSA_615","SBSA_615",null,null,null,null,null,null,null,null,null,null,null,null,null,null,null,null,null,null,null,null,null,null,null,null,"","",{"$f":"IF(OR(\nOR(AND(D624<>\"\",F624=\"\"),AND(E624<>\"\",F624=\"\")),\nF624=LEFT(F624,MIN(FIND(0,SUBSTITUTE(F624,{1,2,3,4,5,6,7,8,9},0)&0))-1)=FALSE\n),\"Check\",\"\")","v":""},"","",null,"",0,"","","","",""]
["SBSA_616","SBSA_616",null,null,null,null,null,null,null,null,null,null,null,null,null,null,null,null,null,null,null,null,null,null,null,null,"","",{"$f":"IF(OR(\nOR(AND(D625<>\"\",F625=\"\"),AND(E625<>\"\",F625=\"\")),\nF625=LEFT(F625,MIN(FIND(0,SUBSTITUTE(F625,{1,2,3,4,5,6,7,8,9},0)&0))-1)=FALSE\n),\"Check\",\"\")","v":""},"","",null,"",0,"","","","",""]
["SBSA_617","SBSA_617",null,null,null,null,null,null,null,null,null,null,null,null,null,null,null,null,null,null,null,null,null,null,null,null,"","",{"$f":"IF(OR(\nOR(AND(D626<>\"\",F626=\"\"),AND(E626<>\"\",F626=\"\")),\nF626=LEFT(F626,MIN(FIND(0,SUBSTITUTE(F626,{1,2,3,4,5,6,7,8,9},0)&0))-1)=FALSE\n),\"Check\",\"\")","v":""},"","",null,"",0,"","","","",""]
["SBSA_618","SBSA_618",null,null,null,null,null,null,null,null,null,null,null,null,null,null,null,null,null,null,null,null,null,null,null,null,"","",{"$f":"IF(OR(\nOR(AND(D627<>\"\",F627=\"\"),AND(E627<>\"\",F627=\"\")),\nF627=LEFT(F627,MIN(FIND(0,SUBSTITUTE(F627,{1,2,3,4,5,6,7,8,9},0)&0))-1)=FALSE\n),\"Check\",\"\")","v":""},"","",null,"",0,"","","","",""]
["SBSA_619","SBSA_619",null,null,null,null,null,null,null,null,null,null,null,null,null,null,null,null,null,null,null,null,null,null,null,null,"","",{"$f":"IF(OR(\nOR(AND(D628<>\"\",F628=\"\"),AND(E628<>\"\",F628=\"\")),\nF628=LEFT(F628,MIN(FIND(0,SUBSTITUTE(F628,{1,2,3,4,5,6,7,8,9},0)&0))-1)=FALSE\n),\"Check\",\"\")","v":""},"","",null,"",0,"","","","",""]
["SBSA_620","SBSA_620",null,null,null,null,null,null,null,null,null,null,null,null,null,null,null,null,null,null,null,null,null,null,null,null,"","",{"$f":"IF(OR(\nOR(AND(D629<>\"\",F629=\"\"),AND(E629<>\"\",F629=\"\")),\nF629=LEFT(F629,MIN(FIND(0,SUBSTITUTE(F629,{1,2,3,4,5,6,7,8,9},0)&0))-1)=FALSE\n),\"Check\",\"\")","v":""},"","",null,"",0,"","","","",""]
["SBSA_621","SBSA_621",null,null,null,null,null,null,null,null,null,null,null,null,null,null,null,null,null,null,null,null,null,null,null,null,"","",{"$f":"IF(OR(\nOR(AND(D630<>\"\",F630=\"\"),AND(E630<>\"\",F630=\"\")),\nF630=LEFT(F630,MIN(FIND(0,SUBSTITUTE(F630,{1,2,3,4,5,6,7,8,9},0)&0))-1)=FALSE\n),\"Check\",\"\")","v":""},"","",null,"",0,"","","","",""]
["SBSA_622","SBSA_622",null,null,null,null,null,null,null,null,null,null,null,null,null,null,null,null,null,null,null,null,null,null,null,null,"","",{"$f":"IF(OR(\nOR(AND(D631<>\"\",F631=\"\"),AND(E631<>\"\",F631=\"\")),\nF631=LEFT(F631,MIN(FIND(0,SUBSTITUTE(F631,{1,2,3,4,5,6,7,8,9},0)&0))-1)=FALSE\n),\"Check\",\"\")","v":""},"","",null,"",0,"","","","",""]
["SBSA_623","SBSA_623",null,null,null,null,null,null,null,null,null,null,null,null,null,null,null,null,null,null,null,null,null,null,null,null,"","",{"$f":"IF(OR(\nOR(AND(D632<>\"\",F632=\"\"),AND(E632<>\"\",F632=\"\")),\nF632=LEFT(F632,MIN(FIND(0,SUBSTITUTE(F632,{1,2,3,4,5,6,7,8,9},0)&0))-1)=FALSE\n),\"Check\",\"\")","v":""},"","",null,"",0,"","","","",""]
["SBSA_624","SBSA_624",null,null,null,null,null,null,null,null,null,null,null,null,null,null,null,null,null,null,null,null,null,null,null,null,"","",{"$f":"IF(OR(\nOR(AND(D633<>\"\",F633=\"\"),AND(E633<>\"\",F633=\"\")),\nF633=LEFT(F633,MIN(FIND(0,SUBSTITUTE(F633,{1,2,3,4,5,6,7,8,9},0)&0))-1)=FALSE\n),\"Check\",\"\")","v":""},"","",null,"",0,"","","","",""]
["SBSA_625","SBSA_625",null,null,null,null,null,null,null,null,null,null,null,null,null,null,null,null,null,null,null,null,null,null,null,null,"","",{"$f":"IF(OR(\nOR(AND(D634<>\"\",F634=\"\"),AND(E634<>\"\",F634=\"\")),\nF634=LEFT(F634,MIN(FIND(0,SUBSTITUTE(F634,{1,2,3,4,5,6,7,8,9},0)&0))-1)=FALSE\n),\"Check\",\"\")","v":""},"","",null,"",0,"","","","",""]
["SBSA_626","SBSA_626",null,null,null,null,null,null,null,null,null,null,null,null,null,null,null,null,null,null,null,null,null,null,null,null,"","",{"$f":"IF(OR(\nOR(AND(D635<>\"\",F635=\"\"),AND(E635<>\"\",F635=\"\")),\nF635=LEFT(F635,MIN(FIND(0,SUBSTITUTE(F635,{1,2,3,4,5,6,7,8,9},0)&0))-1)=FALSE\n),\"Check\",\"\")","v":""},"","",null,"",0,"","","","",""]
["SBSA_627","SBSA_627",null,null,null,null,null,null,null,null,null,null,null,null,null,null,null,null,null,null,null,null,null,null,null,null,"","",{"$f":"IF(OR(\nOR(AND(D636<>\"\",F636=\"\"),AND(E636<>\"\",F636=\"\")),\nF636=LEFT(F636,MIN(FIND(0,SUBSTITUTE(F636,{1,2,3,4,5,6,7,8,9},0)&0))-1)=FALSE\n),\"Check\",\"\")","v":""},"","",null,"",0,"","","","",""]
["SBSA_628","SBSA_628",null,null,null,null,null,null,null,null,null,null,null,null,null,null,null,null,null,null,null,null,null,null,null,null,"","",{"$f":"IF(OR(\nOR(AND(D637<>\"\",F637=\"\"),AND(E637<>\"\",F637=\"\")),\nF637=LEFT(F637,MIN(FIND(0,SUBSTITUTE(F637,{1,2,3,4,5,6,7,8,9},0)&0))-1)=FALSE\n),\"Check\",\"\")","v":""},"","",null,"",0,"","","","",""]
["SBSA_629","SBSA_629",null,null,null,null,null,null,null,null,null,null,null,null,null,null,null,null,null,null,null,null,null,null,null,null,"","",{"$f":"IF(OR(\nOR(AND(D638<>\"\",F638=\"\"),AND(E638<>\"\",F638=\"\")),\nF638=LEFT(F638,MIN(FIND(0,SUBSTITUTE(F638,{1,2,3,4,5,6,7,8,9},0)&0))-1)=FALSE\n),\"Check\",\"\")","v":""},"","",null,"",0,"","","","",""]
["SBSA_630","SBSA_630",null,null,null,null,null,null,null,null,null,null,null,null,null,null,null,null,null,null,null,null,null,null,null,null,"","",{"$f":"IF(OR(\nOR(AND(D639<>\"\",F639=\"\"),AND(E639<>\"\",F639=\"\")),\nF639=LEFT(F639,MIN(FIND(0,SUBSTITUTE(F639,{1,2,3,4,5,6,7,8,9},0)&0))-1)=FALSE\n),\"Check\",\"\")","v":""},"","",null,"",0,"","","","",""]
["SBSA_631","SBSA_631",null,null,null,null,null,null,null,null,null,null,null,null,null,null,null,null,null,null,null,null,null,null,null,null,"","",{"$f":"IF(OR(\nOR(AND(D640<>\"\",F640=\"\"),AND(E640<>\"\",F640=\"\")),\nF640=LEFT(F640,MIN(FIND(0,SUBSTITUTE(F640,{1,2,3,4,5,6,7,8,9},0)&0))-1)=FALSE\n),\"Check\",\"\")","v":""},"","",null,"",0,"","","","",""]
["SBSA_632","SBSA_632",null,null,null,null,null,null,null,null,null,null,null,null,null,null,null,null,null,null,null,null,null,null,null,null,"","",{"$f":"IF(OR(\nOR(AND(D641<>\"\",F641=\"\"),AND(E641<>\"\",F641=\"\")),\nF641=LEFT(F641,MIN(FIND(0,SUBSTITUTE(F641,{1,2,3,4,5,6,7,8,9},0)&0))-1)=FALSE\n),\"Check\",\"\")","v":""},"","",null,"",0,"","","","",""]
["SBSA_633","SBSA_633",null,null,null,null,null,null,null,null,null,null,null,null,null,null,null,null,null,null,null,null,null,null,null,null,"","",{"$f":"IF(OR(\nOR(AND(D642<>\"\",F642=\"\"),AND(E642<>\"\",F642=\"\")),\nF642=LEFT(F642,MIN(FIND(0,SUBSTITUTE(F642,{1,2,3,4,5,6,7,8,9},0)&0))-1)=FALSE\n),\"Check\",\"\")","v":""},"","",null,"",0,"","","","",""]
["SBSA_634","SBSA_634",null,null,null,null,null,null,null,null,null,null,null,null,null,null,null,null,null,null,null,null,null,null,null,null,"","",{"$f":"IF(OR(\nOR(AND(D643<>\"\",F643=\"\"),AND(E643<>\"\",F643=\"\")),\nF643=LEFT(F643,MIN(FIND(0,SUBSTITUTE(F643,{1,2,3,4,5,6,7,8,9},0)&0))-1)=FALSE\n),\"Check\",\"\")","v":""},"","",null,"",0,"","","","",""]
["SBSA_635","SBSA_635",null,null,null,null,null,null,null,null,null,null,null,null,null,null,null,null,null,null,null,null,null,null,null,null,"","",{"$f":"IF(OR(\nOR(AND(D644<>\"\",F644=\"\"),AND(E644<>\"\",F644=\"\")),\nF644=LEFT(F644,MIN(FIND(0,SUBSTITUTE(F644,{1,2,3,4,5,6,7,8,9},0)&0))-1)=FALSE\n),\"Check\",\"\")","v":""},"","",null,"",0,"","","","",""]
["SBSA_636","SBSA_636",null,null,null,null,null,null,null,null,null,null,null,null,null,null,null,null,null,null,null,null,null,null,null,null,"","",{"$f":"IF(OR(\nOR(AND(D645<>\"\",F645=\"\"),AND(E645<>\"\",F645=\"\")),\nF645=LEFT(F645,MIN(FIND(0,SUBSTITUTE(F645,{1,2,3,4,5,6,7,8,9},0)&0))-1)=FALSE\n),\"Check\",\"\")","v":""},"","",null,"",0,"","","","",""]
["SBSA_637","SBSA_637",null,null,null,null,null,null,null,null,null,null,null,null,null,null,null,null,null,null,null,null,null,null,null,null,"","",{"$f":"IF(OR(\nOR(AND(D646<>\"\",F646=\"\"),AND(E646<>\"\",F646=\"\")),\nF646=LEFT(F646,MIN(FIND(0,SUBSTITUTE(F646,{1,2,3,4,5,6,7,8,9},0)&0))-1)=FALSE\n),\"Check\",\"\")","v":""},"","",null,"",0,"","","","",""]
["SBSA_638","SBSA_638",null,null,null,null,null,null,null,null,null,null,null,null,null,null,null,null,null,null,null,null,null,null,null,null,"","",{"$f":"IF(OR(\nOR(AND(D647<>\"\",F647=\"\"),AND(E647<>\"\",F647=\"\")),\nF647=LEFT(F647,MIN(FIND(0,SUBSTITUTE(F647,{1,2,3,4,5,6,7,8,9},0)&0))-1)=FALSE\n),\"Check\",\"\")","v":""},"","",null,"",0,"","","","",""]
["SBSA_639","SBSA_639",null,null,null,null,null,null,null,null,null,null,null,null,null,null,null,null,null,null,null,null,null,null,null,null,"","",{"$f":"IF(OR(\nOR(AND(D648<>\"\",F648=\"\"),AND(E648<>\"\",F648=\"\")),\nF648=LEFT(F648,MIN(FIND(0,SUBSTITUTE(F648,{1,2,3,4,5,6,7,8,9},0)&0))-1)=FALSE\n),\"Check\",\"\")","v":""},"","",null,"",0,"","","","",""]
["SBSA_640","SBSA_640",null,null,null,null,null,null,null,null,null,null,null,null,null,null,null,null,null,null,null,null,null,null,null,null,"","",{"$f":"IF(OR(\nOR(AND(D649<>\"\",F649=\"\"),AND(E649<>\"\",F649=\"\")),\nF649=LEFT(F649,MIN(FIND(0,SUBSTITUTE(F649,{1,2,3,4,5,6,7,8,9},0)&0))-1)=FALSE\n),\"Check\",\"\")","v":""},"","",null,"",0,"","","","",""]
["SBSA_641","SBSA_641",null,null,null,null,null,null,null,null,null,null,null,null,null,null,null,null,null,null,null,null,null,null,null,null,{"$f":"IF(AND(C650=\"\",OR(D650<>\"\",E650<>\"\",F650<>\"\",G650<>\"\")),\"Check\",\"\")","v":""},{"$f":"IF(AND(C650<>\"\",OR(AND(D650=\"\",E650=\"\"),AND(D650=0,E650=0),AND(ABS(D650)>0,ABS(E650)>0))),\"Check\",\"\")","v":""},{"$f":"IF(OR(\nOR(AND(D650<>\"\",F650=\"\"),AND(E650<>\"\",F650=\"\")),\nF650=LEFT(F650,MIN(FIND(0,SUBSTITUTE(F650,{1,2,3,4,5,6,7,8,9},0)&0))-1)=FALSE\n),\"Check\",\"\")","v":""},{"$f":"IF(OR(E650=\"\",G650=\"\"),\"\",(E650*G650)/100)","v":""},{"$f":"IF(AND(F650<>\"\",G650=\"\"),\"Check\",\"\")","v":""},null,{"$f":"IF(C650=\"\",\"\",C650&\"_\"&IF(G650=\"\",0,G650))","v":""},{"$f":"IF(COUNTBLANK(C650:G650)<5,1,0)","v":0},{"$f":"IF(C650=\"\",\"\",IF(LEN(C650)=12,\"\",\"Check\"))","v":""},{"$f":"IF(C650=\"\",\"\",IF(COUNTIF(C$10:C$65536,C650)=COUNTIF(AG$10:AG$65536,AG650),\"\",\"Check\"))","v":""},{"$f":"IF(F650=\"\",\"\",IF(LEN(F650)=3,\"\",\"Check\"))","v":""},{"$f":"IF(OR(IF(D650=\"\",\"\",IF(ISNUMBER(D650)=TRUE,\"\",\"TEXT\"))=\"TEXT\",IF(E650=\"\",\"\",IF(ISNUMBER(E650)=TRUE,\"\",\"TEXT\"))=\"TEXT\",IF(G650=\"\",\"\",IF(ISNUMBER(G650)=TRUE,\"\",\"TEXT\"))=\"TEXT\"),\"Check\",\"\")","v":""},{"$f":"IF(G650<0,\"Check\",\"\")","v":""}]
["SBSA_642","SBSA_642",null,null,null,null,null,null,null,null,null,null,null,null,null,null,null,null,null,null,null,null,null,null,null,null,"","",{"$f":"IF(OR(\nOR(AND(D651<>\"\",F651=\"\"),AND(E651<>\"\",F651=\"\")),\nF651=LEFT(F651,MIN(FIND(0,SUBSTITUTE(F651,{1,2,3,4,5,6,7,8,9},0)&0))-1)=FALSE\n),\"Check\",\"\")","v":""},"","",null,"",0,"","","","",""]
["SBSA_643","SBSA_643",null,null,null,null,null,null,null,null,null,null,null,null,null,null,null,null,null,null,null,null,null,null,null,null,"","",{"$f":"IF(OR(\nOR(AND(D652<>\"\",F652=\"\"),AND(E652<>\"\",F652=\"\")),\nF652=LEFT(F652,MIN(FIND(0,SUBSTITUTE(F652,{1,2,3,4,5,6,7,8,9},0)&0))-1)=FALSE\n),\"Check\",\"\")","v":""},"","",null,"",0,"","","","",""]
["SBSA_644","SBSA_644",null,null,null,null,null,null,null,null,null,null,null,null,null,null,null,null,null,null,null,null,null,null,null,null,"","",{"$f":"IF(OR(\nOR(AND(D653<>\"\",F653=\"\"),AND(E653<>\"\",F653=\"\")),\nF653=LEFT(F653,MIN(FIND(0,SUBSTITUTE(F653,{1,2,3,4,5,6,7,8,9},0)&0))-1)=FALSE\n),\"Check\",\"\")","v":""},"","",null,"",0,"","","","",""]
["SBSA_645","SBSA_645",null,null,null,null,null,null,null,null,null,null,null,null,null,null,null,null,null,null,null,null,null,null,null,null,"","",{"$f":"IF(OR(\nOR(AND(D654<>\"\",F654=\"\"),AND(E654<>\"\",F654=\"\")),\nF654=LEFT(F654,MIN(FIND(0,SUBSTITUTE(F654,{1,2,3,4,5,6,7,8,9},0)&0))-1)=FALSE\n),\"Check\",\"\")","v":""},"","",null,"",0,"","","","",""]
["SBSA_646","SBSA_646",null,null,null,null,null,null,null,null,null,null,null,null,null,null,null,null,null,null,null,null,null,null,null,null,"","",{"$f":"IF(OR(\nOR(AND(D655<>\"\",F655=\"\"),AND(E655<>\"\",F655=\"\")),\nF655=LEFT(F655,MIN(FIND(0,SUBSTITUTE(F655,{1,2,3,4,5,6,7,8,9},0)&0))-1)=FALSE\n),\"Check\",\"\")","v":""},"","",null,"",0,"","","","",""]
["SBSA_647","SBSA_647",null,null,null,null,null,null,null,null,null,null,null,null,null,null,null,null,null,null,null,null,null,null,null,null,"","",{"$f":"IF(OR(\nOR(AND(D656<>\"\",F656=\"\"),AND(E656<>\"\",F656=\"\")),\nF656=LEFT(F656,MIN(FIND(0,SUBSTITUTE(F656,{1,2,3,4,5,6,7,8,9},0)&0))-1)=FALSE\n),\"Check\",\"\")","v":""},"","",null,"",0,"","","","",""]
["SBSA_648","SBSA_648",null,null,null,null,null,null,null,null,null,null,null,null,null,null,null,null,null,null,null,null,null,null,null,null,"","",{"$f":"IF(OR(\nOR(AND(D657<>\"\",F657=\"\"),AND(E657<>\"\",F657=\"\")),\nF657=LEFT(F657,MIN(FIND(0,SUBSTITUTE(F657,{1,2,3,4,5,6,7,8,9},0)&0))-1)=FALSE\n),\"Check\",\"\")","v":""},"","",null,"",0,"","","","",""]
["SBSA_649","SBSA_649",null,null,null,null,null,null,null,null,null,null,null,null,null,null,null,null,null,null,null,null,null,null,null,null,"","",{"$f":"IF(OR(\nOR(AND(D658<>\"\",F658=\"\"),AND(E658<>\"\",F658=\"\")),\nF658=LEFT(F658,MIN(FIND(0,SUBSTITUTE(F658,{1,2,3,4,5,6,7,8,9},0)&0))-1)=FALSE\n),\"Check\",\"\")","v":""},"","",null,"",0,"","","","",""]
["SBSA_650","SBSA_650",null,null,null,null,null,null,null,null,null,null,null,null,null,null,null,null,null,null,null,null,null,null,null,null,"","",{"$f":"IF(OR(\nOR(AND(D659<>\"\",F659=\"\"),AND(E659<>\"\",F659=\"\")),\nF659=LEFT(F659,MIN(FIND(0,SUBSTITUTE(F659,{1,2,3,4,5,6,7,8,9},0)&0))-1)=FALSE\n),\"Check\",\"\")","v":""},"","",null,"",0,"","","","",""]
["SBSA_651","SBSA_651",null,null,null,null,null,null,null,null,null,null,null,null,null,null,null,null,null,null,null,null,null,null,null,null,"","",{"$f":"IF(OR(\nOR(AND(D660<>\"\",F660=\"\"),AND(E660<>\"\",F660=\"\")),\nF660=LEFT(F660,MIN(FIND(0,SUBSTITUTE(F660,{1,2,3,4,5,6,7,8,9},0)&0))-1)=FALSE\n),\"Check\",\"\")","v":""},"","",null,"",0,"","","","",""]
["SBSA_652","SBSA_652",null,null,null,null,null,null,null,null,null,null,null,null,null,null,null,null,null,null,null,null,null,null,null,null,"","",{"$f":"IF(OR(\nOR(AND(D661<>\"\",F661=\"\"),AND(E661<>\"\",F661=\"\")),\nF661=LEFT(F661,MIN(FIND(0,SUBSTITUTE(F661,{1,2,3,4,5,6,7,8,9},0)&0))-1)=FALSE\n),\"Check\",\"\")","v":""},"","",null,"",0,"","","","",""]
["SBSA_653","SBSA_653",null,null,null,null,null,null,null,null,null,null,null,null,null,null,null,null,null,null,null,null,null,null,null,null,"","",{"$f":"IF(OR(\nOR(AND(D662<>\"\",F662=\"\"),AND(E662<>\"\",F662=\"\")),\nF662=LEFT(F662,MIN(FIND(0,SUBSTITUTE(F662,{1,2,3,4,5,6,7,8,9},0)&0))-1)=FALSE\n),\"Check\",\"\")","v":""},"","",null,"",0,"","","","",""]
["SBSA_654","SBSA_654",null,null,null,null,null,null,null,null,null,null,null,null,null,null,null,null,null,null,null,null,null,null,null,null,"","",{"$f":"IF(OR(\nOR(AND(D663<>\"\",F663=\"\"),AND(E663<>\"\",F663=\"\")),\nF663=LEFT(F663,MIN(FIND(0,SUBSTITUTE(F663,{1,2,3,4,5,6,7,8,9},0)&0))-1)=FALSE\n),\"Check\",\"\")","v":""},"","",null,"",0,"","","","",""]
["SBSA_655","SBSA_655",null,null,null,null,null,null,null,null,null,null,null,null,null,null,null,null,null,null,null,null,null,null,null,null,"","",{"$f":"IF(OR(\nOR(AND(D664<>\"\",F664=\"\"),AND(E664<>\"\",F664=\"\")),\nF664=LEFT(F664,MIN(FIND(0,SUBSTITUTE(F664,{1,2,3,4,5,6,7,8,9},0)&0))-1)=FALSE\n),\"Check\",\"\")","v":""},"","",null,"",0,"","","","",""]
["SBSA_656","SBSA_656",null,null,null,null,null,null,null,null,null,null,null,null,null,null,null,null,null,null,null,null,null,null,null,null,"","",{"$f":"IF(OR(\nOR(AND(D665<>\"\",F665=\"\"),AND(E665<>\"\",F665=\"\")),\nF665=LEFT(F665,MIN(FIND(0,SUBSTITUTE(F665,{1,2,3,4,5,6,7,8,9},0)&0))-1)=FALSE\n),\"Check\",\"\")","v":""},"","",null,"",0,"","","","",""]
["SBSA_657","SBSA_657",null,null,null,null,null,null,null,null,null,null,null,null,null,null,null,null,null,null,null,null,null,null,null,null,"","",{"$f":"IF(OR(\nOR(AND(D666<>\"\",F666=\"\"),AND(E666<>\"\",F666=\"\")),\nF666=LEFT(F666,MIN(FIND(0,SUBSTITUTE(F666,{1,2,3,4,5,6,7,8,9},0)&0))-1)=FALSE\n),\"Check\",\"\")","v":""},"","",null,"",0,"","","","",""]
["SBSA_658","SBSA_658",null,null,null,null,null,null,null,null,null,null,null,null,null,null,null,null,null,null,null,null,null,null,null,null,"","",{"$f":"IF(OR(\nOR(AND(D667<>\"\",F667=\"\"),AND(E667<>\"\",F667=\"\")),\nF667=LEFT(F667,MIN(FIND(0,SUBSTITUTE(F667,{1,2,3,4,5,6,7,8,9},0)&0))-1)=FALSE\n),\"Check\",\"\")","v":""},"","",null,"",0,"","","","",""]
["SBSA_659","SBSA_659",null,null,null,null,null,null,null,null,null,null,null,null,null,null,null,null,null,null,null,null,null,null,null,null,"","",{"$f":"IF(OR(\nOR(AND(D668<>\"\",F668=\"\"),AND(E668<>\"\",F668=\"\")),\nF668=LEFT(F668,MIN(FIND(0,SUBSTITUTE(F668,{1,2,3,4,5,6,7,8,9},0)&0))-1)=FALSE\n),\"Check\",\"\")","v":""},"","",null,"",0,"","","","",""]
["SBSA_660","SBSA_660",null,null,null,null,null,null,null,null,null,null,null,null,null,null,null,null,null,null,null,null,null,null,null,null,"","",{"$f":"IF(OR(\nOR(AND(D669<>\"\",F669=\"\"),AND(E669<>\"\",F669=\"\")),\nF669=LEFT(F669,MIN(FIND(0,SUBSTITUTE(F669,{1,2,3,4,5,6,7,8,9},0)&0))-1)=FALSE\n),\"Check\",\"\")","v":""},"","",null,"",0,"","","","",""]
["SBSA_661","SBSA_661",null,null,null,null,null,null,null,null,null,null,null,null,null,null,null,null,null,null,null,null,null,null,null,null,"","",{"$f":"IF(OR(\nOR(AND(D670<>\"\",F670=\"\"),AND(E670<>\"\",F670=\"\")),\nF670=LEFT(F670,MIN(FIND(0,SUBSTITUTE(F670,{1,2,3,4,5,6,7,8,9},0)&0))-1)=FALSE\n),\"Check\",\"\")","v":""},"","",null,"",0,"","","","",""]
["SBSA_662","SBSA_662",null,null,null,null,null,null,null,null,null,null,null,null,null,null,null,null,null,null,null,null,null,null,null,null,"","",{"$f":"IF(OR(\nOR(AND(D671<>\"\",F671=\"\"),AND(E671<>\"\",F671=\"\")),\nF671=LEFT(F671,MIN(FIND(0,SUBSTITUTE(F671,{1,2,3,4,5,6,7,8,9},0)&0))-1)=FALSE\n),\"Check\",\"\")","v":""},"","",null,"",0,"","","","",""]
["SBSA_663","SBSA_663",null,null,null,null,null,null,null,null,null,null,null,null,null,null,null,null,null,null,null,null,null,null,null,null,"","",{"$f":"IF(OR(\nOR(AND(D672<>\"\",F672=\"\"),AND(E672<>\"\",F672=\"\")),\nF672=LEFT(F672,MIN(FIND(0,SUBSTITUTE(F672,{1,2,3,4,5,6,7,8,9},0)&0))-1)=FALSE\n),\"Check\",\"\")","v":""},"","",null,"",0,"","","","",""]
["SBSA_664","SBSA_664",null,null,null,null,null,null,null,null,null,null,null,null,null,null,null,null,null,null,null,null,null,null,null,null,"","",{"$f":"IF(OR(\nOR(AND(D673<>\"\",F673=\"\"),AND(E673<>\"\",F673=\"\")),\nF673=LEFT(F673,MIN(FIND(0,SUBSTITUTE(F673,{1,2,3,4,5,6,7,8,9},0)&0))-1)=FALSE\n),\"Check\",\"\")","v":""},"","",null,"",0,"","","","",""]
["SBSA_665","SBSA_665",null,null,null,null,null,null,null,null,null,null,null,null,null,null,null,null,null,null,null,null,null,null,null,null,"","",{"$f":"IF(OR(\nOR(AND(D674<>\"\",F674=\"\"),AND(E674<>\"\",F674=\"\")),\nF674=LEFT(F674,MIN(FIND(0,SUBSTITUTE(F674,{1,2,3,4,5,6,7,8,9},0)&0))-1)=FALSE\n),\"Check\",\"\")","v":""},"","",null,"",0,"","","","",""]
["SBSA_666","SBSA_666",null,null,null,null,null,null,null,null,null,null,null,null,null,null,null,null,null,null,null,null,null,null,null,null,"","",{"$f":"IF(OR(\nOR(AND(D675<>\"\",F675=\"\"),AND(E675<>\"\",F675=\"\")),\nF675=LEFT(F675,MIN(FIND(0,SUBSTITUTE(F675,{1,2,3,4,5,6,7,8,9},0)&0))-1)=FALSE\n),\"Check\",\"\")","v":""},"","",null,"",0,"","","","",""]
["SBSA_667","SBSA_667",null,null,null,null,null,null,null,null,null,null,null,null,null,null,null,null,null,null,null,null,null,null,null,null,"","",{"$f":"IF(OR(\nOR(AND(D676<>\"\",F676=\"\"),AND(E676<>\"\",F676=\"\")),\nF676=LEFT(F676,MIN(FIND(0,SUBSTITUTE(F676,{1,2,3,4,5,6,7,8,9},0)&0))-1)=FALSE\n),\"Check\",\"\")","v":""},"","",null,"",0,"","","","",""]
["SBSA_668","SBSA_668",null,null,null,null,null,null,null,null,null,null,null,null,null,null,null,null,null,null,null,null,null,null,null,null,"","",{"$f":"IF(OR(\nOR(AND(D677<>\"\",F677=\"\"),AND(E677<>\"\",F677=\"\")),\nF677=LEFT(F677,MIN(FIND(0,SUBSTITUTE(F677,{1,2,3,4,5,6,7,8,9},0)&0))-1)=FALSE\n),\"Check\",\"\")","v":""},"","",null,"",0,"","","","",""]
["SBSA_669","SBSA_669",null,null,null,null,null,null,null,null,null,null,null,null,null,null,null,null,null,null,null,null,null,null,null,null,"","",{"$f":"IF(OR(\nOR(AND(D678<>\"\",F678=\"\"),AND(E678<>\"\",F678=\"\")),\nF678=LEFT(F678,MIN(FIND(0,SUBSTITUTE(F678,{1,2,3,4,5,6,7,8,9},0)&0))-1)=FALSE\n),\"Check\",\"\")","v":""},"","",null,"",0,"","","","",""]
["SBSA_670","SBSA_670",null,null,null,null,null,null,null,null,null,null,null,null,null,null,null,null,null,null,null,null,null,null,null,null,"","",{"$f":"IF(OR(\nOR(AND(D679<>\"\",F679=\"\"),AND(E679<>\"\",F679=\"\")),\nF679=LEFT(F679,MIN(FIND(0,SUBSTITUTE(F679,{1,2,3,4,5,6,7,8,9},0)&0))-1)=FALSE\n),\"Check\",\"\")","v":""},"","",null,"",0,"","","","",""]
["SBSA_671","SBSA_671",null,null,null,null,null,null,null,null,null,null,null,null,null,null,null,null,null,null,null,null,null,null,null,null,"","",{"$f":"IF(OR(\nOR(AND(D680<>\"\",F680=\"\"),AND(E680<>\"\",F680=\"\")),\nF680=LEFT(F680,MIN(FIND(0,SUBSTITUTE(F680,{1,2,3,4,5,6,7,8,9},0)&0))-1)=FALSE\n),\"Check\",\"\")","v":""},"","",null,"",0,"","","","",""]
["SBSA_672","SBSA_672",null,null,null,null,null,null,null,null,null,null,null,null,null,null,null,null,null,null,null,null,null,null,null,null,"","",{"$f":"IF(OR(\nOR(AND(D681<>\"\",F681=\"\"),AND(E681<>\"\",F681=\"\")),\nF681=LEFT(F681,MIN(FIND(0,SUBSTITUTE(F681,{1,2,3,4,5,6,7,8,9},0)&0))-1)=FALSE\n),\"Check\",\"\")","v":""},"","",null,"",0,"","","","",""]
["SBSA_673","SBSA_673",null,null,null,null,null,null,null,null,null,null,null,null,null,null,null,null,null,null,null,null,null,null,null,null,"","",{"$f":"IF(OR(\nOR(AND(D682<>\"\",F682=\"\"),AND(E682<>\"\",F682=\"\")),\nF682=LEFT(F682,MIN(FIND(0,SUBSTITUTE(F682,{1,2,3,4,5,6,7,8,9},0)&0))-1)=FALSE\n),\"Check\",\"\")","v":""},"","",null,"",0,"","","","",""]
["SBSA_674","SBSA_674",null,null,null,null,null,null,null,null,null,null,null,null,null,null,null,null,null,null,null,null,null,null,null,null,"","",{"$f":"IF(OR(\nOR(AND(D683<>\"\",F683=\"\"),AND(E683<>\"\",F683=\"\")),\nF683=LEFT(F683,MIN(FIND(0,SUBSTITUTE(F683,{1,2,3,4,5,6,7,8,9},0)&0))-1)=FALSE\n),\"Check\",\"\")","v":""},"","",null,"",0,"","","","",""]
["SBSA_675","SBSA_675",null,null,null,null,null,null,null,null,null,null,null,null,null,null,null,null,null,null,null,null,null,null,null,null,"","",{"$f":"IF(OR(\nOR(AND(D684<>\"\",F684=\"\"),AND(E684<>\"\",F684=\"\")),\nF684=LEFT(F684,MIN(FIND(0,SUBSTITUTE(F684,{1,2,3,4,5,6,7,8,9},0)&0))-1)=FALSE\n),\"Check\",\"\")","v":""},"","",null,"",0,"","","","",""]
["SBSA_676","SBSA_676",null,null,null,null,null,null,null,null,null,null,null,null,null,null,null,null,null,null,null,null,null,null,null,null,"","",{"$f":"IF(OR(\nOR(AND(D685<>\"\",F685=\"\"),AND(E685<>\"\",F685=\"\")),\nF685=LEFT(F685,MIN(FIND(0,SUBSTITUTE(F685,{1,2,3,4,5,6,7,8,9},0)&0))-1)=FALSE\n),\"Check\",\"\")","v":""},"","",null,"",0,"","","","",""]
["SBSA_677","SBSA_677",null,null,null,null,null,null,null,null,null,null,null,null,null,null,null,null,null,null,null,null,null,null,null,null,"","",{"$f":"IF(OR(\nOR(AND(D686<>\"\",F686=\"\"),AND(E686<>\"\",F686=\"\")),\nF686=LEFT(F686,MIN(FIND(0,SUBSTITUTE(F686,{1,2,3,4,5,6,7,8,9},0)&0))-1)=FALSE\n),\"Check\",\"\")","v":""},"","",null,"",0,"","","","",""]
["SBSA_678","SBSA_678",null,null,null,null,null,null,null,null,null,null,null,null,null,null,null,null,null,null,null,null,null,null,null,null,"","",{"$f":"IF(OR(\nOR(AND(D687<>\"\",F687=\"\"),AND(E687<>\"\",F687=\"\")),\nF687=LEFT(F687,MIN(FIND(0,SUBSTITUTE(F687,{1,2,3,4,5,6,7,8,9},0)&0))-1)=FALSE\n),\"Check\",\"\")","v":""},"","",null,"",0,"","","","",""]
["SBSA_679","SBSA_679",null,null,null,null,null,null,null,null,null,null,null,null,null,null,null,null,null,null,null,null,null,null,null,null,"","",{"$f":"IF(OR(\nOR(AND(D688<>\"\",F688=\"\"),AND(E688<>\"\",F688=\"\")),\nF688=LEFT(F688,MIN(FIND(0,SUBSTITUTE(F688,{1,2,3,4,5,6,7,8,9},0)&0))-1)=FALSE\n),\"Check\",\"\")","v":""},"","",null,"",0,"","","","",""]
["SBSA_680","SBSA_680",null,null,null,null,null,null,null,null,null,null,null,null,null,null,null,null,null,null,null,null,null,null,null,null,"","",{"$f":"IF(OR(\nOR(AND(D689<>\"\",F689=\"\"),AND(E689<>\"\",F689=\"\")),\nF689=LEFT(F689,MIN(FIND(0,SUBSTITUTE(F689,{1,2,3,4,5,6,7,8,9},0)&0))-1)=FALSE\n),\"Check\",\"\")","v":""},"","",null,"",0,"","","","",""]
["SBSA_681","SBSA_681",null,null,null,null,null,null,null,null,null,null,null,null,null,null,null,null,null,null,null,null,null,null,null,null,"","",{"$f":"IF(OR(\nOR(AND(D690<>\"\",F690=\"\"),AND(E690<>\"\",F690=\"\")),\nF690=LEFT(F690,MIN(FIND(0,SUBSTITUTE(F690,{1,2,3,4,5,6,7,8,9},0)&0))-1)=FALSE\n),\"Check\",\"\")","v":""},"","",null,"",0,"","","","",""]
["SBSA_682","SBSA_682",null,null,null,null,null,null,null,null,null,null,null,null,null,null,null,null,null,null,null,null,null,null,null,null,"","",{"$f":"IF(OR(\nOR(AND(D691<>\"\",F691=\"\"),AND(E691<>\"\",F691=\"\")),\nF691=LEFT(F691,MIN(FIND(0,SUBSTITUTE(F691,{1,2,3,4,5,6,7,8,9},0)&0))-1)=FALSE\n),\"Check\",\"\")","v":""},"","",null,"",0,"","","","",""]
["SBSA_683","SBSA_683",null,null,null,null,null,null,null,null,null,null,null,null,null,null,null,null,null,null,null,null,null,null,null,null,"","",{"$f":"IF(OR(\nOR(AND(D692<>\"\",F692=\"\"),AND(E692<>\"\",F692=\"\")),\nF692=LEFT(F692,MIN(FIND(0,SUBSTITUTE(F692,{1,2,3,4,5,6,7,8,9},0)&0))-1)=FALSE\n),\"Check\",\"\")","v":""},"","",null,"",0,"","","","",""]
["SBSA_684","SBSA_684",null,null,null,null,null,null,null,null,null,null,null,null,null,null,null,null,null,null,null,null,null,null,null,null,"","",{"$f":"IF(OR(\nOR(AND(D693<>\"\",F693=\"\"),AND(E693<>\"\",F693=\"\")),\nF693=LEFT(F693,MIN(FIND(0,SUBSTITUTE(F693,{1,2,3,4,5,6,7,8,9},0)&0))-1)=FALSE\n),\"Check\",\"\")","v":""},"","",null,"",0,"","","","",""]
["SBSA_685","SBSA_685",null,null,null,null,null,null,null,null,null,null,null,null,null,null,null,null,null,null,null,null,null,null,null,null,"","",{"$f":"IF(OR(\nOR(AND(D694<>\"\",F694=\"\"),AND(E694<>\"\",F694=\"\")),\nF694=LEFT(F694,MIN(FIND(0,SUBSTITUTE(F694,{1,2,3,4,5,6,7,8,9},0)&0))-1)=FALSE\n),\"Check\",\"\")","v":""},"","",null,"",0,"","","","",""]
["SBSA_686","SBSA_686",null,null,null,null,null,null,null,null,null,null,null,null,null,null,null,null,null,null,null,null,null,null,null,null,"","",{"$f":"IF(OR(\nOR(AND(D695<>\"\",F695=\"\"),AND(E695<>\"\",F695=\"\")),\nF695=LEFT(F695,MIN(FIND(0,SUBSTITUTE(F695,{1,2,3,4,5,6,7,8,9},0)&0))-1)=FALSE\n),\"Check\",\"\")","v":""},"","",null,"",0,"","","","",""]
["SBSA_687","SBSA_687",null,null,null,null,null,null,null,null,null,null,null,null,null,null,null,null,null,null,null,null,null,null,null,null,"","",{"$f":"IF(OR(\nOR(AND(D696<>\"\",F696=\"\"),AND(E696<>\"\",F696=\"\")),\nF696=LEFT(F696,MIN(FIND(0,SUBSTITUTE(F696,{1,2,3,4,5,6,7,8,9},0)&0))-1)=FALSE\n),\"Check\",\"\")","v":""},"","",null,"",0,"","","","",""]
["SBSA_688","SBSA_688",null,null,null,null,null,null,null,null,null,null,null,null,null,null,null,null,null,null,null,null,null,null,null,null,"","",{"$f":"IF(OR(\nOR(AND(D697<>\"\",F697=\"\"),AND(E697<>\"\",F697=\"\")),\nF697=LEFT(F697,MIN(FIND(0,SUBSTITUTE(F697,{1,2,3,4,5,6,7,8,9},0)&0))-1)=FALSE\n),\"Check\",\"\")","v":""},"","",null,"",0,"","","","",""]
["SBSA_689","SBSA_689",null,null,null,null,null,null,null,null,null,null,null,null,null,null,null,null,null,null,null,null,null,null,null,null,"","",{"$f":"IF(OR(\nOR(AND(D698<>\"\",F698=\"\"),AND(E698<>\"\",F698=\"\")),\nF698=LEFT(F698,MIN(FIND(0,SUBSTITUTE(F698,{1,2,3,4,5,6,7,8,9},0)&0))-1)=FALSE\n),\"Check\",\"\")","v":""},"","",null,"",0,"","","","",""]
["SBSA_690","SBSA_690",null,null,null,null,null,null,null,null,null,null,null,null,null,null,null,null,null,null,null,null,null,null,null,null,"","",{"$f":"IF(OR(\nOR(AND(D699<>\"\",F699=\"\"),AND(E699<>\"\",F699=\"\")),\nF699=LEFT(F699,MIN(FIND(0,SUBSTITUTE(F699,{1,2,3,4,5,6,7,8,9},0)&0))-1)=FALSE\n),\"Check\",\"\")","v":""},"","",null,"",0,"","","","",""]
["SBSA_691","SBSA_691",null,null,null,null,null,null,null,null,null,null,null,null,null,null,null,null,null,null,null,null,null,null,null,null,"","",{"$f":"IF(OR(\nOR(AND(D700<>\"\",F700=\"\"),AND(E700<>\"\",F700=\"\")),\nF700=LEFT(F700,MIN(FIND(0,SUBSTITUTE(F700,{1,2,3,4,5,6,7,8,9},0)&0))-1)=FALSE\n),\"Check\",\"\")","v":""},"","",null,"",0,"","","","",""]
["SBSA_692","SBSA_692",null,null,null,null,null,null,null,null,null,null,null,null,null,null,null,null,null,null,null,null,null,null,null,null,"","",{"$f":"IF(OR(\nOR(AND(D701<>\"\",F701=\"\"),AND(E701<>\"\",F701=\"\")),\nF701=LEFT(F701,MIN(FIND(0,SUBSTITUTE(F701,{1,2,3,4,5,6,7,8,9},0)&0))-1)=FALSE\n),\"Check\",\"\")","v":""},"","",null,"",0,"","","","",""]
["SBSA_693","SBSA_693",null,null,null,null,null,null,null,null,null,null,null,null,null,null,null,null,null,null,null,null,null,null,null,null,"","",{"$f":"IF(OR(\nOR(AND(D702<>\"\",F702=\"\"),AND(E702<>\"\",F702=\"\")),\nF702=LEFT(F702,MIN(FIND(0,SUBSTITUTE(F702,{1,2,3,4,5,6,7,8,9},0)&0))-1)=FALSE\n),\"Check\",\"\")","v":""},"","",null,"",0,"","","","",""]
["SBSA_694","SBSA_694",null,null,null,null,null,null,null,null,null,null,null,null,null,null,null,null,null,null,null,null,null,null,null,null,"","",{"$f":"IF(OR(\nOR(AND(D703<>\"\",F703=\"\"),AND(E703<>\"\",F703=\"\")),\nF703=LEFT(F703,MIN(FIND(0,SUBSTITUTE(F703,{1,2,3,4,5,6,7,8,9},0)&0))-1)=FALSE\n),\"Check\",\"\")","v":""},"","",null,"",0,"","","","",""]
["SBSA_695","SBSA_695",null,null,null,null,null,null,null,null,null,null,null,null,null,null,null,null,null,null,null,null,null,null,null,null,"","",{"$f":"IF(OR(\nOR(AND(D704<>\"\",F704=\"\"),AND(E704<>\"\",F704=\"\")),\nF704=LEFT(F704,MIN(FIND(0,SUBSTITUTE(F704,{1,2,3,4,5,6,7,8,9},0)&0))-1)=FALSE\n),\"Check\",\"\")","v":""},"","",null,"",0,"","","","",""]
["SBSA_696","SBSA_696",null,null,null,null,null,null,null,null,null,null,null,null,null,null,null,null,null,null,null,null,null,null,null,null,"","",{"$f":"IF(OR(\nOR(AND(D705<>\"\",F705=\"\"),AND(E705<>\"\",F705=\"\")),\nF705=LEFT(F705,MIN(FIND(0,SUBSTITUTE(F705,{1,2,3,4,5,6,7,8,9},0)&0))-1)=FALSE\n),\"Check\",\"\")","v":""},"","",null,"",0,"","","","",""]
["SBSA_697","SBSA_697",null,null,null,null,null,null,null,null,null,null,null,null,null,null,null,null,null,null,null,null,null,null,null,null,"","",{"$f":"IF(OR(\nOR(AND(D706<>\"\",F706=\"\"),AND(E706<>\"\",F706=\"\")),\nF706=LEFT(F706,MIN(FIND(0,SUBSTITUTE(F706,{1,2,3,4,5,6,7,8,9},0)&0))-1)=FALSE\n),\"Check\",\"\")","v":""},"","",null,"",0,"","","","",""]
["SBSA_698","SBSA_698",null,null,null,null,null,null,null,null,null,null,null,null,null,null,null,null,null,null,null,null,null,null,null,null,"","",{"$f":"IF(OR(\nOR(AND(D707<>\"\",F707=\"\"),AND(E707<>\"\",F707=\"\")),\nF707=LEFT(F707,MIN(FIND(0,SUBSTITUTE(F707,{1,2,3,4,5,6,7,8,9},0)&0))-1)=FALSE\n),\"Check\",\"\")","v":""},"","",null,"",0,"","","","",""]
["SBSA_699","SBSA_699",null,null,null,null,null,null,null,null,null,null,null,null,null,null,null,null,null,null,null,null,null,null,null,null,"","",{"$f":"IF(OR(\nOR(AND(D708<>\"\",F708=\"\"),AND(E708<>\"\",F708=\"\")),\nF708=LEFT(F708,MIN(FIND(0,SUBSTITUTE(F708,{1,2,3,4,5,6,7,8,9},0)&0))-1)=FALSE\n),\"Check\",\"\")","v":""},"","",null,"",0,"","","","",""]
["SBSA_700","SBSA_700",null,null,null,null,null,null,null,null,null,null,null,null,null,null,null,null,null,null,null,null,null,null,null,null,"","",{"$f":"IF(OR(\nOR(AND(D709<>\"\",F709=\"\"),AND(E709<>\"\",F709=\"\")),\nF709=LEFT(F709,MIN(FIND(0,SUBSTITUTE(F709,{1,2,3,4,5,6,7,8,9},0)&0))-1)=FALSE\n),\"Check\",\"\")","v":""},"","",null,"",0,"","","","",""]
["SBSA_701","SBSA_701",null,null,null,null,null,null,null,null,null,null,null,null,null,null,null,null,null,null,null,null,null,null,null,null,"","",{"$f":"IF(OR(\nOR(AND(D710<>\"\",F710=\"\"),AND(E710<>\"\",F710=\"\")),\nF710=LEFT(F710,MIN(FIND(0,SUBSTITUTE(F710,{1,2,3,4,5,6,7,8,9},0)&0))-1)=FALSE\n),\"Check\",\"\")","v":""},"","",null,"",0,"","","","",""]
["SBSA_702","SBSA_702",null,null,null,null,null,null,null,null,null,null,null,null,null,null,null,null,null,null,null,null,null,null,null,null,"","",{"$f":"IF(OR(\nOR(AND(D711<>\"\",F711=\"\"),AND(E711<>\"\",F711=\"\")),\nF711=LEFT(F711,MIN(FIND(0,SUBSTITUTE(F711,{1,2,3,4,5,6,7,8,9},0)&0))-1)=FALSE\n),\"Check\",\"\")","v":""},"","",null,"",0,"","","","",""]
["SBSA_703","SBSA_703",null,null,null,null,null,null,null,null,null,null,null,null,null,null,null,null,null,null,null,null,null,null,null,null,"","",{"$f":"IF(OR(\nOR(AND(D712<>\"\",F712=\"\"),AND(E712<>\"\",F712=\"\")),\nF712=LEFT(F712,MIN(FIND(0,SUBSTITUTE(F712,{1,2,3,4,5,6,7,8,9},0)&0))-1)=FALSE\n),\"Check\",\"\")","v":""},"","",null,"",0,"","","","",""]
["SBSA_704","SBSA_704",null,null,null,null,null,null,null,null,null,null,null,null,null,null,null,null,null,null,null,null,null,null,null,null,"","",{"$f":"IF(OR(\nOR(AND(D713<>\"\",F713=\"\"),AND(E713<>\"\",F713=\"\")),\nF713=LEFT(F713,MIN(FIND(0,SUBSTITUTE(F713,{1,2,3,4,5,6,7,8,9},0)&0))-1)=FALSE\n),\"Check\",\"\")","v":""},"","",null,"",0,"","","","",""]
["SBSA_705","SBSA_705",null,null,null,null,null,null,null,null,null,null,null,null,null,null,null,null,null,null,null,null,null,null,null,null,{"$f":"IF(AND(C714=\"\",OR(D714<>\"\",E714<>\"\",F714<>\"\",G714<>\"\")),\"Check\",\"\")","v":""},{"$f":"IF(AND(C714<>\"\",OR(AND(D714=\"\",E714=\"\"),AND(D714=0,E714=0),AND(ABS(D714)>0,ABS(E714)>0))),\"Check\",\"\")","v":""},{"$f":"IF(OR(\nOR(AND(D714<>\"\",F714=\"\"),AND(E714<>\"\",F714=\"\")),\nF714=LEFT(F714,MIN(FIND(0,SUBSTITUTE(F714,{1,2,3,4,5,6,7,8,9},0)&0))-1)=FALSE\n),\"Check\",\"\")","v":""},{"$f":"IF(OR(E714=\"\",G714=\"\"),\"\",(E714*G714)/100)","v":""},{"$f":"IF(AND(F714<>\"\",G714=\"\"),\"Check\",\"\")","v":""},null,{"$f":"IF(C714=\"\",\"\",C714&\"_\"&IF(G714=\"\",0,G714))","v":""},{"$f":"IF(COUNTBLANK(C714:G714)<5,1,0)","v":0},{"$f":"IF(C714=\"\",\"\",IF(LEN(C714)=12,\"\",\"Check\"))","v":""},{"$f":"IF(C714=\"\",\"\",IF(COUNTIF(C$10:C$65536,C714)=COUNTIF(AG$10:AG$65536,AG714),\"\",\"Check\"))","v":""},{"$f":"IF(F714=\"\",\"\",IF(LEN(F714)=3,\"\",\"Check\"))","v":""},{"$f":"IF(OR(IF(D714=\"\",\"\",IF(ISNUMBER(D714)=TRUE,\"\",\"TEXT\"))=\"TEXT\",IF(E714=\"\",\"\",IF(ISNUMBER(E714)=TRUE,\"\",\"TEXT\"))=\"TEXT\",IF(G714=\"\",\"\",IF(ISNUMBER(G714)=TRUE,\"\",\"TEXT\"))=\"TEXT\"),\"Check\",\"\")","v":""},{"$f":"IF(G714<0,\"Check\",\"\")","v":""}]
["SBSA_706","SBSA_706",null,null,null,null,null,null,null,null,null,null,null,null,null,null,null,null,null,null,null,null,null,null,null,null,"","",{"$f":"IF(OR(\nOR(AND(D715<>\"\",F715=\"\"),AND(E715<>\"\",F715=\"\")),\nF715=LEFT(F715,MIN(FIND(0,SUBSTITUTE(F715,{1,2,3,4,5,6,7,8,9},0)&0))-1)=FALSE\n),\"Check\",\"\")","v":""},"","",null,"",0,"","","","",""]
["SBSA_707","SBSA_707",null,null,null,null,null,null,null,null,null,null,null,null,null,null,null,null,null,null,null,null,null,null,null,null,"","",{"$f":"IF(OR(\nOR(AND(D716<>\"\",F716=\"\"),AND(E716<>\"\",F716=\"\")),\nF716=LEFT(F716,MIN(FIND(0,SUBSTITUTE(F716,{1,2,3,4,5,6,7,8,9},0)&0))-1)=FALSE\n),\"Check\",\"\")","v":""},"","",null,"",0,"","","","",""]
["SBSA_708","SBSA_708",null,null,null,null,null,null,null,null,null,null,null,null,null,null,null,null,null,null,null,null,null,null,null,null,"","",{"$f":"IF(OR(\nOR(AND(D717<>\"\",F717=\"\"),AND(E717<>\"\",F717=\"\")),\nF717=LEFT(F717,MIN(FIND(0,SUBSTITUTE(F717,{1,2,3,4,5,6,7,8,9},0)&0))-1)=FALSE\n),\"Check\",\"\")","v":""},"","",null,"",0,"","","","",""]
["SBSA_709","SBSA_709",null,null,null,null,null,null,null,null,null,null,null,null,null,null,null,null,null,null,null,null,null,null,null,null,"","",{"$f":"IF(OR(\nOR(AND(D718<>\"\",F718=\"\"),AND(E718<>\"\",F718=\"\")),\nF718=LEFT(F718,MIN(FIND(0,SUBSTITUTE(F718,{1,2,3,4,5,6,7,8,9},0)&0))-1)=FALSE\n),\"Check\",\"\")","v":""},"","",null,"",0,"","","","",""]
["SBSA_710","SBSA_710",null,null,null,null,null,null,null,null,null,null,null,null,null,null,null,null,null,null,null,null,null,null,null,null,"","",{"$f":"IF(OR(\nOR(AND(D719<>\"\",F719=\"\"),AND(E719<>\"\",F719=\"\")),\nF719=LEFT(F719,MIN(FIND(0,SUBSTITUTE(F719,{1,2,3,4,5,6,7,8,9},0)&0))-1)=FALSE\n),\"Check\",\"\")","v":""},"","",null,"",0,"","","","",""]
["SBSA_711","SBSA_711",null,null,null,null,null,null,null,null,null,null,null,null,null,null,null,null,null,null,null,null,null,null,null,null,"","",{"$f":"IF(OR(\nOR(AND(D720<>\"\",F720=\"\"),AND(E720<>\"\",F720=\"\")),\nF720=LEFT(F720,MIN(FIND(0,SUBSTITUTE(F720,{1,2,3,4,5,6,7,8,9},0)&0))-1)=FALSE\n),\"Check\",\"\")","v":""},"","",null,"",0,"","","","",""]
["SBSA_712","SBSA_712",null,null,null,null,null,null,null,null,null,null,null,null,null,null,null,null,null,null,null,null,null,null,null,null,"","",{"$f":"IF(OR(\nOR(AND(D721<>\"\",F721=\"\"),AND(E721<>\"\",F721=\"\")),\nF721=LEFT(F721,MIN(FIND(0,SUBSTITUTE(F721,{1,2,3,4,5,6,7,8,9},0)&0))-1)=FALSE\n),\"Check\",\"\")","v":""},"","",null,"",0,"","","","",""]
["SBSA_713","SBSA_713",null,null,null,null,null,null,null,null,null,null,null,null,null,null,null,null,null,null,null,null,null,null,null,null,"","",{"$f":"IF(OR(\nOR(AND(D722<>\"\",F722=\"\"),AND(E722<>\"\",F722=\"\")),\nF722=LEFT(F722,MIN(FIND(0,SUBSTITUTE(F722,{1,2,3,4,5,6,7,8,9},0)&0))-1)=FALSE\n),\"Check\",\"\")","v":""},"","",null,"",0,"","","","",""]
["SBSA_714","SBSA_714",null,null,null,null,null,null,null,null,null,null,null,null,null,null,null,null,null,null,null,null,null,null,null,null,"","",{"$f":"IF(OR(\nOR(AND(D723<>\"\",F723=\"\"),AND(E723<>\"\",F723=\"\")),\nF723=LEFT(F723,MIN(FIND(0,SUBSTITUTE(F723,{1,2,3,4,5,6,7,8,9},0)&0))-1)=FALSE\n),\"Check\",\"\")","v":""},"","",null,"",0,"","","","",""]
["SBSA_715","SBSA_715",null,null,null,null,null,null,null,null,null,null,null,null,null,null,null,null,null,null,null,null,null,null,null,null,"","",{"$f":"IF(OR(\nOR(AND(D724<>\"\",F724=\"\"),AND(E724<>\"\",F724=\"\")),\nF724=LEFT(F724,MIN(FIND(0,SUBSTITUTE(F724,{1,2,3,4,5,6,7,8,9},0)&0))-1)=FALSE\n),\"Check\",\"\")","v":""},"","",null,"",0,"","","","",""]
["SBSA_716","SBSA_716",null,null,null,null,null,null,null,null,null,null,null,null,null,null,null,null,null,null,null,null,null,null,null,null,"","",{"$f":"IF(OR(\nOR(AND(D725<>\"\",F725=\"\"),AND(E725<>\"\",F725=\"\")),\nF725=LEFT(F725,MIN(FIND(0,SUBSTITUTE(F725,{1,2,3,4,5,6,7,8,9},0)&0))-1)=FALSE\n),\"Check\",\"\")","v":""},"","",null,"",0,"","","","",""]
["SBSA_717","SBSA_717",null,null,null,null,null,null,null,null,null,null,null,null,null,null,null,null,null,null,null,null,null,null,null,null,"","",{"$f":"IF(OR(\nOR(AND(D726<>\"\",F726=\"\"),AND(E726<>\"\",F726=\"\")),\nF726=LEFT(F726,MIN(FIND(0,SUBSTITUTE(F726,{1,2,3,4,5,6,7,8,9},0)&0))-1)=FALSE\n),\"Check\",\"\")","v":""},"","",null,"",0,"","","","",""]
["SBSA_718","SBSA_718",null,null,null,null,null,null,null,null,null,null,null,null,null,null,null,null,null,null,null,null,null,null,null,null,"","",{"$f":"IF(OR(\nOR(AND(D727<>\"\",F727=\"\"),AND(E727<>\"\",F727=\"\")),\nF727=LEFT(F727,MIN(FIND(0,SUBSTITUTE(F727,{1,2,3,4,5,6,7,8,9},0)&0))-1)=FALSE\n),\"Check\",\"\")","v":""},"","",null,"",0,"","","","",""]
["SBSA_719","SBSA_719",null,null,null,null,null,null,null,null,null,null,null,null,null,null,null,null,null,null,null,null,null,null,null,null,"","",{"$f":"IF(OR(\nOR(AND(D728<>\"\",F728=\"\"),AND(E728<>\"\",F728=\"\")),\nF728=LEFT(F728,MIN(FIND(0,SUBSTITUTE(F728,{1,2,3,4,5,6,7,8,9},0)&0))-1)=FALSE\n),\"Check\",\"\")","v":""},"","",null,"",0,"","","","",""]
["SBSA_720","SBSA_720",null,null,null,null,null,null,null,null,null,null,null,null,null,null,null,null,null,null,null,null,null,null,null,null,"","",{"$f":"IF(OR(\nOR(AND(D729<>\"\",F729=\"\"),AND(E729<>\"\",F729=\"\")),\nF729=LEFT(F729,MIN(FIND(0,SUBSTITUTE(F729,{1,2,3,4,5,6,7,8,9},0)&0))-1)=FALSE\n),\"Check\",\"\")","v":""},"","",null,"",0,"","","","",""]
["SBSA_721","SBSA_721",null,null,null,null,null,null,null,null,null,null,null,null,null,null,null,null,null,null,null,null,null,null,null,null,"","",{"$f":"IF(OR(\nOR(AND(D730<>\"\",F730=\"\"),AND(E730<>\"\",F730=\"\")),\nF730=LEFT(F730,MIN(FIND(0,SUBSTITUTE(F730,{1,2,3,4,5,6,7,8,9},0)&0))-1)=FALSE\n),\"Check\",\"\")","v":""},"","",null,"",0,"","","","",""]
["SBSA_722","SBSA_722",null,null,null,null,null,null,null,null,null,null,null,null,null,null,null,null,null,null,null,null,null,null,null,null,"","",{"$f":"IF(OR(\nOR(AND(D731<>\"\",F731=\"\"),AND(E731<>\"\",F731=\"\")),\nF731=LEFT(F731,MIN(FIND(0,SUBSTITUTE(F731,{1,2,3,4,5,6,7,8,9},0)&0))-1)=FALSE\n),\"Check\",\"\")","v":""},"","",null,"",0,"","","","",""]
["SBSA_723","SBSA_723",null,null,null,null,null,null,null,null,null,null,null,null,null,null,null,null,null,null,null,null,null,null,null,null,"","",{"$f":"IF(OR(\nOR(AND(D732<>\"\",F732=\"\"),AND(E732<>\"\",F732=\"\")),\nF732=LEFT(F732,MIN(FIND(0,SUBSTITUTE(F732,{1,2,3,4,5,6,7,8,9},0)&0))-1)=FALSE\n),\"Check\",\"\")","v":""},"","",null,"",0,"","","","",""]
["SBSA_724","SBSA_724",null,null,null,null,null,null,null,null,null,null,null,null,null,null,null,null,null,null,null,null,null,null,null,null,"","",{"$f":"IF(OR(\nOR(AND(D733<>\"\",F733=\"\"),AND(E733<>\"\",F733=\"\")),\nF733=LEFT(F733,MIN(FIND(0,SUBSTITUTE(F733,{1,2,3,4,5,6,7,8,9},0)&0))-1)=FALSE\n),\"Check\",\"\")","v":""},"","",null,"",0,"","","","",""]
["SBSA_725","SBSA_725",null,null,null,null,null,null,null,null,null,null,null,null,null,null,null,null,null,null,null,null,null,null,null,null,"","",{"$f":"IF(OR(\nOR(AND(D734<>\"\",F734=\"\"),AND(E734<>\"\",F734=\"\")),\nF734=LEFT(F734,MIN(FIND(0,SUBSTITUTE(F734,{1,2,3,4,5,6,7,8,9},0)&0))-1)=FALSE\n),\"Check\",\"\")","v":""},"","",null,"",0,"","","","",""]
["SBSA_726","SBSA_726",null,null,null,null,null,null,null,null,null,null,null,null,null,null,null,null,null,null,null,null,null,null,null,null,"","",{"$f":"IF(OR(\nOR(AND(D735<>\"\",F735=\"\"),AND(E735<>\"\",F735=\"\")),\nF735=LEFT(F735,MIN(FIND(0,SUBSTITUTE(F735,{1,2,3,4,5,6,7,8,9},0)&0))-1)=FALSE\n),\"Check\",\"\")","v":""},"","",null,"",0,"","","","",""]
["SBSA_727","SBSA_727",null,null,null,null,null,null,null,null,null,null,null,null,null,null,null,null,null,null,null,null,null,null,null,null,"","",{"$f":"IF(OR(\nOR(AND(D736<>\"\",F736=\"\"),AND(E736<>\"\",F736=\"\")),\nF736=LEFT(F736,MIN(FIND(0,SUBSTITUTE(F736,{1,2,3,4,5,6,7,8,9},0)&0))-1)=FALSE\n),\"Check\",\"\")","v":""},"","",null,"",0,"","","","",""]
["SBSA_728","SBSA_728",null,null,null,null,null,null,null,null,null,null,null,null,null,null,null,null,null,null,null,null,null,null,null,null,"","",{"$f":"IF(OR(\nOR(AND(D737<>\"\",F737=\"\"),AND(E737<>\"\",F737=\"\")),\nF737=LEFT(F737,MIN(FIND(0,SUBSTITUTE(F737,{1,2,3,4,5,6,7,8,9},0)&0))-1)=FALSE\n),\"Check\",\"\")","v":""},"","",null,"",0,"","","","",""]
["SBSA_729","SBSA_729",null,null,null,null,null,null,null,null,null,null,null,null,null,null,null,null,null,null,null,null,null,null,null,null,"","",{"$f":"IF(OR(\nOR(AND(D738<>\"\",F738=\"\"),AND(E738<>\"\",F738=\"\")),\nF738=LEFT(F738,MIN(FIND(0,SUBSTITUTE(F738,{1,2,3,4,5,6,7,8,9},0)&0))-1)=FALSE\n),\"Check\",\"\")","v":""},"","",null,"",0,"","","","",""]
["SBSA_730","SBSA_730",null,null,null,null,null,null,null,null,null,null,null,null,null,null,null,null,null,null,null,null,null,null,null,null,"","",{"$f":"IF(OR(\nOR(AND(D739<>\"\",F739=\"\"),AND(E739<>\"\",F739=\"\")),\nF739=LEFT(F739,MIN(FIND(0,SUBSTITUTE(F739,{1,2,3,4,5,6,7,8,9},0)&0))-1)=FALSE\n),\"Check\",\"\")","v":""},"","",null,"",0,"","","","",""]
["SBSA_731","SBSA_731",null,null,null,null,null,null,null,null,null,null,null,null,null,null,null,null,null,null,null,null,null,null,null,null,"","",{"$f":"IF(OR(\nOR(AND(D740<>\"\",F740=\"\"),AND(E740<>\"\",F740=\"\")),\nF740=LEFT(F740,MIN(FIND(0,SUBSTITUTE(F740,{1,2,3,4,5,6,7,8,9},0)&0))-1)=FALSE\n),\"Check\",\"\")","v":""},"","",null,"",0,"","","","",""]
["SBSA_732","SBSA_732",null,null,null,null,null,null,null,null,null,null,null,null,null,null,null,null,null,null,null,null,null,null,null,null,"","",{"$f":"IF(OR(\nOR(AND(D741<>\"\",F741=\"\"),AND(E741<>\"\",F741=\"\")),\nF741=LEFT(F741,MIN(FIND(0,SUBSTITUTE(F741,{1,2,3,4,5,6,7,8,9},0)&0))-1)=FALSE\n),\"Check\",\"\")","v":""},"","",null,"",0,"","","","",""]
["SBSA_733","SBSA_733",null,null,null,null,null,null,null,null,null,null,null,null,null,null,null,null,null,null,null,null,null,null,null,null,"","",{"$f":"IF(OR(\nOR(AND(D742<>\"\",F742=\"\"),AND(E742<>\"\",F742=\"\")),\nF742=LEFT(F742,MIN(FIND(0,SUBSTITUTE(F742,{1,2,3,4,5,6,7,8,9},0)&0))-1)=FALSE\n),\"Check\",\"\")","v":""},"","",null,"",0,"","","","",""]
["SBSA_734","SBSA_734",null,null,null,null,null,null,null,null,null,null,null,null,null,null,null,null,null,null,null,null,null,null,null,null,"","",{"$f":"IF(OR(\nOR(AND(D743<>\"\",F743=\"\"),AND(E743<>\"\",F743=\"\")),\nF743=LEFT(F743,MIN(FIND(0,SUBSTITUTE(F743,{1,2,3,4,5,6,7,8,9},0)&0))-1)=FALSE\n),\"Check\",\"\")","v":""},"","",null,"",0,"","","","",""]
["SBSA_735","SBSA_735",null,null,null,null,null,null,null,null,null,null,null,null,null,null,null,null,null,null,null,null,null,null,null,null,"","",{"$f":"IF(OR(\nOR(AND(D744<>\"\",F744=\"\"),AND(E744<>\"\",F744=\"\")),\nF744=LEFT(F744,MIN(FIND(0,SUBSTITUTE(F744,{1,2,3,4,5,6,7,8,9},0)&0))-1)=FALSE\n),\"Check\",\"\")","v":""},"","",null,"",0,"","","","",""]
["SBSA_736","SBSA_736",null,null,null,null,null,null,null,null,null,null,null,null,null,null,null,null,null,null,null,null,null,null,null,null,"","",{"$f":"IF(OR(\nOR(AND(D745<>\"\",F745=\"\"),AND(E745<>\"\",F745=\"\")),\nF745=LEFT(F745,MIN(FIND(0,SUBSTITUTE(F745,{1,2,3,4,5,6,7,8,9},0)&0))-1)=FALSE\n),\"Check\",\"\")","v":""},"","",null,"",0,"","","","",""]
["SBSA_737","SBSA_737",null,null,null,null,null,null,null,null,null,null,null,null,null,null,null,null,null,null,null,null,null,null,null,null,"","",{"$f":"IF(OR(\nOR(AND(D746<>\"\",F746=\"\"),AND(E746<>\"\",F746=\"\")),\nF746=LEFT(F746,MIN(FIND(0,SUBSTITUTE(F746,{1,2,3,4,5,6,7,8,9},0)&0))-1)=FALSE\n),\"Check\",\"\")","v":""},"","",null,"",0,"","","","",""]
["SBSA_738","SBSA_738",null,null,null,null,null,null,null,null,null,null,null,null,null,null,null,null,null,null,null,null,null,null,null,null,"","",{"$f":"IF(OR(\nOR(AND(D747<>\"\",F747=\"\"),AND(E747<>\"\",F747=\"\")),\nF747=LEFT(F747,MIN(FIND(0,SUBSTITUTE(F747,{1,2,3,4,5,6,7,8,9},0)&0))-1)=FALSE\n),\"Check\",\"\")","v":""},"","",null,"",0,"","","","",""]
["SBSA_739","SBSA_739",null,null,null,null,null,null,null,null,null,null,null,null,null,null,null,null,null,null,null,null,null,null,null,null,"","",{"$f":"IF(OR(\nOR(AND(D748<>\"\",F748=\"\"),AND(E748<>\"\",F748=\"\")),\nF748=LEFT(F748,MIN(FIND(0,SUBSTITUTE(F748,{1,2,3,4,5,6,7,8,9},0)&0))-1)=FALSE\n),\"Check\",\"\")","v":""},"","",null,"",0,"","","","",""]
["SBSA_740","SBSA_740",null,null,null,null,null,null,null,null,null,null,null,null,null,null,null,null,null,null,null,null,null,null,null,null,{"$f":"IF(AND(C749=\"\",OR(D749<>\"\",E749<>\"\",F749<>\"\",G749<>\"\")),\"Check\",\"\")","v":""},{"$f":"IF(AND(C749<>\"\",OR(AND(D749=\"\",E749=\"\"),AND(D749=0,E749=0),AND(ABS(D749)>0,ABS(E749)>0))),\"Check\",\"\")","v":""},{"$f":"IF(OR(\nOR(AND(D749<>\"\",F749=\"\"),AND(E749<>\"\",F749=\"\")),\nF749=LEFT(F749,MIN(FIND(0,SUBSTITUTE(F749,{1,2,3,4,5,6,7,8,9},0)&0))-1)=FALSE\n),\"Check\",\"\")","v":""},{"$f":"IF(OR(E749=\"\",G749=\"\"),\"\",(E749*G749)/100)","v":""},{"$f":"IF(AND(F749<>\"\",G749=\"\"),\"Check\",\"\")","v":""},null,{"$f":"IF(C749=\"\",\"\",C749&\"_\"&IF(G749=\"\",0,G749))","v":""},{"$f":"IF(COUNTBLANK(C749:G749)<5,1,0)","v":0},{"$f":"IF(C749=\"\",\"\",IF(LEN(C749)=12,\"\",\"Check\"))","v":""},{"$f":"IF(C749=\"\",\"\",IF(COUNTIF(C$10:C$65536,C749)=COUNTIF(AG$10:AG$65536,AG749),\"\",\"Check\"))","v":""},{"$f":"IF(F749=\"\",\"\",IF(LEN(F749)=3,\"\",\"Check\"))","v":""},{"$f":"IF(OR(IF(D749=\"\",\"\",IF(ISNUMBER(D749)=TRUE,\"\",\"TEXT\"))=\"TEXT\",IF(E749=\"\",\"\",IF(ISNUMBER(E749)=TRUE,\"\",\"TEXT\"))=\"TEXT\",IF(G749=\"\",\"\",IF(ISNUMBER(G749)=TRUE,\"\",\"TEXT\"))=\"TEXT\"),\"Check\",\"\")","v":""},{"$f":"IF(G749<0,\"Check\",\"\")","v":""}]
["SBSA_741","SBSA_741",null,null,null,null,null,null,null,null,null,null,null,null,null,null,null,null,null,null,null,null,null,null,null,null,"","",{"$f":"IF(OR(\nOR(AND(D750<>\"\",F750=\"\"),AND(E750<>\"\",F750=\"\")),\nF750=LEFT(F750,MIN(FIND(0,SUBSTITUTE(F750,{1,2,3,4,5,6,7,8,9},0)&0))-1)=FALSE\n),\"Check\",\"\")","v":""},"","",null,"",0,"","","","",""]
["SBSA_742","SBSA_742",null,null,null,null,null,null,null,null,null,null,null,null,null,null,null,null,null,null,null,null,null,null,null,null,"","",{"$f":"IF(OR(\nOR(AND(D751<>\"\",F751=\"\"),AND(E751<>\"\",F751=\"\")),\nF751=LEFT(F751,MIN(FIND(0,SUBSTITUTE(F751,{1,2,3,4,5,6,7,8,9},0)&0))-1)=FALSE\n),\"Check\",\"\")","v":""},"","",null,"",0,"","","","",""]
["SBSA_743","SBSA_743",null,null,null,null,null,null,null,null,null,null,null,null,null,null,null,null,null,null,null,null,null,null,null,null,"","",{"$f":"IF(OR(\nOR(AND(D752<>\"\",F752=\"\"),AND(E752<>\"\",F752=\"\")),\nF752=LEFT(F752,MIN(FIND(0,SUBSTITUTE(F752,{1,2,3,4,5,6,7,8,9},0)&0))-1)=FALSE\n),\"Check\",\"\")","v":""},"","",null,"",0,"","","","",""]
["SBSA_744","SBSA_744",null,null,null,null,null,null,null,null,null,null,null,null,null,null,null,null,null,null,null,null,null,null,null,null,"","",{"$f":"IF(OR(\nOR(AND(D753<>\"\",F753=\"\"),AND(E753<>\"\",F753=\"\")),\nF753=LEFT(F753,MIN(FIND(0,SUBSTITUTE(F753,{1,2,3,4,5,6,7,8,9},0)&0))-1)=FALSE\n),\"Check\",\"\")","v":""},"","",null,"",0,"","","","",""]
["SBSA_745","SBSA_745",null,null,null,null,null,null,null,null,null,null,null,null,null,null,null,null,null,null,null,null,null,null,null,null,"","",{"$f":"IF(OR(\nOR(AND(D754<>\"\",F754=\"\"),AND(E754<>\"\",F754=\"\")),\nF754=LEFT(F754,MIN(FIND(0,SUBSTITUTE(F754,{1,2,3,4,5,6,7,8,9},0)&0))-1)=FALSE\n),\"Check\",\"\")","v":""},"","",null,"",0,"","","","",""]
["SBSA_746","SBSA_746",null,null,null,null,null,null,null,null,null,null,null,null,null,null,null,null,null,null,null,null,null,null,null,null,"","",{"$f":"IF(OR(\nOR(AND(D755<>\"\",F755=\"\"),AND(E755<>\"\",F755=\"\")),\nF755=LEFT(F755,MIN(FIND(0,SUBSTITUTE(F755,{1,2,3,4,5,6,7,8,9},0)&0))-1)=FALSE\n),\"Check\",\"\")","v":""},"","",null,"",0,"","","","",""]
["SBSA_747","SBSA_747",null,null,null,null,null,null,null,null,null,null,null,null,null,null,null,null,null,null,null,null,null,null,null,null,"","",{"$f":"IF(OR(\nOR(AND(D756<>\"\",F756=\"\"),AND(E756<>\"\",F756=\"\")),\nF756=LEFT(F756,MIN(FIND(0,SUBSTITUTE(F756,{1,2,3,4,5,6,7,8,9},0)&0))-1)=FALSE\n),\"Check\",\"\")","v":""},"","",null,"",0,"","","","",""]
["SBSA_748","SBSA_748",null,null,null,null,null,null,null,null,null,null,null,null,null,null,null,null,null,null,null,null,null,null,null,null,"","",{"$f":"IF(OR(\nOR(AND(D757<>\"\",F757=\"\"),AND(E757<>\"\",F757=\"\")),\nF757=LEFT(F757,MIN(FIND(0,SUBSTITUTE(F757,{1,2,3,4,5,6,7,8,9},0)&0))-1)=FALSE\n),\"Check\",\"\")","v":""},"","",null,"",0,"","","","",""]
["SBSA_749","SBSA_749",null,null,null,null,null,null,null,null,null,null,null,null,null,null,null,null,null,null,null,null,null,null,null,null,"","",{"$f":"IF(OR(\nOR(AND(D758<>\"\",F758=\"\"),AND(E758<>\"\",F758=\"\")),\nF758=LEFT(F758,MIN(FIND(0,SUBSTITUTE(F758,{1,2,3,4,5,6,7,8,9},0)&0))-1)=FALSE\n),\"Check\",\"\")","v":""},"","",null,"",0,"","","","",""]
["SBSA_750","SBSA_750",null,null,null,null,null,null,null,null,null,null,null,null,null,null,null,null,null,null,null,null,null,null,null,null,"","",{"$f":"IF(OR(\nOR(AND(D759<>\"\",F759=\"\"),AND(E759<>\"\",F759=\"\")),\nF759=LEFT(F759,MIN(FIND(0,SUBSTITUTE(F759,{1,2,3,4,5,6,7,8,9},0)&0))-1)=FALSE\n),\"Check\",\"\")","v":""},"","",null,"",0,"","","","",""]
["SBSA_751","SBSA_751",null,null,null,null,null,null,null,null,null,null,null,null,null,null,null,null,null,null,null,null,null,null,null,null,"","",{"$f":"IF(OR(\nOR(AND(D760<>\"\",F760=\"\"),AND(E760<>\"\",F760=\"\")),\nF760=LEFT(F760,MIN(FIND(0,SUBSTITUTE(F760,{1,2,3,4,5,6,7,8,9},0)&0))-1)=FALSE\n),\"Check\",\"\")","v":""},"","",null,"",0,"","","","",""]
["SBSA_752","SBSA_752",null,null,null,null,null,null,null,null,null,null,null,null,null,null,null,null,null,null,null,null,null,null,null,null,"","",{"$f":"IF(OR(\nOR(AND(D761<>\"\",F761=\"\"),AND(E761<>\"\",F761=\"\")),\nF761=LEFT(F761,MIN(FIND(0,SUBSTITUTE(F761,{1,2,3,4,5,6,7,8,9},0)&0))-1)=FALSE\n),\"Check\",\"\")","v":""},"","",null,"",0,"","","","",""]
["SBSA_753","SBSA_753",null,null,null,null,null,null,null,null,null,null,null,null,null,null,null,null,null,null,null,null,null,null,null,null,"","",{"$f":"IF(OR(\nOR(AND(D762<>\"\",F762=\"\"),AND(E762<>\"\",F762=\"\")),\nF762=LEFT(F762,MIN(FIND(0,SUBSTITUTE(F762,{1,2,3,4,5,6,7,8,9},0)&0))-1)=FALSE\n),\"Check\",\"\")","v":""},"","",null,"",0,"","","","",""]
["SBSA_754","SBSA_754",null,null,null,null,null,null,null,null,null,null,null,null,null,null,null,null,null,null,null,null,null,null,null,null,"","",{"$f":"IF(OR(\nOR(AND(D763<>\"\",F763=\"\"),AND(E763<>\"\",F763=\"\")),\nF763=LEFT(F763,MIN(FIND(0,SUBSTITUTE(F763,{1,2,3,4,5,6,7,8,9},0)&0))-1)=FALSE\n),\"Check\",\"\")","v":""},"","",null,"",0,"","","","",""]
["SBSA_755","SBSA_755",null,null,null,null,null,null,null,null,null,null,null,null,null,null,null,null,null,null,null,null,null,null,null,null,"","",{"$f":"IF(OR(\nOR(AND(D764<>\"\",F764=\"\"),AND(E764<>\"\",F764=\"\")),\nF764=LEFT(F764,MIN(FIND(0,SUBSTITUTE(F764,{1,2,3,4,5,6,7,8,9},0)&0))-1)=FALSE\n),\"Check\",\"\")","v":""},"","",null,"",0,"","","","",""]
["SBSA_756","SBSA_756",null,null,null,null,null,null,null,null,null,null,null,null,null,null,null,null,null,null,null,null,null,null,null,null,"","",{"$f":"IF(OR(\nOR(AND(D765<>\"\",F765=\"\"),AND(E765<>\"\",F765=\"\")),\nF765=LEFT(F765,MIN(FIND(0,SUBSTITUTE(F765,{1,2,3,4,5,6,7,8,9},0)&0))-1)=FALSE\n),\"Check\",\"\")","v":""},"","",null,"",0,"","","","",""]
["SBSA_757","SBSA_757",null,null,null,null,null,null,null,null,null,null,null,null,null,null,null,null,null,null,null,null,null,null,null,null,"","",{"$f":"IF(OR(\nOR(AND(D766<>\"\",F766=\"\"),AND(E766<>\"\",F766=\"\")),\nF766=LEFT(F766,MIN(FIND(0,SUBSTITUTE(F766,{1,2,3,4,5,6,7,8,9},0)&0))-1)=FALSE\n),\"Check\",\"\")","v":""},"","",null,"",0,"","","","",""]
["SBSA_758","SBSA_758",null,null,null,null,null,null,null,null,null,null,null,null,null,null,null,null,null,null,null,null,null,null,null,null,"","",{"$f":"IF(OR(\nOR(AND(D767<>\"\",F767=\"\"),AND(E767<>\"\",F767=\"\")),\nF767=LEFT(F767,MIN(FIND(0,SUBSTITUTE(F767,{1,2,3,4,5,6,7,8,9},0)&0))-1)=FALSE\n),\"Check\",\"\")","v":""},"","",null,"",0,"","","","",""]
["SBSA_759","SBSA_759",null,null,null,null,null,null,null,null,null,null,null,null,null,null,null,null,null,null,null,null,null,null,null,null,"","",{"$f":"IF(OR(\nOR(AND(D768<>\"\",F768=\"\"),AND(E768<>\"\",F768=\"\")),\nF768=LEFT(F768,MIN(FIND(0,SUBSTITUTE(F768,{1,2,3,4,5,6,7,8,9},0)&0))-1)=FALSE\n),\"Check\",\"\")","v":""},"","",null,"",0,"","","","",""]
["SBSA_760","SBSA_760",null,null,null,null,null,null,null,null,null,null,null,null,null,null,null,null,null,null,null,null,null,null,null,null,"","",{"$f":"IF(OR(\nOR(AND(D769<>\"\",F769=\"\"),AND(E769<>\"\",F769=\"\")),\nF769=LEFT(F769,MIN(FIND(0,SUBSTITUTE(F769,{1,2,3,4,5,6,7,8,9},0)&0))-1)=FALSE\n),\"Check\",\"\")","v":""},"","",null,"",0,"","","","",""]
["SBSA_761","SBSA_761",null,null,null,null,null,null,null,null,null,null,null,null,null,null,null,null,null,null,null,null,null,null,null,null,"","",{"$f":"IF(OR(\nOR(AND(D770<>\"\",F770=\"\"),AND(E770<>\"\",F770=\"\")),\nF770=LEFT(F770,MIN(FIND(0,SUBSTITUTE(F770,{1,2,3,4,5,6,7,8,9},0)&0))-1)=FALSE\n),\"Check\",\"\")","v":""},"","",null,"",0,"","","","",""]
["SBSA_762","SBSA_762",null,null,null,null,null,null,null,null,null,null,null,null,null,null,null,null,null,null,null,null,null,null,null,null,"","",{"$f":"IF(OR(\nOR(AND(D771<>\"\",F771=\"\"),AND(E771<>\"\",F771=\"\")),\nF771=LEFT(F771,MIN(FIND(0,SUBSTITUTE(F771,{1,2,3,4,5,6,7,8,9},0)&0))-1)=FALSE\n),\"Check\",\"\")","v":""},"","",null,"",0,"","","","",""]
["SBSA_763","SBSA_763",null,null,null,null,null,null,null,null,null,null,null,null,null,null,null,null,null,null,null,null,null,null,null,null,"","",{"$f":"IF(OR(\nOR(AND(D772<>\"\",F772=\"\"),AND(E772<>\"\",F772=\"\")),\nF772=LEFT(F772,MIN(FIND(0,SUBSTITUTE(F772,{1,2,3,4,5,6,7,8,9},0)&0))-1)=FALSE\n),\"Check\",\"\")","v":""},"","",null,"",0,"","","","",""]
["SBSA_764","SBSA_764",null,null,null,null,null,null,null,null,null,null,null,null,null,null,null,null,null,null,null,null,null,null,null,null,"","",{"$f":"IF(OR(\nOR(AND(D773<>\"\",F773=\"\"),AND(E773<>\"\",F773=\"\")),\nF773=LEFT(F773,MIN(FIND(0,SUBSTITUTE(F773,{1,2,3,4,5,6,7,8,9},0)&0))-1)=FALSE\n),\"Check\",\"\")","v":""},"","",null,"",0,"","","","",""]
["SBSA_765","SBSA_765",null,null,null,null,null,null,null,null,null,null,null,null,null,null,null,null,null,null,null,null,null,null,null,null,"","",{"$f":"IF(OR(\nOR(AND(D774<>\"\",F774=\"\"),AND(E774<>\"\",F774=\"\")),\nF774=LEFT(F774,MIN(FIND(0,SUBSTITUTE(F774,{1,2,3,4,5,6,7,8,9},0)&0))-1)=FALSE\n),\"Check\",\"\")","v":""},"","",null,"",0,"","","","",""]
["SBSA_766","SBSA_766",null,null,null,null,null,null,null,null,null,null,null,null,null,null,null,null,null,null,null,null,null,null,null,null,"","",{"$f":"IF(OR(\nOR(AND(D775<>\"\",F775=\"\"),AND(E775<>\"\",F775=\"\")),\nF775=LEFT(F775,MIN(FIND(0,SUBSTITUTE(F775,{1,2,3,4,5,6,7,8,9},0)&0))-1)=FALSE\n),\"Check\",\"\")","v":""},"","",null,"",0,"","","","",""]
["SBSA_767","SBSA_767",null,null,null,null,null,null,null,null,null,null,null,null,null,null,null,null,null,null,null,null,null,null,null,null,"","",{"$f":"IF(OR(\nOR(AND(D776<>\"\",F776=\"\"),AND(E776<>\"\",F776=\"\")),\nF776=LEFT(F776,MIN(FIND(0,SUBSTITUTE(F776,{1,2,3,4,5,6,7,8,9},0)&0))-1)=FALSE\n),\"Check\",\"\")","v":""},"","",null,"",0,"","","","",""]
["SBSA_768","SBSA_768",null,null,null,null,null,null,null,null,null,null,null,null,null,null,null,null,null,null,null,null,null,null,null,null,"","",{"$f":"IF(OR(\nOR(AND(D777<>\"\",F777=\"\"),AND(E777<>\"\",F777=\"\")),\nF777=LEFT(F777,MIN(FIND(0,SUBSTITUTE(F777,{1,2,3,4,5,6,7,8,9},0)&0))-1)=FALSE\n),\"Check\",\"\")","v":""},"","",null,"",0,"","","","",""]
["SBSA_769","SBSA_769",null,null,null,null,null,null,null,null,null,null,null,null,null,null,null,null,null,null,null,null,null,null,null,null,"","",{"$f":"IF(OR(\nOR(AND(D778<>\"\",F778=\"\"),AND(E778<>\"\",F778=\"\")),\nF778=LEFT(F778,MIN(FIND(0,SUBSTITUTE(F778,{1,2,3,4,5,6,7,8,9},0)&0))-1)=FALSE\n),\"Check\",\"\")","v":""},"","",null,"",0,"","","","",""]
["SBSA_770","SBSA_770",null,null,null,null,null,null,null,null,null,null,null,null,null,null,null,null,null,null,null,null,null,null,null,null,"","",{"$f":"IF(OR(\nOR(AND(D779<>\"\",F779=\"\"),AND(E779<>\"\",F779=\"\")),\nF779=LEFT(F779,MIN(FIND(0,SUBSTITUTE(F779,{1,2,3,4,5,6,7,8,9},0)&0))-1)=FALSE\n),\"Check\",\"\")","v":""},"","",null,"",0,"","","","",""]
["SBSA_771","SBSA_771",null,null,null,null,null,null,null,null,null,null,null,null,null,null,null,null,null,null,null,null,null,null,null,null,"","",{"$f":"IF(OR(\nOR(AND(D780<>\"\",F780=\"\"),AND(E780<>\"\",F780=\"\")),\nF780=LEFT(F780,MIN(FIND(0,SUBSTITUTE(F780,{1,2,3,4,5,6,7,8,9},0)&0))-1)=FALSE\n),\"Check\",\"\")","v":""},"","",null,"",0,"","","","",""]
["SBSA_772","SBSA_772",null,null,null,null,null,null,null,null,null,null,null,null,null,null,null,null,null,null,null,null,null,null,null,null,"","",{"$f":"IF(OR(\nOR(AND(D781<>\"\",F781=\"\"),AND(E781<>\"\",F781=\"\")),\nF781=LEFT(F781,MIN(FIND(0,SUBSTITUTE(F781,{1,2,3,4,5,6,7,8,9},0)&0))-1)=FALSE\n),\"Check\",\"\")","v":""},"","",null,"",0,"","","","",""]
["SBSA_773","SBSA_773",null,null,null,null,null,null,null,null,null,null,null,null,null,null,null,null,null,null,null,null,null,null,null,null,"","",{"$f":"IF(OR(\nOR(AND(D782<>\"\",F782=\"\"),AND(E782<>\"\",F782=\"\")),\nF782=LEFT(F782,MIN(FIND(0,SUBSTITUTE(F782,{1,2,3,4,5,6,7,8,9},0)&0))-1)=FALSE\n),\"Check\",\"\")","v":""},"","",null,"",0,"","","","",""]
["SBSA_774","SBSA_774",null,null,null,null,null,null,null,null,null,null,null,null,null,null,null,null,null,null,null,null,null,null,null,null,"","",{"$f":"IF(OR(\nOR(AND(D783<>\"\",F783=\"\"),AND(E783<>\"\",F783=\"\")),\nF783=LEFT(F783,MIN(FIND(0,SUBSTITUTE(F783,{1,2,3,4,5,6,7,8,9},0)&0))-1)=FALSE\n),\"Check\",\"\")","v":""},"","",null,"",0,"","","","",""]
["SBSA_775","SBSA_775",null,null,null,null,null,null,null,null,null,null,null,null,null,null,null,null,null,null,null,null,null,null,null,null,"","",{"$f":"IF(OR(\nOR(AND(D784<>\"\",F784=\"\"),AND(E784<>\"\",F784=\"\")),\nF784=LEFT(F784,MIN(FIND(0,SUBSTITUTE(F784,{1,2,3,4,5,6,7,8,9},0)&0))-1)=FALSE\n),\"Check\",\"\")","v":""},"","",null,"",0,"","","","",""]
["SBSA_776","SBSA_776",null,null,null,null,null,null,null,null,null,null,null,null,null,null,null,null,null,null,null,null,null,null,null,null,"","",{"$f":"IF(OR(\nOR(AND(D785<>\"\",F785=\"\"),AND(E785<>\"\",F785=\"\")),\nF785=LEFT(F785,MIN(FIND(0,SUBSTITUTE(F785,{1,2,3,4,5,6,7,8,9},0)&0))-1)=FALSE\n),\"Check\",\"\")","v":""},"","",null,"",0,"","","","",""]
["SBSA_777","SBSA_777",null,null,null,null,null,null,null,null,null,null,null,null,null,null,null,null,null,null,null,null,null,null,null,null,"","",{"$f":"IF(OR(\nOR(AND(D786<>\"\",F786=\"\"),AND(E786<>\"\",F786=\"\")),\nF786=LEFT(F786,MIN(FIND(0,SUBSTITUTE(F786,{1,2,3,4,5,6,7,8,9},0)&0))-1)=FALSE\n),\"Check\",\"\")","v":""},"","",null,"",0,"","","","",""]
["SBSA_778","SBSA_778",null,null,null,null,null,null,null,null,null,null,null,null,null,null,null,null,null,null,null,null,null,null,null,null,"","",{"$f":"IF(OR(\nOR(AND(D787<>\"\",F787=\"\"),AND(E787<>\"\",F787=\"\")),\nF787=LEFT(F787,MIN(FIND(0,SUBSTITUTE(F787,{1,2,3,4,5,6,7,8,9},0)&0))-1)=FALSE\n),\"Check\",\"\")","v":""},"","",null,"",0,"","","","",""]
["SBSA_779","SBSA_779",null,null,null,null,null,null,null,null,null,null,null,null,null,null,null,null,null,null,null,null,null,null,null,null,"","",{"$f":"IF(OR(\nOR(AND(D788<>\"\",F788=\"\"),AND(E788<>\"\",F788=\"\")),\nF788=LEFT(F788,MIN(FIND(0,SUBSTITUTE(F788,{1,2,3,4,5,6,7,8,9},0)&0))-1)=FALSE\n),\"Check\",\"\")","v":""},"","",null,"",0,"","","","",""]
["SBSA_780","SBSA_780",null,null,null,null,null,null,null,null,null,null,null,null,null,null,null,null,null,null,null,null,null,null,null,null,"","",{"$f":"IF(OR(\nOR(AND(D789<>\"\",F789=\"\"),AND(E789<>\"\",F789=\"\")),\nF789=LEFT(F789,MIN(FIND(0,SUBSTITUTE(F789,{1,2,3,4,5,6,7,8,9},0)&0))-1)=FALSE\n),\"Check\",\"\")","v":""},"","",null,"",0,"","","","",""]
["SBSA_781","SBSA_781",null,null,null,null,null,null,null,null,null,null,null,null,null,null,null,null,null,null,null,null,null,null,null,null,"","",{"$f":"IF(OR(\nOR(AND(D790<>\"\",F790=\"\"),AND(E790<>\"\",F790=\"\")),\nF790=LEFT(F790,MIN(FIND(0,SUBSTITUTE(F790,{1,2,3,4,5,6,7,8,9},0)&0))-1)=FALSE\n),\"Check\",\"\")","v":""},"","",null,"",0,"","","","",""]
["SBSA_782","SBSA_782",null,null,null,null,null,null,null,null,null,null,null,null,null,null,null,null,null,null,null,null,null,null,null,null,"","",{"$f":"IF(OR(\nOR(AND(D791<>\"\",F791=\"\"),AND(E791<>\"\",F791=\"\")),\nF791=LEFT(F791,MIN(FIND(0,SUBSTITUTE(F791,{1,2,3,4,5,6,7,8,9},0)&0))-1)=FALSE\n),\"Check\",\"\")","v":""},"","",null,"",0,"","","","",""]
["SBSA_783","SBSA_783",null,null,null,null,null,null,null,null,null,null,null,null,null,null,null,null,null,null,null,null,null,null,null,null,"","",{"$f":"IF(OR(\nOR(AND(D792<>\"\",F792=\"\"),AND(E792<>\"\",F792=\"\")),\nF792=LEFT(F792,MIN(FIND(0,SUBSTITUTE(F792,{1,2,3,4,5,6,7,8,9},0)&0))-1)=FALSE\n),\"Check\",\"\")","v":""},"","",null,"",0,"","","","",""]
["SBSA_784","SBSA_784",null,null,null,null,null,null,null,null,null,null,null,null,null,null,null,null,null,null,null,null,null,null,null,null,"","",{"$f":"IF(OR(\nOR(AND(D793<>\"\",F793=\"\"),AND(E793<>\"\",F793=\"\")),\nF793=LEFT(F793,MIN(FIND(0,SUBSTITUTE(F793,{1,2,3,4,5,6,7,8,9},0)&0))-1)=FALSE\n),\"Check\",\"\")","v":""},"","",null,"",0,"","","","",""]
["SBSA_785","SBSA_785",null,null,null,null,null,null,null,null,null,null,null,null,null,null,null,null,null,null,null,null,null,null,null,null,"","",{"$f":"IF(OR(\nOR(AND(D794<>\"\",F794=\"\"),AND(E794<>\"\",F794=\"\")),\nF794=LEFT(F794,MIN(FIND(0,SUBSTITUTE(F794,{1,2,3,4,5,6,7,8,9},0)&0))-1)=FALSE\n),\"Check\",\"\")","v":""},"","",null,"",0,"","","","",""]
["SBSA_786","SBSA_786",null,null,null,null,null,null,null,null,null,null,null,null,null,null,null,null,null,null,null,null,null,null,null,null,"","",{"$f":"IF(OR(\nOR(AND(D795<>\"\",F795=\"\"),AND(E795<>\"\",F795=\"\")),\nF795=LEFT(F795,MIN(FIND(0,SUBSTITUTE(F795,{1,2,3,4,5,6,7,8,9},0)&0))-1)=FALSE\n),\"Check\",\"\")","v":""},"","",null,"",0,"","","","",""]
["SBSA_787","SBSA_787",null,null,null,null,null,null,null,null,null,null,null,null,null,null,null,null,null,null,null,null,null,null,null,null,"","",{"$f":"IF(OR(\nOR(AND(D796<>\"\",F796=\"\"),AND(E796<>\"\",F796=\"\")),\nF796=LEFT(F796,MIN(FIND(0,SUBSTITUTE(F796,{1,2,3,4,5,6,7,8,9},0)&0))-1)=FALSE\n),\"Check\",\"\")","v":""},"","",null,"",0,"","","","",""]
["SBSA_788","SBSA_788",null,null,null,null,null,null,null,null,null,null,null,null,null,null,null,null,null,null,null,null,null,null,null,null,"","",{"$f":"IF(OR(\nOR(AND(D797<>\"\",F797=\"\"),AND(E797<>\"\",F797=\"\")),\nF797=LEFT(F797,MIN(FIND(0,SUBSTITUTE(F797,{1,2,3,4,5,6,7,8,9},0)&0))-1)=FALSE\n),\"Check\",\"\")","v":""},"","",null,"",0,"","","","",""]
["SBSA_789","SBSA_789",null,null,null,null,null,null,null,null,null,null,null,null,null,null,null,null,null,null,null,null,null,null,null,null,"","",{"$f":"IF(OR(\nOR(AND(D798<>\"\",F798=\"\"),AND(E798<>\"\",F798=\"\")),\nF798=LEFT(F798,MIN(FIND(0,SUBSTITUTE(F798,{1,2,3,4,5,6,7,8,9},0)&0))-1)=FALSE\n),\"Check\",\"\")","v":""},"","",null,"",0,"","","","",""]
["SBSA_790","SBSA_790",null,null,null,null,null,null,null,null,null,null,null,null,null,null,null,null,null,null,null,null,null,null,null,null,"","",{"$f":"IF(OR(\nOR(AND(D799<>\"\",F799=\"\"),AND(E799<>\"\",F799=\"\")),\nF799=LEFT(F799,MIN(FIND(0,SUBSTITUTE(F799,{1,2,3,4,5,6,7,8,9},0)&0))-1)=FALSE\n),\"Check\",\"\")","v":""},"","",null,"",0,"","","","",""]
["SBSA_791","SBSA_791",null,null,null,null,null,null,null,null,null,null,null,null,null,null,null,null,null,null,null,null,null,null,null,null,"","",{"$f":"IF(OR(\nOR(AND(D800<>\"\",F800=\"\"),AND(E800<>\"\",F800=\"\")),\nF800=LEFT(F800,MIN(FIND(0,SUBSTITUTE(F800,{1,2,3,4,5,6,7,8,9},0)&0))-1)=FALSE\n),\"Check\",\"\")","v":""},"","",null,"",0,"","","","",""]
["SBSA_792","SBSA_792",null,null,null,null,null,null,null,null,null,null,null,null,null,null,null,null,null,null,null,null,null,null,null,null,"","",{"$f":"IF(OR(\nOR(AND(D801<>\"\",F801=\"\"),AND(E801<>\"\",F801=\"\")),\nF801=LEFT(F801,MIN(FIND(0,SUBSTITUTE(F801,{1,2,3,4,5,6,7,8,9},0)&0))-1)=FALSE\n),\"Check\",\"\")","v":""},"","",null,"",0,"","","","",""]
["SBSA_793","SBSA_793",null,null,null,null,null,null,null,null,null,null,null,null,null,null,null,null,null,null,null,null,null,null,null,null,"","",{"$f":"IF(OR(\nOR(AND(D802<>\"\",F802=\"\"),AND(E802<>\"\",F802=\"\")),\nF802=LEFT(F802,MIN(FIND(0,SUBSTITUTE(F802,{1,2,3,4,5,6,7,8,9},0)&0))-1)=FALSE\n),\"Check\",\"\")","v":""},"","",null,"",0,"","","","",""]
["SBSA_794","SBSA_794",null,null,null,null,null,null,null,null,null,null,null,null,null,null,null,null,null,null,null,null,null,null,null,null,"","",{"$f":"IF(OR(\nOR(AND(D803<>\"\",F803=\"\"),AND(E803<>\"\",F803=\"\")),\nF803=LEFT(F803,MIN(FIND(0,SUBSTITUTE(F803,{1,2,3,4,5,6,7,8,9},0)&0))-1)=FALSE\n),\"Check\",\"\")","v":""},"","",null,"",0,"","","","",""]
["SBSA_795","SBSA_795",null,null,null,null,null,null,null,null,null,null,null,null,null,null,null,null,null,null,null,null,null,null,null,null,"","",{"$f":"IF(OR(\nOR(AND(D804<>\"\",F804=\"\"),AND(E804<>\"\",F804=\"\")),\nF804=LEFT(F804,MIN(FIND(0,SUBSTITUTE(F804,{1,2,3,4,5,6,7,8,9},0)&0))-1)=FALSE\n),\"Check\",\"\")","v":""},"","",null,"",0,"","","","",""]
["SBSA_796","SBSA_796",null,null,null,null,null,null,null,null,null,null,null,null,null,null,null,null,null,null,null,null,null,null,null,null,"","",{"$f":"IF(OR(\nOR(AND(D805<>\"\",F805=\"\"),AND(E805<>\"\",F805=\"\")),\nF805=LEFT(F805,MIN(FIND(0,SUBSTITUTE(F805,{1,2,3,4,5,6,7,8,9},0)&0))-1)=FALSE\n),\"Check\",\"\")","v":""},"","",null,"",0,"","","","",""]
["SBSA_797","SBSA_797",null,null,null,null,null,null,null,null,null,null,null,null,null,null,null,null,null,null,null,null,null,null,null,null,"","",{"$f":"IF(OR(\nOR(AND(D806<>\"\",F806=\"\"),AND(E806<>\"\",F806=\"\")),\nF806=LEFT(F806,MIN(FIND(0,SUBSTITUTE(F806,{1,2,3,4,5,6,7,8,9},0)&0))-1)=FALSE\n),\"Check\",\"\")","v":""},"","",null,"",0,"","","","",""]
["SBSA_798","SBSA_798",null,null,null,null,null,null,null,null,null,null,null,null,null,null,null,null,null,null,null,null,null,null,null,null,"","",{"$f":"IF(OR(\nOR(AND(D807<>\"\",F807=\"\"),AND(E807<>\"\",F807=\"\")),\nF807=LEFT(F807,MIN(FIND(0,SUBSTITUTE(F807,{1,2,3,4,5,6,7,8,9},0)&0))-1)=FALSE\n),\"Check\",\"\")","v":""},"","",null,"",0,"","","","",""]
["SBSA_799","SBSA_799",null,null,null,null,null,null,null,null,null,null,null,null,null,null,null,null,null,null,null,null,null,null,null,null,"","",{"$f":"IF(OR(\nOR(AND(D808<>\"\",F808=\"\"),AND(E808<>\"\",F808=\"\")),\nF808=LEFT(F808,MIN(FIND(0,SUBSTITUTE(F808,{1,2,3,4,5,6,7,8,9},0)&0))-1)=FALSE\n),\"Check\",\"\")","v":""},"","",null,"",0,"","","","",""]
["SBSA_800","SBSA_800",null,null,null,null,null,null,null,null,null,null,null,null,null,null,null,null,null,null,null,null,null,null,null,null,"","",{"$f":"IF(OR(\nOR(AND(D809<>\"\",F809=\"\"),AND(E809<>\"\",F809=\"\")),\nF809=LEFT(F809,MIN(FIND(0,SUBSTITUTE(F809,{1,2,3,4,5,6,7,8,9},0)&0))-1)=FALSE\n),\"Check\",\"\")","v":""},"","",null,"",0,"","","","",""]
["SBSA_801","SBSA_801",null,null,null,null,null,null,null,null,null,null,null,null,null,null,null,null,null,null,null,null,null,null,null,null,"","",{"$f":"IF(OR(\nOR(AND(D810<>\"\",F810=\"\"),AND(E810<>\"\",F810=\"\")),\nF810=LEFT(F810,MIN(FIND(0,SUBSTITUTE(F810,{1,2,3,4,5,6,7,8,9},0)&0))-1)=FALSE\n),\"Check\",\"\")","v":""},"","",null,"",0,"","","","",""]
["SBSA_802","SBSA_802",null,null,null,null,null,null,null,null,null,null,null,null,null,null,null,null,null,null,null,null,null,null,null,null,"","",{"$f":"IF(OR(\nOR(AND(D811<>\"\",F811=\"\"),AND(E811<>\"\",F811=\"\")),\nF811=LEFT(F811,MIN(FIND(0,SUBSTITUTE(F811,{1,2,3,4,5,6,7,8,9},0)&0))-1)=FALSE\n),\"Check\",\"\")","v":""},"","",null,"",0,"","","","",""]
["SBSA_803","SBSA_803",null,null,null,null,null,null,null,null,null,null,null,null,null,null,null,null,null,null,null,null,null,null,null,null,"","",{"$f":"IF(OR(\nOR(AND(D812<>\"\",F812=\"\"),AND(E812<>\"\",F812=\"\")),\nF812=LEFT(F812,MIN(FIND(0,SUBSTITUTE(F812,{1,2,3,4,5,6,7,8,9},0)&0))-1)=FALSE\n),\"Check\",\"\")","v":""},"","",null,"",0,"","","","",""]
["SBSA_804","SBSA_804",null,null,null,null,null,null,null,null,null,null,null,null,null,null,null,null,null,null,null,null,null,null,null,null,{"$f":"IF(AND(C813=\"\",OR(D813<>\"\",E813<>\"\",F813<>\"\",G813<>\"\")),\"Check\",\"\")","v":""},{"$f":"IF(AND(C813<>\"\",OR(AND(D813=\"\",E813=\"\"),AND(D813=0,E813=0),AND(ABS(D813)>0,ABS(E813)>0))),\"Check\",\"\")","v":""},{"$f":"IF(OR(\nOR(AND(D813<>\"\",F813=\"\"),AND(E813<>\"\",F813=\"\")),\nF813=LEFT(F813,MIN(FIND(0,SUBSTITUTE(F813,{1,2,3,4,5,6,7,8,9},0)&0))-1)=FALSE\n),\"Check\",\"\")","v":""},{"$f":"IF(OR(E813=\"\",G813=\"\"),\"\",(E813*G813)/100)","v":""},{"$f":"IF(AND(F813<>\"\",G813=\"\"),\"Check\",\"\")","v":""},null,{"$f":"IF(C813=\"\",\"\",C813&\"_\"&IF(G813=\"\",0,G813))","v":""},{"$f":"IF(COUNTBLANK(C813:G813)<5,1,0)","v":0},{"$f":"IF(C813=\"\",\"\",IF(LEN(C813)=12,\"\",\"Check\"))","v":""},{"$f":"IF(C813=\"\",\"\",IF(COUNTIF(C$10:C$65536,C813)=COUNTIF(AG$10:AG$65536,AG813),\"\",\"Check\"))","v":""},{"$f":"IF(F813=\"\",\"\",IF(LEN(F813)=3,\"\",\"Check\"))","v":""},{"$f":"IF(OR(IF(D813=\"\",\"\",IF(ISNUMBER(D813)=TRUE,\"\",\"TEXT\"))=\"TEXT\",IF(E813=\"\",\"\",IF(ISNUMBER(E813)=TRUE,\"\",\"TEXT\"))=\"TEXT\",IF(G813=\"\",\"\",IF(ISNUMBER(G813)=TRUE,\"\",\"TEXT\"))=\"TEXT\"),\"Check\",\"\")","v":""},{"$f":"IF(G813<0,\"Check\",\"\")","v":""}]
["SBSA_805","SBSA_805",null,null,null,null,null,null,null,null,null,null,null,null,null,null,null,null,null,null,null,null,null,null,null,null,"","",{"$f":"IF(OR(\nOR(AND(D814<>\"\",F814=\"\"),AND(E814<>\"\",F814=\"\")),\nF814=LEFT(F814,MIN(FIND(0,SUBSTITUTE(F814,{1,2,3,4,5,6,7,8,9},0)&0))-1)=FALSE\n),\"Check\",\"\")","v":""},"","",null,"",0,"","","","",""]
["SBSA_806","SBSA_806",null,null,null,null,null,null,null,null,null,null,null,null,null,null,null,null,null,null,null,null,null,null,null,null,"","",{"$f":"IF(OR(\nOR(AND(D815<>\"\",F815=\"\"),AND(E815<>\"\",F815=\"\")),\nF815=LEFT(F815,MIN(FIND(0,SUBSTITUTE(F815,{1,2,3,4,5,6,7,8,9},0)&0))-1)=FALSE\n),\"Check\",\"\")","v":""},"","",null,"",0,"","","","",""]
["SBSA_807","SBSA_807",null,null,null,null,null,null,null,null,null,null,null,null,null,null,null,null,null,null,null,null,null,null,null,null,"","",{"$f":"IF(OR(\nOR(AND(D816<>\"\",F816=\"\"),AND(E816<>\"\",F816=\"\")),\nF816=LEFT(F816,MIN(FIND(0,SUBSTITUTE(F816,{1,2,3,4,5,6,7,8,9},0)&0))-1)=FALSE\n),\"Check\",\"\")","v":""},"","",null,"",0,"","","","",""]
["SBSA_808","SBSA_808",null,null,null,null,null,null,null,null,null,null,null,null,null,null,null,null,null,null,null,null,null,null,null,null,"","",{"$f":"IF(OR(\nOR(AND(D817<>\"\",F817=\"\"),AND(E817<>\"\",F817=\"\")),\nF817=LEFT(F817,MIN(FIND(0,SUBSTITUTE(F817,{1,2,3,4,5,6,7,8,9},0)&0))-1)=FALSE\n),\"Check\",\"\")","v":""},"","",null,"",0,"","","","",""]
["SBSA_809","SBSA_809",null,null,null,null,null,null,null,null,null,null,null,null,null,null,null,null,null,null,null,null,null,null,null,null,"","",{"$f":"IF(OR(\nOR(AND(D818<>\"\",F818=\"\"),AND(E818<>\"\",F818=\"\")),\nF818=LEFT(F818,MIN(FIND(0,SUBSTITUTE(F818,{1,2,3,4,5,6,7,8,9},0)&0))-1)=FALSE\n),\"Check\",\"\")","v":""},"","",null,"",0,"","","","",""]
["SBSA_810","SBSA_810",null,null,null,null,null,null,null,null,null,null,null,null,null,null,null,null,null,null,null,null,null,null,null,null,"","",{"$f":"IF(OR(\nOR(AND(D819<>\"\",F819=\"\"),AND(E819<>\"\",F819=\"\")),\nF819=LEFT(F819,MIN(FIND(0,SUBSTITUTE(F819,{1,2,3,4,5,6,7,8,9},0)&0))-1)=FALSE\n),\"Check\",\"\")","v":""},"","",null,"",0,"","","","",""]
["SBSA_811","SBSA_811",null,null,null,null,null,null,null,null,null,null,null,null,null,null,null,null,null,null,null,null,null,null,null,null,"","",{"$f":"IF(OR(\nOR(AND(D820<>\"\",F820=\"\"),AND(E820<>\"\",F820=\"\")),\nF820=LEFT(F820,MIN(FIND(0,SUBSTITUTE(F820,{1,2,3,4,5,6,7,8,9},0)&0))-1)=FALSE\n),\"Check\",\"\")","v":""},"","",null,"",0,"","","","",""]
["SBSA_812","SBSA_812",null,null,null,null,null,null,null,null,null,null,null,null,null,null,null,null,null,null,null,null,null,null,null,null,"","",{"$f":"IF(OR(\nOR(AND(D821<>\"\",F821=\"\"),AND(E821<>\"\",F821=\"\")),\nF821=LEFT(F821,MIN(FIND(0,SUBSTITUTE(F821,{1,2,3,4,5,6,7,8,9},0)&0))-1)=FALSE\n),\"Check\",\"\")","v":""},"","",null,"",0,"","","","",""]
["SBSA_813","SBSA_813",null,null,null,null,null,null,null,null,null,null,null,null,null,null,null,null,null,null,null,null,null,null,null,null,"","",{"$f":"IF(OR(\nOR(AND(D822<>\"\",F822=\"\"),AND(E822<>\"\",F822=\"\")),\nF822=LEFT(F822,MIN(FIND(0,SUBSTITUTE(F822,{1,2,3,4,5,6,7,8,9},0)&0))-1)=FALSE\n),\"Check\",\"\")","v":""},"","",null,"",0,"","","","",""]
["SBSA_814","SBSA_814",null,null,null,null,null,null,null,null,null,null,null,null,null,null,null,null,null,null,null,null,null,null,null,null,"","",{"$f":"IF(OR(\nOR(AND(D823<>\"\",F823=\"\"),AND(E823<>\"\",F823=\"\")),\nF823=LEFT(F823,MIN(FIND(0,SUBSTITUTE(F823,{1,2,3,4,5,6,7,8,9},0)&0))-1)=FALSE\n),\"Check\",\"\")","v":""},"","",null,"",0,"","","","",""]
["SBSA_815","SBSA_815",null,null,null,null,null,null,null,null,null,null,null,null,null,null,null,null,null,null,null,null,null,null,null,null,"","",{"$f":"IF(OR(\nOR(AND(D824<>\"\",F824=\"\"),AND(E824<>\"\",F824=\"\")),\nF824=LEFT(F824,MIN(FIND(0,SUBSTITUTE(F824,{1,2,3,4,5,6,7,8,9},0)&0))-1)=FALSE\n),\"Check\",\"\")","v":""},"","",null,"",0,"","","","",""]
["SBSA_816","SBSA_816",null,null,null,null,null,null,null,null,null,null,null,null,null,null,null,null,null,null,null,null,null,null,null,null,"","",{"$f":"IF(OR(\nOR(AND(D825<>\"\",F825=\"\"),AND(E825<>\"\",F825=\"\")),\nF825=LEFT(F825,MIN(FIND(0,SUBSTITUTE(F825,{1,2,3,4,5,6,7,8,9},0)&0))-1)=FALSE\n),\"Check\",\"\")","v":""},"","",null,"",0,"","","","",""]
["SBSA_817","SBSA_817",null,null,null,null,null,null,null,null,null,null,null,null,null,null,null,null,null,null,null,null,null,null,null,null,"","",{"$f":"IF(OR(\nOR(AND(D826<>\"\",F826=\"\"),AND(E826<>\"\",F826=\"\")),\nF826=LEFT(F826,MIN(FIND(0,SUBSTITUTE(F826,{1,2,3,4,5,6,7,8,9},0)&0))-1)=FALSE\n),\"Check\",\"\")","v":""},"","",null,"",0,"","","","",""]
["SBSA_818","SBSA_818",null,null,null,null,null,null,null,null,null,null,null,null,null,null,null,null,null,null,null,null,null,null,null,null,"","",{"$f":"IF(OR(\nOR(AND(D827<>\"\",F827=\"\"),AND(E827<>\"\",F827=\"\")),\nF827=LEFT(F827,MIN(FIND(0,SUBSTITUTE(F827,{1,2,3,4,5,6,7,8,9},0)&0))-1)=FALSE\n),\"Check\",\"\")","v":""},"","",null,"",0,"","","","",""]
["SBSA_819","SBSA_819",null,null,null,null,null,null,null,null,null,null,null,null,null,null,null,null,null,null,null,null,null,null,null,null,"","",{"$f":"IF(OR(\nOR(AND(D828<>\"\",F828=\"\"),AND(E828<>\"\",F828=\"\")),\nF828=LEFT(F828,MIN(FIND(0,SUBSTITUTE(F828,{1,2,3,4,5,6,7,8,9},0)&0))-1)=FALSE\n),\"Check\",\"\")","v":""},"","",null,"",0,"","","","",""]
["SBSA_820","SBSA_820",null,null,null,null,null,null,null,null,null,null,null,null,null,null,null,null,null,null,null,null,null,null,null,null,"","",{"$f":"IF(OR(\nOR(AND(D829<>\"\",F829=\"\"),AND(E829<>\"\",F829=\"\")),\nF829=LEFT(F829,MIN(FIND(0,SUBSTITUTE(F829,{1,2,3,4,5,6,7,8,9},0)&0))-1)=FALSE\n),\"Check\",\"\")","v":""},"","",null,"",0,"","","","",""]
["SBSA_821","SBSA_821",null,null,null,null,null,null,null,null,null,null,null,null,null,null,null,null,null,null,null,null,null,null,null,null,"","",{"$f":"IF(OR(\nOR(AND(D830<>\"\",F830=\"\"),AND(E830<>\"\",F830=\"\")),\nF830=LEFT(F830,MIN(FIND(0,SUBSTITUTE(F830,{1,2,3,4,5,6,7,8,9},0)&0))-1)=FALSE\n),\"Check\",\"\")","v":""},"","",null,"",0,"","","","",""]
["SBSA_822","SBSA_822",null,null,null,null,null,null,null,null,null,null,null,null,null,null,null,null,null,null,null,null,null,null,null,null,"","",{"$f":"IF(OR(\nOR(AND(D831<>\"\",F831=\"\"),AND(E831<>\"\",F831=\"\")),\nF831=LEFT(F831,MIN(FIND(0,SUBSTITUTE(F831,{1,2,3,4,5,6,7,8,9},0)&0))-1)=FALSE\n),\"Check\",\"\")","v":""},"","",null,"",0,"","","","",""]
["SBSA_823","SBSA_823",null,null,null,null,null,null,null,null,null,null,null,null,null,null,null,null,null,null,null,null,null,null,null,null,"","",{"$f":"IF(OR(\nOR(AND(D832<>\"\",F832=\"\"),AND(E832<>\"\",F832=\"\")),\nF832=LEFT(F832,MIN(FIND(0,SUBSTITUTE(F832,{1,2,3,4,5,6,7,8,9},0)&0))-1)=FALSE\n),\"Check\",\"\")","v":""},"","",null,"",0,"","","","",""]
["SBSA_824","SBSA_824",null,null,null,null,null,null,null,null,null,null,null,null,null,null,null,null,null,null,null,null,null,null,null,null,"","",{"$f":"IF(OR(\nOR(AND(D833<>\"\",F833=\"\"),AND(E833<>\"\",F833=\"\")),\nF833=LEFT(F833,MIN(FIND(0,SUBSTITUTE(F833,{1,2,3,4,5,6,7,8,9},0)&0))-1)=FALSE\n),\"Check\",\"\")","v":""},"","",null,"",0,"","","","",""]
["SBSA_825","SBSA_825",null,null,null,null,null,null,null,null,null,null,null,null,null,null,null,null,null,null,null,null,null,null,null,null,"","",{"$f":"IF(OR(\nOR(AND(D834<>\"\",F834=\"\"),AND(E834<>\"\",F834=\"\")),\nF834=LEFT(F834,MIN(FIND(0,SUBSTITUTE(F834,{1,2,3,4,5,6,7,8,9},0)&0))-1)=FALSE\n),\"Check\",\"\")","v":""},"","",null,"",0,"","","","",""]
["SBSA_826","SBSA_826",null,null,null,null,null,null,null,null,null,null,null,null,null,null,null,null,null,null,null,null,null,null,null,null,"","",{"$f":"IF(OR(\nOR(AND(D835<>\"\",F835=\"\"),AND(E835<>\"\",F835=\"\")),\nF835=LEFT(F835,MIN(FIND(0,SUBSTITUTE(F835,{1,2,3,4,5,6,7,8,9},0)&0))-1)=FALSE\n),\"Check\",\"\")","v":""},"","",null,"",0,"","","","",""]
["SBSA_827","SBSA_827",null,null,null,null,null,null,null,null,null,null,null,null,null,null,null,null,null,null,null,null,null,null,null,null,"","",{"$f":"IF(OR(\nOR(AND(D836<>\"\",F836=\"\"),AND(E836<>\"\",F836=\"\")),\nF836=LEFT(F836,MIN(FIND(0,SUBSTITUTE(F836,{1,2,3,4,5,6,7,8,9},0)&0))-1)=FALSE\n),\"Check\",\"\")","v":""},"","",null,"",0,"","","","",""]
["SBSA_828","SBSA_828",null,null,null,null,null,null,null,null,null,null,null,null,null,null,null,null,null,null,null,null,null,null,null,null,"","",{"$f":"IF(OR(\nOR(AND(D837<>\"\",F837=\"\"),AND(E837<>\"\",F837=\"\")),\nF837=LEFT(F837,MIN(FIND(0,SUBSTITUTE(F837,{1,2,3,4,5,6,7,8,9},0)&0))-1)=FALSE\n),\"Check\",\"\")","v":""},"","",null,"",0,"","","","",""]
["SBSA_829","SBSA_829",null,null,null,null,null,null,null,null,null,null,null,null,null,null,null,null,null,null,null,null,null,null,null,null,"","",{"$f":"IF(OR(\nOR(AND(D838<>\"\",F838=\"\"),AND(E838<>\"\",F838=\"\")),\nF838=LEFT(F838,MIN(FIND(0,SUBSTITUTE(F838,{1,2,3,4,5,6,7,8,9},0)&0))-1)=FALSE\n),\"Check\",\"\")","v":""},"","",null,"",0,"","","","",""]
["SBSA_830","SBSA_830",null,null,null,null,null,null,null,null,null,null,null,null,null,null,null,null,null,null,null,null,null,null,null,null,"","",{"$f":"IF(OR(\nOR(AND(D839<>\"\",F839=\"\"),AND(E839<>\"\",F839=\"\")),\nF839=LEFT(F839,MIN(FIND(0,SUBSTITUTE(F839,{1,2,3,4,5,6,7,8,9},0)&0))-1)=FALSE\n),\"Check\",\"\")","v":""},"","",null,"",0,"","","","",""]
["SBSA_831","SBSA_831",null,null,null,null,null,null,null,null,null,null,null,null,null,null,null,null,null,null,null,null,null,null,null,null,"","",{"$f":"IF(OR(\nOR(AND(D840<>\"\",F840=\"\"),AND(E840<>\"\",F840=\"\")),\nF840=LEFT(F840,MIN(FIND(0,SUBSTITUTE(F840,{1,2,3,4,5,6,7,8,9},0)&0))-1)=FALSE\n),\"Check\",\"\")","v":""},"","",null,"",0,"","","","",""]
["SBSA_832","SBSA_832",null,null,null,null,null,null,null,null,null,null,null,null,null,null,null,null,null,null,null,null,null,null,null,null,"","",{"$f":"IF(OR(\nOR(AND(D841<>\"\",F841=\"\"),AND(E841<>\"\",F841=\"\")),\nF841=LEFT(F841,MIN(FIND(0,SUBSTITUTE(F841,{1,2,3,4,5,6,7,8,9},0)&0))-1)=FALSE\n),\"Check\",\"\")","v":""},"","",null,"",0,"","","","",""]
["SBSA_833","SBSA_833",null,null,null,null,null,null,null,null,null,null,null,null,null,null,null,null,null,null,null,null,null,null,null,null,"","",{"$f":"IF(OR(\nOR(AND(D842<>\"\",F842=\"\"),AND(E842<>\"\",F842=\"\")),\nF842=LEFT(F842,MIN(FIND(0,SUBSTITUTE(F842,{1,2,3,4,5,6,7,8,9},0)&0))-1)=FALSE\n),\"Check\",\"\")","v":""},"","",null,"",0,"","","","",""]
["SBSA_834","SBSA_834",null,null,null,null,null,null,null,null,null,null,null,null,null,null,null,null,null,null,null,null,null,null,null,null,"","",{"$f":"IF(OR(\nOR(AND(D843<>\"\",F843=\"\"),AND(E843<>\"\",F843=\"\")),\nF843=LEFT(F843,MIN(FIND(0,SUBSTITUTE(F843,{1,2,3,4,5,6,7,8,9},0)&0))-1)=FALSE\n),\"Check\",\"\")","v":""},"","",null,"",0,"","","","",""]
["SBSA_835","SBSA_835",null,null,null,null,null,null,null,null,null,null,null,null,null,null,null,null,null,null,null,null,null,null,null,null,"","",{"$f":"IF(OR(\nOR(AND(D844<>\"\",F844=\"\"),AND(E844<>\"\",F844=\"\")),\nF844=LEFT(F844,MIN(FIND(0,SUBSTITUTE(F844,{1,2,3,4,5,6,7,8,9},0)&0))-1)=FALSE\n),\"Check\",\"\")","v":""},"","",null,"",0,"","","","",""]
["SBSA_836","SBSA_836",null,null,null,null,null,null,null,null,null,null,null,null,null,null,null,null,null,null,null,null,null,null,null,null,"","",{"$f":"IF(OR(\nOR(AND(D845<>\"\",F845=\"\"),AND(E845<>\"\",F845=\"\")),\nF845=LEFT(F845,MIN(FIND(0,SUBSTITUTE(F845,{1,2,3,4,5,6,7,8,9},0)&0))-1)=FALSE\n),\"Check\",\"\")","v":""},"","",null,"",0,"","","","",""]
["SBSA_837","SBSA_837",null,null,null,null,null,null,null,null,null,null,null,null,null,null,null,null,null,null,null,null,null,null,null,null,"","",{"$f":"IF(OR(\nOR(AND(D846<>\"\",F846=\"\"),AND(E846<>\"\",F846=\"\")),\nF846=LEFT(F846,MIN(FIND(0,SUBSTITUTE(F846,{1,2,3,4,5,6,7,8,9},0)&0))-1)=FALSE\n),\"Check\",\"\")","v":""},"","",null,"",0,"","","","",""]
["SBSA_838","SBSA_838",null,null,null,null,null,null,null,null,null,null,null,null,null,null,null,null,null,null,null,null,null,null,null,null,"","",{"$f":"IF(OR(\nOR(AND(D847<>\"\",F847=\"\"),AND(E847<>\"\",F847=\"\")),\nF847=LEFT(F847,MIN(FIND(0,SUBSTITUTE(F847,{1,2,3,4,5,6,7,8,9},0)&0))-1)=FALSE\n),\"Check\",\"\")","v":""},"","",null,"",0,"","","","",""]
["SBSA_839","SBSA_839",null,null,null,null,null,null,null,null,null,null,null,null,null,null,null,null,null,null,null,null,null,null,null,null,"","",{"$f":"IF(OR(\nOR(AND(D848<>\"\",F848=\"\"),AND(E848<>\"\",F848=\"\")),\nF848=LEFT(F848,MIN(FIND(0,SUBSTITUTE(F848,{1,2,3,4,5,6,7,8,9},0)&0))-1)=FALSE\n),\"Check\",\"\")","v":""},"","",null,"",0,"","","","",""]
["SBSA_840","SBSA_840",null,null,null,null,null,null,null,null,null,null,null,null,null,null,null,null,null,null,null,null,null,null,null,null,"","",{"$f":"IF(OR(\nOR(AND(D849<>\"\",F849=\"\"),AND(E849<>\"\",F849=\"\")),\nF849=LEFT(F849,MIN(FIND(0,SUBSTITUTE(F849,{1,2,3,4,5,6,7,8,9},0)&0))-1)=FALSE\n),\"Check\",\"\")","v":""},"","",null,"",0,"","","","",""]
["SBSA_841","SBSA_841",null,null,null,null,null,null,null,null,null,null,null,null,null,null,null,null,null,null,null,null,null,null,null,null,"","",{"$f":"IF(OR(\nOR(AND(D850<>\"\",F850=\"\"),AND(E850<>\"\",F850=\"\")),\nF850=LEFT(F850,MIN(FIND(0,SUBSTITUTE(F850,{1,2,3,4,5,6,7,8,9},0)&0))-1)=FALSE\n),\"Check\",\"\")","v":""},"","",null,"",0,"","","","",""]
["SBSA_842","SBSA_842",null,null,null,null,null,null,null,null,null,null,null,null,null,null,null,null,null,null,null,null,null,null,null,null,"","",{"$f":"IF(OR(\nOR(AND(D851<>\"\",F851=\"\"),AND(E851<>\"\",F851=\"\")),\nF851=LEFT(F851,MIN(FIND(0,SUBSTITUTE(F851,{1,2,3,4,5,6,7,8,9},0)&0))-1)=FALSE\n),\"Check\",\"\")","v":""},"","",null,"",0,"","","","",""]
["SBSA_843","SBSA_843",null,null,null,null,null,null,null,null,null,null,null,null,null,null,null,null,null,null,null,null,null,null,null,null,"","",{"$f":"IF(OR(\nOR(AND(D852<>\"\",F852=\"\"),AND(E852<>\"\",F852=\"\")),\nF852=LEFT(F852,MIN(FIND(0,SUBSTITUTE(F852,{1,2,3,4,5,6,7,8,9},0)&0))-1)=FALSE\n),\"Check\",\"\")","v":""},"","",null,"",0,"","","","",""]
["SBSA_844","SBSA_844",null,null,null,null,null,null,null,null,null,null,null,null,null,null,null,null,null,null,null,null,null,null,null,null,"","",{"$f":"IF(OR(\nOR(AND(D853<>\"\",F853=\"\"),AND(E853<>\"\",F853=\"\")),\nF853=LEFT(F853,MIN(FIND(0,SUBSTITUTE(F853,{1,2,3,4,5,6,7,8,9},0)&0))-1)=FALSE\n),\"Check\",\"\")","v":""},"","",null,"",0,"","","","",""]
["SBSA_845","SBSA_845",null,null,null,null,null,null,null,null,null,null,null,null,null,null,null,null,null,null,null,null,null,null,null,null,"","",{"$f":"IF(OR(\nOR(AND(D854<>\"\",F854=\"\"),AND(E854<>\"\",F854=\"\")),\nF854=LEFT(F854,MIN(FIND(0,SUBSTITUTE(F854,{1,2,3,4,5,6,7,8,9},0)&0))-1)=FALSE\n),\"Check\",\"\")","v":""},"","",null,"",0,"","","","",""]
["SBSA_846","SBSA_846",null,null,null,null,null,null,null,null,null,null,null,null,null,null,null,null,null,null,null,null,null,null,null,null,"","",{"$f":"IF(OR(\nOR(AND(D855<>\"\",F855=\"\"),AND(E855<>\"\",F855=\"\")),\nF855=LEFT(F855,MIN(FIND(0,SUBSTITUTE(F855,{1,2,3,4,5,6,7,8,9},0)&0))-1)=FALSE\n),\"Check\",\"\")","v":""},"","",null,"",0,"","","","",""]
["SBSA_847","SBSA_847",null,null,null,null,null,null,null,null,null,null,null,null,null,null,null,null,null,null,null,null,null,null,null,null,"","",{"$f":"IF(OR(\nOR(AND(D856<>\"\",F856=\"\"),AND(E856<>\"\",F856=\"\")),\nF856=LEFT(F856,MIN(FIND(0,SUBSTITUTE(F856,{1,2,3,4,5,6,7,8,9},0)&0))-1)=FALSE\n),\"Check\",\"\")","v":""},"","",null,"",0,"","","","",""]
["SBSA_848","SBSA_848",null,null,null,null,null,null,null,null,null,null,null,null,null,null,null,null,null,null,null,null,null,null,null,null,"","",{"$f":"IF(OR(\nOR(AND(D857<>\"\",F857=\"\"),AND(E857<>\"\",F857=\"\")),\nF857=LEFT(F857,MIN(FIND(0,SUBSTITUTE(F857,{1,2,3,4,5,6,7,8,9},0)&0))-1)=FALSE\n),\"Check\",\"\")","v":""},"","",null,"",0,"","","","",""]
["SBSA_849","SBSA_849",null,null,null,null,null,null,null,null,null,null,null,null,null,null,null,null,null,null,null,null,null,null,null,null,"","",{"$f":"IF(OR(\nOR(AND(D858<>\"\",F858=\"\"),AND(E858<>\"\",F858=\"\")),\nF858=LEFT(F858,MIN(FIND(0,SUBSTITUTE(F858,{1,2,3,4,5,6,7,8,9},0)&0))-1)=FALSE\n),\"Check\",\"\")","v":""},"","",null,"",0,"","","","",""]
["SBSA_850","SBSA_850",null,null,null,null,null,null,null,null,null,null,null,null,null,null,null,null,null,null,null,null,null,null,null,null,"","",{"$f":"IF(OR(\nOR(AND(D859<>\"\",F859=\"\"),AND(E859<>\"\",F859=\"\")),\nF859=LEFT(F859,MIN(FIND(0,SUBSTITUTE(F859,{1,2,3,4,5,6,7,8,9},0)&0))-1)=FALSE\n),\"Check\",\"\")","v":""},"","",null,"",0,"","","","",""]
["SBSA_851","SBSA_851",null,null,null,null,null,null,null,null,null,null,null,null,null,null,null,null,null,null,null,null,null,null,null,null,"","",{"$f":"IF(OR(\nOR(AND(D860<>\"\",F860=\"\"),AND(E860<>\"\",F860=\"\")),\nF860=LEFT(F860,MIN(FIND(0,SUBSTITUTE(F860,{1,2,3,4,5,6,7,8,9},0)&0))-1)=FALSE\n),\"Check\",\"\")","v":""},"","",null,"",0,"","","","",""]
["SBSA_852","SBSA_852",null,null,null,null,null,null,null,null,null,null,null,null,null,null,null,null,null,null,null,null,null,null,null,null,"","",{"$f":"IF(OR(\nOR(AND(D861<>\"\",F861=\"\"),AND(E861<>\"\",F861=\"\")),\nF861=LEFT(F861,MIN(FIND(0,SUBSTITUTE(F861,{1,2,3,4,5,6,7,8,9},0)&0))-1)=FALSE\n),\"Check\",\"\")","v":""},"","",null,"",0,"","","","",""]
["SBSA_853","SBSA_853",null,null,null,null,null,null,null,null,null,null,null,null,null,null,null,null,null,null,null,null,null,null,null,null,"","",{"$f":"IF(OR(\nOR(AND(D862<>\"\",F862=\"\"),AND(E862<>\"\",F862=\"\")),\nF862=LEFT(F862,MIN(FIND(0,SUBSTITUTE(F862,{1,2,3,4,5,6,7,8,9},0)&0))-1)=FALSE\n),\"Check\",\"\")","v":""},"","",null,"",0,"","","","",""]
["SBSA_854","SBSA_854",null,null,null,null,null,null,null,null,null,null,null,null,null,null,null,null,null,null,null,null,null,null,null,null,"","",{"$f":"IF(OR(\nOR(AND(D863<>\"\",F863=\"\"),AND(E863<>\"\",F863=\"\")),\nF863=LEFT(F863,MIN(FIND(0,SUBSTITUTE(F863,{1,2,3,4,5,6,7,8,9},0)&0))-1)=FALSE\n),\"Check\",\"\")","v":""},"","",null,"",0,"","","","",""]
["SBSA_855","SBSA_855",null,null,null,null,null,null,null,null,null,null,null,null,null,null,null,null,null,null,null,null,null,null,null,null,"","",{"$f":"IF(OR(\nOR(AND(D864<>\"\",F864=\"\"),AND(E864<>\"\",F864=\"\")),\nF864=LEFT(F864,MIN(FIND(0,SUBSTITUTE(F864,{1,2,3,4,5,6,7,8,9},0)&0))-1)=FALSE\n),\"Check\",\"\")","v":""},"","",null,"",0,"","","","",""]
["SBSA_856","SBSA_856",null,null,null,null,null,null,null,null,null,null,null,null,null,null,null,null,null,null,null,null,null,null,null,null,"","",{"$f":"IF(OR(\nOR(AND(D865<>\"\",F865=\"\"),AND(E865<>\"\",F865=\"\")),\nF865=LEFT(F865,MIN(FIND(0,SUBSTITUTE(F865,{1,2,3,4,5,6,7,8,9},0)&0))-1)=FALSE\n),\"Check\",\"\")","v":""},"","",null,"",0,"","","","",""]
["SBSA_857","SBSA_857",null,null,null,null,null,null,null,null,null,null,null,null,null,null,null,null,null,null,null,null,null,null,null,null,"","",{"$f":"IF(OR(\nOR(AND(D866<>\"\",F866=\"\"),AND(E866<>\"\",F866=\"\")),\nF866=LEFT(F866,MIN(FIND(0,SUBSTITUTE(F866,{1,2,3,4,5,6,7,8,9},0)&0))-1)=FALSE\n),\"Check\",\"\")","v":""},"","",null,"",0,"","","","",""]
["SBSA_858","SBSA_858",null,null,null,null,null,null,null,null,null,null,null,null,null,null,null,null,null,null,null,null,null,null,null,null,"","",{"$f":"IF(OR(\nOR(AND(D867<>\"\",F867=\"\"),AND(E867<>\"\",F867=\"\")),\nF867=LEFT(F867,MIN(FIND(0,SUBSTITUTE(F867,{1,2,3,4,5,6,7,8,9},0)&0))-1)=FALSE\n),\"Check\",\"\")","v":""},"","",null,"",0,"","","","",""]
["SBSA_859","SBSA_859",null,null,null,null,null,null,null,null,null,null,null,null,null,null,null,null,null,null,null,null,null,null,null,null,"","",{"$f":"IF(OR(\nOR(AND(D868<>\"\",F868=\"\"),AND(E868<>\"\",F868=\"\")),\nF868=LEFT(F868,MIN(FIND(0,SUBSTITUTE(F868,{1,2,3,4,5,6,7,8,9},0)&0))-1)=FALSE\n),\"Check\",\"\")","v":""},"","",null,"",0,"","","","",""]
["SBSA_860","SBSA_860",null,null,null,null,null,null,null,null,null,null,null,null,null,null,null,null,null,null,null,null,null,null,null,null,"","",{"$f":"IF(OR(\nOR(AND(D869<>\"\",F869=\"\"),AND(E869<>\"\",F869=\"\")),\nF869=LEFT(F869,MIN(FIND(0,SUBSTITUTE(F869,{1,2,3,4,5,6,7,8,9},0)&0))-1)=FALSE\n),\"Check\",\"\")","v":""},"","",null,"",0,"","","","",""]
["SBSA_861","SBSA_861",null,null,null,null,null,null,null,null,null,null,null,null,null,null,null,null,null,null,null,null,null,null,null,null,"","",{"$f":"IF(OR(\nOR(AND(D870<>\"\",F870=\"\"),AND(E870<>\"\",F870=\"\")),\nF870=LEFT(F870,MIN(FIND(0,SUBSTITUTE(F870,{1,2,3,4,5,6,7,8,9},0)&0))-1)=FALSE\n),\"Check\",\"\")","v":""},"","",null,"",0,"","","","",""]
["SBSA_862","SBSA_862",null,null,null,null,null,null,null,null,null,null,null,null,null,null,null,null,null,null,null,null,null,null,null,null,"","",{"$f":"IF(OR(\nOR(AND(D871<>\"\",F871=\"\"),AND(E871<>\"\",F871=\"\")),\nF871=LEFT(F871,MIN(FIND(0,SUBSTITUTE(F871,{1,2,3,4,5,6,7,8,9},0)&0))-1)=FALSE\n),\"Check\",\"\")","v":""},"","",null,"",0,"","","","",""]
["SBSA_863","SBSA_863",null,null,null,null,null,null,null,null,null,null,null,null,null,null,null,null,null,null,null,null,null,null,null,null,"","",{"$f":"IF(OR(\nOR(AND(D872<>\"\",F872=\"\"),AND(E872<>\"\",F872=\"\")),\nF872=LEFT(F872,MIN(FIND(0,SUBSTITUTE(F872,{1,2,3,4,5,6,7,8,9},0)&0))-1)=FALSE\n),\"Check\",\"\")","v":""},"","",null,"",0,"","","","",""]
["SBSA_864","SBSA_864",null,null,null,null,null,null,null,null,null,null,null,null,null,null,null,null,null,null,null,null,null,null,null,null,"","",{"$f":"IF(OR(\nOR(AND(D873<>\"\",F873=\"\"),AND(E873<>\"\",F873=\"\")),\nF873=LEFT(F873,MIN(FIND(0,SUBSTITUTE(F873,{1,2,3,4,5,6,7,8,9},0)&0))-1)=FALSE\n),\"Check\",\"\")","v":""},"","",null,"",0,"","","","",""]
["SBSA_865","SBSA_865",null,null,null,null,null,null,null,null,null,null,null,null,null,null,null,null,null,null,null,null,null,null,null,null,"","",{"$f":"IF(OR(\nOR(AND(D874<>\"\",F874=\"\"),AND(E874<>\"\",F874=\"\")),\nF874=LEFT(F874,MIN(FIND(0,SUBSTITUTE(F874,{1,2,3,4,5,6,7,8,9},0)&0))-1)=FALSE\n),\"Check\",\"\")","v":""},"","",null,"",0,"","","","",""]
["SBSA_866","SBSA_866",null,null,null,null,null,null,null,null,null,null,null,null,null,null,null,null,null,null,null,null,null,null,null,null,"","",{"$f":"IF(OR(\nOR(AND(D875<>\"\",F875=\"\"),AND(E875<>\"\",F875=\"\")),\nF875=LEFT(F875,MIN(FIND(0,SUBSTITUTE(F875,{1,2,3,4,5,6,7,8,9},0)&0))-1)=FALSE\n),\"Check\",\"\")","v":""},"","",null,"",0,"","","","",""]
["SBSA_867","SBSA_867",null,null,null,null,null,null,null,null,null,null,null,null,null,null,null,null,null,null,null,null,null,null,null,null,"","",{"$f":"IF(OR(\nOR(AND(D876<>\"\",F876=\"\"),AND(E876<>\"\",F876=\"\")),\nF876=LEFT(F876,MIN(FIND(0,SUBSTITUTE(F876,{1,2,3,4,5,6,7,8,9},0)&0))-1)=FALSE\n),\"Check\",\"\")","v":""},"","",null,"",0,"","","","",""]
["SBSA_868","SBSA_868",null,null,null,null,null,null,null,null,null,null,null,null,null,null,null,null,null,null,null,null,null,null,null,null,{"$f":"IF(AND(C877=\"\",OR(D877<>\"\",E877<>\"\",F877<>\"\",G877<>\"\")),\"Check\",\"\")","v":""},{"$f":"IF(AND(C877<>\"\",OR(AND(D877=\"\",E877=\"\"),AND(D877=0,E877=0),AND(ABS(D877)>0,ABS(E877)>0))),\"Check\",\"\")","v":""},{"$f":"IF(OR(\nOR(AND(D877<>\"\",F877=\"\"),AND(E877<>\"\",F877=\"\")),\nF877=LEFT(F877,MIN(FIND(0,SUBSTITUTE(F877,{1,2,3,4,5,6,7,8,9},0)&0))-1)=FALSE\n),\"Check\",\"\")","v":""},{"$f":"IF(OR(E877=\"\",G877=\"\"),\"\",(E877*G877)/100)","v":""},{"$f":"IF(AND(F877<>\"\",G877=\"\"),\"Check\",\"\")","v":""},null,{"$f":"IF(C877=\"\",\"\",C877&\"_\"&IF(G877=\"\",0,G877))","v":""},{"$f":"IF(COUNTBLANK(C877:G877)<5,1,0)","v":0},{"$f":"IF(C877=\"\",\"\",IF(LEN(C877)=12,\"\",\"Check\"))","v":""},{"$f":"IF(C877=\"\",\"\",IF(COUNTIF(C$10:C$65536,C877)=COUNTIF(AG$10:AG$65536,AG877),\"\",\"Check\"))","v":""},{"$f":"IF(F877=\"\",\"\",IF(LEN(F877)=3,\"\",\"Check\"))","v":""},{"$f":"IF(OR(IF(D877=\"\",\"\",IF(ISNUMBER(D877)=TRUE,\"\",\"TEXT\"))=\"TEXT\",IF(E877=\"\",\"\",IF(ISNUMBER(E877)=TRUE,\"\",\"TEXT\"))=\"TEXT\",IF(G877=\"\",\"\",IF(ISNUMBER(G877)=TRUE,\"\",\"TEXT\"))=\"TEXT\"),\"Check\",\"\")","v":""},{"$f":"IF(G877<0,\"Check\",\"\")","v":""}]
["SBSA_869","SBSA_869",null,null,null,null,null,null,null,null,null,null,null,null,null,null,null,null,null,null,null,null,null,null,null,null,"","",{"$f":"IF(OR(\nOR(AND(D878<>\"\",F878=\"\"),AND(E878<>\"\",F878=\"\")),\nF878=LEFT(F878,MIN(FIND(0,SUBSTITUTE(F878,{1,2,3,4,5,6,7,8,9},0)&0))-1)=FALSE\n),\"Check\",\"\")","v":""},"","",null,"",0,"","","","",""]
["SBSA_870","SBSA_870",null,null,null,null,null,null,null,null,null,null,null,null,null,null,null,null,null,null,null,null,null,null,null,null,"","",{"$f":"IF(OR(\nOR(AND(D879<>\"\",F879=\"\"),AND(E879<>\"\",F879=\"\")),\nF879=LEFT(F879,MIN(FIND(0,SUBSTITUTE(F879,{1,2,3,4,5,6,7,8,9},0)&0))-1)=FALSE\n),\"Check\",\"\")","v":""},"","",null,"",0,"","","","",""]
["SBSA_871","SBSA_871",null,null,null,null,null,null,null,null,null,null,null,null,null,null,null,null,null,null,null,null,null,null,null,null,"","",{"$f":"IF(OR(\nOR(AND(D880<>\"\",F880=\"\"),AND(E880<>\"\",F880=\"\")),\nF880=LEFT(F880,MIN(FIND(0,SUBSTITUTE(F880,{1,2,3,4,5,6,7,8,9},0)&0))-1)=FALSE\n),\"Check\",\"\")","v":""},"","",null,"",0,"","","","",""]
["SBSA_872","SBSA_872",null,null,null,null,null,null,null,null,null,null,null,null,null,null,null,null,null,null,null,null,null,null,null,null,"","",{"$f":"IF(OR(\nOR(AND(D881<>\"\",F881=\"\"),AND(E881<>\"\",F881=\"\")),\nF881=LEFT(F881,MIN(FIND(0,SUBSTITUTE(F881,{1,2,3,4,5,6,7,8,9},0)&0))-1)=FALSE\n),\"Check\",\"\")","v":""},"","",null,"",0,"","","","",""]
["SBSA_873","SBSA_873",null,null,null,null,null,null,null,null,null,null,null,null,null,null,null,null,null,null,null,null,null,null,null,null,"","",{"$f":"IF(OR(\nOR(AND(D882<>\"\",F882=\"\"),AND(E882<>\"\",F882=\"\")),\nF882=LEFT(F882,MIN(FIND(0,SUBSTITUTE(F882,{1,2,3,4,5,6,7,8,9},0)&0))-1)=FALSE\n),\"Check\",\"\")","v":""},"","",null,"",0,"","","","",""]
["SBSA_874","SBSA_874",null,null,null,null,null,null,null,null,null,null,null,null,null,null,null,null,null,null,null,null,null,null,null,null,"","",{"$f":"IF(OR(\nOR(AND(D883<>\"\",F883=\"\"),AND(E883<>\"\",F883=\"\")),\nF883=LEFT(F883,MIN(FIND(0,SUBSTITUTE(F883,{1,2,3,4,5,6,7,8,9},0)&0))-1)=FALSE\n),\"Check\",\"\")","v":""},"","",null,"",0,"","","","",""]
["SBSA_875","SBSA_875",null,null,null,null,null,null,null,null,null,null,null,null,null,null,null,null,null,null,null,null,null,null,null,null,"","",{"$f":"IF(OR(\nOR(AND(D884<>\"\",F884=\"\"),AND(E884<>\"\",F884=\"\")),\nF884=LEFT(F884,MIN(FIND(0,SUBSTITUTE(F884,{1,2,3,4,5,6,7,8,9},0)&0))-1)=FALSE\n),\"Check\",\"\")","v":""},"","",null,"",0,"","","","",""]
["SBSA_876","SBSA_876",null,null,null,null,null,null,null,null,null,null,null,null,null,null,null,null,null,null,null,null,null,null,null,null,"","",{"$f":"IF(OR(\nOR(AND(D885<>\"\",F885=\"\"),AND(E885<>\"\",F885=\"\")),\nF885=LEFT(F885,MIN(FIND(0,SUBSTITUTE(F885,{1,2,3,4,5,6,7,8,9},0)&0))-1)=FALSE\n),\"Check\",\"\")","v":""},"","",null,"",0,"","","","",""]
["SBSA_877","SBSA_877",null,null,null,null,null,null,null,null,null,null,null,null,null,null,null,null,null,null,null,null,null,null,null,null,"","",{"$f":"IF(OR(\nOR(AND(D886<>\"\",F886=\"\"),AND(E886<>\"\",F886=\"\")),\nF886=LEFT(F886,MIN(FIND(0,SUBSTITUTE(F886,{1,2,3,4,5,6,7,8,9},0)&0))-1)=FALSE\n),\"Check\",\"\")","v":""},"","",null,"",0,"","","","",""]
["SBSA_878","SBSA_878",null,null,null,null,null,null,null,null,null,null,null,null,null,null,null,null,null,null,null,null,null,null,null,null,"","",{"$f":"IF(OR(\nOR(AND(D887<>\"\",F887=\"\"),AND(E887<>\"\",F887=\"\")),\nF887=LEFT(F887,MIN(FIND(0,SUBSTITUTE(F887,{1,2,3,4,5,6,7,8,9},0)&0))-1)=FALSE\n),\"Check\",\"\")","v":""},"","",null,"",0,"","","","",""]
["SBSA_879","SBSA_879",null,null,null,null,null,null,null,null,null,null,null,null,null,null,null,null,null,null,null,null,null,null,null,null,"","",{"$f":"IF(OR(\nOR(AND(D888<>\"\",F888=\"\"),AND(E888<>\"\",F888=\"\")),\nF888=LEFT(F888,MIN(FIND(0,SUBSTITUTE(F888,{1,2,3,4,5,6,7,8,9},0)&0))-1)=FALSE\n),\"Check\",\"\")","v":""},"","",null,"",0,"","","","",""]
["SBSA_880","SBSA_880",null,null,null,null,null,null,null,null,null,null,null,null,null,null,null,null,null,null,null,null,null,null,null,null,"","",{"$f":"IF(OR(\nOR(AND(D889<>\"\",F889=\"\"),AND(E889<>\"\",F889=\"\")),\nF889=LEFT(F889,MIN(FIND(0,SUBSTITUTE(F889,{1,2,3,4,5,6,7,8,9},0)&0))-1)=FALSE\n),\"Check\",\"\")","v":""},"","",null,"",0,"","","","",""]
["SBSA_881","SBSA_881",null,null,null,null,null,null,null,null,null,null,null,null,null,null,null,null,null,null,null,null,null,null,null,null,"","",{"$f":"IF(OR(\nOR(AND(D890<>\"\",F890=\"\"),AND(E890<>\"\",F890=\"\")),\nF890=LEFT(F890,MIN(FIND(0,SUBSTITUTE(F890,{1,2,3,4,5,6,7,8,9},0)&0))-1)=FALSE\n),\"Check\",\"\")","v":""},"","",null,"",0,"","","","",""]
["SBSA_882","SBSA_882",null,null,null,null,null,null,null,null,null,null,null,null,null,null,null,null,null,null,null,null,null,null,null,null,"","",{"$f":"IF(OR(\nOR(AND(D891<>\"\",F891=\"\"),AND(E891<>\"\",F891=\"\")),\nF891=LEFT(F891,MIN(FIND(0,SUBSTITUTE(F891,{1,2,3,4,5,6,7,8,9},0)&0))-1)=FALSE\n),\"Check\",\"\")","v":""},"","",null,"",0,"","","","",""]
["SBSA_883","SBSA_883",null,null,null,null,null,null,null,null,null,null,null,null,null,null,null,null,null,null,null,null,null,null,null,null,"","",{"$f":"IF(OR(\nOR(AND(D892<>\"\",F892=\"\"),AND(E892<>\"\",F892=\"\")),\nF892=LEFT(F892,MIN(FIND(0,SUBSTITUTE(F892,{1,2,3,4,5,6,7,8,9},0)&0))-1)=FALSE\n),\"Check\",\"\")","v":""},"","",null,"",0,"","","","",""]
["SBSA_884","SBSA_884",null,null,null,null,null,null,null,null,null,null,null,null,null,null,null,null,null,null,null,null,null,null,null,null,"","",{"$f":"IF(OR(\nOR(AND(D893<>\"\",F893=\"\"),AND(E893<>\"\",F893=\"\")),\nF893=LEFT(F893,MIN(FIND(0,SUBSTITUTE(F893,{1,2,3,4,5,6,7,8,9},0)&0))-1)=FALSE\n),\"Check\",\"\")","v":""},"","",null,"",0,"","","","",""]
["SBSA_885","SBSA_885",null,null,null,null,null,null,null,null,null,null,null,null,null,null,null,null,null,null,null,null,null,null,null,null,"","",{"$f":"IF(OR(\nOR(AND(D894<>\"\",F894=\"\"),AND(E894<>\"\",F894=\"\")),\nF894=LEFT(F894,MIN(FIND(0,SUBSTITUTE(F894,{1,2,3,4,5,6,7,8,9},0)&0))-1)=FALSE\n),\"Check\",\"\")","v":""},"","",null,"",0,"","","","",""]
["SBSA_886","SBSA_886",null,null,null,null,null,null,null,null,null,null,null,null,null,null,null,null,null,null,null,null,null,null,null,null,"","",{"$f":"IF(OR(\nOR(AND(D895<>\"\",F895=\"\"),AND(E895<>\"\",F895=\"\")),\nF895=LEFT(F895,MIN(FIND(0,SUBSTITUTE(F895,{1,2,3,4,5,6,7,8,9},0)&0))-1)=FALSE\n),\"Check\",\"\")","v":""},"","",null,"",0,"","","","",""]
["SBSA_887","SBSA_887",null,null,null,null,null,null,null,null,null,null,null,null,null,null,null,null,null,null,null,null,null,null,null,null,"","",{"$f":"IF(OR(\nOR(AND(D896<>\"\",F896=\"\"),AND(E896<>\"\",F896=\"\")),\nF896=LEFT(F896,MIN(FIND(0,SUBSTITUTE(F896,{1,2,3,4,5,6,7,8,9},0)&0))-1)=FALSE\n),\"Check\",\"\")","v":""},"","",null,"",0,"","","","",""]
["SBSA_888","SBSA_888",null,null,null,null,null,null,null,null,null,null,null,null,null,null,null,null,null,null,null,null,null,null,null,null,"","",{"$f":"IF(OR(\nOR(AND(D897<>\"\",F897=\"\"),AND(E897<>\"\",F897=\"\")),\nF897=LEFT(F897,MIN(FIND(0,SUBSTITUTE(F897,{1,2,3,4,5,6,7,8,9},0)&0))-1)=FALSE\n),\"Check\",\"\")","v":""},"","",null,"",0,"","","","",""]
["SBSA_889","SBSA_889",null,null,null,null,null,null,null,null,null,null,null,null,null,null,null,null,null,null,null,null,null,null,null,null,"","",{"$f":"IF(OR(\nOR(AND(D898<>\"\",F898=\"\"),AND(E898<>\"\",F898=\"\")),\nF898=LEFT(F898,MIN(FIND(0,SUBSTITUTE(F898,{1,2,3,4,5,6,7,8,9},0)&0))-1)=FALSE\n),\"Check\",\"\")","v":""},"","",null,"",0,"","","","",""]
["SBSA_890","SBSA_890",null,null,null,null,null,null,null,null,null,null,null,null,null,null,null,null,null,null,null,null,null,null,null,null,"","",{"$f":"IF(OR(\nOR(AND(D899<>\"\",F899=\"\"),AND(E899<>\"\",F899=\"\")),\nF899=LEFT(F899,MIN(FIND(0,SUBSTITUTE(F899,{1,2,3,4,5,6,7,8,9},0)&0))-1)=FALSE\n),\"Check\",\"\")","v":""},"","",null,"",0,"","","","",""]
["SBSA_891","SBSA_891",null,null,null,null,null,null,null,null,null,null,null,null,null,null,null,null,null,null,null,null,null,null,null,null,"","",{"$f":"IF(OR(\nOR(AND(D900<>\"\",F900=\"\"),AND(E900<>\"\",F900=\"\")),\nF900=LEFT(F900,MIN(FIND(0,SUBSTITUTE(F900,{1,2,3,4,5,6,7,8,9},0)&0))-1)=FALSE\n),\"Check\",\"\")","v":""},"","",null,"",0,"","","","",""]
["SBSA_892","SBSA_892",null,null,null,null,null,null,null,null,null,null,null,null,null,null,null,null,null,null,null,null,null,null,null,null,"","",{"$f":"IF(OR(\nOR(AND(D901<>\"\",F901=\"\"),AND(E901<>\"\",F901=\"\")),\nF901=LEFT(F901,MIN(FIND(0,SUBSTITUTE(F901,{1,2,3,4,5,6,7,8,9},0)&0))-1)=FALSE\n),\"Check\",\"\")","v":""},"","",null,"",0,"","","","",""]
["SBSA_893","SBSA_893",null,null,null,null,null,null,null,null,null,null,null,null,null,null,null,null,null,null,null,null,null,null,null,null,"","",{"$f":"IF(OR(\nOR(AND(D902<>\"\",F902=\"\"),AND(E902<>\"\",F902=\"\")),\nF902=LEFT(F902,MIN(FIND(0,SUBSTITUTE(F902,{1,2,3,4,5,6,7,8,9},0)&0))-1)=FALSE\n),\"Check\",\"\")","v":""},"","",null,"",0,"","","","",""]
["SBSA_894","SBSA_894",null,null,null,null,null,null,null,null,null,null,null,null,null,null,null,null,null,null,null,null,null,null,null,null,"","",{"$f":"IF(OR(\nOR(AND(D903<>\"\",F903=\"\"),AND(E903<>\"\",F903=\"\")),\nF903=LEFT(F903,MIN(FIND(0,SUBSTITUTE(F903,{1,2,3,4,5,6,7,8,9},0)&0))-1)=FALSE\n),\"Check\",\"\")","v":""},"","",null,"",0,"","","","",""]
["SBSA_895","SBSA_895",null,null,null,null,null,null,null,null,null,null,null,null,null,null,null,null,null,null,null,null,null,null,null,null,"","",{"$f":"IF(OR(\nOR(AND(D904<>\"\",F904=\"\"),AND(E904<>\"\",F904=\"\")),\nF904=LEFT(F904,MIN(FIND(0,SUBSTITUTE(F904,{1,2,3,4,5,6,7,8,9},0)&0))-1)=FALSE\n),\"Check\",\"\")","v":""},"","",null,"",0,"","","","",""]
["SBSA_896","SBSA_896",null,null,null,null,null,null,null,null,null,null,null,null,null,null,null,null,null,null,null,null,null,null,null,null,"","",{"$f":"IF(OR(\nOR(AND(D905<>\"\",F905=\"\"),AND(E905<>\"\",F905=\"\")),\nF905=LEFT(F905,MIN(FIND(0,SUBSTITUTE(F905,{1,2,3,4,5,6,7,8,9},0)&0))-1)=FALSE\n),\"Check\",\"\")","v":""},"","",null,"",0,"","","","",""]
["SBSA_897","SBSA_897",null,null,null,null,null,null,null,null,null,null,null,null,null,null,null,null,null,null,null,null,null,null,null,null,"","",{"$f":"IF(OR(\nOR(AND(D906<>\"\",F906=\"\"),AND(E906<>\"\",F906=\"\")),\nF906=LEFT(F906,MIN(FIND(0,SUBSTITUTE(F906,{1,2,3,4,5,6,7,8,9},0)&0))-1)=FALSE\n),\"Check\",\"\")","v":""},"","",null,"",0,"","","","",""]
["SBSA_898","SBSA_898",null,null,null,null,null,null,null,null,null,null,null,null,null,null,null,null,null,null,null,null,null,null,null,null,"","",{"$f":"IF(OR(\nOR(AND(D907<>\"\",F907=\"\"),AND(E907<>\"\",F907=\"\")),\nF907=LEFT(F907,MIN(FIND(0,SUBSTITUTE(F907,{1,2,3,4,5,6,7,8,9},0)&0))-1)=FALSE\n),\"Check\",\"\")","v":""},"","",null,"",0,"","","","",""]
["SBSA_899","SBSA_899",null,null,null,null,null,null,null,null,null,null,null,null,null,null,null,null,null,null,null,null,null,null,null,null,"","",{"$f":"IF(OR(\nOR(AND(D908<>\"\",F908=\"\"),AND(E908<>\"\",F908=\"\")),\nF908=LEFT(F908,MIN(FIND(0,SUBSTITUTE(F908,{1,2,3,4,5,6,7,8,9},0)&0))-1)=FALSE\n),\"Check\",\"\")","v":""},"","",null,"",0,"","","","",""]
["SBSA_900","SBSA_900",null,null,null,null,null,null,null,null,null,null,null,null,null,null,null,null,null,null,null,null,null,null,null,null,"","",{"$f":"IF(OR(\nOR(AND(D909<>\"\",F909=\"\"),AND(E909<>\"\",F909=\"\")),\nF909=LEFT(F909,MIN(FIND(0,SUBSTITUTE(F909,{1,2,3,4,5,6,7,8,9},0)&0))-1)=FALSE\n),\"Check\",\"\")","v":""},"","",null,"",0,"","","","",""]
["SBSA_901","SBSA_901",null,null,null,null,null,null,null,null,null,null,null,null,null,null,null,null,null,null,null,null,null,null,null,null,"","",{"$f":"IF(OR(\nOR(AND(D910<>\"\",F910=\"\"),AND(E910<>\"\",F910=\"\")),\nF910=LEFT(F910,MIN(FIND(0,SUBSTITUTE(F910,{1,2,3,4,5,6,7,8,9},0)&0))-1)=FALSE\n),\"Check\",\"\")","v":""},"","",null,"",0,"","","","",""]
["SBSA_902","SBSA_902",null,null,null,null,null,null,null,null,null,null,null,null,null,null,null,null,null,null,null,null,null,null,null,null,"","",{"$f":"IF(OR(\nOR(AND(D911<>\"\",F911=\"\"),AND(E911<>\"\",F911=\"\")),\nF911=LEFT(F911,MIN(FIND(0,SUBSTITUTE(F911,{1,2,3,4,5,6,7,8,9},0)&0))-1)=FALSE\n),\"Check\",\"\")","v":""},"","",null,"",0,"","","","",""]
["SBSA_903","SBSA_903",null,null,null,null,null,null,null,null,null,null,null,null,null,null,null,null,null,null,null,null,null,null,null,null,"","",{"$f":"IF(OR(\nOR(AND(D912<>\"\",F912=\"\"),AND(E912<>\"\",F912=\"\")),\nF912=LEFT(F912,MIN(FIND(0,SUBSTITUTE(F912,{1,2,3,4,5,6,7,8,9},0)&0))-1)=FALSE\n),\"Check\",\"\")","v":""},"","",null,"",0,"","","","",""]
["SBSA_904","SBSA_904",null,null,null,null,null,null,null,null,null,null,null,null,null,null,null,null,null,null,null,null,null,null,null,null,"","",{"$f":"IF(OR(\nOR(AND(D913<>\"\",F913=\"\"),AND(E913<>\"\",F913=\"\")),\nF913=LEFT(F913,MIN(FIND(0,SUBSTITUTE(F913,{1,2,3,4,5,6,7,8,9},0)&0))-1)=FALSE\n),\"Check\",\"\")","v":""},"","",null,"",0,"","","","",""]
["SBSA_905","SBSA_905",null,null,null,null,null,null,null,null,null,null,null,null,null,null,null,null,null,null,null,null,null,null,null,null,"","",{"$f":"IF(OR(\nOR(AND(D914<>\"\",F914=\"\"),AND(E914<>\"\",F914=\"\")),\nF914=LEFT(F914,MIN(FIND(0,SUBSTITUTE(F914,{1,2,3,4,5,6,7,8,9},0)&0))-1)=FALSE\n),\"Check\",\"\")","v":""},"","",null,"",0,"","","","",""]
["SBSA_906","SBSA_906",null,null,null,null,null,null,null,null,null,null,null,null,null,null,null,null,null,null,null,null,null,null,null,null,"","",{"$f":"IF(OR(\nOR(AND(D915<>\"\",F915=\"\"),AND(E915<>\"\",F915=\"\")),\nF915=LEFT(F915,MIN(FIND(0,SUBSTITUTE(F915,{1,2,3,4,5,6,7,8,9},0)&0))-1)=FALSE\n),\"Check\",\"\")","v":""},"","",null,"",0,"","","","",""]
["SBSA_907","SBSA_907",null,null,null,null,null,null,null,null,null,null,null,null,null,null,null,null,null,null,null,null,null,null,null,null,"","",{"$f":"IF(OR(\nOR(AND(D916<>\"\",F916=\"\"),AND(E916<>\"\",F916=\"\")),\nF916=LEFT(F916,MIN(FIND(0,SUBSTITUTE(F916,{1,2,3,4,5,6,7,8,9},0)&0))-1)=FALSE\n),\"Check\",\"\")","v":""},"","",null,"",0,"","","","",""]
["SBSA_908","SBSA_908",null,null,null,null,null,null,null,null,null,null,null,null,null,null,null,null,null,null,null,null,null,null,null,null,"","",{"$f":"IF(OR(\nOR(AND(D917<>\"\",F917=\"\"),AND(E917<>\"\",F917=\"\")),\nF917=LEFT(F917,MIN(FIND(0,SUBSTITUTE(F917,{1,2,3,4,5,6,7,8,9},0)&0))-1)=FALSE\n),\"Check\",\"\")","v":""},"","",null,"",0,"","","","",""]
["SBSA_909","SBSA_909",null,null,null,null,null,null,null,null,null,null,null,null,null,null,null,null,null,null,null,null,null,null,null,null,"","",{"$f":"IF(OR(\nOR(AND(D918<>\"\",F918=\"\"),AND(E918<>\"\",F918=\"\")),\nF918=LEFT(F918,MIN(FIND(0,SUBSTITUTE(F918,{1,2,3,4,5,6,7,8,9},0)&0))-1)=FALSE\n),\"Check\",\"\")","v":""},"","",null,"",0,"","","","",""]
["SBSA_910","SBSA_910",null,null,null,null,null,null,null,null,null,null,null,null,null,null,null,null,null,null,null,null,null,null,null,null,"","",{"$f":"IF(OR(\nOR(AND(D919<>\"\",F919=\"\"),AND(E919<>\"\",F919=\"\")),\nF919=LEFT(F919,MIN(FIND(0,SUBSTITUTE(F919,{1,2,3,4,5,6,7,8,9},0)&0))-1)=FALSE\n),\"Check\",\"\")","v":""},"","",null,"",0,"","","","",""]
["SBSA_911","SBSA_911",null,null,null,null,null,null,null,null,null,null,null,null,null,null,null,null,null,null,null,null,null,null,null,null,"","",{"$f":"IF(OR(\nOR(AND(D920<>\"\",F920=\"\"),AND(E920<>\"\",F920=\"\")),\nF920=LEFT(F920,MIN(FIND(0,SUBSTITUTE(F920,{1,2,3,4,5,6,7,8,9},0)&0))-1)=FALSE\n),\"Check\",\"\")","v":""},"","",null,"",0,"","","","",""]
["SBSA_912","SBSA_912",null,null,null,null,null,null,null,null,null,null,null,null,null,null,null,null,null,null,null,null,null,null,null,null,"","",{"$f":"IF(OR(\nOR(AND(D921<>\"\",F921=\"\"),AND(E921<>\"\",F921=\"\")),\nF921=LEFT(F921,MIN(FIND(0,SUBSTITUTE(F921,{1,2,3,4,5,6,7,8,9},0)&0))-1)=FALSE\n),\"Check\",\"\")","v":""},"","",null,"",0,"","","","",""]
["SBSA_913","SBSA_913",null,null,null,null,null,null,null,null,null,null,null,null,null,null,null,null,null,null,null,null,null,null,null,null,"","",{"$f":"IF(OR(\nOR(AND(D922<>\"\",F922=\"\"),AND(E922<>\"\",F922=\"\")),\nF922=LEFT(F922,MIN(FIND(0,SUBSTITUTE(F922,{1,2,3,4,5,6,7,8,9},0)&0))-1)=FALSE\n),\"Check\",\"\")","v":""},"","",null,"",0,"","","","",""]
["SBSA_914","SBSA_914",null,null,null,null,null,null,null,null,null,null,null,null,null,null,null,null,null,null,null,null,null,null,null,null,"","",{"$f":"IF(OR(\nOR(AND(D923<>\"\",F923=\"\"),AND(E923<>\"\",F923=\"\")),\nF923=LEFT(F923,MIN(FIND(0,SUBSTITUTE(F923,{1,2,3,4,5,6,7,8,9},0)&0))-1)=FALSE\n),\"Check\",\"\")","v":""},"","",null,"",0,"","","","",""]
["SBSA_915","SBSA_915",null,null,null,null,null,null,null,null,null,null,null,null,null,null,null,null,null,null,null,null,null,null,null,null,"","",{"$f":"IF(OR(\nOR(AND(D924<>\"\",F924=\"\"),AND(E924<>\"\",F924=\"\")),\nF924=LEFT(F924,MIN(FIND(0,SUBSTITUTE(F924,{1,2,3,4,5,6,7,8,9},0)&0))-1)=FALSE\n),\"Check\",\"\")","v":""},"","",null,"",0,"","","","",""]
["SBSA_916","SBSA_916",null,null,null,null,null,null,null,null,null,null,null,null,null,null,null,null,null,null,null,null,null,null,null,null,"","",{"$f":"IF(OR(\nOR(AND(D925<>\"\",F925=\"\"),AND(E925<>\"\",F925=\"\")),\nF925=LEFT(F925,MIN(FIND(0,SUBSTITUTE(F925,{1,2,3,4,5,6,7,8,9},0)&0))-1)=FALSE\n),\"Check\",\"\")","v":""},"","",null,"",0,"","","","",""]
["SBSA_917","SBSA_917",null,null,null,null,null,null,null,null,null,null,null,null,null,null,null,null,null,null,null,null,null,null,null,null,"","",{"$f":"IF(OR(\nOR(AND(D926<>\"\",F926=\"\"),AND(E926<>\"\",F926=\"\")),\nF926=LEFT(F926,MIN(FIND(0,SUBSTITUTE(F926,{1,2,3,4,5,6,7,8,9},0)&0))-1)=FALSE\n),\"Check\",\"\")","v":""},"","",null,"",0,"","","","",""]
["SBSA_918","SBSA_918",null,null,null,null,null,null,null,null,null,null,null,null,null,null,null,null,null,null,null,null,null,null,null,null,"","",{"$f":"IF(OR(\nOR(AND(D927<>\"\",F927=\"\"),AND(E927<>\"\",F927=\"\")),\nF927=LEFT(F927,MIN(FIND(0,SUBSTITUTE(F927,{1,2,3,4,5,6,7,8,9},0)&0))-1)=FALSE\n),\"Check\",\"\")","v":""},"","",null,"",0,"","","","",""]
["SBSA_919","SBSA_919",null,null,null,null,null,null,null,null,null,null,null,null,null,null,null,null,null,null,null,null,null,null,null,null,"","",{"$f":"IF(OR(\nOR(AND(D928<>\"\",F928=\"\"),AND(E928<>\"\",F928=\"\")),\nF928=LEFT(F928,MIN(FIND(0,SUBSTITUTE(F928,{1,2,3,4,5,6,7,8,9},0)&0))-1)=FALSE\n),\"Check\",\"\")","v":""},"","",null,"",0,"","","","",""]
["SBSA_920","SBSA_920",null,null,null,null,null,null,null,null,null,null,null,null,null,null,null,null,null,null,null,null,null,null,null,null,"","",{"$f":"IF(OR(\nOR(AND(D929<>\"\",F929=\"\"),AND(E929<>\"\",F929=\"\")),\nF929=LEFT(F929,MIN(FIND(0,SUBSTITUTE(F929,{1,2,3,4,5,6,7,8,9},0)&0))-1)=FALSE\n),\"Check\",\"\")","v":""},"","",null,"",0,"","","","",""]
["SBSA_921","SBSA_921",null,null,null,null,null,null,null,null,null,null,null,null,null,null,null,null,null,null,null,null,null,null,null,null,"","",{"$f":"IF(OR(\nOR(AND(D930<>\"\",F930=\"\"),AND(E930<>\"\",F930=\"\")),\nF930=LEFT(F930,MIN(FIND(0,SUBSTITUTE(F930,{1,2,3,4,5,6,7,8,9},0)&0))-1)=FALSE\n),\"Check\",\"\")","v":""},"","",null,"",0,"","","","",""]
["SBSA_922","SBSA_922",null,null,null,null,null,null,null,null,null,null,null,null,null,null,null,null,null,null,null,null,null,null,null,null,"","",{"$f":"IF(OR(\nOR(AND(D931<>\"\",F931=\"\"),AND(E931<>\"\",F931=\"\")),\nF931=LEFT(F931,MIN(FIND(0,SUBSTITUTE(F931,{1,2,3,4,5,6,7,8,9},0)&0))-1)=FALSE\n),\"Check\",\"\")","v":""},"","",null,"",0,"","","","",""]
["SBSA_923","SBSA_923",null,null,null,null,null,null,null,null,null,null,null,null,null,null,null,null,null,null,null,null,null,null,null,null,"","",{"$f":"IF(OR(\nOR(AND(D932<>\"\",F932=\"\"),AND(E932<>\"\",F932=\"\")),\nF932=LEFT(F932,MIN(FIND(0,SUBSTITUTE(F932,{1,2,3,4,5,6,7,8,9},0)&0))-1)=FALSE\n),\"Check\",\"\")","v":""},"","",null,"",0,"","","","",""]
["SBSA_924","SBSA_924",null,null,null,null,null,null,null,null,null,null,null,null,null,null,null,null,null,null,null,null,null,null,null,null,"","",{"$f":"IF(OR(\nOR(AND(D933<>\"\",F933=\"\"),AND(E933<>\"\",F933=\"\")),\nF933=LEFT(F933,MIN(FIND(0,SUBSTITUTE(F933,{1,2,3,4,5,6,7,8,9},0)&0))-1)=FALSE\n),\"Check\",\"\")","v":""},"","",null,"",0,"","","","",""]
["SBSA_925","SBSA_925",null,null,null,null,null,null,null,null,null,null,null,null,null,null,null,null,null,null,null,null,null,null,null,null,"","",{"$f":"IF(OR(\nOR(AND(D934<>\"\",F934=\"\"),AND(E934<>\"\",F934=\"\")),\nF934=LEFT(F934,MIN(FIND(0,SUBSTITUTE(F934,{1,2,3,4,5,6,7,8,9},0)&0))-1)=FALSE\n),\"Check\",\"\")","v":""},"","",null,"",0,"","","","",""]
["SBSA_926","SBSA_926",null,null,null,null,null,null,null,null,null,null,null,null,null,null,null,null,null,null,null,null,null,null,null,null,"","",{"$f":"IF(OR(\nOR(AND(D935<>\"\",F935=\"\"),AND(E935<>\"\",F935=\"\")),\nF935=LEFT(F935,MIN(FIND(0,SUBSTITUTE(F935,{1,2,3,4,5,6,7,8,9},0)&0))-1)=FALSE\n),\"Check\",\"\")","v":""},"","",null,"",0,"","","","",""]
["SBSA_927","SBSA_927",null,null,null,null,null,null,null,null,null,null,null,null,null,null,null,null,null,null,null,null,null,null,null,null,"","",{"$f":"IF(OR(\nOR(AND(D936<>\"\",F936=\"\"),AND(E936<>\"\",F936=\"\")),\nF936=LEFT(F936,MIN(FIND(0,SUBSTITUTE(F936,{1,2,3,4,5,6,7,8,9},0)&0))-1)=FALSE\n),\"Check\",\"\")","v":""},"","",null,"",0,"","","","",""]
["SBSA_928","SBSA_928",null,null,null,null,null,null,null,null,null,null,null,null,null,null,null,null,null,null,null,null,null,null,null,null,"","",{"$f":"IF(OR(\nOR(AND(D937<>\"\",F937=\"\"),AND(E937<>\"\",F937=\"\")),\nF937=LEFT(F937,MIN(FIND(0,SUBSTITUTE(F937,{1,2,3,4,5,6,7,8,9},0)&0))-1)=FALSE\n),\"Check\",\"\")","v":""},"","",null,"",0,"","","","",""]
["SBSA_929","SBSA_929",null,null,null,null,null,null,null,null,null,null,null,null,null,null,null,null,null,null,null,null,null,null,null,null,"","",{"$f":"IF(OR(\nOR(AND(D938<>\"\",F938=\"\"),AND(E938<>\"\",F938=\"\")),\nF938=LEFT(F938,MIN(FIND(0,SUBSTITUTE(F938,{1,2,3,4,5,6,7,8,9},0)&0))-1)=FALSE\n),\"Check\",\"\")","v":""},"","",null,"",0,"","","","",""]
["SBSA_930","SBSA_930",null,null,null,null,null,null,null,null,null,null,null,null,null,null,null,null,null,null,null,null,null,null,null,null,"","",{"$f":"IF(OR(\nOR(AND(D939<>\"\",F939=\"\"),AND(E939<>\"\",F939=\"\")),\nF939=LEFT(F939,MIN(FIND(0,SUBSTITUTE(F939,{1,2,3,4,5,6,7,8,9},0)&0))-1)=FALSE\n),\"Check\",\"\")","v":""},"","",null,"",0,"","","","",""]
["SBSA_931","SBSA_931",null,null,null,null,null,null,null,null,null,null,null,null,null,null,null,null,null,null,null,null,null,null,null,null,"","",{"$f":"IF(OR(\nOR(AND(D940<>\"\",F940=\"\"),AND(E940<>\"\",F940=\"\")),\nF940=LEFT(F940,MIN(FIND(0,SUBSTITUTE(F940,{1,2,3,4,5,6,7,8,9},0)&0))-1)=FALSE\n),\"Check\",\"\")","v":""},"","",null,"",0,"","","","",""]
["SBSA_932","SBSA_932",null,null,null,null,null,null,null,null,null,null,null,null,null,null,null,null,null,null,null,null,null,null,null,null,{"$f":"IF(AND(C941=\"\",OR(D941<>\"\",E941<>\"\",F941<>\"\",G941<>\"\")),\"Check\",\"\")","v":""},{"$f":"IF(AND(C941<>\"\",OR(AND(D941=\"\",E941=\"\"),AND(D941=0,E941=0),AND(ABS(D941)>0,ABS(E941)>0))),\"Check\",\"\")","v":""},{"$f":"IF(OR(\nOR(AND(D941<>\"\",F941=\"\"),AND(E941<>\"\",F941=\"\")),\nF941=LEFT(F941,MIN(FIND(0,SUBSTITUTE(F941,{1,2,3,4,5,6,7,8,9},0)&0))-1)=FALSE\n),\"Check\",\"\")","v":""},{"$f":"IF(OR(E941=\"\",G941=\"\"),\"\",(E941*G941)/100)","v":""},{"$f":"IF(AND(F941<>\"\",G941=\"\"),\"Check\",\"\")","v":""},null,{"$f":"IF(C941=\"\",\"\",C941&\"_\"&IF(G941=\"\",0,G941))","v":""},{"$f":"IF(COUNTBLANK(C941:G941)<5,1,0)","v":0},{"$f":"IF(C941=\"\",\"\",IF(LEN(C941)=12,\"\",\"Check\"))","v":""},{"$f":"IF(C941=\"\",\"\",IF(COUNTIF(C$10:C$65536,C941)=COUNTIF(AG$10:AG$65536,AG941),\"\",\"Check\"))","v":""},{"$f":"IF(F941=\"\",\"\",IF(LEN(F941)=3,\"\",\"Check\"))","v":""},{"$f":"IF(OR(IF(D941=\"\",\"\",IF(ISNUMBER(D941)=TRUE,\"\",\"TEXT\"))=\"TEXT\",IF(E941=\"\",\"\",IF(ISNUMBER(E941)=TRUE,\"\",\"TEXT\"))=\"TEXT\",IF(G941=\"\",\"\",IF(ISNUMBER(G941)=TRUE,\"\",\"TEXT\"))=\"TEXT\"),\"Check\",\"\")","v":""},{"$f":"IF(G941<0,\"Check\",\"\")","v":""}]
["SBSA_933","SBSA_933",null,null,null,null,null,null,null,null,null,null,null,null,null,null,null,null,null,null,null,null,null,null,null,null,"","",{"$f":"IF(OR(\nOR(AND(D942<>\"\",F942=\"\"),AND(E942<>\"\",F942=\"\")),\nF942=LEFT(F942,MIN(FIND(0,SUBSTITUTE(F942,{1,2,3,4,5,6,7,8,9},0)&0))-1)=FALSE\n),\"Check\",\"\")","v":""},"","",null,"",0,"","","","",""]
["SBSA_934","SBSA_934",null,null,null,null,null,null,null,null,null,null,null,null,null,null,null,null,null,null,null,null,null,null,null,null,"","",{"$f":"IF(OR(\nOR(AND(D943<>\"\",F943=\"\"),AND(E943<>\"\",F943=\"\")),\nF943=LEFT(F943,MIN(FIND(0,SUBSTITUTE(F943,{1,2,3,4,5,6,7,8,9},0)&0))-1)=FALSE\n),\"Check\",\"\")","v":""},"","",null,"",0,"","","","",""]
["SBSA_935","SBSA_935",null,null,null,null,null,null,null,null,null,null,null,null,null,null,null,null,null,null,null,null,null,null,null,null,"","",{"$f":"IF(OR(\nOR(AND(D944<>\"\",F944=\"\"),AND(E944<>\"\",F944=\"\")),\nF944=LEFT(F944,MIN(FIND(0,SUBSTITUTE(F944,{1,2,3,4,5,6,7,8,9},0)&0))-1)=FALSE\n),\"Check\",\"\")","v":""},"","",null,"",0,"","","","",""]
["SBSA_936","SBSA_936",null,null,null,null,null,null,null,null,null,null,null,null,null,null,null,null,null,null,null,null,null,null,null,null,"","",{"$f":"IF(OR(\nOR(AND(D945<>\"\",F945=\"\"),AND(E945<>\"\",F945=\"\")),\nF945=LEFT(F945,MIN(FIND(0,SUBSTITUTE(F945,{1,2,3,4,5,6,7,8,9},0)&0))-1)=FALSE\n),\"Check\",\"\")","v":""},"","",null,"",0,"","","","",""]
["SBSA_937","SBSA_937",null,null,null,null,null,null,null,null,null,null,null,null,null,null,null,null,null,null,null,null,null,null,null,null,"","",{"$f":"IF(OR(\nOR(AND(D946<>\"\",F946=\"\"),AND(E946<>\"\",F946=\"\")),\nF946=LEFT(F946,MIN(FIND(0,SUBSTITUTE(F946,{1,2,3,4,5,6,7,8,9},0)&0))-1)=FALSE\n),\"Check\",\"\")","v":""},"","",null,"",0,"","","","",""]
["SBSA_938","SBSA_938",null,null,null,null,null,null,null,null,null,null,null,null,null,null,null,null,null,null,null,null,null,null,null,null,"","",{"$f":"IF(OR(\nOR(AND(D947<>\"\",F947=\"\"),AND(E947<>\"\",F947=\"\")),\nF947=LEFT(F947,MIN(FIND(0,SUBSTITUTE(F947,{1,2,3,4,5,6,7,8,9},0)&0))-1)=FALSE\n),\"Check\",\"\")","v":""},"","",null,"",0,"","","","",""]
["SBSA_939","SBSA_939",null,null,null,null,null,null,null,null,null,null,null,null,null,null,null,null,null,null,null,null,null,null,null,null,"","",{"$f":"IF(OR(\nOR(AND(D948<>\"\",F948=\"\"),AND(E948<>\"\",F948=\"\")),\nF948=LEFT(F948,MIN(FIND(0,SUBSTITUTE(F948,{1,2,3,4,5,6,7,8,9},0)&0))-1)=FALSE\n),\"Check\",\"\")","v":""},"","",null,"",0,"","","","",""]
["SBSA_940","SBSA_940",null,null,null,null,null,null,null,null,null,null,null,null,null,null,null,null,null,null,null,null,null,null,null,null,"","",{"$f":"IF(OR(\nOR(AND(D949<>\"\",F949=\"\"),AND(E949<>\"\",F949=\"\")),\nF949=LEFT(F949,MIN(FIND(0,SUBSTITUTE(F949,{1,2,3,4,5,6,7,8,9},0)&0))-1)=FALSE\n),\"Check\",\"\")","v":""},"","",null,"",0,"","","","",""]
["SBSA_941","SBSA_941",null,null,null,null,null,null,null,null,null,null,null,null,null,null,null,null,null,null,null,null,null,null,null,null,"","",{"$f":"IF(OR(\nOR(AND(D950<>\"\",F950=\"\"),AND(E950<>\"\",F950=\"\")),\nF950=LEFT(F950,MIN(FIND(0,SUBSTITUTE(F950,{1,2,3,4,5,6,7,8,9},0)&0))-1)=FALSE\n),\"Check\",\"\")","v":""},"","",null,"",0,"","","","",""]
["SBSA_942","SBSA_942",null,null,null,null,null,null,null,null,null,null,null,null,null,null,null,null,null,null,null,null,null,null,null,null,"","",{"$f":"IF(OR(\nOR(AND(D951<>\"\",F951=\"\"),AND(E951<>\"\",F951=\"\")),\nF951=LEFT(F951,MIN(FIND(0,SUBSTITUTE(F951,{1,2,3,4,5,6,7,8,9},0)&0))-1)=FALSE\n),\"Check\",\"\")","v":""},"","",null,"",0,"","","","",""]
["SBSA_943","SBSA_943",null,null,null,null,null,null,null,null,null,null,null,null,null,null,null,null,null,null,null,null,null,null,null,null,"","",{"$f":"IF(OR(\nOR(AND(D952<>\"\",F952=\"\"),AND(E952<>\"\",F952=\"\")),\nF952=LEFT(F952,MIN(FIND(0,SUBSTITUTE(F952,{1,2,3,4,5,6,7,8,9},0)&0))-1)=FALSE\n),\"Check\",\"\")","v":""},"","",null,"",0,"","","","",""]
["SBSA_944","SBSA_944",null,null,null,null,null,null,null,null,null,null,null,null,null,null,null,null,null,null,null,null,null,null,null,null,"","",{"$f":"IF(OR(\nOR(AND(D953<>\"\",F953=\"\"),AND(E953<>\"\",F953=\"\")),\nF953=LEFT(F953,MIN(FIND(0,SUBSTITUTE(F953,{1,2,3,4,5,6,7,8,9},0)&0))-1)=FALSE\n),\"Check\",\"\")","v":""},"","",null,"",0,"","","","",""]
["SBSA_945","SBSA_945",null,null,null,null,null,null,null,null,null,null,null,null,null,null,null,null,null,null,null,null,null,null,null,null,"","",{"$f":"IF(OR(\nOR(AND(D954<>\"\",F954=\"\"),AND(E954<>\"\",F954=\"\")),\nF954=LEFT(F954,MIN(FIND(0,SUBSTITUTE(F954,{1,2,3,4,5,6,7,8,9},0)&0))-1)=FALSE\n),\"Check\",\"\")","v":""},"","",null,"",0,"","","","",""]
["SBSA_946","SBSA_946",null,null,null,null,null,null,null,null,null,null,null,null,null,null,null,null,null,null,null,null,null,null,null,null,"","",{"$f":"IF(OR(\nOR(AND(D955<>\"\",F955=\"\"),AND(E955<>\"\",F955=\"\")),\nF955=LEFT(F955,MIN(FIND(0,SUBSTITUTE(F955,{1,2,3,4,5,6,7,8,9},0)&0))-1)=FALSE\n),\"Check\",\"\")","v":""},"","",null,"",0,"","","","",""]
["SBSA_947","SBSA_947",null,null,null,null,null,null,null,null,null,null,null,null,null,null,null,null,null,null,null,null,null,null,null,null,"","",{"$f":"IF(OR(\nOR(AND(D956<>\"\",F956=\"\"),AND(E956<>\"\",F956=\"\")),\nF956=LEFT(F956,MIN(FIND(0,SUBSTITUTE(F956,{1,2,3,4,5,6,7,8,9},0)&0))-1)=FALSE\n),\"Check\",\"\")","v":""},"","",null,"",0,"","","","",""]
["SBSA_948","SBSA_948",null,null,null,null,null,null,null,null,null,null,null,null,null,null,null,null,null,null,null,null,null,null,null,null,"","",{"$f":"IF(OR(\nOR(AND(D957<>\"\",F957=\"\"),AND(E957<>\"\",F957=\"\")),\nF957=LEFT(F957,MIN(FIND(0,SUBSTITUTE(F957,{1,2,3,4,5,6,7,8,9},0)&0))-1)=FALSE\n),\"Check\",\"\")","v":""},"","",null,"",0,"","","","",""]
["SBSA_949","SBSA_949",null,null,null,null,null,null,null,null,null,null,null,null,null,null,null,null,null,null,null,null,null,null,null,null,"","",{"$f":"IF(OR(\nOR(AND(D958<>\"\",F958=\"\"),AND(E958<>\"\",F958=\"\")),\nF958=LEFT(F958,MIN(FIND(0,SUBSTITUTE(F958,{1,2,3,4,5,6,7,8,9},0)&0))-1)=FALSE\n),\"Check\",\"\")","v":""},"","",null,"",0,"","","","",""]
["SBSA_950","SBSA_950",null,null,null,null,null,null,null,null,null,null,null,null,null,null,null,null,null,null,null,null,null,null,null,null,"","",{"$f":"IF(OR(\nOR(AND(D959<>\"\",F959=\"\"),AND(E959<>\"\",F959=\"\")),\nF959=LEFT(F959,MIN(FIND(0,SUBSTITUTE(F959,{1,2,3,4,5,6,7,8,9},0)&0))-1)=FALSE\n),\"Check\",\"\")","v":""},"","",null,"",0,"","","","",""]
["SBSA_951","SBSA_951",null,null,null,null,null,null,null,null,null,null,null,null,null,null,null,null,null,null,null,null,null,null,null,null,"","",{"$f":"IF(OR(\nOR(AND(D960<>\"\",F960=\"\"),AND(E960<>\"\",F960=\"\")),\nF960=LEFT(F960,MIN(FIND(0,SUBSTITUTE(F960,{1,2,3,4,5,6,7,8,9},0)&0))-1)=FALSE\n),\"Check\",\"\")","v":""},"","",null,"",0,"","","","",""]
["SBSA_952","SBSA_952",null,null,null,null,null,null,null,null,null,null,null,null,null,null,null,null,null,null,null,null,null,null,null,null,"","",{"$f":"IF(OR(\nOR(AND(D961<>\"\",F961=\"\"),AND(E961<>\"\",F961=\"\")),\nF961=LEFT(F961,MIN(FIND(0,SUBSTITUTE(F961,{1,2,3,4,5,6,7,8,9},0)&0))-1)=FALSE\n),\"Check\",\"\")","v":""},"","",null,"",0,"","","","",""]
["SBSA_953","SBSA_953",null,null,null,null,null,null,null,null,null,null,null,null,null,null,null,null,null,null,null,null,null,null,null,null,"","",{"$f":"IF(OR(\nOR(AND(D962<>\"\",F962=\"\"),AND(E962<>\"\",F962=\"\")),\nF962=LEFT(F962,MIN(FIND(0,SUBSTITUTE(F962,{1,2,3,4,5,6,7,8,9},0)&0))-1)=FALSE\n),\"Check\",\"\")","v":""},"","",null,"",0,"","","","",""]
["SBSA_954","SBSA_954",null,null,null,null,null,null,null,null,null,null,null,null,null,null,null,null,null,null,null,null,null,null,null,null,"","",{"$f":"IF(OR(\nOR(AND(D963<>\"\",F963=\"\"),AND(E963<>\"\",F963=\"\")),\nF963=LEFT(F963,MIN(FIND(0,SUBSTITUTE(F963,{1,2,3,4,5,6,7,8,9},0)&0))-1)=FALSE\n),\"Check\",\"\")","v":""},"","",null,"",0,"","","","",""]
["SBSA_955","SBSA_955",null,null,null,null,null,null,null,null,null,null,null,null,null,null,null,null,null,null,null,null,null,null,null,null,"","",{"$f":"IF(OR(\nOR(AND(D964<>\"\",F964=\"\"),AND(E964<>\"\",F964=\"\")),\nF964=LEFT(F964,MIN(FIND(0,SUBSTITUTE(F964,{1,2,3,4,5,6,7,8,9},0)&0))-1)=FALSE\n),\"Check\",\"\")","v":""},"","",null,"",0,"","","","",""]
["SBSA_956","SBSA_956",null,null,null,null,null,null,null,null,null,null,null,null,null,null,null,null,null,null,null,null,null,null,null,null,"","",{"$f":"IF(OR(\nOR(AND(D965<>\"\",F965=\"\"),AND(E965<>\"\",F965=\"\")),\nF965=LEFT(F965,MIN(FIND(0,SUBSTITUTE(F965,{1,2,3,4,5,6,7,8,9},0)&0))-1)=FALSE\n),\"Check\",\"\")","v":""},"","",null,"",0,"","","","",""]
["SBSA_957","SBSA_957",null,null,null,null,null,null,null,null,null,null,null,null,null,null,null,null,null,null,null,null,null,null,null,null,"","",{"$f":"IF(OR(\nOR(AND(D966<>\"\",F966=\"\"),AND(E966<>\"\",F966=\"\")),\nF966=LEFT(F966,MIN(FIND(0,SUBSTITUTE(F966,{1,2,3,4,5,6,7,8,9},0)&0))-1)=FALSE\n),\"Check\",\"\")","v":""},"","",null,"",0,"","","","",""]
["SBSA_958","SBSA_958",null,null,null,null,null,null,null,null,null,null,null,null,null,null,null,null,null,null,null,null,null,null,null,null,"","",{"$f":"IF(OR(\nOR(AND(D967<>\"\",F967=\"\"),AND(E967<>\"\",F967=\"\")),\nF967=LEFT(F967,MIN(FIND(0,SUBSTITUTE(F967,{1,2,3,4,5,6,7,8,9},0)&0))-1)=FALSE\n),\"Check\",\"\")","v":""},"","",null,"",0,"","","","",""]
["SBSA_959","SBSA_959",null,null,null,null,null,null,null,null,null,null,null,null,null,null,null,null,null,null,null,null,null,null,null,null,"","",{"$f":"IF(OR(\nOR(AND(D968<>\"\",F968=\"\"),AND(E968<>\"\",F968=\"\")),\nF968=LEFT(F968,MIN(FIND(0,SUBSTITUTE(F968,{1,2,3,4,5,6,7,8,9},0)&0))-1)=FALSE\n),\"Check\",\"\")","v":""},"","",null,"",0,"","","","",""]
["SBSA_960","SBSA_960",null,null,null,null,null,null,null,null,null,null,null,null,null,null,null,null,null,null,null,null,null,null,null,null,"","",{"$f":"IF(OR(\nOR(AND(D969<>\"\",F969=\"\"),AND(E969<>\"\",F969=\"\")),\nF969=LEFT(F969,MIN(FIND(0,SUBSTITUTE(F969,{1,2,3,4,5,6,7,8,9},0)&0))-1)=FALSE\n),\"Check\",\"\")","v":""},"","",null,"",0,"","","","",""]
["SBSA_961","SBSA_961",null,null,null,null,null,null,null,null,null,null,null,null,null,null,null,null,null,null,null,null,null,null,null,null,"","",{"$f":"IF(OR(\nOR(AND(D970<>\"\",F970=\"\"),AND(E970<>\"\",F970=\"\")),\nF970=LEFT(F970,MIN(FIND(0,SUBSTITUTE(F970,{1,2,3,4,5,6,7,8,9},0)&0))-1)=FALSE\n),\"Check\",\"\")","v":""},"","",null,"",0,"","","","",""]
["SBSA_962","SBSA_962",null,null,null,null,null,null,null,null,null,null,null,null,null,null,null,null,null,null,null,null,null,null,null,null,"","",{"$f":"IF(OR(\nOR(AND(D971<>\"\",F971=\"\"),AND(E971<>\"\",F971=\"\")),\nF971=LEFT(F971,MIN(FIND(0,SUBSTITUTE(F971,{1,2,3,4,5,6,7,8,9},0)&0))-1)=FALSE\n),\"Check\",\"\")","v":""},"","",null,"",0,"","","","",""]
["SBSA_963","SBSA_963",null,null,null,null,null,null,null,null,null,null,null,null,null,null,null,null,null,null,null,null,null,null,null,null,"","",{"$f":"IF(OR(\nOR(AND(D972<>\"\",F972=\"\"),AND(E972<>\"\",F972=\"\")),\nF972=LEFT(F972,MIN(FIND(0,SUBSTITUTE(F972,{1,2,3,4,5,6,7,8,9},0)&0))-1)=FALSE\n),\"Check\",\"\")","v":""},"","",null,"",0,"","","","",""]
["SBSA_964","SBSA_964",null,null,null,null,null,null,null,null,null,null,null,null,null,null,null,null,null,null,null,null,null,null,null,null,"","",{"$f":"IF(OR(\nOR(AND(D973<>\"\",F973=\"\"),AND(E973<>\"\",F973=\"\")),\nF973=LEFT(F973,MIN(FIND(0,SUBSTITUTE(F973,{1,2,3,4,5,6,7,8,9},0)&0))-1)=FALSE\n),\"Check\",\"\")","v":""},"","",null,"",0,"","","","",""]
["SBSA_965","SBSA_965",null,null,null,null,null,null,null,null,null,null,null,null,null,null,null,null,null,null,null,null,null,null,null,null,"","",{"$f":"IF(OR(\nOR(AND(D974<>\"\",F974=\"\"),AND(E974<>\"\",F974=\"\")),\nF974=LEFT(F974,MIN(FIND(0,SUBSTITUTE(F974,{1,2,3,4,5,6,7,8,9},0)&0))-1)=FALSE\n),\"Check\",\"\")","v":""},"","",null,"",0,"","","","",""]
["SBSA_966","SBSA_966",null,null,null,null,null,null,null,null,null,null,null,null,null,null,null,null,null,null,null,null,null,null,null,null,"","",{"$f":"IF(OR(\nOR(AND(D975<>\"\",F975=\"\"),AND(E975<>\"\",F975=\"\")),\nF975=LEFT(F975,MIN(FIND(0,SUBSTITUTE(F975,{1,2,3,4,5,6,7,8,9},0)&0))-1)=FALSE\n),\"Check\",\"\")","v":""},"","",null,"",0,"","","","",""]
["SBSA_967","SBSA_967",null,null,null,null,null,null,null,null,null,null,null,null,null,null,null,null,null,null,null,null,null,null,null,null,"","",{"$f":"IF(OR(\nOR(AND(D976<>\"\",F976=\"\"),AND(E976<>\"\",F976=\"\")),\nF976=LEFT(F976,MIN(FIND(0,SUBSTITUTE(F976,{1,2,3,4,5,6,7,8,9},0)&0))-1)=FALSE\n),\"Check\",\"\")","v":""},"","",null,"",0,"","","","",""]
["SBSA_968","SBSA_968",null,null,null,null,null,null,null,null,null,null,null,null,null,null,null,null,null,null,null,null,null,null,null,null,"","",{"$f":"IF(OR(\nOR(AND(D977<>\"\",F977=\"\"),AND(E977<>\"\",F977=\"\")),\nF977=LEFT(F977,MIN(FIND(0,SUBSTITUTE(F977,{1,2,3,4,5,6,7,8,9},0)&0))-1)=FALSE\n),\"Check\",\"\")","v":""},"","",null,"",0,"","","","",""]
["SBSA_969","SBSA_969",null,null,null,null,null,null,null,null,null,null,null,null,null,null,null,null,null,null,null,null,null,null,null,null,"","",{"$f":"IF(OR(\nOR(AND(D978<>\"\",F978=\"\"),AND(E978<>\"\",F978=\"\")),\nF978=LEFT(F978,MIN(FIND(0,SUBSTITUTE(F978,{1,2,3,4,5,6,7,8,9},0)&0))-1)=FALSE\n),\"Check\",\"\")","v":""},"","",null,"",0,"","","","",""]
["SBSA_970","SBSA_970",null,null,null,null,null,null,null,null,null,null,null,null,null,null,null,null,null,null,null,null,null,null,null,null,"","",{"$f":"IF(OR(\nOR(AND(D979<>\"\",F979=\"\"),AND(E979<>\"\",F979=\"\")),\nF979=LEFT(F979,MIN(FIND(0,SUBSTITUTE(F979,{1,2,3,4,5,6,7,8,9},0)&0))-1)=FALSE\n),\"Check\",\"\")","v":""},"","",null,"",0,"","","","",""]
["SBSA_971","SBSA_971",null,null,null,null,null,null,null,null,null,null,null,null,null,null,null,null,null,null,null,null,null,null,null,null,"","",{"$f":"IF(OR(\nOR(AND(D980<>\"\",F980=\"\"),AND(E980<>\"\",F980=\"\")),\nF980=LEFT(F980,MIN(FIND(0,SUBSTITUTE(F980,{1,2,3,4,5,6,7,8,9},0)&0))-1)=FALSE\n),\"Check\",\"\")","v":""},"","",null,"",0,"","","","",""]
["SBSA_972","SBSA_972",null,null,null,null,null,null,null,null,null,null,null,null,null,null,null,null,null,null,null,null,null,null,null,null,"","",{"$f":"IF(OR(\nOR(AND(D981<>\"\",F981=\"\"),AND(E981<>\"\",F981=\"\")),\nF981=LEFT(F981,MIN(FIND(0,SUBSTITUTE(F981,{1,2,3,4,5,6,7,8,9},0)&0))-1)=FALSE\n),\"Check\",\"\")","v":""},"","",null,"",0,"","","","",""]
["SBSA_973","SBSA_973",null,null,null,null,null,null,null,null,null,null,null,null,null,null,null,null,null,null,null,null,null,null,null,null,"","",{"$f":"IF(OR(\nOR(AND(D982<>\"\",F982=\"\"),AND(E982<>\"\",F982=\"\")),\nF982=LEFT(F982,MIN(FIND(0,SUBSTITUTE(F982,{1,2,3,4,5,6,7,8,9},0)&0))-1)=FALSE\n),\"Check\",\"\")","v":""},"","",null,"",0,"","","","",""]
["SBSA_974","SBSA_974",null,null,null,null,null,null,null,null,null,null,null,null,null,null,null,null,null,null,null,null,null,null,null,null,"","",{"$f":"IF(OR(\nOR(AND(D983<>\"\",F983=\"\"),AND(E983<>\"\",F983=\"\")),\nF983=LEFT(F983,MIN(FIND(0,SUBSTITUTE(F983,{1,2,3,4,5,6,7,8,9},0)&0))-1)=FALSE\n),\"Check\",\"\")","v":""},"","",null,"",0,"","","","",""]
["SBSA_975","SBSA_975",null,null,null,null,null,null,null,null,null,null,null,null,null,null,null,null,null,null,null,null,null,null,null,null,"","",{"$f":"IF(OR(\nOR(AND(D984<>\"\",F984=\"\"),AND(E984<>\"\",F984=\"\")),\nF984=LEFT(F984,MIN(FIND(0,SUBSTITUTE(F984,{1,2,3,4,5,6,7,8,9},0)&0))-1)=FALSE\n),\"Check\",\"\")","v":""},"","",null,"",0,"","","","",""]
["SBSA_976","SBSA_976",null,null,null,null,null,null,null,null,null,null,null,null,null,null,null,null,null,null,null,null,null,null,null,null,"","",{"$f":"IF(OR(\nOR(AND(D985<>\"\",F985=\"\"),AND(E985<>\"\",F985=\"\")),\nF985=LEFT(F985,MIN(FIND(0,SUBSTITUTE(F985,{1,2,3,4,5,6,7,8,9},0)&0))-1)=FALSE\n),\"Check\",\"\")","v":""},"","",null,"",0,"","","","",""]
["SBSA_977","SBSA_977",null,null,null,null,null,null,null,null,null,null,null,null,null,null,null,null,null,null,null,null,null,null,null,null,"","",{"$f":"IF(OR(\nOR(AND(D986<>\"\",F986=\"\"),AND(E986<>\"\",F986=\"\")),\nF986=LEFT(F986,MIN(FIND(0,SUBSTITUTE(F986,{1,2,3,4,5,6,7,8,9},0)&0))-1)=FALSE\n),\"Check\",\"\")","v":""},"","",null,"",0,"","","","",""]
["SBSA_978","SBSA_978",null,null,null,null,null,null,null,null,null,null,null,null,null,null,null,null,null,null,null,null,null,null,null,null,"","",{"$f":"IF(OR(\nOR(AND(D987<>\"\",F987=\"\"),AND(E987<>\"\",F987=\"\")),\nF987=LEFT(F987,MIN(FIND(0,SUBSTITUTE(F987,{1,2,3,4,5,6,7,8,9},0)&0))-1)=FALSE\n),\"Check\",\"\")","v":""},"","",null,"",0,"","","","",""]
["SBSA_979","SBSA_979",null,null,null,null,null,null,null,null,null,null,null,null,null,null,null,null,null,null,null,null,null,null,null,null,"","",{"$f":"IF(OR(\nOR(AND(D988<>\"\",F988=\"\"),AND(E988<>\"\",F988=\"\")),\nF988=LEFT(F988,MIN(FIND(0,SUBSTITUTE(F988,{1,2,3,4,5,6,7,8,9},0)&0))-1)=FALSE\n),\"Check\",\"\")","v":""},"","",null,"",0,"","","","",""]
["SBSA_980","SBSA_980",null,null,null,null,null,null,null,null,null,null,null,null,null,null,null,null,null,null,null,null,null,null,null,null,"","",{"$f":"IF(OR(\nOR(AND(D989<>\"\",F989=\"\"),AND(E989<>\"\",F989=\"\")),\nF989=LEFT(F989,MIN(FIND(0,SUBSTITUTE(F989,{1,2,3,4,5,6,7,8,9},0)&0))-1)=FALSE\n),\"Check\",\"\")","v":""},"","",null,"",0,"","","","",""]
["SBSA_981","SBSA_981",null,null,null,null,null,null,null,null,null,null,null,null,null,null,null,null,null,null,null,null,null,null,null,null,"","",{"$f":"IF(OR(\nOR(AND(D990<>\"\",F990=\"\"),AND(E990<>\"\",F990=\"\")),\nF990=LEFT(F990,MIN(FIND(0,SUBSTITUTE(F990,{1,2,3,4,5,6,7,8,9},0)&0))-1)=FALSE\n),\"Check\",\"\")","v":""},"","",null,"",0,"","","","",""]
["SBSA_982","SBSA_982",null,null,null,null,null,null,null,null,null,null,null,null,null,null,null,null,null,null,null,null,null,null,null,null,"","",{"$f":"IF(OR(\nOR(AND(D991<>\"\",F991=\"\"),AND(E991<>\"\",F991=\"\")),\nF991=LEFT(F991,MIN(FIND(0,SUBSTITUTE(F991,{1,2,3,4,5,6,7,8,9},0)&0))-1)=FALSE\n),\"Check\",\"\")","v":""},"","",null,"",0,"","","","",""]
["SBSA_983","SBSA_983",null,null,null,null,null,null,null,null,null,null,null,null,null,null,null,null,null,null,null,null,null,null,null,null,"","",{"$f":"IF(OR(\nOR(AND(D992<>\"\",F992=\"\"),AND(E992<>\"\",F992=\"\")),\nF992=LEFT(F992,MIN(FIND(0,SUBSTITUTE(F992,{1,2,3,4,5,6,7,8,9},0)&0))-1)=FALSE\n),\"Check\",\"\")","v":""},"","",null,"",0,"","","","",""]
["SBSA_984","SBSA_984",null,null,null,null,null,null,null,null,null,null,null,null,null,null,null,null,null,null,null,null,null,null,null,null,"","",{"$f":"IF(OR(\nOR(AND(D993<>\"\",F993=\"\"),AND(E993<>\"\",F993=\"\")),\nF993=LEFT(F993,MIN(FIND(0,SUBSTITUTE(F993,{1,2,3,4,5,6,7,8,9},0)&0))-1)=FALSE\n),\"Check\",\"\")","v":""},"","",null,"",0,"","","","",""]
["SBSA_985","SBSA_985",null,null,null,null,null,null,null,null,null,null,null,null,null,null,null,null,null,null,null,null,null,null,null,null,"","",{"$f":"IF(OR(\nOR(AND(D994<>\"\",F994=\"\"),AND(E994<>\"\",F994=\"\")),\nF994=LEFT(F994,MIN(FIND(0,SUBSTITUTE(F994,{1,2,3,4,5,6,7,8,9},0)&0))-1)=FALSE\n),\"Check\",\"\")","v":""},"","",null,"",0,"","","","",""]
["SBSA_986","SBSA_986",null,null,null,null,null,null,null,null,null,null,null,null,null,null,null,null,null,null,null,null,null,null,null,null,"","",{"$f":"IF(OR(\nOR(AND(D995<>\"\",F995=\"\"),AND(E995<>\"\",F995=\"\")),\nF995=LEFT(F995,MIN(FIND(0,SUBSTITUTE(F995,{1,2,3,4,5,6,7,8,9},0)&0))-1)=FALSE\n),\"Check\",\"\")","v":""},"","",null,"",0,"","","","",""]
["SBSA_987","SBSA_987",null,null,null,null,null,null,null,null,null,null,null,null,null,null,null,null,null,null,null,null,null,null,null,null,"","",{"$f":"IF(OR(\nOR(AND(D996<>\"\",F996=\"\"),AND(E996<>\"\",F996=\"\")),\nF996=LEFT(F996,MIN(FIND(0,SUBSTITUTE(F996,{1,2,3,4,5,6,7,8,9},0)&0))-1)=FALSE\n),\"Check\",\"\")","v":""},"","",null,"",0,"","","","",""]
["SBSA_988","SBSA_988",null,null,null,null,null,null,null,null,null,null,null,null,null,null,null,null,null,null,null,null,null,null,null,null,"","",{"$f":"IF(OR(\nOR(AND(D997<>\"\",F997=\"\"),AND(E997<>\"\",F997=\"\")),\nF997=LEFT(F997,MIN(FIND(0,SUBSTITUTE(F997,{1,2,3,4,5,6,7,8,9},0)&0))-1)=FALSE\n),\"Check\",\"\")","v":""},"","",null,"",0,"","","","",""]
["SBSA_989","SBSA_989",null,null,null,null,null,null,null,null,null,null,null,null,null,null,null,null,null,null,null,null,null,null,null,null,"","",{"$f":"IF(OR(\nOR(AND(D998<>\"\",F998=\"\"),AND(E998<>\"\",F998=\"\")),\nF998=LEFT(F998,MIN(FIND(0,SUBSTITUTE(F998,{1,2,3,4,5,6,7,8,9},0)&0))-1)=FALSE\n),\"Check\",\"\")","v":""},"","",null,"",0,"","","","",""]
["SBSA_990","SBSA_990",null,null,null,null,null,null,null,null,null,null,null,null,null,null,null,null,null,null,null,null,null,null,null,null,"","",{"$f":"IF(OR(\nOR(AND(D999<>\"\",F999=\"\"),AND(E999<>\"\",F999=\"\")),\nF999=LEFT(F999,MIN(FIND(0,SUBSTITUTE(F999,{1,2,3,4,5,6,7,8,9},0)&0))-1)=FALSE\n),\"Check\",\"\")","v":""},"","",null,"",0,"","","","",""]
["SBSA_991","SBSA_991",null,null,null,null,null,null,null,null,null,null,null,null,null,null,null,null,null,null,null,null,null,null,null,null,"","",{"$f":"IF(OR(\nOR(AND(D1000<>\"\",F1000=\"\"),AND(E1000<>\"\",F1000=\"\")),\nF1000=LEFT(F1000,MIN(FIND(0,SUBSTITUTE(F1000,{1,2,3,4,5,6,7,8,9},0)&0))-1)=FALSE\n),\"Check\",\"\")","v":""},"","",null,"",0,"","","","",""]
["SBSA_992","SBSA_992",null,null,null,null,null,null,null,null,null,null,null,null,null,null,null,null,null,null,null,null,null,null,null,null,"","",{"$f":"IF(OR(\nOR(AND(D1001<>\"\",F1001=\"\"),AND(E1001<>\"\",F1001=\"\")),\nF1001=LEFT(F1001,MIN(FIND(0,SUBSTITUTE(F1001,{1,2,3,4,5,6,7,8,9},0)&0))-1)=FALSE\n),\"Check\",\"\")","v":""},"","",null,"",0,"","","","",""]
["SBSA_997","SBSA_997",null,null,null,null,null,null,null,null,null,null,null,null,null,null,null,null,null,null,null,null,null,null,null,null,"","",{"$f":"IF(OR(\nOR(AND(D1006<>\"\",F1006=\"\"),AND(E1006<>\"\",F1006=\"\")),\nF1006=LEFT(F1006,MIN(FIND(0,SUBSTITUTE(F1006,{1,2,3,4,5,6,7,8,9},0)&0))-1)=FALSE\n),\"Check\",\"\")","v":""},"","",null,"",0,"","","","",""]
["SBSA_1002","SBSA_1002",null,null,null,null,null,null,null,null,null,null,null,null,null,null,null,null,null,null,null,null,null,null,null,null,"","",{"$f":"IF(OR(\nOR(AND(D1011<>\"\",F1011=\"\"),AND(E1011<>\"\",F1011=\"\")),\nF1011=LEFT(F1011,MIN(FIND(0,SUBSTITUTE(F1011,{1,2,3,4,5,6,7,8,9},0)&0))-1)=FALSE\n),\"Check\",\"\")","v":""},"","",null,"",0,"","","","",""]
["SBSA_1003","SBSA_1003",null,null,null,null,null,null,null,null,null,null,null,null,null,null,null,null,null,null,null,null,null,null,null,null,"","",{"$f":"IF(OR(\nOR(AND(D1012<>\"\",F1012=\"\"),AND(E1012<>\"\",F1012=\"\")),\nF1012=LEFT(F1012,MIN(FIND(0,SUBSTITUTE(F1012,{1,2,3,4,5,6,7,8,9},0)&0))-1)=FALSE\n),\"Check\",\"\")","v":""},"","",null,"",0,"","","","",""]
["SBSA_1009","SBSA_1009",null,null,null,null,null,null,null,null,null,null,null,null,null,null,null,null,null,null,null,null,null,null,null,null,"","",{"$f":"IF(OR(\nOR(AND(D1018<>\"\",F1018=\"\"),AND(E1018<>\"\",F1018=\"\")),\nF1018=LEFT(F1018,MIN(FIND(0,SUBSTITUTE(F1018,{1,2,3,4,5,6,7,8,9},0)&0))-1)=FALSE\n),\"Check\",\"\")","v":""},"","",null,"",0,"","","","",""]
["SBSA_1012","SBSA_1012",null,null,null,null,null,null,null,null,null,null,null,null,null,null,null,null,null,null,null,null,null,null,null,null,"","",{"$f":"IF(OR(\nOR(AND(D1021<>\"\",F1021=\"\"),AND(E1021<>\"\",F1021=\"\")),\nF1021=LEFT(F1021,MIN(FIND(0,SUBSTITUTE(F1021,{1,2,3,4,5,6,7,8,9},0)&0))-1)=FALSE\n),\"Check\",\"\")","v":""},"","",null,"",0,"","","","",""]
["SBSA_1017","SBSA_1017",null,null,null,null,null,null,null,null,null,null,null,null,null,null,null,null,null,null,null,null,null,null,null,null,"","",{"$f":"IF(OR(\nOR(AND(D1026<>\"\",F1026=\"\"),AND(E1026<>\"\",F1026=\"\")),\nF1026=LEFT(F1026,MIN(FIND(0,SUBSTITUTE(F1026,{1,2,3,4,5,6,7,8,9},0)&0))-1)=FALSE\n),\"Check\",\"\")","v":""},"","",null,"",0,"","","","",""]
["SBSA_1018","SBSA_1018",null,null,null,null,null,null,null,null,null,null,null,null,null,null,null,null,null,null,null,null,null,null,null,null,"","",{"$f":"IF(OR(\nOR(AND(D1027<>\"\",F1027=\"\"),AND(E1027<>\"\",F1027=\"\")),\nF1027=LEFT(F1027,MIN(FIND(0,SUBSTITUTE(F1027,{1,2,3,4,5,6,7,8,9},0)&0))-1)=FALSE\n),\"Check\",\"\")","v":""},"","",null,"",0,"","","","",""]
["SBSA_1023","SBSA_1023",null,null,null,null,null,null,null,null,null,null,null,null,null,null,null,null,null,null,null,null,null,null,null,null,"","",{"$f":"IF(OR(\nOR(AND(D1032<>\"\",F1032=\"\"),AND(E1032<>\"\",F1032=\"\")),\nF1032=LEFT(F1032,MIN(FIND(0,SUBSTITUTE(F1032,{1,2,3,4,5,6,7,8,9},0)&0))-1)=FALSE\n),\"Check\",\"\")","v":""},"","",null,"",0,"","","","",""]
["SBSA_1027","SBSA_1027",null,null,null,null,null,null,null,null,null,null,null,null,null,null,null,null,null,null,null,null,null,null,null,null,"","",{"$f":"IF(OR(\nOR(AND(D1036<>\"\",F1036=\"\"),AND(E1036<>\"\",F1036=\"\")),\nF1036=LEFT(F1036,MIN(FIND(0,SUBSTITUTE(F1036,{1,2,3,4,5,6,7,8,9},0)&0))-1)=FALSE\n),\"Check\",\"\")","v":""},"","",null,"",0,"","","","",""]
["SBSA_1032","SBSA_1032",null,null,null,null,null,null,null,null,null,null,null,null,null,null,null,null,null,null,null,null,null,null,null,null,"","",{"$f":"IF(OR(\nOR(AND(D1041<>\"\",F1041=\"\"),AND(E1041<>\"\",F1041=\"\")),\nF1041=LEFT(F1041,MIN(FIND(0,SUBSTITUTE(F1041,{1,2,3,4,5,6,7,8,9},0)&0))-1)=FALSE\n),\"Check\",\"\")","v":""},"","",null,"",0,"","","","",""]
["SBSA_1033","SBSA_1033",null,null,null,null,null,null,null,null,null,null,null,null,null,null,null,null,null,null,null,null,null,null,null,null,"","",{"$f":"IF(OR(\nOR(AND(D1042<>\"\",F1042=\"\"),AND(E1042<>\"\",F1042=\"\")),\nF1042=LEFT(F1042,MIN(FIND(0,SUBSTITUTE(F1042,{1,2,3,4,5,6,7,8,9},0)&0))-1)=FALSE\n),\"Check\",\"\")","v":""},"","",null,"",0,"","","","",""]
["SBSA_1039","SBSA_1039",null,null,null,null,null,null,null,null,null,null,null,null,null,null,null,null,null,null,null,null,null,null,null,null,"","",{"$f":"IF(OR(\nOR(AND(D1048<>\"\",F1048=\"\"),AND(E1048<>\"\",F1048=\"\")),\nF1048=LEFT(F1048,MIN(FIND(0,SUBSTITUTE(F1048,{1,2,3,4,5,6,7,8,9},0)&0))-1)=FALSE\n),\"Check\",\"\")","v":""},"","",null,"",0,"","","","",""]
["SBSA_1042","SBSA_1042",null,null,null,null,null,null,null,null,null,null,null,null,null,null,null,null,null,null,null,null,null,null,null,null,"","",{"$f":"IF(OR(\nOR(AND(D1051<>\"\",F1051=\"\"),AND(E1051<>\"\",F1051=\"\")),\nF1051=LEFT(F1051,MIN(FIND(0,SUBSTITUTE(F1051,{1,2,3,4,5,6,7,8,9},0)&0))-1)=FALSE\n),\"Check\",\"\")","v":""},"","",null,"",0,"","","","",""]
["SBSA_1047","SBSA_1047",null,null,null,null,null,null,null,null,null,null,null,null,null,null,null,null,null,null,null,null,null,null,null,null,"","",{"$f":"IF(OR(\nOR(AND(D1056<>\"\",F1056=\"\"),AND(E1056<>\"\",F1056=\"\")),\nF1056=LEFT(F1056,MIN(FIND(0,SUBSTITUTE(F1056,{1,2,3,4,5,6,7,8,9},0)&0))-1)=FALSE\n),\"Check\",\"\")","v":""},"","",null,"",0,"","","","",""]
["SBSA_1048","SBSA_1048",null,null,null,null,null,null,null,null,null,null,null,null,null,null,null,null,null,null,null,null,null,null,null,null,"","",{"$f":"IF(OR(\nOR(AND(D1057<>\"\",F1057=\"\"),AND(E1057<>\"\",F1057=\"\")),\nF1057=LEFT(F1057,MIN(FIND(0,SUBSTITUTE(F1057,{1,2,3,4,5,6,7,8,9},0)&0))-1)=FALSE\n),\"Check\",\"\")","v":""},"","",null,"",0,"","","","",""]
["SBSA_1053","SBSA_1053",null,null,null,null,null,null,null,null,null,null,null,null,null,null,null,null,null,null,null,null,null,null,null,null,"","",{"$f":"IF(OR(\nOR(AND(D1062<>\"\",F1062=\"\"),AND(E1062<>\"\",F1062=\"\")),\nF1062=LEFT(F1062,MIN(FIND(0,SUBSTITUTE(F1062,{1,2,3,4,5,6,7,8,9},0)&0))-1)=FALSE\n),\"Check\",\"\")","v":""},"","",null,"",0,"","","","",""]
["SBSA_1057","SBSA_1057",null,null,null,null,null,null,null,null,null,null,null,null,null,null,null,null,null,null,null,null,null,null,null,null,"","",{"$f":"IF(OR(\nOR(AND(D1066<>\"\",F1066=\"\"),AND(E1066<>\"\",F1066=\"\")),\nF1066=LEFT(F1066,MIN(FIND(0,SUBSTITUTE(F1066,{1,2,3,4,5,6,7,8,9},0)&0))-1)=FALSE\n),\"Check\",\"\")","v":""},"","",null,"",0,"","","","",""]
["SBSA_1062","SBSA_1062",null,null,null,null,null,null,null,null,null,null,null,null,null,null,null,null,null,null,null,null,null,null,null,null,"","",{"$f":"IF(OR(\nOR(AND(D1071<>\"\",F1071=\"\"),AND(E1071<>\"\",F1071=\"\")),\nF1071=LEFT(F1071,MIN(FIND(0,SUBSTITUTE(F1071,{1,2,3,4,5,6,7,8,9},0)&0))-1)=FALSE\n),\"Check\",\"\")","v":""},"","",null,"",0,"","","","",""]
["SBSA_1063","SBSA_1063",null,null,null,null,null,null,null,null,null,null,null,null,null,null,null,null,null,null,null,null,null,null,null,null,"","",{"$f":"IF(OR(\nOR(AND(D1072<>\"\",F1072=\"\"),AND(E1072<>\"\",F1072=\"\")),\nF1072=LEFT(F1072,MIN(FIND(0,SUBSTITUTE(F1072,{1,2,3,4,5,6,7,8,9},0)&0))-1)=FALSE\n),\"Check\",\"\")","v":""},"","",null,"",0,"","","","",""]
["SBSA_1069","SBSA_1069",null,null,null,null,null,null,null,null,null,null,null,null,null,null,null,null,null,null,null,null,null,null,null,null,"","",{"$f":"IF(OR(\nOR(AND(D1078<>\"\",F1078=\"\"),AND(E1078<>\"\",F1078=\"\")),\nF1078=LEFT(F1078,MIN(FIND(0,SUBSTITUTE(F1078,{1,2,3,4,5,6,7,8,9},0)&0))-1)=FALSE\n),\"Check\",\"\")","v":""},"","",null,"",0,"","","","",""]
["SBSA_1072","SBSA_1072",null,null,null,null,null,null,null,null,null,null,null,null,null,null,null,null,null,null,null,null,null,null,null,null,"","",{"$f":"IF(OR(\nOR(AND(D1081<>\"\",F1081=\"\"),AND(E1081<>\"\",F1081=\"\")),\nF1081=LEFT(F1081,MIN(FIND(0,SUBSTITUTE(F1081,{1,2,3,4,5,6,7,8,9},0)&0))-1)=FALSE\n),\"Check\",\"\")","v":""},"","",null,"",0,"","","","",""]
["SBSA_1077","SBSA_1077",null,null,null,null,null,null,null,null,null,null,null,null,null,null,null,null,null,null,null,null,null,null,null,null,"","",{"$f":"IF(OR(\nOR(AND(D1086<>\"\",F1086=\"\"),AND(E1086<>\"\",F1086=\"\")),\nF1086=LEFT(F1086,MIN(FIND(0,SUBSTITUTE(F1086,{1,2,3,4,5,6,7,8,9},0)&0))-1)=FALSE\n),\"Check\",\"\")","v":""},"","",null,"",0,"","","","",""]
["SBSA_1078","SBSA_1078",null,null,null,null,null,null,null,null,null,null,null,null,null,null,null,null,null,null,null,null,null,null,null,null,"","",{"$f":"IF(OR(\nOR(AND(D1087<>\"\",F1087=\"\"),AND(E1087<>\"\",F1087=\"\")),\nF1087=LEFT(F1087,MIN(FIND(0,SUBSTITUTE(F1087,{1,2,3,4,5,6,7,8,9},0)&0))-1)=FALSE\n),\"Check\",\"\")","v":""},"","",null,"",0,"","","","",""]
["SBSA_1083","SBSA_1083",null,null,null,null,null,null,null,null,null,null,null,null,null,null,null,null,null,null,null,null,null,null,null,null,"","",{"$f":"IF(OR(\nOR(AND(D1092<>\"\",F1092=\"\"),AND(E1092<>\"\",F1092=\"\")),\nF1092=LEFT(F1092,MIN(FIND(0,SUBSTITUTE(F1092,{1,2,3,4,5,6,7,8,9},0)&0))-1)=FALSE\n),\"Check\",\"\")","v":""},"","",null,"",0,"","","","",""]
["SBSA_1087","SBSA_1087",null,null,null,null,null,null,null,null,null,null,null,null,null,null,null,null,null,null,null,null,null,null,null,null,"","",{"$f":"IF(OR(\nOR(AND(D1096<>\"\",F1096=\"\"),AND(E1096<>\"\",F1096=\"\")),\nF1096=LEFT(F1096,MIN(FIND(0,SUBSTITUTE(F1096,{1,2,3,4,5,6,7,8,9},0)&0))-1)=FALSE\n),\"Check\",\"\")","v":""},"","",null,"",0,"","","","",""]
["SBSA_1092","SBSA_1092",null,null,null,null,null,null,null,null,null,null,null,null,null,null,null,null,null,null,null,null,null,null,null,null,"","",{"$f":"IF(OR(\nOR(AND(D1101<>\"\",F1101=\"\"),AND(E1101<>\"\",F1101=\"\")),\nF1101=LEFT(F1101,MIN(FIND(0,SUBSTITUTE(F1101,{1,2,3,4,5,6,7,8,9},0)&0))-1)=FALSE\n),\"Check\",\"\")","v":""},"","",null,"",0,"","","","",""]
["SBSA_1093","SBSA_1093",null,null,null,null,null,null,null,null,null,null,null,null,null,null,null,null,null,null,null,null,null,null,null,null,"","",{"$f":"IF(OR(\nOR(AND(D1102<>\"\",F1102=\"\"),AND(E1102<>\"\",F1102=\"\")),\nF1102=LEFT(F1102,MIN(FIND(0,SUBSTITUTE(F1102,{1,2,3,4,5,6,7,8,9},0)&0))-1)=FALSE\n),\"Check\",\"\")","v":""},"","",null,"",0,"","","","",""]
["SBSA_1098","SBSA_1098",null,null,null,null,null,null,null,null,null,null,null,null,null,null,null,null,null,null,null,null,null,null,null,null,"","",{"$f":"IF(OR(\nOR(AND(D1107<>\"\",F1107=\"\"),AND(E1107<>\"\",F1107=\"\")),\nF1107=LEFT(F1107,MIN(FIND(0,SUBSTITUTE(F1107,{1,2,3,4,5,6,7,8,9},0)&0))-1)=FALSE\n),\"Check\",\"\")","v":""},"","",null,"",0,"","","","",""]
["SBSA_1101","SBSA_1101",null,null,null,null,null,null,null,null,null,null,null,null,null,null,null,null,null,null,null,null,null,null,null,null,"","",{"$f":"IF(OR(\nOR(AND(D1110<>\"\",F1110=\"\"),AND(E1110<>\"\",F1110=\"\")),\nF1110=LEFT(F1110,MIN(FIND(0,SUBSTITUTE(F1110,{1,2,3,4,5,6,7,8,9},0)&0))-1)=FALSE\n),\"Check\",\"\")","v":""},"","",null,"",0,"","","","",""]
["SBSA_1107","SBSA_1107",null,null,null,null,null,null,null,null,null,null,null,null,null,null,null,null,null,null,null,null,null,null,null,null,"","",{"$f":"IF(OR(\nOR(AND(D1116<>\"\",F1116=\"\"),AND(E1116<>\"\",F1116=\"\")),\nF1116=LEFT(F1116,MIN(FIND(0,SUBSTITUTE(F1116,{1,2,3,4,5,6,7,8,9},0)&0))-1)=FALSE\n),\"Check\",\"\")","v":""},"","",null,"",0,"","","","",""]
["SBSA_1108","SBSA_1108",null,null,null,null,null,null,null,null,null,null,null,null,null,null,null,null,null,null,null,null,null,null,null,null,"","",{"$f":"IF(OR(\nOR(AND(D1117<>\"\",F1117=\"\"),AND(E1117<>\"\",F1117=\"\")),\nF1117=LEFT(F1117,MIN(FIND(0,SUBSTITUTE(F1117,{1,2,3,4,5,6,7,8,9},0)&0))-1)=FALSE\n),\"Check\",\"\")","v":""},"","",null,"",0,"","","","",""]
["SBSA_1113","SBSA_1113",null,null,null,null,null,null,null,null,null,null,null,null,null,null,null,null,null,null,null,null,null,null,null,null,"","",{"$f":"IF(OR(\nOR(AND(D1122<>\"\",F1122=\"\"),AND(E1122<>\"\",F1122=\"\")),\nF1122=LEFT(F1122,MIN(FIND(0,SUBSTITUTE(F1122,{1,2,3,4,5,6,7,8,9},0)&0))-1)=FALSE\n),\"Check\",\"\")","v":""},"","",null,"",0,"","","","",""]
["SBSA_1117","SBSA_1117",null,null,null,null,null,null,null,null,null,null,null,null,null,null,null,null,null,null,null,null,null,null,null,null,"","",{"$f":"IF(OR(\nOR(AND(D1126<>\"\",F1126=\"\"),AND(E1126<>\"\",F1126=\"\")),\nF1126=LEFT(F1126,MIN(FIND(0,SUBSTITUTE(F1126,{1,2,3,4,5,6,7,8,9},0)&0))-1)=FALSE\n),\"Check\",\"\")","v":""},"","",null,"",0,"","","","",""]
["SBSA_1122","SBSA_1122",null,null,null,null,null,null,null,null,null,null,null,null,null,null,null,null,null,null,null,null,null,null,null,null,"","",{"$f":"IF(OR(\nOR(AND(D1131<>\"\",F1131=\"\"),AND(E1131<>\"\",F1131=\"\")),\nF1131=LEFT(F1131,MIN(FIND(0,SUBSTITUTE(F1131,{1,2,3,4,5,6,7,8,9},0)&0))-1)=FALSE\n),\"Check\",\"\")","v":""},"","",null,"",0,"","","","",""]
["SBSA_1123","SBSA_1123",null,null,null,null,null,null,null,null,null,null,null,null,null,null,null,null,null,null,null,null,null,null,null,null,"","",{"$f":"IF(OR(\nOR(AND(D1132<>\"\",F1132=\"\"),AND(E1132<>\"\",F1132=\"\")),\nF1132=LEFT(F1132,MIN(FIND(0,SUBSTITUTE(F1132,{1,2,3,4,5,6,7,8,9},0)&0))-1)=FALSE\n),\"Check\",\"\")","v":""},"","",null,"",0,"","","","",""]
["SBSA_1128","SBSA_1128",null,null,null,null,null,null,null,null,null,null,null,null,null,null,null,null,null,null,null,null,null,null,null,null,"","",{"$f":"IF(OR(\nOR(AND(D1137<>\"\",F1137=\"\"),AND(E1137<>\"\",F1137=\"\")),\nF1137=LEFT(F1137,MIN(FIND(0,SUBSTITUTE(F1137,{1,2,3,4,5,6,7,8,9},0)&0))-1)=FALSE\n),\"Check\",\"\")","v":""},"","",null,"",0,"","","","",""]
["SBSA_1131","SBSA_1131",null,null,null,null,null,null,null,null,null,null,null,null,null,null,null,null,null,null,null,null,null,null,null,null,"","",{"$f":"IF(OR(\nOR(AND(D1140<>\"\",F1140=\"\"),AND(E1140<>\"\",F1140=\"\")),\nF1140=LEFT(F1140,MIN(FIND(0,SUBSTITUTE(F1140,{1,2,3,4,5,6,7,8,9},0)&0))-1)=FALSE\n),\"Check\",\"\")","v":""},"","",null,"",0,"","","","",""]
["SBSA_1137","SBSA_1137",null,null,null,null,null,null,null,null,null,null,null,null,null,null,null,null,null,null,null,null,null,null,null,null,"","",{"$f":"IF(OR(\nOR(AND(D1146<>\"\",F1146=\"\"),AND(E1146<>\"\",F1146=\"\")),\nF1146=LEFT(F1146,MIN(FIND(0,SUBSTITUTE(F1146,{1,2,3,4,5,6,7,8,9},0)&0))-1)=FALSE\n),\"Check\",\"\")","v":""},"","",null,"",0,"","","","",""]
["SBSA_1138","SBSA_1138",null,null,null,null,null,null,null,null,null,null,null,null,null,null,null,null,null,null,null,null,null,null,null,null,"","",{"$f":"IF(OR(\nOR(AND(D1147<>\"\",F1147=\"\"),AND(E1147<>\"\",F1147=\"\")),\nF1147=LEFT(F1147,MIN(FIND(0,SUBSTITUTE(F1147,{1,2,3,4,5,6,7,8,9},0)&0))-1)=FALSE\n),\"Check\",\"\")","v":""},"","",null,"",0,"","","","",""]
["SBSA_1143","SBSA_1143",null,null,null,null,null,null,null,null,null,null,null,null,null,null,null,null,null,null,null,null,null,null,null,null,"","",{"$f":"IF(OR(\nOR(AND(D1152<>\"\",F1152=\"\"),AND(E1152<>\"\",F1152=\"\")),\nF1152=LEFT(F1152,MIN(FIND(0,SUBSTITUTE(F1152,{1,2,3,4,5,6,7,8,9},0)&0))-1)=FALSE\n),\"Check\",\"\")","v":""},"","",null,"",0,"","","","",""]
["SBSA_1147","SBSA_1147",null,null,null,null,null,null,null,null,null,null,null,null,null,null,null,null,null,null,null,null,null,null,null,null,"","",{"$f":"IF(OR(\nOR(AND(D1156<>\"\",F1156=\"\"),AND(E1156<>\"\",F1156=\"\")),\nF1156=LEFT(F1156,MIN(FIND(0,SUBSTITUTE(F1156,{1,2,3,4,5,6,7,8,9},0)&0))-1)=FALSE\n),\"Check\",\"\")","v":""},"","",null,"",0,"","","","",""]
["SBSA_1152","SBSA_1152",null,null,null,null,null,null,null,null,null,null,null,null,null,null,null,null,null,null,null,null,null,null,null,null,"","",{"$f":"IF(OR(\nOR(AND(D1161<>\"\",F1161=\"\"),AND(E1161<>\"\",F1161=\"\")),\nF1161=LEFT(F1161,MIN(FIND(0,SUBSTITUTE(F1161,{1,2,3,4,5,6,7,8,9},0)&0))-1)=FALSE\n),\"Check\",\"\")","v":""},"","",null,"",0,"","","","",""]
["SBSA_1153","SBSA_1153",null,null,null,null,null,null,null,null,null,null,null,null,null,null,null,null,null,null,null,null,null,null,null,null,"","",{"$f":"IF(OR(\nOR(AND(D1162<>\"\",F1162=\"\"),AND(E1162<>\"\",F1162=\"\")),\nF1162=LEFT(F1162,MIN(FIND(0,SUBSTITUTE(F1162,{1,2,3,4,5,6,7,8,9},0)&0))-1)=FALSE\n),\"Check\",\"\")","v":""},"","",null,"",0,"","","","",""]
["SBSA_1158","SBSA_1158",null,null,null,null,null,null,null,null,null,null,null,null,null,null,null,null,null,null,null,null,null,null,null,null,"","",{"$f":"IF(OR(\nOR(AND(D1167<>\"\",F1167=\"\"),AND(E1167<>\"\",F1167=\"\")),\nF1167=LEFT(F1167,MIN(FIND(0,SUBSTITUTE(F1167,{1,2,3,4,5,6,7,8,9},0)&0))-1)=FALSE\n),\"Check\",\"\")","v":""},"","",null,"",0,"","","","",""]
["SBSA_1161","SBSA_1161",null,null,null,null,null,null,null,null,null,null,null,null,null,null,null,null,null,null,null,null,null,null,null,null,"","",{"$f":"IF(OR(\nOR(AND(D1170<>\"\",F1170=\"\"),AND(E1170<>\"\",F1170=\"\")),\nF1170=LEFT(F1170,MIN(FIND(0,SUBSTITUTE(F1170,{1,2,3,4,5,6,7,8,9},0)&0))-1)=FALSE\n),\"Check\",\"\")","v":""},"","",null,"",0,"","","","",""]
["SBSA_1167","SBSA_1167",null,null,null,null,null,null,null,null,null,null,null,null,null,null,null,null,null,null,null,null,null,null,null,null,"","",{"$f":"IF(OR(\nOR(AND(D1176<>\"\",F1176=\"\"),AND(E1176<>\"\",F1176=\"\")),\nF1176=LEFT(F1176,MIN(FIND(0,SUBSTITUTE(F1176,{1,2,3,4,5,6,7,8,9},0)&0))-1)=FALSE\n),\"Check\",\"\")","v":""},"","",null,"",0,"","","","",""]
["SBSA_1168","SBSA_1168",null,null,null,null,null,null,null,null,null,null,null,null,null,null,null,null,null,null,null,null,null,null,null,null,"","",{"$f":"IF(OR(\nOR(AND(D1177<>\"\",F1177=\"\"),AND(E1177<>\"\",F1177=\"\")),\nF1177=LEFT(F1177,MIN(FIND(0,SUBSTITUTE(F1177,{1,2,3,4,5,6,7,8,9},0)&0))-1)=FALSE\n),\"Check\",\"\")","v":""},"","",null,"",0,"","","","",""]
["SBSA_1173","SBSA_1173",null,null,null,null,null,null,null,null,null,null,null,null,null,null,null,null,null,null,null,null,null,null,null,null,"","",{"$f":"IF(OR(\nOR(AND(D1182<>\"\",F1182=\"\"),AND(E1182<>\"\",F1182=\"\")),\nF1182=LEFT(F1182,MIN(FIND(0,SUBSTITUTE(F1182,{1,2,3,4,5,6,7,8,9},0)&0))-1)=FALSE\n),\"Check\",\"\")","v":""},"","",null,"",0,"","","","",""]
["SBSA_1178","SBSA_1178",null,null,null,null,null,null,null,null,null,null,null,null,null,null,null,null,null,null,null,null,null,null,null,null,"","",{"$f":"IF(OR(\nOR(AND(D1187<>\"\",F1187=\"\"),AND(E1187<>\"\",F1187=\"\")),\nF1187=LEFT(F1187,MIN(FIND(0,SUBSTITUTE(F1187,{1,2,3,4,5,6,7,8,9},0)&0))-1)=FALSE\n),\"Check\",\"\")","v":""},"","",null,"",0,"","","","",""]
["SBSA_1182","SBSA_1182",null,null,null,null,null,null,null,null,null,null,null,null,null,null,null,null,null,null,null,null,null,null,null,null,"","",{"$f":"IF(OR(\nOR(AND(D1191<>\"\",F1191=\"\"),AND(E1191<>\"\",F1191=\"\")),\nF1191=LEFT(F1191,MIN(FIND(0,SUBSTITUTE(F1191,{1,2,3,4,5,6,7,8,9},0)&0))-1)=FALSE\n),\"Check\",\"\")","v":""},"","",null,"",0,"","","","",""]
["SBSA_1183","SBSA_1183",null,null,null,null,null,null,null,null,null,null,null,null,null,null,null,null,null,null,null,null,null,null,null,null,"","",{"$f":"IF(OR(\nOR(AND(D1192<>\"\",F1192=\"\"),AND(E1192<>\"\",F1192=\"\")),\nF1192=LEFT(F1192,MIN(FIND(0,SUBSTITUTE(F1192,{1,2,3,4,5,6,7,8,9},0)&0))-1)=FALSE\n),\"Check\",\"\")","v":""},"","",null,"",0,"","","","",""]
["SBSA_1188","SBSA_1188",null,null,null,null,null,null,null,null,null,null,null,null,null,null,null,null,null,null,null,null,null,null,null,null,{"$f":"IF(AND(C1197=\"\",OR(D1197<>\"\",E1197<>\"\",F1197<>\"\",G1197<>\"\")),\"Check\",\"\")","v":""},{"$f":"IF(AND(C1197<>\"\",OR(AND(D1197=\"\",E1197=\"\"),AND(D1197=0,E1197=0),AND(ABS(D1197)>0,ABS(E1197)>0))),\"Check\",\"\")","v":""},{"$f":"IF(OR(\nOR(AND(D1197<>\"\",F1197=\"\"),AND(E1197<>\"\",F1197=\"\")),\nF1197=LEFT(F1197,MIN(FIND(0,SUBSTITUTE(F1197,{1,2,3,4,5,6,7,8,9},0)&0))-1)=FALSE\n),\"Check\",\"\")","v":""},{"$f":"IF(OR(E1197=\"\",G1197=\"\"),\"\",(E1197*G1197)/100)","v":""},{"$f":"IF(AND(F1197<>\"\",G1197=\"\"),\"Check\",\"\")","v":""},null,{"$f":"IF(C1197=\"\",\"\",C1197&\"_\"&IF(G1197=\"\",0,G1197))","v":""},{"$f":"IF(COUNTBLANK(C1197:G1197)<5,1,0)","v":0},{"$f":"IF(C1197=\"\",\"\",IF(LEN(C1197)=12,\"\",\"Check\"))","v":""},{"$f":"IF(C1197=\"\",\"\",IF(COUNTIF(C$10:C$65536,C1197)=COUNTIF(AG$10:AG$65536,AG1197),\"\",\"Check\"))","v":""},{"$f":"IF(F1197=\"\",\"\",IF(LEN(F1197)=3,\"\",\"Check\"))","v":""},{"$f":"IF(OR(IF(D1197=\"\",\"\",IF(ISNUMBER(D1197)=TRUE,\"\",\"TEXT\"))=\"TEXT\",IF(E1197=\"\",\"\",IF(ISNUMBER(E1197)=TRUE,\"\",\"TEXT\"))=\"TEXT\",IF(G1197=\"\",\"\",IF(ISNUMBER(G1197)=TRUE,\"\",\"TEXT\"))=\"TEXT\"),\"Check\",\"\")","v":""},{"$f":"IF(G1197<0,\"Check\",\"\")","v":""}]
["SBSA_1193","SBSA_1193",null,null,null,null,null,null,null,null,null,null,null,null,null,null,null,null,null,null,null,null,null,null,null,null,"","",{"$f":"IF(OR(\nOR(AND(D1202<>\"\",F1202=\"\"),AND(E1202<>\"\",F1202=\"\")),\nF1202=LEFT(F1202,MIN(FIND(0,SUBSTITUTE(F1202,{1,2,3,4,5,6,7,8,9},0)&0))-1)=FALSE\n),\"Check\",\"\")","v":""},"","",null,"",0,"","","","",""]
["SBSA_1195","SBSA_1195",null,null,null,null,null,null,null,null,null,null,null,null,null,null,null,null,null,null,null,null,null,null,null,null,"","",{"$f":"IF(OR(\nOR(AND(D1204<>\"\",F1204=\"\"),AND(E1204<>\"\",F1204=\"\")),\nF1204=LEFT(F1204,MIN(FIND(0,SUBSTITUTE(F1204,{1,2,3,4,5,6,7,8,9},0)&0))-1)=FALSE\n),\"Check\",\"\")","v":""},"","",null,"",0,"","","","",""]
["SBSA_1198","SBSA_1198",null,null,null,null,null,null,null,null,null,null,null,null,null,null,null,null,null,null,null,null,null,null,null,null,"","",{"$f":"IF(OR(\nOR(AND(D1207<>\"\",F1207=\"\"),AND(E1207<>\"\",F1207=\"\")),\nF1207=LEFT(F1207,MIN(FIND(0,SUBSTITUTE(F1207,{1,2,3,4,5,6,7,8,9},0)&0))-1)=FALSE\n),\"Check\",\"\")","v":""},"","",null,"",0,"","","","",""]
["SBSA_1203","SBSA_1203",null,null,null,null,null,null,null,null,null,null,null,null,null,null,null,null,null,null,null,null,null,null,null,null,"","",{"$f":"IF(OR(\nOR(AND(D1212<>\"\",F1212=\"\"),AND(E1212<>\"\",F1212=\"\")),\nF1212=LEFT(F1212,MIN(FIND(0,SUBSTITUTE(F1212,{1,2,3,4,5,6,7,8,9},0)&0))-1)=FALSE\n),\"Check\",\"\")","v":""},"","",null,"",0,"","","","",""]
["SBSA_1208","SBSA_1208",null,null,null,null,null,null,null,null,null,null,null,null,null,null,null,null,null,null,null,null,null,null,null,null,"","",{"$f":"IF(OR(\nOR(AND(D1217<>\"\",F1217=\"\"),AND(E1217<>\"\",F1217=\"\")),\nF1217=LEFT(F1217,MIN(FIND(0,SUBSTITUTE(F1217,{1,2,3,4,5,6,7,8,9},0)&0))-1)=FALSE\n),\"Check\",\"\")","v":""},"","",null,"",0,"","","","",""]
["SBSA_1212","SBSA_1212",null,null,null,null,null,null,null,null,null,null,null,null,null,null,null,null,null,null,null,null,null,null,null,null,"","",{"$f":"IF(OR(\nOR(AND(D1221<>\"\",F1221=\"\"),AND(E1221<>\"\",F1221=\"\")),\nF1221=LEFT(F1221,MIN(FIND(0,SUBSTITUTE(F1221,{1,2,3,4,5,6,7,8,9},0)&0))-1)=FALSE\n),\"Check\",\"\")","v":""},"","",null,"",0,"","","","",""]
["SBSA_1213","SBSA_1213",null,null,null,null,null,null,null,null,null,null,null,null,null,null,null,null,null,null,null,null,null,null,null,null,"","",{"$f":"IF(OR(\nOR(AND(D1222<>\"\",F1222=\"\"),AND(E1222<>\"\",F1222=\"\")),\nF1222=LEFT(F1222,MIN(FIND(0,SUBSTITUTE(F1222,{1,2,3,4,5,6,7,8,9},0)&0))-1)=FALSE\n),\"Check\",\"\")","v":""},"","",null,"",0,"","","","",""]
["SBSA_1218","SBSA_1218",null,null,null,null,null,null,null,null,null,null,null,null,null,null,null,null,null,null,null,null,null,null,null,null,"","",{"$f":"IF(OR(\nOR(AND(D1227<>\"\",F1227=\"\"),AND(E1227<>\"\",F1227=\"\")),\nF1227=LEFT(F1227,MIN(FIND(0,SUBSTITUTE(F1227,{1,2,3,4,5,6,7,8,9},0)&0))-1)=FALSE\n),\"Check\",\"\")","v":""},"","",null,"",0,"","","","",""]
["SBSA_1223","SBSA_1223",null,null,null,null,null,null,null,null,null,null,null,null,null,null,null,null,null,null,null,null,null,null,null,null,"","",{"$f":"IF(OR(\nOR(AND(D1232<>\"\",F1232=\"\"),AND(E1232<>\"\",F1232=\"\")),\nF1232=LEFT(F1232,MIN(FIND(0,SUBSTITUTE(F1232,{1,2,3,4,5,6,7,8,9},0)&0))-1)=FALSE\n),\"Check\",\"\")","v":""},"","",null,"",0,"","","","",""]
["SBSA_1225","SBSA_1225",null,null,null,null,null,null,null,null,null,null,null,null,null,null,null,null,null,null,null,null,null,null,null,null,"","",{"$f":"IF(OR(\nOR(AND(D1234<>\"\",F1234=\"\"),AND(E1234<>\"\",F1234=\"\")),\nF1234=LEFT(F1234,MIN(FIND(0,SUBSTITUTE(F1234,{1,2,3,4,5,6,7,8,9},0)&0))-1)=FALSE\n),\"Check\",\"\")","v":""},"","",null,"",0,"","","","",""]
["SBSA_1228","SBSA_1228",null,null,null,null,null,null,null,null,null,null,null,null,null,null,null,null,null,null,null,null,null,null,null,null,"","",{"$f":"IF(OR(\nOR(AND(D1237<>\"\",F1237=\"\"),AND(E1237<>\"\",F1237=\"\")),\nF1237=LEFT(F1237,MIN(FIND(0,SUBSTITUTE(F1237,{1,2,3,4,5,6,7,8,9},0)&0))-1)=FALSE\n),\"Check\",\"\")","v":""},"","",null,"",0,"","","","",""]
["SBSA_1233","SBSA_1233",null,null,null,null,null,null,null,null,null,null,null,null,null,null,null,null,null,null,null,null,null,null,null,null,"","",{"$f":"IF(OR(\nOR(AND(D1242<>\"\",F1242=\"\"),AND(E1242<>\"\",F1242=\"\")),\nF1242=LEFT(F1242,MIN(FIND(0,SUBSTITUTE(F1242,{1,2,3,4,5,6,7,8,9},0)&0))-1)=FALSE\n),\"Check\",\"\")","v":""},"","",null,"",0,"","","","",""]
["SBSA_1238","SBSA_1238",null,null,null,null,null,null,null,null,null,null,null,null,null,null,null,null,null,null,null,null,null,null,null,null,"","",{"$f":"IF(OR(\nOR(AND(D1247<>\"\",F1247=\"\"),AND(E1247<>\"\",F1247=\"\")),\nF1247=LEFT(F1247,MIN(FIND(0,SUBSTITUTE(F1247,{1,2,3,4,5,6,7,8,9},0)&0))-1)=FALSE\n),\"Check\",\"\")","v":""},"","",null,"",0,"","","","",""]
["SBSA_1242","SBSA_1242",null,null,null,null,null,null,null,null,null,null,null,null,null,null,null,null,null,null,null,null,null,null,null,null,"","",{"$f":"IF(OR(\nOR(AND(D1251<>\"\",F1251=\"\"),AND(E1251<>\"\",F1251=\"\")),\nF1251=LEFT(F1251,MIN(FIND(0,SUBSTITUTE(F1251,{1,2,3,4,5,6,7,8,9},0)&0))-1)=FALSE\n),\"Check\",\"\")","v":""},"","",null,"",0,"","","","",""]
["SBSA_1243","SBSA_1243",null,null,null,null,null,null,null,null,null,null,null,null,null,null,null,null,null,null,null,null,null,null,null,null,"","",{"$f":"IF(OR(\nOR(AND(D1252<>\"\",F1252=\"\"),AND(E1252<>\"\",F1252=\"\")),\nF1252=LEFT(F1252,MIN(FIND(0,SUBSTITUTE(F1252,{1,2,3,4,5,6,7,8,9},0)&0))-1)=FALSE\n),\"Check\",\"\")","v":""},"","",null,"",0,"","","","",""]
["SBSA_1248","SBSA_1248",null,null,null,null,null,null,null,null,null,null,null,null,null,null,null,null,null,null,null,null,null,null,null,null,"","",{"$f":"IF(OR(\nOR(AND(D1257<>\"\",F1257=\"\"),AND(E1257<>\"\",F1257=\"\")),\nF1257=LEFT(F1257,MIN(FIND(0,SUBSTITUTE(F1257,{1,2,3,4,5,6,7,8,9},0)&0))-1)=FALSE\n),\"Check\",\"\")","v":""},"","",null,"",0,"","","","",""]
["SBSA_1253","SBSA_1253",null,null,null,null,null,null,null,null,null,null,null,null,null,null,null,null,null,null,null,null,null,null,null,null,"","",{"$f":"IF(OR(\nOR(AND(D1262<>\"\",F1262=\"\"),AND(E1262<>\"\",F1262=\"\")),\nF1262=LEFT(F1262,MIN(FIND(0,SUBSTITUTE(F1262,{1,2,3,4,5,6,7,8,9},0)&0))-1)=FALSE\n),\"Check\",\"\")","v":""},"","",null,"",0,"","","","",""]
["SBSA_1255","SBSA_1255",null,null,null,null,null,null,null,null,null,null,null,null,null,null,null,null,null,null,null,null,null,null,null,null,"","",{"$f":"IF(OR(\nOR(AND(D1264<>\"\",F1264=\"\"),AND(E1264<>\"\",F1264=\"\")),\nF1264=LEFT(F1264,MIN(FIND(0,SUBSTITUTE(F1264,{1,2,3,4,5,6,7,8,9},0)&0))-1)=FALSE\n),\"Check\",\"\")","v":""},"","",null,"",0,"","","","",""]
["SBSA_1258","SBSA_1258",null,null,null,null,null,null,null,null,null,null,null,null,null,null,null,null,null,null,null,null,null,null,null,null,"","",{"$f":"IF(OR(\nOR(AND(D1267<>\"\",F1267=\"\"),AND(E1267<>\"\",F1267=\"\")),\nF1267=LEFT(F1267,MIN(FIND(0,SUBSTITUTE(F1267,{1,2,3,4,5,6,7,8,9},0)&0))-1)=FALSE\n),\"Check\",\"\")","v":""},"","",null,"",0,"","","","",""]
["SBSA_1263","SBSA_1263",null,null,null,null,null,null,null,null,null,null,null,null,null,null,null,null,null,null,null,null,null,null,null,null,"","",{"$f":"IF(OR(\nOR(AND(D1272<>\"\",F1272=\"\"),AND(E1272<>\"\",F1272=\"\")),\nF1272=LEFT(F1272,MIN(FIND(0,SUBSTITUTE(F1272,{1,2,3,4,5,6,7,8,9},0)&0))-1)=FALSE\n),\"Check\",\"\")","v":""},"","",null,"",0,"","","","",""]
["SBSA_1268","SBSA_1268",null,null,null,null,null,null,null,null,null,null,null,null,null,null,null,null,null,null,null,null,null,null,null,null,"","",{"$f":"IF(OR(\nOR(AND(D1277<>\"\",F1277=\"\"),AND(E1277<>\"\",F1277=\"\")),\nF1277=LEFT(F1277,MIN(FIND(0,SUBSTITUTE(F1277,{1,2,3,4,5,6,7,8,9},0)&0))-1)=FALSE\n),\"Check\",\"\")","v":""},"","",null,"",0,"","","","",""]
["SBSA_1273","SBSA_1273",null,null,null,null,null,null,null,null,null,null,null,null,null,null,null,null,null,null,null,null,null,null,null,null,"","",{"$f":"IF(OR(\nOR(AND(D1282<>\"\",F1282=\"\"),AND(E1282<>\"\",F1282=\"\")),\nF1282=LEFT(F1282,MIN(FIND(0,SUBSTITUTE(F1282,{1,2,3,4,5,6,7,8,9},0)&0))-1)=FALSE\n),\"Check\",\"\")","v":""},"","",null,"",0,"","","","",""]
["SBSA_1276","SBSA_1276",null,null,null,null,null,null,null,null,null,null,null,null,null,null,null,null,null,null,null,null,null,null,null,null,"","",{"$f":"IF(OR(\nOR(AND(D1285<>\"\",F1285=\"\"),AND(E1285<>\"\",F1285=\"\")),\nF1285=LEFT(F1285,MIN(FIND(0,SUBSTITUTE(F1285,{1,2,3,4,5,6,7,8,9},0)&0))-1)=FALSE\n),\"Check\",\"\")","v":""},"","",null,"",0,"","","","",""]
["SBSA_1278","SBSA_1278",null,null,null,null,null,null,null,null,null,null,null,null,null,null,null,null,null,null,null,null,null,null,null,null,"","",{"$f":"IF(OR(\nOR(AND(D1287<>\"\",F1287=\"\"),AND(E1287<>\"\",F1287=\"\")),\nF1287=LEFT(F1287,MIN(FIND(0,SUBSTITUTE(F1287,{1,2,3,4,5,6,7,8,9},0)&0))-1)=FALSE\n),\"Check\",\"\")","v":""},"","",null,"",0,"","","","",""]
["SBSA_1283","SBSA_1283",null,null,null,null,null,null,null,null,null,null,null,null,null,null,null,null,null,null,null,null,null,null,null,null,"","",{"$f":"IF(OR(\nOR(AND(D1292<>\"\",F1292=\"\"),AND(E1292<>\"\",F1292=\"\")),\nF1292=LEFT(F1292,MIN(FIND(0,SUBSTITUTE(F1292,{1,2,3,4,5,6,7,8,9},0)&0))-1)=FALSE\n),\"Check\",\"\")","v":""},"","",null,"",0,"","","","",""]
["SBSA_1288","SBSA_1288",null,null,null,null,null,null,null,null,null,null,null,null,null,null,null,null,null,null,null,null,null,null,null,null,"","",{"$f":"IF(OR(\nOR(AND(D1297<>\"\",F1297=\"\"),AND(E1297<>\"\",F1297=\"\")),\nF1297=LEFT(F1297,MIN(FIND(0,SUBSTITUTE(F1297,{1,2,3,4,5,6,7,8,9},0)&0))-1)=FALSE\n),\"Check\",\"\")","v":""},"","",null,"",0,"","","","",""]
["SBSA_1290","SBSA_1290",null,null,null,null,null,null,null,null,null,null,null,null,null,null,null,null,null,null,null,null,null,null,null,null,"","",{"$f":"IF(OR(\nOR(AND(D1299<>\"\",F1299=\"\"),AND(E1299<>\"\",F1299=\"\")),\nF1299=LEFT(F1299,MIN(FIND(0,SUBSTITUTE(F1299,{1,2,3,4,5,6,7,8,9},0)&0))-1)=FALSE\n),\"Check\",\"\")","v":""},"","",null,"",0,"","","","",""]
["SBSA_1293","SBSA_1293",null,null,null,null,null,null,null,null,null,null,null,null,null,null,null,null,null,null,null,null,null,null,null,null,"","",{"$f":"IF(OR(\nOR(AND(D1302<>\"\",F1302=\"\"),AND(E1302<>\"\",F1302=\"\")),\nF1302=LEFT(F1302,MIN(FIND(0,SUBSTITUTE(F1302,{1,2,3,4,5,6,7,8,9},0)&0))-1)=FALSE\n),\"Check\",\"\")","v":""},"","",null,"",0,"","","","",""]
["SBSA_1298","SBSA_1298",null,null,null,null,null,null,null,null,null,null,null,null,null,null,null,null,null,null,null,null,null,null,null,null,"","",{"$f":"IF(OR(\nOR(AND(D1307<>\"\",F1307=\"\"),AND(E1307<>\"\",F1307=\"\")),\nF1307=LEFT(F1307,MIN(FIND(0,SUBSTITUTE(F1307,{1,2,3,4,5,6,7,8,9},0)&0))-1)=FALSE\n),\"Check\",\"\")","v":""},"","",null,"",0,"","","","",""]
["SBSA_1303","SBSA_1303",null,null,null,null,null,null,null,null,null,null,null,null,null,null,null,null,null,null,null,null,null,null,null,null,"","",{"$f":"IF(OR(\nOR(AND(D1312<>\"\",F1312=\"\"),AND(E1312<>\"\",F1312=\"\")),\nF1312=LEFT(F1312,MIN(FIND(0,SUBSTITUTE(F1312,{1,2,3,4,5,6,7,8,9},0)&0))-1)=FALSE\n),\"Check\",\"\")","v":""},"","",null,"",0,"","","","",""]
["SBSA_1306","SBSA_1306",null,null,null,null,null,null,null,null,null,null,null,null,null,null,null,null,null,null,null,null,null,null,null,null,"","",{"$f":"IF(OR(\nOR(AND(D1315<>\"\",F1315=\"\"),AND(E1315<>\"\",F1315=\"\")),\nF1315=LEFT(F1315,MIN(FIND(0,SUBSTITUTE(F1315,{1,2,3,4,5,6,7,8,9},0)&0))-1)=FALSE\n),\"Check\",\"\")","v":""},"","",null,"",0,"","","","",""]
["SBSA_1308","SBSA_1308",null,null,null,null,null,null,null,null,null,null,null,null,null,null,null,null,null,null,null,null,null,null,null,null,"","",{"$f":"IF(OR(\nOR(AND(D1317<>\"\",F1317=\"\"),AND(E1317<>\"\",F1317=\"\")),\nF1317=LEFT(F1317,MIN(FIND(0,SUBSTITUTE(F1317,{1,2,3,4,5,6,7,8,9},0)&0))-1)=FALSE\n),\"Check\",\"\")","v":""},"","",null,"",0,"","","","",""]
["SBSA_1313","SBSA_1313",null,null,null,null,null,null,null,null,null,null,null,null,null,null,null,null,null,null,null,null,null,null,null,null,"","",{"$f":"IF(OR(\nOR(AND(D1322<>\"\",F1322=\"\"),AND(E1322<>\"\",F1322=\"\")),\nF1322=LEFT(F1322,MIN(FIND(0,SUBSTITUTE(F1322,{1,2,3,4,5,6,7,8,9},0)&0))-1)=FALSE\n),\"Check\",\"\")","v":""},"","",null,"",0,"","","","",""]
["SBSA_1318","SBSA_1318",null,null,null,null,null,null,null,null,null,null,null,null,null,null,null,null,null,null,null,null,null,null,null,null,"","",{"$f":"IF(OR(\nOR(AND(D1327<>\"\",F1327=\"\"),AND(E1327<>\"\",F1327=\"\")),\nF1327=LEFT(F1327,MIN(FIND(0,SUBSTITUTE(F1327,{1,2,3,4,5,6,7,8,9},0)&0))-1)=FALSE\n),\"Check\",\"\")","v":""},"","",null,"",0,"","","","",""]
["SBSA_1320","SBSA_1320",null,null,null,null,null,null,null,null,null,null,null,null,null,null,null,null,null,null,null,null,null,null,null,null,"","",{"$f":"IF(OR(\nOR(AND(D1329<>\"\",F1329=\"\"),AND(E1329<>\"\",F1329=\"\")),\nF1329=LEFT(F1329,MIN(FIND(0,SUBSTITUTE(F1329,{1,2,3,4,5,6,7,8,9},0)&0))-1)=FALSE\n),\"Check\",\"\")","v":""},"","",null,"",0,"","","","",""]
["SBSA_1323","SBSA_1323",null,null,null,null,null,null,null,null,null,null,null,null,null,null,null,null,null,null,null,null,null,null,null,null,"","",{"$f":"IF(OR(\nOR(AND(D1332<>\"\",F1332=\"\"),AND(E1332<>\"\",F1332=\"\")),\nF1332=LEFT(F1332,MIN(FIND(0,SUBSTITUTE(F1332,{1,2,3,4,5,6,7,8,9},0)&0))-1)=FALSE\n),\"Check\",\"\")","v":""},"","",null,"",0,"","","","",""]
["SBSA_1328","SBSA_1328",null,null,null,null,null,null,null,null,null,null,null,null,null,null,null,null,null,null,null,null,null,null,null,null,"","",{"$f":"IF(OR(\nOR(AND(D1337<>\"\",F1337=\"\"),AND(E1337<>\"\",F1337=\"\")),\nF1337=LEFT(F1337,MIN(FIND(0,SUBSTITUTE(F1337,{1,2,3,4,5,6,7,8,9},0)&0))-1)=FALSE\n),\"Check\",\"\")","v":""},"","",null,"",0,"","","","",""]
["SBSA_1333","SBSA_1333",null,null,null,null,null,null,null,null,null,null,null,null,null,null,null,null,null,null,null,null,null,null,null,null,"","",{"$f":"IF(OR(\nOR(AND(D1342<>\"\",F1342=\"\"),AND(E1342<>\"\",F1342=\"\")),\nF1342=LEFT(F1342,MIN(FIND(0,SUBSTITUTE(F1342,{1,2,3,4,5,6,7,8,9},0)&0))-1)=FALSE\n),\"Check\",\"\")","v":""},"","",null,"",0,"","","","",""]
["SBSA_1336","SBSA_1336",null,null,null,null,null,null,null,null,null,null,null,null,null,null,null,null,null,null,null,null,null,null,null,null,"","",{"$f":"IF(OR(\nOR(AND(D1345<>\"\",F1345=\"\"),AND(E1345<>\"\",F1345=\"\")),\nF1345=LEFT(F1345,MIN(FIND(0,SUBSTITUTE(F1345,{1,2,3,4,5,6,7,8,9},0)&0))-1)=FALSE\n),\"Check\",\"\")","v":""},"","",null,"",0,"","","","",""]
["SBSA_1338","SBSA_1338",null,null,null,null,null,null,null,null,null,null,null,null,null,null,null,null,null,null,null,null,null,null,null,null,"","",{"$f":"IF(OR(\nOR(AND(D1347<>\"\",F1347=\"\"),AND(E1347<>\"\",F1347=\"\")),\nF1347=LEFT(F1347,MIN(FIND(0,SUBSTITUTE(F1347,{1,2,3,4,5,6,7,8,9},0)&0))-1)=FALSE\n),\"Check\",\"\")","v":""},"","",null,"",0,"","","","",""]
["SBSA_1343","SBSA_1343",null,null,null,null,null,null,null,null,null,null,null,null,null,null,null,null,null,null,null,null,null,null,null,null,"","",{"$f":"IF(OR(\nOR(AND(D1352<>\"\",F1352=\"\"),AND(E1352<>\"\",F1352=\"\")),\nF1352=LEFT(F1352,MIN(FIND(0,SUBSTITUTE(F1352,{1,2,3,4,5,6,7,8,9},0)&0))-1)=FALSE\n),\"Check\",\"\")","v":""},"","",null,"",0,"","","","",""]
["SBSA_1348","SBSA_1348",null,null,null,null,null,null,null,null,null,null,null,null,null,null,null,null,null,null,null,null,null,null,null,null,"","",{"$f":"IF(OR(\nOR(AND(D1357<>\"\",F1357=\"\"),AND(E1357<>\"\",F1357=\"\")),\nF1357=LEFT(F1357,MIN(FIND(0,SUBSTITUTE(F1357,{1,2,3,4,5,6,7,8,9},0)&0))-1)=FALSE\n),\"Check\",\"\")","v":""},"","",null,"",0,"","","","",""]
["SBSA_1350","SBSA_1350",null,null,null,null,null,null,null,null,null,null,null,null,null,null,null,null,null,null,null,null,null,null,null,null,"","",{"$f":"IF(OR(\nOR(AND(D1359<>\"\",F1359=\"\"),AND(E1359<>\"\",F1359=\"\")),\nF1359=LEFT(F1359,MIN(FIND(0,SUBSTITUTE(F1359,{1,2,3,4,5,6,7,8,9},0)&0))-1)=FALSE\n),\"Check\",\"\")","v":""},"","",null,"",0,"","","","",""]
["SBSA_1353","SBSA_1353",null,null,null,null,null,null,null,null,null,null,null,null,null,null,null,null,null,null,null,null,null,null,null,null,"","",{"$f":"IF(OR(\nOR(AND(D1362<>\"\",F1362=\"\"),AND(E1362<>\"\",F1362=\"\")),\nF1362=LEFT(F1362,MIN(FIND(0,SUBSTITUTE(F1362,{1,2,3,4,5,6,7,8,9},0)&0))-1)=FALSE\n),\"Check\",\"\")","v":""},"","",null,"",0,"","","","",""]
["SBSA_1358","SBSA_1358",null,null,null,null,null,null,null,null,null,null,null,null,null,null,null,null,null,null,null,null,null,null,null,null,"","",{"$f":"IF(OR(\nOR(AND(D1367<>\"\",F1367=\"\"),AND(E1367<>\"\",F1367=\"\")),\nF1367=LEFT(F1367,MIN(FIND(0,SUBSTITUTE(F1367,{1,2,3,4,5,6,7,8,9},0)&0))-1)=FALSE\n),\"Check\",\"\")","v":""},"","",null,"",0,"","","","",""]
["SBSA_1363","SBSA_1363",null,null,null,null,null,null,null,null,null,null,null,null,null,null,null,null,null,null,null,null,null,null,null,null,"","",{"$f":"IF(OR(\nOR(AND(D1372<>\"\",F1372=\"\"),AND(E1372<>\"\",F1372=\"\")),\nF1372=LEFT(F1372,MIN(FIND(0,SUBSTITUTE(F1372,{1,2,3,4,5,6,7,8,9},0)&0))-1)=FALSE\n),\"Check\",\"\")","v":""},"","",null,"",0,"","","","",""]
["SBSA_1364","SBSA_1364",null,null,null,null,null,null,null,null,null,null,null,null,null,null,null,null,null,null,null,null,null,null,null,null,"","",{"$f":"IF(OR(\nOR(AND(D1373<>\"\",F1373=\"\"),AND(E1373<>\"\",F1373=\"\")),\nF1373=LEFT(F1373,MIN(FIND(0,SUBSTITUTE(F1373,{1,2,3,4,5,6,7,8,9},0)&0))-1)=FALSE\n),\"Check\",\"\")","v":""},"","",null,"",0,"","","","",""]
["SBSA_1368","SBSA_1368",null,null,null,null,null,null,null,null,null,null,null,null,null,null,null,null,null,null,null,null,null,null,null,null,"","",{"$f":"IF(OR(\nOR(AND(D1377<>\"\",F1377=\"\"),AND(E1377<>\"\",F1377=\"\")),\nF1377=LEFT(F1377,MIN(FIND(0,SUBSTITUTE(F1377,{1,2,3,4,5,6,7,8,9},0)&0))-1)=FALSE\n),\"Check\",\"\")","v":""},"","",null,"",0,"","","","",""]
["SBSA_1373","SBSA_1373",null,null,null,null,null,null,null,null,null,null,null,null,null,null,null,null,null,null,null,null,null,null,null,null,"","",{"$f":"IF(OR(\nOR(AND(D1382<>\"\",F1382=\"\"),AND(E1382<>\"\",F1382=\"\")),\nF1382=LEFT(F1382,MIN(FIND(0,SUBSTITUTE(F1382,{1,2,3,4,5,6,7,8,9},0)&0))-1)=FALSE\n),\"Check\",\"\")","v":""},"","",null,"",0,"","","","",""]
["SBSA_1378","SBSA_1378",null,null,null,null,null,null,null,null,null,null,null,null,null,null,null,null,null,null,null,null,null,null,null,null,"","",{"$f":"IF(OR(\nOR(AND(D1387<>\"\",F1387=\"\"),AND(E1387<>\"\",F1387=\"\")),\nF1387=LEFT(F1387,MIN(FIND(0,SUBSTITUTE(F1387,{1,2,3,4,5,6,7,8,9},0)&0))-1)=FALSE\n),\"Check\",\"\")","v":""},"","",null,"",0,"","","","",""]
["SBSA_1379","SBSA_1379",null,null,null,null,null,null,null,null,null,null,null,null,null,null,null,null,null,null,null,null,null,null,null,null,"","",{"$f":"IF(OR(\nOR(AND(D1388<>\"\",F1388=\"\"),AND(E1388<>\"\",F1388=\"\")),\nF1388=LEFT(F1388,MIN(FIND(0,SUBSTITUTE(F1388,{1,2,3,4,5,6,7,8,9},0)&0))-1)=FALSE\n),\"Check\",\"\")","v":""},"","",null,"",0,"","","","",""]
["SBSA_1384","SBSA_1384",null,null,null,null,null,null,null,null,null,null,null,null,null,null,null,null,null,null,null,null,null,null,null,null,"","",{"$f":"IF(OR(\nOR(AND(D1393<>\"\",F1393=\"\"),AND(E1393<>\"\",F1393=\"\")),\nF1393=LEFT(F1393,MIN(FIND(0,SUBSTITUTE(F1393,{1,2,3,4,5,6,7,8,9},0)&0))-1)=FALSE\n),\"Check\",\"\")","v":""},"","",null,"",0,"","","","",""]
["SBSA_1388","SBSA_1388",null,null,null,null,null,null,null,null,null,null,null,null,null,null,null,null,null,null,null,null,null,null,null,null,"","",{"$f":"IF(OR(\nOR(AND(D1397<>\"\",F1397=\"\"),AND(E1397<>\"\",F1397=\"\")),\nF1397=LEFT(F1397,MIN(FIND(0,SUBSTITUTE(F1397,{1,2,3,4,5,6,7,8,9},0)&0))-1)=FALSE\n),\"Check\",\"\")","v":""},"","",null,"",0,"","","","",""]
["SBSA_1393","SBSA_1393",null,null,null,null,null,null,null,null,null,null,null,null,null,null,null,null,null,null,null,null,null,null,null,null,"","",{"$f":"IF(OR(\nOR(AND(D1402<>\"\",F1402=\"\"),AND(E1402<>\"\",F1402=\"\")),\nF1402=LEFT(F1402,MIN(FIND(0,SUBSTITUTE(F1402,{1,2,3,4,5,6,7,8,9},0)&0))-1)=FALSE\n),\"Check\",\"\")","v":""},"","",null,"",0,"","","","",""]
["SBSA_1394","SBSA_1394",null,null,null,null,null,null,null,null,null,null,null,null,null,null,null,null,null,null,null,null,null,null,null,null,"","",{"$f":"IF(OR(\nOR(AND(D1403<>\"\",F1403=\"\"),AND(E1403<>\"\",F1403=\"\")),\nF1403=LEFT(F1403,MIN(FIND(0,SUBSTITUTE(F1403,{1,2,3,4,5,6,7,8,9},0)&0))-1)=FALSE\n),\"Check\",\"\")","v":""},"","",null,"",0,"","","","",""]
["SBSA_1398","SBSA_1398",null,null,null,null,null,null,null,null,null,null,null,null,null,null,null,null,null,null,null,null,null,null,null,null,"","",{"$f":"IF(OR(\nOR(AND(D1407<>\"\",F1407=\"\"),AND(E1407<>\"\",F1407=\"\")),\nF1407=LEFT(F1407,MIN(FIND(0,SUBSTITUTE(F1407,{1,2,3,4,5,6,7,8,9},0)&0))-1)=FALSE\n),\"Check\",\"\")","v":""},"","",null,"",0,"","","","",""]
["SBSA_1403","SBSA_1403",null,null,null,null,null,null,null,null,null,null,null,null,null,null,null,null,null,null,null,null,null,null,null,null,"","",{"$f":"IF(OR(\nOR(AND(D1412<>\"\",F1412=\"\"),AND(E1412<>\"\",F1412=\"\")),\nF1412=LEFT(F1412,MIN(FIND(0,SUBSTITUTE(F1412,{1,2,3,4,5,6,7,8,9},0)&0))-1)=FALSE\n),\"Check\",\"\")","v":""},"","",null,"",0,"","","","",""]
["SBSA_1408","SBSA_1408",null,null,null,null,null,null,null,null,null,null,null,null,null,null,null,null,null,null,null,null,null,null,null,null,"","",{"$f":"IF(OR(\nOR(AND(D1417<>\"\",F1417=\"\"),AND(E1417<>\"\",F1417=\"\")),\nF1417=LEFT(F1417,MIN(FIND(0,SUBSTITUTE(F1417,{1,2,3,4,5,6,7,8,9},0)&0))-1)=FALSE\n),\"Check\",\"\")","v":""},"","",null,"",0,"","","","",""]
["SBSA_1409","SBSA_1409",null,null,null,null,null,null,null,null,null,null,null,null,null,null,null,null,null,null,null,null,null,null,null,null,"","",{"$f":"IF(OR(\nOR(AND(D1418<>\"\",F1418=\"\"),AND(E1418<>\"\",F1418=\"\")),\nF1418=LEFT(F1418,MIN(FIND(0,SUBSTITUTE(F1418,{1,2,3,4,5,6,7,8,9},0)&0))-1)=FALSE\n),\"Check\",\"\")","v":""},"","",null,"",0,"","","","",""]
["SBSA_1414","SBSA_1414",null,null,null,null,null,null,null,null,null,null,null,null,null,null,null,null,null,null,null,null,null,null,null,null,"","",{"$f":"IF(OR(\nOR(AND(D1423<>\"\",F1423=\"\"),AND(E1423<>\"\",F1423=\"\")),\nF1423=LEFT(F1423,MIN(FIND(0,SUBSTITUTE(F1423,{1,2,3,4,5,6,7,8,9},0)&0))-1)=FALSE\n),\"Check\",\"\")","v":""},"","",null,"",0,"","","","",""]
["SBSA_1418","SBSA_1418",null,null,null,null,null,null,null,null,null,null,null,null,null,null,null,null,null,null,null,null,null,null,null,null,"","",{"$f":"IF(OR(\nOR(AND(D1427<>\"\",F1427=\"\"),AND(E1427<>\"\",F1427=\"\")),\nF1427=LEFT(F1427,MIN(FIND(0,SUBSTITUTE(F1427,{1,2,3,4,5,6,7,8,9},0)&0))-1)=FALSE\n),\"Check\",\"\")","v":""},"","",null,"",0,"","","","",""]
["SBSA_1423","SBSA_1423",null,null,null,null,null,null,null,null,null,null,null,null,null,null,null,null,null,null,null,null,null,null,null,null,"","",{"$f":"IF(OR(\nOR(AND(D1432<>\"\",F1432=\"\"),AND(E1432<>\"\",F1432=\"\")),\nF1432=LEFT(F1432,MIN(FIND(0,SUBSTITUTE(F1432,{1,2,3,4,5,6,7,8,9},0)&0))-1)=FALSE\n),\"Check\",\"\")","v":""},"","",null,"",0,"","","","",""]
["SBSA_1424","SBSA_1424",null,null,null,null,null,null,null,null,null,null,null,null,null,null,null,null,null,null,null,null,null,null,null,null,"","",{"$f":"IF(OR(\nOR(AND(D1433<>\"\",F1433=\"\"),AND(E1433<>\"\",F1433=\"\")),\nF1433=LEFT(F1433,MIN(FIND(0,SUBSTITUTE(F1433,{1,2,3,4,5,6,7,8,9},0)&0))-1)=FALSE\n),\"Check\",\"\")","v":""},"","",null,"",0,"","","","",""]
["SBSA_1428","SBSA_1428",null,null,null,null,null,null,null,null,null,null,null,null,null,null,null,null,null,null,null,null,null,null,null,null,"","",{"$f":"IF(OR(\nOR(AND(D1437<>\"\",F1437=\"\"),AND(E1437<>\"\",F1437=\"\")),\nF1437=LEFT(F1437,MIN(FIND(0,SUBSTITUTE(F1437,{1,2,3,4,5,6,7,8,9},0)&0))-1)=FALSE\n),\"Check\",\"\")","v":""},"","",null,"",0,"","","","",""]
["SBSA_1433","SBSA_1433",null,null,null,null,null,null,null,null,null,null,null,null,null,null,null,null,null,null,null,null,null,null,null,null,"","",{"$f":"IF(OR(\nOR(AND(D1442<>\"\",F1442=\"\"),AND(E1442<>\"\",F1442=\"\")),\nF1442=LEFT(F1442,MIN(FIND(0,SUBSTITUTE(F1442,{1,2,3,4,5,6,7,8,9},0)&0))-1)=FALSE\n),\"Check\",\"\")","v":""},"","",null,"",0,"","","","",""]
["SBSA_1438","SBSA_1438",null,null,null,null,null,null,null,null,null,null,null,null,null,null,null,null,null,null,null,null,null,null,null,null,"","",{"$f":"IF(OR(\nOR(AND(D1447<>\"\",F1447=\"\"),AND(E1447<>\"\",F1447=\"\")),\nF1447=LEFT(F1447,MIN(FIND(0,SUBSTITUTE(F1447,{1,2,3,4,5,6,7,8,9},0)&0))-1)=FALSE\n),\"Check\",\"\")","v":""},"","",null,"",0,"","","","",""]
["SBSA_1439","SBSA_1439",null,null,null,null,null,null,null,null,null,null,null,null,null,null,null,null,null,null,null,null,null,null,null,null,"","",{"$f":"IF(OR(\nOR(AND(D1448<>\"\",F1448=\"\"),AND(E1448<>\"\",F1448=\"\")),\nF1448=LEFT(F1448,MIN(FIND(0,SUBSTITUTE(F1448,{1,2,3,4,5,6,7,8,9},0)&0))-1)=FALSE\n),\"Check\",\"\")","v":""},"","",null,"",0,"","","","",""]
["SBSA_1444","SBSA_1444",null,null,null,null,null,null,null,null,null,null,null,null,null,null,null,null,null,null,null,null,null,null,null,null,{"$f":"IF(AND(C1453=\"\",OR(D1453<>\"\",E1453<>\"\",F1453<>\"\",G1453<>\"\")),\"Check\",\"\")","v":""},{"$f":"IF(AND(C1453<>\"\",OR(AND(D1453=\"\",E1453=\"\"),AND(D1453=0,E1453=0),AND(ABS(D1453)>0,ABS(E1453)>0))),\"Check\",\"\")","v":""},{"$f":"IF(OR(\nOR(AND(D1453<>\"\",F1453=\"\"),AND(E1453<>\"\",F1453=\"\")),\nF1453=LEFT(F1453,MIN(FIND(0,SUBSTITUTE(F1453,{1,2,3,4,5,6,7,8,9},0)&0))-1)=FALSE\n),\"Check\",\"\")","v":""},{"$f":"IF(OR(E1453=\"\",G1453=\"\"),\"\",(E1453*G1453)/100)","v":""},{"$f":"IF(AND(F1453<>\"\",G1453=\"\"),\"Check\",\"\")","v":""},null,{"$f":"IF(C1453=\"\",\"\",C1453&\"_\"&IF(G1453=\"\",0,G1453))","v":""},{"$f":"IF(COUNTBLANK(C1453:G1453)<5,1,0)","v":0},{"$f":"IF(C1453=\"\",\"\",IF(LEN(C1453)=12,\"\",\"Check\"))","v":""},{"$f":"IF(C1453=\"\",\"\",IF(COUNTIF(C$10:C$65536,C1453)=COUNTIF(AG$10:AG$65536,AG1453),\"\",\"Check\"))","v":""},{"$f":"IF(F1453=\"\",\"\",IF(LEN(F1453)=3,\"\",\"Check\"))","v":""},{"$f":"IF(OR(IF(D1453=\"\",\"\",IF(ISNUMBER(D1453)=TRUE,\"\",\"TEXT\"))=\"TEXT\",IF(E1453=\"\",\"\",IF(ISNUMBER(E1453)=TRUE,\"\",\"TEXT\"))=\"TEXT\",IF(G1453=\"\",\"\",IF(ISNUMBER(G1453)=TRUE,\"\",\"TEXT\"))=\"TEXT\"),\"Check\",\"\")","v":""},{"$f":"IF(G1453<0,\"Check\",\"\")","v":""}]
["SBSA_1448","SBSA_1448",null,null,null,null,null,null,null,null,null,null,null,null,null,null,null,null,null,null,null,null,null,null,null,null,"","",{"$f":"IF(OR(\nOR(AND(D1457<>\"\",F1457=\"\"),AND(E1457<>\"\",F1457=\"\")),\nF1457=LEFT(F1457,MIN(FIND(0,SUBSTITUTE(F1457,{1,2,3,4,5,6,7,8,9},0)&0))-1)=FALSE\n),\"Check\",\"\")","v":""},"","",null,"",0,"","","","",""]
["SBSA_1453","SBSA_1453",null,null,null,null,null,null,null,null,null,null,null,null,null,null,null,null,null,null,null,null,null,null,null,null,"","",{"$f":"IF(OR(\nOR(AND(D1462<>\"\",F1462=\"\"),AND(E1462<>\"\",F1462=\"\")),\nF1462=LEFT(F1462,MIN(FIND(0,SUBSTITUTE(F1462,{1,2,3,4,5,6,7,8,9},0)&0))-1)=FALSE\n),\"Check\",\"\")","v":""},"","",null,"",0,"","","","",""]
["SBSA_1454","SBSA_1454",null,null,null,null,null,null,null,null,null,null,null,null,null,null,null,null,null,null,null,null,null,null,null,null,"","",{"$f":"IF(OR(\nOR(AND(D1463<>\"\",F1463=\"\"),AND(E1463<>\"\",F1463=\"\")),\nF1463=LEFT(F1463,MIN(FIND(0,SUBSTITUTE(F1463,{1,2,3,4,5,6,7,8,9},0)&0))-1)=FALSE\n),\"Check\",\"\")","v":""},"","",null,"",0,"","","","",""]
["SBSA_1459","SBSA_1459",null,null,null,null,null,null,null,null,null,null,null,null,null,null,null,null,null,null,null,null,null,null,null,null,"","",{"$f":"IF(OR(\nOR(AND(D1468<>\"\",F1468=\"\"),AND(E1468<>\"\",F1468=\"\")),\nF1468=LEFT(F1468,MIN(FIND(0,SUBSTITUTE(F1468,{1,2,3,4,5,6,7,8,9},0)&0))-1)=FALSE\n),\"Check\",\"\")","v":""},"","",null,"",0,"","","","",""]
["SBSA_1462","SBSA_1462",null,null,null,null,null,null,null,null,null,null,null,null,null,null,null,null,null,null,null,null,null,null,null,null,"","",{"$f":"IF(OR(\nOR(AND(D1471<>\"\",F1471=\"\"),AND(E1471<>\"\",F1471=\"\")),\nF1471=LEFT(F1471,MIN(FIND(0,SUBSTITUTE(F1471,{1,2,3,4,5,6,7,8,9},0)&0))-1)=FALSE\n),\"Check\",\"\")","v":""},"","",null,"",0,"","","","",""]
["SBSA_1468","SBSA_1468",null,null,null,null,null,null,null,null,null,null,null,null,null,null,null,null,null,null,null,null,null,null,null,null,"","",{"$f":"IF(OR(\nOR(AND(D1477<>\"\",F1477=\"\"),AND(E1477<>\"\",F1477=\"\")),\nF1477=LEFT(F1477,MIN(FIND(0,SUBSTITUTE(F1477,{1,2,3,4,5,6,7,8,9},0)&0))-1)=FALSE\n),\"Check\",\"\")","v":""},"","",null,"",0,"","","","",""]
["SBSA_1469","SBSA_1469",null,null,null,null,null,null,null,null,null,null,null,null,null,null,null,null,null,null,null,null,null,null,null,null,"","",{"$f":"IF(OR(\nOR(AND(D1478<>\"\",F1478=\"\"),AND(E1478<>\"\",F1478=\"\")),\nF1478=LEFT(F1478,MIN(FIND(0,SUBSTITUTE(F1478,{1,2,3,4,5,6,7,8,9},0)&0))-1)=FALSE\n),\"Check\",\"\")","v":""},"","",null,"",0,"","","","",""]
["SBSA_1474","SBSA_1474",null,null,null,null,null,null,null,null,null,null,null,null,null,null,null,null,null,null,null,null,null,null,null,null,"","",{"$f":"IF(OR(\nOR(AND(D1483<>\"\",F1483=\"\"),AND(E1483<>\"\",F1483=\"\")),\nF1483=LEFT(F1483,MIN(FIND(0,SUBSTITUTE(F1483,{1,2,3,4,5,6,7,8,9},0)&0))-1)=FALSE\n),\"Check\",\"\")","v":""},"","",null,"",0,"","","","",""]
["SBSA_1479","SBSA_1479",null,null,null,null,null,null,null,null,null,null,null,null,null,null,null,null,null,null,null,null,null,null,null,null,"","",{"$f":"IF(OR(\nOR(AND(D1488<>\"\",F1488=\"\"),AND(E1488<>\"\",F1488=\"\")),\nF1488=LEFT(F1488,MIN(FIND(0,SUBSTITUTE(F1488,{1,2,3,4,5,6,7,8,9},0)&0))-1)=FALSE\n),\"Check\",\"\")","v":""},"","",null,"",0,"","","","",""]
["SBSA_1483","SBSA_1483",null,null,null,null,null,null,null,null,null,null,null,null,null,null,null,null,null,null,null,null,null,null,null,null,"","",{"$f":"IF(OR(\nOR(AND(D1492<>\"\",F1492=\"\"),AND(E1492<>\"\",F1492=\"\")),\nF1492=LEFT(F1492,MIN(FIND(0,SUBSTITUTE(F1492,{1,2,3,4,5,6,7,8,9},0)&0))-1)=FALSE\n),\"Check\",\"\")","v":""},"","",null,"",0,"","","","",""]
["SBSA_1484","SBSA_1484",null,null,null,null,null,null,null,null,null,null,null,null,null,null,null,null,null,null,null,null,null,null,null,null,"","",{"$f":"IF(OR(\nOR(AND(D1493<>\"\",F1493=\"\"),AND(E1493<>\"\",F1493=\"\")),\nF1493=LEFT(F1493,MIN(FIND(0,SUBSTITUTE(F1493,{1,2,3,4,5,6,7,8,9},0)&0))-1)=FALSE\n),\"Check\",\"\")","v":""},"","",null,"",0,"","","","",""]
["SBSA_1489","SBSA_1489",null,null,null,null,null,null,null,null,null,null,null,null,null,null,null,null,null,null,null,null,null,null,null,null,"","",{"$f":"IF(OR(\nOR(AND(D1498<>\"\",F1498=\"\"),AND(E1498<>\"\",F1498=\"\")),\nF1498=LEFT(F1498,MIN(FIND(0,SUBSTITUTE(F1498,{1,2,3,4,5,6,7,8,9},0)&0))-1)=FALSE\n),\"Check\",\"\")","v":""},"","",null,"",0,"","","","",""]
["SBSA_1492","SBSA_1492",null,null,null,null,null,null,null,null,null,null,null,null,null,null,null,null,null,null,null,null,null,null,null,null,"","",{"$f":"IF(OR(\nOR(AND(D1501<>\"\",F1501=\"\"),AND(E1501<>\"\",F1501=\"\")),\nF1501=LEFT(F1501,MIN(FIND(0,SUBSTITUTE(F1501,{1,2,3,4,5,6,7,8,9},0)&0))-1)=FALSE\n),\"Check\",\"\")","v":""},"","",null,"",0,"","","","",""]
["SBSA_1498","SBSA_1498",null,null,null,null,null,null,null,null,null,null,null,null,null,null,null,null,null,null,null,null,null,null,null,null,"","",{"$f":"IF(OR(\nOR(AND(D1507<>\"\",F1507=\"\"),AND(E1507<>\"\",F1507=\"\")),\nF1507=LEFT(F1507,MIN(FIND(0,SUBSTITUTE(F1507,{1,2,3,4,5,6,7,8,9},0)&0))-1)=FALSE\n),\"Check\",\"\")","v":""},"","",null,"",0,"","","","",""]
["SBSA_1499","SBSA_1499",null,null,null,null,null,null,null,null,null,null,null,null,null,null,null,null,null,null,null,null,null,null,null,null,"","",{"$f":"IF(OR(\nOR(AND(D1508<>\"\",F1508=\"\"),AND(E1508<>\"\",F1508=\"\")),\nF1508=LEFT(F1508,MIN(FIND(0,SUBSTITUTE(F1508,{1,2,3,4,5,6,7,8,9},0)&0))-1)=FALSE\n),\"Check\",\"\")","v":""},"","",null,"",0,"","","","",""]
["SBSA_1504","SBSA_1504",null,null,null,null,null,null,null,null,null,null,null,null,null,null,null,null,null,null,null,null,null,null,null,null,"","",{"$f":"IF(OR(\nOR(AND(D1513<>\"\",F1513=\"\"),AND(E1513<>\"\",F1513=\"\")),\nF1513=LEFT(F1513,MIN(FIND(0,SUBSTITUTE(F1513,{1,2,3,4,5,6,7,8,9},0)&0))-1)=FALSE\n),\"Check\",\"\")","v":""},"","",null,"",0,"","","","",""]
["SBSA_1509","SBSA_1509",null,null,null,null,null,null,null,null,null,null,null,null,null,null,null,null,null,null,null,null,null,null,null,null,"","",{"$f":"IF(OR(\nOR(AND(D1518<>\"\",F1518=\"\"),AND(E1518<>\"\",F1518=\"\")),\nF1518=LEFT(F1518,MIN(FIND(0,SUBSTITUTE(F1518,{1,2,3,4,5,6,7,8,9},0)&0))-1)=FALSE\n),\"Check\",\"\")","v":""},"","",null,"",0,"","","","",""]
["SBSA_1513","SBSA_1513",null,null,null,null,null,null,null,null,null,null,null,null,null,null,null,null,null,null,null,null,null,null,null,null,"","",{"$f":"IF(OR(\nOR(AND(D1522<>\"\",F1522=\"\"),AND(E1522<>\"\",F1522=\"\")),\nF1522=LEFT(F1522,MIN(FIND(0,SUBSTITUTE(F1522,{1,2,3,4,5,6,7,8,9},0)&0))-1)=FALSE\n),\"Check\",\"\")","v":""},"","",null,"",0,"","","","",""]
["SBSA_1514","SBSA_1514",null,null,null,null,null,null,null,null,null,null,null,null,null,null,null,null,null,null,null,null,null,null,null,null,"","",{"$f":"IF(OR(\nOR(AND(D1523<>\"\",F1523=\"\"),AND(E1523<>\"\",F1523=\"\")),\nF1523=LEFT(F1523,MIN(FIND(0,SUBSTITUTE(F1523,{1,2,3,4,5,6,7,8,9},0)&0))-1)=FALSE\n),\"Check\",\"\")","v":""},"","",null,"",0,"","","","",""]
["SBSA_1519","SBSA_1519",null,null,null,null,null,null,null,null,null,null,null,null,null,null,null,null,null,null,null,null,null,null,null,null,"","",{"$f":"IF(OR(\nOR(AND(D1528<>\"\",F1528=\"\"),AND(E1528<>\"\",F1528=\"\")),\nF1528=LEFT(F1528,MIN(FIND(0,SUBSTITUTE(F1528,{1,2,3,4,5,6,7,8,9},0)&0))-1)=FALSE\n),\"Check\",\"\")","v":""},"","",null,"",0,"","","","",""]
["SBSA_1522","SBSA_1522",null,null,null,null,null,null,null,null,null,null,null,null,null,null,null,null,null,null,null,null,null,null,null,null,"","",{"$f":"IF(OR(\nOR(AND(D1531<>\"\",F1531=\"\"),AND(E1531<>\"\",F1531=\"\")),\nF1531=LEFT(F1531,MIN(FIND(0,SUBSTITUTE(F1531,{1,2,3,4,5,6,7,8,9},0)&0))-1)=FALSE\n),\"Check\",\"\")","v":""},"","",null,"",0,"","","","",""]
["SBSA_1528","SBSA_1528",null,null,null,null,null,null,null,null,null,null,null,null,null,null,null,null,null,null,null,null,null,null,null,null,"","",{"$f":"IF(OR(\nOR(AND(D1537<>\"\",F1537=\"\"),AND(E1537<>\"\",F1537=\"\")),\nF1537=LEFT(F1537,MIN(FIND(0,SUBSTITUTE(F1537,{1,2,3,4,5,6,7,8,9},0)&0))-1)=FALSE\n),\"Check\",\"\")","v":""},"","",null,"",0,"","","","",""]
["SBSA_1529","SBSA_1529",null,null,null,null,null,null,null,null,null,null,null,null,null,null,null,null,null,null,null,null,null,null,null,null,"","",{"$f":"IF(OR(\nOR(AND(D1538<>\"\",F1538=\"\"),AND(E1538<>\"\",F1538=\"\")),\nF1538=LEFT(F1538,MIN(FIND(0,SUBSTITUTE(F1538,{1,2,3,4,5,6,7,8,9},0)&0))-1)=FALSE\n),\"Check\",\"\")","v":""},"","",null,"",0,"","","","",""]
["SBSA_1534","SBSA_1534",null,null,null,null,null,null,null,null,null,null,null,null,null,null,null,null,null,null,null,null,null,null,null,null,"","",{"$f":"IF(OR(\nOR(AND(D1543<>\"\",F1543=\"\"),AND(E1543<>\"\",F1543=\"\")),\nF1543=LEFT(F1543,MIN(FIND(0,SUBSTITUTE(F1543,{1,2,3,4,5,6,7,8,9},0)&0))-1)=FALSE\n),\"Check\",\"\")","v":""},"","",null,"",0,"","","","",""]
["SBSA_1539","SBSA_1539",null,null,null,null,null,null,null,null,null,null,null,null,null,null,null,null,null,null,null,null,null,null,null,null,"","",{"$f":"IF(OR(\nOR(AND(D1548<>\"\",F1548=\"\"),AND(E1548<>\"\",F1548=\"\")),\nF1548=LEFT(F1548,MIN(FIND(0,SUBSTITUTE(F1548,{1,2,3,4,5,6,7,8,9},0)&0))-1)=FALSE\n),\"Check\",\"\")","v":""},"","",null,"",0,"","","","",""]
["SBSA_1543","SBSA_1543",null,null,null,null,null,null,null,null,null,null,null,null,null,null,null,null,null,null,null,null,null,null,null,null,"","",{"$f":"IF(OR(\nOR(AND(D1552<>\"\",F1552=\"\"),AND(E1552<>\"\",F1552=\"\")),\nF1552=LEFT(F1552,MIN(FIND(0,SUBSTITUTE(F1552,{1,2,3,4,5,6,7,8,9},0)&0))-1)=FALSE\n),\"Check\",\"\")","v":""},"","",null,"",0,"","","","",""]
["SBSA_1544","SBSA_1544",null,null,null,null,null,null,null,null,null,null,null,null,null,null,null,null,null,null,null,null,null,null,null,null,"","",{"$f":"IF(OR(\nOR(AND(D1553<>\"\",F1553=\"\"),AND(E1553<>\"\",F1553=\"\")),\nF1553=LEFT(F1553,MIN(FIND(0,SUBSTITUTE(F1553,{1,2,3,4,5,6,7,8,9},0)&0))-1)=FALSE\n),\"Check\",\"\")","v":""},"","",null,"",0,"","","","",""]
["SBSA_1549","SBSA_1549",null,null,null,null,null,null,null,null,null,null,null,null,null,null,null,null,null,null,null,null,null,null,null,null,"","",{"$f":"IF(OR(\nOR(AND(D1558<>\"\",F1558=\"\"),AND(E1558<>\"\",F1558=\"\")),\nF1558=LEFT(F1558,MIN(FIND(0,SUBSTITUTE(F1558,{1,2,3,4,5,6,7,8,9},0)&0))-1)=FALSE\n),\"Check\",\"\")","v":""},"","",null,"",0,"","","","",""]
["SBSA_1554","SBSA_1554",null,null,null,null,null,null,null,null,null,null,null,null,null,null,null,null,null,null,null,null,null,null,null,null,"","",{"$f":"IF(OR(\nOR(AND(D1563<>\"\",F1563=\"\"),AND(E1563<>\"\",F1563=\"\")),\nF1563=LEFT(F1563,MIN(FIND(0,SUBSTITUTE(F1563,{1,2,3,4,5,6,7,8,9},0)&0))-1)=FALSE\n),\"Check\",\"\")","v":""},"","",null,"",0,"","","","",""]
["SBSA_1557","SBSA_1557",null,null,null,null,null,null,null,null,null,null,null,null,null,null,null,null,null,null,null,null,null,null,null,null,"","",{"$f":"IF(OR(\nOR(AND(D1566<>\"\",F1566=\"\"),AND(E1566<>\"\",F1566=\"\")),\nF1566=LEFT(F1566,MIN(FIND(0,SUBSTITUTE(F1566,{1,2,3,4,5,6,7,8,9},0)&0))-1)=FALSE\n),\"Check\",\"\")","v":""},"","",null,"",0,"","","","",""]
["SBSA_1559","SBSA_1559",null,null,null,null,null,null,null,null,null,null,null,null,null,null,null,null,null,null,null,null,null,null,null,null,"","",{"$f":"IF(OR(\nOR(AND(D1568<>\"\",F1568=\"\"),AND(E1568<>\"\",F1568=\"\")),\nF1568=LEFT(F1568,MIN(FIND(0,SUBSTITUTE(F1568,{1,2,3,4,5,6,7,8,9},0)&0))-1)=FALSE\n),\"Check\",\"\")","v":""},"","",null,"",0,"","","","",""]
["SBSA_1564","SBSA_1564",null,null,null,null,null,null,null,null,null,null,null,null,null,null,null,null,null,null,null,null,null,null,null,null,"","",{"$f":"IF(OR(\nOR(AND(D1573<>\"\",F1573=\"\"),AND(E1573<>\"\",F1573=\"\")),\nF1573=LEFT(F1573,MIN(FIND(0,SUBSTITUTE(F1573,{1,2,3,4,5,6,7,8,9},0)&0))-1)=FALSE\n),\"Check\",\"\")","v":""},"","",null,"",0,"","","","",""]
["SBSA_1569","SBSA_1569",null,null,null,null,null,null,null,null,null,null,null,null,null,null,null,null,null,null,null,null,null,null,null,null,"","",{"$f":"IF(OR(\nOR(AND(D1578<>\"\",F1578=\"\"),AND(E1578<>\"\",F1578=\"\")),\nF1578=LEFT(F1578,MIN(FIND(0,SUBSTITUTE(F1578,{1,2,3,4,5,6,7,8,9},0)&0))-1)=FALSE\n),\"Check\",\"\")","v":""},"","",null,"",0,"","","","",""]
["SBSA_1573","SBSA_1573",null,null,null,null,null,null,null,null,null,null,null,null,null,null,null,null,null,null,null,null,null,null,null,null,"","",{"$f":"IF(OR(\nOR(AND(D1582<>\"\",F1582=\"\"),AND(E1582<>\"\",F1582=\"\")),\nF1582=LEFT(F1582,MIN(FIND(0,SUBSTITUTE(F1582,{1,2,3,4,5,6,7,8,9},0)&0))-1)=FALSE\n),\"Check\",\"\")","v":""},"","",null,"",0,"","","","",""]
["SBSA_1574","SBSA_1574",null,null,null,null,null,null,null,null,null,null,null,null,null,null,null,null,null,null,null,null,null,null,null,null,"","",{"$f":"IF(OR(\nOR(AND(D1583<>\"\",F1583=\"\"),AND(E1583<>\"\",F1583=\"\")),\nF1583=LEFT(F1583,MIN(FIND(0,SUBSTITUTE(F1583,{1,2,3,4,5,6,7,8,9},0)&0))-1)=FALSE\n),\"Check\",\"\")","v":""},"","",null,"",0,"","","","",""]
["SBSA_1579","SBSA_1579",null,null,null,null,null,null,null,null,null,null,null,null,null,null,null,null,null,null,null,null,null,null,null,null,"","",{"$f":"IF(OR(\nOR(AND(D1588<>\"\",F1588=\"\"),AND(E1588<>\"\",F1588=\"\")),\nF1588=LEFT(F1588,MIN(FIND(0,SUBSTITUTE(F1588,{1,2,3,4,5,6,7,8,9},0)&0))-1)=FALSE\n),\"Check\",\"\")","v":""},"","",null,"",0,"","","","",""]
["SBSA_1584","SBSA_1584",null,null,null,null,null,null,null,null,null,null,null,null,null,null,null,null,null,null,null,null,null,null,null,null,"","",{"$f":"IF(OR(\nOR(AND(D1593<>\"\",F1593=\"\"),AND(E1593<>\"\",F1593=\"\")),\nF1593=LEFT(F1593,MIN(FIND(0,SUBSTITUTE(F1593,{1,2,3,4,5,6,7,8,9},0)&0))-1)=FALSE\n),\"Check\",\"\")","v":""},"","",null,"",0,"","","","",""]
["SBSA_1587","SBSA_1587",null,null,null,null,null,null,null,null,null,null,null,null,null,null,null,null,null,null,null,null,null,null,null,null,"","",{"$f":"IF(OR(\nOR(AND(D1596<>\"\",F1596=\"\"),AND(E1596<>\"\",F1596=\"\")),\nF1596=LEFT(F1596,MIN(FIND(0,SUBSTITUTE(F1596,{1,2,3,4,5,6,7,8,9},0)&0))-1)=FALSE\n),\"Check\",\"\")","v":""},"","",null,"",0,"","","","",""]
["SBSA_1589","SBSA_1589",null,null,null,null,null,null,null,null,null,null,null,null,null,null,null,null,null,null,null,null,null,null,null,null,"","",{"$f":"IF(OR(\nOR(AND(D1598<>\"\",F1598=\"\"),AND(E1598<>\"\",F1598=\"\")),\nF1598=LEFT(F1598,MIN(FIND(0,SUBSTITUTE(F1598,{1,2,3,4,5,6,7,8,9},0)&0))-1)=FALSE\n),\"Check\",\"\")","v":""},"","",null,"",0,"","","","",""]
["SBSA_1594","SBSA_1594",null,null,null,null,null,null,null,null,null,null,null,null,null,null,null,null,null,null,null,null,null,null,null,null,"","",{"$f":"IF(OR(\nOR(AND(D1603<>\"\",F1603=\"\"),AND(E1603<>\"\",F1603=\"\")),\nF1603=LEFT(F1603,MIN(FIND(0,SUBSTITUTE(F1603,{1,2,3,4,5,6,7,8,9},0)&0))-1)=FALSE\n),\"Check\",\"\")","v":""},"","",null,"",0,"","","","",""]
["SBSA_1599","SBSA_1599",null,null,null,null,null,null,null,null,null,null,null,null,null,null,null,null,null,null,null,null,null,null,null,null,"","",{"$f":"IF(OR(\nOR(AND(D1608<>\"\",F1608=\"\"),AND(E1608<>\"\",F1608=\"\")),\nF1608=LEFT(F1608,MIN(FIND(0,SUBSTITUTE(F1608,{1,2,3,4,5,6,7,8,9},0)&0))-1)=FALSE\n),\"Check\",\"\")","v":""},"","",null,"",0,"","","","",""]
["SBSA_1603","SBSA_1603",null,null,null,null,null,null,null,null,null,null,null,null,null,null,null,null,null,null,null,null,null,null,null,null,"","",{"$f":"IF(OR(\nOR(AND(D1612<>\"\",F1612=\"\"),AND(E1612<>\"\",F1612=\"\")),\nF1612=LEFT(F1612,MIN(FIND(0,SUBSTITUTE(F1612,{1,2,3,4,5,6,7,8,9},0)&0))-1)=FALSE\n),\"Check\",\"\")","v":""},"","",null,"",0,"","","","",""]
["SBSA_1604","SBSA_1604",null,null,null,null,null,null,null,null,null,null,null,null,null,null,null,null,null,null,null,null,null,null,null,null,"","",{"$f":"IF(OR(\nOR(AND(D1613<>\"\",F1613=\"\"),AND(E1613<>\"\",F1613=\"\")),\nF1613=LEFT(F1613,MIN(FIND(0,SUBSTITUTE(F1613,{1,2,3,4,5,6,7,8,9},0)&0))-1)=FALSE\n),\"Check\",\"\")","v":""},"","",null,"",0,"","","","",""]
["SBSA_1609","SBSA_1609",null,null,null,null,null,null,null,null,null,null,null,null,null,null,null,null,null,null,null,null,null,null,null,null,"","",{"$f":"IF(OR(\nOR(AND(D1618<>\"\",F1618=\"\"),AND(E1618<>\"\",F1618=\"\")),\nF1618=LEFT(F1618,MIN(FIND(0,SUBSTITUTE(F1618,{1,2,3,4,5,6,7,8,9},0)&0))-1)=FALSE\n),\"Check\",\"\")","v":""},"","",null,"",0,"","","","",""]
["SBSA_1614","SBSA_1614",null,null,null,null,null,null,null,null,null,null,null,null,null,null,null,null,null,null,null,null,null,null,null,null,"","",{"$f":"IF(OR(\nOR(AND(D1623<>\"\",F1623=\"\"),AND(E1623<>\"\",F1623=\"\")),\nF1623=LEFT(F1623,MIN(FIND(0,SUBSTITUTE(F1623,{1,2,3,4,5,6,7,8,9},0)&0))-1)=FALSE\n),\"Check\",\"\")","v":""},"","",null,"",0,"","","","",""]
["SBSA_1617","SBSA_1617",null,null,null,null,null,null,null,null,null,null,null,null,null,null,null,null,null,null,null,null,null,null,null,null,"","",{"$f":"IF(OR(\nOR(AND(D1626<>\"\",F1626=\"\"),AND(E1626<>\"\",F1626=\"\")),\nF1626=LEFT(F1626,MIN(FIND(0,SUBSTITUTE(F1626,{1,2,3,4,5,6,7,8,9},0)&0))-1)=FALSE\n),\"Check\",\"\")","v":""},"","",null,"",0,"","","","",""]
["SBSA_1619","SBSA_1619",null,null,null,null,null,null,null,null,null,null,null,null,null,null,null,null,null,null,null,null,null,null,null,null,"","",{"$f":"IF(OR(\nOR(AND(D1628<>\"\",F1628=\"\"),AND(E1628<>\"\",F1628=\"\")),\nF1628=LEFT(F1628,MIN(FIND(0,SUBSTITUTE(F1628,{1,2,3,4,5,6,7,8,9},0)&0))-1)=FALSE\n),\"Check\",\"\")","v":""},"","",null,"",0,"","","","",""]
["SBSA_1624","SBSA_1624",null,null,null,null,null,null,null,null,null,null,null,null,null,null,null,null,null,null,null,null,null,null,null,null,"","",{"$f":"IF(OR(\nOR(AND(D1633<>\"\",F1633=\"\"),AND(E1633<>\"\",F1633=\"\")),\nF1633=LEFT(F1633,MIN(FIND(0,SUBSTITUTE(F1633,{1,2,3,4,5,6,7,8,9},0)&0))-1)=FALSE\n),\"Check\",\"\")","v":""},"","",null,"",0,"","","","",""]
["SBSA_1629","SBSA_1629",null,null,null,null,null,null,null,null,null,null,null,null,null,null,null,null,null,null,null,null,null,null,null,null,"","",{"$f":"IF(OR(\nOR(AND(D1638<>\"\",F1638=\"\"),AND(E1638<>\"\",F1638=\"\")),\nF1638=LEFT(F1638,MIN(FIND(0,SUBSTITUTE(F1638,{1,2,3,4,5,6,7,8,9},0)&0))-1)=FALSE\n),\"Check\",\"\")","v":""},"","",null,"",0,"","","","",""]
["SBSA_1633","SBSA_1633",null,null,null,null,null,null,null,null,null,null,null,null,null,null,null,null,null,null,null,null,null,null,null,null,"","",{"$f":"IF(OR(\nOR(AND(D1642<>\"\",F1642=\"\"),AND(E1642<>\"\",F1642=\"\")),\nF1642=LEFT(F1642,MIN(FIND(0,SUBSTITUTE(F1642,{1,2,3,4,5,6,7,8,9},0)&0))-1)=FALSE\n),\"Check\",\"\")","v":""},"","",null,"",0,"","","","",""]
["SBSA_1634","SBSA_1634",null,null,null,null,null,null,null,null,null,null,null,null,null,null,null,null,null,null,null,null,null,null,null,null,"","",{"$f":"IF(OR(\nOR(AND(D1643<>\"\",F1643=\"\"),AND(E1643<>\"\",F1643=\"\")),\nF1643=LEFT(F1643,MIN(FIND(0,SUBSTITUTE(F1643,{1,2,3,4,5,6,7,8,9},0)&0))-1)=FALSE\n),\"Check\",\"\")","v":""},"","",null,"",0,"","","","",""]
["SBSA_1639","SBSA_1639",null,null,null,null,null,null,null,null,null,null,null,null,null,null,null,null,null,null,null,null,null,null,null,null,"","",{"$f":"IF(OR(\nOR(AND(D1648<>\"\",F1648=\"\"),AND(E1648<>\"\",F1648=\"\")),\nF1648=LEFT(F1648,MIN(FIND(0,SUBSTITUTE(F1648,{1,2,3,4,5,6,7,8,9},0)&0))-1)=FALSE\n),\"Check\",\"\")","v":""},"","",null,"",0,"","","","",""]
["SBSA_1644","SBSA_1644",null,null,null,null,null,null,null,null,null,null,null,null,null,null,null,null,null,null,null,null,null,null,null,null,"","",{"$f":"IF(OR(\nOR(AND(D1653<>\"\",F1653=\"\"),AND(E1653<>\"\",F1653=\"\")),\nF1653=LEFT(F1653,MIN(FIND(0,SUBSTITUTE(F1653,{1,2,3,4,5,6,7,8,9},0)&0))-1)=FALSE\n),\"Check\",\"\")","v":""},"","",null,"",0,"","","","",""]
["SBSA_1649","SBSA_1649",null,null,null,null,null,null,null,null,null,null,null,null,null,null,null,null,null,null,null,null,null,null,null,null,"","",{"$f":"IF(OR(\nOR(AND(D1658<>\"\",F1658=\"\"),AND(E1658<>\"\",F1658=\"\")),\nF1658=LEFT(F1658,MIN(FIND(0,SUBSTITUTE(F1658,{1,2,3,4,5,6,7,8,9},0)&0))-1)=FALSE\n),\"Check\",\"\")","v":""},"","",null,"",0,"","","","",""]
["SBSA_1651","SBSA_1651",null,null,null,null,null,null,null,null,null,null,null,null,null,null,null,null,null,null,null,null,null,null,null,null,"","",{"$f":"IF(OR(\nOR(AND(D1660<>\"\",F1660=\"\"),AND(E1660<>\"\",F1660=\"\")),\nF1660=LEFT(F1660,MIN(FIND(0,SUBSTITUTE(F1660,{1,2,3,4,5,6,7,8,9},0)&0))-1)=FALSE\n),\"Check\",\"\")","v":""},"","",null,"",0,"","","","",""]
["SBSA_1654","SBSA_1654",null,null,null,null,null,null,null,null,null,null,null,null,null,null,null,null,null,null,null,null,null,null,null,null,"","",{"$f":"IF(OR(\nOR(AND(D1663<>\"\",F1663=\"\"),AND(E1663<>\"\",F1663=\"\")),\nF1663=LEFT(F1663,MIN(FIND(0,SUBSTITUTE(F1663,{1,2,3,4,5,6,7,8,9},0)&0))-1)=FALSE\n),\"Check\",\"\")","v":""},"","",null,"",0,"","","","",""]
["SBSA_1659","SBSA_1659",null,null,null,null,null,null,null,null,null,null,null,null,null,null,null,null,null,null,null,null,null,null,null,null,"","",{"$f":"IF(OR(\nOR(AND(D1668<>\"\",F1668=\"\"),AND(E1668<>\"\",F1668=\"\")),\nF1668=LEFT(F1668,MIN(FIND(0,SUBSTITUTE(F1668,{1,2,3,4,5,6,7,8,9},0)&0))-1)=FALSE\n),\"Check\",\"\")","v":""},"","",null,"",0,"","","","",""]
["SBSA_1664","SBSA_1664",null,null,null,null,null,null,null,null,null,null,null,null,null,null,null,null,null,null,null,null,null,null,null,null,"","",{"$f":"IF(OR(\nOR(AND(D1673<>\"\",F1673=\"\"),AND(E1673<>\"\",F1673=\"\")),\nF1673=LEFT(F1673,MIN(FIND(0,SUBSTITUTE(F1673,{1,2,3,4,5,6,7,8,9},0)&0))-1)=FALSE\n),\"Check\",\"\")","v":""},"","",null,"",0,"","","","",""]
["SBSA_1665","SBSA_1665",null,null,null,null,null,null,null,null,null,null,null,null,null,null,null,null,null,null,null,null,null,null,null,null,"","",{"$f":"IF(OR(\nOR(AND(D1674<>\"\",F1674=\"\"),AND(E1674<>\"\",F1674=\"\")),\nF1674=LEFT(F1674,MIN(FIND(0,SUBSTITUTE(F1674,{1,2,3,4,5,6,7,8,9},0)&0))-1)=FALSE\n),\"Check\",\"\")","v":""},"","",null,"",0,"","","","",""]
["SBSA_1669","SBSA_1669",null,null,null,null,null,null,null,null,null,null,null,null,null,null,null,null,null,null,null,null,null,null,null,null,"","",{"$f":"IF(OR(\nOR(AND(D1678<>\"\",F1678=\"\"),AND(E1678<>\"\",F1678=\"\")),\nF1678=LEFT(F1678,MIN(FIND(0,SUBSTITUTE(F1678,{1,2,3,4,5,6,7,8,9},0)&0))-1)=FALSE\n),\"Check\",\"\")","v":""},"","",null,"",0,"","","","",""]
["SBSA_1674","SBSA_1674",null,null,null,null,null,null,null,null,null,null,null,null,null,null,null,null,null,null,null,null,null,null,null,null,"","",{"$f":"IF(OR(\nOR(AND(D1683<>\"\",F1683=\"\"),AND(E1683<>\"\",F1683=\"\")),\nF1683=LEFT(F1683,MIN(FIND(0,SUBSTITUTE(F1683,{1,2,3,4,5,6,7,8,9},0)&0))-1)=FALSE\n),\"Check\",\"\")","v":""},"","",null,"",0,"","","","",""]
["SBSA_1679","SBSA_1679",null,null,null,null,null,null,null,null,null,null,null,null,null,null,null,null,null,null,null,null,null,null,null,null,"","",{"$f":"IF(OR(\nOR(AND(D1688<>\"\",F1688=\"\"),AND(E1688<>\"\",F1688=\"\")),\nF1688=LEFT(F1688,MIN(FIND(0,SUBSTITUTE(F1688,{1,2,3,4,5,6,7,8,9},0)&0))-1)=FALSE\n),\"Check\",\"\")","v":""},"","",null,"",0,"","","","",""]
["SBSA_1681","SBSA_1681",null,null,null,null,null,null,null,null,null,null,null,null,null,null,null,null,null,null,null,null,null,null,null,null,"","",{"$f":"IF(OR(\nOR(AND(D1690<>\"\",F1690=\"\"),AND(E1690<>\"\",F1690=\"\")),\nF1690=LEFT(F1690,MIN(FIND(0,SUBSTITUTE(F1690,{1,2,3,4,5,6,7,8,9},0)&0))-1)=FALSE\n),\"Check\",\"\")","v":""},"","",null,"",0,"","","","",""]
["SBSA_1684","SBSA_1684",null,null,null,null,null,null,null,null,null,null,null,null,null,null,null,null,null,null,null,null,null,null,null,null,"","",{"$f":"IF(OR(\nOR(AND(D1693<>\"\",F1693=\"\"),AND(E1693<>\"\",F1693=\"\")),\nF1693=LEFT(F1693,MIN(FIND(0,SUBSTITUTE(F1693,{1,2,3,4,5,6,7,8,9},0)&0))-1)=FALSE\n),\"Check\",\"\")","v":""},"","",null,"",0,"","","","",""]
["SBSA_1689","SBSA_1689",null,null,null,null,null,null,null,null,null,null,null,null,null,null,null,null,null,null,null,null,null,null,null,null,"","",{"$f":"IF(OR(\nOR(AND(D1698<>\"\",F1698=\"\"),AND(E1698<>\"\",F1698=\"\")),\nF1698=LEFT(F1698,MIN(FIND(0,SUBSTITUTE(F1698,{1,2,3,4,5,6,7,8,9},0)&0))-1)=FALSE\n),\"Check\",\"\")","v":""},"","",null,"",0,"","","","",""]
["SBSA_1694","SBSA_1694",null,null,null,null,null,null,null,null,null,null,null,null,null,null,null,null,null,null,null,null,null,null,null,null,"","",{"$f":"IF(OR(\nOR(AND(D1703<>\"\",F1703=\"\"),AND(E1703<>\"\",F1703=\"\")),\nF1703=LEFT(F1703,MIN(FIND(0,SUBSTITUTE(F1703,{1,2,3,4,5,6,7,8,9},0)&0))-1)=FALSE\n),\"Check\",\"\")","v":""},"","",null,"",0,"","","","",""]
["SBSA_1695","SBSA_1695",null,null,null,null,null,null,null,null,null,null,null,null,null,null,null,null,null,null,null,null,null,null,null,null,"","",{"$f":"IF(OR(\nOR(AND(D1704<>\"\",F1704=\"\"),AND(E1704<>\"\",F1704=\"\")),\nF1704=LEFT(F1704,MIN(FIND(0,SUBSTITUTE(F1704,{1,2,3,4,5,6,7,8,9},0)&0))-1)=FALSE\n),\"Check\",\"\")","v":""},"","",null,"",0,"","","","",""]
["SBSA_1699","SBSA_1699",null,null,null,null,null,null,null,null,null,null,null,null,null,null,null,null,null,null,null,null,null,null,null,null,"","",{"$f":"IF(OR(\nOR(AND(D1708<>\"\",F1708=\"\"),AND(E1708<>\"\",F1708=\"\")),\nF1708=LEFT(F1708,MIN(FIND(0,SUBSTITUTE(F1708,{1,2,3,4,5,6,7,8,9},0)&0))-1)=FALSE\n),\"Check\",\"\")","v":""},"","",null,"",0,"","","","",""]
["SBSA_1704","SBSA_1704",null,null,null,null,null,null,null,null,null,null,null,null,null,null,null,null,null,null,null,null,null,null,null,null,"","",{"$f":"IF(OR(\nOR(AND(D1713<>\"\",F1713=\"\"),AND(E1713<>\"\",F1713=\"\")),\nF1713=LEFT(F1713,MIN(FIND(0,SUBSTITUTE(F1713,{1,2,3,4,5,6,7,8,9},0)&0))-1)=FALSE\n),\"Check\",\"\")","v":""},"","",null,"",0,"","","","",""]
["SBSA_1709","SBSA_1709",null,null,null,null,null,null,null,null,null,null,null,null,null,null,null,null,null,null,null,null,null,null,null,null,"","",{"$f":"IF(OR(\nOR(AND(D1718<>\"\",F1718=\"\"),AND(E1718<>\"\",F1718=\"\")),\nF1718=LEFT(F1718,MIN(FIND(0,SUBSTITUTE(F1718,{1,2,3,4,5,6,7,8,9},0)&0))-1)=FALSE\n),\"Check\",\"\")","v":""},"","",null,"",0,"","","","",""]
["SBSA_1711","SBSA_1711",null,null,null,null,null,null,null,null,null,null,null,null,null,null,null,null,null,null,null,null,null,null,null,null,"","",{"$f":"IF(OR(\nOR(AND(D1720<>\"\",F1720=\"\"),AND(E1720<>\"\",F1720=\"\")),\nF1720=LEFT(F1720,MIN(FIND(0,SUBSTITUTE(F1720,{1,2,3,4,5,6,7,8,9},0)&0))-1)=FALSE\n),\"Check\",\"\")","v":""},"","",null,"",0,"","","","",""]
["SBSA_1714","SBSA_1714",null,null,null,null,null,null,null,null,null,null,null,null,null,null,null,null,null,null,null,null,null,null,null,null,"","",{"$f":"IF(OR(\nOR(AND(D1723<>\"\",F1723=\"\"),AND(E1723<>\"\",F1723=\"\")),\nF1723=LEFT(F1723,MIN(FIND(0,SUBSTITUTE(F1723,{1,2,3,4,5,6,7,8,9},0)&0))-1)=FALSE\n),\"Check\",\"\")","v":""},"","",null,"",0,"","","","",""]
["SBSA_1719","SBSA_1719",null,null,null,null,null,null,null,null,null,null,null,null,null,null,null,null,null,null,null,null,null,null,null,null,"","",{"$f":"IF(OR(\nOR(AND(D1728<>\"\",F1728=\"\"),AND(E1728<>\"\",F1728=\"\")),\nF1728=LEFT(F1728,MIN(FIND(0,SUBSTITUTE(F1728,{1,2,3,4,5,6,7,8,9},0)&0))-1)=FALSE\n),\"Check\",\"\")","v":""},"","",null,"",0,"","","","",""]
["SBSA_1724","SBSA_1724",null,null,null,null,null,null,null,null,null,null,null,null,null,null,null,null,null,null,null,null,null,null,null,null,"","",{"$f":"IF(OR(\nOR(AND(D1733<>\"\",F1733=\"\"),AND(E1733<>\"\",F1733=\"\")),\nF1733=LEFT(F1733,MIN(FIND(0,SUBSTITUTE(F1733,{1,2,3,4,5,6,7,8,9},0)&0))-1)=FALSE\n),\"Check\",\"\")","v":""},"","",null,"",0,"","","","",""]
["SBSA_1725","SBSA_1725",null,null,null,null,null,null,null,null,null,null,null,null,null,null,null,null,null,null,null,null,null,null,null,null,"","",{"$f":"IF(OR(\nOR(AND(D1734<>\"\",F1734=\"\"),AND(E1734<>\"\",F1734=\"\")),\nF1734=LEFT(F1734,MIN(FIND(0,SUBSTITUTE(F1734,{1,2,3,4,5,6,7,8,9},0)&0))-1)=FALSE\n),\"Check\",\"\")","v":""},"","",null,"",0,"","","","",""]
["SBSA_1729","SBSA_1729",null,null,null,null,null,null,null,null,null,null,null,null,null,null,null,null,null,null,null,null,null,null,null,null,"","",{"$f":"IF(OR(\nOR(AND(D1738<>\"\",F1738=\"\"),AND(E1738<>\"\",F1738=\"\")),\nF1738=LEFT(F1738,MIN(FIND(0,SUBSTITUTE(F1738,{1,2,3,4,5,6,7,8,9},0)&0))-1)=FALSE\n),\"Check\",\"\")","v":""},"","",null,"",0,"","","","",""]
["SBSA_1734","SBSA_1734",null,null,null,null,null,null,null,null,null,null,null,null,null,null,null,null,null,null,null,null,null,null,null,null,"","",{"$f":"IF(OR(\nOR(AND(D1743<>\"\",F1743=\"\"),AND(E1743<>\"\",F1743=\"\")),\nF1743=LEFT(F1743,MIN(FIND(0,SUBSTITUTE(F1743,{1,2,3,4,5,6,7,8,9},0)&0))-1)=FALSE\n),\"Check\",\"\")","v":""},"","",null,"",0,"","","","",""]
["SBSA_1739","SBSA_1739",null,null,null,null,null,null,null,null,null,null,null,null,null,null,null,null,null,null,null,null,null,null,null,null,"","",{"$f":"IF(OR(\nOR(AND(D1748<>\"\",F1748=\"\"),AND(E1748<>\"\",F1748=\"\")),\nF1748=LEFT(F1748,MIN(FIND(0,SUBSTITUTE(F1748,{1,2,3,4,5,6,7,8,9},0)&0))-1)=FALSE\n),\"Check\",\"\")","v":""},"","",null,"",0,"","","","",""]
["SBSA_1740","SBSA_1740",null,null,null,null,null,null,null,null,null,null,null,null,null,null,null,null,null,null,null,null,null,null,null,null,"","",{"$f":"IF(OR(\nOR(AND(D1749<>\"\",F1749=\"\"),AND(E1749<>\"\",F1749=\"\")),\nF1749=LEFT(F1749,MIN(FIND(0,SUBSTITUTE(F1749,{1,2,3,4,5,6,7,8,9},0)&0))-1)=FALSE\n),\"Check\",\"\")","v":""},"","",null,"",0,"","","","",""]
["SBSA_1746","SBSA_1746",null,null,null,null,null,null,null,null,null,null,null,null,null,null,null,null,null,null,null,null,null,null,null,null,"","",{"$f":"IF(OR(\nOR(AND(D1755<>\"\",F1755=\"\"),AND(E1755<>\"\",F1755=\"\")),\nF1755=LEFT(F1755,MIN(FIND(0,SUBSTITUTE(F1755,{1,2,3,4,5,6,7,8,9},0)&0))-1)=FALSE\n),\"Check\",\"\")","v":""},"","",null,"",0,"","","","",""]
["SBSA_1749","SBSA_1749",null,null,null,null,null,null,null,null,null,null,null,null,null,null,null,null,null,null,null,null,null,null,null,null,"","",{"$f":"IF(OR(\nOR(AND(D1758<>\"\",F1758=\"\"),AND(E1758<>\"\",F1758=\"\")),\nF1758=LEFT(F1758,MIN(FIND(0,SUBSTITUTE(F1758,{1,2,3,4,5,6,7,8,9},0)&0))-1)=FALSE\n),\"Check\",\"\")","v":""},"","",null,"",0,"","","","",""]
["SBSA_1754","SBSA_1754",null,null,null,null,null,null,null,null,null,null,null,null,null,null,null,null,null,null,null,null,null,null,null,null,"","",{"$f":"IF(OR(\nOR(AND(D1763<>\"\",F1763=\"\"),AND(E1763<>\"\",F1763=\"\")),\nF1763=LEFT(F1763,MIN(FIND(0,SUBSTITUTE(F1763,{1,2,3,4,5,6,7,8,9},0)&0))-1)=FALSE\n),\"Check\",\"\")","v":""},"","",null,"",0,"","","","",""]
["SBSA_1755","SBSA_1755",null,null,null,null,null,null,null,null,null,null,null,null,null,null,null,null,null,null,null,null,null,null,null,null,"","",{"$f":"IF(OR(\nOR(AND(D1764<>\"\",F1764=\"\"),AND(E1764<>\"\",F1764=\"\")),\nF1764=LEFT(F1764,MIN(FIND(0,SUBSTITUTE(F1764,{1,2,3,4,5,6,7,8,9},0)&0))-1)=FALSE\n),\"Check\",\"\")","v":""},"","",null,"",0,"","","","",""]
["SBSA_1759","SBSA_1759",null,null,null,null,null,null,null,null,null,null,null,null,null,null,null,null,null,null,null,null,null,null,null,null,"","",{"$f":"IF(OR(\nOR(AND(D1768<>\"\",F1768=\"\"),AND(E1768<>\"\",F1768=\"\")),\nF1768=LEFT(F1768,MIN(FIND(0,SUBSTITUTE(F1768,{1,2,3,4,5,6,7,8,9},0)&0))-1)=FALSE\n),\"Check\",\"\")","v":""},"","",null,"",0,"","","","",""]
["SBSA_1764","SBSA_1764",null,null,null,null,null,null,null,null,null,null,null,null,null,null,null,null,null,null,null,null,null,null,null,null,{"$f":"IF(AND(C1773=\"\",OR(D1773<>\"\",E1773<>\"\",F1773<>\"\",G1773<>\"\")),\"Check\",\"\")","v":""},{"$f":"IF(AND(C1773<>\"\",OR(AND(D1773=\"\",E1773=\"\"),AND(D1773=0,E1773=0),AND(ABS(D1773)>0,ABS(E1773)>0))),\"Check\",\"\")","v":""},{"$f":"IF(OR(\nOR(AND(D1773<>\"\",F1773=\"\"),AND(E1773<>\"\",F1773=\"\")),\nF1773=LEFT(F1773,MIN(FIND(0,SUBSTITUTE(F1773,{1,2,3,4,5,6,7,8,9},0)&0))-1)=FALSE\n),\"Check\",\"\")","v":""},{"$f":"IF(OR(E1773=\"\",G1773=\"\"),\"\",(E1773*G1773)/100)","v":""},{"$f":"IF(AND(F1773<>\"\",G1773=\"\"),\"Check\",\"\")","v":""},null,{"$f":"IF(C1773=\"\",\"\",C1773&\"_\"&IF(G1773=\"\",0,G1773))","v":""},{"$f":"IF(COUNTBLANK(C1773:G1773)<5,1,0)","v":0},{"$f":"IF(C1773=\"\",\"\",IF(LEN(C1773)=12,\"\",\"Check\"))","v":""},{"$f":"IF(C1773=\"\",\"\",IF(COUNTIF(C$10:C$65536,C1773)=COUNTIF(AG$10:AG$65536,AG1773),\"\",\"Check\"))","v":""},{"$f":"IF(F1773=\"\",\"\",IF(LEN(F1773)=3,\"\",\"Check\"))","v":""},{"$f":"IF(OR(IF(D1773=\"\",\"\",IF(ISNUMBER(D1773)=TRUE,\"\",\"TEXT\"))=\"TEXT\",IF(E1773=\"\",\"\",IF(ISNUMBER(E1773)=TRUE,\"\",\"TEXT\"))=\"TEXT\",IF(G1773=\"\",\"\",IF(ISNUMBER(G1773)=TRUE,\"\",\"TEXT\"))=\"TEXT\"),\"Check\",\"\")","v":""},{"$f":"IF(G1773<0,\"Check\",\"\")","v":""}]
["SBSA_1769","SBSA_1769",null,null,null,null,null,null,null,null,null,null,null,null,null,null,null,null,null,null,null,null,null,null,null,null,"","",{"$f":"IF(OR(\nOR(AND(D1778<>\"\",F1778=\"\"),AND(E1778<>\"\",F1778=\"\")),\nF1778=LEFT(F1778,MIN(FIND(0,SUBSTITUTE(F1778,{1,2,3,4,5,6,7,8,9},0)&0))-1)=FALSE\n),\"Check\",\"\")","v":""},"","",null,"",0,"","","","",""]
["SBSA_1770","SBSA_1770",null,null,null,null,null,null,null,null,null,null,null,null,null,null,null,null,null,null,null,null,null,null,null,null,"","",{"$f":"IF(OR(\nOR(AND(D1779<>\"\",F1779=\"\"),AND(E1779<>\"\",F1779=\"\")),\nF1779=LEFT(F1779,MIN(FIND(0,SUBSTITUTE(F1779,{1,2,3,4,5,6,7,8,9},0)&0))-1)=FALSE\n),\"Check\",\"\")","v":""},"","",null,"",0,"","","","",""]
["SBSA_1776","SBSA_1776",null,null,null,null,null,null,null,null,null,null,null,null,null,null,null,null,null,null,null,null,null,null,null,null,"","",{"$f":"IF(OR(\nOR(AND(D1785<>\"\",F1785=\"\"),AND(E1785<>\"\",F1785=\"\")),\nF1785=LEFT(F1785,MIN(FIND(0,SUBSTITUTE(F1785,{1,2,3,4,5,6,7,8,9},0)&0))-1)=FALSE\n),\"Check\",\"\")","v":""},"","",null,"",0,"","","","",""]
["SBSA_1779","SBSA_1779",null,null,null,null,null,null,null,null,null,null,null,null,null,null,null,null,null,null,null,null,null,null,null,null,"","",{"$f":"IF(OR(\nOR(AND(D1788<>\"\",F1788=\"\"),AND(E1788<>\"\",F1788=\"\")),\nF1788=LEFT(F1788,MIN(FIND(0,SUBSTITUTE(F1788,{1,2,3,4,5,6,7,8,9},0)&0))-1)=FALSE\n),\"Check\",\"\")","v":""},"","",null,"",0,"","","","",""]
["SBSA_1784","SBSA_1784",null,null,null,null,null,null,null,null,null,null,null,null,null,null,null,null,null,null,null,null,null,null,null,null,"","",{"$f":"IF(OR(\nOR(AND(D1793<>\"\",F1793=\"\"),AND(E1793<>\"\",F1793=\"\")),\nF1793=LEFT(F1793,MIN(FIND(0,SUBSTITUTE(F1793,{1,2,3,4,5,6,7,8,9},0)&0))-1)=FALSE\n),\"Check\",\"\")","v":""},"","",null,"",0,"","","","",""]
["SBSA_1785","SBSA_1785",null,null,null,null,null,null,null,null,null,null,null,null,null,null,null,null,null,null,null,null,null,null,null,null,"","",{"$f":"IF(OR(\nOR(AND(D1794<>\"\",F1794=\"\"),AND(E1794<>\"\",F1794=\"\")),\nF1794=LEFT(F1794,MIN(FIND(0,SUBSTITUTE(F1794,{1,2,3,4,5,6,7,8,9},0)&0))-1)=FALSE\n),\"Check\",\"\")","v":""},"","",null,"",0,"","","","",""]
["SBSA_1789","SBSA_1789",null,null,null,null,null,null,null,null,null,null,null,null,null,null,null,null,null,null,null,null,null,null,null,null,"","",{"$f":"IF(OR(\nOR(AND(D1798<>\"\",F1798=\"\"),AND(E1798<>\"\",F1798=\"\")),\nF1798=LEFT(F1798,MIN(FIND(0,SUBSTITUTE(F1798,{1,2,3,4,5,6,7,8,9},0)&0))-1)=FALSE\n),\"Check\",\"\")","v":""},"","",null,"",0,"","","","",""]
["SBSA_1794","SBSA_1794",null,null,null,null,null,null,null,null,null,null,null,null,null,null,null,null,null,null,null,null,null,null,null,null,"","",{"$f":"IF(OR(\nOR(AND(D1803<>\"\",F1803=\"\"),AND(E1803<>\"\",F1803=\"\")),\nF1803=LEFT(F1803,MIN(FIND(0,SUBSTITUTE(F1803,{1,2,3,4,5,6,7,8,9},0)&0))-1)=FALSE\n),\"Check\",\"\")","v":""},"","",null,"",0,"","","","",""]
["SBSA_1799","SBSA_1799",null,null,null,null,null,null,null,null,null,null,null,null,null,null,null,null,null,null,null,null,null,null,null,null,"","",{"$f":"IF(OR(\nOR(AND(D1808<>\"\",F1808=\"\"),AND(E1808<>\"\",F1808=\"\")),\nF1808=LEFT(F1808,MIN(FIND(0,SUBSTITUTE(F1808,{1,2,3,4,5,6,7,8,9},0)&0))-1)=FALSE\n),\"Check\",\"\")","v":""},"","",null,"",0,"","","","",""]
["SBSA_1800","SBSA_1800",null,null,null,null,null,null,null,null,null,null,null,null,null,null,null,null,null,null,null,null,null,null,null,null,"","",{"$f":"IF(OR(\nOR(AND(D1809<>\"\",F1809=\"\"),AND(E1809<>\"\",F1809=\"\")),\nF1809=LEFT(F1809,MIN(FIND(0,SUBSTITUTE(F1809,{1,2,3,4,5,6,7,8,9},0)&0))-1)=FALSE\n),\"Check\",\"\")","v":""},"","",null,"",0,"","","","",""]
["SBSA_1806","SBSA_1806",null,null,null,null,null,null,null,null,null,null,null,null,null,null,null,null,null,null,null,null,null,null,null,null,"","",{"$f":"IF(OR(\nOR(AND(D1815<>\"\",F1815=\"\"),AND(E1815<>\"\",F1815=\"\")),\nF1815=LEFT(F1815,MIN(FIND(0,SUBSTITUTE(F1815,{1,2,3,4,5,6,7,8,9},0)&0))-1)=FALSE\n),\"Check\",\"\")","v":""},"","",null,"",0,"","","","",""]
["SBSA_1809","SBSA_1809",null,null,null,null,null,null,null,null,null,null,null,null,null,null,null,null,null,null,null,null,null,null,null,null,"","",{"$f":"IF(OR(\nOR(AND(D1818<>\"\",F1818=\"\"),AND(E1818<>\"\",F1818=\"\")),\nF1818=LEFT(F1818,MIN(FIND(0,SUBSTITUTE(F1818,{1,2,3,4,5,6,7,8,9},0)&0))-1)=FALSE\n),\"Check\",\"\")","v":""},"","",null,"",0,"","","","",""]
["SBSA_1814","SBSA_1814",null,null,null,null,null,null,null,null,null,null,null,null,null,null,null,null,null,null,null,null,null,null,null,null,"","",{"$f":"IF(OR(\nOR(AND(D1823<>\"\",F1823=\"\"),AND(E1823<>\"\",F1823=\"\")),\nF1823=LEFT(F1823,MIN(FIND(0,SUBSTITUTE(F1823,{1,2,3,4,5,6,7,8,9},0)&0))-1)=FALSE\n),\"Check\",\"\")","v":""},"","",null,"",0,"","","","",""]
["SBSA_1815","SBSA_1815",null,null,null,null,null,null,null,null,null,null,null,null,null,null,null,null,null,null,null,null,null,null,null,null,"","",{"$f":"IF(OR(\nOR(AND(D1824<>\"\",F1824=\"\"),AND(E1824<>\"\",F1824=\"\")),\nF1824=LEFT(F1824,MIN(FIND(0,SUBSTITUTE(F1824,{1,2,3,4,5,6,7,8,9},0)&0))-1)=FALSE\n),\"Check\",\"\")","v":""},"","",null,"",0,"","","","",""]
["SBSA_1820","SBSA_1820",null,null,null,null,null,null,null,null,null,null,null,null,null,null,null,null,null,null,null,null,null,null,null,null,"","",{"$f":"IF(OR(\nOR(AND(D1829<>\"\",F1829=\"\"),AND(E1829<>\"\",F1829=\"\")),\nF1829=LEFT(F1829,MIN(FIND(0,SUBSTITUTE(F1829,{1,2,3,4,5,6,7,8,9},0)&0))-1)=FALSE\n),\"Check\",\"\")","v":""},"","",null,"",0,"","","","",""]
["SBSA_1824","SBSA_1824",null,null,null,null,null,null,null,null,null,null,null,null,null,null,null,null,null,null,null,null,null,null,null,null,"","",{"$f":"IF(OR(\nOR(AND(D1833<>\"\",F1833=\"\"),AND(E1833<>\"\",F1833=\"\")),\nF1833=LEFT(F1833,MIN(FIND(0,SUBSTITUTE(F1833,{1,2,3,4,5,6,7,8,9},0)&0))-1)=FALSE\n),\"Check\",\"\")","v":""},"","",null,"",0,"","","","",""]
["SBSA_1829","SBSA_1829",null,null,null,null,null,null,null,null,null,null,null,null,null,null,null,null,null,null,null,null,null,null,null,null,"","",{"$f":"IF(OR(\nOR(AND(D1838<>\"\",F1838=\"\"),AND(E1838<>\"\",F1838=\"\")),\nF1838=LEFT(F1838,MIN(FIND(0,SUBSTITUTE(F1838,{1,2,3,4,5,6,7,8,9},0)&0))-1)=FALSE\n),\"Check\",\"\")","v":""},"","",null,"",0,"","","","",""]
["SBSA_1830","SBSA_1830",null,null,null,null,null,null,null,null,null,null,null,null,null,null,null,null,null,null,null,null,null,null,null,null,"","",{"$f":"IF(OR(\nOR(AND(D1839<>\"\",F1839=\"\"),AND(E1839<>\"\",F1839=\"\")),\nF1839=LEFT(F1839,MIN(FIND(0,SUBSTITUTE(F1839,{1,2,3,4,5,6,7,8,9},0)&0))-1)=FALSE\n),\"Check\",\"\")","v":""},"","",null,"",0,"","","","",""]
["SBSA_1835","SBSA_1835",null,null,null,null,null,null,null,null,null,null,null,null,null,null,null,null,null,null,null,null,null,null,null,null,"","",{"$f":"IF(OR(\nOR(AND(D1844<>\"\",F1844=\"\"),AND(E1844<>\"\",F1844=\"\")),\nF1844=LEFT(F1844,MIN(FIND(0,SUBSTITUTE(F1844,{1,2,3,4,5,6,7,8,9},0)&0))-1)=FALSE\n),\"Check\",\"\")","v":""},"","",null,"",0,"","","","",""]
["SBSA_1840","SBSA_1840",null,null,null,null,null,null,null,null,null,null,null,null,null,null,null,null,null,null,null,null,null,null,null,null,"","",{"$f":"IF(OR(\nOR(AND(D1849<>\"\",F1849=\"\"),AND(E1849<>\"\",F1849=\"\")),\nF1849=LEFT(F1849,MIN(FIND(0,SUBSTITUTE(F1849,{1,2,3,4,5,6,7,8,9},0)&0))-1)=FALSE\n),\"Check\",\"\")","v":""},"","",null,"",0,"","","","",""]
["SBSA_1844","SBSA_1844",null,null,null,null,null,null,null,null,null,null,null,null,null,null,null,null,null,null,null,null,null,null,null,null,"","",{"$f":"IF(OR(\nOR(AND(D1853<>\"\",F1853=\"\"),AND(E1853<>\"\",F1853=\"\")),\nF1853=LEFT(F1853,MIN(FIND(0,SUBSTITUTE(F1853,{1,2,3,4,5,6,7,8,9},0)&0))-1)=FALSE\n),\"Check\",\"\")","v":""},"","",null,"",0,"","","","",""]
["SBSA_1845","SBSA_1845",null,null,null,null,null,null,null,null,null,null,null,null,null,null,null,null,null,null,null,null,null,null,null,null,"","",{"$f":"IF(OR(\nOR(AND(D1854<>\"\",F1854=\"\"),AND(E1854<>\"\",F1854=\"\")),\nF1854=LEFT(F1854,MIN(FIND(0,SUBSTITUTE(F1854,{1,2,3,4,5,6,7,8,9},0)&0))-1)=FALSE\n),\"Check\",\"\")","v":""},"","",null,"",0,"","","","",""]
["SBSA_1850","SBSA_1850",null,null,null,null,null,null,null,null,null,null,null,null,null,null,null,null,null,null,null,null,null,null,null,null,"","",{"$f":"IF(OR(\nOR(AND(D1859<>\"\",F1859=\"\"),AND(E1859<>\"\",F1859=\"\")),\nF1859=LEFT(F1859,MIN(FIND(0,SUBSTITUTE(F1859,{1,2,3,4,5,6,7,8,9},0)&0))-1)=FALSE\n),\"Check\",\"\")","v":""},"","",null,"",0,"","","","",""]
["SBSA_1854","SBSA_1854",null,null,null,null,null,null,null,null,null,null,null,null,null,null,null,null,null,null,null,null,null,null,null,null,"","",{"$f":"IF(OR(\nOR(AND(D1863<>\"\",F1863=\"\"),AND(E1863<>\"\",F1863=\"\")),\nF1863=LEFT(F1863,MIN(FIND(0,SUBSTITUTE(F1863,{1,2,3,4,5,6,7,8,9},0)&0))-1)=FALSE\n),\"Check\",\"\")","v":""},"","",null,"",0,"","","","",""]
["SBSA_1859","SBSA_1859",null,null,null,null,null,null,null,null,null,null,null,null,null,null,null,null,null,null,null,null,null,null,null,null,"","",{"$f":"IF(OR(\nOR(AND(D1868<>\"\",F1868=\"\"),AND(E1868<>\"\",F1868=\"\")),\nF1868=LEFT(F1868,MIN(FIND(0,SUBSTITUTE(F1868,{1,2,3,4,5,6,7,8,9},0)&0))-1)=FALSE\n),\"Check\",\"\")","v":""},"","",null,"",0,"","","","",""]
["SBSA_1860","SBSA_1860",null,null,null,null,null,null,null,null,null,null,null,null,null,null,null,null,null,null,null,null,null,null,null,null,"","",{"$f":"IF(OR(\nOR(AND(D1869<>\"\",F1869=\"\"),AND(E1869<>\"\",F1869=\"\")),\nF1869=LEFT(F1869,MIN(FIND(0,SUBSTITUTE(F1869,{1,2,3,4,5,6,7,8,9},0)&0))-1)=FALSE\n),\"Check\",\"\")","v":""},"","",null,"",0,"","","","",""]
["SBSA_1865","SBSA_1865",null,null,null,null,null,null,null,null,null,null,null,null,null,null,null,null,null,null,null,null,null,null,null,null,"","",{"$f":"IF(OR(\nOR(AND(D1874<>\"\",F1874=\"\"),AND(E1874<>\"\",F1874=\"\")),\nF1874=LEFT(F1874,MIN(FIND(0,SUBSTITUTE(F1874,{1,2,3,4,5,6,7,8,9},0)&0))-1)=FALSE\n),\"Check\",\"\")","v":""},"","",null,"",0,"","","","",""]
["SBSA_1870","SBSA_1870",null,null,null,null,null,null,null,null,null,null,null,null,null,null,null,null,null,null,null,null,null,null,null,null,"","",{"$f":"IF(OR(\nOR(AND(D1879<>\"\",F1879=\"\"),AND(E1879<>\"\",F1879=\"\")),\nF1879=LEFT(F1879,MIN(FIND(0,SUBSTITUTE(F1879,{1,2,3,4,5,6,7,8,9},0)&0))-1)=FALSE\n),\"Check\",\"\")","v":""},"","",null,"",0,"","","","",""]
["SBSA_1874","SBSA_1874",null,null,null,null,null,null,null,null,null,null,null,null,null,null,null,null,null,null,null,null,null,null,null,null,"","",{"$f":"IF(OR(\nOR(AND(D1883<>\"\",F1883=\"\"),AND(E1883<>\"\",F1883=\"\")),\nF1883=LEFT(F1883,MIN(FIND(0,SUBSTITUTE(F1883,{1,2,3,4,5,6,7,8,9},0)&0))-1)=FALSE\n),\"Check\",\"\")","v":""},"","",null,"",0,"","","","",""]
["SBSA_1875","SBSA_1875",null,null,null,null,null,null,null,null,null,null,null,null,null,null,null,null,null,null,null,null,null,null,null,null,"","",{"$f":"IF(OR(\nOR(AND(D1884<>\"\",F1884=\"\"),AND(E1884<>\"\",F1884=\"\")),\nF1884=LEFT(F1884,MIN(FIND(0,SUBSTITUTE(F1884,{1,2,3,4,5,6,7,8,9},0)&0))-1)=FALSE\n),\"Check\",\"\")","v":""},"","",null,"",0,"","","","",""]
["SBSA_1880","SBSA_1880",null,null,null,null,null,null,null,null,null,null,null,null,null,null,null,null,null,null,null,null,null,null,null,null,"","",{"$f":"IF(OR(\nOR(AND(D1889<>\"\",F1889=\"\"),AND(E1889<>\"\",F1889=\"\")),\nF1889=LEFT(F1889,MIN(FIND(0,SUBSTITUTE(F1889,{1,2,3,4,5,6,7,8,9},0)&0))-1)=FALSE\n),\"Check\",\"\")","v":""},"","",null,"",0,"","","","",""]
["SBSA_1884","SBSA_1884",null,null,null,null,null,null,null,null,null,null,null,null,null,null,null,null,null,null,null,null,null,null,null,null,"","",{"$f":"IF(OR(\nOR(AND(D1893<>\"\",F1893=\"\"),AND(E1893<>\"\",F1893=\"\")),\nF1893=LEFT(F1893,MIN(FIND(0,SUBSTITUTE(F1893,{1,2,3,4,5,6,7,8,9},0)&0))-1)=FALSE\n),\"Check\",\"\")","v":""},"","",null,"",0,"","","","",""]
["SBSA_1889","SBSA_1889",null,null,null,null,null,null,null,null,null,null,null,null,null,null,null,null,null,null,null,null,null,null,null,null,"","",{"$f":"IF(OR(\nOR(AND(D1898<>\"\",F1898=\"\"),AND(E1898<>\"\",F1898=\"\")),\nF1898=LEFT(F1898,MIN(FIND(0,SUBSTITUTE(F1898,{1,2,3,4,5,6,7,8,9},0)&0))-1)=FALSE\n),\"Check\",\"\")","v":""},"","",null,"",0,"","","","",""]
["SBSA_1890","SBSA_1890",null,null,null,null,null,null,null,null,null,null,null,null,null,null,null,null,null,null,null,null,null,null,null,null,"","",{"$f":"IF(OR(\nOR(AND(D1899<>\"\",F1899=\"\"),AND(E1899<>\"\",F1899=\"\")),\nF1899=LEFT(F1899,MIN(FIND(0,SUBSTITUTE(F1899,{1,2,3,4,5,6,7,8,9},0)&0))-1)=FALSE\n),\"Check\",\"\")","v":""},"","",null,"",0,"","","","",""]
["SBSA_1895","SBSA_1895",null,null,null,null,null,null,null,null,null,null,null,null,null,null,null,null,null,null,null,null,null,null,null,null,"","",{"$f":"IF(OR(\nOR(AND(D1904<>\"\",F1904=\"\"),AND(E1904<>\"\",F1904=\"\")),\nF1904=LEFT(F1904,MIN(FIND(0,SUBSTITUTE(F1904,{1,2,3,4,5,6,7,8,9},0)&0))-1)=FALSE\n),\"Check\",\"\")","v":""},"","",null,"",0,"","","","",""]
["SBSA_1898","SBSA_1898",null,null,null,null,null,null,null,null,null,null,null,null,null,null,null,null,null,null,null,null,null,null,null,null,"","",{"$f":"IF(OR(\nOR(AND(D1907<>\"\",F1907=\"\"),AND(E1907<>\"\",F1907=\"\")),\nF1907=LEFT(F1907,MIN(FIND(0,SUBSTITUTE(F1907,{1,2,3,4,5,6,7,8,9},0)&0))-1)=FALSE\n),\"Check\",\"\")","v":""},"","",null,"",0,"","","","",""]
["SBSA_1904","SBSA_1904",null,null,null,null,null,null,null,null,null,null,null,null,null,null,null,null,null,null,null,null,null,null,null,null,"","",{"$f":"IF(OR(\nOR(AND(D1913<>\"\",F1913=\"\"),AND(E1913<>\"\",F1913=\"\")),\nF1913=LEFT(F1913,MIN(FIND(0,SUBSTITUTE(F1913,{1,2,3,4,5,6,7,8,9},0)&0))-1)=FALSE\n),\"Check\",\"\")","v":""},"","",null,"",0,"","","","",""]
["SBSA_1905","SBSA_1905",null,null,null,null,null,null,null,null,null,null,null,null,null,null,null,null,null,null,null,null,null,null,null,null,"","",{"$f":"IF(OR(\nOR(AND(D1914<>\"\",F1914=\"\"),AND(E1914<>\"\",F1914=\"\")),\nF1914=LEFT(F1914,MIN(FIND(0,SUBSTITUTE(F1914,{1,2,3,4,5,6,7,8,9},0)&0))-1)=FALSE\n),\"Check\",\"\")","v":""},"","",null,"",0,"","","","",""]
["SBSA_1910","SBSA_1910",null,null,null,null,null,null,null,null,null,null,null,null,null,null,null,null,null,null,null,null,null,null,null,null,"","",{"$f":"IF(OR(\nOR(AND(D1919<>\"\",F1919=\"\"),AND(E1919<>\"\",F1919=\"\")),\nF1919=LEFT(F1919,MIN(FIND(0,SUBSTITUTE(F1919,{1,2,3,4,5,6,7,8,9},0)&0))-1)=FALSE\n),\"Check\",\"\")","v":""},"","",null,"",0,"","","","",""]
["SBSA_1914","SBSA_1914",null,null,null,null,null,null,null,null,null,null,null,null,null,null,null,null,null,null,null,null,null,null,null,null,"","",{"$f":"IF(OR(\nOR(AND(D1923<>\"\",F1923=\"\"),AND(E1923<>\"\",F1923=\"\")),\nF1923=LEFT(F1923,MIN(FIND(0,SUBSTITUTE(F1923,{1,2,3,4,5,6,7,8,9},0)&0))-1)=FALSE\n),\"Check\",\"\")","v":""},"","",null,"",0,"","","","",""]
["SBSA_1919","SBSA_1919",null,null,null,null,null,null,null,null,null,null,null,null,null,null,null,null,null,null,null,null,null,null,null,null,"","",{"$f":"IF(OR(\nOR(AND(D1928<>\"\",F1928=\"\"),AND(E1928<>\"\",F1928=\"\")),\nF1928=LEFT(F1928,MIN(FIND(0,SUBSTITUTE(F1928,{1,2,3,4,5,6,7,8,9},0)&0))-1)=FALSE\n),\"Check\",\"\")","v":""},"","",null,"",0,"","","","",""]
["SBSA_1920","SBSA_1920",null,null,null,null,null,null,null,null,null,null,null,null,null,null,null,null,null,null,null,null,null,null,null,null,"","",{"$f":"IF(OR(\nOR(AND(D1929<>\"\",F1929=\"\"),AND(E1929<>\"\",F1929=\"\")),\nF1929=LEFT(F1929,MIN(FIND(0,SUBSTITUTE(F1929,{1,2,3,4,5,6,7,8,9},0)&0))-1)=FALSE\n),\"Check\",\"\")","v":""},"","",null,"",0,"","","","",""]
["SBSA_1925","SBSA_1925",null,null,null,null,null,null,null,null,null,null,null,null,null,null,null,null,null,null,null,null,null,null,null,null,"","",{"$f":"IF(OR(\nOR(AND(D1934<>\"\",F1934=\"\"),AND(E1934<>\"\",F1934=\"\")),\nF1934=LEFT(F1934,MIN(FIND(0,SUBSTITUTE(F1934,{1,2,3,4,5,6,7,8,9},0)&0))-1)=FALSE\n),\"Check\",\"\")","v":""},"","",null,"",0,"","","","",""]
["SBSA_1930","SBSA_1930",null,null,null,null,null,null,null,null,null,null,null,null,null,null,null,null,null,null,null,null,null,null,null,null,"","",{"$f":"IF(OR(\nOR(AND(D1939<>\"\",F1939=\"\"),AND(E1939<>\"\",F1939=\"\")),\nF1939=LEFT(F1939,MIN(FIND(0,SUBSTITUTE(F1939,{1,2,3,4,5,6,7,8,9},0)&0))-1)=FALSE\n),\"Check\",\"\")","v":""},"","",null,"",0,"","","","",""]
["SBSA_1932","SBSA_1932",null,null,null,null,null,null,null,null,null,null,null,null,null,null,null,null,null,null,null,null,null,null,null,null,"","",{"$f":"IF(OR(\nOR(AND(D1941<>\"\",F1941=\"\"),AND(E1941<>\"\",F1941=\"\")),\nF1941=LEFT(F1941,MIN(FIND(0,SUBSTITUTE(F1941,{1,2,3,4,5,6,7,8,9},0)&0))-1)=FALSE\n),\"Check\",\"\")","v":""},"","",null,"",0,"","","","",""]
["SBSA_1935","SBSA_1935",null,null,null,null,null,null,null,null,null,null,null,null,null,null,null,null,null,null,null,null,null,null,null,null,"","",{"$f":"IF(OR(\nOR(AND(D1944<>\"\",F1944=\"\"),AND(E1944<>\"\",F1944=\"\")),\nF1944=LEFT(F1944,MIN(FIND(0,SUBSTITUTE(F1944,{1,2,3,4,5,6,7,8,9},0)&0))-1)=FALSE\n),\"Check\",\"\")","v":""},"","",null,"",0,"","","","",""]
["SBSA_1940","SBSA_1940",null,null,null,null,null,null,null,null,null,null,null,null,null,null,null,null,null,null,null,null,null,null,null,null,"","",{"$f":"IF(OR(\nOR(AND(D1949<>\"\",F1949=\"\"),AND(E1949<>\"\",F1949=\"\")),\nF1949=LEFT(F1949,MIN(FIND(0,SUBSTITUTE(F1949,{1,2,3,4,5,6,7,8,9},0)&0))-1)=FALSE\n),\"Check\",\"\")","v":""},"","",null,"",0,"","","","",""]
["SBSA_1945","SBSA_1945",null,null,null,null,null,null,null,null,null,null,null,null,null,null,null,null,null,null,null,null,null,null,null,null,"","",{"$f":"IF(OR(\nOR(AND(D1954<>\"\",F1954=\"\"),AND(E1954<>\"\",F1954=\"\")),\nF1954=LEFT(F1954,MIN(FIND(0,SUBSTITUTE(F1954,{1,2,3,4,5,6,7,8,9},0)&0))-1)=FALSE\n),\"Check\",\"\")","v":""},"","",null,"",0,"","","","",""]
["SBSA_1949","SBSA_1949",null,null,null,null,null,null,null,null,null,null,null,null,null,null,null,null,null,null,null,null,null,null,null,null,"","",{"$f":"IF(OR(\nOR(AND(D1958<>\"\",F1958=\"\"),AND(E1958<>\"\",F1958=\"\")),\nF1958=LEFT(F1958,MIN(FIND(0,SUBSTITUTE(F1958,{1,2,3,4,5,6,7,8,9},0)&0))-1)=FALSE\n),\"Check\",\"\")","v":""},"","",null,"",0,"","","","",""]
["SBSA_1950","SBSA_1950",null,null,null,null,null,null,null,null,null,null,null,null,null,null,null,null,null,null,null,null,null,null,null,null,"","",{"$f":"IF(OR(\nOR(AND(D1959<>\"\",F1959=\"\"),AND(E1959<>\"\",F1959=\"\")),\nF1959=LEFT(F1959,MIN(FIND(0,SUBSTITUTE(F1959,{1,2,3,4,5,6,7,8,9},0)&0))-1)=FALSE\n),\"Check\",\"\")","v":""},"","",null,"",0,"","","","",""]
["SBSA_1955","SBSA_1955",null,null,null,null,null,null,null,null,null,null,null,null,null,null,null,null,null,null,null,null,null,null,null,null,"","",{"$f":"IF(OR(\nOR(AND(D1964<>\"\",F1964=\"\"),AND(E1964<>\"\",F1964=\"\")),\nF1964=LEFT(F1964,MIN(FIND(0,SUBSTITUTE(F1964,{1,2,3,4,5,6,7,8,9},0)&0))-1)=FALSE\n),\"Check\",\"\")","v":""},"","",null,"",0,"","","","",""]
["SBSA_1960","SBSA_1960",null,null,null,null,null,null,null,null,null,null,null,null,null,null,null,null,null,null,null,null,null,null,null,null,"","",{"$f":"IF(OR(\nOR(AND(D1969<>\"\",F1969=\"\"),AND(E1969<>\"\",F1969=\"\")),\nF1969=LEFT(F1969,MIN(FIND(0,SUBSTITUTE(F1969,{1,2,3,4,5,6,7,8,9},0)&0))-1)=FALSE\n),\"Check\",\"\")","v":""},"","",null,"",0,"","","","",""]
["SBSA_1962","SBSA_1962",null,null,null,null,null,null,null,null,null,null,null,null,null,null,null,null,null,null,null,null,null,null,null,null,"","",{"$f":"IF(OR(\nOR(AND(D1971<>\"\",F1971=\"\"),AND(E1971<>\"\",F1971=\"\")),\nF1971=LEFT(F1971,MIN(FIND(0,SUBSTITUTE(F1971,{1,2,3,4,5,6,7,8,9},0)&0))-1)=FALSE\n),\"Check\",\"\")","v":""},"","",null,"",0,"","","","",""]
["SBSA_1965","SBSA_1965",null,null,null,null,null,null,null,null,null,null,null,null,null,null,null,null,null,null,null,null,null,null,null,null,"","",{"$f":"IF(OR(\nOR(AND(D1974<>\"\",F1974=\"\"),AND(E1974<>\"\",F1974=\"\")),\nF1974=LEFT(F1974,MIN(FIND(0,SUBSTITUTE(F1974,{1,2,3,4,5,6,7,8,9},0)&0))-1)=FALSE\n),\"Check\",\"\")","v":""},"","",null,"",0,"","","","",""]
["SBSA_1970","SBSA_1970",null,null,null,null,null,null,null,null,null,null,null,null,null,null,null,null,null,null,null,null,null,null,null,null,"","",{"$f":"IF(OR(\nOR(AND(D1979<>\"\",F1979=\"\"),AND(E1979<>\"\",F1979=\"\")),\nF1979=LEFT(F1979,MIN(FIND(0,SUBSTITUTE(F1979,{1,2,3,4,5,6,7,8,9},0)&0))-1)=FALSE\n),\"Check\",\"\")","v":""},"","",null,"",0,"","","","",""]
["SBSA_1975","SBSA_1975",null,null,null,null,null,null,null,null,null,null,null,null,null,null,null,null,null,null,null,null,null,null,null,null,"","",{"$f":"IF(OR(\nOR(AND(D1984<>\"\",F1984=\"\"),AND(E1984<>\"\",F1984=\"\")),\nF1984=LEFT(F1984,MIN(FIND(0,SUBSTITUTE(F1984,{1,2,3,4,5,6,7,8,9},0)&0))-1)=FALSE\n),\"Check\",\"\")","v":""},"","",null,"",0,"","","","",""]
["SBSA_1979","SBSA_1979",null,null,null,null,null,null,null,null,null,null,null,null,null,null,null,null,null,null,null,null,null,null,null,null,"","",{"$f":"IF(OR(\nOR(AND(D1988<>\"\",F1988=\"\"),AND(E1988<>\"\",F1988=\"\")),\nF1988=LEFT(F1988,MIN(FIND(0,SUBSTITUTE(F1988,{1,2,3,4,5,6,7,8,9},0)&0))-1)=FALSE\n),\"Check\",\"\")","v":""},"","",null,"",0,"","","","",""]
["SBSA_1980","SBSA_1980",null,null,null,null,null,null,null,null,null,null,null,null,null,null,null,null,null,null,null,null,null,null,null,null,"","",{"$f":"IF(OR(\nOR(AND(D1989<>\"\",F1989=\"\"),AND(E1989<>\"\",F1989=\"\")),\nF1989=LEFT(F1989,MIN(FIND(0,SUBSTITUTE(F1989,{1,2,3,4,5,6,7,8,9},0)&0))-1)=FALSE\n),\"Check\",\"\")","v":""},"","",null,"",0,"","","","",""]
["SBSA_1985","SBSA_1985",null,null,null,null,null,null,null,null,null,null,null,null,null,null,null,null,null,null,null,null,null,null,null,null,"","",{"$f":"IF(OR(\nOR(AND(D1994<>\"\",F1994=\"\"),AND(E1994<>\"\",F1994=\"\")),\nF1994=LEFT(F1994,MIN(FIND(0,SUBSTITUTE(F1994,{1,2,3,4,5,6,7,8,9},0)&0))-1)=FALSE\n),\"Check\",\"\")","v":""},"","",null,"",0,"","","","",""]
["SBSA_1990","SBSA_1990",null,null,null,null,null,null,null,null,null,null,null,null,null,null,null,null,null,null,null,null,null,null,null,null,"","",{"$f":"IF(OR(\nOR(AND(D1999<>\"\",F1999=\"\"),AND(E1999<>\"\",F1999=\"\")),\nF1999=LEFT(F1999,MIN(FIND(0,SUBSTITUTE(F1999,{1,2,3,4,5,6,7,8,9},0)&0))-1)=FALSE\n),\"Check\",\"\")","v":""},"","",null,"",0,"","","","",""]
["SBSA_1992","SBSA_1992",null,null,null,null,null,null,null,null,null,null,null,null,null,null,null,null,null,null,null,null,null,null,null,null,"","",{"$f":"IF(OR(\nOR(AND(D2001<>\"\",F2001=\"\"),AND(E2001<>\"\",F2001=\"\")),\nF2001=LEFT(F2001,MIN(FIND(0,SUBSTITUTE(F2001,{1,2,3,4,5,6,7,8,9},0)&0))-1)=FALSE\n),\"Check\",\"\")","v":""},"","",null,"",0,"","","","",""]
["SBSA_1995","SBSA_1995",null,null,null,null,null,null,null,null,null,null,null,null,null,null,null,null,null,null,null,null,null,null,null,null,"","",{"$f":"IF(OR(\nOR(AND(D2004<>\"\",F2004=\"\"),AND(E2004<>\"\",F2004=\"\")),\nF2004=LEFT(F2004,MIN(FIND(0,SUBSTITUTE(F2004,{1,2,3,4,5,6,7,8,9},0)&0))-1)=FALSE\n),\"Check\",\"\")","v":""},"","",null,"",0,"","","","",""]
["SBSA_2000","SBSA_2000",null,null,null,null,null,null,null,null,null,null,null,null,null,null,null,null,null,null,null,null,null,null,null,null,"","",{"$f":"IF(OR(\nOR(AND(D2009<>\"\",F2009=\"\"),AND(E2009<>\"\",F2009=\"\")),\nF2009=LEFT(F2009,MIN(FIND(0,SUBSTITUTE(F2009,{1,2,3,4,5,6,7,8,9},0)&0))-1)=FALSE\n),\"Check\",\"\")","v":""},"","",null,"",0,"","","","",""]
["SBSA_2005","SBSA_2005",null,null,null,null,null,null,null,null,null,null,null,null,null,null,null,null,null,null,null,null,null,null,null,null,"","",{"$f":"IF(OR(\nOR(AND(D2014<>\"\",F2014=\"\"),AND(E2014<>\"\",F2014=\"\")),\nF2014=LEFT(F2014,MIN(FIND(0,SUBSTITUTE(F2014,{1,2,3,4,5,6,7,8,9},0)&0))-1)=FALSE\n),\"Check\",\"\")","v":""},"","",null,"",0,"","","","",""]
["SBSA_2009","SBSA_2009",null,null,null,null,null,null,null,null,null,null,null,null,null,null,null,null,null,null,null,null,null,null,null,null,"","",{"$f":"IF(OR(\nOR(AND(D2018<>\"\",F2018=\"\"),AND(E2018<>\"\",F2018=\"\")),\nF2018=LEFT(F2018,MIN(FIND(0,SUBSTITUTE(F2018,{1,2,3,4,5,6,7,8,9},0)&0))-1)=FALSE\n),\"Check\",\"\")","v":""},"","",null,"",0,"","","","",""]
["SBSA_2010","SBSA_2010",null,null,null,null,null,null,null,null,null,null,null,null,null,null,null,null,null,null,null,null,null,null,null,null,"","",{"$f":"IF(OR(\nOR(AND(D2019<>\"\",F2019=\"\"),AND(E2019<>\"\",F2019=\"\")),\nF2019=LEFT(F2019,MIN(FIND(0,SUBSTITUTE(F2019,{1,2,3,4,5,6,7,8,9},0)&0))-1)=FALSE\n),\"Check\",\"\")","v":""},"","",null,"",0,"","","","",""]
["SBSA_2015","SBSA_2015",null,null,null,null,null,null,null,null,null,null,null,null,null,null,null,null,null,null,null,null,null,null,null,null,"","",{"$f":"IF(OR(\nOR(AND(D2024<>\"\",F2024=\"\"),AND(E2024<>\"\",F2024=\"\")),\nF2024=LEFT(F2024,MIN(FIND(0,SUBSTITUTE(F2024,{1,2,3,4,5,6,7,8,9},0)&0))-1)=FALSE\n),\"Check\",\"\")","v":""},"","",null,"",0,"","","","",""]
["SBSA_2020","SBSA_2020",null,null,null,null,null,null,null,null,null,null,null,null,null,null,null,null,null,null,null,null,null,null,null,null,{"$f":"IF(AND(C2029=\"\",OR(D2029<>\"\",E2029<>\"\",F2029<>\"\",G2029<>\"\")),\"Check\",\"\")","v":""},{"$f":"IF(AND(C2029<>\"\",OR(AND(D2029=\"\",E2029=\"\"),AND(D2029=0,E2029=0),AND(ABS(D2029)>0,ABS(E2029)>0))),\"Check\",\"\")","v":""},{"$f":"IF(OR(\nOR(AND(D2029<>\"\",F2029=\"\"),AND(E2029<>\"\",F2029=\"\")),\nF2029=LEFT(F2029,MIN(FIND(0,SUBSTITUTE(F2029,{1,2,3,4,5,6,7,8,9},0)&0))-1)=FALSE\n),\"Check\",\"\")","v":""},{"$f":"IF(OR(E2029=\"\",G2029=\"\"),\"\",(E2029*G2029)/100)","v":""},{"$f":"IF(AND(F2029<>\"\",G2029=\"\"),\"Check\",\"\")","v":""},null,{"$f":"IF(C2029=\"\",\"\",C2029&\"_\"&IF(G2029=\"\",0,G2029))","v":""},{"$f":"IF(COUNTBLANK(C2029:G2029)<5,1,0)","v":0},{"$f":"IF(C2029=\"\",\"\",IF(LEN(C2029)=12,\"\",\"Check\"))","v":""},{"$f":"IF(C2029=\"\",\"\",IF(COUNTIF(C$10:C$65536,C2029)=COUNTIF(AG$10:AG$65536,AG2029),\"\",\"Check\"))","v":""},{"$f":"IF(F2029=\"\",\"\",IF(LEN(F2029)=3,\"\",\"Check\"))","v":""},{"$f":"IF(OR(IF(D2029=\"\",\"\",IF(ISNUMBER(D2029)=TRUE,\"\",\"TEXT\"))=\"TEXT\",IF(E2029=\"\",\"\",IF(ISNUMBER(E2029)=TRUE,\"\",\"TEXT\"))=\"TEXT\",IF(G2029=\"\",\"\",IF(ISNUMBER(G2029)=TRUE,\"\",\"TEXT\"))=\"TEXT\"),\"Check\",\"\")","v":""},{"$f":"IF(G2029<0,\"Check\",\"\")","v":""}]
["SBSA_2025","SBSA_2025",null,null,null,null,null,null,null,null,null,null,null,null,null,null,null,null,null,null,null,null,null,null,null,null,"","",{"$f":"IF(OR(\nOR(AND(D2034<>\"\",F2034=\"\"),AND(E2034<>\"\",F2034=\"\")),\nF2034=LEFT(F2034,MIN(FIND(0,SUBSTITUTE(F2034,{1,2,3,4,5,6,7,8,9},0)&0))-1)=FALSE\n),\"Check\",\"\")","v":""},"","",null,"",0,"","","","",""]
["SBSA_2027","SBSA_2027",null,null,null,null,null,null,null,null,null,null,null,null,null,null,null,null,null,null,null,null,null,null,null,null,"","",{"$f":"IF(OR(\nOR(AND(D2036<>\"\",F2036=\"\"),AND(E2036<>\"\",F2036=\"\")),\nF2036=LEFT(F2036,MIN(FIND(0,SUBSTITUTE(F2036,{1,2,3,4,5,6,7,8,9},0)&0))-1)=FALSE\n),\"Check\",\"\")","v":""},"","",null,"",0,"","","","",""]
["SBSA_2030","SBSA_2030",null,null,null,null,null,null,null,null,null,null,null,null,null,null,null,null,null,null,null,null,null,null,null,null,"","",{"$f":"IF(OR(\nOR(AND(D2039<>\"\",F2039=\"\"),AND(E2039<>\"\",F2039=\"\")),\nF2039=LEFT(F2039,MIN(FIND(0,SUBSTITUTE(F2039,{1,2,3,4,5,6,7,8,9},0)&0))-1)=FALSE\n),\"Check\",\"\")","v":""},"","",null,"",0,"","","","",""]
["SBSA_2035","SBSA_2035",null,null,null,null,null,null,null,null,null,null,null,null,null,null,null,null,null,null,null,null,null,null,null,null,"","",{"$f":"IF(OR(\nOR(AND(D2044<>\"\",F2044=\"\"),AND(E2044<>\"\",F2044=\"\")),\nF2044=LEFT(F2044,MIN(FIND(0,SUBSTITUTE(F2044,{1,2,3,4,5,6,7,8,9},0)&0))-1)=FALSE\n),\"Check\",\"\")","v":""},"","",null,"",0,"","","","",""]
["SBSA_2040","SBSA_2040",null,null,null,null,null,null,null,null,null,null,null,null,null,null,null,null,null,null,null,null,null,null,null,null,"","",{"$f":"IF(OR(\nOR(AND(D2049<>\"\",F2049=\"\"),AND(E2049<>\"\",F2049=\"\")),\nF2049=LEFT(F2049,MIN(FIND(0,SUBSTITUTE(F2049,{1,2,3,4,5,6,7,8,9},0)&0))-1)=FALSE\n),\"Check\",\"\")","v":""},"","",null,"",0,"","","","",""]
["SBSA_2043","SBSA_2043",null,null,null,null,null,null,null,null,null,null,null,null,null,null,null,null,null,null,null,null,null,null,null,null,"","",{"$f":"IF(OR(\nOR(AND(D2052<>\"\",F2052=\"\"),AND(E2052<>\"\",F2052=\"\")),\nF2052=LEFT(F2052,MIN(FIND(0,SUBSTITUTE(F2052,{1,2,3,4,5,6,7,8,9},0)&0))-1)=FALSE\n),\"Check\",\"\")","v":""},"","",null,"",0,"","","","",""]
["SBSA_2045","SBSA_2045",null,null,null,null,null,null,null,null,null,null,null,null,null,null,null,null,null,null,null,null,null,null,null,null,"","",{"$f":"IF(OR(\nOR(AND(D2054<>\"\",F2054=\"\"),AND(E2054<>\"\",F2054=\"\")),\nF2054=LEFT(F2054,MIN(FIND(0,SUBSTITUTE(F2054,{1,2,3,4,5,6,7,8,9},0)&0))-1)=FALSE\n),\"Check\",\"\")","v":""},"","",null,"",0,"","","","",""]
["SBSA_2050","SBSA_2050",null,null,null,null,null,null,null,null,null,null,null,null,null,null,null,null,null,null,null,null,null,null,null,null,"","",{"$f":"IF(OR(\nOR(AND(D2059<>\"\",F2059=\"\"),AND(E2059<>\"\",F2059=\"\")),\nF2059=LEFT(F2059,MIN(FIND(0,SUBSTITUTE(F2059,{1,2,3,4,5,6,7,8,9},0)&0))-1)=FALSE\n),\"Check\",\"\")","v":""},"","",null,"",0,"","","","",""]
["SBSA_2055","SBSA_2055",null,null,null,null,null,null,null,null,null,null,null,null,null,null,null,null,null,null,null,null,null,null,null,null,"","",{"$f":"IF(OR(\nOR(AND(D2064<>\"\",F2064=\"\"),AND(E2064<>\"\",F2064=\"\")),\nF2064=LEFT(F2064,MIN(FIND(0,SUBSTITUTE(F2064,{1,2,3,4,5,6,7,8,9},0)&0))-1)=FALSE\n),\"Check\",\"\")","v":""},"","",null,"",0,"","","","",""]
["SBSA_2057","SBSA_2057",null,null,null,null,null,null,null,null,null,null,null,null,null,null,null,null,null,null,null,null,null,null,null,null,"","",{"$f":"IF(OR(\nOR(AND(D2066<>\"\",F2066=\"\"),AND(E2066<>\"\",F2066=\"\")),\nF2066=LEFT(F2066,MIN(FIND(0,SUBSTITUTE(F2066,{1,2,3,4,5,6,7,8,9},0)&0))-1)=FALSE\n),\"Check\",\"\")","v":""},"","",null,"",0,"","","","",""]
["SBSA_2060","SBSA_2060",null,null,null,null,null,null,null,null,null,null,null,null,null,null,null,null,null,null,null,null,null,null,null,null,"","",{"$f":"IF(OR(\nOR(AND(D2069<>\"\",F2069=\"\"),AND(E2069<>\"\",F2069=\"\")),\nF2069=LEFT(F2069,MIN(FIND(0,SUBSTITUTE(F2069,{1,2,3,4,5,6,7,8,9},0)&0))-1)=FALSE\n),\"Check\",\"\")","v":""},"","",null,"",0,"","","","",""]
["SBSA_2065","SBSA_2065",null,null,null,null,null,null,null,null,null,null,null,null,null,null,null,null,null,null,null,null,null,null,null,null,"","",{"$f":"IF(OR(\nOR(AND(D2074<>\"\",F2074=\"\"),AND(E2074<>\"\",F2074=\"\")),\nF2074=LEFT(F2074,MIN(FIND(0,SUBSTITUTE(F2074,{1,2,3,4,5,6,7,8,9},0)&0))-1)=FALSE\n),\"Check\",\"\")","v":""},"","",null,"",0,"","","","",""]
["SBSA_2070","SBSA_2070",null,null,null,null,null,null,null,null,null,null,null,null,null,null,null,null,null,null,null,null,null,null,null,null,"","",{"$f":"IF(OR(\nOR(AND(D2079<>\"\",F2079=\"\"),AND(E2079<>\"\",F2079=\"\")),\nF2079=LEFT(F2079,MIN(FIND(0,SUBSTITUTE(F2079,{1,2,3,4,5,6,7,8,9},0)&0))-1)=FALSE\n),\"Check\",\"\")","v":""},"","",null,"",0,"","","","",""]
["SBSA_2073","SBSA_2073",null,null,null,null,null,null,null,null,null,null,null,null,null,null,null,null,null,null,null,null,null,null,null,null,"","",{"$f":"IF(OR(\nOR(AND(D2082<>\"\",F2082=\"\"),AND(E2082<>\"\",F2082=\"\")),\nF2082=LEFT(F2082,MIN(FIND(0,SUBSTITUTE(F2082,{1,2,3,4,5,6,7,8,9},0)&0))-1)=FALSE\n),\"Check\",\"\")","v":""},"","",null,"",0,"","","","",""]
["SBSA_2075","SBSA_2075",null,null,null,null,null,null,null,null,null,null,null,null,null,null,null,null,null,null,null,null,null,null,null,null,"","",{"$f":"IF(OR(\nOR(AND(D2084<>\"\",F2084=\"\"),AND(E2084<>\"\",F2084=\"\")),\nF2084=LEFT(F2084,MIN(FIND(0,SUBSTITUTE(F2084,{1,2,3,4,5,6,7,8,9},0)&0))-1)=FALSE\n),\"Check\",\"\")","v":""},"","",null,"",0,"","","","",""]
["SBSA_2080","SBSA_2080",null,null,null,null,null,null,null,null,null,null,null,null,null,null,null,null,null,null,null,null,null,null,null,null,"","",{"$f":"IF(OR(\nOR(AND(D2089<>\"\",F2089=\"\"),AND(E2089<>\"\",F2089=\"\")),\nF2089=LEFT(F2089,MIN(FIND(0,SUBSTITUTE(F2089,{1,2,3,4,5,6,7,8,9},0)&0))-1)=FALSE\n),\"Check\",\"\")","v":""},"","",null,"",0,"","","","",""]
["SBSA_2085","SBSA_2085",null,null,null,null,null,null,null,null,null,null,null,null,null,null,null,null,null,null,null,null,null,null,null,null,"","",{"$f":"IF(OR(\nOR(AND(D2094<>\"\",F2094=\"\"),AND(E2094<>\"\",F2094=\"\")),\nF2094=LEFT(F2094,MIN(FIND(0,SUBSTITUTE(F2094,{1,2,3,4,5,6,7,8,9},0)&0))-1)=FALSE\n),\"Check\",\"\")","v":""},"","",null,"",0,"","","","",""]
["SBSA_2087","SBSA_2087",null,null,null,null,null,null,null,null,null,null,null,null,null,null,null,null,null,null,null,null,null,null,null,null,"","",{"$f":"IF(OR(\nOR(AND(D2096<>\"\",F2096=\"\"),AND(E2096<>\"\",F2096=\"\")),\nF2096=LEFT(F2096,MIN(FIND(0,SUBSTITUTE(F2096,{1,2,3,4,5,6,7,8,9},0)&0))-1)=FALSE\n),\"Check\",\"\")","v":""},"","",null,"",0,"","","","",""]
["SBSA_2090","SBSA_2090",null,null,null,null,null,null,null,null,null,null,null,null,null,null,null,null,null,null,null,null,null,null,null,null,"","",{"$f":"IF(OR(\nOR(AND(D2099<>\"\",F2099=\"\"),AND(E2099<>\"\",F2099=\"\")),\nF2099=LEFT(F2099,MIN(FIND(0,SUBSTITUTE(F2099,{1,2,3,4,5,6,7,8,9},0)&0))-1)=FALSE\n),\"Check\",\"\")","v":""},"","",null,"",0,"","","","",""]
["SBSA_2095","SBSA_2095",null,null,null,null,null,null,null,null,null,null,null,null,null,null,null,null,null,null,null,null,null,null,null,null,"","",{"$f":"IF(OR(\nOR(AND(D2104<>\"\",F2104=\"\"),AND(E2104<>\"\",F2104=\"\")),\nF2104=LEFT(F2104,MIN(FIND(0,SUBSTITUTE(F2104,{1,2,3,4,5,6,7,8,9},0)&0))-1)=FALSE\n),\"Check\",\"\")","v":""},"","",null,"",0,"","","","",""]
["SBSA_2100","SBSA_2100",null,null,null,null,null,null,null,null,null,null,null,null,null,null,null,null,null,null,null,null,null,null,null,null,"","",{"$f":"IF(OR(\nOR(AND(D2109<>\"\",F2109=\"\"),AND(E2109<>\"\",F2109=\"\")),\nF2109=LEFT(F2109,MIN(FIND(0,SUBSTITUTE(F2109,{1,2,3,4,5,6,7,8,9},0)&0))-1)=FALSE\n),\"Check\",\"\")","v":""},"","",null,"",0,"","","","",""]
["SBSA_2103","SBSA_2103",null,null,null,null,null,null,null,null,null,null,null,null,null,null,null,null,null,null,null,null,null,null,null,null,"","",{"$f":"IF(OR(\nOR(AND(D2112<>\"\",F2112=\"\"),AND(E2112<>\"\",F2112=\"\")),\nF2112=LEFT(F2112,MIN(FIND(0,SUBSTITUTE(F2112,{1,2,3,4,5,6,7,8,9},0)&0))-1)=FALSE\n),\"Check\",\"\")","v":""},"","",null,"",0,"","","","",""]
["SBSA_2105","SBSA_2105",null,null,null,null,null,null,null,null,null,null,null,null,null,null,null,null,null,null,null,null,null,null,null,null,"","",{"$f":"IF(OR(\nOR(AND(D2114<>\"\",F2114=\"\"),AND(E2114<>\"\",F2114=\"\")),\nF2114=LEFT(F2114,MIN(FIND(0,SUBSTITUTE(F2114,{1,2,3,4,5,6,7,8,9},0)&0))-1)=FALSE\n),\"Check\",\"\")","v":""},"","",null,"",0,"","","","",""]
["SBSA_2110","SBSA_2110",null,null,null,null,null,null,null,null,null,null,null,null,null,null,null,null,null,null,null,null,null,null,null,null,"","",{"$f":"IF(OR(\nOR(AND(D2119<>\"\",F2119=\"\"),AND(E2119<>\"\",F2119=\"\")),\nF2119=LEFT(F2119,MIN(FIND(0,SUBSTITUTE(F2119,{1,2,3,4,5,6,7,8,9},0)&0))-1)=FALSE\n),\"Check\",\"\")","v":""},"","",null,"",0,"","","","",""]
["SBSA_2115","SBSA_2115",null,null,null,null,null,null,null,null,null,null,null,null,null,null,null,null,null,null,null,null,null,null,null,null,"","",{"$f":"IF(OR(\nOR(AND(D2124<>\"\",F2124=\"\"),AND(E2124<>\"\",F2124=\"\")),\nF2124=LEFT(F2124,MIN(FIND(0,SUBSTITUTE(F2124,{1,2,3,4,5,6,7,8,9},0)&0))-1)=FALSE\n),\"Check\",\"\")","v":""},"","",null,"",0,"","","","",""]
["SBSA_2116","SBSA_2116",null,null,null,null,null,null,null,null,null,null,null,null,null,null,null,null,null,null,null,null,null,null,null,null,"","",{"$f":"IF(OR(\nOR(AND(D2125<>\"\",F2125=\"\"),AND(E2125<>\"\",F2125=\"\")),\nF2125=LEFT(F2125,MIN(FIND(0,SUBSTITUTE(F2125,{1,2,3,4,5,6,7,8,9},0)&0))-1)=FALSE\n),\"Check\",\"\")","v":""},"","",null,"",0,"","","","",""]
["SBSA_2121","SBSA_2121",null,null,null,null,null,null,null,null,null,null,null,null,null,null,null,null,null,null,null,null,null,null,null,null,"","",{"$f":"IF(OR(\nOR(AND(D2130<>\"\",F2130=\"\"),AND(E2130<>\"\",F2130=\"\")),\nF2130=LEFT(F2130,MIN(FIND(0,SUBSTITUTE(F2130,{1,2,3,4,5,6,7,8,9},0)&0))-1)=FALSE\n),\"Check\",\"\")","v":""},"","",null,"",0,"","","","",""]
["SBSA_2125","SBSA_2125",null,null,null,null,null,null,null,null,null,null,null,null,null,null,null,null,null,null,null,null,null,null,null,null,"","",{"$f":"IF(OR(\nOR(AND(D2134<>\"\",F2134=\"\"),AND(E2134<>\"\",F2134=\"\")),\nF2134=LEFT(F2134,MIN(FIND(0,SUBSTITUTE(F2134,{1,2,3,4,5,6,7,8,9},0)&0))-1)=FALSE\n),\"Check\",\"\")","v":""},"","",null,"",0,"","","","",""]
["SBSA_2130","SBSA_2130",null,null,null,null,null,null,null,null,null,null,null,null,null,null,null,null,null,null,null,null,null,null,null,null,"","",{"$f":"IF(OR(\nOR(AND(D2139<>\"\",F2139=\"\"),AND(E2139<>\"\",F2139=\"\")),\nF2139=LEFT(F2139,MIN(FIND(0,SUBSTITUTE(F2139,{1,2,3,4,5,6,7,8,9},0)&0))-1)=FALSE\n),\"Check\",\"\")","v":""},"","",null,"",0,"","","","",""]
["SBSA_2131","SBSA_2131",null,null,null,null,null,null,null,null,null,null,null,null,null,null,null,null,null,null,null,null,null,null,null,null,"","",{"$f":"IF(OR(\nOR(AND(D2140<>\"\",F2140=\"\"),AND(E2140<>\"\",F2140=\"\")),\nF2140=LEFT(F2140,MIN(FIND(0,SUBSTITUTE(F2140,{1,2,3,4,5,6,7,8,9},0)&0))-1)=FALSE\n),\"Check\",\"\")","v":""},"","",null,"",0,"","","","",""]
["SBSA_2135","SBSA_2135",null,null,null,null,null,null,null,null,null,null,null,null,null,null,null,null,null,null,null,null,null,null,null,null,"","",{"$f":"IF(OR(\nOR(AND(D2144<>\"\",F2144=\"\"),AND(E2144<>\"\",F2144=\"\")),\nF2144=LEFT(F2144,MIN(FIND(0,SUBSTITUTE(F2144,{1,2,3,4,5,6,7,8,9},0)&0))-1)=FALSE\n),\"Check\",\"\")","v":""},"","",null,"",0,"","","","",""]
["SBSA_2140","SBSA_2140",null,null,null,null,null,null,null,null,null,null,null,null,null,null,null,null,null,null,null,null,null,null,null,null,"","",{"$f":"IF(OR(\nOR(AND(D2149<>\"\",F2149=\"\"),AND(E2149<>\"\",F2149=\"\")),\nF2149=LEFT(F2149,MIN(FIND(0,SUBSTITUTE(F2149,{1,2,3,4,5,6,7,8,9},0)&0))-1)=FALSE\n),\"Check\",\"\")","v":""},"","",null,"",0,"","","","",""]
["SBSA_2145","SBSA_2145",null,null,null,null,null,null,null,null,null,null,null,null,null,null,null,null,null,null,null,null,null,null,null,null,"","",{"$f":"IF(OR(\nOR(AND(D2154<>\"\",F2154=\"\"),AND(E2154<>\"\",F2154=\"\")),\nF2154=LEFT(F2154,MIN(FIND(0,SUBSTITUTE(F2154,{1,2,3,4,5,6,7,8,9},0)&0))-1)=FALSE\n),\"Check\",\"\")","v":""},"","",null,"",0,"","","","",""]
["SBSA_2146","SBSA_2146",null,null,null,null,null,null,null,null,null,null,null,null,null,null,null,null,null,null,null,null,null,null,null,null,"","",{"$f":"IF(OR(\nOR(AND(D2155<>\"\",F2155=\"\"),AND(E2155<>\"\",F2155=\"\")),\nF2155=LEFT(F2155,MIN(FIND(0,SUBSTITUTE(F2155,{1,2,3,4,5,6,7,8,9},0)&0))-1)=FALSE\n),\"Check\",\"\")","v":""},"","",null,"",0,"","","","",""]
["SBSA_2151","SBSA_2151",null,null,null,null,null,null,null,null,null,null,null,null,null,null,null,null,null,null,null,null,null,null,null,null,"","",{"$f":"IF(OR(\nOR(AND(D2160<>\"\",F2160=\"\"),AND(E2160<>\"\",F2160=\"\")),\nF2160=LEFT(F2160,MIN(FIND(0,SUBSTITUTE(F2160,{1,2,3,4,5,6,7,8,9},0)&0))-1)=FALSE\n),\"Check\",\"\")","v":""},"","",null,"",0,"","","","",""]
["SBSA_2155","SBSA_2155",null,null,null,null,null,null,null,null,null,null,null,null,null,null,null,null,null,null,null,null,null,null,null,null,"","",{"$f":"IF(OR(\nOR(AND(D2164<>\"\",F2164=\"\"),AND(E2164<>\"\",F2164=\"\")),\nF2164=LEFT(F2164,MIN(FIND(0,SUBSTITUTE(F2164,{1,2,3,4,5,6,7,8,9},0)&0))-1)=FALSE\n),\"Check\",\"\")","v":""},"","",null,"",0,"","","","",""]
["SBSA_2160","SBSA_2160",null,null,null,null,null,null,null,null,null,null,null,null,null,null,null,null,null,null,null,null,null,null,null,null,"","",{"$f":"IF(OR(\nOR(AND(D2169<>\"\",F2169=\"\"),AND(E2169<>\"\",F2169=\"\")),\nF2169=LEFT(F2169,MIN(FIND(0,SUBSTITUTE(F2169,{1,2,3,4,5,6,7,8,9},0)&0))-1)=FALSE\n),\"Check\",\"\")","v":""},"","",null,"",0,"","","","",""]
["SBSA_2161","SBSA_2161",null,null,null,null,null,null,null,null,null,null,null,null,null,null,null,null,null,null,null,null,null,null,null,null,"","",{"$f":"IF(OR(\nOR(AND(D2170<>\"\",F2170=\"\"),AND(E2170<>\"\",F2170=\"\")),\nF2170=LEFT(F2170,MIN(FIND(0,SUBSTITUTE(F2170,{1,2,3,4,5,6,7,8,9},0)&0))-1)=FALSE\n),\"Check\",\"\")","v":""},"","",null,"",0,"","","","",""]
["SBSA_2165","SBSA_2165",null,null,null,null,null,null,null,null,null,null,null,null,null,null,null,null,null,null,null,null,null,null,null,null,"","",{"$f":"IF(OR(\nOR(AND(D2174<>\"\",F2174=\"\"),AND(E2174<>\"\",F2174=\"\")),\nF2174=LEFT(F2174,MIN(FIND(0,SUBSTITUTE(F2174,{1,2,3,4,5,6,7,8,9},0)&0))-1)=FALSE\n),\"Check\",\"\")","v":""},"","",null,"",0,"","","","",""]
["SBSA_2170","SBSA_2170",null,null,null,null,null,null,null,null,null,null,null,null,null,null,null,null,null,null,null,null,null,null,null,null,"","",{"$f":"IF(OR(\nOR(AND(D2179<>\"\",F2179=\"\"),AND(E2179<>\"\",F2179=\"\")),\nF2179=LEFT(F2179,MIN(FIND(0,SUBSTITUTE(F2179,{1,2,3,4,5,6,7,8,9},0)&0))-1)=FALSE\n),\"Check\",\"\")","v":""},"","",null,"",0,"","","","",""]
["SBSA_2175","SBSA_2175",null,null,null,null,null,null,null,null,null,null,null,null,null,null,null,null,null,null,null,null,null,null,null,null,"","",{"$f":"IF(OR(\nOR(AND(D2184<>\"\",F2184=\"\"),AND(E2184<>\"\",F2184=\"\")),\nF2184=LEFT(F2184,MIN(FIND(0,SUBSTITUTE(F2184,{1,2,3,4,5,6,7,8,9},0)&0))-1)=FALSE\n),\"Check\",\"\")","v":""},"","",null,"",0,"","","","",""]
["SBSA_2176","SBSA_2176",null,null,null,null,null,null,null,null,null,null,null,null,null,null,null,null,null,null,null,null,null,null,null,null,"","",{"$f":"IF(OR(\nOR(AND(D2185<>\"\",F2185=\"\"),AND(E2185<>\"\",F2185=\"\")),\nF2185=LEFT(F2185,MIN(FIND(0,SUBSTITUTE(F2185,{1,2,3,4,5,6,7,8,9},0)&0))-1)=FALSE\n),\"Check\",\"\")","v":""},"","",null,"",0,"","","","",""]
["SBSA_2181","SBSA_2181",null,null,null,null,null,null,null,null,null,null,null,null,null,null,null,null,null,null,null,null,null,null,null,null,"","",{"$f":"IF(OR(\nOR(AND(D2190<>\"\",F2190=\"\"),AND(E2190<>\"\",F2190=\"\")),\nF2190=LEFT(F2190,MIN(FIND(0,SUBSTITUTE(F2190,{1,2,3,4,5,6,7,8,9},0)&0))-1)=FALSE\n),\"Check\",\"\")","v":""},"","",null,"",0,"","","","",""]
["SBSA_2185","SBSA_2185",null,null,null,null,null,null,null,null,null,null,null,null,null,null,null,null,null,null,null,null,null,null,null,null,"","",{"$f":"IF(OR(\nOR(AND(D2194<>\"\",F2194=\"\"),AND(E2194<>\"\",F2194=\"\")),\nF2194=LEFT(F2194,MIN(FIND(0,SUBSTITUTE(F2194,{1,2,3,4,5,6,7,8,9},0)&0))-1)=FALSE\n),\"Check\",\"\")","v":""},"","",null,"",0,"","","","",""]
["SBSA_2190","SBSA_2190",null,null,null,null,null,null,null,null,null,null,null,null,null,null,null,null,null,null,null,null,null,null,null,null,"","",{"$f":"IF(OR(\nOR(AND(D2199<>\"\",F2199=\"\"),AND(E2199<>\"\",F2199=\"\")),\nF2199=LEFT(F2199,MIN(FIND(0,SUBSTITUTE(F2199,{1,2,3,4,5,6,7,8,9},0)&0))-1)=FALSE\n),\"Check\",\"\")","v":""},"","",null,"",0,"","","","",""]
["SBSA_2191","SBSA_2191",null,null,null,null,null,null,null,null,null,null,null,null,null,null,null,null,null,null,null,null,null,null,null,null,"","",{"$f":"IF(OR(\nOR(AND(D2200<>\"\",F2200=\"\"),AND(E2200<>\"\",F2200=\"\")),\nF2200=LEFT(F2200,MIN(FIND(0,SUBSTITUTE(F2200,{1,2,3,4,5,6,7,8,9},0)&0))-1)=FALSE\n),\"Check\",\"\")","v":""},"","",null,"",0,"","","","",""]
["SBSA_2195","SBSA_2195",null,null,null,null,null,null,null,null,null,null,null,null,null,null,null,null,null,null,null,null,null,null,null,null,"","",{"$f":"IF(OR(\nOR(AND(D2204<>\"\",F2204=\"\"),AND(E2204<>\"\",F2204=\"\")),\nF2204=LEFT(F2204,MIN(FIND(0,SUBSTITUTE(F2204,{1,2,3,4,5,6,7,8,9},0)&0))-1)=FALSE\n),\"Check\",\"\")","v":""},"","",null,"",0,"","","","",""]
["SBSA_2200","SBSA_2200",null,null,null,null,null,null,null,null,null,null,null,null,null,null,null,null,null,null,null,null,null,null,null,null,"","",{"$f":"IF(OR(\nOR(AND(D2209<>\"\",F2209=\"\"),AND(E2209<>\"\",F2209=\"\")),\nF2209=LEFT(F2209,MIN(FIND(0,SUBSTITUTE(F2209,{1,2,3,4,5,6,7,8,9},0)&0))-1)=FALSE\n),\"Check\",\"\")","v":""},"","",null,"",0,"","","","",""]
["SBSA_2205","SBSA_2205",null,null,null,null,null,null,null,null,null,null,null,null,null,null,null,null,null,null,null,null,null,null,null,null,"","",{"$f":"IF(OR(\nOR(AND(D2214<>\"\",F2214=\"\"),AND(E2214<>\"\",F2214=\"\")),\nF2214=LEFT(F2214,MIN(FIND(0,SUBSTITUTE(F2214,{1,2,3,4,5,6,7,8,9},0)&0))-1)=FALSE\n),\"Check\",\"\")","v":""},"","",null,"",0,"","","","",""]
["SBSA_2206","SBSA_2206",null,null,null,null,null,null,null,null,null,null,null,null,null,null,null,null,null,null,null,null,null,null,null,null,"","",{"$f":"IF(OR(\nOR(AND(D2215<>\"\",F2215=\"\"),AND(E2215<>\"\",F2215=\"\")),\nF2215=LEFT(F2215,MIN(FIND(0,SUBSTITUTE(F2215,{1,2,3,4,5,6,7,8,9},0)&0))-1)=FALSE\n),\"Check\",\"\")","v":""},"","",null,"",0,"","","","",""]
["SBSA_2211","SBSA_2211",null,null,null,null,null,null,null,null,null,null,null,null,null,null,null,null,null,null,null,null,null,null,null,null,"","",{"$f":"IF(OR(\nOR(AND(D2220<>\"\",F2220=\"\"),AND(E2220<>\"\",F2220=\"\")),\nF2220=LEFT(F2220,MIN(FIND(0,SUBSTITUTE(F2220,{1,2,3,4,5,6,7,8,9},0)&0))-1)=FALSE\n),\"Check\",\"\")","v":""},"","",null,"",0,"","","","",""]
["SBSA_2216","SBSA_2216",null,null,null,null,null,null,null,null,null,null,null,null,null,null,null,null,null,null,null,null,null,null,null,null,"","",{"$f":"IF(OR(\nOR(AND(D2225<>\"\",F2225=\"\"),AND(E2225<>\"\",F2225=\"\")),\nF2225=LEFT(F2225,MIN(FIND(0,SUBSTITUTE(F2225,{1,2,3,4,5,6,7,8,9},0)&0))-1)=FALSE\n),\"Check\",\"\")","v":""},"","",null,"",0,"","","","",""]
["SBSA_2220","SBSA_2220",null,null,null,null,null,null,null,null,null,null,null,null,null,null,null,null,null,null,null,null,null,null,null,null,"","",{"$f":"IF(OR(\nOR(AND(D2229<>\"\",F2229=\"\"),AND(E2229<>\"\",F2229=\"\")),\nF2229=LEFT(F2229,MIN(FIND(0,SUBSTITUTE(F2229,{1,2,3,4,5,6,7,8,9},0)&0))-1)=FALSE\n),\"Check\",\"\")","v":""},"","",null,"",0,"","","","",""]
["SBSA_2221","SBSA_2221",null,null,null,null,null,null,null,null,null,null,null,null,null,null,null,null,null,null,null,null,null,null,null,null,"","",{"$f":"IF(OR(\nOR(AND(D2230<>\"\",F2230=\"\"),AND(E2230<>\"\",F2230=\"\")),\nF2230=LEFT(F2230,MIN(FIND(0,SUBSTITUTE(F2230,{1,2,3,4,5,6,7,8,9},0)&0))-1)=FALSE\n),\"Check\",\"\")","v":""},"","",null,"",0,"","","","",""]
["SBSA_2226","SBSA_2226",null,null,null,null,null,null,null,null,null,null,null,null,null,null,null,null,null,null,null,null,null,null,null,null,"","",{"$f":"IF(OR(\nOR(AND(D2235<>\"\",F2235=\"\"),AND(E2235<>\"\",F2235=\"\")),\nF2235=LEFT(F2235,MIN(FIND(0,SUBSTITUTE(F2235,{1,2,3,4,5,6,7,8,9},0)&0))-1)=FALSE\n),\"Check\",\"\")","v":""},"","",null,"",0,"","","","",""]
["SBSA_2229","SBSA_2229",null,null,null,null,null,null,null,null,null,null,null,null,null,null,null,null,null,null,null,null,null,null,null,null,"","",{"$f":"IF(OR(\nOR(AND(D2238<>\"\",F2238=\"\"),AND(E2238<>\"\",F2238=\"\")),\nF2238=LEFT(F2238,MIN(FIND(0,SUBSTITUTE(F2238,{1,2,3,4,5,6,7,8,9},0)&0))-1)=FALSE\n),\"Check\",\"\")","v":""},"","",null,"",0,"","","","",""]
["SBSA_2235","SBSA_2235",null,null,null,null,null,null,null,null,null,null,null,null,null,null,null,null,null,null,null,null,null,null,null,null,"","",{"$f":"IF(OR(\nOR(AND(D2244<>\"\",F2244=\"\"),AND(E2244<>\"\",F2244=\"\")),\nF2244=LEFT(F2244,MIN(FIND(0,SUBSTITUTE(F2244,{1,2,3,4,5,6,7,8,9},0)&0))-1)=FALSE\n),\"Check\",\"\")","v":""},"","",null,"",0,"","","","",""]
["SBSA_2236","SBSA_2236",null,null,null,null,null,null,null,null,null,null,null,null,null,null,null,null,null,null,null,null,null,null,null,null,"","",{"$f":"IF(OR(\nOR(AND(D2245<>\"\",F2245=\"\"),AND(E2245<>\"\",F2245=\"\")),\nF2245=LEFT(F2245,MIN(FIND(0,SUBSTITUTE(F2245,{1,2,3,4,5,6,7,8,9},0)&0))-1)=FALSE\n),\"Check\",\"\")","v":""},"","",null,"",0,"","","","",""]
["SBSA_2241","SBSA_2241",null,null,null,null,null,null,null,null,null,null,null,null,null,null,null,null,null,null,null,null,null,null,null,null,"","",{"$f":"IF(OR(\nOR(AND(D2250<>\"\",F2250=\"\"),AND(E2250<>\"\",F2250=\"\")),\nF2250=LEFT(F2250,MIN(FIND(0,SUBSTITUTE(F2250,{1,2,3,4,5,6,7,8,9},0)&0))-1)=FALSE\n),\"Check\",\"\")","v":""},"","",null,"",0,"","","","",""]
["SBSA_2246","SBSA_2246",null,null,null,null,null,null,null,null,null,null,null,null,null,null,null,null,null,null,null,null,null,null,null,null,"","",{"$f":"IF(OR(\nOR(AND(D2255<>\"\",F2255=\"\"),AND(E2255<>\"\",F2255=\"\")),\nF2255=LEFT(F2255,MIN(FIND(0,SUBSTITUTE(F2255,{1,2,3,4,5,6,7,8,9},0)&0))-1)=FALSE\n),\"Check\",\"\")","v":""},"","",null,"",0,"","","","",""]
["SBSA_2250","SBSA_2250",null,null,null,null,null,null,null,null,null,null,null,null,null,null,null,null,null,null,null,null,null,null,null,null,"","",{"$f":"IF(OR(\nOR(AND(D2259<>\"\",F2259=\"\"),AND(E2259<>\"\",F2259=\"\")),\nF2259=LEFT(F2259,MIN(FIND(0,SUBSTITUTE(F2259,{1,2,3,4,5,6,7,8,9},0)&0))-1)=FALSE\n),\"Check\",\"\")","v":""},"","",null,"",0,"","","","",""]
["SBSA_2251","SBSA_2251",null,null,null,null,null,null,null,null,null,null,null,null,null,null,null,null,null,null,null,null,null,null,null,null,"","",{"$f":"IF(OR(\nOR(AND(D2260<>\"\",F2260=\"\"),AND(E2260<>\"\",F2260=\"\")),\nF2260=LEFT(F2260,MIN(FIND(0,SUBSTITUTE(F2260,{1,2,3,4,5,6,7,8,9},0)&0))-1)=FALSE\n),\"Check\",\"\")","v":""},"","",null,"",0,"","","","",""]
["SBSA_2256","SBSA_2256",null,null,null,null,null,null,null,null,null,null,null,null,null,null,null,null,null,null,null,null,null,null,null,null,"","",{"$f":"IF(OR(\nOR(AND(D2265<>\"\",F2265=\"\"),AND(E2265<>\"\",F2265=\"\")),\nF2265=LEFT(F2265,MIN(FIND(0,SUBSTITUTE(F2265,{1,2,3,4,5,6,7,8,9},0)&0))-1)=FALSE\n),\"Check\",\"\")","v":""},"","",null,"",0,"","","","",""]
["SBSA_2259","SBSA_2259",null,null,null,null,null,null,null,null,null,null,null,null,null,null,null,null,null,null,null,null,null,null,null,null,"","",{"$f":"IF(OR(\nOR(AND(D2268<>\"\",F2268=\"\"),AND(E2268<>\"\",F2268=\"\")),\nF2268=LEFT(F2268,MIN(FIND(0,SUBSTITUTE(F2268,{1,2,3,4,5,6,7,8,9},0)&0))-1)=FALSE\n),\"Check\",\"\")","v":""},"","",null,"",0,"","","","",""]
["SBSA_2265","SBSA_2265",null,null,null,null,null,null,null,null,null,null,null,null,null,null,null,null,null,null,null,null,null,null,null,null,"","",{"$f":"IF(OR(\nOR(AND(D2274<>\"\",F2274=\"\"),AND(E2274<>\"\",F2274=\"\")),\nF2274=LEFT(F2274,MIN(FIND(0,SUBSTITUTE(F2274,{1,2,3,4,5,6,7,8,9},0)&0))-1)=FALSE\n),\"Check\",\"\")","v":""},"","",null,"",0,"","","","",""]
["SBSA_2266","SBSA_2266",null,null,null,null,null,null,null,null,null,null,null,null,null,null,null,null,null,null,null,null,null,null,null,null,"","",{"$f":"IF(OR(\nOR(AND(D2275<>\"\",F2275=\"\"),AND(E2275<>\"\",F2275=\"\")),\nF2275=LEFT(F2275,MIN(FIND(0,SUBSTITUTE(F2275,{1,2,3,4,5,6,7,8,9},0)&0))-1)=FALSE\n),\"Check\",\"\")","v":""},"","",null,"",0,"","","","",""]
["SBSA_2271","SBSA_2271",null,null,null,null,null,null,null,null,null,null,null,null,null,null,null,null,null,null,null,null,null,null,null,null,"","",{"$f":"IF(OR(\nOR(AND(D2280<>\"\",F2280=\"\"),AND(E2280<>\"\",F2280=\"\")),\nF2280=LEFT(F2280,MIN(FIND(0,SUBSTITUTE(F2280,{1,2,3,4,5,6,7,8,9},0)&0))-1)=FALSE\n),\"Check\",\"\")","v":""},"","",null,"",0,"","","","",""]
["SBSA_2276","SBSA_2276",null,null,null,null,null,null,null,null,null,null,null,null,null,null,null,null,null,null,null,null,null,null,null,null,{"$f":"IF(AND(C2285=\"\",OR(D2285<>\"\",E2285<>\"\",F2285<>\"\",G2285<>\"\")),\"Check\",\"\")","v":""},{"$f":"IF(AND(C2285<>\"\",OR(AND(D2285=\"\",E2285=\"\"),AND(D2285=0,E2285=0),AND(ABS(D2285)>0,ABS(E2285)>0))),\"Check\",\"\")","v":""},{"$f":"IF(OR(\nOR(AND(D2285<>\"\",F2285=\"\"),AND(E2285<>\"\",F2285=\"\")),\nF2285=LEFT(F2285,MIN(FIND(0,SUBSTITUTE(F2285,{1,2,3,4,5,6,7,8,9},0)&0))-1)=FALSE\n),\"Check\",\"\")","v":""},{"$f":"IF(OR(E2285=\"\",G2285=\"\"),\"\",(E2285*G2285)/100)","v":""},{"$f":"IF(AND(F2285<>\"\",G2285=\"\"),\"Check\",\"\")","v":""},null,{"$f":"IF(C2285=\"\",\"\",C2285&\"_\"&IF(G2285=\"\",0,G2285))","v":""},{"$f":"IF(COUNTBLANK(C2285:G2285)<5,1,0)","v":0},{"$f":"IF(C2285=\"\",\"\",IF(LEN(C2285)=12,\"\",\"Check\"))","v":""},{"$f":"IF(C2285=\"\",\"\",IF(COUNTIF(C$10:C$65536,C2285)=COUNTIF(AG$10:AG$65536,AG2285),\"\",\"Check\"))","v":""},{"$f":"IF(F2285=\"\",\"\",IF(LEN(F2285)=3,\"\",\"Check\"))","v":""},{"$f":"IF(OR(IF(D2285=\"\",\"\",IF(ISNUMBER(D2285)=TRUE,\"\",\"TEXT\"))=\"TEXT\",IF(E2285=\"\",\"\",IF(ISNUMBER(E2285)=TRUE,\"\",\"TEXT\"))=\"TEXT\",IF(G2285=\"\",\"\",IF(ISNUMBER(G2285)=TRUE,\"\",\"TEXT\"))=\"TEXT\"),\"Check\",\"\")","v":""},{"$f":"IF(G2285<0,\"Check\",\"\")","v":""}]
["SBSA_2280","SBSA_2280",null,null,null,null,null,null,null,null,null,null,null,null,null,null,null,null,null,null,null,null,null,null,null,null,"","",{"$f":"IF(OR(\nOR(AND(D2289<>\"\",F2289=\"\"),AND(E2289<>\"\",F2289=\"\")),\nF2289=LEFT(F2289,MIN(FIND(0,SUBSTITUTE(F2289,{1,2,3,4,5,6,7,8,9},0)&0))-1)=FALSE\n),\"Check\",\"\")","v":""},"","",null,"",0,"","","","",""]
["SBSA_2281","SBSA_2281",null,null,null,null,null,null,null,null,null,null,null,null,null,null,null,null,null,null,null,null,null,null,null,null,"","",{"$f":"IF(OR(\nOR(AND(D2290<>\"\",F2290=\"\"),AND(E2290<>\"\",F2290=\"\")),\nF2290=LEFT(F2290,MIN(FIND(0,SUBSTITUTE(F2290,{1,2,3,4,5,6,7,8,9},0)&0))-1)=FALSE\n),\"Check\",\"\")","v":""},"","",null,"",0,"","","","",""]
["SBSA_2286","SBSA_2286",null,null,null,null,null,null,null,null,null,null,null,null,null,null,null,null,null,null,null,null,null,null,null,null,"","",{"$f":"IF(OR(\nOR(AND(D2295<>\"\",F2295=\"\"),AND(E2295<>\"\",F2295=\"\")),\nF2295=LEFT(F2295,MIN(FIND(0,SUBSTITUTE(F2295,{1,2,3,4,5,6,7,8,9},0)&0))-1)=FALSE\n),\"Check\",\"\")","v":""},"","",null,"",0,"","","","",""]
["SBSA_2289","SBSA_2289",null,null,null,null,null,null,null,null,null,null,null,null,null,null,null,null,null,null,null,null,null,null,null,null,"","",{"$f":"IF(OR(\nOR(AND(D2298<>\"\",F2298=\"\"),AND(E2298<>\"\",F2298=\"\")),\nF2298=LEFT(F2298,MIN(FIND(0,SUBSTITUTE(F2298,{1,2,3,4,5,6,7,8,9},0)&0))-1)=FALSE\n),\"Check\",\"\")","v":""},"","",null,"",0,"","","","",""]
["SBSA_2295","SBSA_2295",null,null,null,null,null,null,null,null,null,null,null,null,null,null,null,null,null,null,null,null,null,null,null,null,"","",{"$f":"IF(OR(\nOR(AND(D2304<>\"\",F2304=\"\"),AND(E2304<>\"\",F2304=\"\")),\nF2304=LEFT(F2304,MIN(FIND(0,SUBSTITUTE(F2304,{1,2,3,4,5,6,7,8,9},0)&0))-1)=FALSE\n),\"Check\",\"\")","v":""},"","",null,"",0,"","","","",""]
["SBSA_2296","SBSA_2296",null,null,null,null,null,null,null,null,null,null,null,null,null,null,null,null,null,null,null,null,null,null,null,null,"","",{"$f":"IF(OR(\nOR(AND(D2305<>\"\",F2305=\"\"),AND(E2305<>\"\",F2305=\"\")),\nF2305=LEFT(F2305,MIN(FIND(0,SUBSTITUTE(F2305,{1,2,3,4,5,6,7,8,9},0)&0))-1)=FALSE\n),\"Check\",\"\")","v":""},"","",null,"",0,"","","","",""]
["SBSA_2301","SBSA_2301",null,null,null,null,null,null,null,null,null,null,null,null,null,null,null,null,null,null,null,null,null,null,null,null,"","",{"$f":"IF(OR(\nOR(AND(D2310<>\"\",F2310=\"\"),AND(E2310<>\"\",F2310=\"\")),\nF2310=LEFT(F2310,MIN(FIND(0,SUBSTITUTE(F2310,{1,2,3,4,5,6,7,8,9},0)&0))-1)=FALSE\n),\"Check\",\"\")","v":""},"","",null,"",0,"","","","",""]
["SBSA_2306","SBSA_2306",null,null,null,null,null,null,null,null,null,null,null,null,null,null,null,null,null,null,null,null,null,null,null,null,"","",{"$f":"IF(OR(\nOR(AND(D2315<>\"\",F2315=\"\"),AND(E2315<>\"\",F2315=\"\")),\nF2315=LEFT(F2315,MIN(FIND(0,SUBSTITUTE(F2315,{1,2,3,4,5,6,7,8,9},0)&0))-1)=FALSE\n),\"Check\",\"\")","v":""},"","",null,"",0,"","","","",""]
["SBSA_2310","SBSA_2310",null,null,null,null,null,null,null,null,null,null,null,null,null,null,null,null,null,null,null,null,null,null,null,null,"","",{"$f":"IF(OR(\nOR(AND(D2319<>\"\",F2319=\"\"),AND(E2319<>\"\",F2319=\"\")),\nF2319=LEFT(F2319,MIN(FIND(0,SUBSTITUTE(F2319,{1,2,3,4,5,6,7,8,9},0)&0))-1)=FALSE\n),\"Check\",\"\")","v":""},"","",null,"",0,"","","","",""]
["SBSA_2311","SBSA_2311",null,null,null,null,null,null,null,null,null,null,null,null,null,null,null,null,null,null,null,null,null,null,null,null,"","",{"$f":"IF(OR(\nOR(AND(D2320<>\"\",F2320=\"\"),AND(E2320<>\"\",F2320=\"\")),\nF2320=LEFT(F2320,MIN(FIND(0,SUBSTITUTE(F2320,{1,2,3,4,5,6,7,8,9},0)&0))-1)=FALSE\n),\"Check\",\"\")","v":""},"","",null,"",0,"","","","",""]
["SBSA_2316","SBSA_2316",null,null,null,null,null,null,null,null,null,null,null,null,null,null,null,null,null,null,null,null,null,null,null,null,"","",{"$f":"IF(OR(\nOR(AND(D2325<>\"\",F2325=\"\"),AND(E2325<>\"\",F2325=\"\")),\nF2325=LEFT(F2325,MIN(FIND(0,SUBSTITUTE(F2325,{1,2,3,4,5,6,7,8,9},0)&0))-1)=FALSE\n),\"Check\",\"\")","v":""},"","",null,"",0,"","","","",""]
["SBSA_2321","SBSA_2321",null,null,null,null,null,null,null,null,null,null,null,null,null,null,null,null,null,null,null,null,null,null,null,null,"","",{"$f":"IF(OR(\nOR(AND(D2330<>\"\",F2330=\"\"),AND(E2330<>\"\",F2330=\"\")),\nF2330=LEFT(F2330,MIN(FIND(0,SUBSTITUTE(F2330,{1,2,3,4,5,6,7,8,9},0)&0))-1)=FALSE\n),\"Check\",\"\")","v":""},"","",null,"",0,"","","","",""]
["SBSA_2324","SBSA_2324",null,null,null,null,null,null,null,null,null,null,null,null,null,null,null,null,null,null,null,null,null,null,null,null,"","",{"$f":"IF(OR(\nOR(AND(D2333<>\"\",F2333=\"\"),AND(E2333<>\"\",F2333=\"\")),\nF2333=LEFT(F2333,MIN(FIND(0,SUBSTITUTE(F2333,{1,2,3,4,5,6,7,8,9},0)&0))-1)=FALSE\n),\"Check\",\"\")","v":""},"","",null,"",0,"","","","",""]
["SBSA_2326","SBSA_2326",null,null,null,null,null,null,null,null,null,null,null,null,null,null,null,null,null,null,null,null,null,null,null,null,"","",{"$f":"IF(OR(\nOR(AND(D2335<>\"\",F2335=\"\"),AND(E2335<>\"\",F2335=\"\")),\nF2335=LEFT(F2335,MIN(FIND(0,SUBSTITUTE(F2335,{1,2,3,4,5,6,7,8,9},0)&0))-1)=FALSE\n),\"Check\",\"\")","v":""},"","",null,"",0,"","","","",""]
["SBSA_2331","SBSA_2331",null,null,null,null,null,null,null,null,null,null,null,null,null,null,null,null,null,null,null,null,null,null,null,null,"","",{"$f":"IF(OR(\nOR(AND(D2340<>\"\",F2340=\"\"),AND(E2340<>\"\",F2340=\"\")),\nF2340=LEFT(F2340,MIN(FIND(0,SUBSTITUTE(F2340,{1,2,3,4,5,6,7,8,9},0)&0))-1)=FALSE\n),\"Check\",\"\")","v":""},"","",null,"",0,"","","","",""]
["SBSA_2336","SBSA_2336",null,null,null,null,null,null,null,null,null,null,null,null,null,null,null,null,null,null,null,null,null,null,null,null,"","",{"$f":"IF(OR(\nOR(AND(D2345<>\"\",F2345=\"\"),AND(E2345<>\"\",F2345=\"\")),\nF2345=LEFT(F2345,MIN(FIND(0,SUBSTITUTE(F2345,{1,2,3,4,5,6,7,8,9},0)&0))-1)=FALSE\n),\"Check\",\"\")","v":""},"","",null,"",0,"","","","",""]
["SBSA_2340","SBSA_2340",null,null,null,null,null,null,null,null,null,null,null,null,null,null,null,null,null,null,null,null,null,null,null,null,{"$f":"IF(AND(C2349=\"\",OR(D2349<>\"\",E2349<>\"\",F2349<>\"\",G2349<>\"\")),\"Check\",\"\")","v":""},{"$f":"IF(AND(C2349<>\"\",OR(AND(D2349=\"\",E2349=\"\"),AND(D2349=0,E2349=0),AND(ABS(D2349)>0,ABS(E2349)>0))),\"Check\",\"\")","v":""},{"$f":"IF(OR(\nOR(AND(D2349<>\"\",F2349=\"\"),AND(E2349<>\"\",F2349=\"\")),\nF2349=LEFT(F2349,MIN(FIND(0,SUBSTITUTE(F2349,{1,2,3,4,5,6,7,8,9},0)&0))-1)=FALSE\n),\"Check\",\"\")","v":""},{"$f":"IF(OR(E2349=\"\",G2349=\"\"),\"\",(E2349*G2349)/100)","v":""},{"$f":"IF(AND(F2349<>\"\",G2349=\"\"),\"Check\",\"\")","v":""},null,{"$f":"IF(C2349=\"\",\"\",C2349&\"_\"&IF(G2349=\"\",0,G2349))","v":""},{"$f":"IF(COUNTBLANK(C2349:G2349)<5,1,0)","v":0},{"$f":"IF(C2349=\"\",\"\",IF(LEN(C2349)=12,\"\",\"Check\"))","v":""},{"$f":"IF(C2349=\"\",\"\",IF(COUNTIF(C$10:C$65536,C2349)=COUNTIF(AG$10:AG$65536,AG2349),\"\",\"Check\"))","v":""},{"$f":"IF(F2349=\"\",\"\",IF(LEN(F2349)=3,\"\",\"Check\"))","v":""},{"$f":"IF(OR(IF(D2349=\"\",\"\",IF(ISNUMBER(D2349)=TRUE,\"\",\"TEXT\"))=\"TEXT\",IF(E2349=\"\",\"\",IF(ISNUMBER(E2349)=TRUE,\"\",\"TEXT\"))=\"TEXT\",IF(G2349=\"\",\"\",IF(ISNUMBER(G2349)=TRUE,\"\",\"TEXT\"))=\"TEXT\"),\"Check\",\"\")","v":""},{"$f":"IF(G2349<0,\"Check\",\"\")","v":""}]
["SBSA_2341","SBSA_2341",null,null,null,null,null,null,null,null,null,null,null,null,null,null,null,null,null,null,null,null,null,null,null,null,"","",{"$f":"IF(OR(\nOR(AND(D2350<>\"\",F2350=\"\"),AND(E2350<>\"\",F2350=\"\")),\nF2350=LEFT(F2350,MIN(FIND(0,SUBSTITUTE(F2350,{1,2,3,4,5,6,7,8,9},0)&0))-1)=FALSE\n),\"Check\",\"\")","v":""},"","",null,"",0,"","","","",""]
["SBSA_2346","SBSA_2346",null,null,null,null,null,null,null,null,null,null,null,null,null,null,null,null,null,null,null,null,null,null,null,null,"","",{"$f":"IF(OR(\nOR(AND(D2355<>\"\",F2355=\"\"),AND(E2355<>\"\",F2355=\"\")),\nF2355=LEFT(F2355,MIN(FIND(0,SUBSTITUTE(F2355,{1,2,3,4,5,6,7,8,9},0)&0))-1)=FALSE\n),\"Check\",\"\")","v":""},"","",null,"",0,"","","","",""]
["SBSA_2351","SBSA_2351",null,null,null,null,null,null,null,null,null,null,null,null,null,null,null,null,null,null,null,null,null,null,null,null,"","",{"$f":"IF(OR(\nOR(AND(D2360<>\"\",F2360=\"\"),AND(E2360<>\"\",F2360=\"\")),\nF2360=LEFT(F2360,MIN(FIND(0,SUBSTITUTE(F2360,{1,2,3,4,5,6,7,8,9},0)&0))-1)=FALSE\n),\"Check\",\"\")","v":""},"","",null,"",0,"","","","",""]
["SBSA_2354","SBSA_2354",null,null,null,null,null,null,null,null,null,null,null,null,null,null,null,null,null,null,null,null,null,null,null,null,"","",{"$f":"IF(OR(\nOR(AND(D2363<>\"\",F2363=\"\"),AND(E2363<>\"\",F2363=\"\")),\nF2363=LEFT(F2363,MIN(FIND(0,SUBSTITUTE(F2363,{1,2,3,4,5,6,7,8,9},0)&0))-1)=FALSE\n),\"Check\",\"\")","v":""},"","",null,"",0,"","","","",""]
["SBSA_2356","SBSA_2356",null,null,null,null,null,null,null,null,null,null,null,null,null,null,null,null,null,null,null,null,null,null,null,null,"","",{"$f":"IF(OR(\nOR(AND(D2365<>\"\",F2365=\"\"),AND(E2365<>\"\",F2365=\"\")),\nF2365=LEFT(F2365,MIN(FIND(0,SUBSTITUTE(F2365,{1,2,3,4,5,6,7,8,9},0)&0))-1)=FALSE\n),\"Check\",\"\")","v":""},"","",null,"",0,"","","","",""]
["SBSA_2361","SBSA_2361",null,null,null,null,null,null,null,null,null,null,null,null,null,null,null,null,null,null,null,null,null,null,null,null,"","",{"$f":"IF(OR(\nOR(AND(D2370<>\"\",F2370=\"\"),AND(E2370<>\"\",F2370=\"\")),\nF2370=LEFT(F2370,MIN(FIND(0,SUBSTITUTE(F2370,{1,2,3,4,5,6,7,8,9},0)&0))-1)=FALSE\n),\"Check\",\"\")","v":""},"","",null,"",0,"","","","",""]
["SBSA_2366","SBSA_2366",null,null,null,null,null,null,null,null,null,null,null,null,null,null,null,null,null,null,null,null,null,null,null,null,"","",{"$f":"IF(OR(\nOR(AND(D2375<>\"\",F2375=\"\"),AND(E2375<>\"\",F2375=\"\")),\nF2375=LEFT(F2375,MIN(FIND(0,SUBSTITUTE(F2375,{1,2,3,4,5,6,7,8,9},0)&0))-1)=FALSE\n),\"Check\",\"\")","v":""},"","",null,"",0,"","","","",""]
["SBSA_2370","SBSA_2370",null,null,null,null,null,null,null,null,null,null,null,null,null,null,null,null,null,null,null,null,null,null,null,null,"","",{"$f":"IF(OR(\nOR(AND(D2379<>\"\",F2379=\"\"),AND(E2379<>\"\",F2379=\"\")),\nF2379=LEFT(F2379,MIN(FIND(0,SUBSTITUTE(F2379,{1,2,3,4,5,6,7,8,9},0)&0))-1)=FALSE\n),\"Check\",\"\")","v":""},"","",null,"",0,"","","","",""]
["SBSA_2371","SBSA_2371",null,null,null,null,null,null,null,null,null,null,null,null,null,null,null,null,null,null,null,null,null,null,null,null,"","",{"$f":"IF(OR(\nOR(AND(D2380<>\"\",F2380=\"\"),AND(E2380<>\"\",F2380=\"\")),\nF2380=LEFT(F2380,MIN(FIND(0,SUBSTITUTE(F2380,{1,2,3,4,5,6,7,8,9},0)&0))-1)=FALSE\n),\"Check\",\"\")","v":""},"","",null,"",0,"","","","",""]
["SBSA_2376","SBSA_2376",null,null,null,null,null,null,null,null,null,null,null,null,null,null,null,null,null,null,null,null,null,null,null,null,"","",{"$f":"IF(OR(\nOR(AND(D2385<>\"\",F2385=\"\"),AND(E2385<>\"\",F2385=\"\")),\nF2385=LEFT(F2385,MIN(FIND(0,SUBSTITUTE(F2385,{1,2,3,4,5,6,7,8,9},0)&0))-1)=FALSE\n),\"Check\",\"\")","v":""},"","",null,"",0,"","","","",""]
["SBSA_2381","SBSA_2381",null,null,null,null,null,null,null,null,null,null,null,null,null,null,null,null,null,null,null,null,null,null,null,null,"","",{"$f":"IF(OR(\nOR(AND(D2390<>\"\",F2390=\"\"),AND(E2390<>\"\",F2390=\"\")),\nF2390=LEFT(F2390,MIN(FIND(0,SUBSTITUTE(F2390,{1,2,3,4,5,6,7,8,9},0)&0))-1)=FALSE\n),\"Check\",\"\")","v":""},"","",null,"",0,"","","","",""]
["SBSA_2384","SBSA_2384",null,null,null,null,null,null,null,null,null,null,null,null,null,null,null,null,null,null,null,null,null,null,null,null,"","",{"$f":"IF(OR(\nOR(AND(D2393<>\"\",F2393=\"\"),AND(E2393<>\"\",F2393=\"\")),\nF2393=LEFT(F2393,MIN(FIND(0,SUBSTITUTE(F2393,{1,2,3,4,5,6,7,8,9},0)&0))-1)=FALSE\n),\"Check\",\"\")","v":""},"","",null,"",0,"","","","",""]
["SBSA_2386","SBSA_2386",null,null,null,null,null,null,null,null,null,null,null,null,null,null,null,null,null,null,null,null,null,null,null,null,"","",{"$f":"IF(OR(\nOR(AND(D2395<>\"\",F2395=\"\"),AND(E2395<>\"\",F2395=\"\")),\nF2395=LEFT(F2395,MIN(FIND(0,SUBSTITUTE(F2395,{1,2,3,4,5,6,7,8,9},0)&0))-1)=FALSE\n),\"Check\",\"\")","v":""},"","",null,"",0,"","","","",""]
["SBSA_2391","SBSA_2391",null,null,null,null,null,null,null,null,null,null,null,null,null,null,null,null,null,null,null,null,null,null,null,null,"","",{"$f":"IF(OR(\nOR(AND(D2400<>\"\",F2400=\"\"),AND(E2400<>\"\",F2400=\"\")),\nF2400=LEFT(F2400,MIN(FIND(0,SUBSTITUTE(F2400,{1,2,3,4,5,6,7,8,9},0)&0))-1)=FALSE\n),\"Check\",\"\")","v":""},"","",null,"",0,"","","","",""]
["SBSA_2396","SBSA_2396",null,null,null,null,null,null,null,null,null,null,null,null,null,null,null,null,null,null,null,null,null,null,null,null,"","",{"$f":"IF(OR(\nOR(AND(D2405<>\"\",F2405=\"\"),AND(E2405<>\"\",F2405=\"\")),\nF2405=LEFT(F2405,MIN(FIND(0,SUBSTITUTE(F2405,{1,2,3,4,5,6,7,8,9},0)&0))-1)=FALSE\n),\"Check\",\"\")","v":""},"","",null,"",0,"","","","",""]
["SBSA_2401","SBSA_2401",null,null,null,null,null,null,null,null,null,null,null,null,null,null,null,null,null,null,null,null,null,null,null,null,"","",{"$f":"IF(OR(\nOR(AND(D2410<>\"\",F2410=\"\"),AND(E2410<>\"\",F2410=\"\")),\nF2410=LEFT(F2410,MIN(FIND(0,SUBSTITUTE(F2410,{1,2,3,4,5,6,7,8,9},0)&0))-1)=FALSE\n),\"Check\",\"\")","v":""},"","",null,"",0,"","","","",""]
["SBSA_2402","SBSA_2402",null,null,null,null,null,null,null,null,null,null,null,null,null,null,null,null,null,null,null,null,null,null,null,null,"","",{"$f":"IF(OR(\nOR(AND(D2411<>\"\",F2411=\"\"),AND(E2411<>\"\",F2411=\"\")),\nF2411=LEFT(F2411,MIN(FIND(0,SUBSTITUTE(F2411,{1,2,3,4,5,6,7,8,9},0)&0))-1)=FALSE\n),\"Check\",\"\")","v":""},"","",null,"",0,"","","","",""]
["SBSA_2406","SBSA_2406",null,null,null,null,null,null,null,null,null,null,null,null,null,null,null,null,null,null,null,null,null,null,null,null,"","",{"$f":"IF(OR(\nOR(AND(D2415<>\"\",F2415=\"\"),AND(E2415<>\"\",F2415=\"\")),\nF2415=LEFT(F2415,MIN(FIND(0,SUBSTITUTE(F2415,{1,2,3,4,5,6,7,8,9},0)&0))-1)=FALSE\n),\"Check\",\"\")","v":""},"","",null,"",0,"","","","",""]
["SBSA_2411","SBSA_2411",null,null,null,null,null,null,null,null,null,null,null,null,null,null,null,null,null,null,null,null,null,null,null,null,"","",{"$f":"IF(OR(\nOR(AND(D2420<>\"\",F2420=\"\"),AND(E2420<>\"\",F2420=\"\")),\nF2420=LEFT(F2420,MIN(FIND(0,SUBSTITUTE(F2420,{1,2,3,4,5,6,7,8,9},0)&0))-1)=FALSE\n),\"Check\",\"\")","v":""},"","",null,"",0,"","","","",""]
["SBSA_2416","SBSA_2416",null,null,null,null,null,null,null,null,null,null,null,null,null,null,null,null,null,null,null,null,null,null,null,null,"","",{"$f":"IF(OR(\nOR(AND(D2425<>\"\",F2425=\"\"),AND(E2425<>\"\",F2425=\"\")),\nF2425=LEFT(F2425,MIN(FIND(0,SUBSTITUTE(F2425,{1,2,3,4,5,6,7,8,9},0)&0))-1)=FALSE\n),\"Check\",\"\")","v":""},"","",null,"",0,"","","","",""]
["SBSA_2418","SBSA_2418",null,null,null,null,null,null,null,null,null,null,null,null,null,null,null,null,null,null,null,null,null,null,null,null,"","",{"$f":"IF(OR(\nOR(AND(D2427<>\"\",F2427=\"\"),AND(E2427<>\"\",F2427=\"\")),\nF2427=LEFT(F2427,MIN(FIND(0,SUBSTITUTE(F2427,{1,2,3,4,5,6,7,8,9},0)&0))-1)=FALSE\n),\"Check\",\"\")","v":""},"","",null,"",0,"","","","",""]
["SBSA_2421","SBSA_2421",null,null,null,null,null,null,null,null,null,null,null,null,null,null,null,null,null,null,null,null,null,null,null,null,"","",{"$f":"IF(OR(\nOR(AND(D2430<>\"\",F2430=\"\"),AND(E2430<>\"\",F2430=\"\")),\nF2430=LEFT(F2430,MIN(FIND(0,SUBSTITUTE(F2430,{1,2,3,4,5,6,7,8,9},0)&0))-1)=FALSE\n),\"Check\",\"\")","v":""},"","",null,"",0,"","","","",""]
["SBSA_2426","SBSA_2426",null,null,null,null,null,null,null,null,null,null,null,null,null,null,null,null,null,null,null,null,null,null,null,null,"","",{"$f":"IF(OR(\nOR(AND(D2435<>\"\",F2435=\"\"),AND(E2435<>\"\",F2435=\"\")),\nF2435=LEFT(F2435,MIN(FIND(0,SUBSTITUTE(F2435,{1,2,3,4,5,6,7,8,9},0)&0))-1)=FALSE\n),\"Check\",\"\")","v":""},"","",null,"",0,"","","","",""]
["SBSA_2431","SBSA_2431",null,null,null,null,null,null,null,null,null,null,null,null,null,null,null,null,null,null,null,null,null,null,null,null,"","",{"$f":"IF(OR(\nOR(AND(D2440<>\"\",F2440=\"\"),AND(E2440<>\"\",F2440=\"\")),\nF2440=LEFT(F2440,MIN(FIND(0,SUBSTITUTE(F2440,{1,2,3,4,5,6,7,8,9},0)&0))-1)=FALSE\n),\"Check\",\"\")","v":""},"","",null,"",0,"","","","",""]
["SBSA_2432","SBSA_2432",null,null,null,null,null,null,null,null,null,null,null,null,null,null,null,null,null,null,null,null,null,null,null,null,"","",{"$f":"IF(OR(\nOR(AND(D2441<>\"\",F2441=\"\"),AND(E2441<>\"\",F2441=\"\")),\nF2441=LEFT(F2441,MIN(FIND(0,SUBSTITUTE(F2441,{1,2,3,4,5,6,7,8,9},0)&0))-1)=FALSE\n),\"Check\",\"\")","v":""},"","",null,"",0,"","","","",""]
["SBSA_2436","SBSA_2436",null,null,null,null,null,null,null,null,null,null,null,null,null,null,null,null,null,null,null,null,null,null,null,null,"","",{"$f":"IF(OR(\nOR(AND(D2445<>\"\",F2445=\"\"),AND(E2445<>\"\",F2445=\"\")),\nF2445=LEFT(F2445,MIN(FIND(0,SUBSTITUTE(F2445,{1,2,3,4,5,6,7,8,9},0)&0))-1)=FALSE\n),\"Check\",\"\")","v":""},"","",null,"",0,"","","","",""]
["SBSA_2441","SBSA_2441",null,null,null,null,null,null,null,null,null,null,null,null,null,null,null,null,null,null,null,null,null,null,null,null,"","",{"$f":"IF(OR(\nOR(AND(D2450<>\"\",F2450=\"\"),AND(E2450<>\"\",F2450=\"\")),\nF2450=LEFT(F2450,MIN(FIND(0,SUBSTITUTE(F2450,{1,2,3,4,5,6,7,8,9},0)&0))-1)=FALSE\n),\"Check\",\"\")","v":""},"","",null,"",0,"","","","",""]
["SBSA_2446","SBSA_2446",null,null,null,null,null,null,null,null,null,null,null,null,null,null,null,null,null,null,null,null,null,null,null,null,"","",{"$f":"IF(OR(\nOR(AND(D2455<>\"\",F2455=\"\"),AND(E2455<>\"\",F2455=\"\")),\nF2455=LEFT(F2455,MIN(FIND(0,SUBSTITUTE(F2455,{1,2,3,4,5,6,7,8,9},0)&0))-1)=FALSE\n),\"Check\",\"\")","v":""},"","",null,"",0,"","","","",""]
["SBSA_2448","SBSA_2448",null,null,null,null,null,null,null,null,null,null,null,null,null,null,null,null,null,null,null,null,null,null,null,null,"","",{"$f":"IF(OR(\nOR(AND(D2457<>\"\",F2457=\"\"),AND(E2457<>\"\",F2457=\"\")),\nF2457=LEFT(F2457,MIN(FIND(0,SUBSTITUTE(F2457,{1,2,3,4,5,6,7,8,9},0)&0))-1)=FALSE\n),\"Check\",\"\")","v":""},"","",null,"",0,"","","","",""]
["SBSA_2451","SBSA_2451",null,null,null,null,null,null,null,null,null,null,null,null,null,null,null,null,null,null,null,null,null,null,null,null,"","",{"$f":"IF(OR(\nOR(AND(D2460<>\"\",F2460=\"\"),AND(E2460<>\"\",F2460=\"\")),\nF2460=LEFT(F2460,MIN(FIND(0,SUBSTITUTE(F2460,{1,2,3,4,5,6,7,8,9},0)&0))-1)=FALSE\n),\"Check\",\"\")","v":""},"","",null,"",0,"","","","",""]
["SBSA_2456","SBSA_2456",null,null,null,null,null,null,null,null,null,null,null,null,null,null,null,null,null,null,null,null,null,null,null,null,"","",{"$f":"IF(OR(\nOR(AND(D2465<>\"\",F2465=\"\"),AND(E2465<>\"\",F2465=\"\")),\nF2465=LEFT(F2465,MIN(FIND(0,SUBSTITUTE(F2465,{1,2,3,4,5,6,7,8,9},0)&0))-1)=FALSE\n),\"Check\",\"\")","v":""},"","",null,"",0,"","","","",""]
["SBSA_2461","SBSA_2461",null,null,null,null,null,null,null,null,null,null,null,null,null,null,null,null,null,null,null,null,null,null,null,null,"","",{"$f":"IF(OR(\nOR(AND(D2470<>\"\",F2470=\"\"),AND(E2470<>\"\",F2470=\"\")),\nF2470=LEFT(F2470,MIN(FIND(0,SUBSTITUTE(F2470,{1,2,3,4,5,6,7,8,9},0)&0))-1)=FALSE\n),\"Check\",\"\")","v":""},"","",null,"",0,"","","","",""]
["SBSA_2462","SBSA_2462",null,null,null,null,null,null,null,null,null,null,null,null,null,null,null,null,null,null,null,null,null,null,null,null,"","",{"$f":"IF(OR(\nOR(AND(D2471<>\"\",F2471=\"\"),AND(E2471<>\"\",F2471=\"\")),\nF2471=LEFT(F2471,MIN(FIND(0,SUBSTITUTE(F2471,{1,2,3,4,5,6,7,8,9},0)&0))-1)=FALSE\n),\"Check\",\"\")","v":""},"","",null,"",0,"","","","",""]
["SBSA_2466","SBSA_2466",null,null,null,null,null,null,null,null,null,null,null,null,null,null,null,null,null,null,null,null,null,null,null,null,"","",{"$f":"IF(OR(\nOR(AND(D2475<>\"\",F2475=\"\"),AND(E2475<>\"\",F2475=\"\")),\nF2475=LEFT(F2475,MIN(FIND(0,SUBSTITUTE(F2475,{1,2,3,4,5,6,7,8,9},0)&0))-1)=FALSE\n),\"Check\",\"\")","v":""},"","",null,"",0,"","","","",""]
["SBSA_2471","SBSA_2471",null,null,null,null,null,null,null,null,null,null,null,null,null,null,null,null,null,null,null,null,null,null,null,null,"","",{"$f":"IF(OR(\nOR(AND(D2480<>\"\",F2480=\"\"),AND(E2480<>\"\",F2480=\"\")),\nF2480=LEFT(F2480,MIN(FIND(0,SUBSTITUTE(F2480,{1,2,3,4,5,6,7,8,9},0)&0))-1)=FALSE\n),\"Check\",\"\")","v":""},"","",null,"",0,"","","","",""]
["SBSA_2476","SBSA_2476",null,null,null,null,null,null,null,null,null,null,null,null,null,null,null,null,null,null,null,null,null,null,null,null,"","",{"$f":"IF(OR(\nOR(AND(D2485<>\"\",F2485=\"\"),AND(E2485<>\"\",F2485=\"\")),\nF2485=LEFT(F2485,MIN(FIND(0,SUBSTITUTE(F2485,{1,2,3,4,5,6,7,8,9},0)&0))-1)=FALSE\n),\"Check\",\"\")","v":""},"","",null,"",0,"","","","",""]
["SBSA_2478","SBSA_2478",null,null,null,null,null,null,null,null,null,null,null,null,null,null,null,null,null,null,null,null,null,null,null,null,"","",{"$f":"IF(OR(\nOR(AND(D2487<>\"\",F2487=\"\"),AND(E2487<>\"\",F2487=\"\")),\nF2487=LEFT(F2487,MIN(FIND(0,SUBSTITUTE(F2487,{1,2,3,4,5,6,7,8,9},0)&0))-1)=FALSE\n),\"Check\",\"\")","v":""},"","",null,"",0,"","","","",""]
["SBSA_2481","SBSA_2481",null,null,null,null,null,null,null,null,null,null,null,null,null,null,null,null,null,null,null,null,null,null,null,null,"","",{"$f":"IF(OR(\nOR(AND(D2490<>\"\",F2490=\"\"),AND(E2490<>\"\",F2490=\"\")),\nF2490=LEFT(F2490,MIN(FIND(0,SUBSTITUTE(F2490,{1,2,3,4,5,6,7,8,9},0)&0))-1)=FALSE\n),\"Check\",\"\")","v":""},"","",null,"",0,"","","","",""]
["SBSA_2486","SBSA_2486",null,null,null,null,null,null,null,null,null,null,null,null,null,null,null,null,null,null,null,null,null,null,null,null,"","",{"$f":"IF(OR(\nOR(AND(D2495<>\"\",F2495=\"\"),AND(E2495<>\"\",F2495=\"\")),\nF2495=LEFT(F2495,MIN(FIND(0,SUBSTITUTE(F2495,{1,2,3,4,5,6,7,8,9},0)&0))-1)=FALSE\n),\"Check\",\"\")","v":""},"","",null,"",0,"","","","",""]
["SBSA_2491","SBSA_2491",null,null,null,null,null,null,null,null,null,null,null,null,null,null,null,null,null,null,null,null,null,null,null,null,"","",{"$f":"IF(OR(\nOR(AND(D2500<>\"\",F2500=\"\"),AND(E2500<>\"\",F2500=\"\")),\nF2500=LEFT(F2500,MIN(FIND(0,SUBSTITUTE(F2500,{1,2,3,4,5,6,7,8,9},0)&0))-1)=FALSE\n),\"Check\",\"\")","v":""},"","",null,"",0,"","","","",""]
["SBSA_2492","SBSA_2492",null,null,null,null,null,null,null,null,null,null,null,null,null,null,null,null,null,null,null,null,null,null,null,null,"","",{"$f":"IF(OR(\nOR(AND(D2501<>\"\",F2501=\"\"),AND(E2501<>\"\",F2501=\"\")),\nF2501=LEFT(F2501,MIN(FIND(0,SUBSTITUTE(F2501,{1,2,3,4,5,6,7,8,9},0)&0))-1)=FALSE\n),\"Check\",\"\")","v":""},"","",null,"",0,"","","","",""]
["SBSA_2496","SBSA_2496",null,null,null,null,null,null,null,null,null,null,null,null,null,null,null,null,null,null,null,null,null,null,null,null,"","",{"$f":"IF(OR(\nOR(AND(D2505<>\"\",F2505=\"\"),AND(E2505<>\"\",F2505=\"\")),\nF2505=LEFT(F2505,MIN(FIND(0,SUBSTITUTE(F2505,{1,2,3,4,5,6,7,8,9},0)&0))-1)=FALSE\n),\"Check\",\"\")","v":""},"","",null,"",0,"","","","",""]
["SBSA_2501","SBSA_2501",null,null,null,null,null,null,null,null,null,null,null,null,null,null,null,null,null,null,null,null,null,null,null,null,"","",{"$f":"IF(OR(\nOR(AND(D2510<>\"\",F2510=\"\"),AND(E2510<>\"\",F2510=\"\")),\nF2510=LEFT(F2510,MIN(FIND(0,SUBSTITUTE(F2510,{1,2,3,4,5,6,7,8,9},0)&0))-1)=FALSE\n),\"Check\",\"\")","v":""},"","",null,"",0,"","","","",""]
["SBSA_2506","SBSA_2506",null,null,null,null,null,null,null,null,null,null,null,null,null,null,null,null,null,null,null,null,null,null,null,null,"","",{"$f":"IF(OR(\nOR(AND(D2515<>\"\",F2515=\"\"),AND(E2515<>\"\",F2515=\"\")),\nF2515=LEFT(F2515,MIN(FIND(0,SUBSTITUTE(F2515,{1,2,3,4,5,6,7,8,9},0)&0))-1)=FALSE\n),\"Check\",\"\")","v":""},"","",null,"",0,"","","","",""]
["SBSA_2507","SBSA_2507",null,null,null,null,null,null,null,null,null,null,null,null,null,null,null,null,null,null,null,null,null,null,null,null,"","",{"$f":"IF(OR(\nOR(AND(D2516<>\"\",F2516=\"\"),AND(E2516<>\"\",F2516=\"\")),\nF2516=LEFT(F2516,MIN(FIND(0,SUBSTITUTE(F2516,{1,2,3,4,5,6,7,8,9},0)&0))-1)=FALSE\n),\"Check\",\"\")","v":""},"","",null,"",0,"","","","",""]
["SBSA_2513","SBSA_2513",null,null,null,null,null,null,null,null,null,null,null,null,null,null,null,null,null,null,null,null,null,null,null,null,"","",{"$f":"IF(OR(\nOR(AND(D2522<>\"\",F2522=\"\"),AND(E2522<>\"\",F2522=\"\")),\nF2522=LEFT(F2522,MIN(FIND(0,SUBSTITUTE(F2522,{1,2,3,4,5,6,7,8,9},0)&0))-1)=FALSE\n),\"Check\",\"\")","v":""},"","",null,"",0,"","","","",""]
["SBSA_2516","SBSA_2516",null,null,null,null,null,null,null,null,null,null,null,null,null,null,null,null,null,null,null,null,null,null,null,null,"","",{"$f":"IF(OR(\nOR(AND(D2525<>\"\",F2525=\"\"),AND(E2525<>\"\",F2525=\"\")),\nF2525=LEFT(F2525,MIN(FIND(0,SUBSTITUTE(F2525,{1,2,3,4,5,6,7,8,9},0)&0))-1)=FALSE\n),\"Check\",\"\")","v":""},"","",null,"",0,"","","","",""]
["SBSA_2521","SBSA_2521",null,null,null,null,null,null,null,null,null,null,null,null,null,null,null,null,null,null,null,null,null,null,null,null,"","",{"$f":"IF(OR(\nOR(AND(D2530<>\"\",F2530=\"\"),AND(E2530<>\"\",F2530=\"\")),\nF2530=LEFT(F2530,MIN(FIND(0,SUBSTITUTE(F2530,{1,2,3,4,5,6,7,8,9},0)&0))-1)=FALSE\n),\"Check\",\"\")","v":""},"","",null,"",0,"","","","",""]
["SBSA_2522","SBSA_2522",null,null,null,null,null,null,null,null,null,null,null,null,null,null,null,null,null,null,null,null,null,null,null,null,"","",{"$f":"IF(OR(\nOR(AND(D2531<>\"\",F2531=\"\"),AND(E2531<>\"\",F2531=\"\")),\nF2531=LEFT(F2531,MIN(FIND(0,SUBSTITUTE(F2531,{1,2,3,4,5,6,7,8,9},0)&0))-1)=FALSE\n),\"Check\",\"\")","v":""},"","",null,"",0,"","","","",""]
["SBSA_2526","SBSA_2526",null,null,null,null,null,null,null,null,null,null,null,null,null,null,null,null,null,null,null,null,null,null,null,null,"","",{"$f":"IF(OR(\nOR(AND(D2535<>\"\",F2535=\"\"),AND(E2535<>\"\",F2535=\"\")),\nF2535=LEFT(F2535,MIN(FIND(0,SUBSTITUTE(F2535,{1,2,3,4,5,6,7,8,9},0)&0))-1)=FALSE\n),\"Check\",\"\")","v":""},"","",null,"",0,"","","","",""]
["SBSA_2531","SBSA_2531",null,null,null,null,null,null,null,null,null,null,null,null,null,null,null,null,null,null,null,null,null,null,null,null,"","",{"$f":"IF(OR(\nOR(AND(D2540<>\"\",F2540=\"\"),AND(E2540<>\"\",F2540=\"\")),\nF2540=LEFT(F2540,MIN(FIND(0,SUBSTITUTE(F2540,{1,2,3,4,5,6,7,8,9},0)&0))-1)=FALSE\n),\"Check\",\"\")","v":""},"","",null,"",0,"","","","",""]
["SBSA_2536","SBSA_2536",null,null,null,null,null,null,null,null,null,null,null,null,null,null,null,null,null,null,null,null,null,null,null,null,"","",{"$f":"IF(OR(\nOR(AND(D2545<>\"\",F2545=\"\"),AND(E2545<>\"\",F2545=\"\")),\nF2545=LEFT(F2545,MIN(FIND(0,SUBSTITUTE(F2545,{1,2,3,4,5,6,7,8,9},0)&0))-1)=FALSE\n),\"Check\",\"\")","v":""},"","",null,"",0,"","","","",""]
["SBSA_2537","SBSA_2537",null,null,null,null,null,null,null,null,null,null,null,null,null,null,null,null,null,null,null,null,null,null,null,null,"","",{"$f":"IF(OR(\nOR(AND(D2546<>\"\",F2546=\"\"),AND(E2546<>\"\",F2546=\"\")),\nF2546=LEFT(F2546,MIN(FIND(0,SUBSTITUTE(F2546,{1,2,3,4,5,6,7,8,9},0)&0))-1)=FALSE\n),\"Check\",\"\")","v":""},"","",null,"",0,"","","","",""]
["SBSA_2543","SBSA_2543",null,null,null,null,null,null,null,null,null,null,null,null,null,null,null,null,null,null,null,null,null,null,null,null,"","",{"$f":"IF(OR(\nOR(AND(D2552<>\"\",F2552=\"\"),AND(E2552<>\"\",F2552=\"\")),\nF2552=LEFT(F2552,MIN(FIND(0,SUBSTITUTE(F2552,{1,2,3,4,5,6,7,8,9},0)&0))-1)=FALSE\n),\"Check\",\"\")","v":""},"","",null,"",0,"","","","",""]
["SBSA_2546","SBSA_2546",null,null,null,null,null,null,null,null,null,null,null,null,null,null,null,null,null,null,null,null,null,null,null,null,"","",{"$f":"IF(OR(\nOR(AND(D2555<>\"\",F2555=\"\"),AND(E2555<>\"\",F2555=\"\")),\nF2555=LEFT(F2555,MIN(FIND(0,SUBSTITUTE(F2555,{1,2,3,4,5,6,7,8,9},0)&0))-1)=FALSE\n),\"Check\",\"\")","v":""},"","",null,"",0,"","","","",""]
["SBSA_2551","SBSA_2551",null,null,null,null,null,null,null,null,null,null,null,null,null,null,null,null,null,null,null,null,null,null,null,null,"","",{"$f":"IF(OR(\nOR(AND(D2560<>\"\",F2560=\"\"),AND(E2560<>\"\",F2560=\"\")),\nF2560=LEFT(F2560,MIN(FIND(0,SUBSTITUTE(F2560,{1,2,3,4,5,6,7,8,9},0)&0))-1)=FALSE\n),\"Check\",\"\")","v":""},"","",null,"",0,"","","","",""]
["SBSA_2552","SBSA_2552",null,null,null,null,null,null,null,null,null,null,null,null,null,null,null,null,null,null,null,null,null,null,null,null,"","",{"$f":"IF(OR(\nOR(AND(D2561<>\"\",F2561=\"\"),AND(E2561<>\"\",F2561=\"\")),\nF2561=LEFT(F2561,MIN(FIND(0,SUBSTITUTE(F2561,{1,2,3,4,5,6,7,8,9},0)&0))-1)=FALSE\n),\"Check\",\"\")","v":""},"","",null,"",0,"","","","",""]
["SBSA_2556","SBSA_2556",null,null,null,null,null,null,null,null,null,null,null,null,null,null,null,null,null,null,null,null,null,null,null,null,"","",{"$f":"IF(OR(\nOR(AND(D2565<>\"\",F2565=\"\"),AND(E2565<>\"\",F2565=\"\")),\nF2565=LEFT(F2565,MIN(FIND(0,SUBSTITUTE(F2565,{1,2,3,4,5,6,7,8,9},0)&0))-1)=FALSE\n),\"Check\",\"\")","v":""},"","",null,"",0,"","","","",""]
["SBSA_2561","SBSA_2561",null,null,null,null,null,null,null,null,null,null,null,null,null,null,null,null,null,null,null,null,null,null,null,null,"","",{"$f":"IF(OR(\nOR(AND(D2570<>\"\",F2570=\"\"),AND(E2570<>\"\",F2570=\"\")),\nF2570=LEFT(F2570,MIN(FIND(0,SUBSTITUTE(F2570,{1,2,3,4,5,6,7,8,9},0)&0))-1)=FALSE\n),\"Check\",\"\")","v":""},"","",null,"",0,"","","","",""]
["SBSA_2566","SBSA_2566",null,null,null,null,null,null,null,null,null,null,null,null,null,null,null,null,null,null,null,null,null,null,null,null,"","",{"$f":"IF(OR(\nOR(AND(D2575<>\"\",F2575=\"\"),AND(E2575<>\"\",F2575=\"\")),\nF2575=LEFT(F2575,MIN(FIND(0,SUBSTITUTE(F2575,{1,2,3,4,5,6,7,8,9},0)&0))-1)=FALSE\n),\"Check\",\"\")","v":""},"","",null,"",0,"","","","",""]
["SBSA_2567","SBSA_2567",null,null,null,null,null,null,null,null,null,null,null,null,null,null,null,null,null,null,null,null,null,null,null,null,"","",{"$f":"IF(OR(\nOR(AND(D2576<>\"\",F2576=\"\"),AND(E2576<>\"\",F2576=\"\")),\nF2576=LEFT(F2576,MIN(FIND(0,SUBSTITUTE(F2576,{1,2,3,4,5,6,7,8,9},0)&0))-1)=FALSE\n),\"Check\",\"\")","v":""},"","",null,"",0,"","","","",""]
["SBSA_2573","SBSA_2573",null,null,null,null,null,null,null,null,null,null,null,null,null,null,null,null,null,null,null,null,null,null,null,null,"","",{"$f":"IF(OR(\nOR(AND(D2582<>\"\",F2582=\"\"),AND(E2582<>\"\",F2582=\"\")),\nF2582=LEFT(F2582,MIN(FIND(0,SUBSTITUTE(F2582,{1,2,3,4,5,6,7,8,9},0)&0))-1)=FALSE\n),\"Check\",\"\")","v":""},"","",null,"",0,"","","","",""]
["SBSA_2576","SBSA_2576",null,null,null,null,null,null,null,null,null,null,null,null,null,null,null,null,null,null,null,null,null,null,null,null,"","",{"$f":"IF(OR(\nOR(AND(D2585<>\"\",F2585=\"\"),AND(E2585<>\"\",F2585=\"\")),\nF2585=LEFT(F2585,MIN(FIND(0,SUBSTITUTE(F2585,{1,2,3,4,5,6,7,8,9},0)&0))-1)=FALSE\n),\"Check\",\"\")","v":""},"","",null,"",0,"","","","",""]
["SBSA_2581","SBSA_2581",null,null,null,null,null,null,null,null,null,null,null,null,null,null,null,null,null,null,null,null,null,null,null,null,"","",{"$f":"IF(OR(\nOR(AND(D2590<>\"\",F2590=\"\"),AND(E2590<>\"\",F2590=\"\")),\nF2590=LEFT(F2590,MIN(FIND(0,SUBSTITUTE(F2590,{1,2,3,4,5,6,7,8,9},0)&0))-1)=FALSE\n),\"Check\",\"\")","v":""},"","",null,"",0,"","","","",""]
["SBSA_2582","SBSA_2582",null,null,null,null,null,null,null,null,null,null,null,null,null,null,null,null,null,null,null,null,null,null,null,null,"","",{"$f":"IF(OR(\nOR(AND(D2591<>\"\",F2591=\"\"),AND(E2591<>\"\",F2591=\"\")),\nF2591=LEFT(F2591,MIN(FIND(0,SUBSTITUTE(F2591,{1,2,3,4,5,6,7,8,9},0)&0))-1)=FALSE\n),\"Check\",\"\")","v":""},"","",null,"",0,"","","","",""]
["SBSA_2587","SBSA_2587",null,null,null,null,null,null,null,null,null,null,null,null,null,null,null,null,null,null,null,null,null,null,null,null,"","",{"$f":"IF(OR(\nOR(AND(D2596<>\"\",F2596=\"\"),AND(E2596<>\"\",F2596=\"\")),\nF2596=LEFT(F2596,MIN(FIND(0,SUBSTITUTE(F2596,{1,2,3,4,5,6,7,8,9},0)&0))-1)=FALSE\n),\"Check\",\"\")","v":""},"","",null,"",0,"","","","",""]
["SBSA_2591","SBSA_2591",null,null,null,null,null,null,null,null,null,null,null,null,null,null,null,null,null,null,null,null,null,null,null,null,"","",{"$f":"IF(OR(\nOR(AND(D2600<>\"\",F2600=\"\"),AND(E2600<>\"\",F2600=\"\")),\nF2600=LEFT(F2600,MIN(FIND(0,SUBSTITUTE(F2600,{1,2,3,4,5,6,7,8,9},0)&0))-1)=FALSE\n),\"Check\",\"\")","v":""},"","",null,"",0,"","","","",""]
["SBSA_2596","SBSA_2596",null,null,null,null,null,null,null,null,null,null,null,null,null,null,null,null,null,null,null,null,null,null,null,null,{"$f":"IF(AND(C2605=\"\",OR(D2605<>\"\",E2605<>\"\",F2605<>\"\",G2605<>\"\")),\"Check\",\"\")","v":""},{"$f":"IF(AND(C2605<>\"\",OR(AND(D2605=\"\",E2605=\"\"),AND(D2605=0,E2605=0),AND(ABS(D2605)>0,ABS(E2605)>0))),\"Check\",\"\")","v":""},{"$f":"IF(OR(\nOR(AND(D2605<>\"\",F2605=\"\"),AND(E2605<>\"\",F2605=\"\")),\nF2605=LEFT(F2605,MIN(FIND(0,SUBSTITUTE(F2605,{1,2,3,4,5,6,7,8,9},0)&0))-1)=FALSE\n),\"Check\",\"\")","v":""},{"$f":"IF(OR(E2605=\"\",G2605=\"\"),\"\",(E2605*G2605)/100)","v":""},{"$f":"IF(AND(F2605<>\"\",G2605=\"\"),\"Check\",\"\")","v":""},null,{"$f":"IF(C2605=\"\",\"\",C2605&\"_\"&IF(G2605=\"\",0,G2605))","v":""},{"$f":"IF(COUNTBLANK(C2605:G2605)<5,1,0)","v":0},{"$f":"IF(C2605=\"\",\"\",IF(LEN(C2605)=12,\"\",\"Check\"))","v":""},{"$f":"IF(C2605=\"\",\"\",IF(COUNTIF(C$10:C$65536,C2605)=COUNTIF(AG$10:AG$65536,AG2605),\"\",\"Check\"))","v":""},{"$f":"IF(F2605=\"\",\"\",IF(LEN(F2605)=3,\"\",\"Check\"))","v":""},{"$f":"IF(OR(IF(D2605=\"\",\"\",IF(ISNUMBER(D2605)=TRUE,\"\",\"TEXT\"))=\"TEXT\",IF(E2605=\"\",\"\",IF(ISNUMBER(E2605)=TRUE,\"\",\"TEXT\"))=\"TEXT\",IF(G2605=\"\",\"\",IF(ISNUMBER(G2605)=TRUE,\"\",\"TEXT\"))=\"TEXT\"),\"Check\",\"\")","v":""},{"$f":"IF(G2605<0,\"Check\",\"\")","v":""}]
["SBSA_2597","SBSA_2597",null,null,null,null,null,null,null,null,null,null,null,null,null,null,null,null,null,null,null,null,null,null,null,null,"","",{"$f":"IF(OR(\nOR(AND(D2606<>\"\",F2606=\"\"),AND(E2606<>\"\",F2606=\"\")),\nF2606=LEFT(F2606,MIN(FIND(0,SUBSTITUTE(F2606,{1,2,3,4,5,6,7,8,9},0)&0))-1)=FALSE\n),\"Check\",\"\")","v":""},"","",null,"",0,"","","","",""]
["SBSA_2602","SBSA_2602",null,null,null,null,null,null,null,null,null,null,null,null,null,null,null,null,null,null,null,null,null,null,null,null,"","",{"$f":"IF(OR(\nOR(AND(D2611<>\"\",F2611=\"\"),AND(E2611<>\"\",F2611=\"\")),\nF2611=LEFT(F2611,MIN(FIND(0,SUBSTITUTE(F2611,{1,2,3,4,5,6,7,8,9},0)&0))-1)=FALSE\n),\"Check\",\"\")","v":""},"","",null,"",0,"","","","",""]
["SBSA_2607","SBSA_2607",null,null,null,null,null,null,null,null,null,null,null,null,null,null,null,null,null,null,null,null,null,null,null,null,"","",{"$f":"IF(OR(\nOR(AND(D2616<>\"\",F2616=\"\"),AND(E2616<>\"\",F2616=\"\")),\nF2616=LEFT(F2616,MIN(FIND(0,SUBSTITUTE(F2616,{1,2,3,4,5,6,7,8,9},0)&0))-1)=FALSE\n),\"Check\",\"\")","v":""},"","",null,"",0,"","","","",""]
["SBSA_2611","SBSA_2611",null,null,null,null,null,null,null,null,null,null,null,null,null,null,null,null,null,null,null,null,null,null,null,null,"","",{"$f":"IF(OR(\nOR(AND(D2620<>\"\",F2620=\"\"),AND(E2620<>\"\",F2620=\"\")),\nF2620=LEFT(F2620,MIN(FIND(0,SUBSTITUTE(F2620,{1,2,3,4,5,6,7,8,9},0)&0))-1)=FALSE\n),\"Check\",\"\")","v":""},"","",null,"",0,"","","","",""]
["SBSA_2612","SBSA_2612",null,null,null,null,null,null,null,null,null,null,null,null,null,null,null,null,null,null,null,null,null,null,null,null,"","",{"$f":"IF(OR(\nOR(AND(D2621<>\"\",F2621=\"\"),AND(E2621<>\"\",F2621=\"\")),\nF2621=LEFT(F2621,MIN(FIND(0,SUBSTITUTE(F2621,{1,2,3,4,5,6,7,8,9},0)&0))-1)=FALSE\n),\"Check\",\"\")","v":""},"","",null,"",0,"","","","",""]
["SBSA_2617","SBSA_2617",null,null,null,null,null,null,null,null,null,null,null,null,null,null,null,null,null,null,null,null,null,null,null,null,"","",{"$f":"IF(OR(\nOR(AND(D2626<>\"\",F2626=\"\"),AND(E2626<>\"\",F2626=\"\")),\nF2626=LEFT(F2626,MIN(FIND(0,SUBSTITUTE(F2626,{1,2,3,4,5,6,7,8,9},0)&0))-1)=FALSE\n),\"Check\",\"\")","v":""},"","",null,"",0,"","","","",""]
["SBSA_2621","SBSA_2621",null,null,null,null,null,null,null,null,null,null,null,null,null,null,null,null,null,null,null,null,null,null,null,null,"","",{"$f":"IF(OR(\nOR(AND(D2630<>\"\",F2630=\"\"),AND(E2630<>\"\",F2630=\"\")),\nF2630=LEFT(F2630,MIN(FIND(0,SUBSTITUTE(F2630,{1,2,3,4,5,6,7,8,9},0)&0))-1)=FALSE\n),\"Check\",\"\")","v":""},"","",null,"",0,"","","","",""]
["SBSA_2626","SBSA_2626",null,null,null,null,null,null,null,null,null,null,null,null,null,null,null,null,null,null,null,null,null,null,null,null,"","",{"$f":"IF(OR(\nOR(AND(D2635<>\"\",F2635=\"\"),AND(E2635<>\"\",F2635=\"\")),\nF2635=LEFT(F2635,MIN(FIND(0,SUBSTITUTE(F2635,{1,2,3,4,5,6,7,8,9},0)&0))-1)=FALSE\n),\"Check\",\"\")","v":""},"","",null,"",0,"","","","",""]
["SBSA_2627","SBSA_2627",null,null,null,null,null,null,null,null,null,null,null,null,null,null,null,null,null,null,null,null,null,null,null,null,"","",{"$f":"IF(OR(\nOR(AND(D2636<>\"\",F2636=\"\"),AND(E2636<>\"\",F2636=\"\")),\nF2636=LEFT(F2636,MIN(FIND(0,SUBSTITUTE(F2636,{1,2,3,4,5,6,7,8,9},0)&0))-1)=FALSE\n),\"Check\",\"\")","v":""},"","",null,"",0,"","","","",""]
["SBSA_2632","SBSA_2632",null,null,null,null,null,null,null,null,null,null,null,null,null,null,null,null,null,null,null,null,null,null,null,null,"","",{"$f":"IF(OR(\nOR(AND(D2641<>\"\",F2641=\"\"),AND(E2641<>\"\",F2641=\"\")),\nF2641=LEFT(F2641,MIN(FIND(0,SUBSTITUTE(F2641,{1,2,3,4,5,6,7,8,9},0)&0))-1)=FALSE\n),\"Check\",\"\")","v":""},"","",null,"",0,"","","","",""]
["SBSA_2637","SBSA_2637",null,null,null,null,null,null,null,null,null,null,null,null,null,null,null,null,null,null,null,null,null,null,null,null,"","",{"$f":"IF(OR(\nOR(AND(D2646<>\"\",F2646=\"\"),AND(E2646<>\"\",F2646=\"\")),\nF2646=LEFT(F2646,MIN(FIND(0,SUBSTITUTE(F2646,{1,2,3,4,5,6,7,8,9},0)&0))-1)=FALSE\n),\"Check\",\"\")","v":""},"","",null,"",0,"","","","",""]
["SBSA_2641","SBSA_2641",null,null,null,null,null,null,null,null,null,null,null,null,null,null,null,null,null,null,null,null,null,null,null,null,"","",{"$f":"IF(OR(\nOR(AND(D2650<>\"\",F2650=\"\"),AND(E2650<>\"\",F2650=\"\")),\nF2650=LEFT(F2650,MIN(FIND(0,SUBSTITUTE(F2650,{1,2,3,4,5,6,7,8,9},0)&0))-1)=FALSE\n),\"Check\",\"\")","v":""},"","",null,"",0,"","","","",""]
["SBSA_2642","SBSA_2642",null,null,null,null,null,null,null,null,null,null,null,null,null,null,null,null,null,null,null,null,null,null,null,null,"","",{"$f":"IF(OR(\nOR(AND(D2651<>\"\",F2651=\"\"),AND(E2651<>\"\",F2651=\"\")),\nF2651=LEFT(F2651,MIN(FIND(0,SUBSTITUTE(F2651,{1,2,3,4,5,6,7,8,9},0)&0))-1)=FALSE\n),\"Check\",\"\")","v":""},"","",null,"",0,"","","","",""]
["SBSA_2647","SBSA_2647",null,null,null,null,null,null,null,null,null,null,null,null,null,null,null,null,null,null,null,null,null,null,null,null,"","",{"$f":"IF(OR(\nOR(AND(D2656<>\"\",F2656=\"\"),AND(E2656<>\"\",F2656=\"\")),\nF2656=LEFT(F2656,MIN(FIND(0,SUBSTITUTE(F2656,{1,2,3,4,5,6,7,8,9},0)&0))-1)=FALSE\n),\"Check\",\"\")","v":""},"","",null,"",0,"","","","",""]
["SBSA_2651","SBSA_2651",null,null,null,null,null,null,null,null,null,null,null,null,null,null,null,null,null,null,null,null,null,null,null,null,"","",{"$f":"IF(OR(\nOR(AND(D2660<>\"\",F2660=\"\"),AND(E2660<>\"\",F2660=\"\")),\nF2660=LEFT(F2660,MIN(FIND(0,SUBSTITUTE(F2660,{1,2,3,4,5,6,7,8,9},0)&0))-1)=FALSE\n),\"Check\",\"\")","v":""},"","",null,"",0,"","","","",""]
["SBSA_2656","SBSA_2656",null,null,null,null,null,null,null,null,null,null,null,null,null,null,null,null,null,null,null,null,null,null,null,null,"","",{"$f":"IF(OR(\nOR(AND(D2665<>\"\",F2665=\"\"),AND(E2665<>\"\",F2665=\"\")),\nF2665=LEFT(F2665,MIN(FIND(0,SUBSTITUTE(F2665,{1,2,3,4,5,6,7,8,9},0)&0))-1)=FALSE\n),\"Check\",\"\")","v":""},"","",null,"",0,"","","","",""]
["SBSA_2657","SBSA_2657",null,null,null,null,null,null,null,null,null,null,null,null,null,null,null,null,null,null,null,null,null,null,null,null,"","",{"$f":"IF(OR(\nOR(AND(D2666<>\"\",F2666=\"\"),AND(E2666<>\"\",F2666=\"\")),\nF2666=LEFT(F2666,MIN(FIND(0,SUBSTITUTE(F2666,{1,2,3,4,5,6,7,8,9},0)&0))-1)=FALSE\n),\"Check\",\"\")","v":""},"","",null,"",0,"","","","",""]
["SBSA_2662","SBSA_2662",null,null,null,null,null,null,null,null,null,null,null,null,null,null,null,null,null,null,null,null,null,null,null,null,"","",{"$f":"IF(OR(\nOR(AND(D2671<>\"\",F2671=\"\"),AND(E2671<>\"\",F2671=\"\")),\nF2671=LEFT(F2671,MIN(FIND(0,SUBSTITUTE(F2671,{1,2,3,4,5,6,7,8,9},0)&0))-1)=FALSE\n),\"Check\",\"\")","v":""},"","",null,"",0,"","","","",""]
["SBSA_2667","SBSA_2667",null,null,null,null,null,null,null,null,null,null,null,null,null,null,null,null,null,null,null,null,null,null,null,null,"","",{"$f":"IF(OR(\nOR(AND(D2676<>\"\",F2676=\"\"),AND(E2676<>\"\",F2676=\"\")),\nF2676=LEFT(F2676,MIN(FIND(0,SUBSTITUTE(F2676,{1,2,3,4,5,6,7,8,9},0)&0))-1)=FALSE\n),\"Check\",\"\")","v":""},"","",null,"",0,"","","","",""]
["SBSA_2671","SBSA_2671",null,null,null,null,null,null,null,null,null,null,null,null,null,null,null,null,null,null,null,null,null,null,null,null,"","",{"$f":"IF(OR(\nOR(AND(D2680<>\"\",F2680=\"\"),AND(E2680<>\"\",F2680=\"\")),\nF2680=LEFT(F2680,MIN(FIND(0,SUBSTITUTE(F2680,{1,2,3,4,5,6,7,8,9},0)&0))-1)=FALSE\n),\"Check\",\"\")","v":""},"","",null,"",0,"","","","",""]
["SBSA_2672","SBSA_2672",null,null,null,null,null,null,null,null,null,null,null,null,null,null,null,null,null,null,null,null,null,null,null,null,"","",{"$f":"IF(OR(\nOR(AND(D2681<>\"\",F2681=\"\"),AND(E2681<>\"\",F2681=\"\")),\nF2681=LEFT(F2681,MIN(FIND(0,SUBSTITUTE(F2681,{1,2,3,4,5,6,7,8,9},0)&0))-1)=FALSE\n),\"Check\",\"\")","v":""},"","",null,"",0,"","","","",""]
["SBSA_2677","SBSA_2677",null,null,null,null,null,null,null,null,null,null,null,null,null,null,null,null,null,null,null,null,null,null,null,null,"","",{"$f":"IF(OR(\nOR(AND(D2686<>\"\",F2686=\"\"),AND(E2686<>\"\",F2686=\"\")),\nF2686=LEFT(F2686,MIN(FIND(0,SUBSTITUTE(F2686,{1,2,3,4,5,6,7,8,9},0)&0))-1)=FALSE\n),\"Check\",\"\")","v":""},"","",null,"",0,"","","","",""]
["SBSA_2682","SBSA_2682",null,null,null,null,null,null,null,null,null,null,null,null,null,null,null,null,null,null,null,null,null,null,null,null,"","",{"$f":"IF(OR(\nOR(AND(D2691<>\"\",F2691=\"\"),AND(E2691<>\"\",F2691=\"\")),\nF2691=LEFT(F2691,MIN(FIND(0,SUBSTITUTE(F2691,{1,2,3,4,5,6,7,8,9},0)&0))-1)=FALSE\n),\"Check\",\"\")","v":""},"","",null,"",0,"","","","",""]
["SBSA_2685","SBSA_2685",null,null,null,null,null,null,null,null,null,null,null,null,null,null,null,null,null,null,null,null,null,null,null,null,"","",{"$f":"IF(OR(\nOR(AND(D2694<>\"\",F2694=\"\"),AND(E2694<>\"\",F2694=\"\")),\nF2694=LEFT(F2694,MIN(FIND(0,SUBSTITUTE(F2694,{1,2,3,4,5,6,7,8,9},0)&0))-1)=FALSE\n),\"Check\",\"\")","v":""},"","",null,"",0,"","","","",""]
["SBSA_2687","SBSA_2687",null,null,null,null,null,null,null,null,null,null,null,null,null,null,null,null,null,null,null,null,null,null,null,null,"","",{"$f":"IF(OR(\nOR(AND(D2696<>\"\",F2696=\"\"),AND(E2696<>\"\",F2696=\"\")),\nF2696=LEFT(F2696,MIN(FIND(0,SUBSTITUTE(F2696,{1,2,3,4,5,6,7,8,9},0)&0))-1)=FALSE\n),\"Check\",\"\")","v":""},"","",null,"",0,"","","","",""]
["SBSA_2692","SBSA_2692",null,null,null,null,null,null,null,null,null,null,null,null,null,null,null,null,null,null,null,null,null,null,null,null,"","",{"$f":"IF(OR(\nOR(AND(D2701<>\"\",F2701=\"\"),AND(E2701<>\"\",F2701=\"\")),\nF2701=LEFT(F2701,MIN(FIND(0,SUBSTITUTE(F2701,{1,2,3,4,5,6,7,8,9},0)&0))-1)=FALSE\n),\"Check\",\"\")","v":""},"","",null,"",0,"","","","",""]
["SBSA_2697","SBSA_2697",null,null,null,null,null,null,null,null,null,null,null,null,null,null,null,null,null,null,null,null,null,null,null,null,"","",{"$f":"IF(OR(\nOR(AND(D2706<>\"\",F2706=\"\"),AND(E2706<>\"\",F2706=\"\")),\nF2706=LEFT(F2706,MIN(FIND(0,SUBSTITUTE(F2706,{1,2,3,4,5,6,7,8,9},0)&0))-1)=FALSE\n),\"Check\",\"\")","v":""},"","",null,"",0,"","","","",""]
["SBSA_2699","SBSA_2699",null,null,null,null,null,null,null,null,null,null,null,null,null,null,null,null,null,null,null,null,null,null,null,null,"","",{"$f":"IF(OR(\nOR(AND(D2708<>\"\",F2708=\"\"),AND(E2708<>\"\",F2708=\"\")),\nF2708=LEFT(F2708,MIN(FIND(0,SUBSTITUTE(F2708,{1,2,3,4,5,6,7,8,9},0)&0))-1)=FALSE\n),\"Check\",\"\")","v":""},"","",null,"",0,"","","","",""]
["SBSA_2702","SBSA_2702",null,null,null,null,null,null,null,null,null,null,null,null,null,null,null,null,null,null,null,null,null,null,null,null,"","",{"$f":"IF(OR(\nOR(AND(D2711<>\"\",F2711=\"\"),AND(E2711<>\"\",F2711=\"\")),\nF2711=LEFT(F2711,MIN(FIND(0,SUBSTITUTE(F2711,{1,2,3,4,5,6,7,8,9},0)&0))-1)=FALSE\n),\"Check\",\"\")","v":""},"","",null,"",0,"","","","",""]
["SBSA_2707","SBSA_2707",null,null,null,null,null,null,null,null,null,null,null,null,null,null,null,null,null,null,null,null,null,null,null,null,"","",{"$f":"IF(OR(\nOR(AND(D2716<>\"\",F2716=\"\"),AND(E2716<>\"\",F2716=\"\")),\nF2716=LEFT(F2716,MIN(FIND(0,SUBSTITUTE(F2716,{1,2,3,4,5,6,7,8,9},0)&0))-1)=FALSE\n),\"Check\",\"\")","v":""},"","",null,"",0,"","","","",""]
["SBSA_2712","SBSA_2712",null,null,null,null,null,null,null,null,null,null,null,null,null,null,null,null,null,null,null,null,null,null,null,null,"","",{"$f":"IF(OR(\nOR(AND(D2721<>\"\",F2721=\"\"),AND(E2721<>\"\",F2721=\"\")),\nF2721=LEFT(F2721,MIN(FIND(0,SUBSTITUTE(F2721,{1,2,3,4,5,6,7,8,9},0)&0))-1)=FALSE\n),\"Check\",\"\")","v":""},"","",null,"",0,"","","","",""]
["SBSA_2715","SBSA_2715",null,null,null,null,null,null,null,null,null,null,null,null,null,null,null,null,null,null,null,null,null,null,null,null,"","",{"$f":"IF(OR(\nOR(AND(D2724<>\"\",F2724=\"\"),AND(E2724<>\"\",F2724=\"\")),\nF2724=LEFT(F2724,MIN(FIND(0,SUBSTITUTE(F2724,{1,2,3,4,5,6,7,8,9},0)&0))-1)=FALSE\n),\"Check\",\"\")","v":""},"","",null,"",0,"","","","",""]
["SBSA_2717","SBSA_2717",null,null,null,null,null,null,null,null,null,null,null,null,null,null,null,null,null,null,null,null,null,null,null,null,"","",{"$f":"IF(OR(\nOR(AND(D2726<>\"\",F2726=\"\"),AND(E2726<>\"\",F2726=\"\")),\nF2726=LEFT(F2726,MIN(FIND(0,SUBSTITUTE(F2726,{1,2,3,4,5,6,7,8,9},0)&0))-1)=FALSE\n),\"Check\",\"\")","v":""},"","",null,"",0,"","","","",""]
["SBSA_2722","SBSA_2722",null,null,null,null,null,null,null,null,null,null,null,null,null,null,null,null,null,null,null,null,null,null,null,null,"","",{"$f":"IF(OR(\nOR(AND(D2731<>\"\",F2731=\"\"),AND(E2731<>\"\",F2731=\"\")),\nF2731=LEFT(F2731,MIN(FIND(0,SUBSTITUTE(F2731,{1,2,3,4,5,6,7,8,9},0)&0))-1)=FALSE\n),\"Check\",\"\")","v":""},"","",null,"",0,"","","","",""]
["SBSA_2727","SBSA_2727",null,null,null,null,null,null,null,null,null,null,null,null,null,null,null,null,null,null,null,null,null,null,null,null,"","",{"$f":"IF(OR(\nOR(AND(D2736<>\"\",F2736=\"\"),AND(E2736<>\"\",F2736=\"\")),\nF2736=LEFT(F2736,MIN(FIND(0,SUBSTITUTE(F2736,{1,2,3,4,5,6,7,8,9},0)&0))-1)=FALSE\n),\"Check\",\"\")","v":""},"","",null,"",0,"","","","",""]
["SBSA_2729","SBSA_2729",null,null,null,null,null,null,null,null,null,null,null,null,null,null,null,null,null,null,null,null,null,null,null,null,"","",{"$f":"IF(OR(\nOR(AND(D2738<>\"\",F2738=\"\"),AND(E2738<>\"\",F2738=\"\")),\nF2738=LEFT(F2738,MIN(FIND(0,SUBSTITUTE(F2738,{1,2,3,4,5,6,7,8,9},0)&0))-1)=FALSE\n),\"Check\",\"\")","v":""},"","",null,"",0,"","","","",""]
["SBSA_2732","SBSA_2732",null,null,null,null,null,null,null,null,null,null,null,null,null,null,null,null,null,null,null,null,null,null,null,null,"","",{"$f":"IF(OR(\nOR(AND(D2741<>\"\",F2741=\"\"),AND(E2741<>\"\",F2741=\"\")),\nF2741=LEFT(F2741,MIN(FIND(0,SUBSTITUTE(F2741,{1,2,3,4,5,6,7,8,9},0)&0))-1)=FALSE\n),\"Check\",\"\")","v":""},"","",null,"",0,"","","","",""]
["SBSA_2737","SBSA_2737",null,null,null,null,null,null,null,null,null,null,null,null,null,null,null,null,null,null,null,null,null,null,null,null,"","",{"$f":"IF(OR(\nOR(AND(D2746<>\"\",F2746=\"\"),AND(E2746<>\"\",F2746=\"\")),\nF2746=LEFT(F2746,MIN(FIND(0,SUBSTITUTE(F2746,{1,2,3,4,5,6,7,8,9},0)&0))-1)=FALSE\n),\"Check\",\"\")","v":""},"","",null,"",0,"","","","",""]
["SBSA_2742","SBSA_2742",null,null,null,null,null,null,null,null,null,null,null,null,null,null,null,null,null,null,null,null,null,null,null,null,"","",{"$f":"IF(OR(\nOR(AND(D2751<>\"\",F2751=\"\"),AND(E2751<>\"\",F2751=\"\")),\nF2751=LEFT(F2751,MIN(FIND(0,SUBSTITUTE(F2751,{1,2,3,4,5,6,7,8,9},0)&0))-1)=FALSE\n),\"Check\",\"\")","v":""},"","",null,"",0,"","","","",""]
["SBSA_2745","SBSA_2745",null,null,null,null,null,null,null,null,null,null,null,null,null,null,null,null,null,null,null,null,null,null,null,null,"","",{"$f":"IF(OR(\nOR(AND(D2754<>\"\",F2754=\"\"),AND(E2754<>\"\",F2754=\"\")),\nF2754=LEFT(F2754,MIN(FIND(0,SUBSTITUTE(F2754,{1,2,3,4,5,6,7,8,9},0)&0))-1)=FALSE\n),\"Check\",\"\")","v":""},"","",null,"",0,"","","","",""]
["SBSA_2747","SBSA_2747",null,null,null,null,null,null,null,null,null,null,null,null,null,null,null,null,null,null,null,null,null,null,null,null,"","",{"$f":"IF(OR(\nOR(AND(D2756<>\"\",F2756=\"\"),AND(E2756<>\"\",F2756=\"\")),\nF2756=LEFT(F2756,MIN(FIND(0,SUBSTITUTE(F2756,{1,2,3,4,5,6,7,8,9},0)&0))-1)=FALSE\n),\"Check\",\"\")","v":""},"","",null,"",0,"","","","",""]
["SBSA_2752","SBSA_2752",null,null,null,null,null,null,null,null,null,null,null,null,null,null,null,null,null,null,null,null,null,null,null,null,"","",{"$f":"IF(OR(\nOR(AND(D2761<>\"\",F2761=\"\"),AND(E2761<>\"\",F2761=\"\")),\nF2761=LEFT(F2761,MIN(FIND(0,SUBSTITUTE(F2761,{1,2,3,4,5,6,7,8,9},0)&0))-1)=FALSE\n),\"Check\",\"\")","v":""},"","",null,"",0,"","","","",""]
["SBSA_2757","SBSA_2757",null,null,null,null,null,null,null,null,null,null,null,null,null,null,null,null,null,null,null,null,null,null,null,null,"","",{"$f":"IF(OR(\nOR(AND(D2766<>\"\",F2766=\"\"),AND(E2766<>\"\",F2766=\"\")),\nF2766=LEFT(F2766,MIN(FIND(0,SUBSTITUTE(F2766,{1,2,3,4,5,6,7,8,9},0)&0))-1)=FALSE\n),\"Check\",\"\")","v":""},"","",null,"",0,"","","","",""]
["SBSA_2759","SBSA_2759",null,null,null,null,null,null,null,null,null,null,null,null,null,null,null,null,null,null,null,null,null,null,null,null,"","",{"$f":"IF(OR(\nOR(AND(D2768<>\"\",F2768=\"\"),AND(E2768<>\"\",F2768=\"\")),\nF2768=LEFT(F2768,MIN(FIND(0,SUBSTITUTE(F2768,{1,2,3,4,5,6,7,8,9},0)&0))-1)=FALSE\n),\"Check\",\"\")","v":""},"","",null,"",0,"","","","",""]
["SBSA_2762","SBSA_2762",null,null,null,null,null,null,null,null,null,null,null,null,null,null,null,null,null,null,null,null,null,null,null,null,"","",{"$f":"IF(OR(\nOR(AND(D2771<>\"\",F2771=\"\"),AND(E2771<>\"\",F2771=\"\")),\nF2771=LEFT(F2771,MIN(FIND(0,SUBSTITUTE(F2771,{1,2,3,4,5,6,7,8,9},0)&0))-1)=FALSE\n),\"Check\",\"\")","v":""},"","",null,"",0,"","","","",""]
["SBSA_2767","SBSA_2767",null,null,null,null,null,null,null,null,null,null,null,null,null,null,null,null,null,null,null,null,null,null,null,null,"","",{"$f":"IF(OR(\nOR(AND(D2776<>\"\",F2776=\"\"),AND(E2776<>\"\",F2776=\"\")),\nF2776=LEFT(F2776,MIN(FIND(0,SUBSTITUTE(F2776,{1,2,3,4,5,6,7,8,9},0)&0))-1)=FALSE\n),\"Check\",\"\")","v":""},"","",null,"",0,"","","","",""]
["SBSA_2772","SBSA_2772",null,null,null,null,null,null,null,null,null,null,null,null,null,null,null,null,null,null,null,null,null,null,null,null,"","",{"$f":"IF(OR(\nOR(AND(D2781<>\"\",F2781=\"\"),AND(E2781<>\"\",F2781=\"\")),\nF2781=LEFT(F2781,MIN(FIND(0,SUBSTITUTE(F2781,{1,2,3,4,5,6,7,8,9},0)&0))-1)=FALSE\n),\"Check\",\"\")","v":""},"","",null,"",0,"","","","",""]
["SBSA_2777","SBSA_2777",null,null,null,null,null,null,null,null,null,null,null,null,null,null,null,null,null,null,null,null,null,null,null,null,"","",{"$f":"IF(OR(\nOR(AND(D2786<>\"\",F2786=\"\"),AND(E2786<>\"\",F2786=\"\")),\nF2786=LEFT(F2786,MIN(FIND(0,SUBSTITUTE(F2786,{1,2,3,4,5,6,7,8,9},0)&0))-1)=FALSE\n),\"Check\",\"\")","v":""},"","",null,"",0,"","","","",""]
["SBSA_2780","SBSA_2780",null,null,null,null,null,null,null,null,null,null,null,null,null,null,null,null,null,null,null,null,null,null,null,null,"","",{"$f":"IF(OR(\nOR(AND(D2789<>\"\",F2789=\"\"),AND(E2789<>\"\",F2789=\"\")),\nF2789=LEFT(F2789,MIN(FIND(0,SUBSTITUTE(F2789,{1,2,3,4,5,6,7,8,9},0)&0))-1)=FALSE\n),\"Check\",\"\")","v":""},"","",null,"",0,"","","","",""]
["SBSA_2782","SBSA_2782",null,null,null,null,null,null,null,null,null,null,null,null,null,null,null,null,null,null,null,null,null,null,null,null,"","",{"$f":"IF(OR(\nOR(AND(D2791<>\"\",F2791=\"\"),AND(E2791<>\"\",F2791=\"\")),\nF2791=LEFT(F2791,MIN(FIND(0,SUBSTITUTE(F2791,{1,2,3,4,5,6,7,8,9},0)&0))-1)=FALSE\n),\"Check\",\"\")","v":""},"","",null,"",0,"","","","",""]
["SBSA_2787","SBSA_2787",null,null,null,null,null,null,null,null,null,null,null,null,null,null,null,null,null,null,null,null,null,null,null,null,"","",{"$f":"IF(OR(\nOR(AND(D2796<>\"\",F2796=\"\"),AND(E2796<>\"\",F2796=\"\")),\nF2796=LEFT(F2796,MIN(FIND(0,SUBSTITUTE(F2796,{1,2,3,4,5,6,7,8,9},0)&0))-1)=FALSE\n),\"Check\",\"\")","v":""},"","",null,"",0,"","","","",""]
["SBSA_2792","SBSA_2792",null,null,null,null,null,null,null,null,null,null,null,null,null,null,null,null,null,null,null,null,null,null,null,null,"","",{"$f":"IF(OR(\nOR(AND(D2801<>\"\",F2801=\"\"),AND(E2801<>\"\",F2801=\"\")),\nF2801=LEFT(F2801,MIN(FIND(0,SUBSTITUTE(F2801,{1,2,3,4,5,6,7,8,9},0)&0))-1)=FALSE\n),\"Check\",\"\")","v":""},"","",null,"",0,"","","","",""]
["SBSA_2793","SBSA_2793",null,null,null,null,null,null,null,null,null,null,null,null,null,null,null,null,null,null,null,null,null,null,null,null,"","",{"$f":"IF(OR(\nOR(AND(D2802<>\"\",F2802=\"\"),AND(E2802<>\"\",F2802=\"\")),\nF2802=LEFT(F2802,MIN(FIND(0,SUBSTITUTE(F2802,{1,2,3,4,5,6,7,8,9},0)&0))-1)=FALSE\n),\"Check\",\"\")","v":""},"","",null,"",0,"","","","",""]
["SBSA_2797","SBSA_2797",null,null,null,null,null,null,null,null,null,null,null,null,null,null,null,null,null,null,null,null,null,null,null,null,"","",{"$f":"IF(OR(\nOR(AND(D2806<>\"\",F2806=\"\"),AND(E2806<>\"\",F2806=\"\")),\nF2806=LEFT(F2806,MIN(FIND(0,SUBSTITUTE(F2806,{1,2,3,4,5,6,7,8,9},0)&0))-1)=FALSE\n),\"Check\",\"\")","v":""},"","",null,"",0,"","","","",""]
["SBSA_2802","SBSA_2802",null,null,null,null,null,null,null,null,null,null,null,null,null,null,null,null,null,null,null,null,null,null,null,null,"","",{"$f":"IF(OR(\nOR(AND(D2811<>\"\",F2811=\"\"),AND(E2811<>\"\",F2811=\"\")),\nF2811=LEFT(F2811,MIN(FIND(0,SUBSTITUTE(F2811,{1,2,3,4,5,6,7,8,9},0)&0))-1)=FALSE\n),\"Check\",\"\")","v":""},"","",null,"",0,"","","","",""]
["SBSA_2807","SBSA_2807",null,null,null,null,null,null,null,null,null,null,null,null,null,null,null,null,null,null,null,null,null,null,null,null,"","",{"$f":"IF(OR(\nOR(AND(D2816<>\"\",F2816=\"\"),AND(E2816<>\"\",F2816=\"\")),\nF2816=LEFT(F2816,MIN(FIND(0,SUBSTITUTE(F2816,{1,2,3,4,5,6,7,8,9},0)&0))-1)=FALSE\n),\"Check\",\"\")","v":""},"","",null,"",0,"","","","",""]
["SBSA_2810","SBSA_2810",null,null,null,null,null,null,null,null,null,null,null,null,null,null,null,null,null,null,null,null,null,null,null,null,"","",{"$f":"IF(OR(\nOR(AND(D2819<>\"\",F2819=\"\"),AND(E2819<>\"\",F2819=\"\")),\nF2819=LEFT(F2819,MIN(FIND(0,SUBSTITUTE(F2819,{1,2,3,4,5,6,7,8,9},0)&0))-1)=FALSE\n),\"Check\",\"\")","v":""},"","",null,"",0,"","","","",""]
["SBSA_2812","SBSA_2812",null,null,null,null,null,null,null,null,null,null,null,null,null,null,null,null,null,null,null,null,null,null,null,null,"","",{"$f":"IF(OR(\nOR(AND(D2821<>\"\",F2821=\"\"),AND(E2821<>\"\",F2821=\"\")),\nF2821=LEFT(F2821,MIN(FIND(0,SUBSTITUTE(F2821,{1,2,3,4,5,6,7,8,9},0)&0))-1)=FALSE\n),\"Check\",\"\")","v":""},"","",null,"",0,"","","","",""]
["SBSA_2817","SBSA_2817",null,null,null,null,null,null,null,null,null,null,null,null,null,null,null,null,null,null,null,null,null,null,null,null,"","",{"$f":"IF(OR(\nOR(AND(D2826<>\"\",F2826=\"\"),AND(E2826<>\"\",F2826=\"\")),\nF2826=LEFT(F2826,MIN(FIND(0,SUBSTITUTE(F2826,{1,2,3,4,5,6,7,8,9},0)&0))-1)=FALSE\n),\"Check\",\"\")","v":""},"","",null,"",0,"","","","",""]
["SBSA_2822","SBSA_2822",null,null,null,null,null,null,null,null,null,null,null,null,null,null,null,null,null,null,null,null,null,null,null,null,"","",{"$f":"IF(OR(\nOR(AND(D2831<>\"\",F2831=\"\"),AND(E2831<>\"\",F2831=\"\")),\nF2831=LEFT(F2831,MIN(FIND(0,SUBSTITUTE(F2831,{1,2,3,4,5,6,7,8,9},0)&0))-1)=FALSE\n),\"Check\",\"\")","v":""},"","",null,"",0,"","","","",""]
["SBSA_2824","SBSA_2824",null,null,null,null,null,null,null,null,null,null,null,null,null,null,null,null,null,null,null,null,null,null,null,null,"","",{"$f":"IF(OR(\nOR(AND(D2833<>\"\",F2833=\"\"),AND(E2833<>\"\",F2833=\"\")),\nF2833=LEFT(F2833,MIN(FIND(0,SUBSTITUTE(F2833,{1,2,3,4,5,6,7,8,9},0)&0))-1)=FALSE\n),\"Check\",\"\")","v":""},"","",null,"",0,"","","","",""]
["SBSA_2827","SBSA_2827",null,null,null,null,null,null,null,null,null,null,null,null,null,null,null,null,null,null,null,null,null,null,null,null,"","",{"$f":"IF(OR(\nOR(AND(D2836<>\"\",F2836=\"\"),AND(E2836<>\"\",F2836=\"\")),\nF2836=LEFT(F2836,MIN(FIND(0,SUBSTITUTE(F2836,{1,2,3,4,5,6,7,8,9},0)&0))-1)=FALSE\n),\"Check\",\"\")","v":""},"","",null,"",0,"","","","",""]
["SBSA_2832","SBSA_2832",null,null,null,null,null,null,null,null,null,null,null,null,null,null,null,null,null,null,null,null,null,null,null,null,"","",{"$f":"IF(OR(\nOR(AND(D2841<>\"\",F2841=\"\"),AND(E2841<>\"\",F2841=\"\")),\nF2841=LEFT(F2841,MIN(FIND(0,SUBSTITUTE(F2841,{1,2,3,4,5,6,7,8,9},0)&0))-1)=FALSE\n),\"Check\",\"\")","v":""},"","",null,"",0,"","","","",""]
["SBSA_2837","SBSA_2837",null,null,null,null,null,null,null,null,null,null,null,null,null,null,null,null,null,null,null,null,null,null,null,null,"","",{"$f":"IF(OR(\nOR(AND(D2846<>\"\",F2846=\"\"),AND(E2846<>\"\",F2846=\"\")),\nF2846=LEFT(F2846,MIN(FIND(0,SUBSTITUTE(F2846,{1,2,3,4,5,6,7,8,9},0)&0))-1)=FALSE\n),\"Check\",\"\")","v":""},"","",null,"",0,"","","","",""]
["SBSA_2840","SBSA_2840",null,null,null,null,null,null,null,null,null,null,null,null,null,null,null,null,null,null,null,null,null,null,null,null,"","",{"$f":"IF(OR(\nOR(AND(D2849<>\"\",F2849=\"\"),AND(E2849<>\"\",F2849=\"\")),\nF2849=LEFT(F2849,MIN(FIND(0,SUBSTITUTE(F2849,{1,2,3,4,5,6,7,8,9},0)&0))-1)=FALSE\n),\"Check\",\"\")","v":""},"","",null,"",0,"","","","",""]
["SBSA_2842","SBSA_2842",null,null,null,null,null,null,null,null,null,null,null,null,null,null,null,null,null,null,null,null,null,null,null,null,"","",{"$f":"IF(OR(\nOR(AND(D2851<>\"\",F2851=\"\"),AND(E2851<>\"\",F2851=\"\")),\nF2851=LEFT(F2851,MIN(FIND(0,SUBSTITUTE(F2851,{1,2,3,4,5,6,7,8,9},0)&0))-1)=FALSE\n),\"Check\",\"\")","v":""},"","",null,"",0,"","","","",""]
["SBSA_2847","SBSA_2847",null,null,null,null,null,null,null,null,null,null,null,null,null,null,null,null,null,null,null,null,null,null,null,null,"","",{"$f":"IF(OR(\nOR(AND(D2856<>\"\",F2856=\"\"),AND(E2856<>\"\",F2856=\"\")),\nF2856=LEFT(F2856,MIN(FIND(0,SUBSTITUTE(F2856,{1,2,3,4,5,6,7,8,9},0)&0))-1)=FALSE\n),\"Check\",\"\")","v":""},"","",null,"",0,"","","","",""]
["SBSA_2852","SBSA_2852",null,null,null,null,null,null,null,null,null,null,null,null,null,null,null,null,null,null,null,null,null,null,null,null,{"$f":"IF(AND(C2861=\"\",OR(D2861<>\"\",E2861<>\"\",F2861<>\"\",G2861<>\"\")),\"Check\",\"\")","v":""},{"$f":"IF(AND(C2861<>\"\",OR(AND(D2861=\"\",E2861=\"\"),AND(D2861=0,E2861=0),AND(ABS(D2861)>0,ABS(E2861)>0))),\"Check\",\"\")","v":""},{"$f":"IF(OR(\nOR(AND(D2861<>\"\",F2861=\"\"),AND(E2861<>\"\",F2861=\"\")),\nF2861=LEFT(F2861,MIN(FIND(0,SUBSTITUTE(F2861,{1,2,3,4,5,6,7,8,9},0)&0))-1)=FALSE\n),\"Check\",\"\")","v":""},{"$f":"IF(OR(E2861=\"\",G2861=\"\"),\"\",(E2861*G2861)/100)","v":""},{"$f":"IF(AND(F2861<>\"\",G2861=\"\"),\"Check\",\"\")","v":""},null,{"$f":"IF(C2861=\"\",\"\",C2861&\"_\"&IF(G2861=\"\",0,G2861))","v":""},{"$f":"IF(COUNTBLANK(C2861:G2861)<5,1,0)","v":0},{"$f":"IF(C2861=\"\",\"\",IF(LEN(C2861)=12,\"\",\"Check\"))","v":""},{"$f":"IF(C2861=\"\",\"\",IF(COUNTIF(C$10:C$65536,C2861)=COUNTIF(AG$10:AG$65536,AG2861),\"\",\"Check\"))","v":""},{"$f":"IF(F2861=\"\",\"\",IF(LEN(F2861)=3,\"\",\"Check\"))","v":""},{"$f":"IF(OR(IF(D2861=\"\",\"\",IF(ISNUMBER(D2861)=TRUE,\"\",\"TEXT\"))=\"TEXT\",IF(E2861=\"\",\"\",IF(ISNUMBER(E2861)=TRUE,\"\",\"TEXT\"))=\"TEXT\",IF(G2861=\"\",\"\",IF(ISNUMBER(G2861)=TRUE,\"\",\"TEXT\"))=\"TEXT\"),\"Check\",\"\")","v":""},{"$f":"IF(G2861<0,\"Check\",\"\")","v":""}]
["SBSA_2854","SBSA_2854",null,null,null,null,null,null,null,null,null,null,null,null,null,null,null,null,null,null,null,null,null,null,null,null,"","",{"$f":"IF(OR(\nOR(AND(D2863<>\"\",F2863=\"\"),AND(E2863<>\"\",F2863=\"\")),\nF2863=LEFT(F2863,MIN(FIND(0,SUBSTITUTE(F2863,{1,2,3,4,5,6,7,8,9},0)&0))-1)=FALSE\n),\"Check\",\"\")","v":""},"","",null,"",0,"","","","",""]
["SBSA_2857","SBSA_2857",null,null,null,null,null,null,null,null,null,null,null,null,null,null,null,null,null,null,null,null,null,null,null,null,"","",{"$f":"IF(OR(\nOR(AND(D2866<>\"\",F2866=\"\"),AND(E2866<>\"\",F2866=\"\")),\nF2866=LEFT(F2866,MIN(FIND(0,SUBSTITUTE(F2866,{1,2,3,4,5,6,7,8,9},0)&0))-1)=FALSE\n),\"Check\",\"\")","v":""},"","",null,"",0,"","","","",""]
["SBSA_2862","SBSA_2862",null,null,null,null,null,null,null,null,null,null,null,null,null,null,null,null,null,null,null,null,null,null,null,null,"","",{"$f":"IF(OR(\nOR(AND(D2871<>\"\",F2871=\"\"),AND(E2871<>\"\",F2871=\"\")),\nF2871=LEFT(F2871,MIN(FIND(0,SUBSTITUTE(F2871,{1,2,3,4,5,6,7,8,9},0)&0))-1)=FALSE\n),\"Check\",\"\")","v":""},"","",null,"",0,"","","","",""]
["SBSA_2867","SBSA_2867",null,null,null,null,null,null,null,null,null,null,null,null,null,null,null,null,null,null,null,null,null,null,null,null,"","",{"$f":"IF(OR(\nOR(AND(D2876<>\"\",F2876=\"\"),AND(E2876<>\"\",F2876=\"\")),\nF2876=LEFT(F2876,MIN(FIND(0,SUBSTITUTE(F2876,{1,2,3,4,5,6,7,8,9},0)&0))-1)=FALSE\n),\"Check\",\"\")","v":""},"","",null,"",0,"","","","",""]
["SBSA_2868","SBSA_2868",null,null,null,null,null,null,null,null,null,null,null,null,null,null,null,null,null,null,null,null,null,null,null,null,"","",{"$f":"IF(OR(\nOR(AND(D2877<>\"\",F2877=\"\"),AND(E2877<>\"\",F2877=\"\")),\nF2877=LEFT(F2877,MIN(FIND(0,SUBSTITUTE(F2877,{1,2,3,4,5,6,7,8,9},0)&0))-1)=FALSE\n),\"Check\",\"\")","v":""},"","",null,"",0,"","","","",""]
["SBSA_2874","SBSA_2874",null,null,null,null,null,null,null,null,null,null,null,null,null,null,null,null,null,null,null,null,null,null,null,null,"","",{"$f":"IF(OR(\nOR(AND(D2883<>\"\",F2883=\"\"),AND(E2883<>\"\",F2883=\"\")),\nF2883=LEFT(F2883,MIN(FIND(0,SUBSTITUTE(F2883,{1,2,3,4,5,6,7,8,9},0)&0))-1)=FALSE\n),\"Check\",\"\")","v":""},"","",null,"",0,"","","","",""]
["SBSA_2877","SBSA_2877",null,null,null,null,null,null,null,null,null,null,null,null,null,null,null,null,null,null,null,null,null,null,null,null,"","",{"$f":"IF(OR(\nOR(AND(D2886<>\"\",F2886=\"\"),AND(E2886<>\"\",F2886=\"\")),\nF2886=LEFT(F2886,MIN(FIND(0,SUBSTITUTE(F2886,{1,2,3,4,5,6,7,8,9},0)&0))-1)=FALSE\n),\"Check\",\"\")","v":""},"","",null,"",0,"","","","",""]
["SBSA_2882","SBSA_2882",null,null,null,null,null,null,null,null,null,null,null,null,null,null,null,null,null,null,null,null,null,null,null,null,"","",{"$f":"IF(OR(\nOR(AND(D2891<>\"\",F2891=\"\"),AND(E2891<>\"\",F2891=\"\")),\nF2891=LEFT(F2891,MIN(FIND(0,SUBSTITUTE(F2891,{1,2,3,4,5,6,7,8,9},0)&0))-1)=FALSE\n),\"Check\",\"\")","v":""},"","",null,"",0,"","","","",""]
["SBSA_2883","SBSA_2883",null,null,null,null,null,null,null,null,null,null,null,null,null,null,null,null,null,null,null,null,null,null,null,null,"","",{"$f":"IF(OR(\nOR(AND(D2892<>\"\",F2892=\"\"),AND(E2892<>\"\",F2892=\"\")),\nF2892=LEFT(F2892,MIN(FIND(0,SUBSTITUTE(F2892,{1,2,3,4,5,6,7,8,9},0)&0))-1)=FALSE\n),\"Check\",\"\")","v":""},"","",null,"",0,"","","","",""]
["SBSA_2888","SBSA_2888",null,null,null,null,null,null,null,null,null,null,null,null,null,null,null,null,null,null,null,null,null,null,null,null,"","",{"$f":"IF(OR(\nOR(AND(D2897<>\"\",F2897=\"\"),AND(E2897<>\"\",F2897=\"\")),\nF2897=LEFT(F2897,MIN(FIND(0,SUBSTITUTE(F2897,{1,2,3,4,5,6,7,8,9},0)&0))-1)=FALSE\n),\"Check\",\"\")","v":""},"","",null,"",0,"","","","",""]
["SBSA_2892","SBSA_2892",null,null,null,null,null,null,null,null,null,null,null,null,null,null,null,null,null,null,null,null,null,null,null,null,"","",{"$f":"IF(OR(\nOR(AND(D2901<>\"\",F2901=\"\"),AND(E2901<>\"\",F2901=\"\")),\nF2901=LEFT(F2901,MIN(FIND(0,SUBSTITUTE(F2901,{1,2,3,4,5,6,7,8,9},0)&0))-1)=FALSE\n),\"Check\",\"\")","v":""},"","",null,"",0,"","","","",""]
["SBSA_2897","SBSA_2897",null,null,null,null,null,null,null,null,null,null,null,null,null,null,null,null,null,null,null,null,null,null,null,null,"","",{"$f":"IF(OR(\nOR(AND(D2906<>\"\",F2906=\"\"),AND(E2906<>\"\",F2906=\"\")),\nF2906=LEFT(F2906,MIN(FIND(0,SUBSTITUTE(F2906,{1,2,3,4,5,6,7,8,9},0)&0))-1)=FALSE\n),\"Check\",\"\")","v":""},"","",null,"",0,"","","","",""]
["SBSA_2898","SBSA_2898",null,null,null,null,null,null,null,null,null,null,null,null,null,null,null,null,null,null,null,null,null,null,null,null,"","",{"$f":"IF(OR(\nOR(AND(D2907<>\"\",F2907=\"\"),AND(E2907<>\"\",F2907=\"\")),\nF2907=LEFT(F2907,MIN(FIND(0,SUBSTITUTE(F2907,{1,2,3,4,5,6,7,8,9},0)&0))-1)=FALSE\n),\"Check\",\"\")","v":""},"","",null,"",0,"","","","",""]
["SBSA_2902","SBSA_2902",null,null,null,null,null,null,null,null,null,null,null,null,null,null,null,null,null,null,null,null,null,null,null,null,"","",{"$f":"IF(OR(\nOR(AND(D2911<>\"\",F2911=\"\"),AND(E2911<>\"\",F2911=\"\")),\nF2911=LEFT(F2911,MIN(FIND(0,SUBSTITUTE(F2911,{1,2,3,4,5,6,7,8,9},0)&0))-1)=FALSE\n),\"Check\",\"\")","v":""},"","",null,"",0,"","","","",""]
["SBSA_2907","SBSA_2907",null,null,null,null,null,null,null,null,null,null,null,null,null,null,null,null,null,null,null,null,null,null,null,null,"","",{"$f":"IF(OR(\nOR(AND(D2916<>\"\",F2916=\"\"),AND(E2916<>\"\",F2916=\"\")),\nF2916=LEFT(F2916,MIN(FIND(0,SUBSTITUTE(F2916,{1,2,3,4,5,6,7,8,9},0)&0))-1)=FALSE\n),\"Check\",\"\")","v":""},"","",null,"",0,"","","","",""]
["SBSA_2912","SBSA_2912",null,null,null,null,null,null,null,null,null,null,null,null,null,null,null,null,null,null,null,null,null,null,null,null,"","",{"$f":"IF(OR(\nOR(AND(D2921<>\"\",F2921=\"\"),AND(E2921<>\"\",F2921=\"\")),\nF2921=LEFT(F2921,MIN(FIND(0,SUBSTITUTE(F2921,{1,2,3,4,5,6,7,8,9},0)&0))-1)=FALSE\n),\"Check\",\"\")","v":""},"","",null,"",0,"","","","",""]
["SBSA_2913","SBSA_2913",null,null,null,null,null,null,null,null,null,null,null,null,null,null,null,null,null,null,null,null,null,null,null,null,"","",{"$f":"IF(OR(\nOR(AND(D2922<>\"\",F2922=\"\"),AND(E2922<>\"\",F2922=\"\")),\nF2922=LEFT(F2922,MIN(FIND(0,SUBSTITUTE(F2922,{1,2,3,4,5,6,7,8,9},0)&0))-1)=FALSE\n),\"Check\",\"\")","v":""},"","",null,"",0,"","","","",""]
["SBSA_2918","SBSA_2918",null,null,null,null,null,null,null,null,null,null,null,null,null,null,null,null,null,null,null,null,null,null,null,null,"","",{"$f":"IF(OR(\nOR(AND(D2927<>\"\",F2927=\"\"),AND(E2927<>\"\",F2927=\"\")),\nF2927=LEFT(F2927,MIN(FIND(0,SUBSTITUTE(F2927,{1,2,3,4,5,6,7,8,9},0)&0))-1)=FALSE\n),\"Check\",\"\")","v":""},"","",null,"",0,"","","","",""]
["SBSA_2922","SBSA_2922",null,null,null,null,null,null,null,null,null,null,null,null,null,null,null,null,null,null,null,null,null,null,null,null,"","",{"$f":"IF(OR(\nOR(AND(D2931<>\"\",F2931=\"\"),AND(E2931<>\"\",F2931=\"\")),\nF2931=LEFT(F2931,MIN(FIND(0,SUBSTITUTE(F2931,{1,2,3,4,5,6,7,8,9},0)&0))-1)=FALSE\n),\"Check\",\"\")","v":""},"","",null,"",0,"","","","",""]
["SBSA_2927","SBSA_2927",null,null,null,null,null,null,null,null,null,null,null,null,null,null,null,null,null,null,null,null,null,null,null,null,"","",{"$f":"IF(OR(\nOR(AND(D2936<>\"\",F2936=\"\"),AND(E2936<>\"\",F2936=\"\")),\nF2936=LEFT(F2936,MIN(FIND(0,SUBSTITUTE(F2936,{1,2,3,4,5,6,7,8,9},0)&0))-1)=FALSE\n),\"Check\",\"\")","v":""},"","",null,"",0,"","","","",""]
["SBSA_2928","SBSA_2928",null,null,null,null,null,null,null,null,null,null,null,null,null,null,null,null,null,null,null,null,null,null,null,null,"","",{"$f":"IF(OR(\nOR(AND(D2937<>\"\",F2937=\"\"),AND(E2937<>\"\",F2937=\"\")),\nF2937=LEFT(F2937,MIN(FIND(0,SUBSTITUTE(F2937,{1,2,3,4,5,6,7,8,9},0)&0))-1)=FALSE\n),\"Check\",\"\")","v":""},"","",null,"",0,"","","","",""]
["SBSA_2932","SBSA_2932",null,null,null,null,null,null,null,null,null,null,null,null,null,null,null,null,null,null,null,null,null,null,null,null,"","",{"$f":"IF(OR(\nOR(AND(D2941<>\"\",F2941=\"\"),AND(E2941<>\"\",F2941=\"\")),\nF2941=LEFT(F2941,MIN(FIND(0,SUBSTITUTE(F2941,{1,2,3,4,5,6,7,8,9},0)&0))-1)=FALSE\n),\"Check\",\"\")","v":""},"","",null,"",0,"","","","",""]
["SBSA_2937","SBSA_2937",null,null,null,null,null,null,null,null,null,null,null,null,null,null,null,null,null,null,null,null,null,null,null,null,"","",{"$f":"IF(OR(\nOR(AND(D2946<>\"\",F2946=\"\"),AND(E2946<>\"\",F2946=\"\")),\nF2946=LEFT(F2946,MIN(FIND(0,SUBSTITUTE(F2946,{1,2,3,4,5,6,7,8,9},0)&0))-1)=FALSE\n),\"Check\",\"\")","v":""},"","",null,"",0,"","","","",""]
["SBSA_2942","SBSA_2942",null,null,null,null,null,null,null,null,null,null,null,null,null,null,null,null,null,null,null,null,null,null,null,null,"","",{"$f":"IF(OR(\nOR(AND(D2951<>\"\",F2951=\"\"),AND(E2951<>\"\",F2951=\"\")),\nF2951=LEFT(F2951,MIN(FIND(0,SUBSTITUTE(F2951,{1,2,3,4,5,6,7,8,9},0)&0))-1)=FALSE\n),\"Check\",\"\")","v":""},"","",null,"",0,"","","","",""]
["SBSA_2943","SBSA_2943",null,null,null,null,null,null,null,null,null,null,null,null,null,null,null,null,null,null,null,null,null,null,null,null,"","",{"$f":"IF(OR(\nOR(AND(D2952<>\"\",F2952=\"\"),AND(E2952<>\"\",F2952=\"\")),\nF2952=LEFT(F2952,MIN(FIND(0,SUBSTITUTE(F2952,{1,2,3,4,5,6,7,8,9},0)&0))-1)=FALSE\n),\"Check\",\"\")","v":""},"","",null,"",0,"","","","",""]
["SBSA_2948","SBSA_2948",null,null,null,null,null,null,null,null,null,null,null,null,null,null,null,null,null,null,null,null,null,null,null,null,"","",{"$f":"IF(OR(\nOR(AND(D2957<>\"\",F2957=\"\"),AND(E2957<>\"\",F2957=\"\")),\nF2957=LEFT(F2957,MIN(FIND(0,SUBSTITUTE(F2957,{1,2,3,4,5,6,7,8,9},0)&0))-1)=FALSE\n),\"Check\",\"\")","v":""},"","",null,"",0,"","","","",""]
["SBSA_2952","SBSA_2952",null,null,null,null,null,null,null,null,null,null,null,null,null,null,null,null,null,null,null,null,null,null,null,null,"","",{"$f":"IF(OR(\nOR(AND(D2961<>\"\",F2961=\"\"),AND(E2961<>\"\",F2961=\"\")),\nF2961=LEFT(F2961,MIN(FIND(0,SUBSTITUTE(F2961,{1,2,3,4,5,6,7,8,9},0)&0))-1)=FALSE\n),\"Check\",\"\")","v":""},"","",null,"",0,"","","","",""]
["SBSA_2957","SBSA_2957",null,null,null,null,null,null,null,null,null,null,null,null,null,null,null,null,null,null,null,null,null,null,null,null,"","",{"$f":"IF(OR(\nOR(AND(D2966<>\"\",F2966=\"\"),AND(E2966<>\"\",F2966=\"\")),\nF2966=LEFT(F2966,MIN(FIND(0,SUBSTITUTE(F2966,{1,2,3,4,5,6,7,8,9},0)&0))-1)=FALSE\n),\"Check\",\"\")","v":""},"","",null,"",0,"","","","",""]
["SBSA_2958","SBSA_2958",null,null,null,null,null,null,null,null,null,null,null,null,null,null,null,null,null,null,null,null,null,null,null,null,"","",{"$f":"IF(OR(\nOR(AND(D2967<>\"\",F2967=\"\"),AND(E2967<>\"\",F2967=\"\")),\nF2967=LEFT(F2967,MIN(FIND(0,SUBSTITUTE(F2967,{1,2,3,4,5,6,7,8,9},0)&0))-1)=FALSE\n),\"Check\",\"\")","v":""},"","",null,"",0,"","","","",""]
["SBSA_2963","SBSA_2963",null,null,null,null,null,null,null,null,null,null,null,null,null,null,null,null,null,null,null,null,null,null,null,null,"","",{"$f":"IF(OR(\nOR(AND(D2972<>\"\",F2972=\"\"),AND(E2972<>\"\",F2972=\"\")),\nF2972=LEFT(F2972,MIN(FIND(0,SUBSTITUTE(F2972,{1,2,3,4,5,6,7,8,9},0)&0))-1)=FALSE\n),\"Check\",\"\")","v":""},"","",null,"",0,"","","","",""]
["SBSA_2966","SBSA_2966",null,null,null,null,null,null,null,null,null,null,null,null,null,null,null,null,null,null,null,null,null,null,null,null,"","",{"$f":"IF(OR(\nOR(AND(D2975<>\"\",F2975=\"\"),AND(E2975<>\"\",F2975=\"\")),\nF2975=LEFT(F2975,MIN(FIND(0,SUBSTITUTE(F2975,{1,2,3,4,5,6,7,8,9},0)&0))-1)=FALSE\n),\"Check\",\"\")","v":""},"","",null,"",0,"","","","",""]
["SBSA_2972","SBSA_2972",null,null,null,null,null,null,null,null,null,null,null,null,null,null,null,null,null,null,null,null,null,null,null,null,"","",{"$f":"IF(OR(\nOR(AND(D2981<>\"\",F2981=\"\"),AND(E2981<>\"\",F2981=\"\")),\nF2981=LEFT(F2981,MIN(FIND(0,SUBSTITUTE(F2981,{1,2,3,4,5,6,7,8,9},0)&0))-1)=FALSE\n),\"Check\",\"\")","v":""},"","",null,"",0,"","","","",""]
["SBSA_2973","SBSA_2973",null,null,null,null,null,null,null,null,null,null,null,null,null,null,null,null,null,null,null,null,null,null,null,null,"","",{"$f":"IF(OR(\nOR(AND(D2982<>\"\",F2982=\"\"),AND(E2982<>\"\",F2982=\"\")),\nF2982=LEFT(F2982,MIN(FIND(0,SUBSTITUTE(F2982,{1,2,3,4,5,6,7,8,9},0)&0))-1)=FALSE\n),\"Check\",\"\")","v":""},"","",null,"",0,"","","","",""]
["SBSA_2978","SBSA_2978",null,null,null,null,null,null,null,null,null,null,null,null,null,null,null,null,null,null,null,null,null,null,null,null,"","",{"$f":"IF(OR(\nOR(AND(D2987<>\"\",F2987=\"\"),AND(E2987<>\"\",F2987=\"\")),\nF2987=LEFT(F2987,MIN(FIND(0,SUBSTITUTE(F2987,{1,2,3,4,5,6,7,8,9},0)&0))-1)=FALSE\n),\"Check\",\"\")","v":""},"","",null,"",0,"","","","",""]
["SBSA_2983","SBSA_2983",null,null,null,null,null,null,null,null,null,null,null,null,null,null,null,null,null,null,null,null,null,null,null,null,"","",{"$f":"IF(OR(\nOR(AND(D2992<>\"\",F2992=\"\"),AND(E2992<>\"\",F2992=\"\")),\nF2992=LEFT(F2992,MIN(FIND(0,SUBSTITUTE(F2992,{1,2,3,4,5,6,7,8,9},0)&0))-1)=FALSE\n),\"Check\",\"\")","v":""},"","",null,"",0,"","","","",""]
["SBSA_2987","SBSA_2987",null,null,null,null,null,null,null,null,null,null,null,null,null,null,null,null,null,null,null,null,null,null,null,null,"","",{"$f":"IF(OR(\nOR(AND(D2996<>\"\",F2996=\"\"),AND(E2996<>\"\",F2996=\"\")),\nF2996=LEFT(F2996,MIN(FIND(0,SUBSTITUTE(F2996,{1,2,3,4,5,6,7,8,9},0)&0))-1)=FALSE\n),\"Check\",\"\")","v":""},"","",null,"",0,"","","","",""]
["SBSA_2988","SBSA_2988",null,null,null,null,null,null,null,null,null,null,null,null,null,null,null,null,null,null,null,null,null,null,null,null,"","",{"$f":"IF(OR(\nOR(AND(D2997<>\"\",F2997=\"\"),AND(E2997<>\"\",F2997=\"\")),\nF2997=LEFT(F2997,MIN(FIND(0,SUBSTITUTE(F2997,{1,2,3,4,5,6,7,8,9},0)&0))-1)=FALSE\n),\"Check\",\"\")","v":""},"","",null,"",0,"","","","",""]
["SBSA_2993","SBSA_2993",null,null,null,null,null,null,null,null,null,null,null,null,null,null,null,null,null,null,null,null,null,null,null,null,"","",{"$f":"IF(OR(\nOR(AND(D3002<>\"\",F3002=\"\"),AND(E3002<>\"\",F3002=\"\")),\nF3002=LEFT(F3002,MIN(FIND(0,SUBSTITUTE(F3002,{1,2,3,4,5,6,7,8,9},0)&0))-1)=FALSE\n),\"Check\",\"\")","v":""},"","",null,"",0,"","","","",""]
["SBSA_2996","SBSA_2996",null,null,null,null,null,null,null,null,null,null,null,null,null,null,null,null,null,null,null,null,null,null,null,null,"","",{"$f":"IF(OR(\nOR(AND(D3005<>\"\",F3005=\"\"),AND(E3005<>\"\",F3005=\"\")),\nF3005=LEFT(F3005,MIN(FIND(0,SUBSTITUTE(F3005,{1,2,3,4,5,6,7,8,9},0)&0))-1)=FALSE\n),\"Check\",\"\")","v":""},"","",null,"",0,"","","","",""]
["SBSA_3002","SBSA_3002",null,null,null,null,null,null,null,null,null,null,null,null,null,null,null,null,null,null,null,null,null,null,null,null,"","",{"$f":"IF(OR(\nOR(AND(D3011<>\"\",F3011=\"\"),AND(E3011<>\"\",F3011=\"\")),\nF3011=LEFT(F3011,MIN(FIND(0,SUBSTITUTE(F3011,{1,2,3,4,5,6,7,8,9},0)&0))-1)=FALSE\n),\"Check\",\"\")","v":""},"","",null,"",0,"","","","",""]
["SBSA_3003","SBSA_3003",null,null,null,null,null,null,null,null,null,null,null,null,null,null,null,null,null,null,null,null,null,null,null,null,"","",{"$f":"IF(OR(\nOR(AND(D3012<>\"\",F3012=\"\"),AND(E3012<>\"\",F3012=\"\")),\nF3012=LEFT(F3012,MIN(FIND(0,SUBSTITUTE(F3012,{1,2,3,4,5,6,7,8,9},0)&0))-1)=FALSE\n),\"Check\",\"\")","v":""},"","",null,"",0,"","","","",""]
["SBSA_3008","SBSA_3008",null,null,null,null,null,null,null,null,null,null,null,null,null,null,null,null,null,null,null,null,null,null,null,null,"","",{"$f":"IF(OR(\nOR(AND(D3017<>\"\",F3017=\"\"),AND(E3017<>\"\",F3017=\"\")),\nF3017=LEFT(F3017,MIN(FIND(0,SUBSTITUTE(F3017,{1,2,3,4,5,6,7,8,9},0)&0))-1)=FALSE\n),\"Check\",\"\")","v":""},"","",null,"",0,"","","","",""]
["SBSA_3013","SBSA_3013",null,null,null,null,null,null,null,null,null,null,null,null,null,null,null,null,null,null,null,null,null,null,null,null,"","",{"$f":"IF(OR(\nOR(AND(D3022<>\"\",F3022=\"\"),AND(E3022<>\"\",F3022=\"\")),\nF3022=LEFT(F3022,MIN(FIND(0,SUBSTITUTE(F3022,{1,2,3,4,5,6,7,8,9},0)&0))-1)=FALSE\n),\"Check\",\"\")","v":""},"","",null,"",0,"","","","",""]
["SBSA_3017","SBSA_3017",null,null,null,null,null,null,null,null,null,null,null,null,null,null,null,null,null,null,null,null,null,null,null,null,"","",{"$f":"IF(OR(\nOR(AND(D3026<>\"\",F3026=\"\"),AND(E3026<>\"\",F3026=\"\")),\nF3026=LEFT(F3026,MIN(FIND(0,SUBSTITUTE(F3026,{1,2,3,4,5,6,7,8,9},0)&0))-1)=FALSE\n),\"Check\",\"\")","v":""},"","",null,"",0,"","","","",""]
["SBSA_3018","SBSA_3018",null,null,null,null,null,null,null,null,null,null,null,null,null,null,null,null,null,null,null,null,null,null,null,null,"","",{"$f":"IF(OR(\nOR(AND(D3027<>\"\",F3027=\"\"),AND(E3027<>\"\",F3027=\"\")),\nF3027=LEFT(F3027,MIN(FIND(0,SUBSTITUTE(F3027,{1,2,3,4,5,6,7,8,9},0)&0))-1)=FALSE\n),\"Check\",\"\")","v":""},"","",null,"",0,"","","","",""]
["SBSA_3023","SBSA_3023",null,null,null,null,null,null,null,null,null,null,null,null,null,null,null,null,null,null,null,null,null,null,null,null,"","",{"$f":"IF(OR(\nOR(AND(D3032<>\"\",F3032=\"\"),AND(E3032<>\"\",F3032=\"\")),\nF3032=LEFT(F3032,MIN(FIND(0,SUBSTITUTE(F3032,{1,2,3,4,5,6,7,8,9},0)&0))-1)=FALSE\n),\"Check\",\"\")","v":""},"","",null,"",0,"","","","",""]
["SBSA_3026","SBSA_3026",null,null,null,null,null,null,null,null,null,null,null,null,null,null,null,null,null,null,null,null,null,null,null,null,"","",{"$f":"IF(OR(\nOR(AND(D3035<>\"\",F3035=\"\"),AND(E3035<>\"\",F3035=\"\")),\nF3035=LEFT(F3035,MIN(FIND(0,SUBSTITUTE(F3035,{1,2,3,4,5,6,7,8,9},0)&0))-1)=FALSE\n),\"Check\",\"\")","v":""},"","",null,"",0,"","","","",""]
["SBSA_3032","SBSA_3032",null,null,null,null,null,null,null,null,null,null,null,null,null,null,null,null,null,null,null,null,null,null,null,null,"","",{"$f":"IF(OR(\nOR(AND(D3041<>\"\",F3041=\"\"),AND(E3041<>\"\",F3041=\"\")),\nF3041=LEFT(F3041,MIN(FIND(0,SUBSTITUTE(F3041,{1,2,3,4,5,6,7,8,9},0)&0))-1)=FALSE\n),\"Check\",\"\")","v":""},"","",null,"",0,"","","","",""]
["SBSA_3033","SBSA_3033",null,null,null,null,null,null,null,null,null,null,null,null,null,null,null,null,null,null,null,null,null,null,null,null,"","",{"$f":"IF(OR(\nOR(AND(D3042<>\"\",F3042=\"\"),AND(E3042<>\"\",F3042=\"\")),\nF3042=LEFT(F3042,MIN(FIND(0,SUBSTITUTE(F3042,{1,2,3,4,5,6,7,8,9},0)&0))-1)=FALSE\n),\"Check\",\"\")","v":""},"","",null,"",0,"","","","",""]
["SBSA_3038","SBSA_3038",null,null,null,null,null,null,null,null,null,null,null,null,null,null,null,null,null,null,null,null,null,null,null,null,"","",{"$f":"IF(OR(\nOR(AND(D3047<>\"\",F3047=\"\"),AND(E3047<>\"\",F3047=\"\")),\nF3047=LEFT(F3047,MIN(FIND(0,SUBSTITUTE(F3047,{1,2,3,4,5,6,7,8,9},0)&0))-1)=FALSE\n),\"Check\",\"\")","v":""},"","",null,"",0,"","","","",""]
["SBSA_3043","SBSA_3043",null,null,null,null,null,null,null,null,null,null,null,null,null,null,null,null,null,null,null,null,null,null,null,null,"","",{"$f":"IF(OR(\nOR(AND(D3052<>\"\",F3052=\"\"),AND(E3052<>\"\",F3052=\"\")),\nF3052=LEFT(F3052,MIN(FIND(0,SUBSTITUTE(F3052,{1,2,3,4,5,6,7,8,9},0)&0))-1)=FALSE\n),\"Check\",\"\")","v":""},"","",null,"",0,"","","","",""]
["SBSA_3047","SBSA_3047",null,null,null,null,null,null,null,null,null,null,null,null,null,null,null,null,null,null,null,null,null,null,null,null,"","",{"$f":"IF(OR(\nOR(AND(D3056<>\"\",F3056=\"\"),AND(E3056<>\"\",F3056=\"\")),\nF3056=LEFT(F3056,MIN(FIND(0,SUBSTITUTE(F3056,{1,2,3,4,5,6,7,8,9},0)&0))-1)=FALSE\n),\"Check\",\"\")","v":""},"","",null,"",0,"","","","",""]
["SBSA_3048","SBSA_3048",null,null,null,null,null,null,null,null,null,null,null,null,null,null,null,null,null,null,null,null,null,null,null,null,"","",{"$f":"IF(OR(\nOR(AND(D3057<>\"\",F3057=\"\"),AND(E3057<>\"\",F3057=\"\")),\nF3057=LEFT(F3057,MIN(FIND(0,SUBSTITUTE(F3057,{1,2,3,4,5,6,7,8,9},0)&0))-1)=FALSE\n),\"Check\",\"\")","v":""},"","",null,"",0,"","","","",""]
["SBSA_3053","SBSA_3053",null,null,null,null,null,null,null,null,null,null,null,null,null,null,null,null,null,null,null,null,null,null,null,null,"","",{"$f":"IF(OR(\nOR(AND(D3062<>\"\",F3062=\"\"),AND(E3062<>\"\",F3062=\"\")),\nF3062=LEFT(F3062,MIN(FIND(0,SUBSTITUTE(F3062,{1,2,3,4,5,6,7,8,9},0)&0))-1)=FALSE\n),\"Check\",\"\")","v":""},"","",null,"",0,"","","","",""]
["SBSA_3058","SBSA_3058",null,null,null,null,null,null,null,null,null,null,null,null,null,null,null,null,null,null,null,null,null,null,null,null,"","",{"$f":"IF(OR(\nOR(AND(D3067<>\"\",F3067=\"\"),AND(E3067<>\"\",F3067=\"\")),\nF3067=LEFT(F3067,MIN(FIND(0,SUBSTITUTE(F3067,{1,2,3,4,5,6,7,8,9},0)&0))-1)=FALSE\n),\"Check\",\"\")","v":""},"","",null,"",0,"","","","",""]
["SBSA_3061","SBSA_3061",null,null,null,null,null,null,null,null,null,null,null,null,null,null,null,null,null,null,null,null,null,null,null,null,"","",{"$f":"IF(OR(\nOR(AND(D3070<>\"\",F3070=\"\"),AND(E3070<>\"\",F3070=\"\")),\nF3070=LEFT(F3070,MIN(FIND(0,SUBSTITUTE(F3070,{1,2,3,4,5,6,7,8,9},0)&0))-1)=FALSE\n),\"Check\",\"\")","v":""},"","",null,"",0,"","","","",""]
["SBSA_3063","SBSA_3063",null,null,null,null,null,null,null,null,null,null,null,null,null,null,null,null,null,null,null,null,null,null,null,null,"","",{"$f":"IF(OR(\nOR(AND(D3072<>\"\",F3072=\"\"),AND(E3072<>\"\",F3072=\"\")),\nF3072=LEFT(F3072,MIN(FIND(0,SUBSTITUTE(F3072,{1,2,3,4,5,6,7,8,9},0)&0))-1)=FALSE\n),\"Check\",\"\")","v":""},"","",null,"",0,"","","","",""]
["SBSA_3068","SBSA_3068",null,null,null,null,null,null,null,null,null,null,null,null,null,null,null,null,null,null,null,null,null,null,null,null,"","",{"$f":"IF(OR(\nOR(AND(D3077<>\"\",F3077=\"\"),AND(E3077<>\"\",F3077=\"\")),\nF3077=LEFT(F3077,MIN(FIND(0,SUBSTITUTE(F3077,{1,2,3,4,5,6,7,8,9},0)&0))-1)=FALSE\n),\"Check\",\"\")","v":""},"","",null,"",0,"","","","",""]
["SBSA_3073","SBSA_3073",null,null,null,null,null,null,null,null,null,null,null,null,null,null,null,null,null,null,null,null,null,null,null,null,"","",{"$f":"IF(OR(\nOR(AND(D3082<>\"\",F3082=\"\"),AND(E3082<>\"\",F3082=\"\")),\nF3082=LEFT(F3082,MIN(FIND(0,SUBSTITUTE(F3082,{1,2,3,4,5,6,7,8,9},0)&0))-1)=FALSE\n),\"Check\",\"\")","v":""},"","",null,"",0,"","","","",""]
["SBSA_3077","SBSA_3077",null,null,null,null,null,null,null,null,null,null,null,null,null,null,null,null,null,null,null,null,null,null,null,null,"","",{"$f":"IF(OR(\nOR(AND(D3086<>\"\",F3086=\"\"),AND(E3086<>\"\",F3086=\"\")),\nF3086=LEFT(F3086,MIN(FIND(0,SUBSTITUTE(F3086,{1,2,3,4,5,6,7,8,9},0)&0))-1)=FALSE\n),\"Check\",\"\")","v":""},"","",null,"",0,"","","","",""]
["SBSA_3078","SBSA_3078",null,null,null,null,null,null,null,null,null,null,null,null,null,null,null,null,null,null,null,null,null,null,null,null,"","",{"$f":"IF(OR(\nOR(AND(D3087<>\"\",F3087=\"\"),AND(E3087<>\"\",F3087=\"\")),\nF3087=LEFT(F3087,MIN(FIND(0,SUBSTITUTE(F3087,{1,2,3,4,5,6,7,8,9},0)&0))-1)=FALSE\n),\"Check\",\"\")","v":""},"","",null,"",0,"","","","",""]
["SBSA_3083","SBSA_3083",null,null,null,null,null,null,null,null,null,null,null,null,null,null,null,null,null,null,null,null,null,null,null,null,"","",{"$f":"IF(OR(\nOR(AND(D3092<>\"\",F3092=\"\"),AND(E3092<>\"\",F3092=\"\")),\nF3092=LEFT(F3092,MIN(FIND(0,SUBSTITUTE(F3092,{1,2,3,4,5,6,7,8,9},0)&0))-1)=FALSE\n),\"Check\",\"\")","v":""},"","",null,"",0,"","","","",""]
["SBSA_3088","SBSA_3088",null,null,null,null,null,null,null,null,null,null,null,null,null,null,null,null,null,null,null,null,null,null,null,null,"","",{"$f":"IF(OR(\nOR(AND(D3097<>\"\",F3097=\"\"),AND(E3097<>\"\",F3097=\"\")),\nF3097=LEFT(F3097,MIN(FIND(0,SUBSTITUTE(F3097,{1,2,3,4,5,6,7,8,9},0)&0))-1)=FALSE\n),\"Check\",\"\")","v":""},"","",null,"",0,"","","","",""]
["SBSA_3091","SBSA_3091",null,null,null,null,null,null,null,null,null,null,null,null,null,null,null,null,null,null,null,null,null,null,null,null,"","",{"$f":"IF(OR(\nOR(AND(D3100<>\"\",F3100=\"\"),AND(E3100<>\"\",F3100=\"\")),\nF3100=LEFT(F3100,MIN(FIND(0,SUBSTITUTE(F3100,{1,2,3,4,5,6,7,8,9},0)&0))-1)=FALSE\n),\"Check\",\"\")","v":""},"","",null,"",0,"","","","",""]
["SBSA_3093","SBSA_3093",null,null,null,null,null,null,null,null,null,null,null,null,null,null,null,null,null,null,null,null,null,null,null,null,"","",{"$f":"IF(OR(\nOR(AND(D3102<>\"\",F3102=\"\"),AND(E3102<>\"\",F3102=\"\")),\nF3102=LEFT(F3102,MIN(FIND(0,SUBSTITUTE(F3102,{1,2,3,4,5,6,7,8,9},0)&0))-1)=FALSE\n),\"Check\",\"\")","v":""},"","",null,"",0,"","","","",""]
["SBSA_3098","SBSA_3098",null,null,null,null,null,null,null,null,null,null,null,null,null,null,null,null,null,null,null,null,null,null,null,null,"","",{"$f":"IF(OR(\nOR(AND(D3107<>\"\",F3107=\"\"),AND(E3107<>\"\",F3107=\"\")),\nF3107=LEFT(F3107,MIN(FIND(0,SUBSTITUTE(F3107,{1,2,3,4,5,6,7,8,9},0)&0))-1)=FALSE\n),\"Check\",\"\")","v":""},"","",null,"",0,"","","","",""]
["SBSA_3103","SBSA_3103",null,null,null,null,null,null,null,null,null,null,null,null,null,null,null,null,null,null,null,null,null,null,null,null,"","",{"$f":"IF(OR(\nOR(AND(D3112<>\"\",F3112=\"\"),AND(E3112<>\"\",F3112=\"\")),\nF3112=LEFT(F3112,MIN(FIND(0,SUBSTITUTE(F3112,{1,2,3,4,5,6,7,8,9},0)&0))-1)=FALSE\n),\"Check\",\"\")","v":""},"","",null,"",0,"","","","",""]
["SBSA_3107","SBSA_3107",null,null,null,null,null,null,null,null,null,null,null,null,null,null,null,null,null,null,null,null,null,null,null,null,"","",{"$f":"IF(OR(\nOR(AND(D3116<>\"\",F3116=\"\"),AND(E3116<>\"\",F3116=\"\")),\nF3116=LEFT(F3116,MIN(FIND(0,SUBSTITUTE(F3116,{1,2,3,4,5,6,7,8,9},0)&0))-1)=FALSE\n),\"Check\",\"\")","v":""},"","",null,"",0,"","","","",""]
["SBSA_3108","SBSA_3108",null,null,null,null,null,null,null,null,null,null,null,null,null,null,null,null,null,null,null,null,null,null,null,null,{"$f":"IF(AND(C3117=\"\",OR(D3117<>\"\",E3117<>\"\",F3117<>\"\",G3117<>\"\")),\"Check\",\"\")","v":""},{"$f":"IF(AND(C3117<>\"\",OR(AND(D3117=\"\",E3117=\"\"),AND(D3117=0,E3117=0),AND(ABS(D3117)>0,ABS(E3117)>0))),\"Check\",\"\")","v":""},{"$f":"IF(OR(\nOR(AND(D3117<>\"\",F3117=\"\"),AND(E3117<>\"\",F3117=\"\")),\nF3117=LEFT(F3117,MIN(FIND(0,SUBSTITUTE(F3117,{1,2,3,4,5,6,7,8,9},0)&0))-1)=FALSE\n),\"Check\",\"\")","v":""},{"$f":"IF(OR(E3117=\"\",G3117=\"\"),\"\",(E3117*G3117)/100)","v":""},{"$f":"IF(AND(F3117<>\"\",G3117=\"\"),\"Check\",\"\")","v":""},null,{"$f":"IF(C3117=\"\",\"\",C3117&\"_\"&IF(G3117=\"\",0,G3117))","v":""},{"$f":"IF(COUNTBLANK(C3117:G3117)<5,1,0)","v":0},{"$f":"IF(C3117=\"\",\"\",IF(LEN(C3117)=12,\"\",\"Check\"))","v":""},{"$f":"IF(C3117=\"\",\"\",IF(COUNTIF(C$10:C$65536,C3117)=COUNTIF(AG$10:AG$65536,AG3117),\"\",\"Check\"))","v":""},{"$f":"IF(F3117=\"\",\"\",IF(LEN(F3117)=3,\"\",\"Check\"))","v":""},{"$f":"IF(OR(IF(D3117=\"\",\"\",IF(ISNUMBER(D3117)=TRUE,\"\",\"TEXT\"))=\"TEXT\",IF(E3117=\"\",\"\",IF(ISNUMBER(E3117)=TRUE,\"\",\"TEXT\"))=\"TEXT\",IF(G3117=\"\",\"\",IF(ISNUMBER(G3117)=TRUE,\"\",\"TEXT\"))=\"TEXT\"),\"Check\",\"\")","v":""},{"$f":"IF(G3117<0,\"Check\",\"\")","v":""}]
["SBSA_3113","SBSA_3113",null,null,null,null,null,null,null,null,null,null,null,null,null,null,null,null,null,null,null,null,null,null,null,null,"","",{"$f":"IF(OR(\nOR(AND(D3122<>\"\",F3122=\"\"),AND(E3122<>\"\",F3122=\"\")),\nF3122=LEFT(F3122,MIN(FIND(0,SUBSTITUTE(F3122,{1,2,3,4,5,6,7,8,9},0)&0))-1)=FALSE\n),\"Check\",\"\")","v":""},"","",null,"",0,"","","","",""]
["SBSA_3118","SBSA_3118",null,null,null,null,null,null,null,null,null,null,null,null,null,null,null,null,null,null,null,null,null,null,null,null,"","",{"$f":"IF(OR(\nOR(AND(D3127<>\"\",F3127=\"\"),AND(E3127<>\"\",F3127=\"\")),\nF3127=LEFT(F3127,MIN(FIND(0,SUBSTITUTE(F3127,{1,2,3,4,5,6,7,8,9},0)&0))-1)=FALSE\n),\"Check\",\"\")","v":""},"","",null,"",0,"","","","",""]
["SBSA_3121","SBSA_3121",null,null,null,null,null,null,null,null,null,null,null,null,null,null,null,null,null,null,null,null,null,null,null,null,"","",{"$f":"IF(OR(\nOR(AND(D3130<>\"\",F3130=\"\"),AND(E3130<>\"\",F3130=\"\")),\nF3130=LEFT(F3130,MIN(FIND(0,SUBSTITUTE(F3130,{1,2,3,4,5,6,7,8,9},0)&0))-1)=FALSE\n),\"Check\",\"\")","v":""},"","",null,"",0,"","","","",""]
["SBSA_3123","SBSA_3123",null,null,null,null,null,null,null,null,null,null,null,null,null,null,null,null,null,null,null,null,null,null,null,null,"","",{"$f":"IF(OR(\nOR(AND(D3132<>\"\",F3132=\"\"),AND(E3132<>\"\",F3132=\"\")),\nF3132=LEFT(F3132,MIN(FIND(0,SUBSTITUTE(F3132,{1,2,3,4,5,6,7,8,9},0)&0))-1)=FALSE\n),\"Check\",\"\")","v":""},"","",null,"",0,"","","","",""]
["SBSA_3128","SBSA_3128",null,null,null,null,null,null,null,null,null,null,null,null,null,null,null,null,null,null,null,null,null,null,null,null,"","",{"$f":"IF(OR(\nOR(AND(D3137<>\"\",F3137=\"\"),AND(E3137<>\"\",F3137=\"\")),\nF3137=LEFT(F3137,MIN(FIND(0,SUBSTITUTE(F3137,{1,2,3,4,5,6,7,8,9},0)&0))-1)=FALSE\n),\"Check\",\"\")","v":""},"","",null,"",0,"","","","",""]
["SBSA_3133","SBSA_3133",null,null,null,null,null,null,null,null,null,null,null,null,null,null,null,null,null,null,null,null,null,null,null,null,"","",{"$f":"IF(OR(\nOR(AND(D3142<>\"\",F3142=\"\"),AND(E3142<>\"\",F3142=\"\")),\nF3142=LEFT(F3142,MIN(FIND(0,SUBSTITUTE(F3142,{1,2,3,4,5,6,7,8,9},0)&0))-1)=FALSE\n),\"Check\",\"\")","v":""},"","",null,"",0,"","","","",""]
["SBSA_3137","SBSA_3137",null,null,null,null,null,null,null,null,null,null,null,null,null,null,null,null,null,null,null,null,null,null,null,null,"","",{"$f":"IF(OR(\nOR(AND(D3146<>\"\",F3146=\"\"),AND(E3146<>\"\",F3146=\"\")),\nF3146=LEFT(F3146,MIN(FIND(0,SUBSTITUTE(F3146,{1,2,3,4,5,6,7,8,9},0)&0))-1)=FALSE\n),\"Check\",\"\")","v":""},"","",null,"",0,"","","","",""]
["SBSA_3138","SBSA_3138",null,null,null,null,null,null,null,null,null,null,null,null,null,null,null,null,null,null,null,null,null,null,null,null,"","",{"$f":"IF(OR(\nOR(AND(D3147<>\"\",F3147=\"\"),AND(E3147<>\"\",F3147=\"\")),\nF3147=LEFT(F3147,MIN(FIND(0,SUBSTITUTE(F3147,{1,2,3,4,5,6,7,8,9},0)&0))-1)=FALSE\n),\"Check\",\"\")","v":""},"","",null,"",0,"","","","",""]
["SBSA_3143","SBSA_3143",null,null,null,null,null,null,null,null,null,null,null,null,null,null,null,null,null,null,null,null,null,null,null,null,"","",{"$f":"IF(OR(\nOR(AND(D3152<>\"\",F3152=\"\"),AND(E3152<>\"\",F3152=\"\")),\nF3152=LEFT(F3152,MIN(FIND(0,SUBSTITUTE(F3152,{1,2,3,4,5,6,7,8,9},0)&0))-1)=FALSE\n),\"Check\",\"\")","v":""},"","",null,"",0,"","","","",""]
["SBSA_3148","SBSA_3148",null,null,null,null,null,null,null,null,null,null,null,null,null,null,null,null,null,null,null,null,null,null,null,null,"","",{"$f":"IF(OR(\nOR(AND(D3157<>\"\",F3157=\"\"),AND(E3157<>\"\",F3157=\"\")),\nF3157=LEFT(F3157,MIN(FIND(0,SUBSTITUTE(F3157,{1,2,3,4,5,6,7,8,9},0)&0))-1)=FALSE\n),\"Check\",\"\")","v":""},"","",null,"",0,"","","","",""]
["SBSA_3153","SBSA_3153",null,null,null,null,null,null,null,null,null,null,null,null,null,null,null,null,null,null,null,null,null,null,null,null,"","",{"$f":"IF(OR(\nOR(AND(D3162<>\"\",F3162=\"\"),AND(E3162<>\"\",F3162=\"\")),\nF3162=LEFT(F3162,MIN(FIND(0,SUBSTITUTE(F3162,{1,2,3,4,5,6,7,8,9},0)&0))-1)=FALSE\n),\"Check\",\"\")","v":""},"","",null,"",0,"","","","",""]
["SBSA_3155","SBSA_3155",null,null,null,null,null,null,null,null,null,null,null,null,null,null,null,null,null,null,null,null,null,null,null,null,"","",{"$f":"IF(OR(\nOR(AND(D3164<>\"\",F3164=\"\"),AND(E3164<>\"\",F3164=\"\")),\nF3164=LEFT(F3164,MIN(FIND(0,SUBSTITUTE(F3164,{1,2,3,4,5,6,7,8,9},0)&0))-1)=FALSE\n),\"Check\",\"\")","v":""},"","",null,"",0,"","","","",""]
["SBSA_3158","SBSA_3158",null,null,null,null,null,null,null,null,null,null,null,null,null,null,null,null,null,null,null,null,null,null,null,null,"","",{"$f":"IF(OR(\nOR(AND(D3167<>\"\",F3167=\"\"),AND(E3167<>\"\",F3167=\"\")),\nF3167=LEFT(F3167,MIN(FIND(0,SUBSTITUTE(F3167,{1,2,3,4,5,6,7,8,9},0)&0))-1)=FALSE\n),\"Check\",\"\")","v":""},"","",null,"",0,"","","","",""]
["SBSA_3163","SBSA_3163",null,null,null,null,null,null,null,null,null,null,null,null,null,null,null,null,null,null,null,null,null,null,null,null,"","",{"$f":"IF(OR(\nOR(AND(D3172<>\"\",F3172=\"\"),AND(E3172<>\"\",F3172=\"\")),\nF3172=LEFT(F3172,MIN(FIND(0,SUBSTITUTE(F3172,{1,2,3,4,5,6,7,8,9},0)&0))-1)=FALSE\n),\"Check\",\"\")","v":""},"","",null,"",0,"","","","",""]
["SBSA_3168","SBSA_3168",null,null,null,null,null,null,null,null,null,null,null,null,null,null,null,null,null,null,null,null,null,null,null,null,"","",{"$f":"IF(OR(\nOR(AND(D3177<>\"\",F3177=\"\"),AND(E3177<>\"\",F3177=\"\")),\nF3177=LEFT(F3177,MIN(FIND(0,SUBSTITUTE(F3177,{1,2,3,4,5,6,7,8,9},0)&0))-1)=FALSE\n),\"Check\",\"\")","v":""},"","",null,"",0,"","","","",""]
["SBSA_3169","SBSA_3169",null,null,null,null,null,null,null,null,null,null,null,null,null,null,null,null,null,null,null,null,null,null,null,null,"","",{"$f":"IF(OR(\nOR(AND(D3178<>\"\",F3178=\"\"),AND(E3178<>\"\",F3178=\"\")),\nF3178=LEFT(F3178,MIN(FIND(0,SUBSTITUTE(F3178,{1,2,3,4,5,6,7,8,9},0)&0))-1)=FALSE\n),\"Check\",\"\")","v":""},"","",null,"",0,"","","","",""]
["SBSA_3173","SBSA_3173",null,null,null,null,null,null,null,null,null,null,null,null,null,null,null,null,null,null,null,null,null,null,null,null,"","",{"$f":"IF(OR(\nOR(AND(D3182<>\"\",F3182=\"\"),AND(E3182<>\"\",F3182=\"\")),\nF3182=LEFT(F3182,MIN(FIND(0,SUBSTITUTE(F3182,{1,2,3,4,5,6,7,8,9},0)&0))-1)=FALSE\n),\"Check\",\"\")","v":""},"","",null,"",0,"","","","",""]
["SBSA_3178","SBSA_3178",null,null,null,null,null,null,null,null,null,null,null,null,null,null,null,null,null,null,null,null,null,null,null,null,"","",{"$f":"IF(OR(\nOR(AND(D3187<>\"\",F3187=\"\"),AND(E3187<>\"\",F3187=\"\")),\nF3187=LEFT(F3187,MIN(FIND(0,SUBSTITUTE(F3187,{1,2,3,4,5,6,7,8,9},0)&0))-1)=FALSE\n),\"Check\",\"\")","v":""},"","",null,"",0,"","","","",""]
["SBSA_3183","SBSA_3183",null,null,null,null,null,null,null,null,null,null,null,null,null,null,null,null,null,null,null,null,null,null,null,null,"","",{"$f":"IF(OR(\nOR(AND(D3192<>\"\",F3192=\"\"),AND(E3192<>\"\",F3192=\"\")),\nF3192=LEFT(F3192,MIN(FIND(0,SUBSTITUTE(F3192,{1,2,3,4,5,6,7,8,9},0)&0))-1)=FALSE\n),\"Check\",\"\")","v":""},"","",null,"",0,"","","","",""]
["SBSA_3185","SBSA_3185",null,null,null,null,null,null,null,null,null,null,null,null,null,null,null,null,null,null,null,null,null,null,null,null,"","",{"$f":"IF(OR(\nOR(AND(D3194<>\"\",F3194=\"\"),AND(E3194<>\"\",F3194=\"\")),\nF3194=LEFT(F3194,MIN(FIND(0,SUBSTITUTE(F3194,{1,2,3,4,5,6,7,8,9},0)&0))-1)=FALSE\n),\"Check\",\"\")","v":""},"","",null,"",0,"","","","",""]
["SBSA_3188","SBSA_3188",null,null,null,null,null,null,null,null,null,null,null,null,null,null,null,null,null,null,null,null,null,null,null,null,"","",{"$f":"IF(OR(\nOR(AND(D3197<>\"\",F3197=\"\"),AND(E3197<>\"\",F3197=\"\")),\nF3197=LEFT(F3197,MIN(FIND(0,SUBSTITUTE(F3197,{1,2,3,4,5,6,7,8,9},0)&0))-1)=FALSE\n),\"Check\",\"\")","v":""},"","",null,"",0,"","","","",""]
["SBSA_3193","SBSA_3193",null,null,null,null,null,null,null,null,null,null,null,null,null,null,null,null,null,null,null,null,null,null,null,null,"","",{"$f":"IF(OR(\nOR(AND(D3202<>\"\",F3202=\"\"),AND(E3202<>\"\",F3202=\"\")),\nF3202=LEFT(F3202,MIN(FIND(0,SUBSTITUTE(F3202,{1,2,3,4,5,6,7,8,9},0)&0))-1)=FALSE\n),\"Check\",\"\")","v":""},"","",null,"",0,"","","","",""]
["SBSA_3198","SBSA_3198",null,null,null,null,null,null,null,null,null,null,null,null,null,null,null,null,null,null,null,null,null,null,null,null,"","",{"$f":"IF(OR(\nOR(AND(D3207<>\"\",F3207=\"\"),AND(E3207<>\"\",F3207=\"\")),\nF3207=LEFT(F3207,MIN(FIND(0,SUBSTITUTE(F3207,{1,2,3,4,5,6,7,8,9},0)&0))-1)=FALSE\n),\"Check\",\"\")","v":""},"","",null,"",0,"","","","",""]
["SBSA_3199","SBSA_3199",null,null,null,null,null,null,null,null,null,null,null,null,null,null,null,null,null,null,null,null,null,null,null,null,"","",{"$f":"IF(OR(\nOR(AND(D3208<>\"\",F3208=\"\"),AND(E3208<>\"\",F3208=\"\")),\nF3208=LEFT(F3208,MIN(FIND(0,SUBSTITUTE(F3208,{1,2,3,4,5,6,7,8,9},0)&0))-1)=FALSE\n),\"Check\",\"\")","v":""},"","",null,"",0,"","","","",""]
["SBSA_3203","SBSA_3203",null,null,null,null,null,null,null,null,null,null,null,null,null,null,null,null,null,null,null,null,null,null,null,null,"","",{"$f":"IF(OR(\nOR(AND(D3212<>\"\",F3212=\"\"),AND(E3212<>\"\",F3212=\"\")),\nF3212=LEFT(F3212,MIN(FIND(0,SUBSTITUTE(F3212,{1,2,3,4,5,6,7,8,9},0)&0))-1)=FALSE\n),\"Check\",\"\")","v":""},"","",null,"",0,"","","","",""]
["SBSA_3208","SBSA_3208",null,null,null,null,null,null,null,null,null,null,null,null,null,null,null,null,null,null,null,null,null,null,null,null,"","",{"$f":"IF(OR(\nOR(AND(D3217<>\"\",F3217=\"\"),AND(E3217<>\"\",F3217=\"\")),\nF3217=LEFT(F3217,MIN(FIND(0,SUBSTITUTE(F3217,{1,2,3,4,5,6,7,8,9},0)&0))-1)=FALSE\n),\"Check\",\"\")","v":""},"","",null,"",0,"","","","",""]
["SBSA_3213","SBSA_3213",null,null,null,null,null,null,null,null,null,null,null,null,null,null,null,null,null,null,null,null,null,null,null,null,"","",{"$f":"IF(OR(\nOR(AND(D3222<>\"\",F3222=\"\"),AND(E3222<>\"\",F3222=\"\")),\nF3222=LEFT(F3222,MIN(FIND(0,SUBSTITUTE(F3222,{1,2,3,4,5,6,7,8,9},0)&0))-1)=FALSE\n),\"Check\",\"\")","v":""},"","",null,"",0,"","","","",""]
["SBSA_3215","SBSA_3215",null,null,null,null,null,null,null,null,null,null,null,null,null,null,null,null,null,null,null,null,null,null,null,null,"","",{"$f":"IF(OR(\nOR(AND(D3224<>\"\",F3224=\"\"),AND(E3224<>\"\",F3224=\"\")),\nF3224=LEFT(F3224,MIN(FIND(0,SUBSTITUTE(F3224,{1,2,3,4,5,6,7,8,9},0)&0))-1)=FALSE\n),\"Check\",\"\")","v":""},"","",null,"",0,"","","","",""]
["SBSA_3218","SBSA_3218",null,null,null,null,null,null,null,null,null,null,null,null,null,null,null,null,null,null,null,null,null,null,null,null,"","",{"$f":"IF(OR(\nOR(AND(D3227<>\"\",F3227=\"\"),AND(E3227<>\"\",F3227=\"\")),\nF3227=LEFT(F3227,MIN(FIND(0,SUBSTITUTE(F3227,{1,2,3,4,5,6,7,8,9},0)&0))-1)=FALSE\n),\"Check\",\"\")","v":""},"","",null,"",0,"","","","",""]
["SBSA_3223","SBSA_3223",null,null,null,null,null,null,null,null,null,null,null,null,null,null,null,null,null,null,null,null,null,null,null,null,"","",{"$f":"IF(OR(\nOR(AND(D3232<>\"\",F3232=\"\"),AND(E3232<>\"\",F3232=\"\")),\nF3232=LEFT(F3232,MIN(FIND(0,SUBSTITUTE(F3232,{1,2,3,4,5,6,7,8,9},0)&0))-1)=FALSE\n),\"Check\",\"\")","v":""},"","",null,"",0,"","","","",""]
["SBSA_3228","SBSA_3228",null,null,null,null,null,null,null,null,null,null,null,null,null,null,null,null,null,null,null,null,null,null,null,null,"","",{"$f":"IF(OR(\nOR(AND(D3237<>\"\",F3237=\"\"),AND(E3237<>\"\",F3237=\"\")),\nF3237=LEFT(F3237,MIN(FIND(0,SUBSTITUTE(F3237,{1,2,3,4,5,6,7,8,9},0)&0))-1)=FALSE\n),\"Check\",\"\")","v":""},"","",null,"",0,"","","","",""]
["SBSA_3229","SBSA_3229",null,null,null,null,null,null,null,null,null,null,null,null,null,null,null,null,null,null,null,null,null,null,null,null,"","",{"$f":"IF(OR(\nOR(AND(D3238<>\"\",F3238=\"\"),AND(E3238<>\"\",F3238=\"\")),\nF3238=LEFT(F3238,MIN(FIND(0,SUBSTITUTE(F3238,{1,2,3,4,5,6,7,8,9},0)&0))-1)=FALSE\n),\"Check\",\"\")","v":""},"","",null,"",0,"","","","",""]
["SBSA_3233","SBSA_3233",null,null,null,null,null,null,null,null,null,null,null,null,null,null,null,null,null,null,null,null,null,null,null,null,"","",{"$f":"IF(OR(\nOR(AND(D3242<>\"\",F3242=\"\"),AND(E3242<>\"\",F3242=\"\")),\nF3242=LEFT(F3242,MIN(FIND(0,SUBSTITUTE(F3242,{1,2,3,4,5,6,7,8,9},0)&0))-1)=FALSE\n),\"Check\",\"\")","v":""},"","",null,"",0,"","","","",""]
["SBSA_3238","SBSA_3238",null,null,null,null,null,null,null,null,null,null,null,null,null,null,null,null,null,null,null,null,null,null,null,null,"","",{"$f":"IF(OR(\nOR(AND(D3247<>\"\",F3247=\"\"),AND(E3247<>\"\",F3247=\"\")),\nF3247=LEFT(F3247,MIN(FIND(0,SUBSTITUTE(F3247,{1,2,3,4,5,6,7,8,9},0)&0))-1)=FALSE\n),\"Check\",\"\")","v":""},"","",null,"",0,"","","","",""]
["SBSA_3243","SBSA_3243",null,null,null,null,null,null,null,null,null,null,null,null,null,null,null,null,null,null,null,null,null,null,null,null,"","",{"$f":"IF(OR(\nOR(AND(D3252<>\"\",F3252=\"\"),AND(E3252<>\"\",F3252=\"\")),\nF3252=LEFT(F3252,MIN(FIND(0,SUBSTITUTE(F3252,{1,2,3,4,5,6,7,8,9},0)&0))-1)=FALSE\n),\"Check\",\"\")","v":""},"","",null,"",0,"","","","",""]
["SBSA_3244","SBSA_3244",null,null,null,null,null,null,null,null,null,null,null,null,null,null,null,null,null,null,null,null,null,null,null,null,"","",{"$f":"IF(OR(\nOR(AND(D3253<>\"\",F3253=\"\"),AND(E3253<>\"\",F3253=\"\")),\nF3253=LEFT(F3253,MIN(FIND(0,SUBSTITUTE(F3253,{1,2,3,4,5,6,7,8,9},0)&0))-1)=FALSE\n),\"Check\",\"\")","v":""},"","",null,"",0,"","","","",""]
["SBSA_3250","SBSA_3250",null,null,null,null,null,null,null,null,null,null,null,null,null,null,null,null,null,null,null,null,null,null,null,null,"","",{"$f":"IF(OR(\nOR(AND(D3259<>\"\",F3259=\"\"),AND(E3259<>\"\",F3259=\"\")),\nF3259=LEFT(F3259,MIN(FIND(0,SUBSTITUTE(F3259,{1,2,3,4,5,6,7,8,9},0)&0))-1)=FALSE\n),\"Check\",\"\")","v":""},"","",null,"",0,"","","","",""]
["SBSA_3253","SBSA_3253",null,null,null,null,null,null,null,null,null,null,null,null,null,null,null,null,null,null,null,null,null,null,null,null,"","",{"$f":"IF(OR(\nOR(AND(D3262<>\"\",F3262=\"\"),AND(E3262<>\"\",F3262=\"\")),\nF3262=LEFT(F3262,MIN(FIND(0,SUBSTITUTE(F3262,{1,2,3,4,5,6,7,8,9},0)&0))-1)=FALSE\n),\"Check\",\"\")","v":""},"","",null,"",0,"","","","",""]
["SBSA_3258","SBSA_3258",null,null,null,null,null,null,null,null,null,null,null,null,null,null,null,null,null,null,null,null,null,null,null,null,"","",{"$f":"IF(OR(\nOR(AND(D3267<>\"\",F3267=\"\"),AND(E3267<>\"\",F3267=\"\")),\nF3267=LEFT(F3267,MIN(FIND(0,SUBSTITUTE(F3267,{1,2,3,4,5,6,7,8,9},0)&0))-1)=FALSE\n),\"Check\",\"\")","v":""},"","",null,"",0,"","","","",""]
["SBSA_3259","SBSA_3259",null,null,null,null,null,null,null,null,null,null,null,null,null,null,null,null,null,null,null,null,null,null,null,null,"","",{"$f":"IF(OR(\nOR(AND(D3268<>\"\",F3268=\"\"),AND(E3268<>\"\",F3268=\"\")),\nF3268=LEFT(F3268,MIN(FIND(0,SUBSTITUTE(F3268,{1,2,3,4,5,6,7,8,9},0)&0))-1)=FALSE\n),\"Check\",\"\")","v":""},"","",null,"",0,"","","","",""]
["SBSA_3263","SBSA_3263",null,null,null,null,null,null,null,null,null,null,null,null,null,null,null,null,null,null,null,null,null,null,null,null,"","",{"$f":"IF(OR(\nOR(AND(D3272<>\"\",F3272=\"\"),AND(E3272<>\"\",F3272=\"\")),\nF3272=LEFT(F3272,MIN(FIND(0,SUBSTITUTE(F3272,{1,2,3,4,5,6,7,8,9},0)&0))-1)=FALSE\n),\"Check\",\"\")","v":""},"","",null,"",0,"","","","",""]
["SBSA_3268","SBSA_3268",null,null,null,null,null,null,null,null,null,null,null,null,null,null,null,null,null,null,null,null,null,null,null,null,"","",{"$f":"IF(OR(\nOR(AND(D3277<>\"\",F3277=\"\"),AND(E3277<>\"\",F3277=\"\")),\nF3277=LEFT(F3277,MIN(FIND(0,SUBSTITUTE(F3277,{1,2,3,4,5,6,7,8,9},0)&0))-1)=FALSE\n),\"Check\",\"\")","v":""},"","",null,"",0,"","","","",""]
["SBSA_3273","SBSA_3273",null,null,null,null,null,null,null,null,null,null,null,null,null,null,null,null,null,null,null,null,null,null,null,null,"","",{"$f":"IF(OR(\nOR(AND(D3282<>\"\",F3282=\"\"),AND(E3282<>\"\",F3282=\"\")),\nF3282=LEFT(F3282,MIN(FIND(0,SUBSTITUTE(F3282,{1,2,3,4,5,6,7,8,9},0)&0))-1)=FALSE\n),\"Check\",\"\")","v":""},"","",null,"",0,"","","","",""]
["SBSA_3274","SBSA_3274",null,null,null,null,null,null,null,null,null,null,null,null,null,null,null,null,null,null,null,null,null,null,null,null,"","",{"$f":"IF(OR(\nOR(AND(D3283<>\"\",F3283=\"\"),AND(E3283<>\"\",F3283=\"\")),\nF3283=LEFT(F3283,MIN(FIND(0,SUBSTITUTE(F3283,{1,2,3,4,5,6,7,8,9},0)&0))-1)=FALSE\n),\"Check\",\"\")","v":""},"","",null,"",0,"","","","",""]
["SBSA_3280","SBSA_3280",null,null,null,null,null,null,null,null,null,null,null,null,null,null,null,null,null,null,null,null,null,null,null,null,"","",{"$f":"IF(OR(\nOR(AND(D3289<>\"\",F3289=\"\"),AND(E3289<>\"\",F3289=\"\")),\nF3289=LEFT(F3289,MIN(FIND(0,SUBSTITUTE(F3289,{1,2,3,4,5,6,7,8,9},0)&0))-1)=FALSE\n),\"Check\",\"\")","v":""},"","",null,"",0,"","","","",""]
["SBSA_3283","SBSA_3283",null,null,null,null,null,null,null,null,null,null,null,null,null,null,null,null,null,null,null,null,null,null,null,null,"","",{"$f":"IF(OR(\nOR(AND(D3292<>\"\",F3292=\"\"),AND(E3292<>\"\",F3292=\"\")),\nF3292=LEFT(F3292,MIN(FIND(0,SUBSTITUTE(F3292,{1,2,3,4,5,6,7,8,9},0)&0))-1)=FALSE\n),\"Check\",\"\")","v":""},"","",null,"",0,"","","","",""]
["SBSA_3288","SBSA_3288",null,null,null,null,null,null,null,null,null,null,null,null,null,null,null,null,null,null,null,null,null,null,null,null,"","",{"$f":"IF(OR(\nOR(AND(D3297<>\"\",F3297=\"\"),AND(E3297<>\"\",F3297=\"\")),\nF3297=LEFT(F3297,MIN(FIND(0,SUBSTITUTE(F3297,{1,2,3,4,5,6,7,8,9},0)&0))-1)=FALSE\n),\"Check\",\"\")","v":""},"","",null,"",0,"","","","",""]
["SBSA_3289","SBSA_3289",null,null,null,null,null,null,null,null,null,null,null,null,null,null,null,null,null,null,null,null,null,null,null,null,"","",{"$f":"IF(OR(\nOR(AND(D3298<>\"\",F3298=\"\"),AND(E3298<>\"\",F3298=\"\")),\nF3298=LEFT(F3298,MIN(FIND(0,SUBSTITUTE(F3298,{1,2,3,4,5,6,7,8,9},0)&0))-1)=FALSE\n),\"Check\",\"\")","v":""},"","",null,"",0,"","","","",""]
["SBSA_3293","SBSA_3293",null,null,null,null,null,null,null,null,null,null,null,null,null,null,null,null,null,null,null,null,null,null,null,null,"","",{"$f":"IF(OR(\nOR(AND(D3302<>\"\",F3302=\"\"),AND(E3302<>\"\",F3302=\"\")),\nF3302=LEFT(F3302,MIN(FIND(0,SUBSTITUTE(F3302,{1,2,3,4,5,6,7,8,9},0)&0))-1)=FALSE\n),\"Check\",\"\")","v":""},"","",null,"",0,"","","","",""]
["SBSA_3298","SBSA_3298",null,null,null,null,null,null,null,null,null,null,null,null,null,null,null,null,null,null,null,null,null,null,null,null,"","",{"$f":"IF(OR(\nOR(AND(D3307<>\"\",F3307=\"\"),AND(E3307<>\"\",F3307=\"\")),\nF3307=LEFT(F3307,MIN(FIND(0,SUBSTITUTE(F3307,{1,2,3,4,5,6,7,8,9},0)&0))-1)=FALSE\n),\"Check\",\"\")","v":""},"","",null,"",0,"","","","",""]
["SBSA_3303","SBSA_3303",null,null,null,null,null,null,null,null,null,null,null,null,null,null,null,null,null,null,null,null,null,null,null,null,"","",{"$f":"IF(OR(\nOR(AND(D3312<>\"\",F3312=\"\"),AND(E3312<>\"\",F3312=\"\")),\nF3312=LEFT(F3312,MIN(FIND(0,SUBSTITUTE(F3312,{1,2,3,4,5,6,7,8,9},0)&0))-1)=FALSE\n),\"Check\",\"\")","v":""},"","",null,"",0,"","","","",""]
["SBSA_3304","SBSA_3304",null,null,null,null,null,null,null,null,null,null,null,null,null,null,null,null,null,null,null,null,null,null,null,null,"","",{"$f":"IF(OR(\nOR(AND(D3313<>\"\",F3313=\"\"),AND(E3313<>\"\",F3313=\"\")),\nF3313=LEFT(F3313,MIN(FIND(0,SUBSTITUTE(F3313,{1,2,3,4,5,6,7,8,9},0)&0))-1)=FALSE\n),\"Check\",\"\")","v":""},"","",null,"",0,"","","","",""]
["SBSA_3310","SBSA_3310",null,null,null,null,null,null,null,null,null,null,null,null,null,null,null,null,null,null,null,null,null,null,null,null,"","",{"$f":"IF(OR(\nOR(AND(D3319<>\"\",F3319=\"\"),AND(E3319<>\"\",F3319=\"\")),\nF3319=LEFT(F3319,MIN(FIND(0,SUBSTITUTE(F3319,{1,2,3,4,5,6,7,8,9},0)&0))-1)=FALSE\n),\"Check\",\"\")","v":""},"","",null,"",0,"","","","",""]
["SBSA_3313","SBSA_3313",null,null,null,null,null,null,null,null,null,null,null,null,null,null,null,null,null,null,null,null,null,null,null,null,"","",{"$f":"IF(OR(\nOR(AND(D3322<>\"\",F3322=\"\"),AND(E3322<>\"\",F3322=\"\")),\nF3322=LEFT(F3322,MIN(FIND(0,SUBSTITUTE(F3322,{1,2,3,4,5,6,7,8,9},0)&0))-1)=FALSE\n),\"Check\",\"\")","v":""},"","",null,"",0,"","","","",""]
["SBSA_3318","SBSA_3318",null,null,null,null,null,null,null,null,null,null,null,null,null,null,null,null,null,null,null,null,null,null,null,null,"","",{"$f":"IF(OR(\nOR(AND(D3327<>\"\",F3327=\"\"),AND(E3327<>\"\",F3327=\"\")),\nF3327=LEFT(F3327,MIN(FIND(0,SUBSTITUTE(F3327,{1,2,3,4,5,6,7,8,9},0)&0))-1)=FALSE\n),\"Check\",\"\")","v":""},"","",null,"",0,"","","","",""]
["SBSA_3319","SBSA_3319",null,null,null,null,null,null,null,null,null,null,null,null,null,null,null,null,null,null,null,null,null,null,null,null,"","",{"$f":"IF(OR(\nOR(AND(D3328<>\"\",F3328=\"\"),AND(E3328<>\"\",F3328=\"\")),\nF3328=LEFT(F3328,MIN(FIND(0,SUBSTITUTE(F3328,{1,2,3,4,5,6,7,8,9},0)&0))-1)=FALSE\n),\"Check\",\"\")","v":""},"","",null,"",0,"","","","",""]
["SBSA_3323","SBSA_3323",null,null,null,null,null,null,null,null,null,null,null,null,null,null,null,null,null,null,null,null,null,null,null,null,"","",{"$f":"IF(OR(\nOR(AND(D3332<>\"\",F3332=\"\"),AND(E3332<>\"\",F3332=\"\")),\nF3332=LEFT(F3332,MIN(FIND(0,SUBSTITUTE(F3332,{1,2,3,4,5,6,7,8,9},0)&0))-1)=FALSE\n),\"Check\",\"\")","v":""},"","",null,"",0,"","","","",""]
["SBSA_3328","SBSA_3328",null,null,null,null,null,null,null,null,null,null,null,null,null,null,null,null,null,null,null,null,null,null,null,null,"","",{"$f":"IF(OR(\nOR(AND(D3337<>\"\",F3337=\"\"),AND(E3337<>\"\",F3337=\"\")),\nF3337=LEFT(F3337,MIN(FIND(0,SUBSTITUTE(F3337,{1,2,3,4,5,6,7,8,9},0)&0))-1)=FALSE\n),\"Check\",\"\")","v":""},"","",null,"",0,"","","","",""]
["SBSA_3333","SBSA_3333",null,null,null,null,null,null,null,null,null,null,null,null,null,null,null,null,null,null,null,null,null,null,null,null,"","",{"$f":"IF(OR(\nOR(AND(D3342<>\"\",F3342=\"\"),AND(E3342<>\"\",F3342=\"\")),\nF3342=LEFT(F3342,MIN(FIND(0,SUBSTITUTE(F3342,{1,2,3,4,5,6,7,8,9},0)&0))-1)=FALSE\n),\"Check\",\"\")","v":""},"","",null,"",0,"","","","",""]
["SBSA_3334","SBSA_3334",null,null,null,null,null,null,null,null,null,null,null,null,null,null,null,null,null,null,null,null,null,null,null,null,"","",{"$f":"IF(OR(\nOR(AND(D3343<>\"\",F3343=\"\"),AND(E3343<>\"\",F3343=\"\")),\nF3343=LEFT(F3343,MIN(FIND(0,SUBSTITUTE(F3343,{1,2,3,4,5,6,7,8,9},0)&0))-1)=FALSE\n),\"Check\",\"\")","v":""},"","",null,"",0,"","","","",""]
["SBSA_3339","SBSA_3339",null,null,null,null,null,null,null,null,null,null,null,null,null,null,null,null,null,null,null,null,null,null,null,null,"","",{"$f":"IF(OR(\nOR(AND(D3348<>\"\",F3348=\"\"),AND(E3348<>\"\",F3348=\"\")),\nF3348=LEFT(F3348,MIN(FIND(0,SUBSTITUTE(F3348,{1,2,3,4,5,6,7,8,9},0)&0))-1)=FALSE\n),\"Check\",\"\")","v":""},"","",null,"",0,"","","","",""]
["SBSA_3344","SBSA_3344",null,null,null,null,null,null,null,null,null,null,null,null,null,null,null,null,null,null,null,null,null,null,null,null,"","",{"$f":"IF(OR(\nOR(AND(D3353<>\"\",F3353=\"\"),AND(E3353<>\"\",F3353=\"\")),\nF3353=LEFT(F3353,MIN(FIND(0,SUBSTITUTE(F3353,{1,2,3,4,5,6,7,8,9},0)&0))-1)=FALSE\n),\"Check\",\"\")","v":""},"","",null,"",0,"","","","",""]
["SBSA_3348","SBSA_3348",null,null,null,null,null,null,null,null,null,null,null,null,null,null,null,null,null,null,null,null,null,null,null,null,"","",{"$f":"IF(OR(\nOR(AND(D3357<>\"\",F3357=\"\"),AND(E3357<>\"\",F3357=\"\")),\nF3357=LEFT(F3357,MIN(FIND(0,SUBSTITUTE(F3357,{1,2,3,4,5,6,7,8,9},0)&0))-1)=FALSE\n),\"Check\",\"\")","v":""},"","",null,"",0,"","","","",""]
["SBSA_3349","SBSA_3349",null,null,null,null,null,null,null,null,null,null,null,null,null,null,null,null,null,null,null,null,null,null,null,null,"","",{"$f":"IF(OR(\nOR(AND(D3358<>\"\",F3358=\"\"),AND(E3358<>\"\",F3358=\"\")),\nF3358=LEFT(F3358,MIN(FIND(0,SUBSTITUTE(F3358,{1,2,3,4,5,6,7,8,9},0)&0))-1)=FALSE\n),\"Check\",\"\")","v":""},"","",null,"",0,"","","","",""]
["SBSA_3354","SBSA_3354",null,null,null,null,null,null,null,null,null,null,null,null,null,null,null,null,null,null,null,null,null,null,null,null,"","",{"$f":"IF(OR(\nOR(AND(D3363<>\"\",F3363=\"\"),AND(E3363<>\"\",F3363=\"\")),\nF3363=LEFT(F3363,MIN(FIND(0,SUBSTITUTE(F3363,{1,2,3,4,5,6,7,8,9},0)&0))-1)=FALSE\n),\"Check\",\"\")","v":""},"","",null,"",0,"","","","",""]
["SBSA_3358","SBSA_3358",null,null,null,null,null,null,null,null,null,null,null,null,null,null,null,null,null,null,null,null,null,null,null,null,"","",{"$f":"IF(OR(\nOR(AND(D3367<>\"\",F3367=\"\"),AND(E3367<>\"\",F3367=\"\")),\nF3367=LEFT(F3367,MIN(FIND(0,SUBSTITUTE(F3367,{1,2,3,4,5,6,7,8,9},0)&0))-1)=FALSE\n),\"Check\",\"\")","v":""},"","",null,"",0,"","","","",""]
["SBSA_3363","SBSA_3363",null,null,null,null,null,null,null,null,null,null,null,null,null,null,null,null,null,null,null,null,null,null,null,null,"","",{"$f":"IF(OR(\nOR(AND(D3372<>\"\",F3372=\"\"),AND(E3372<>\"\",F3372=\"\")),\nF3372=LEFT(F3372,MIN(FIND(0,SUBSTITUTE(F3372,{1,2,3,4,5,6,7,8,9},0)&0))-1)=FALSE\n),\"Check\",\"\")","v":""},"","",null,"",0,"","","","",""]
["SBSA_3364","SBSA_3364",null,null,null,null,null,null,null,null,null,null,null,null,null,null,null,null,null,null,null,null,null,null,null,null,{"$f":"IF(AND(C3373=\"\",OR(D3373<>\"\",E3373<>\"\",F3373<>\"\",G3373<>\"\")),\"Check\",\"\")","v":""},{"$f":"IF(AND(C3373<>\"\",OR(AND(D3373=\"\",E3373=\"\"),AND(D3373=0,E3373=0),AND(ABS(D3373)>0,ABS(E3373)>0))),\"Check\",\"\")","v":""},{"$f":"IF(OR(\nOR(AND(D3373<>\"\",F3373=\"\"),AND(E3373<>\"\",F3373=\"\")),\nF3373=LEFT(F3373,MIN(FIND(0,SUBSTITUTE(F3373,{1,2,3,4,5,6,7,8,9},0)&0))-1)=FALSE\n),\"Check\",\"\")","v":""},{"$f":"IF(OR(E3373=\"\",G3373=\"\"),\"\",(E3373*G3373)/100)","v":""},{"$f":"IF(AND(F3373<>\"\",G3373=\"\"),\"Check\",\"\")","v":""},null,{"$f":"IF(C3373=\"\",\"\",C3373&\"_\"&IF(G3373=\"\",0,G3373))","v":""},{"$f":"IF(COUNTBLANK(C3373:G3373)<5,1,0)","v":0},{"$f":"IF(C3373=\"\",\"\",IF(LEN(C3373)=12,\"\",\"Check\"))","v":""},{"$f":"IF(C3373=\"\",\"\",IF(COUNTIF(C$10:C$65536,C3373)=COUNTIF(AG$10:AG$65536,AG3373),\"\",\"Check\"))","v":""},{"$f":"IF(F3373=\"\",\"\",IF(LEN(F3373)=3,\"\",\"Check\"))","v":""},{"$f":"IF(OR(IF(D3373=\"\",\"\",IF(ISNUMBER(D3373)=TRUE,\"\",\"TEXT\"))=\"TEXT\",IF(E3373=\"\",\"\",IF(ISNUMBER(E3373)=TRUE,\"\",\"TEXT\"))=\"TEXT\",IF(G3373=\"\",\"\",IF(ISNUMBER(G3373)=TRUE,\"\",\"TEXT\"))=\"TEXT\"),\"Check\",\"\")","v":""},{"$f":"IF(G3373<0,\"Check\",\"\")","v":""}]
["SBSA_3369","SBSA_3369",null,null,null,null,null,null,null,null,null,null,null,null,null,null,null,null,null,null,null,null,null,null,null,null,"","",{"$f":"IF(OR(\nOR(AND(D3378<>\"\",F3378=\"\"),AND(E3378<>\"\",F3378=\"\")),\nF3378=LEFT(F3378,MIN(FIND(0,SUBSTITUTE(F3378,{1,2,3,4,5,6,7,8,9},0)&0))-1)=FALSE\n),\"Check\",\"\")","v":""},"","",null,"",0,"","","","",""]
["SBSA_3374","SBSA_3374",null,null,null,null,null,null,null,null,null,null,null,null,null,null,null,null,null,null,null,null,null,null,null,null,"","",{"$f":"IF(OR(\nOR(AND(D3383<>\"\",F3383=\"\"),AND(E3383<>\"\",F3383=\"\")),\nF3383=LEFT(F3383,MIN(FIND(0,SUBSTITUTE(F3383,{1,2,3,4,5,6,7,8,9},0)&0))-1)=FALSE\n),\"Check\",\"\")","v":""},"","",null,"",0,"","","","",""]
["SBSA_3378","SBSA_3378",null,null,null,null,null,null,null,null,null,null,null,null,null,null,null,null,null,null,null,null,null,null,null,null,"","",{"$f":"IF(OR(\nOR(AND(D3387<>\"\",F3387=\"\"),AND(E3387<>\"\",F3387=\"\")),\nF3387=LEFT(F3387,MIN(FIND(0,SUBSTITUTE(F3387,{1,2,3,4,5,6,7,8,9},0)&0))-1)=FALSE\n),\"Check\",\"\")","v":""},"","",null,"",0,"","","","",""]
["SBSA_3379","SBSA_3379",null,null,null,null,null,null,null,null,null,null,null,null,null,null,null,null,null,null,null,null,null,null,null,null,"","",{"$f":"IF(OR(\nOR(AND(D3388<>\"\",F3388=\"\"),AND(E3388<>\"\",F3388=\"\")),\nF3388=LEFT(F3388,MIN(FIND(0,SUBSTITUTE(F3388,{1,2,3,4,5,6,7,8,9},0)&0))-1)=FALSE\n),\"Check\",\"\")","v":""},"","",null,"",0,"","","","",""]
["SBSA_3384","SBSA_3384",null,null,null,null,null,null,null,null,null,null,null,null,null,null,null,null,null,null,null,null,null,null,null,null,"","",{"$f":"IF(OR(\nOR(AND(D3393<>\"\",F3393=\"\"),AND(E3393<>\"\",F3393=\"\")),\nF3393=LEFT(F3393,MIN(FIND(0,SUBSTITUTE(F3393,{1,2,3,4,5,6,7,8,9},0)&0))-1)=FALSE\n),\"Check\",\"\")","v":""},"","",null,"",0,"","","","",""]
["SBSA_3388","SBSA_3388",null,null,null,null,null,null,null,null,null,null,null,null,null,null,null,null,null,null,null,null,null,null,null,null,"","",{"$f":"IF(OR(\nOR(AND(D3397<>\"\",F3397=\"\"),AND(E3397<>\"\",F3397=\"\")),\nF3397=LEFT(F3397,MIN(FIND(0,SUBSTITUTE(F3397,{1,2,3,4,5,6,7,8,9},0)&0))-1)=FALSE\n),\"Check\",\"\")","v":""},"","",null,"",0,"","","","",""]
["SBSA_3393","SBSA_3393",null,null,null,null,null,null,null,null,null,null,null,null,null,null,null,null,null,null,null,null,null,null,null,null,"","",{"$f":"IF(OR(\nOR(AND(D3402<>\"\",F3402=\"\"),AND(E3402<>\"\",F3402=\"\")),\nF3402=LEFT(F3402,MIN(FIND(0,SUBSTITUTE(F3402,{1,2,3,4,5,6,7,8,9},0)&0))-1)=FALSE\n),\"Check\",\"\")","v":""},"","",null,"",0,"","","","",""]
["SBSA_3394","SBSA_3394",null,null,null,null,null,null,null,null,null,null,null,null,null,null,null,null,null,null,null,null,null,null,null,null,"","",{"$f":"IF(OR(\nOR(AND(D3403<>\"\",F3403=\"\"),AND(E3403<>\"\",F3403=\"\")),\nF3403=LEFT(F3403,MIN(FIND(0,SUBSTITUTE(F3403,{1,2,3,4,5,6,7,8,9},0)&0))-1)=FALSE\n),\"Check\",\"\")","v":""},"","",null,"",0,"","","","",""]
["SBSA_3399","SBSA_3399",null,null,null,null,null,null,null,null,null,null,null,null,null,null,null,null,null,null,null,null,null,null,null,null,"","",{"$f":"IF(OR(\nOR(AND(D3408<>\"\",F3408=\"\"),AND(E3408<>\"\",F3408=\"\")),\nF3408=LEFT(F3408,MIN(FIND(0,SUBSTITUTE(F3408,{1,2,3,4,5,6,7,8,9},0)&0))-1)=FALSE\n),\"Check\",\"\")","v":""},"","",null,"",0,"","","","",""]
["SBSA_3404","SBSA_3404",null,null,null,null,null,null,null,null,null,null,null,null,null,null,null,null,null,null,null,null,null,null,null,null,"","",{"$f":"IF(OR(\nOR(AND(D3413<>\"\",F3413=\"\"),AND(E3413<>\"\",F3413=\"\")),\nF3413=LEFT(F3413,MIN(FIND(0,SUBSTITUTE(F3413,{1,2,3,4,5,6,7,8,9},0)&0))-1)=FALSE\n),\"Check\",\"\")","v":""},"","",null,"",0,"","","","",""]
["SBSA_3408","SBSA_3408",null,null,null,null,null,null,null,null,null,null,null,null,null,null,null,null,null,null,null,null,null,null,null,null,"","",{"$f":"IF(OR(\nOR(AND(D3417<>\"\",F3417=\"\"),AND(E3417<>\"\",F3417=\"\")),\nF3417=LEFT(F3417,MIN(FIND(0,SUBSTITUTE(F3417,{1,2,3,4,5,6,7,8,9},0)&0))-1)=FALSE\n),\"Check\",\"\")","v":""},"","",null,"",0,"","","","",""]
["SBSA_3409","SBSA_3409",null,null,null,null,null,null,null,null,null,null,null,null,null,null,null,null,null,null,null,null,null,null,null,null,"","",{"$f":"IF(OR(\nOR(AND(D3418<>\"\",F3418=\"\"),AND(E3418<>\"\",F3418=\"\")),\nF3418=LEFT(F3418,MIN(FIND(0,SUBSTITUTE(F3418,{1,2,3,4,5,6,7,8,9},0)&0))-1)=FALSE\n),\"Check\",\"\")","v":""},"","",null,"",0,"","","","",""]
["SBSA_3414","SBSA_3414",null,null,null,null,null,null,null,null,null,null,null,null,null,null,null,null,null,null,null,null,null,null,null,null,"","",{"$f":"IF(OR(\nOR(AND(D3423<>\"\",F3423=\"\"),AND(E3423<>\"\",F3423=\"\")),\nF3423=LEFT(F3423,MIN(FIND(0,SUBSTITUTE(F3423,{1,2,3,4,5,6,7,8,9},0)&0))-1)=FALSE\n),\"Check\",\"\")","v":""},"","",null,"",0,"","","","",""]
["SBSA_3418","SBSA_3418",null,null,null,null,null,null,null,null,null,null,null,null,null,null,null,null,null,null,null,null,null,null,null,null,"","",{"$f":"IF(OR(\nOR(AND(D3427<>\"\",F3427=\"\"),AND(E3427<>\"\",F3427=\"\")),\nF3427=LEFT(F3427,MIN(FIND(0,SUBSTITUTE(F3427,{1,2,3,4,5,6,7,8,9},0)&0))-1)=FALSE\n),\"Check\",\"\")","v":""},"","",null,"",0,"","","","",""]
["SBSA_3423","SBSA_3423",null,null,null,null,null,null,null,null,null,null,null,null,null,null,null,null,null,null,null,null,null,null,null,null,"","",{"$f":"IF(OR(\nOR(AND(D3432<>\"\",F3432=\"\"),AND(E3432<>\"\",F3432=\"\")),\nF3432=LEFT(F3432,MIN(FIND(0,SUBSTITUTE(F3432,{1,2,3,4,5,6,7,8,9},0)&0))-1)=FALSE\n),\"Check\",\"\")","v":""},"","",null,"",0,"","","","",""]
["SBSA_3424","SBSA_3424",null,null,null,null,null,null,null,null,null,null,null,null,null,null,null,null,null,null,null,null,null,null,null,null,"","",{"$f":"IF(OR(\nOR(AND(D3433<>\"\",F3433=\"\"),AND(E3433<>\"\",F3433=\"\")),\nF3433=LEFT(F3433,MIN(FIND(0,SUBSTITUTE(F3433,{1,2,3,4,5,6,7,8,9},0)&0))-1)=FALSE\n),\"Check\",\"\")","v":""},"","",null,"",0,"","","","",""]
["SBSA_3429","SBSA_3429",null,null,null,null,null,null,null,null,null,null,null,null,null,null,null,null,null,null,null,null,null,null,null,null,"","",{"$f":"IF(OR(\nOR(AND(D3438<>\"\",F3438=\"\"),AND(E3438<>\"\",F3438=\"\")),\nF3438=LEFT(F3438,MIN(FIND(0,SUBSTITUTE(F3438,{1,2,3,4,5,6,7,8,9},0)&0))-1)=FALSE\n),\"Check\",\"\")","v":""},"","",null,"",0,"","","","",""]
["SBSA_3434","SBSA_3434",null,null,null,null,null,null,null,null,null,null,null,null,null,null,null,null,null,null,null,null,null,null,null,null,"","",{"$f":"IF(OR(\nOR(AND(D3443<>\"\",F3443=\"\"),AND(E3443<>\"\",F3443=\"\")),\nF3443=LEFT(F3443,MIN(FIND(0,SUBSTITUTE(F3443,{1,2,3,4,5,6,7,8,9},0)&0))-1)=FALSE\n),\"Check\",\"\")","v":""},"","",null,"",0,"","","","",""]
["SBSA_3436","SBSA_3436",null,null,null,null,null,null,null,null,null,null,null,null,null,null,null,null,null,null,null,null,null,null,null,null,"","",{"$f":"IF(OR(\nOR(AND(D3445<>\"\",F3445=\"\"),AND(E3445<>\"\",F3445=\"\")),\nF3445=LEFT(F3445,MIN(FIND(0,SUBSTITUTE(F3445,{1,2,3,4,5,6,7,8,9},0)&0))-1)=FALSE\n),\"Check\",\"\")","v":""},"","",null,"",0,"","","","",""]
["SBSA_3439","SBSA_3439",null,null,null,null,null,null,null,null,null,null,null,null,null,null,null,null,null,null,null,null,null,null,null,null,"","",{"$f":"IF(OR(\nOR(AND(D3448<>\"\",F3448=\"\"),AND(E3448<>\"\",F3448=\"\")),\nF3448=LEFT(F3448,MIN(FIND(0,SUBSTITUTE(F3448,{1,2,3,4,5,6,7,8,9},0)&0))-1)=FALSE\n),\"Check\",\"\")","v":""},"","",null,"",0,"","","","",""]
["SBSA_3444","SBSA_3444",null,null,null,null,null,null,null,null,null,null,null,null,null,null,null,null,null,null,null,null,null,null,null,null,"","",{"$f":"IF(OR(\nOR(AND(D3453<>\"\",F3453=\"\"),AND(E3453<>\"\",F3453=\"\")),\nF3453=LEFT(F3453,MIN(FIND(0,SUBSTITUTE(F3453,{1,2,3,4,5,6,7,8,9},0)&0))-1)=FALSE\n),\"Check\",\"\")","v":""},"","",null,"",0,"","","","",""]
["SBSA_3449","SBSA_3449",null,null,null,null,null,null,null,null,null,null,null,null,null,null,null,null,null,null,null,null,null,null,null,null,"","",{"$f":"IF(OR(\nOR(AND(D3458<>\"\",F3458=\"\"),AND(E3458<>\"\",F3458=\"\")),\nF3458=LEFT(F3458,MIN(FIND(0,SUBSTITUTE(F3458,{1,2,3,4,5,6,7,8,9},0)&0))-1)=FALSE\n),\"Check\",\"\")","v":""},"","",null,"",0,"","","","",""]
["SBSA_3452","SBSA_3452",null,null,null,null,null,null,null,null,null,null,null,null,null,null,null,null,null,null,null,null,null,null,null,null,"","",{"$f":"IF(OR(\nOR(AND(D3461<>\"\",F3461=\"\"),AND(E3461<>\"\",F3461=\"\")),\nF3461=LEFT(F3461,MIN(FIND(0,SUBSTITUTE(F3461,{1,2,3,4,5,6,7,8,9},0)&0))-1)=FALSE\n),\"Check\",\"\")","v":""},"","",null,"",0,"","","","",""]
["SBSA_3454","SBSA_3454",null,null,null,null,null,null,null,null,null,null,null,null,null,null,null,null,null,null,null,null,null,null,null,null,"","",{"$f":"IF(OR(\nOR(AND(D3463<>\"\",F3463=\"\"),AND(E3463<>\"\",F3463=\"\")),\nF3463=LEFT(F3463,MIN(FIND(0,SUBSTITUTE(F3463,{1,2,3,4,5,6,7,8,9},0)&0))-1)=FALSE\n),\"Check\",\"\")","v":""},"","",null,"",0,"","","","",""]
["SBSA_3459","SBSA_3459",null,null,null,null,null,null,null,null,null,null,null,null,null,null,null,null,null,null,null,null,null,null,null,null,"","",{"$f":"IF(OR(\nOR(AND(D3468<>\"\",F3468=\"\"),AND(E3468<>\"\",F3468=\"\")),\nF3468=LEFT(F3468,MIN(FIND(0,SUBSTITUTE(F3468,{1,2,3,4,5,6,7,8,9},0)&0))-1)=FALSE\n),\"Check\",\"\")","v":""},"","",null,"",0,"","","","",""]
["SBSA_3464","SBSA_3464",null,null,null,null,null,null,null,null,null,null,null,null,null,null,null,null,null,null,null,null,null,null,null,null,"","",{"$f":"IF(OR(\nOR(AND(D3473<>\"\",F3473=\"\"),AND(E3473<>\"\",F3473=\"\")),\nF3473=LEFT(F3473,MIN(FIND(0,SUBSTITUTE(F3473,{1,2,3,4,5,6,7,8,9},0)&0))-1)=FALSE\n),\"Check\",\"\")","v":""},"","",null,"",0,"","","","",""]
["SBSA_3466","SBSA_3466",null,null,null,null,null,null,null,null,null,null,null,null,null,null,null,null,null,null,null,null,null,null,null,null,"","",{"$f":"IF(OR(\nOR(AND(D3475<>\"\",F3475=\"\"),AND(E3475<>\"\",F3475=\"\")),\nF3475=LEFT(F3475,MIN(FIND(0,SUBSTITUTE(F3475,{1,2,3,4,5,6,7,8,9},0)&0))-1)=FALSE\n),\"Check\",\"\")","v":""},"","",null,"",0,"","","","",""]
["SBSA_3469","SBSA_3469",null,null,null,null,null,null,null,null,null,null,null,null,null,null,null,null,null,null,null,null,null,null,null,null,"","",{"$f":"IF(OR(\nOR(AND(D3478<>\"\",F3478=\"\"),AND(E3478<>\"\",F3478=\"\")),\nF3478=LEFT(F3478,MIN(FIND(0,SUBSTITUTE(F3478,{1,2,3,4,5,6,7,8,9},0)&0))-1)=FALSE\n),\"Check\",\"\")","v":""},"","",null,"",0,"","","","",""]
["SBSA_3474","SBSA_3474",null,null,null,null,null,null,null,null,null,null,null,null,null,null,null,null,null,null,null,null,null,null,null,null,"","",{"$f":"IF(OR(\nOR(AND(D3483<>\"\",F3483=\"\"),AND(E3483<>\"\",F3483=\"\")),\nF3483=LEFT(F3483,MIN(FIND(0,SUBSTITUTE(F3483,{1,2,3,4,5,6,7,8,9},0)&0))-1)=FALSE\n),\"Check\",\"\")","v":""},"","",null,"",0,"","","","",""]
["SBSA_3479","SBSA_3479",null,null,null,null,null,null,null,null,null,null,null,null,null,null,null,null,null,null,null,null,null,null,null,null,"","",{"$f":"IF(OR(\nOR(AND(D3488<>\"\",F3488=\"\"),AND(E3488<>\"\",F3488=\"\")),\nF3488=LEFT(F3488,MIN(FIND(0,SUBSTITUTE(F3488,{1,2,3,4,5,6,7,8,9},0)&0))-1)=FALSE\n),\"Check\",\"\")","v":""},"","",null,"",0,"","","","",""]
["SBSA_3482","SBSA_3482",null,null,null,null,null,null,null,null,null,null,null,null,null,null,null,null,null,null,null,null,null,null,null,null,"","",{"$f":"IF(OR(\nOR(AND(D3491<>\"\",F3491=\"\"),AND(E3491<>\"\",F3491=\"\")),\nF3491=LEFT(F3491,MIN(FIND(0,SUBSTITUTE(F3491,{1,2,3,4,5,6,7,8,9},0)&0))-1)=FALSE\n),\"Check\",\"\")","v":""},"","",null,"",0,"","","","",""]
["SBSA_3484","SBSA_3484",null,null,null,null,null,null,null,null,null,null,null,null,null,null,null,null,null,null,null,null,null,null,null,null,"","",{"$f":"IF(OR(\nOR(AND(D3493<>\"\",F3493=\"\"),AND(E3493<>\"\",F3493=\"\")),\nF3493=LEFT(F3493,MIN(FIND(0,SUBSTITUTE(F3493,{1,2,3,4,5,6,7,8,9},0)&0))-1)=FALSE\n),\"Check\",\"\")","v":""},"","",null,"",0,"","","","",""]
["SBSA_3489","SBSA_3489",null,null,null,null,null,null,null,null,null,null,null,null,null,null,null,null,null,null,null,null,null,null,null,null,"","",{"$f":"IF(OR(\nOR(AND(D3498<>\"\",F3498=\"\"),AND(E3498<>\"\",F3498=\"\")),\nF3498=LEFT(F3498,MIN(FIND(0,SUBSTITUTE(F3498,{1,2,3,4,5,6,7,8,9},0)&0))-1)=FALSE\n),\"Check\",\"\")","v":""},"","",null,"",0,"","","","",""]
["SBSA_3494","SBSA_3494",null,null,null,null,null,null,null,null,null,null,null,null,null,null,null,null,null,null,null,null,null,null,null,null,"","",{"$f":"IF(OR(\nOR(AND(D3503<>\"\",F3503=\"\"),AND(E3503<>\"\",F3503=\"\")),\nF3503=LEFT(F3503,MIN(FIND(0,SUBSTITUTE(F3503,{1,2,3,4,5,6,7,8,9},0)&0))-1)=FALSE\n),\"Check\",\"\")","v":""},"","",null,"",0,"","","","",""]
["SBSA_3496","SBSA_3496",null,null,null,null,null,null,null,null,null,null,null,null,null,null,null,null,null,null,null,null,null,null,null,null,"","",{"$f":"IF(OR(\nOR(AND(D3505<>\"\",F3505=\"\"),AND(E3505<>\"\",F3505=\"\")),\nF3505=LEFT(F3505,MIN(FIND(0,SUBSTITUTE(F3505,{1,2,3,4,5,6,7,8,9},0)&0))-1)=FALSE\n),\"Check\",\"\")","v":""},"","",null,"",0,"","","","",""]
["SBSA_3499","SBSA_3499",null,null,null,null,null,null,null,null,null,null,null,null,null,null,null,null,null,null,null,null,null,null,null,null,"","",{"$f":"IF(OR(\nOR(AND(D3508<>\"\",F3508=\"\"),AND(E3508<>\"\",F3508=\"\")),\nF3508=LEFT(F3508,MIN(FIND(0,SUBSTITUTE(F3508,{1,2,3,4,5,6,7,8,9},0)&0))-1)=FALSE\n),\"Check\",\"\")","v":""},"","",null,"",0,"","","","",""]
["SBSA_3504","SBSA_3504",null,null,null,null,null,null,null,null,null,null,null,null,null,null,null,null,null,null,null,null,null,null,null,null,"","",{"$f":"IF(OR(\nOR(AND(D3513<>\"\",F3513=\"\"),AND(E3513<>\"\",F3513=\"\")),\nF3513=LEFT(F3513,MIN(FIND(0,SUBSTITUTE(F3513,{1,2,3,4,5,6,7,8,9},0)&0))-1)=FALSE\n),\"Check\",\"\")","v":""},"","",null,"",0,"","","","",""]
["SBSA_3509","SBSA_3509",null,null,null,null,null,null,null,null,null,null,null,null,null,null,null,null,null,null,null,null,null,null,null,null,"","",{"$f":"IF(OR(\nOR(AND(D3518<>\"\",F3518=\"\"),AND(E3518<>\"\",F3518=\"\")),\nF3518=LEFT(F3518,MIN(FIND(0,SUBSTITUTE(F3518,{1,2,3,4,5,6,7,8,9},0)&0))-1)=FALSE\n),\"Check\",\"\")","v":""},"","",null,"",0,"","","","",""]
["SBSA_3512","SBSA_3512",null,null,null,null,null,null,null,null,null,null,null,null,null,null,null,null,null,null,null,null,null,null,null,null,"","",{"$f":"IF(OR(\nOR(AND(D3521<>\"\",F3521=\"\"),AND(E3521<>\"\",F3521=\"\")),\nF3521=LEFT(F3521,MIN(FIND(0,SUBSTITUTE(F3521,{1,2,3,4,5,6,7,8,9},0)&0))-1)=FALSE\n),\"Check\",\"\")","v":""},"","",null,"",0,"","","","",""]
["SBSA_3514","SBSA_3514",null,null,null,null,null,null,null,null,null,null,null,null,null,null,null,null,null,null,null,null,null,null,null,null,"","",{"$f":"IF(OR(\nOR(AND(D3523<>\"\",F3523=\"\"),AND(E3523<>\"\",F3523=\"\")),\nF3523=LEFT(F3523,MIN(FIND(0,SUBSTITUTE(F3523,{1,2,3,4,5,6,7,8,9},0)&0))-1)=FALSE\n),\"Check\",\"\")","v":""},"","",null,"",0,"","","","",""]
["SBSA_3519","SBSA_3519",null,null,null,null,null,null,null,null,null,null,null,null,null,null,null,null,null,null,null,null,null,null,null,null,"","",{"$f":"IF(OR(\nOR(AND(D3528<>\"\",F3528=\"\"),AND(E3528<>\"\",F3528=\"\")),\nF3528=LEFT(F3528,MIN(FIND(0,SUBSTITUTE(F3528,{1,2,3,4,5,6,7,8,9},0)&0))-1)=FALSE\n),\"Check\",\"\")","v":""},"","",null,"",0,"","","","",""]
["SBSA_3524","SBSA_3524",null,null,null,null,null,null,null,null,null,null,null,null,null,null,null,null,null,null,null,null,null,null,null,null,"","",{"$f":"IF(OR(\nOR(AND(D3533<>\"\",F3533=\"\"),AND(E3533<>\"\",F3533=\"\")),\nF3533=LEFT(F3533,MIN(FIND(0,SUBSTITUTE(F3533,{1,2,3,4,5,6,7,8,9},0)&0))-1)=FALSE\n),\"Check\",\"\")","v":""},"","",null,"",0,"","","","",""]
["SBSA_3529","SBSA_3529",null,null,null,null,null,null,null,null,null,null,null,null,null,null,null,null,null,null,null,null,null,null,null,null,"","",{"$f":"IF(OR(\nOR(AND(D3538<>\"\",F3538=\"\"),AND(E3538<>\"\",F3538=\"\")),\nF3538=LEFT(F3538,MIN(FIND(0,SUBSTITUTE(F3538,{1,2,3,4,5,6,7,8,9},0)&0))-1)=FALSE\n),\"Check\",\"\")","v":""},"","",null,"",0,"","","","",""]
["SBSA_3530","SBSA_3530",null,null,null,null,null,null,null,null,null,null,null,null,null,null,null,null,null,null,null,null,null,null,null,null,"","",{"$f":"IF(OR(\nOR(AND(D3539<>\"\",F3539=\"\"),AND(E3539<>\"\",F3539=\"\")),\nF3539=LEFT(F3539,MIN(FIND(0,SUBSTITUTE(F3539,{1,2,3,4,5,6,7,8,9},0)&0))-1)=FALSE\n),\"Check\",\"\")","v":""},"","",null,"",0,"","","","",""]
["SBSA_3534","SBSA_3534",null,null,null,null,null,null,null,null,null,null,null,null,null,null,null,null,null,null,null,null,null,null,null,null,"","",{"$f":"IF(OR(\nOR(AND(D3543<>\"\",F3543=\"\"),AND(E3543<>\"\",F3543=\"\")),\nF3543=LEFT(F3543,MIN(FIND(0,SUBSTITUTE(F3543,{1,2,3,4,5,6,7,8,9},0)&0))-1)=FALSE\n),\"Check\",\"\")","v":""},"","",null,"",0,"","","","",""]
["SBSA_3539","SBSA_3539",null,null,null,null,null,null,null,null,null,null,null,null,null,null,null,null,null,null,null,null,null,null,null,null,"","",{"$f":"IF(OR(\nOR(AND(D3548<>\"\",F3548=\"\"),AND(E3548<>\"\",F3548=\"\")),\nF3548=LEFT(F3548,MIN(FIND(0,SUBSTITUTE(F3548,{1,2,3,4,5,6,7,8,9},0)&0))-1)=FALSE\n),\"Check\",\"\")","v":""},"","",null,"",0,"","","","",""]
["SBSA_3544","SBSA_3544",null,null,null,null,null,null,null,null,null,null,null,null,null,null,null,null,null,null,null,null,null,null,null,null,"","",{"$f":"IF(OR(\nOR(AND(D3553<>\"\",F3553=\"\"),AND(E3553<>\"\",F3553=\"\")),\nF3553=LEFT(F3553,MIN(FIND(0,SUBSTITUTE(F3553,{1,2,3,4,5,6,7,8,9},0)&0))-1)=FALSE\n),\"Check\",\"\")","v":""},"","",null,"",0,"","","","",""]
["SBSA_3547","SBSA_3547",null,null,null,null,null,null,null,null,null,null,null,null,null,null,null,null,null,null,null,null,null,null,null,null,"","",{"$f":"IF(OR(\nOR(AND(D3556<>\"\",F3556=\"\"),AND(E3556<>\"\",F3556=\"\")),\nF3556=LEFT(F3556,MIN(FIND(0,SUBSTITUTE(F3556,{1,2,3,4,5,6,7,8,9},0)&0))-1)=FALSE\n),\"Check\",\"\")","v":""},"","",null,"",0,"","","","",""]
["SBSA_3549","SBSA_3549",null,null,null,null,null,null,null,null,null,null,null,null,null,null,null,null,null,null,null,null,null,null,null,null,"","",{"$f":"IF(OR(\nOR(AND(D3558<>\"\",F3558=\"\"),AND(E3558<>\"\",F3558=\"\")),\nF3558=LEFT(F3558,MIN(FIND(0,SUBSTITUTE(F3558,{1,2,3,4,5,6,7,8,9},0)&0))-1)=FALSE\n),\"Check\",\"\")","v":""},"","",null,"",0,"","","","",""]
["SBSA_3554","SBSA_3554",null,null,null,null,null,null,null,null,null,null,null,null,null,null,null,null,null,null,null,null,null,null,null,null,"","",{"$f":"IF(OR(\nOR(AND(D3563<>\"\",F3563=\"\"),AND(E3563<>\"\",F3563=\"\")),\nF3563=LEFT(F3563,MIN(FIND(0,SUBSTITUTE(F3563,{1,2,3,4,5,6,7,8,9},0)&0))-1)=FALSE\n),\"Check\",\"\")","v":""},"","",null,"",0,"","","","",""]
["SBSA_3559","SBSA_3559",null,null,null,null,null,null,null,null,null,null,null,null,null,null,null,null,null,null,null,null,null,null,null,null,"","",{"$f":"IF(OR(\nOR(AND(D3568<>\"\",F3568=\"\"),AND(E3568<>\"\",F3568=\"\")),\nF3568=LEFT(F3568,MIN(FIND(0,SUBSTITUTE(F3568,{1,2,3,4,5,6,7,8,9},0)&0))-1)=FALSE\n),\"Check\",\"\")","v":""},"","",null,"",0,"","","","",""]
["SBSA_3560","SBSA_3560",null,null,null,null,null,null,null,null,null,null,null,null,null,null,null,null,null,null,null,null,null,null,null,null,"","",{"$f":"IF(OR(\nOR(AND(D3569<>\"\",F3569=\"\"),AND(E3569<>\"\",F3569=\"\")),\nF3569=LEFT(F3569,MIN(FIND(0,SUBSTITUTE(F3569,{1,2,3,4,5,6,7,8,9},0)&0))-1)=FALSE\n),\"Check\",\"\")","v":""},"","",null,"",0,"","","","",""]
["SBSA_3564","SBSA_3564",null,null,null,null,null,null,null,null,null,null,null,null,null,null,null,null,null,null,null,null,null,null,null,null,"","",{"$f":"IF(OR(\nOR(AND(D3573<>\"\",F3573=\"\"),AND(E3573<>\"\",F3573=\"\")),\nF3573=LEFT(F3573,MIN(FIND(0,SUBSTITUTE(F3573,{1,2,3,4,5,6,7,8,9},0)&0))-1)=FALSE\n),\"Check\",\"\")","v":""},"","",null,"",0,"","","","",""]
["SBSA_3569","SBSA_3569",null,null,null,null,null,null,null,null,null,null,null,null,null,null,null,null,null,null,null,null,null,null,null,null,"","",{"$f":"IF(OR(\nOR(AND(D3578<>\"\",F3578=\"\"),AND(E3578<>\"\",F3578=\"\")),\nF3578=LEFT(F3578,MIN(FIND(0,SUBSTITUTE(F3578,{1,2,3,4,5,6,7,8,9},0)&0))-1)=FALSE\n),\"Check\",\"\")","v":""},"","",null,"",0,"","","","",""]
["SBSA_3574","SBSA_3574",null,null,null,null,null,null,null,null,null,null,null,null,null,null,null,null,null,null,null,null,null,null,null,null,"","",{"$f":"IF(OR(\nOR(AND(D3583<>\"\",F3583=\"\"),AND(E3583<>\"\",F3583=\"\")),\nF3583=LEFT(F3583,MIN(FIND(0,SUBSTITUTE(F3583,{1,2,3,4,5,6,7,8,9},0)&0))-1)=FALSE\n),\"Check\",\"\")","v":""},"","",null,"",0,"","","","",""]
["SBSA_3577","SBSA_3577",null,null,null,null,null,null,null,null,null,null,null,null,null,null,null,null,null,null,null,null,null,null,null,null,"","",{"$f":"IF(OR(\nOR(AND(D3586<>\"\",F3586=\"\"),AND(E3586<>\"\",F3586=\"\")),\nF3586=LEFT(F3586,MIN(FIND(0,SUBSTITUTE(F3586,{1,2,3,4,5,6,7,8,9},0)&0))-1)=FALSE\n),\"Check\",\"\")","v":""},"","",null,"",0,"","","","",""]
["SBSA_3579","SBSA_3579",null,null,null,null,null,null,null,null,null,null,null,null,null,null,null,null,null,null,null,null,null,null,null,null,"","",{"$f":"IF(OR(\nOR(AND(D3588<>\"\",F3588=\"\"),AND(E3588<>\"\",F3588=\"\")),\nF3588=LEFT(F3588,MIN(FIND(0,SUBSTITUTE(F3588,{1,2,3,4,5,6,7,8,9},0)&0))-1)=FALSE\n),\"Check\",\"\")","v":""},"","",null,"",0,"","","","",""]
["SBSA_3584","SBSA_3584",null,null,null,null,null,null,null,null,null,null,null,null,null,null,null,null,null,null,null,null,null,null,null,null,"","",{"$f":"IF(OR(\nOR(AND(D3593<>\"\",F3593=\"\"),AND(E3593<>\"\",F3593=\"\")),\nF3593=LEFT(F3593,MIN(FIND(0,SUBSTITUTE(F3593,{1,2,3,4,5,6,7,8,9},0)&0))-1)=FALSE\n),\"Check\",\"\")","v":""},"","",null,"",0,"","","","",""]
["SBSA_3589","SBSA_3589",null,null,null,null,null,null,null,null,null,null,null,null,null,null,null,null,null,null,null,null,null,null,null,null,"","",{"$f":"IF(OR(\nOR(AND(D3598<>\"\",F3598=\"\"),AND(E3598<>\"\",F3598=\"\")),\nF3598=LEFT(F3598,MIN(FIND(0,SUBSTITUTE(F3598,{1,2,3,4,5,6,7,8,9},0)&0))-1)=FALSE\n),\"Check\",\"\")","v":""},"","",null,"",0,"","","","",""]
["SBSA_3590","SBSA_3590",null,null,null,null,null,null,null,null,null,null,null,null,null,null,null,null,null,null,null,null,null,null,null,null,"","",{"$f":"IF(OR(\nOR(AND(D3599<>\"\",F3599=\"\"),AND(E3599<>\"\",F3599=\"\")),\nF3599=LEFT(F3599,MIN(FIND(0,SUBSTITUTE(F3599,{1,2,3,4,5,6,7,8,9},0)&0))-1)=FALSE\n),\"Check\",\"\")","v":""},"","",null,"",0,"","","","",""]
["SBSA_3594","SBSA_3594",null,null,null,null,null,null,null,null,null,null,null,null,null,null,null,null,null,null,null,null,null,null,null,null,"","",{"$f":"IF(OR(\nOR(AND(D3603<>\"\",F3603=\"\"),AND(E3603<>\"\",F3603=\"\")),\nF3603=LEFT(F3603,MIN(FIND(0,SUBSTITUTE(F3603,{1,2,3,4,5,6,7,8,9},0)&0))-1)=FALSE\n),\"Check\",\"\")","v":""},"","",null,"",0,"","","","",""]
["SBSA_3599","SBSA_3599",null,null,null,null,null,null,null,null,null,null,null,null,null,null,null,null,null,null,null,null,null,null,null,null,"","",{"$f":"IF(OR(\nOR(AND(D3608<>\"\",F3608=\"\"),AND(E3608<>\"\",F3608=\"\")),\nF3608=LEFT(F3608,MIN(FIND(0,SUBSTITUTE(F3608,{1,2,3,4,5,6,7,8,9},0)&0))-1)=FALSE\n),\"Check\",\"\")","v":""},"","",null,"",0,"","","","",""]
["SBSA_3604","SBSA_3604",null,null,null,null,null,null,null,null,null,null,null,null,null,null,null,null,null,null,null,null,null,null,null,null,"","",{"$f":"IF(OR(\nOR(AND(D3613<>\"\",F3613=\"\"),AND(E3613<>\"\",F3613=\"\")),\nF3613=LEFT(F3613,MIN(FIND(0,SUBSTITUTE(F3613,{1,2,3,4,5,6,7,8,9},0)&0))-1)=FALSE\n),\"Check\",\"\")","v":""},"","",null,"",0,"","","","",""]
["SBSA_3607","SBSA_3607",null,null,null,null,null,null,null,null,null,null,null,null,null,null,null,null,null,null,null,null,null,null,null,null,"","",{"$f":"IF(OR(\nOR(AND(D3616<>\"\",F3616=\"\"),AND(E3616<>\"\",F3616=\"\")),\nF3616=LEFT(F3616,MIN(FIND(0,SUBSTITUTE(F3616,{1,2,3,4,5,6,7,8,9},0)&0))-1)=FALSE\n),\"Check\",\"\")","v":""},"","",null,"",0,"","","","",""]
["SBSA_3609","SBSA_3609",null,null,null,null,null,null,null,null,null,null,null,null,null,null,null,null,null,null,null,null,null,null,null,null,"","",{"$f":"IF(OR(\nOR(AND(D3618<>\"\",F3618=\"\"),AND(E3618<>\"\",F3618=\"\")),\nF3618=LEFT(F3618,MIN(FIND(0,SUBSTITUTE(F3618,{1,2,3,4,5,6,7,8,9},0)&0))-1)=FALSE\n),\"Check\",\"\")","v":""},"","",null,"",0,"","","","",""]
["SBSA_3614","SBSA_3614",null,null,null,null,null,null,null,null,null,null,null,null,null,null,null,null,null,null,null,null,null,null,null,null,"","",{"$f":"IF(OR(\nOR(AND(D3623<>\"\",F3623=\"\"),AND(E3623<>\"\",F3623=\"\")),\nF3623=LEFT(F3623,MIN(FIND(0,SUBSTITUTE(F3623,{1,2,3,4,5,6,7,8,9},0)&0))-1)=FALSE\n),\"Check\",\"\")","v":""},"","",null,"",0,"","","","",""]
["SBSA_3619","SBSA_3619",null,null,null,null,null,null,null,null,null,null,null,null,null,null,null,null,null,null,null,null,null,null,null,null,"","",{"$f":"IF(OR(\nOR(AND(D3628<>\"\",F3628=\"\"),AND(E3628<>\"\",F3628=\"\")),\nF3628=LEFT(F3628,MIN(FIND(0,SUBSTITUTE(F3628,{1,2,3,4,5,6,7,8,9},0)&0))-1)=FALSE\n),\"Check\",\"\")","v":""},"","",null,"",0,"","","","",""]
["SBSA_3620","SBSA_3620",null,null,null,null,null,null,null,null,null,null,null,null,null,null,null,null,null,null,null,null,null,null,null,null,{"$f":"IF(AND(C3629=\"\",OR(D3629<>\"\",E3629<>\"\",F3629<>\"\",G3629<>\"\")),\"Check\",\"\")","v":""},{"$f":"IF(AND(C3629<>\"\",OR(AND(D3629=\"\",E3629=\"\"),AND(D3629=0,E3629=0),AND(ABS(D3629)>0,ABS(E3629)>0))),\"Check\",\"\")","v":""},{"$f":"IF(OR(\nOR(AND(D3629<>\"\",F3629=\"\"),AND(E3629<>\"\",F3629=\"\")),\nF3629=LEFT(F3629,MIN(FIND(0,SUBSTITUTE(F3629,{1,2,3,4,5,6,7,8,9},0)&0))-1)=FALSE\n),\"Check\",\"\")","v":""},{"$f":"IF(OR(E3629=\"\",G3629=\"\"),\"\",(E3629*G3629)/100)","v":""},{"$f":"IF(AND(F3629<>\"\",G3629=\"\"),\"Check\",\"\")","v":""},null,{"$f":"IF(C3629=\"\",\"\",C3629&\"_\"&IF(G3629=\"\",0,G3629))","v":""},{"$f":"IF(COUNTBLANK(C3629:G3629)<5,1,0)","v":0},{"$f":"IF(C3629=\"\",\"\",IF(LEN(C3629)=12,\"\",\"Check\"))","v":""},{"$f":"IF(C3629=\"\",\"\",IF(COUNTIF(C$10:C$65536,C3629)=COUNTIF(AG$10:AG$65536,AG3629),\"\",\"Check\"))","v":""},{"$f":"IF(F3629=\"\",\"\",IF(LEN(F3629)=3,\"\",\"Check\"))","v":""},{"$f":"IF(OR(IF(D3629=\"\",\"\",IF(ISNUMBER(D3629)=TRUE,\"\",\"TEXT\"))=\"TEXT\",IF(E3629=\"\",\"\",IF(ISNUMBER(E3629)=TRUE,\"\",\"TEXT\"))=\"TEXT\",IF(G3629=\"\",\"\",IF(ISNUMBER(G3629)=TRUE,\"\",\"TEXT\"))=\"TEXT\"),\"Check\",\"\")","v":""},{"$f":"IF(G3629<0,\"Check\",\"\")","v":""}]
["SBSA_3625","SBSA_3625",null,null,null,null,null,null,null,null,null,null,null,null,null,null,null,null,null,null,null,null,null,null,null,null,"","",{"$f":"IF(OR(\nOR(AND(D3634<>\"\",F3634=\"\"),AND(E3634<>\"\",F3634=\"\")),\nF3634=LEFT(F3634,MIN(FIND(0,SUBSTITUTE(F3634,{1,2,3,4,5,6,7,8,9},0)&0))-1)=FALSE\n),\"Check\",\"\")","v":""},"","",null,"",0,"","","","",""]
["SBSA_3629","SBSA_3629",null,null,null,null,null,null,null,null,null,null,null,null,null,null,null,null,null,null,null,null,null,null,null,null,"","",{"$f":"IF(OR(\nOR(AND(D3638<>\"\",F3638=\"\"),AND(E3638<>\"\",F3638=\"\")),\nF3638=LEFT(F3638,MIN(FIND(0,SUBSTITUTE(F3638,{1,2,3,4,5,6,7,8,9},0)&0))-1)=FALSE\n),\"Check\",\"\")","v":""},"","",null,"",0,"","","","",""]
["SBSA_3634","SBSA_3634",null,null,null,null,null,null,null,null,null,null,null,null,null,null,null,null,null,null,null,null,null,null,null,null,"","",{"$f":"IF(OR(\nOR(AND(D3643<>\"\",F3643=\"\"),AND(E3643<>\"\",F3643=\"\")),\nF3643=LEFT(F3643,MIN(FIND(0,SUBSTITUTE(F3643,{1,2,3,4,5,6,7,8,9},0)&0))-1)=FALSE\n),\"Check\",\"\")","v":""},"","",null,"",0,"","","","",""]
["SBSA_3635","SBSA_3635",null,null,null,null,null,null,null,null,null,null,null,null,null,null,null,null,null,null,null,null,null,null,null,null,"","",{"$f":"IF(OR(\nOR(AND(D3644<>\"\",F3644=\"\"),AND(E3644<>\"\",F3644=\"\")),\nF3644=LEFT(F3644,MIN(FIND(0,SUBSTITUTE(F3644,{1,2,3,4,5,6,7,8,9},0)&0))-1)=FALSE\n),\"Check\",\"\")","v":""},"","",null,"",0,"","","","",""]
["SBSA_3641","SBSA_3641",null,null,null,null,null,null,null,null,null,null,null,null,null,null,null,null,null,null,null,null,null,null,null,null,"","",{"$f":"IF(OR(\nOR(AND(D3650<>\"\",F3650=\"\"),AND(E3650<>\"\",F3650=\"\")),\nF3650=LEFT(F3650,MIN(FIND(0,SUBSTITUTE(F3650,{1,2,3,4,5,6,7,8,9},0)&0))-1)=FALSE\n),\"Check\",\"\")","v":""},"","",null,"",0,"","","","",""]
["SBSA_3644","SBSA_3644",null,null,null,null,null,null,null,null,null,null,null,null,null,null,null,null,null,null,null,null,null,null,null,null,"","",{"$f":"IF(OR(\nOR(AND(D3653<>\"\",F3653=\"\"),AND(E3653<>\"\",F3653=\"\")),\nF3653=LEFT(F3653,MIN(FIND(0,SUBSTITUTE(F3653,{1,2,3,4,5,6,7,8,9},0)&0))-1)=FALSE\n),\"Check\",\"\")","v":""},"","",null,"",0,"","","","",""]
["SBSA_3649","SBSA_3649",null,null,null,null,null,null,null,null,null,null,null,null,null,null,null,null,null,null,null,null,null,null,null,null,"","",{"$f":"IF(OR(\nOR(AND(D3658<>\"\",F3658=\"\"),AND(E3658<>\"\",F3658=\"\")),\nF3658=LEFT(F3658,MIN(FIND(0,SUBSTITUTE(F3658,{1,2,3,4,5,6,7,8,9},0)&0))-1)=FALSE\n),\"Check\",\"\")","v":""},"","",null,"",0,"","","","",""]
["SBSA_3650","SBSA_3650",null,null,null,null,null,null,null,null,null,null,null,null,null,null,null,null,null,null,null,null,null,null,null,null,"","",{"$f":"IF(OR(\nOR(AND(D3659<>\"\",F3659=\"\"),AND(E3659<>\"\",F3659=\"\")),\nF3659=LEFT(F3659,MIN(FIND(0,SUBSTITUTE(F3659,{1,2,3,4,5,6,7,8,9},0)&0))-1)=FALSE\n),\"Check\",\"\")","v":""},"","",null,"",0,"","","","",""]
["SBSA_3655","SBSA_3655",null,null,null,null,null,null,null,null,null,null,null,null,null,null,null,null,null,null,null,null,null,null,null,null,"","",{"$f":"IF(OR(\nOR(AND(D3664<>\"\",F3664=\"\"),AND(E3664<>\"\",F3664=\"\")),\nF3664=LEFT(F3664,MIN(FIND(0,SUBSTITUTE(F3664,{1,2,3,4,5,6,7,8,9},0)&0))-1)=FALSE\n),\"Check\",\"\")","v":""},"","",null,"",0,"","","","",""]
["SBSA_3659","SBSA_3659",null,null,null,null,null,null,null,null,null,null,null,null,null,null,null,null,null,null,null,null,null,null,null,null,"","",{"$f":"IF(OR(\nOR(AND(D3668<>\"\",F3668=\"\"),AND(E3668<>\"\",F3668=\"\")),\nF3668=LEFT(F3668,MIN(FIND(0,SUBSTITUTE(F3668,{1,2,3,4,5,6,7,8,9},0)&0))-1)=FALSE\n),\"Check\",\"\")","v":""},"","",null,"",0,"","","","",""]
["SBSA_3664","SBSA_3664",null,null,null,null,null,null,null,null,null,null,null,null,null,null,null,null,null,null,null,null,null,null,null,null,"","",{"$f":"IF(OR(\nOR(AND(D3673<>\"\",F3673=\"\"),AND(E3673<>\"\",F3673=\"\")),\nF3673=LEFT(F3673,MIN(FIND(0,SUBSTITUTE(F3673,{1,2,3,4,5,6,7,8,9},0)&0))-1)=FALSE\n),\"Check\",\"\")","v":""},"","",null,"",0,"","","","",""]
["SBSA_3665","SBSA_3665",null,null,null,null,null,null,null,null,null,null,null,null,null,null,null,null,null,null,null,null,null,null,null,null,"","",{"$f":"IF(OR(\nOR(AND(D3674<>\"\",F3674=\"\"),AND(E3674<>\"\",F3674=\"\")),\nF3674=LEFT(F3674,MIN(FIND(0,SUBSTITUTE(F3674,{1,2,3,4,5,6,7,8,9},0)&0))-1)=FALSE\n),\"Check\",\"\")","v":""},"","",null,"",0,"","","","",""]
["SBSA_3671","SBSA_3671",null,null,null,null,null,null,null,null,null,null,null,null,null,null,null,null,null,null,null,null,null,null,null,null,"","",{"$f":"IF(OR(\nOR(AND(D3680<>\"\",F3680=\"\"),AND(E3680<>\"\",F3680=\"\")),\nF3680=LEFT(F3680,MIN(FIND(0,SUBSTITUTE(F3680,{1,2,3,4,5,6,7,8,9},0)&0))-1)=FALSE\n),\"Check\",\"\")","v":""},"","",null,"",0,"","","","",""]
["SBSA_3674","SBSA_3674",null,null,null,null,null,null,null,null,null,null,null,null,null,null,null,null,null,null,null,null,null,null,null,null,"","",{"$f":"IF(OR(\nOR(AND(D3683<>\"\",F3683=\"\"),AND(E3683<>\"\",F3683=\"\")),\nF3683=LEFT(F3683,MIN(FIND(0,SUBSTITUTE(F3683,{1,2,3,4,5,6,7,8,9},0)&0))-1)=FALSE\n),\"Check\",\"\")","v":""},"","",null,"",0,"","","","",""]
["SBSA_3679","SBSA_3679",null,null,null,null,null,null,null,null,null,null,null,null,null,null,null,null,null,null,null,null,null,null,null,null,"","",{"$f":"IF(OR(\nOR(AND(D3688<>\"\",F3688=\"\"),AND(E3688<>\"\",F3688=\"\")),\nF3688=LEFT(F3688,MIN(FIND(0,SUBSTITUTE(F3688,{1,2,3,4,5,6,7,8,9},0)&0))-1)=FALSE\n),\"Check\",\"\")","v":""},"","",null,"",0,"","","","",""]
["SBSA_3680","SBSA_3680",null,null,null,null,null,null,null,null,null,null,null,null,null,null,null,null,null,null,null,null,null,null,null,null,"","",{"$f":"IF(OR(\nOR(AND(D3689<>\"\",F3689=\"\"),AND(E3689<>\"\",F3689=\"\")),\nF3689=LEFT(F3689,MIN(FIND(0,SUBSTITUTE(F3689,{1,2,3,4,5,6,7,8,9},0)&0))-1)=FALSE\n),\"Check\",\"\")","v":""},"","",null,"",0,"","","","",""]
["SBSA_3685","SBSA_3685",null,null,null,null,null,null,null,null,null,null,null,null,null,null,null,null,null,null,null,null,null,null,null,null,"","",{"$f":"IF(OR(\nOR(AND(D3694<>\"\",F3694=\"\"),AND(E3694<>\"\",F3694=\"\")),\nF3694=LEFT(F3694,MIN(FIND(0,SUBSTITUTE(F3694,{1,2,3,4,5,6,7,8,9},0)&0))-1)=FALSE\n),\"Check\",\"\")","v":""},"","",null,"",0,"","","","",""]
["SBSA_3689","SBSA_3689",null,null,null,null,null,null,null,null,null,null,null,null,null,null,null,null,null,null,null,null,null,null,null,null,"","",{"$f":"IF(OR(\nOR(AND(D3698<>\"\",F3698=\"\"),AND(E3698<>\"\",F3698=\"\")),\nF3698=LEFT(F3698,MIN(FIND(0,SUBSTITUTE(F3698,{1,2,3,4,5,6,7,8,9},0)&0))-1)=FALSE\n),\"Check\",\"\")","v":""},"","",null,"",0,"","","","",""]
["SBSA_3694","SBSA_3694",null,null,null,null,null,null,null,null,null,null,null,null,null,null,null,null,null,null,null,null,null,null,null,null,"","",{"$f":"IF(OR(\nOR(AND(D3703<>\"\",F3703=\"\"),AND(E3703<>\"\",F3703=\"\")),\nF3703=LEFT(F3703,MIN(FIND(0,SUBSTITUTE(F3703,{1,2,3,4,5,6,7,8,9},0)&0))-1)=FALSE\n),\"Check\",\"\")","v":""},"","",null,"",0,"","","","",""]
["SBSA_3695","SBSA_3695",null,null,null,null,null,null,null,null,null,null,null,null,null,null,null,null,null,null,null,null,null,null,null,null,"","",{"$f":"IF(OR(\nOR(AND(D3704<>\"\",F3704=\"\"),AND(E3704<>\"\",F3704=\"\")),\nF3704=LEFT(F3704,MIN(FIND(0,SUBSTITUTE(F3704,{1,2,3,4,5,6,7,8,9},0)&0))-1)=FALSE\n),\"Check\",\"\")","v":""},"","",null,"",0,"","","","",""]
["SBSA_3699","SBSA_3699",null,null,null,null,null,null,null,null,null,null,null,null,null,null,null,null,null,null,null,null,null,null,null,null,"","",{"$f":"IF(OR(\nOR(AND(D3708<>\"\",F3708=\"\"),AND(E3708<>\"\",F3708=\"\")),\nF3708=LEFT(F3708,MIN(FIND(0,SUBSTITUTE(F3708,{1,2,3,4,5,6,7,8,9},0)&0))-1)=FALSE\n),\"Check\",\"\")","v":""},"","",null,"",0,"","","","",""]
["SBSA_3704","SBSA_3704",null,null,null,null,null,null,null,null,null,null,null,null,null,null,null,null,null,null,null,null,null,null,null,null,"","",{"$f":"IF(OR(\nOR(AND(D3713<>\"\",F3713=\"\"),AND(E3713<>\"\",F3713=\"\")),\nF3713=LEFT(F3713,MIN(FIND(0,SUBSTITUTE(F3713,{1,2,3,4,5,6,7,8,9},0)&0))-1)=FALSE\n),\"Check\",\"\")","v":""},"","",null,"",0,"","","","",""]
["SBSA_3709","SBSA_3709",null,null,null,null,null,null,null,null,null,null,null,null,null,null,null,null,null,null,null,null,null,null,null,null,"","",{"$f":"IF(OR(\nOR(AND(D3718<>\"\",F3718=\"\"),AND(E3718<>\"\",F3718=\"\")),\nF3718=LEFT(F3718,MIN(FIND(0,SUBSTITUTE(F3718,{1,2,3,4,5,6,7,8,9},0)&0))-1)=FALSE\n),\"Check\",\"\")","v":""},"","",null,"",0,"","","","",""]
["SBSA_3710","SBSA_3710",null,null,null,null,null,null,null,null,null,null,null,null,null,null,null,null,null,null,null,null,null,null,null,null,"","",{"$f":"IF(OR(\nOR(AND(D3719<>\"\",F3719=\"\"),AND(E3719<>\"\",F3719=\"\")),\nF3719=LEFT(F3719,MIN(FIND(0,SUBSTITUTE(F3719,{1,2,3,4,5,6,7,8,9},0)&0))-1)=FALSE\n),\"Check\",\"\")","v":""},"","",null,"",0,"","","","",""]
["SBSA_3715","SBSA_3715",null,null,null,null,null,null,null,null,null,null,null,null,null,null,null,null,null,null,null,null,null,null,null,null,"","",{"$f":"IF(OR(\nOR(AND(D3724<>\"\",F3724=\"\"),AND(E3724<>\"\",F3724=\"\")),\nF3724=LEFT(F3724,MIN(FIND(0,SUBSTITUTE(F3724,{1,2,3,4,5,6,7,8,9},0)&0))-1)=FALSE\n),\"Check\",\"\")","v":""},"","",null,"",0,"","","","",""]
["SBSA_3719","SBSA_3719",null,null,null,null,null,null,null,null,null,null,null,null,null,null,null,null,null,null,null,null,null,null,null,null,"","",{"$f":"IF(OR(\nOR(AND(D3728<>\"\",F3728=\"\"),AND(E3728<>\"\",F3728=\"\")),\nF3728=LEFT(F3728,MIN(FIND(0,SUBSTITUTE(F3728,{1,2,3,4,5,6,7,8,9},0)&0))-1)=FALSE\n),\"Check\",\"\")","v":""},"","",null,"",0,"","","","",""]
["SBSA_3724","SBSA_3724",null,null,null,null,null,null,null,null,null,null,null,null,null,null,null,null,null,null,null,null,null,null,null,null,"","",{"$f":"IF(OR(\nOR(AND(D3733<>\"\",F3733=\"\"),AND(E3733<>\"\",F3733=\"\")),\nF3733=LEFT(F3733,MIN(FIND(0,SUBSTITUTE(F3733,{1,2,3,4,5,6,7,8,9},0)&0))-1)=FALSE\n),\"Check\",\"\")","v":""},"","",null,"",0,"","","","",""]
["SBSA_3725","SBSA_3725",null,null,null,null,null,null,null,null,null,null,null,null,null,null,null,null,null,null,null,null,null,null,null,null,"","",{"$f":"IF(OR(\nOR(AND(D3734<>\"\",F3734=\"\"),AND(E3734<>\"\",F3734=\"\")),\nF3734=LEFT(F3734,MIN(FIND(0,SUBSTITUTE(F3734,{1,2,3,4,5,6,7,8,9},0)&0))-1)=FALSE\n),\"Check\",\"\")","v":""},"","",null,"",0,"","","","",""]
["SBSA_3730","SBSA_3730",null,null,null,null,null,null,null,null,null,null,null,null,null,null,null,null,null,null,null,null,null,null,null,null,"","",{"$f":"IF(OR(\nOR(AND(D3739<>\"\",F3739=\"\"),AND(E3739<>\"\",F3739=\"\")),\nF3739=LEFT(F3739,MIN(FIND(0,SUBSTITUTE(F3739,{1,2,3,4,5,6,7,8,9},0)&0))-1)=FALSE\n),\"Check\",\"\")","v":""},"","",null,"",0,"","","","",""]
["SBSA_3733","SBSA_3733",null,null,null,null,null,null,null,null,null,null,null,null,null,null,null,null,null,null,null,null,null,null,null,null,"","",{"$f":"IF(OR(\nOR(AND(D3742<>\"\",F3742=\"\"),AND(E3742<>\"\",F3742=\"\")),\nF3742=LEFT(F3742,MIN(FIND(0,SUBSTITUTE(F3742,{1,2,3,4,5,6,7,8,9},0)&0))-1)=FALSE\n),\"Check\",\"\")","v":""},"","",null,"",0,"","","","",""]
["SBSA_3739","SBSA_3739",null,null,null,null,null,null,null,null,null,null,null,null,null,null,null,null,null,null,null,null,null,null,null,null,"","",{"$f":"IF(OR(\nOR(AND(D3748<>\"\",F3748=\"\"),AND(E3748<>\"\",F3748=\"\")),\nF3748=LEFT(F3748,MIN(FIND(0,SUBSTITUTE(F3748,{1,2,3,4,5,6,7,8,9},0)&0))-1)=FALSE\n),\"Check\",\"\")","v":""},"","",null,"",0,"","","","",""]
["SBSA_3740","SBSA_3740",null,null,null,null,null,null,null,null,null,null,null,null,null,null,null,null,null,null,null,null,null,null,null,null,"","",{"$f":"IF(OR(\nOR(AND(D3749<>\"\",F3749=\"\"),AND(E3749<>\"\",F3749=\"\")),\nF3749=LEFT(F3749,MIN(FIND(0,SUBSTITUTE(F3749,{1,2,3,4,5,6,7,8,9},0)&0))-1)=FALSE\n),\"Check\",\"\")","v":""},"","",null,"",0,"","","","",""]
["SBSA_3745","SBSA_3745",null,null,null,null,null,null,null,null,null,null,null,null,null,null,null,null,null,null,null,null,null,null,null,null,"","",{"$f":"IF(OR(\nOR(AND(D3754<>\"\",F3754=\"\"),AND(E3754<>\"\",F3754=\"\")),\nF3754=LEFT(F3754,MIN(FIND(0,SUBSTITUTE(F3754,{1,2,3,4,5,6,7,8,9},0)&0))-1)=FALSE\n),\"Check\",\"\")","v":""},"","",null,"",0,"","","","",""]
["SBSA_3749","SBSA_3749",null,null,null,null,null,null,null,null,null,null,null,null,null,null,null,null,null,null,null,null,null,null,null,null,"","",{"$f":"IF(OR(\nOR(AND(D3758<>\"\",F3758=\"\"),AND(E3758<>\"\",F3758=\"\")),\nF3758=LEFT(F3758,MIN(FIND(0,SUBSTITUTE(F3758,{1,2,3,4,5,6,7,8,9},0)&0))-1)=FALSE\n),\"Check\",\"\")","v":""},"","",null,"",0,"","","","",""]
["SBSA_3754","SBSA_3754",null,null,null,null,null,null,null,null,null,null,null,null,null,null,null,null,null,null,null,null,null,null,null,null,"","",{"$f":"IF(OR(\nOR(AND(D3763<>\"\",F3763=\"\"),AND(E3763<>\"\",F3763=\"\")),\nF3763=LEFT(F3763,MIN(FIND(0,SUBSTITUTE(F3763,{1,2,3,4,5,6,7,8,9},0)&0))-1)=FALSE\n),\"Check\",\"\")","v":""},"","",null,"",0,"","","","",""]
["SBSA_3755","SBSA_3755",null,null,null,null,null,null,null,null,null,null,null,null,null,null,null,null,null,null,null,null,null,null,null,null,"","",{"$f":"IF(OR(\nOR(AND(D3764<>\"\",F3764=\"\"),AND(E3764<>\"\",F3764=\"\")),\nF3764=LEFT(F3764,MIN(FIND(0,SUBSTITUTE(F3764,{1,2,3,4,5,6,7,8,9},0)&0))-1)=FALSE\n),\"Check\",\"\")","v":""},"","",null,"",0,"","","","",""]
["SBSA_3760","SBSA_3760",null,null,null,null,null,null,null,null,null,null,null,null,null,null,null,null,null,null,null,null,null,null,null,null,"","",{"$f":"IF(OR(\nOR(AND(D3769<>\"\",F3769=\"\"),AND(E3769<>\"\",F3769=\"\")),\nF3769=LEFT(F3769,MIN(FIND(0,SUBSTITUTE(F3769,{1,2,3,4,5,6,7,8,9},0)&0))-1)=FALSE\n),\"Check\",\"\")","v":""},"","",null,"",0,"","","","",""]
["SBSA_3763","SBSA_3763",null,null,null,null,null,null,null,null,null,null,null,null,null,null,null,null,null,null,null,null,null,null,null,null,"","",{"$f":"IF(OR(\nOR(AND(D3772<>\"\",F3772=\"\"),AND(E3772<>\"\",F3772=\"\")),\nF3772=LEFT(F3772,MIN(FIND(0,SUBSTITUTE(F3772,{1,2,3,4,5,6,7,8,9},0)&0))-1)=FALSE\n),\"Check\",\"\")","v":""},"","",null,"",0,"","","","",""]
["SBSA_3769","SBSA_3769",null,null,null,null,null,null,null,null,null,null,null,null,null,null,null,null,null,null,null,null,null,null,null,null,"","",{"$f":"IF(OR(\nOR(AND(D3778<>\"\",F3778=\"\"),AND(E3778<>\"\",F3778=\"\")),\nF3778=LEFT(F3778,MIN(FIND(0,SUBSTITUTE(F3778,{1,2,3,4,5,6,7,8,9},0)&0))-1)=FALSE\n),\"Check\",\"\")","v":""},"","",null,"",0,"","","","",""]
["SBSA_3770","SBSA_3770",null,null,null,null,null,null,null,null,null,null,null,null,null,null,null,null,null,null,null,null,null,null,null,null,"","",{"$f":"IF(OR(\nOR(AND(D3779<>\"\",F3779=\"\"),AND(E3779<>\"\",F3779=\"\")),\nF3779=LEFT(F3779,MIN(FIND(0,SUBSTITUTE(F3779,{1,2,3,4,5,6,7,8,9},0)&0))-1)=FALSE\n),\"Check\",\"\")","v":""},"","",null,"",0,"","","","",""]
["SBSA_3775","SBSA_3775",null,null,null,null,null,null,null,null,null,null,null,null,null,null,null,null,null,null,null,null,null,null,null,null,"","",{"$f":"IF(OR(\nOR(AND(D3784<>\"\",F3784=\"\"),AND(E3784<>\"\",F3784=\"\")),\nF3784=LEFT(F3784,MIN(FIND(0,SUBSTITUTE(F3784,{1,2,3,4,5,6,7,8,9},0)&0))-1)=FALSE\n),\"Check\",\"\")","v":""},"","",null,"",0,"","","","",""]
["SBSA_3780","SBSA_3780",null,null,null,null,null,null,null,null,null,null,null,null,null,null,null,null,null,null,null,null,null,null,null,null,"","",{"$f":"IF(OR(\nOR(AND(D3789<>\"\",F3789=\"\"),AND(E3789<>\"\",F3789=\"\")),\nF3789=LEFT(F3789,MIN(FIND(0,SUBSTITUTE(F3789,{1,2,3,4,5,6,7,8,9},0)&0))-1)=FALSE\n),\"Check\",\"\")","v":""},"","",null,"",0,"","","","",""]
["SBSA_3784","SBSA_3784",null,null,null,null,null,null,null,null,null,null,null,null,null,null,null,null,null,null,null,null,null,null,null,null,"","",{"$f":"IF(OR(\nOR(AND(D3793<>\"\",F3793=\"\"),AND(E3793<>\"\",F3793=\"\")),\nF3793=LEFT(F3793,MIN(FIND(0,SUBSTITUTE(F3793,{1,2,3,4,5,6,7,8,9},0)&0))-1)=FALSE\n),\"Check\",\"\")","v":""},"","",null,"",0,"","","","",""]
["SBSA_3785","SBSA_3785",null,null,null,null,null,null,null,null,null,null,null,null,null,null,null,null,null,null,null,null,null,null,null,null,"","",{"$f":"IF(OR(\nOR(AND(D3794<>\"\",F3794=\"\"),AND(E3794<>\"\",F3794=\"\")),\nF3794=LEFT(F3794,MIN(FIND(0,SUBSTITUTE(F3794,{1,2,3,4,5,6,7,8,9},0)&0))-1)=FALSE\n),\"Check\",\"\")","v":""},"","",null,"",0,"","","","",""]
["SBSA_3790","SBSA_3790",null,null,null,null,null,null,null,null,null,null,null,null,null,null,null,null,null,null,null,null,null,null,null,null,"","",{"$f":"IF(OR(\nOR(AND(D3799<>\"\",F3799=\"\"),AND(E3799<>\"\",F3799=\"\")),\nF3799=LEFT(F3799,MIN(FIND(0,SUBSTITUTE(F3799,{1,2,3,4,5,6,7,8,9},0)&0))-1)=FALSE\n),\"Check\",\"\")","v":""},"","",null,"",0,"","","","",""]
["SBSA_3793","SBSA_3793",null,null,null,null,null,null,null,null,null,null,null,null,null,null,null,null,null,null,null,null,null,null,null,null,"","",{"$f":"IF(OR(\nOR(AND(D3802<>\"\",F3802=\"\"),AND(E3802<>\"\",F3802=\"\")),\nF3802=LEFT(F3802,MIN(FIND(0,SUBSTITUTE(F3802,{1,2,3,4,5,6,7,8,9},0)&0))-1)=FALSE\n),\"Check\",\"\")","v":""},"","",null,"",0,"","","","",""]
["SBSA_3799","SBSA_3799",null,null,null,null,null,null,null,null,null,null,null,null,null,null,null,null,null,null,null,null,null,null,null,null,"","",{"$f":"IF(OR(\nOR(AND(D3808<>\"\",F3808=\"\"),AND(E3808<>\"\",F3808=\"\")),\nF3808=LEFT(F3808,MIN(FIND(0,SUBSTITUTE(F3808,{1,2,3,4,5,6,7,8,9},0)&0))-1)=FALSE\n),\"Check\",\"\")","v":""},"","",null,"",0,"","","","",""]
["SBSA_3800","SBSA_3800",null,null,null,null,null,null,null,null,null,null,null,null,null,null,null,null,null,null,null,null,null,null,null,null,"","",{"$f":"IF(OR(\nOR(AND(D3809<>\"\",F3809=\"\"),AND(E3809<>\"\",F3809=\"\")),\nF3809=LEFT(F3809,MIN(FIND(0,SUBSTITUTE(F3809,{1,2,3,4,5,6,7,8,9},0)&0))-1)=FALSE\n),\"Check\",\"\")","v":""},"","",null,"",0,"","","","",""]
["SBSA_3805","SBSA_3805",null,null,null,null,null,null,null,null,null,null,null,null,null,null,null,null,null,null,null,null,null,null,null,null,"","",{"$f":"IF(OR(\nOR(AND(D3814<>\"\",F3814=\"\"),AND(E3814<>\"\",F3814=\"\")),\nF3814=LEFT(F3814,MIN(FIND(0,SUBSTITUTE(F3814,{1,2,3,4,5,6,7,8,9},0)&0))-1)=FALSE\n),\"Check\",\"\")","v":""},"","",null,"",0,"","","","",""]
["SBSA_3810","SBSA_3810",null,null,null,null,null,null,null,null,null,null,null,null,null,null,null,null,null,null,null,null,null,null,null,null,"","",{"$f":"IF(OR(\nOR(AND(D3819<>\"\",F3819=\"\"),AND(E3819<>\"\",F3819=\"\")),\nF3819=LEFT(F3819,MIN(FIND(0,SUBSTITUTE(F3819,{1,2,3,4,5,6,7,8,9},0)&0))-1)=FALSE\n),\"Check\",\"\")","v":""},"","",null,"",0,"","","","",""]
["SBSA_3814","SBSA_3814",null,null,null,null,null,null,null,null,null,null,null,null,null,null,null,null,null,null,null,null,null,null,null,null,"","",{"$f":"IF(OR(\nOR(AND(D3823<>\"\",F3823=\"\"),AND(E3823<>\"\",F3823=\"\")),\nF3823=LEFT(F3823,MIN(FIND(0,SUBSTITUTE(F3823,{1,2,3,4,5,6,7,8,9},0)&0))-1)=FALSE\n),\"Check\",\"\")","v":""},"","",null,"",0,"","","","",""]
["SBSA_3815","SBSA_3815",null,null,null,null,null,null,null,null,null,null,null,null,null,null,null,null,null,null,null,null,null,null,null,null,"","",{"$f":"IF(OR(\nOR(AND(D3824<>\"\",F3824=\"\"),AND(E3824<>\"\",F3824=\"\")),\nF3824=LEFT(F3824,MIN(FIND(0,SUBSTITUTE(F3824,{1,2,3,4,5,6,7,8,9},0)&0))-1)=FALSE\n),\"Check\",\"\")","v":""},"","",null,"",0,"","","","",""]
["SBSA_3820","SBSA_3820",null,null,null,null,null,null,null,null,null,null,null,null,null,null,null,null,null,null,null,null,null,null,null,null,"","",{"$f":"IF(OR(\nOR(AND(D3829<>\"\",F3829=\"\"),AND(E3829<>\"\",F3829=\"\")),\nF3829=LEFT(F3829,MIN(FIND(0,SUBSTITUTE(F3829,{1,2,3,4,5,6,7,8,9},0)&0))-1)=FALSE\n),\"Check\",\"\")","v":""},"","",null,"",0,"","","","",""]
["SBSA_3825","SBSA_3825",null,null,null,null,null,null,null,null,null,null,null,null,null,null,null,null,null,null,null,null,null,null,null,null,"","",{"$f":"IF(OR(\nOR(AND(D3834<>\"\",F3834=\"\"),AND(E3834<>\"\",F3834=\"\")),\nF3834=LEFT(F3834,MIN(FIND(0,SUBSTITUTE(F3834,{1,2,3,4,5,6,7,8,9},0)&0))-1)=FALSE\n),\"Check\",\"\")","v":""},"","",null,"",0,"","","","",""]
["SBSA_3828","SBSA_3828",null,null,null,null,null,null,null,null,null,null,null,null,null,null,null,null,null,null,null,null,null,null,null,null,"","",{"$f":"IF(OR(\nOR(AND(D3837<>\"\",F3837=\"\"),AND(E3837<>\"\",F3837=\"\")),\nF3837=LEFT(F3837,MIN(FIND(0,SUBSTITUTE(F3837,{1,2,3,4,5,6,7,8,9},0)&0))-1)=FALSE\n),\"Check\",\"\")","v":""},"","",null,"",0,"","","","",""]
["SBSA_3830","SBSA_3830",null,null,null,null,null,null,null,null,null,null,null,null,null,null,null,null,null,null,null,null,null,null,null,null,"","",{"$f":"IF(OR(\nOR(AND(D3839<>\"\",F3839=\"\"),AND(E3839<>\"\",F3839=\"\")),\nF3839=LEFT(F3839,MIN(FIND(0,SUBSTITUTE(F3839,{1,2,3,4,5,6,7,8,9},0)&0))-1)=FALSE\n),\"Check\",\"\")","v":""},"","",null,"",0,"","","","",""]
["SBSA_3835","SBSA_3835",null,null,null,null,null,null,null,null,null,null,null,null,null,null,null,null,null,null,null,null,null,null,null,null,"","",{"$f":"IF(OR(\nOR(AND(D3844<>\"\",F3844=\"\"),AND(E3844<>\"\",F3844=\"\")),\nF3844=LEFT(F3844,MIN(FIND(0,SUBSTITUTE(F3844,{1,2,3,4,5,6,7,8,9},0)&0))-1)=FALSE\n),\"Check\",\"\")","v":""},"","",null,"",0,"","","","",""]
["SBSA_3840","SBSA_3840",null,null,null,null,null,null,null,null,null,null,null,null,null,null,null,null,null,null,null,null,null,null,null,null,"","",{"$f":"IF(OR(\nOR(AND(D3849<>\"\",F3849=\"\"),AND(E3849<>\"\",F3849=\"\")),\nF3849=LEFT(F3849,MIN(FIND(0,SUBSTITUTE(F3849,{1,2,3,4,5,6,7,8,9},0)&0))-1)=FALSE\n),\"Check\",\"\")","v":""},"","",null,"",0,"","","","",""]
["SBSA_3844","SBSA_3844",null,null,null,null,null,null,null,null,null,null,null,null,null,null,null,null,null,null,null,null,null,null,null,null,"","",{"$f":"IF(OR(\nOR(AND(D3853<>\"\",F3853=\"\"),AND(E3853<>\"\",F3853=\"\")),\nF3853=LEFT(F3853,MIN(FIND(0,SUBSTITUTE(F3853,{1,2,3,4,5,6,7,8,9},0)&0))-1)=FALSE\n),\"Check\",\"\")","v":""},"","",null,"",0,"","","","",""]
["SBSA_3845","SBSA_3845",null,null,null,null,null,null,null,null,null,null,null,null,null,null,null,null,null,null,null,null,null,null,null,null,"","",{"$f":"IF(OR(\nOR(AND(D3854<>\"\",F3854=\"\"),AND(E3854<>\"\",F3854=\"\")),\nF3854=LEFT(F3854,MIN(FIND(0,SUBSTITUTE(F3854,{1,2,3,4,5,6,7,8,9},0)&0))-1)=FALSE\n),\"Check\",\"\")","v":""},"","",null,"",0,"","","","",""]
["SBSA_3850","SBSA_3850",null,null,null,null,null,null,null,null,null,null,null,null,null,null,null,null,null,null,null,null,null,null,null,null,"","",{"$f":"IF(OR(\nOR(AND(D3859<>\"\",F3859=\"\"),AND(E3859<>\"\",F3859=\"\")),\nF3859=LEFT(F3859,MIN(FIND(0,SUBSTITUTE(F3859,{1,2,3,4,5,6,7,8,9},0)&0))-1)=FALSE\n),\"Check\",\"\")","v":""},"","",null,"",0,"","","","",""]
["SBSA_3855","SBSA_3855",null,null,null,null,null,null,null,null,null,null,null,null,null,null,null,null,null,null,null,null,null,null,null,null,"","",{"$f":"IF(OR(\nOR(AND(D3864<>\"\",F3864=\"\"),AND(E3864<>\"\",F3864=\"\")),\nF3864=LEFT(F3864,MIN(FIND(0,SUBSTITUTE(F3864,{1,2,3,4,5,6,7,8,9},0)&0))-1)=FALSE\n),\"Check\",\"\")","v":""},"","",null,"",0,"","","","",""]
["SBSA_3858","SBSA_3858",null,null,null,null,null,null,null,null,null,null,null,null,null,null,null,null,null,null,null,null,null,null,null,null,"","",{"$f":"IF(OR(\nOR(AND(D3867<>\"\",F3867=\"\"),AND(E3867<>\"\",F3867=\"\")),\nF3867=LEFT(F3867,MIN(FIND(0,SUBSTITUTE(F3867,{1,2,3,4,5,6,7,8,9},0)&0))-1)=FALSE\n),\"Check\",\"\")","v":""},"","",null,"",0,"","","","",""]
["SBSA_3860","SBSA_3860",null,null,null,null,null,null,null,null,null,null,null,null,null,null,null,null,null,null,null,null,null,null,null,null,"","",{"$f":"IF(OR(\nOR(AND(D3869<>\"\",F3869=\"\"),AND(E3869<>\"\",F3869=\"\")),\nF3869=LEFT(F3869,MIN(FIND(0,SUBSTITUTE(F3869,{1,2,3,4,5,6,7,8,9},0)&0))-1)=FALSE\n),\"Check\",\"\")","v":""},"","",null,"",0,"","","","",""]
["SBSA_3865","SBSA_3865",null,null,null,null,null,null,null,null,null,null,null,null,null,null,null,null,null,null,null,null,null,null,null,null,"","",{"$f":"IF(OR(\nOR(AND(D3874<>\"\",F3874=\"\"),AND(E3874<>\"\",F3874=\"\")),\nF3874=LEFT(F3874,MIN(FIND(0,SUBSTITUTE(F3874,{1,2,3,4,5,6,7,8,9},0)&0))-1)=FALSE\n),\"Check\",\"\")","v":""},"","",null,"",0,"","","","",""]
["SBSA_3870","SBSA_3870",null,null,null,null,null,null,null,null,null,null,null,null,null,null,null,null,null,null,null,null,null,null,null,null,"","",{"$f":"IF(OR(\nOR(AND(D3879<>\"\",F3879=\"\"),AND(E3879<>\"\",F3879=\"\")),\nF3879=LEFT(F3879,MIN(FIND(0,SUBSTITUTE(F3879,{1,2,3,4,5,6,7,8,9},0)&0))-1)=FALSE\n),\"Check\",\"\")","v":""},"","",null,"",0,"","","","",""]
["SBSA_3874","SBSA_3874",null,null,null,null,null,null,null,null,null,null,null,null,null,null,null,null,null,null,null,null,null,null,null,null,"","",{"$f":"IF(OR(\nOR(AND(D3883<>\"\",F3883=\"\"),AND(E3883<>\"\",F3883=\"\")),\nF3883=LEFT(F3883,MIN(FIND(0,SUBSTITUTE(F3883,{1,2,3,4,5,6,7,8,9},0)&0))-1)=FALSE\n),\"Check\",\"\")","v":""},"","",null,"",0,"","","","",""]
["SBSA_3875","SBSA_3875",null,null,null,null,null,null,null,null,null,null,null,null,null,null,null,null,null,null,null,null,null,null,null,null,"","",{"$f":"IF(OR(\nOR(AND(D3884<>\"\",F3884=\"\"),AND(E3884<>\"\",F3884=\"\")),\nF3884=LEFT(F3884,MIN(FIND(0,SUBSTITUTE(F3884,{1,2,3,4,5,6,7,8,9},0)&0))-1)=FALSE\n),\"Check\",\"\")","v":""},"","",null,"",0,"","","","",""]
["SBSA_3880","SBSA_3880",null,null,null,null,null,null,null,null,null,null,null,null,null,null,null,null,null,null,null,null,null,null,null,null,"","",{"$f":"IF(OR(\nOR(AND(D3889<>\"\",F3889=\"\"),AND(E3889<>\"\",F3889=\"\")),\nF3889=LEFT(F3889,MIN(FIND(0,SUBSTITUTE(F3889,{1,2,3,4,5,6,7,8,9},0)&0))-1)=FALSE\n),\"Check\",\"\")","v":""},"","",null,"",0,"","","","",""]
["SBSA_3885","SBSA_3885",null,null,null,null,null,null,null,null,null,null,null,null,null,null,null,null,null,null,null,null,null,null,null,null,"","",{"$f":"IF(OR(\nOR(AND(D3894<>\"\",F3894=\"\"),AND(E3894<>\"\",F3894=\"\")),\nF3894=LEFT(F3894,MIN(FIND(0,SUBSTITUTE(F3894,{1,2,3,4,5,6,7,8,9},0)&0))-1)=FALSE\n),\"Check\",\"\")","v":""},"","",null,"",0,"","","","",""]
["SBSA_3888","SBSA_3888",null,null,null,null,null,null,null,null,null,null,null,null,null,null,null,null,null,null,null,null,null,null,null,null,"","",{"$f":"IF(OR(\nOR(AND(D3897<>\"\",F3897=\"\"),AND(E3897<>\"\",F3897=\"\")),\nF3897=LEFT(F3897,MIN(FIND(0,SUBSTITUTE(F3897,{1,2,3,4,5,6,7,8,9},0)&0))-1)=FALSE\n),\"Check\",\"\")","v":""},"","",null,"",0,"","","","",""]
["SBSA_3890","SBSA_3890",null,null,null,null,null,null,null,null,null,null,null,null,null,null,null,null,null,null,null,null,null,null,null,null,"","",{"$f":"IF(OR(\nOR(AND(D3899<>\"\",F3899=\"\"),AND(E3899<>\"\",F3899=\"\")),\nF3899=LEFT(F3899,MIN(FIND(0,SUBSTITUTE(F3899,{1,2,3,4,5,6,7,8,9},0)&0))-1)=FALSE\n),\"Check\",\"\")","v":""},"","",null,"",0,"","","","",""]
["SBSA_3895","SBSA_3895",null,null,null,null,null,null,null,null,null,null,null,null,null,null,null,null,null,null,null,null,null,null,null,null,"","",{"$f":"IF(OR(\nOR(AND(D3904<>\"\",F3904=\"\"),AND(E3904<>\"\",F3904=\"\")),\nF3904=LEFT(F3904,MIN(FIND(0,SUBSTITUTE(F3904,{1,2,3,4,5,6,7,8,9},0)&0))-1)=FALSE\n),\"Check\",\"\")","v":""},"","",null,"",0,"","","","",""]
["SBSA_3900","SBSA_3900",null,null,null,null,null,null,null,null,null,null,null,null,null,null,null,null,null,null,null,null,null,null,null,null,"","",{"$f":"IF(OR(\nOR(AND(D3909<>\"\",F3909=\"\"),AND(E3909<>\"\",F3909=\"\")),\nF3909=LEFT(F3909,MIN(FIND(0,SUBSTITUTE(F3909,{1,2,3,4,5,6,7,8,9},0)&0))-1)=FALSE\n),\"Check\",\"\")","v":""},"","",null,"",0,"","","","",""]
["SBSA_3905","SBSA_3905",null,null,null,null,null,null,null,null,null,null,null,null,null,null,null,null,null,null,null,null,null,null,null,null,"","",{"$f":"IF(OR(\nOR(AND(D3914<>\"\",F3914=\"\"),AND(E3914<>\"\",F3914=\"\")),\nF3914=LEFT(F3914,MIN(FIND(0,SUBSTITUTE(F3914,{1,2,3,4,5,6,7,8,9},0)&0))-1)=FALSE\n),\"Check\",\"\")","v":""},"","",null,"",0,"","","","",""]
["SBSA_3906","SBSA_3906",null,null,null,null,null,null,null,null,null,null,null,null,null,null,null,null,null,null,null,null,null,null,null,null,"","",{"$f":"IF(OR(\nOR(AND(D3915<>\"\",F3915=\"\"),AND(E3915<>\"\",F3915=\"\")),\nF3915=LEFT(F3915,MIN(FIND(0,SUBSTITUTE(F3915,{1,2,3,4,5,6,7,8,9},0)&0))-1)=FALSE\n),\"Check\",\"\")","v":""},"","",null,"",0,"","","","",""]
["SBSA_3910","SBSA_3910",null,null,null,null,null,null,null,null,null,null,null,null,null,null,null,null,null,null,null,null,null,null,null,null,"","",{"$f":"IF(OR(\nOR(AND(D3919<>\"\",F3919=\"\"),AND(E3919<>\"\",F3919=\"\")),\nF3919=LEFT(F3919,MIN(FIND(0,SUBSTITUTE(F3919,{1,2,3,4,5,6,7,8,9},0)&0))-1)=FALSE\n),\"Check\",\"\")","v":""},"","",null,"",0,"","","","",""]
["SBSA_3915","SBSA_3915",null,null,null,null,null,null,null,null,null,null,null,null,null,null,null,null,null,null,null,null,null,null,null,null,"","",{"$f":"IF(OR(\nOR(AND(D3924<>\"\",F3924=\"\"),AND(E3924<>\"\",F3924=\"\")),\nF3924=LEFT(F3924,MIN(FIND(0,SUBSTITUTE(F3924,{1,2,3,4,5,6,7,8,9},0)&0))-1)=FALSE\n),\"Check\",\"\")","v":""},"","",null,"",0,"","","","",""]
["SBSA_3920","SBSA_3920",null,null,null,null,null,null,null,null,null,null,null,null,null,null,null,null,null,null,null,null,null,null,null,null,"","",{"$f":"IF(OR(\nOR(AND(D3929<>\"\",F3929=\"\"),AND(E3929<>\"\",F3929=\"\")),\nF3929=LEFT(F3929,MIN(FIND(0,SUBSTITUTE(F3929,{1,2,3,4,5,6,7,8,9},0)&0))-1)=FALSE\n),\"Check\",\"\")","v":""},"","",null,"",0,"","","","",""]
["SBSA_3922","SBSA_3922",null,null,null,null,null,null,null,null,null,null,null,null,null,null,null,null,null,null,null,null,null,null,null,null,"","",{"$f":"IF(OR(\nOR(AND(D3931<>\"\",F3931=\"\"),AND(E3931<>\"\",F3931=\"\")),\nF3931=LEFT(F3931,MIN(FIND(0,SUBSTITUTE(F3931,{1,2,3,4,5,6,7,8,9},0)&0))-1)=FALSE\n),\"Check\",\"\")","v":""},"","",null,"",0,"","","","",""]
["SBSA_3925","SBSA_3925",null,null,null,null,null,null,null,null,null,null,null,null,null,null,null,null,null,null,null,null,null,null,null,null,"","",{"$f":"IF(OR(\nOR(AND(D3934<>\"\",F3934=\"\"),AND(E3934<>\"\",F3934=\"\")),\nF3934=LEFT(F3934,MIN(FIND(0,SUBSTITUTE(F3934,{1,2,3,4,5,6,7,8,9},0)&0))-1)=FALSE\n),\"Check\",\"\")","v":""},"","",null,"",0,"","","","",""]
["SBSA_3930","SBSA_3930",null,null,null,null,null,null,null,null,null,null,null,null,null,null,null,null,null,null,null,null,null,null,null,null,"","",{"$f":"IF(OR(\nOR(AND(D3939<>\"\",F3939=\"\"),AND(E3939<>\"\",F3939=\"\")),\nF3939=LEFT(F3939,MIN(FIND(0,SUBSTITUTE(F3939,{1,2,3,4,5,6,7,8,9},0)&0))-1)=FALSE\n),\"Check\",\"\")","v":""},"","",null,"",0,"","","","",""]
["SBSA_3935","SBSA_3935",null,null,null,null,null,null,null,null,null,null,null,null,null,null,null,null,null,null,null,null,null,null,null,null,"","",{"$f":"IF(OR(\nOR(AND(D3944<>\"\",F3944=\"\"),AND(E3944<>\"\",F3944=\"\")),\nF3944=LEFT(F3944,MIN(FIND(0,SUBSTITUTE(F3944,{1,2,3,4,5,6,7,8,9},0)&0))-1)=FALSE\n),\"Check\",\"\")","v":""},"","",null,"",0,"","","","",""]
["SBSA_3936","SBSA_3936",null,null,null,null,null,null,null,null,null,null,null,null,null,null,null,null,null,null,null,null,null,null,null,null,"","",{"$f":"IF(OR(\nOR(AND(D3945<>\"\",F3945=\"\"),AND(E3945<>\"\",F3945=\"\")),\nF3945=LEFT(F3945,MIN(FIND(0,SUBSTITUTE(F3945,{1,2,3,4,5,6,7,8,9},0)&0))-1)=FALSE\n),\"Check\",\"\")","v":""},"","",null,"",0,"","","","",""]
["SBSA_3940","SBSA_3940",null,null,null,null,null,null,null,null,null,null,null,null,null,null,null,null,null,null,null,null,null,null,null,null,{"$f":"IF(AND(C3949=\"\",OR(D3949<>\"\",E3949<>\"\",F3949<>\"\",G3949<>\"\")),\"Check\",\"\")","v":""},{"$f":"IF(AND(C3949<>\"\",OR(AND(D3949=\"\",E3949=\"\"),AND(D3949=0,E3949=0),AND(ABS(D3949)>0,ABS(E3949)>0))),\"Check\",\"\")","v":""},{"$f":"IF(OR(\nOR(AND(D3949<>\"\",F3949=\"\"),AND(E3949<>\"\",F3949=\"\")),\nF3949=LEFT(F3949,MIN(FIND(0,SUBSTITUTE(F3949,{1,2,3,4,5,6,7,8,9},0)&0))-1)=FALSE\n),\"Check\",\"\")","v":""},{"$f":"IF(OR(E3949=\"\",G3949=\"\"),\"\",(E3949*G3949)/100)","v":""},{"$f":"IF(AND(F3949<>\"\",G3949=\"\"),\"Check\",\"\")","v":""},null,{"$f":"IF(C3949=\"\",\"\",C3949&\"_\"&IF(G3949=\"\",0,G3949))","v":""},{"$f":"IF(COUNTBLANK(C3949:G3949)<5,1,0)","v":0},{"$f":"IF(C3949=\"\",\"\",IF(LEN(C3949)=12,\"\",\"Check\"))","v":""},{"$f":"IF(C3949=\"\",\"\",IF(COUNTIF(C$10:C$65536,C3949)=COUNTIF(AG$10:AG$65536,AG3949),\"\",\"Check\"))","v":""},{"$f":"IF(F3949=\"\",\"\",IF(LEN(F3949)=3,\"\",\"Check\"))","v":""},{"$f":"IF(OR(IF(D3949=\"\",\"\",IF(ISNUMBER(D3949)=TRUE,\"\",\"TEXT\"))=\"TEXT\",IF(E3949=\"\",\"\",IF(ISNUMBER(E3949)=TRUE,\"\",\"TEXT\"))=\"TEXT\",IF(G3949=\"\",\"\",IF(ISNUMBER(G3949)=TRUE,\"\",\"TEXT\"))=\"TEXT\"),\"Check\",\"\")","v":""},{"$f":"IF(G3949<0,\"Check\",\"\")","v":""}]
["SBSA_3945","SBSA_3945",null,null,null,null,null,null,null,null,null,null,null,null,null,null,null,null,null,null,null,null,null,null,null,null,"","",{"$f":"IF(OR(\nOR(AND(D3954<>\"\",F3954=\"\"),AND(E3954<>\"\",F3954=\"\")),\nF3954=LEFT(F3954,MIN(FIND(0,SUBSTITUTE(F3954,{1,2,3,4,5,6,7,8,9},0)&0))-1)=FALSE\n),\"Check\",\"\")","v":""},"","",null,"",0,"","","","",""]
["SBSA_3950","SBSA_3950",null,null,null,null,null,null,null,null,null,null,null,null,null,null,null,null,null,null,null,null,null,null,null,null,"","",{"$f":"IF(OR(\nOR(AND(D3959<>\"\",F3959=\"\"),AND(E3959<>\"\",F3959=\"\")),\nF3959=LEFT(F3959,MIN(FIND(0,SUBSTITUTE(F3959,{1,2,3,4,5,6,7,8,9},0)&0))-1)=FALSE\n),\"Check\",\"\")","v":""},"","",null,"",0,"","","","",""]
["SBSA_3952","SBSA_3952",null,null,null,null,null,null,null,null,null,null,null,null,null,null,null,null,null,null,null,null,null,null,null,null,"","",{"$f":"IF(OR(\nOR(AND(D3961<>\"\",F3961=\"\"),AND(E3961<>\"\",F3961=\"\")),\nF3961=LEFT(F3961,MIN(FIND(0,SUBSTITUTE(F3961,{1,2,3,4,5,6,7,8,9},0)&0))-1)=FALSE\n),\"Check\",\"\")","v":""},"","",null,"",0,"","","","",""]
["SBSA_3955","SBSA_3955",null,null,null,null,null,null,null,null,null,null,null,null,null,null,null,null,null,null,null,null,null,null,null,null,"","",{"$f":"IF(OR(\nOR(AND(D3964<>\"\",F3964=\"\"),AND(E3964<>\"\",F3964=\"\")),\nF3964=LEFT(F3964,MIN(FIND(0,SUBSTITUTE(F3964,{1,2,3,4,5,6,7,8,9},0)&0))-1)=FALSE\n),\"Check\",\"\")","v":""},"","",null,"",0,"","","","",""]
["SBSA_3960","SBSA_3960",null,null,null,null,null,null,null,null,null,null,null,null,null,null,null,null,null,null,null,null,null,null,null,null,"","",{"$f":"IF(OR(\nOR(AND(D3969<>\"\",F3969=\"\"),AND(E3969<>\"\",F3969=\"\")),\nF3969=LEFT(F3969,MIN(FIND(0,SUBSTITUTE(F3969,{1,2,3,4,5,6,7,8,9},0)&0))-1)=FALSE\n),\"Check\",\"\")","v":""},"","",null,"",0,"","","","",""]
["SBSA_3965","SBSA_3965",null,null,null,null,null,null,null,null,null,null,null,null,null,null,null,null,null,null,null,null,null,null,null,null,"","",{"$f":"IF(OR(\nOR(AND(D3974<>\"\",F3974=\"\"),AND(E3974<>\"\",F3974=\"\")),\nF3974=LEFT(F3974,MIN(FIND(0,SUBSTITUTE(F3974,{1,2,3,4,5,6,7,8,9},0)&0))-1)=FALSE\n),\"Check\",\"\")","v":""},"","",null,"",0,"","","","",""]
["SBSA_3966","SBSA_3966",null,null,null,null,null,null,null,null,null,null,null,null,null,null,null,null,null,null,null,null,null,null,null,null,"","",{"$f":"IF(OR(\nOR(AND(D3975<>\"\",F3975=\"\"),AND(E3975<>\"\",F3975=\"\")),\nF3975=LEFT(F3975,MIN(FIND(0,SUBSTITUTE(F3975,{1,2,3,4,5,6,7,8,9},0)&0))-1)=FALSE\n),\"Check\",\"\")","v":""},"","",null,"",0,"","","","",""]
["SBSA_3970","SBSA_3970",null,null,null,null,null,null,null,null,null,null,null,null,null,null,null,null,null,null,null,null,null,null,null,null,"","",{"$f":"IF(OR(\nOR(AND(D3979<>\"\",F3979=\"\"),AND(E3979<>\"\",F3979=\"\")),\nF3979=LEFT(F3979,MIN(FIND(0,SUBSTITUTE(F3979,{1,2,3,4,5,6,7,8,9},0)&0))-1)=FALSE\n),\"Check\",\"\")","v":""},"","",null,"",0,"","","","",""]
["SBSA_3975","SBSA_3975",null,null,null,null,null,null,null,null,null,null,null,null,null,null,null,null,null,null,null,null,null,null,null,null,"","",{"$f":"IF(OR(\nOR(AND(D3984<>\"\",F3984=\"\"),AND(E3984<>\"\",F3984=\"\")),\nF3984=LEFT(F3984,MIN(FIND(0,SUBSTITUTE(F3984,{1,2,3,4,5,6,7,8,9},0)&0))-1)=FALSE\n),\"Check\",\"\")","v":""},"","",null,"",0,"","","","",""]
["SBSA_3980","SBSA_3980",null,null,null,null,null,null,null,null,null,null,null,null,null,null,null,null,null,null,null,null,null,null,null,null,"","",{"$f":"IF(OR(\nOR(AND(D3989<>\"\",F3989=\"\"),AND(E3989<>\"\",F3989=\"\")),\nF3989=LEFT(F3989,MIN(FIND(0,SUBSTITUTE(F3989,{1,2,3,4,5,6,7,8,9},0)&0))-1)=FALSE\n),\"Check\",\"\")","v":""},"","",null,"",0,"","","","",""]
["SBSA_3982","SBSA_3982",null,null,null,null,null,null,null,null,null,null,null,null,null,null,null,null,null,null,null,null,null,null,null,null,"","",{"$f":"IF(OR(\nOR(AND(D3991<>\"\",F3991=\"\"),AND(E3991<>\"\",F3991=\"\")),\nF3991=LEFT(F3991,MIN(FIND(0,SUBSTITUTE(F3991,{1,2,3,4,5,6,7,8,9},0)&0))-1)=FALSE\n),\"Check\",\"\")","v":""},"","",null,"",0,"","","","",""]
["SBSA_3985","SBSA_3985",null,null,null,null,null,null,null,null,null,null,null,null,null,null,null,null,null,null,null,null,null,null,null,null,"","",{"$f":"IF(OR(\nOR(AND(D3994<>\"\",F3994=\"\"),AND(E3994<>\"\",F3994=\"\")),\nF3994=LEFT(F3994,MIN(FIND(0,SUBSTITUTE(F3994,{1,2,3,4,5,6,7,8,9},0)&0))-1)=FALSE\n),\"Check\",\"\")","v":""},"","",null,"",0,"","","","",""]
["SBSA_3990","SBSA_3990",null,null,null,null,null,null,null,null,null,null,null,null,null,null,null,null,null,null,null,null,null,null,null,null,"","",{"$f":"IF(OR(\nOR(AND(D3999<>\"\",F3999=\"\"),AND(E3999<>\"\",F3999=\"\")),\nF3999=LEFT(F3999,MIN(FIND(0,SUBSTITUTE(F3999,{1,2,3,4,5,6,7,8,9},0)&0))-1)=FALSE\n),\"Check\",\"\")","v":""},"","",null,"",0,"","","","",""]
["SBSA_3995","SBSA_3995",null,null,null,null,null,null,null,null,null,null,null,null,null,null,null,null,null,null,null,null,null,null,null,null,"","",{"$f":"IF(OR(\nOR(AND(D4004<>\"\",F4004=\"\"),AND(E4004<>\"\",F4004=\"\")),\nF4004=LEFT(F4004,MIN(FIND(0,SUBSTITUTE(F4004,{1,2,3,4,5,6,7,8,9},0)&0))-1)=FALSE\n),\"Check\",\"\")","v":""},"","",null,"",0,"","","","",""]
["SBSA_3996","SBSA_3996",null,null,null,null,null,null,null,null,null,null,null,null,null,null,null,null,null,null,null,null,null,null,null,null,"","",{"$f":"IF(OR(\nOR(AND(D4005<>\"\",F4005=\"\"),AND(E4005<>\"\",F4005=\"\")),\nF4005=LEFT(F4005,MIN(FIND(0,SUBSTITUTE(F4005,{1,2,3,4,5,6,7,8,9},0)&0))-1)=FALSE\n),\"Check\",\"\")","v":""},"","",null,"",0,"","","","",""]
["SBSA_4000","SBSA_4000",null,null,null,null,null,null,null,null,null,null,null,null,null,null,null,null,null,null,null,null,null,null,null,null,"","",{"$f":"IF(OR(\nOR(AND(D4009<>\"\",F4009=\"\"),AND(E4009<>\"\",F4009=\"\")),\nF4009=LEFT(F4009,MIN(FIND(0,SUBSTITUTE(F4009,{1,2,3,4,5,6,7,8,9},0)&0))-1)=FALSE\n),\"Check\",\"\")","v":""},"","",null,"",0,"","","","",""]
["SBSA_4005","SBSA_4005",null,null,null,null,null,null,null,null,null,null,null,null,null,null,null,null,null,null,null,null,null,null,null,null,"","",{"$f":"IF(OR(\nOR(AND(D4014<>\"\",F4014=\"\"),AND(E4014<>\"\",F4014=\"\")),\nF4014=LEFT(F4014,MIN(FIND(0,SUBSTITUTE(F4014,{1,2,3,4,5,6,7,8,9},0)&0))-1)=FALSE\n),\"Check\",\"\")","v":""},"","",null,"",0,"","","","",""]
["SBSA_4010","SBSA_4010",null,null,null,null,null,null,null,null,null,null,null,null,null,null,null,null,null,null,null,null,null,null,null,null,"","",{"$f":"IF(OR(\nOR(AND(D4019<>\"\",F4019=\"\"),AND(E4019<>\"\",F4019=\"\")),\nF4019=LEFT(F4019,MIN(FIND(0,SUBSTITUTE(F4019,{1,2,3,4,5,6,7,8,9},0)&0))-1)=FALSE\n),\"Check\",\"\")","v":""},"","",null,"",0,"","","","",""]
["SBSA_4011","SBSA_4011",null,null,null,null,null,null,null,null,null,null,null,null,null,null,null,null,null,null,null,null,null,null,null,null,"","",{"$f":"IF(OR(\nOR(AND(D4020<>\"\",F4020=\"\"),AND(E4020<>\"\",F4020=\"\")),\nF4020=LEFT(F4020,MIN(FIND(0,SUBSTITUTE(F4020,{1,2,3,4,5,6,7,8,9},0)&0))-1)=FALSE\n),\"Check\",\"\")","v":""},"","",null,"",0,"","","","",""]
["SBSA_4017","SBSA_4017",null,null,null,null,null,null,null,null,null,null,null,null,null,null,null,null,null,null,null,null,null,null,null,null,"","",{"$f":"IF(OR(\nOR(AND(D4026<>\"\",F4026=\"\"),AND(E4026<>\"\",F4026=\"\")),\nF4026=LEFT(F4026,MIN(FIND(0,SUBSTITUTE(F4026,{1,2,3,4,5,6,7,8,9},0)&0))-1)=FALSE\n),\"Check\",\"\")","v":""},"","",null,"",0,"","","","",""]
["SBSA_4020","SBSA_4020",null,null,null,null,null,null,null,null,null,null,null,null,null,null,null,null,null,null,null,null,null,null,null,null,"","",{"$f":"IF(OR(\nOR(AND(D4029<>\"\",F4029=\"\"),AND(E4029<>\"\",F4029=\"\")),\nF4029=LEFT(F4029,MIN(FIND(0,SUBSTITUTE(F4029,{1,2,3,4,5,6,7,8,9},0)&0))-1)=FALSE\n),\"Check\",\"\")","v":""},"","",null,"",0,"","","","",""]
["SBSA_4025","SBSA_4025",null,null,null,null,null,null,null,null,null,null,null,null,null,null,null,null,null,null,null,null,null,null,null,null,"","",{"$f":"IF(OR(\nOR(AND(D4034<>\"\",F4034=\"\"),AND(E4034<>\"\",F4034=\"\")),\nF4034=LEFT(F4034,MIN(FIND(0,SUBSTITUTE(F4034,{1,2,3,4,5,6,7,8,9},0)&0))-1)=FALSE\n),\"Check\",\"\")","v":""},"","",null,"",0,"","","","",""]
["SBSA_4026","SBSA_4026",null,null,null,null,null,null,null,null,null,null,null,null,null,null,null,null,null,null,null,null,null,null,null,null,"","",{"$f":"IF(OR(\nOR(AND(D4035<>\"\",F4035=\"\"),AND(E4035<>\"\",F4035=\"\")),\nF4035=LEFT(F4035,MIN(FIND(0,SUBSTITUTE(F4035,{1,2,3,4,5,6,7,8,9},0)&0))-1)=FALSE\n),\"Check\",\"\")","v":""},"","",null,"",0,"","","","",""]
["SBSA_4030","SBSA_4030",null,null,null,null,null,null,null,null,null,null,null,null,null,null,null,null,null,null,null,null,null,null,null,null,"","",{"$f":"IF(OR(\nOR(AND(D4039<>\"\",F4039=\"\"),AND(E4039<>\"\",F4039=\"\")),\nF4039=LEFT(F4039,MIN(FIND(0,SUBSTITUTE(F4039,{1,2,3,4,5,6,7,8,9},0)&0))-1)=FALSE\n),\"Check\",\"\")","v":""},"","",null,"",0,"","","","",""]
["SBSA_4035","SBSA_4035",null,null,null,null,null,null,null,null,null,null,null,null,null,null,null,null,null,null,null,null,null,null,null,null,"","",{"$f":"IF(OR(\nOR(AND(D4044<>\"\",F4044=\"\"),AND(E4044<>\"\",F4044=\"\")),\nF4044=LEFT(F4044,MIN(FIND(0,SUBSTITUTE(F4044,{1,2,3,4,5,6,7,8,9},0)&0))-1)=FALSE\n),\"Check\",\"\")","v":""},"","",null,"",0,"","","","",""]
["SBSA_4040","SBSA_4040",null,null,null,null,null,null,null,null,null,null,null,null,null,null,null,null,null,null,null,null,null,null,null,null,"","",{"$f":"IF(OR(\nOR(AND(D4049<>\"\",F4049=\"\"),AND(E4049<>\"\",F4049=\"\")),\nF4049=LEFT(F4049,MIN(FIND(0,SUBSTITUTE(F4049,{1,2,3,4,5,6,7,8,9},0)&0))-1)=FALSE\n),\"Check\",\"\")","v":""},"","",null,"",0,"","","","",""]
["SBSA_4041","SBSA_4041",null,null,null,null,null,null,null,null,null,null,null,null,null,null,null,null,null,null,null,null,null,null,null,null,"","",{"$f":"IF(OR(\nOR(AND(D4050<>\"\",F4050=\"\"),AND(E4050<>\"\",F4050=\"\")),\nF4050=LEFT(F4050,MIN(FIND(0,SUBSTITUTE(F4050,{1,2,3,4,5,6,7,8,9},0)&0))-1)=FALSE\n),\"Check\",\"\")","v":""},"","",null,"",0,"","","","",""]
["SBSA_4047","SBSA_4047",null,null,null,null,null,null,null,null,null,null,null,null,null,null,null,null,null,null,null,null,null,null,null,null,"","",{"$f":"IF(OR(\nOR(AND(D4056<>\"\",F4056=\"\"),AND(E4056<>\"\",F4056=\"\")),\nF4056=LEFT(F4056,MIN(FIND(0,SUBSTITUTE(F4056,{1,2,3,4,5,6,7,8,9},0)&0))-1)=FALSE\n),\"Check\",\"\")","v":""},"","",null,"",0,"","","","",""]
["SBSA_4050","SBSA_4050",null,null,null,null,null,null,null,null,null,null,null,null,null,null,null,null,null,null,null,null,null,null,null,null,"","",{"$f":"IF(OR(\nOR(AND(D4059<>\"\",F4059=\"\"),AND(E4059<>\"\",F4059=\"\")),\nF4059=LEFT(F4059,MIN(FIND(0,SUBSTITUTE(F4059,{1,2,3,4,5,6,7,8,9},0)&0))-1)=FALSE\n),\"Check\",\"\")","v":""},"","",null,"",0,"","","","",""]
["SBSA_4055","SBSA_4055",null,null,null,null,null,null,null,null,null,null,null,null,null,null,null,null,null,null,null,null,null,null,null,null,"","",{"$f":"IF(OR(\nOR(AND(D4064<>\"\",F4064=\"\"),AND(E4064<>\"\",F4064=\"\")),\nF4064=LEFT(F4064,MIN(FIND(0,SUBSTITUTE(F4064,{1,2,3,4,5,6,7,8,9},0)&0))-1)=FALSE\n),\"Check\",\"\")","v":""},"","",null,"",0,"","","","",""]
["SBSA_4056","SBSA_4056",null,null,null,null,null,null,null,null,null,null,null,null,null,null,null,null,null,null,null,null,null,null,null,null,"","",{"$f":"IF(OR(\nOR(AND(D4065<>\"\",F4065=\"\"),AND(E4065<>\"\",F4065=\"\")),\nF4065=LEFT(F4065,MIN(FIND(0,SUBSTITUTE(F4065,{1,2,3,4,5,6,7,8,9},0)&0))-1)=FALSE\n),\"Check\",\"\")","v":""},"","",null,"",0,"","","","",""]
["SBSA_4060","SBSA_4060",null,null,null,null,null,null,null,null,null,null,null,null,null,null,null,null,null,null,null,null,null,null,null,null,"","",{"$f":"IF(OR(\nOR(AND(D4069<>\"\",F4069=\"\"),AND(E4069<>\"\",F4069=\"\")),\nF4069=LEFT(F4069,MIN(FIND(0,SUBSTITUTE(F4069,{1,2,3,4,5,6,7,8,9},0)&0))-1)=FALSE\n),\"Check\",\"\")","v":""},"","",null,"",0,"","","","",""]
["SBSA_4065","SBSA_4065",null,null,null,null,null,null,null,null,null,null,null,null,null,null,null,null,null,null,null,null,null,null,null,null,"","",{"$f":"IF(OR(\nOR(AND(D4074<>\"\",F4074=\"\"),AND(E4074<>\"\",F4074=\"\")),\nF4074=LEFT(F4074,MIN(FIND(0,SUBSTITUTE(F4074,{1,2,3,4,5,6,7,8,9},0)&0))-1)=FALSE\n),\"Check\",\"\")","v":""},"","",null,"",0,"","","","",""]
["SBSA_4070","SBSA_4070",null,null,null,null,null,null,null,null,null,null,null,null,null,null,null,null,null,null,null,null,null,null,null,null,"","",{"$f":"IF(OR(\nOR(AND(D4079<>\"\",F4079=\"\"),AND(E4079<>\"\",F4079=\"\")),\nF4079=LEFT(F4079,MIN(FIND(0,SUBSTITUTE(F4079,{1,2,3,4,5,6,7,8,9},0)&0))-1)=FALSE\n),\"Check\",\"\")","v":""},"","",null,"",0,"","","","",""]
["SBSA_4071","SBSA_4071",null,null,null,null,null,null,null,null,null,null,null,null,null,null,null,null,null,null,null,null,null,null,null,null,"","",{"$f":"IF(OR(\nOR(AND(D4080<>\"\",F4080=\"\"),AND(E4080<>\"\",F4080=\"\")),\nF4080=LEFT(F4080,MIN(FIND(0,SUBSTITUTE(F4080,{1,2,3,4,5,6,7,8,9},0)&0))-1)=FALSE\n),\"Check\",\"\")","v":""},"","",null,"",0,"","","","",""]
["SBSA_4077","SBSA_4077",null,null,null,null,null,null,null,null,null,null,null,null,null,null,null,null,null,null,null,null,null,null,null,null,"","",{"$f":"IF(OR(\nOR(AND(D4086<>\"\",F4086=\"\"),AND(E4086<>\"\",F4086=\"\")),\nF4086=LEFT(F4086,MIN(FIND(0,SUBSTITUTE(F4086,{1,2,3,4,5,6,7,8,9},0)&0))-1)=FALSE\n),\"Check\",\"\")","v":""},"","",null,"",0,"","","","",""]
["SBSA_4080","SBSA_4080",null,null,null,null,null,null,null,null,null,null,null,null,null,null,null,null,null,null,null,null,null,null,null,null,"","",{"$f":"IF(OR(\nOR(AND(D4089<>\"\",F4089=\"\"),AND(E4089<>\"\",F4089=\"\")),\nF4089=LEFT(F4089,MIN(FIND(0,SUBSTITUTE(F4089,{1,2,3,4,5,6,7,8,9},0)&0))-1)=FALSE\n),\"Check\",\"\")","v":""},"","",null,"",0,"","","","",""]
["SBSA_4085","SBSA_4085",null,null,null,null,null,null,null,null,null,null,null,null,null,null,null,null,null,null,null,null,null,null,null,null,"","",{"$f":"IF(OR(\nOR(AND(D4094<>\"\",F4094=\"\"),AND(E4094<>\"\",F4094=\"\")),\nF4094=LEFT(F4094,MIN(FIND(0,SUBSTITUTE(F4094,{1,2,3,4,5,6,7,8,9},0)&0))-1)=FALSE\n),\"Check\",\"\")","v":""},"","",null,"",0,"","","","",""]
["SBSA_4086","SBSA_4086",null,null,null,null,null,null,null,null,null,null,null,null,null,null,null,null,null,null,null,null,null,null,null,null,"","",{"$f":"IF(OR(\nOR(AND(D4095<>\"\",F4095=\"\"),AND(E4095<>\"\",F4095=\"\")),\nF4095=LEFT(F4095,MIN(FIND(0,SUBSTITUTE(F4095,{1,2,3,4,5,6,7,8,9},0)&0))-1)=FALSE\n),\"Check\",\"\")","v":""},"","",null,"",0,"","","","",""]
["SBSA_4091","SBSA_4091",null,null,null,null,null,null,null,null,null,null,null,null,null,null,null,null,null,null,null,null,null,null,null,null,"","",{"$f":"IF(OR(\nOR(AND(D4100<>\"\",F4100=\"\"),AND(E4100<>\"\",F4100=\"\")),\nF4100=LEFT(F4100,MIN(FIND(0,SUBSTITUTE(F4100,{1,2,3,4,5,6,7,8,9},0)&0))-1)=FALSE\n),\"Check\",\"\")","v":""},"","",null,"",0,"","","","",""]
["SBSA_4095","SBSA_4095",null,null,null,null,null,null,null,null,null,null,null,null,null,null,null,null,null,null,null,null,null,null,null,null,"","",{"$f":"IF(OR(\nOR(AND(D4104<>\"\",F4104=\"\"),AND(E4104<>\"\",F4104=\"\")),\nF4104=LEFT(F4104,MIN(FIND(0,SUBSTITUTE(F4104,{1,2,3,4,5,6,7,8,9},0)&0))-1)=FALSE\n),\"Check\",\"\")","v":""},"","",null,"",0,"","","","",""]
["SBSA_4100","SBSA_4100",null,null,null,null,null,null,null,null,null,null,null,null,null,null,null,null,null,null,null,null,null,null,null,null,"","",{"$f":"IF(OR(\nOR(AND(D4109<>\"\",F4109=\"\"),AND(E4109<>\"\",F4109=\"\")),\nF4109=LEFT(F4109,MIN(FIND(0,SUBSTITUTE(F4109,{1,2,3,4,5,6,7,8,9},0)&0))-1)=FALSE\n),\"Check\",\"\")","v":""},"","",null,"",0,"","","","",""]
["SBSA_4101","SBSA_4101",null,null,null,null,null,null,null,null,null,null,null,null,null,null,null,null,null,null,null,null,null,null,null,null,"","",{"$f":"IF(OR(\nOR(AND(D4110<>\"\",F4110=\"\"),AND(E4110<>\"\",F4110=\"\")),\nF4110=LEFT(F4110,MIN(FIND(0,SUBSTITUTE(F4110,{1,2,3,4,5,6,7,8,9},0)&0))-1)=FALSE\n),\"Check\",\"\")","v":""},"","",null,"",0,"","","","",""]
["SBSA_4106","SBSA_4106",null,null,null,null,null,null,null,null,null,null,null,null,null,null,null,null,null,null,null,null,null,null,null,null,"","",{"$f":"IF(OR(\nOR(AND(D4115<>\"\",F4115=\"\"),AND(E4115<>\"\",F4115=\"\")),\nF4115=LEFT(F4115,MIN(FIND(0,SUBSTITUTE(F4115,{1,2,3,4,5,6,7,8,9},0)&0))-1)=FALSE\n),\"Check\",\"\")","v":""},"","",null,"",0,"","","","",""]
["SBSA_4111","SBSA_4111",null,null,null,null,null,null,null,null,null,null,null,null,null,null,null,null,null,null,null,null,null,null,null,null,"","",{"$f":"IF(OR(\nOR(AND(D4120<>\"\",F4120=\"\"),AND(E4120<>\"\",F4120=\"\")),\nF4120=LEFT(F4120,MIN(FIND(0,SUBSTITUTE(F4120,{1,2,3,4,5,6,7,8,9},0)&0))-1)=FALSE\n),\"Check\",\"\")","v":""},"","",null,"",0,"","","","",""]
["SBSA_4115","SBSA_4115",null,null,null,null,null,null,null,null,null,null,null,null,null,null,null,null,null,null,null,null,null,null,null,null,"","",{"$f":"IF(OR(\nOR(AND(D4124<>\"\",F4124=\"\"),AND(E4124<>\"\",F4124=\"\")),\nF4124=LEFT(F4124,MIN(FIND(0,SUBSTITUTE(F4124,{1,2,3,4,5,6,7,8,9},0)&0))-1)=FALSE\n),\"Check\",\"\")","v":""},"","",null,"",0,"","","","",""]
["SBSA_4116","SBSA_4116",null,null,null,null,null,null,null,null,null,null,null,null,null,null,null,null,null,null,null,null,null,null,null,null,"","",{"$f":"IF(OR(\nOR(AND(D4125<>\"\",F4125=\"\"),AND(E4125<>\"\",F4125=\"\")),\nF4125=LEFT(F4125,MIN(FIND(0,SUBSTITUTE(F4125,{1,2,3,4,5,6,7,8,9},0)&0))-1)=FALSE\n),\"Check\",\"\")","v":""},"","",null,"",0,"","","","",""]
["SBSA_4121","SBSA_4121",null,null,null,null,null,null,null,null,null,null,null,null,null,null,null,null,null,null,null,null,null,null,null,null,"","",{"$f":"IF(OR(\nOR(AND(D4130<>\"\",F4130=\"\"),AND(E4130<>\"\",F4130=\"\")),\nF4130=LEFT(F4130,MIN(FIND(0,SUBSTITUTE(F4130,{1,2,3,4,5,6,7,8,9},0)&0))-1)=FALSE\n),\"Check\",\"\")","v":""},"","",null,"",0,"","","","",""]
["SBSA_4125","SBSA_4125",null,null,null,null,null,null,null,null,null,null,null,null,null,null,null,null,null,null,null,null,null,null,null,null,"","",{"$f":"IF(OR(\nOR(AND(D4134<>\"\",F4134=\"\"),AND(E4134<>\"\",F4134=\"\")),\nF4134=LEFT(F4134,MIN(FIND(0,SUBSTITUTE(F4134,{1,2,3,4,5,6,7,8,9},0)&0))-1)=FALSE\n),\"Check\",\"\")","v":""},"","",null,"",0,"","","","",""]
["SBSA_4130","SBSA_4130",null,null,null,null,null,null,null,null,null,null,null,null,null,null,null,null,null,null,null,null,null,null,null,null,"","",{"$f":"IF(OR(\nOR(AND(D4139<>\"\",F4139=\"\"),AND(E4139<>\"\",F4139=\"\")),\nF4139=LEFT(F4139,MIN(FIND(0,SUBSTITUTE(F4139,{1,2,3,4,5,6,7,8,9},0)&0))-1)=FALSE\n),\"Check\",\"\")","v":""},"","",null,"",0,"","","","",""]
["SBSA_4131","SBSA_4131",null,null,null,null,null,null,null,null,null,null,null,null,null,null,null,null,null,null,null,null,null,null,null,null,"","",{"$f":"IF(OR(\nOR(AND(D4140<>\"\",F4140=\"\"),AND(E4140<>\"\",F4140=\"\")),\nF4140=LEFT(F4140,MIN(FIND(0,SUBSTITUTE(F4140,{1,2,3,4,5,6,7,8,9},0)&0))-1)=FALSE\n),\"Check\",\"\")","v":""},"","",null,"",0,"","","","",""]
["SBSA_4136","SBSA_4136",null,null,null,null,null,null,null,null,null,null,null,null,null,null,null,null,null,null,null,null,null,null,null,null,"","",{"$f":"IF(OR(\nOR(AND(D4145<>\"\",F4145=\"\"),AND(E4145<>\"\",F4145=\"\")),\nF4145=LEFT(F4145,MIN(FIND(0,SUBSTITUTE(F4145,{1,2,3,4,5,6,7,8,9},0)&0))-1)=FALSE\n),\"Check\",\"\")","v":""},"","",null,"",0,"","","","",""]
["SBSA_4141","SBSA_4141",null,null,null,null,null,null,null,null,null,null,null,null,null,null,null,null,null,null,null,null,null,null,null,null,"","",{"$f":"IF(OR(\nOR(AND(D4150<>\"\",F4150=\"\"),AND(E4150<>\"\",F4150=\"\")),\nF4150=LEFT(F4150,MIN(FIND(0,SUBSTITUTE(F4150,{1,2,3,4,5,6,7,8,9},0)&0))-1)=FALSE\n),\"Check\",\"\")","v":""},"","",null,"",0,"","","","",""]
["SBSA_4145","SBSA_4145",null,null,null,null,null,null,null,null,null,null,null,null,null,null,null,null,null,null,null,null,null,null,null,null,"","",{"$f":"IF(OR(\nOR(AND(D4154<>\"\",F4154=\"\"),AND(E4154<>\"\",F4154=\"\")),\nF4154=LEFT(F4154,MIN(FIND(0,SUBSTITUTE(F4154,{1,2,3,4,5,6,7,8,9},0)&0))-1)=FALSE\n),\"Check\",\"\")","v":""},"","",null,"",0,"","","","",""]
["SBSA_4146","SBSA_4146",null,null,null,null,null,null,null,null,null,null,null,null,null,null,null,null,null,null,null,null,null,null,null,null,"","",{"$f":"IF(OR(\nOR(AND(D4155<>\"\",F4155=\"\"),AND(E4155<>\"\",F4155=\"\")),\nF4155=LEFT(F4155,MIN(FIND(0,SUBSTITUTE(F4155,{1,2,3,4,5,6,7,8,9},0)&0))-1)=FALSE\n),\"Check\",\"\")","v":""},"","",null,"",0,"","","","",""]
["SBSA_4151","SBSA_4151",null,null,null,null,null,null,null,null,null,null,null,null,null,null,null,null,null,null,null,null,null,null,null,null,"","",{"$f":"IF(OR(\nOR(AND(D4160<>\"\",F4160=\"\"),AND(E4160<>\"\",F4160=\"\")),\nF4160=LEFT(F4160,MIN(FIND(0,SUBSTITUTE(F4160,{1,2,3,4,5,6,7,8,9},0)&0))-1)=FALSE\n),\"Check\",\"\")","v":""},"","",null,"",0,"","","","",""]
["SBSA_4155","SBSA_4155",null,null,null,null,null,null,null,null,null,null,null,null,null,null,null,null,null,null,null,null,null,null,null,null,"","",{"$f":"IF(OR(\nOR(AND(D4164<>\"\",F4164=\"\"),AND(E4164<>\"\",F4164=\"\")),\nF4164=LEFT(F4164,MIN(FIND(0,SUBSTITUTE(F4164,{1,2,3,4,5,6,7,8,9},0)&0))-1)=FALSE\n),\"Check\",\"\")","v":""},"","",null,"",0,"","","","",""]
["SBSA_4160","SBSA_4160",null,null,null,null,null,null,null,null,null,null,null,null,null,null,null,null,null,null,null,null,null,null,null,null,"","",{"$f":"IF(OR(\nOR(AND(D4169<>\"\",F4169=\"\"),AND(E4169<>\"\",F4169=\"\")),\nF4169=LEFT(F4169,MIN(FIND(0,SUBSTITUTE(F4169,{1,2,3,4,5,6,7,8,9},0)&0))-1)=FALSE\n),\"Check\",\"\")","v":""},"","",null,"",0,"","","","",""]
["SBSA_4161","SBSA_4161",null,null,null,null,null,null,null,null,null,null,null,null,null,null,null,null,null,null,null,null,null,null,null,null,"","",{"$f":"IF(OR(\nOR(AND(D4170<>\"\",F4170=\"\"),AND(E4170<>\"\",F4170=\"\")),\nF4170=LEFT(F4170,MIN(FIND(0,SUBSTITUTE(F4170,{1,2,3,4,5,6,7,8,9},0)&0))-1)=FALSE\n),\"Check\",\"\")","v":""},"","",null,"",0,"","","","",""]
["SBSA_4166","SBSA_4166",null,null,null,null,null,null,null,null,null,null,null,null,null,null,null,null,null,null,null,null,null,null,null,null,"","",{"$f":"IF(OR(\nOR(AND(D4175<>\"\",F4175=\"\"),AND(E4175<>\"\",F4175=\"\")),\nF4175=LEFT(F4175,MIN(FIND(0,SUBSTITUTE(F4175,{1,2,3,4,5,6,7,8,9},0)&0))-1)=FALSE\n),\"Check\",\"\")","v":""},"","",null,"",0,"","","","",""]
["SBSA_4171","SBSA_4171",null,null,null,null,null,null,null,null,null,null,null,null,null,null,null,null,null,null,null,null,null,null,null,null,"","",{"$f":"IF(OR(\nOR(AND(D4180<>\"\",F4180=\"\"),AND(E4180<>\"\",F4180=\"\")),\nF4180=LEFT(F4180,MIN(FIND(0,SUBSTITUTE(F4180,{1,2,3,4,5,6,7,8,9},0)&0))-1)=FALSE\n),\"Check\",\"\")","v":""},"","",null,"",0,"","","","",""]
["SBSA_4175","SBSA_4175",null,null,null,null,null,null,null,null,null,null,null,null,null,null,null,null,null,null,null,null,null,null,null,null,"","",{"$f":"IF(OR(\nOR(AND(D4184<>\"\",F4184=\"\"),AND(E4184<>\"\",F4184=\"\")),\nF4184=LEFT(F4184,MIN(FIND(0,SUBSTITUTE(F4184,{1,2,3,4,5,6,7,8,9},0)&0))-1)=FALSE\n),\"Check\",\"\")","v":""},"","",null,"",0,"","","","",""]
["SBSA_4176","SBSA_4176",null,null,null,null,null,null,null,null,null,null,null,null,null,null,null,null,null,null,null,null,null,null,null,null,"","",{"$f":"IF(OR(\nOR(AND(D4185<>\"\",F4185=\"\"),AND(E4185<>\"\",F4185=\"\")),\nF4185=LEFT(F4185,MIN(FIND(0,SUBSTITUTE(F4185,{1,2,3,4,5,6,7,8,9},0)&0))-1)=FALSE\n),\"Check\",\"\")","v":""},"","",null,"",0,"","","","",""]
["SBSA_4181","SBSA_4181",null,null,null,null,null,null,null,null,null,null,null,null,null,null,null,null,null,null,null,null,null,null,null,null,"","",{"$f":"IF(OR(\nOR(AND(D4190<>\"\",F4190=\"\"),AND(E4190<>\"\",F4190=\"\")),\nF4190=LEFT(F4190,MIN(FIND(0,SUBSTITUTE(F4190,{1,2,3,4,5,6,7,8,9},0)&0))-1)=FALSE\n),\"Check\",\"\")","v":""},"","",null,"",0,"","","","",""]
["SBSA_4186","SBSA_4186",null,null,null,null,null,null,null,null,null,null,null,null,null,null,null,null,null,null,null,null,null,null,null,null,"","",{"$f":"IF(OR(\nOR(AND(D4195<>\"\",F4195=\"\"),AND(E4195<>\"\",F4195=\"\")),\nF4195=LEFT(F4195,MIN(FIND(0,SUBSTITUTE(F4195,{1,2,3,4,5,6,7,8,9},0)&0))-1)=FALSE\n),\"Check\",\"\")","v":""},"","",null,"",0,"","","","",""]
["SBSA_4189","SBSA_4189",null,null,null,null,null,null,null,null,null,null,null,null,null,null,null,null,null,null,null,null,null,null,null,null,"","",{"$f":"IF(OR(\nOR(AND(D4198<>\"\",F4198=\"\"),AND(E4198<>\"\",F4198=\"\")),\nF4198=LEFT(F4198,MIN(FIND(0,SUBSTITUTE(F4198,{1,2,3,4,5,6,7,8,9},0)&0))-1)=FALSE\n),\"Check\",\"\")","v":""},"","",null,"",0,"","","","",""]
["SBSA_4191","SBSA_4191",null,null,null,null,null,null,null,null,null,null,null,null,null,null,null,null,null,null,null,null,null,null,null,null,"","",{"$f":"IF(OR(\nOR(AND(D4200<>\"\",F4200=\"\"),AND(E4200<>\"\",F4200=\"\")),\nF4200=LEFT(F4200,MIN(FIND(0,SUBSTITUTE(F4200,{1,2,3,4,5,6,7,8,9},0)&0))-1)=FALSE\n),\"Check\",\"\")","v":""},"","",null,"",0,"","","","",""]
["SBSA_4196","SBSA_4196",null,null,null,null,null,null,null,null,null,null,null,null,null,null,null,null,null,null,null,null,null,null,null,null,{"$f":"IF(AND(C4205=\"\",OR(D4205<>\"\",E4205<>\"\",F4205<>\"\",G4205<>\"\")),\"Check\",\"\")","v":""},{"$f":"IF(AND(C4205<>\"\",OR(AND(D4205=\"\",E4205=\"\"),AND(D4205=0,E4205=0),AND(ABS(D4205)>0,ABS(E4205)>0))),\"Check\",\"\")","v":""},{"$f":"IF(OR(\nOR(AND(D4205<>\"\",F4205=\"\"),AND(E4205<>\"\",F4205=\"\")),\nF4205=LEFT(F4205,MIN(FIND(0,SUBSTITUTE(F4205,{1,2,3,4,5,6,7,8,9},0)&0))-1)=FALSE\n),\"Check\",\"\")","v":""},{"$f":"IF(OR(E4205=\"\",G4205=\"\"),\"\",(E4205*G4205)/100)","v":""},{"$f":"IF(AND(F4205<>\"\",G4205=\"\"),\"Check\",\"\")","v":""},null,{"$f":"IF(C4205=\"\",\"\",C4205&\"_\"&IF(G4205=\"\",0,G4205))","v":""},{"$f":"IF(COUNTBLANK(C4205:G4205)<5,1,0)","v":0},{"$f":"IF(C4205=\"\",\"\",IF(LEN(C4205)=12,\"\",\"Check\"))","v":""},{"$f":"IF(C4205=\"\",\"\",IF(COUNTIF(C$10:C$65536,C4205)=COUNTIF(AG$10:AG$65536,AG4205),\"\",\"Check\"))","v":""},{"$f":"IF(F4205=\"\",\"\",IF(LEN(F4205)=3,\"\",\"Check\"))","v":""},{"$f":"IF(OR(IF(D4205=\"\",\"\",IF(ISNUMBER(D4205)=TRUE,\"\",\"TEXT\"))=\"TEXT\",IF(E4205=\"\",\"\",IF(ISNUMBER(E4205)=TRUE,\"\",\"TEXT\"))=\"TEXT\",IF(G4205=\"\",\"\",IF(ISNUMBER(G4205)=TRUE,\"\",\"TEXT\"))=\"TEXT\"),\"Check\",\"\")","v":""},{"$f":"IF(G4205<0,\"Check\",\"\")","v":""}]
["SBSA_4201","SBSA_4201",null,null,null,null,null,null,null,null,null,null,null,null,null,null,null,null,null,null,null,null,null,null,null,null,"","",{"$f":"IF(OR(\nOR(AND(D4210<>\"\",F4210=\"\"),AND(E4210<>\"\",F4210=\"\")),\nF4210=LEFT(F4210,MIN(FIND(0,SUBSTITUTE(F4210,{1,2,3,4,5,6,7,8,9},0)&0))-1)=FALSE\n),\"Check\",\"\")","v":""},"","",null,"",0,"","","","",""]
["SBSA_4203","SBSA_4203",null,null,null,null,null,null,null,null,null,null,null,null,null,null,null,null,null,null,null,null,null,null,null,null,"","",{"$f":"IF(OR(\nOR(AND(D4212<>\"\",F4212=\"\"),AND(E4212<>\"\",F4212=\"\")),\nF4212=LEFT(F4212,MIN(FIND(0,SUBSTITUTE(F4212,{1,2,3,4,5,6,7,8,9},0)&0))-1)=FALSE\n),\"Check\",\"\")","v":""},"","",null,"",0,"","","","",""]
["SBSA_4206","SBSA_4206",null,null,null,null,null,null,null,null,null,null,null,null,null,null,null,null,null,null,null,null,null,null,null,null,"","",{"$f":"IF(OR(\nOR(AND(D4215<>\"\",F4215=\"\"),AND(E4215<>\"\",F4215=\"\")),\nF4215=LEFT(F4215,MIN(FIND(0,SUBSTITUTE(F4215,{1,2,3,4,5,6,7,8,9},0)&0))-1)=FALSE\n),\"Check\",\"\")","v":""},"","",null,"",0,"","","","",""]
["SBSA_4211","SBSA_4211",null,null,null,null,null,null,null,null,null,null,null,null,null,null,null,null,null,null,null,null,null,null,null,null,"","",{"$f":"IF(OR(\nOR(AND(D4220<>\"\",F4220=\"\"),AND(E4220<>\"\",F4220=\"\")),\nF4220=LEFT(F4220,MIN(FIND(0,SUBSTITUTE(F4220,{1,2,3,4,5,6,7,8,9},0)&0))-1)=FALSE\n),\"Check\",\"\")","v":""},"","",null,"",0,"","","","",""]
["SBSA_4216","SBSA_4216",null,null,null,null,null,null,null,null,null,null,null,null,null,null,null,null,null,null,null,null,null,null,null,null,"","",{"$f":"IF(OR(\nOR(AND(D4225<>\"\",F4225=\"\"),AND(E4225<>\"\",F4225=\"\")),\nF4225=LEFT(F4225,MIN(FIND(0,SUBSTITUTE(F4225,{1,2,3,4,5,6,7,8,9},0)&0))-1)=FALSE\n),\"Check\",\"\")","v":""},"","",null,"",0,"","","","",""]
["SBSA_4219","SBSA_4219",null,null,null,null,null,null,null,null,null,null,null,null,null,null,null,null,null,null,null,null,null,null,null,null,"","",{"$f":"IF(OR(\nOR(AND(D4228<>\"\",F4228=\"\"),AND(E4228<>\"\",F4228=\"\")),\nF4228=LEFT(F4228,MIN(FIND(0,SUBSTITUTE(F4228,{1,2,3,4,5,6,7,8,9},0)&0))-1)=FALSE\n),\"Check\",\"\")","v":""},"","",null,"",0,"","","","",""]
["SBSA_4221","SBSA_4221",null,null,null,null,null,null,null,null,null,null,null,null,null,null,null,null,null,null,null,null,null,null,null,null,"","",{"$f":"IF(OR(\nOR(AND(D4230<>\"\",F4230=\"\"),AND(E4230<>\"\",F4230=\"\")),\nF4230=LEFT(F4230,MIN(FIND(0,SUBSTITUTE(F4230,{1,2,3,4,5,6,7,8,9},0)&0))-1)=FALSE\n),\"Check\",\"\")","v":""},"","",null,"",0,"","","","",""]
["SBSA_4226","SBSA_4226",null,null,null,null,null,null,null,null,null,null,null,null,null,null,null,null,null,null,null,null,null,null,null,null,"","",{"$f":"IF(OR(\nOR(AND(D4235<>\"\",F4235=\"\"),AND(E4235<>\"\",F4235=\"\")),\nF4235=LEFT(F4235,MIN(FIND(0,SUBSTITUTE(F4235,{1,2,3,4,5,6,7,8,9},0)&0))-1)=FALSE\n),\"Check\",\"\")","v":""},"","",null,"",0,"","","","",""]
["SBSA_4231","SBSA_4231",null,null,null,null,null,null,null,null,null,null,null,null,null,null,null,null,null,null,null,null,null,null,null,null,"","",{"$f":"IF(OR(\nOR(AND(D4240<>\"\",F4240=\"\"),AND(E4240<>\"\",F4240=\"\")),\nF4240=LEFT(F4240,MIN(FIND(0,SUBSTITUTE(F4240,{1,2,3,4,5,6,7,8,9},0)&0))-1)=FALSE\n),\"Check\",\"\")","v":""},"","",null,"",0,"","","","",""]
["SBSA_4233","SBSA_4233",null,null,null,null,null,null,null,null,null,null,null,null,null,null,null,null,null,null,null,null,null,null,null,null,"","",{"$f":"IF(OR(\nOR(AND(D4242<>\"\",F4242=\"\"),AND(E4242<>\"\",F4242=\"\")),\nF4242=LEFT(F4242,MIN(FIND(0,SUBSTITUTE(F4242,{1,2,3,4,5,6,7,8,9},0)&0))-1)=FALSE\n),\"Check\",\"\")","v":""},"","",null,"",0,"","","","",""]
["SBSA_4236","SBSA_4236",null,null,null,null,null,null,null,null,null,null,null,null,null,null,null,null,null,null,null,null,null,null,null,null,"","",{"$f":"IF(OR(\nOR(AND(D4245<>\"\",F4245=\"\"),AND(E4245<>\"\",F4245=\"\")),\nF4245=LEFT(F4245,MIN(FIND(0,SUBSTITUTE(F4245,{1,2,3,4,5,6,7,8,9},0)&0))-1)=FALSE\n),\"Check\",\"\")","v":""},"","",null,"",0,"","","","",""]
["SBSA_4241","SBSA_4241",null,null,null,null,null,null,null,null,null,null,null,null,null,null,null,null,null,null,null,null,null,null,null,null,"","",{"$f":"IF(OR(\nOR(AND(D4250<>\"\",F4250=\"\"),AND(E4250<>\"\",F4250=\"\")),\nF4250=LEFT(F4250,MIN(FIND(0,SUBSTITUTE(F4250,{1,2,3,4,5,6,7,8,9},0)&0))-1)=FALSE\n),\"Check\",\"\")","v":""},"","",null,"",0,"","","","",""]
["SBSA_4246","SBSA_4246",null,null,null,null,null,null,null,null,null,null,null,null,null,null,null,null,null,null,null,null,null,null,null,null,"","",{"$f":"IF(OR(\nOR(AND(D4255<>\"\",F4255=\"\"),AND(E4255<>\"\",F4255=\"\")),\nF4255=LEFT(F4255,MIN(FIND(0,SUBSTITUTE(F4255,{1,2,3,4,5,6,7,8,9},0)&0))-1)=FALSE\n),\"Check\",\"\")","v":""},"","",null,"",0,"","","","",""]
["SBSA_4249","SBSA_4249",null,null,null,null,null,null,null,null,null,null,null,null,null,null,null,null,null,null,null,null,null,null,null,null,"","",{"$f":"IF(OR(\nOR(AND(D4258<>\"\",F4258=\"\"),AND(E4258<>\"\",F4258=\"\")),\nF4258=LEFT(F4258,MIN(FIND(0,SUBSTITUTE(F4258,{1,2,3,4,5,6,7,8,9},0)&0))-1)=FALSE\n),\"Check\",\"\")","v":""},"","",null,"",0,"","","","",""]
["SBSA_4251","SBSA_4251",null,null,null,null,null,null,null,null,null,null,null,null,null,null,null,null,null,null,null,null,null,null,null,null,"","",{"$f":"IF(OR(\nOR(AND(D4260<>\"\",F4260=\"\"),AND(E4260<>\"\",F4260=\"\")),\nF4260=LEFT(F4260,MIN(FIND(0,SUBSTITUTE(F4260,{1,2,3,4,5,6,7,8,9},0)&0))-1)=FALSE\n),\"Check\",\"\")","v":""},"","",null,"",0,"","","","",""]
["SBSA_4256","SBSA_4256",null,null,null,null,null,null,null,null,null,null,null,null,null,null,null,null,null,null,null,null,null,null,null,null,"","",{"$f":"IF(OR(\nOR(AND(D4265<>\"\",F4265=\"\"),AND(E4265<>\"\",F4265=\"\")),\nF4265=LEFT(F4265,MIN(FIND(0,SUBSTITUTE(F4265,{1,2,3,4,5,6,7,8,9},0)&0))-1)=FALSE\n),\"Check\",\"\")","v":""},"","",null,"",0,"","","","",""]
["SBSA_4261","SBSA_4261",null,null,null,null,null,null,null,null,null,null,null,null,null,null,null,null,null,null,null,null,null,null,null,null,"","",{"$f":"IF(OR(\nOR(AND(D4270<>\"\",F4270=\"\"),AND(E4270<>\"\",F4270=\"\")),\nF4270=LEFT(F4270,MIN(FIND(0,SUBSTITUTE(F4270,{1,2,3,4,5,6,7,8,9},0)&0))-1)=FALSE\n),\"Check\",\"\")","v":""},"","",null,"",0,"","","","",""]
["SBSA_4263","SBSA_4263",null,null,null,null,null,null,null,null,null,null,null,null,null,null,null,null,null,null,null,null,null,null,null,null,"","",{"$f":"IF(OR(\nOR(AND(D4272<>\"\",F4272=\"\"),AND(E4272<>\"\",F4272=\"\")),\nF4272=LEFT(F4272,MIN(FIND(0,SUBSTITUTE(F4272,{1,2,3,4,5,6,7,8,9},0)&0))-1)=FALSE\n),\"Check\",\"\")","v":""},"","",null,"",0,"","","","",""]
["SBSA_4266","SBSA_4266",null,null,null,null,null,null,null,null,null,null,null,null,null,null,null,null,null,null,null,null,null,null,null,null,"","",{"$f":"IF(OR(\nOR(AND(D4275<>\"\",F4275=\"\"),AND(E4275<>\"\",F4275=\"\")),\nF4275=LEFT(F4275,MIN(FIND(0,SUBSTITUTE(F4275,{1,2,3,4,5,6,7,8,9},0)&0))-1)=FALSE\n),\"Check\",\"\")","v":""},"","",null,"",0,"","","","",""]
["SBSA_4271","SBSA_4271",null,null,null,null,null,null,null,null,null,null,null,null,null,null,null,null,null,null,null,null,null,null,null,null,"","",{"$f":"IF(OR(\nOR(AND(D4280<>\"\",F4280=\"\"),AND(E4280<>\"\",F4280=\"\")),\nF4280=LEFT(F4280,MIN(FIND(0,SUBSTITUTE(F4280,{1,2,3,4,5,6,7,8,9},0)&0))-1)=FALSE\n),\"Check\",\"\")","v":""},"","",null,"",0,"","","","",""]
["SBSA_4276","SBSA_4276",null,null,null,null,null,null,null,null,null,null,null,null,null,null,null,null,null,null,null,null,null,null,null,null,"","",{"$f":"IF(OR(\nOR(AND(D4285<>\"\",F4285=\"\"),AND(E4285<>\"\",F4285=\"\")),\nF4285=LEFT(F4285,MIN(FIND(0,SUBSTITUTE(F4285,{1,2,3,4,5,6,7,8,9},0)&0))-1)=FALSE\n),\"Check\",\"\")","v":""},"","",null,"",0,"","","","",""]
["SBSA_4281","SBSA_4281",null,null,null,null,null,null,null,null,null,null,null,null,null,null,null,null,null,null,null,null,null,null,null,null,"","",{"$f":"IF(OR(\nOR(AND(D4290<>\"\",F4290=\"\"),AND(E4290<>\"\",F4290=\"\")),\nF4290=LEFT(F4290,MIN(FIND(0,SUBSTITUTE(F4290,{1,2,3,4,5,6,7,8,9},0)&0))-1)=FALSE\n),\"Check\",\"\")","v":""},"","",null,"",0,"","","","",""]
["SBSA_4284","SBSA_4284",null,null,null,null,null,null,null,null,null,null,null,null,null,null,null,null,null,null,null,null,null,null,null,null,"","",{"$f":"IF(OR(\nOR(AND(D4293<>\"\",F4293=\"\"),AND(E4293<>\"\",F4293=\"\")),\nF4293=LEFT(F4293,MIN(FIND(0,SUBSTITUTE(F4293,{1,2,3,4,5,6,7,8,9},0)&0))-1)=FALSE\n),\"Check\",\"\")","v":""},"","",null,"",0,"","","","",""]
["SBSA_4286","SBSA_4286",null,null,null,null,null,null,null,null,null,null,null,null,null,null,null,null,null,null,null,null,null,null,null,null,"","",{"$f":"IF(OR(\nOR(AND(D4295<>\"\",F4295=\"\"),AND(E4295<>\"\",F4295=\"\")),\nF4295=LEFT(F4295,MIN(FIND(0,SUBSTITUTE(F4295,{1,2,3,4,5,6,7,8,9},0)&0))-1)=FALSE\n),\"Check\",\"\")","v":""},"","",null,"",0,"","","","",""]
["SBSA_4291","SBSA_4291",null,null,null,null,null,null,null,null,null,null,null,null,null,null,null,null,null,null,null,null,null,null,null,null,"","",{"$f":"IF(OR(\nOR(AND(D4300<>\"\",F4300=\"\"),AND(E4300<>\"\",F4300=\"\")),\nF4300=LEFT(F4300,MIN(FIND(0,SUBSTITUTE(F4300,{1,2,3,4,5,6,7,8,9},0)&0))-1)=FALSE\n),\"Check\",\"\")","v":""},"","",null,"",0,"","","","",""]
["SBSA_4296","SBSA_4296",null,null,null,null,null,null,null,null,null,null,null,null,null,null,null,null,null,null,null,null,null,null,null,null,"","",{"$f":"IF(OR(\nOR(AND(D4305<>\"\",F4305=\"\"),AND(E4305<>\"\",F4305=\"\")),\nF4305=LEFT(F4305,MIN(FIND(0,SUBSTITUTE(F4305,{1,2,3,4,5,6,7,8,9},0)&0))-1)=FALSE\n),\"Check\",\"\")","v":""},"","",null,"",0,"","","","",""]
["SBSA_4297","SBSA_4297",null,null,null,null,null,null,null,null,null,null,null,null,null,null,null,null,null,null,null,null,null,null,null,null,"","",{"$f":"IF(OR(\nOR(AND(D4306<>\"\",F4306=\"\"),AND(E4306<>\"\",F4306=\"\")),\nF4306=LEFT(F4306,MIN(FIND(0,SUBSTITUTE(F4306,{1,2,3,4,5,6,7,8,9},0)&0))-1)=FALSE\n),\"Check\",\"\")","v":""},"","",null,"",0,"","","","",""]
["SBSA_4301","SBSA_4301",null,null,null,null,null,null,null,null,null,null,null,null,null,null,null,null,null,null,null,null,null,null,null,null,"","",{"$f":"IF(OR(\nOR(AND(D4310<>\"\",F4310=\"\"),AND(E4310<>\"\",F4310=\"\")),\nF4310=LEFT(F4310,MIN(FIND(0,SUBSTITUTE(F4310,{1,2,3,4,5,6,7,8,9},0)&0))-1)=FALSE\n),\"Check\",\"\")","v":""},"","",null,"",0,"","","","",""]
["SBSA_4306","SBSA_4306",null,null,null,null,null,null,null,null,null,null,null,null,null,null,null,null,null,null,null,null,null,null,null,null,"","",{"$f":"IF(OR(\nOR(AND(D4315<>\"\",F4315=\"\"),AND(E4315<>\"\",F4315=\"\")),\nF4315=LEFT(F4315,MIN(FIND(0,SUBSTITUTE(F4315,{1,2,3,4,5,6,7,8,9},0)&0))-1)=FALSE\n),\"Check\",\"\")","v":""},"","",null,"",0,"","","","",""]
["SBSA_4311","SBSA_4311",null,null,null,null,null,null,null,null,null,null,null,null,null,null,null,null,null,null,null,null,null,null,null,null,"","",{"$f":"IF(OR(\nOR(AND(D4320<>\"\",F4320=\"\"),AND(E4320<>\"\",F4320=\"\")),\nF4320=LEFT(F4320,MIN(FIND(0,SUBSTITUTE(F4320,{1,2,3,4,5,6,7,8,9},0)&0))-1)=FALSE\n),\"Check\",\"\")","v":""},"","",null,"",0,"","","","",""]
["SBSA_4314","SBSA_4314",null,null,null,null,null,null,null,null,null,null,null,null,null,null,null,null,null,null,null,null,null,null,null,null,"","",{"$f":"IF(OR(\nOR(AND(D4323<>\"\",F4323=\"\"),AND(E4323<>\"\",F4323=\"\")),\nF4323=LEFT(F4323,MIN(FIND(0,SUBSTITUTE(F4323,{1,2,3,4,5,6,7,8,9},0)&0))-1)=FALSE\n),\"Check\",\"\")","v":""},"","",null,"",0,"","","","",""]
["SBSA_4316","SBSA_4316",null,null,null,null,null,null,null,null,null,null,null,null,null,null,null,null,null,null,null,null,null,null,null,null,"","",{"$f":"IF(OR(\nOR(AND(D4325<>\"\",F4325=\"\"),AND(E4325<>\"\",F4325=\"\")),\nF4325=LEFT(F4325,MIN(FIND(0,SUBSTITUTE(F4325,{1,2,3,4,5,6,7,8,9},0)&0))-1)=FALSE\n),\"Check\",\"\")","v":""},"","",null,"",0,"","","","",""]
["SBSA_4321","SBSA_4321",null,null,null,null,null,null,null,null,null,null,null,null,null,null,null,null,null,null,null,null,null,null,null,null,"","",{"$f":"IF(OR(\nOR(AND(D4330<>\"\",F4330=\"\"),AND(E4330<>\"\",F4330=\"\")),\nF4330=LEFT(F4330,MIN(FIND(0,SUBSTITUTE(F4330,{1,2,3,4,5,6,7,8,9},0)&0))-1)=FALSE\n),\"Check\",\"\")","v":""},"","",null,"",0,"","","","",""]
["SBSA_4326","SBSA_4326",null,null,null,null,null,null,null,null,null,null,null,null,null,null,null,null,null,null,null,null,null,null,null,null,"","",{"$f":"IF(OR(\nOR(AND(D4335<>\"\",F4335=\"\"),AND(E4335<>\"\",F4335=\"\")),\nF4335=LEFT(F4335,MIN(FIND(0,SUBSTITUTE(F4335,{1,2,3,4,5,6,7,8,9},0)&0))-1)=FALSE\n),\"Check\",\"\")","v":""},"","",null,"",0,"","","","",""]
["SBSA_4327","SBSA_4327",null,null,null,null,null,null,null,null,null,null,null,null,null,null,null,null,null,null,null,null,null,null,null,null,"","",{"$f":"IF(OR(\nOR(AND(D4336<>\"\",F4336=\"\"),AND(E4336<>\"\",F4336=\"\")),\nF4336=LEFT(F4336,MIN(FIND(0,SUBSTITUTE(F4336,{1,2,3,4,5,6,7,8,9},0)&0))-1)=FALSE\n),\"Check\",\"\")","v":""},"","",null,"",0,"","","","",""]
["SBSA_4331","SBSA_4331",null,null,null,null,null,null,null,null,null,null,null,null,null,null,null,null,null,null,null,null,null,null,null,null,"","",{"$f":"IF(OR(\nOR(AND(D4340<>\"\",F4340=\"\"),AND(E4340<>\"\",F4340=\"\")),\nF4340=LEFT(F4340,MIN(FIND(0,SUBSTITUTE(F4340,{1,2,3,4,5,6,7,8,9},0)&0))-1)=FALSE\n),\"Check\",\"\")","v":""},"","",null,"",0,"","","","",""]
["SBSA_4336","SBSA_4336",null,null,null,null,null,null,null,null,null,null,null,null,null,null,null,null,null,null,null,null,null,null,null,null,"","",{"$f":"IF(OR(\nOR(AND(D4345<>\"\",F4345=\"\"),AND(E4345<>\"\",F4345=\"\")),\nF4345=LEFT(F4345,MIN(FIND(0,SUBSTITUTE(F4345,{1,2,3,4,5,6,7,8,9},0)&0))-1)=FALSE\n),\"Check\",\"\")","v":""},"","",null,"",0,"","","","",""]
["SBSA_4341","SBSA_4341",null,null,null,null,null,null,null,null,null,null,null,null,null,null,null,null,null,null,null,null,null,null,null,null,"","",{"$f":"IF(OR(\nOR(AND(D4350<>\"\",F4350=\"\"),AND(E4350<>\"\",F4350=\"\")),\nF4350=LEFT(F4350,MIN(FIND(0,SUBSTITUTE(F4350,{1,2,3,4,5,6,7,8,9},0)&0))-1)=FALSE\n),\"Check\",\"\")","v":""},"","",null,"",0,"","","","",""]
["SBSA_4344","SBSA_4344",null,null,null,null,null,null,null,null,null,null,null,null,null,null,null,null,null,null,null,null,null,null,null,null,"","",{"$f":"IF(OR(\nOR(AND(D4353<>\"\",F4353=\"\"),AND(E4353<>\"\",F4353=\"\")),\nF4353=LEFT(F4353,MIN(FIND(0,SUBSTITUTE(F4353,{1,2,3,4,5,6,7,8,9},0)&0))-1)=FALSE\n),\"Check\",\"\")","v":""},"","",null,"",0,"","","","",""]
["SBSA_4346","SBSA_4346",null,null,null,null,null,null,null,null,null,null,null,null,null,null,null,null,null,null,null,null,null,null,null,null,"","",{"$f":"IF(OR(\nOR(AND(D4355<>\"\",F4355=\"\"),AND(E4355<>\"\",F4355=\"\")),\nF4355=LEFT(F4355,MIN(FIND(0,SUBSTITUTE(F4355,{1,2,3,4,5,6,7,8,9},0)&0))-1)=FALSE\n),\"Check\",\"\")","v":""},"","",null,"",0,"","","","",""]
["SBSA_4351","SBSA_4351",null,null,null,null,null,null,null,null,null,null,null,null,null,null,null,null,null,null,null,null,null,null,null,null,"","",{"$f":"IF(OR(\nOR(AND(D4360<>\"\",F4360=\"\"),AND(E4360<>\"\",F4360=\"\")),\nF4360=LEFT(F4360,MIN(FIND(0,SUBSTITUTE(F4360,{1,2,3,4,5,6,7,8,9},0)&0))-1)=FALSE\n),\"Check\",\"\")","v":""},"","",null,"",0,"","","","",""]
["SBSA_4356","SBSA_4356",null,null,null,null,null,null,null,null,null,null,null,null,null,null,null,null,null,null,null,null,null,null,null,null,"","",{"$f":"IF(OR(\nOR(AND(D4365<>\"\",F4365=\"\"),AND(E4365<>\"\",F4365=\"\")),\nF4365=LEFT(F4365,MIN(FIND(0,SUBSTITUTE(F4365,{1,2,3,4,5,6,7,8,9},0)&0))-1)=FALSE\n),\"Check\",\"\")","v":""},"","",null,"",0,"","","","",""]
["SBSA_4357","SBSA_4357",null,null,null,null,null,null,null,null,null,null,null,null,null,null,null,null,null,null,null,null,null,null,null,null,"","",{"$f":"IF(OR(\nOR(AND(D4366<>\"\",F4366=\"\"),AND(E4366<>\"\",F4366=\"\")),\nF4366=LEFT(F4366,MIN(FIND(0,SUBSTITUTE(F4366,{1,2,3,4,5,6,7,8,9},0)&0))-1)=FALSE\n),\"Check\",\"\")","v":""},"","",null,"",0,"","","","",""]
["SBSA_4361","SBSA_4361",null,null,null,null,null,null,null,null,null,null,null,null,null,null,null,null,null,null,null,null,null,null,null,null,"","",{"$f":"IF(OR(\nOR(AND(D4370<>\"\",F4370=\"\"),AND(E4370<>\"\",F4370=\"\")),\nF4370=LEFT(F4370,MIN(FIND(0,SUBSTITUTE(F4370,{1,2,3,4,5,6,7,8,9},0)&0))-1)=FALSE\n),\"Check\",\"\")","v":""},"","",null,"",0,"","","","",""]
["SBSA_4366","SBSA_4366",null,null,null,null,null,null,null,null,null,null,null,null,null,null,null,null,null,null,null,null,null,null,null,null,"","",{"$f":"IF(OR(\nOR(AND(D4375<>\"\",F4375=\"\"),AND(E4375<>\"\",F4375=\"\")),\nF4375=LEFT(F4375,MIN(FIND(0,SUBSTITUTE(F4375,{1,2,3,4,5,6,7,8,9},0)&0))-1)=FALSE\n),\"Check\",\"\")","v":""},"","",null,"",0,"","","","",""]
["SBSA_4371","SBSA_4371",null,null,null,null,null,null,null,null,null,null,null,null,null,null,null,null,null,null,null,null,null,null,null,null,"","",{"$f":"IF(OR(\nOR(AND(D4380<>\"\",F4380=\"\"),AND(E4380<>\"\",F4380=\"\")),\nF4380=LEFT(F4380,MIN(FIND(0,SUBSTITUTE(F4380,{1,2,3,4,5,6,7,8,9},0)&0))-1)=FALSE\n),\"Check\",\"\")","v":""},"","",null,"",0,"","","","",""]
["SBSA_4372","SBSA_4372",null,null,null,null,null,null,null,null,null,null,null,null,null,null,null,null,null,null,null,null,null,null,null,null,"","",{"$f":"IF(OR(\nOR(AND(D4381<>\"\",F4381=\"\"),AND(E4381<>\"\",F4381=\"\")),\nF4381=LEFT(F4381,MIN(FIND(0,SUBSTITUTE(F4381,{1,2,3,4,5,6,7,8,9},0)&0))-1)=FALSE\n),\"Check\",\"\")","v":""},"","",null,"",0,"","","","",""]
["SBSA_4378","SBSA_4378",null,null,null,null,null,null,null,null,null,null,null,null,null,null,null,null,null,null,null,null,null,null,null,null,"","",{"$f":"IF(OR(\nOR(AND(D4387<>\"\",F4387=\"\"),AND(E4387<>\"\",F4387=\"\")),\nF4387=LEFT(F4387,MIN(FIND(0,SUBSTITUTE(F4387,{1,2,3,4,5,6,7,8,9},0)&0))-1)=FALSE\n),\"Check\",\"\")","v":""},"","",null,"",0,"","","","",""]
["SBSA_4381","SBSA_4381",null,null,null,null,null,null,null,null,null,null,null,null,null,null,null,null,null,null,null,null,null,null,null,null,"","",{"$f":"IF(OR(\nOR(AND(D4390<>\"\",F4390=\"\"),AND(E4390<>\"\",F4390=\"\")),\nF4390=LEFT(F4390,MIN(FIND(0,SUBSTITUTE(F4390,{1,2,3,4,5,6,7,8,9},0)&0))-1)=FALSE\n),\"Check\",\"\")","v":""},"","",null,"",0,"","","","",""]
["SBSA_4386","SBSA_4386",null,null,null,null,null,null,null,null,null,null,null,null,null,null,null,null,null,null,null,null,null,null,null,null,"","",{"$f":"IF(OR(\nOR(AND(D4395<>\"\",F4395=\"\"),AND(E4395<>\"\",F4395=\"\")),\nF4395=LEFT(F4395,MIN(FIND(0,SUBSTITUTE(F4395,{1,2,3,4,5,6,7,8,9},0)&0))-1)=FALSE\n),\"Check\",\"\")","v":""},"","",null,"",0,"","","","",""]
["SBSA_4387","SBSA_4387",null,null,null,null,null,null,null,null,null,null,null,null,null,null,null,null,null,null,null,null,null,null,null,null,"","",{"$f":"IF(OR(\nOR(AND(D4396<>\"\",F4396=\"\"),AND(E4396<>\"\",F4396=\"\")),\nF4396=LEFT(F4396,MIN(FIND(0,SUBSTITUTE(F4396,{1,2,3,4,5,6,7,8,9},0)&0))-1)=FALSE\n),\"Check\",\"\")","v":""},"","",null,"",0,"","","","",""]
["SBSA_4392","SBSA_4392",null,null,null,null,null,null,null,null,null,null,null,null,null,null,null,null,null,null,null,null,null,null,null,null,"","",{"$f":"IF(OR(\nOR(AND(D4401<>\"\",F4401=\"\"),AND(E4401<>\"\",F4401=\"\")),\nF4401=LEFT(F4401,MIN(FIND(0,SUBSTITUTE(F4401,{1,2,3,4,5,6,7,8,9},0)&0))-1)=FALSE\n),\"Check\",\"\")","v":""},"","",null,"",0,"","","","",""]
["SBSA_4396","SBSA_4396",null,null,null,null,null,null,null,null,null,null,null,null,null,null,null,null,null,null,null,null,null,null,null,null,"","",{"$f":"IF(OR(\nOR(AND(D4405<>\"\",F4405=\"\"),AND(E4405<>\"\",F4405=\"\")),\nF4405=LEFT(F4405,MIN(FIND(0,SUBSTITUTE(F4405,{1,2,3,4,5,6,7,8,9},0)&0))-1)=FALSE\n),\"Check\",\"\")","v":""},"","",null,"",0,"","","","",""]
["SBSA_4401","SBSA_4401",null,null,null,null,null,null,null,null,null,null,null,null,null,null,null,null,null,null,null,null,null,null,null,null,"","",{"$f":"IF(OR(\nOR(AND(D4410<>\"\",F4410=\"\"),AND(E4410<>\"\",F4410=\"\")),\nF4410=LEFT(F4410,MIN(FIND(0,SUBSTITUTE(F4410,{1,2,3,4,5,6,7,8,9},0)&0))-1)=FALSE\n),\"Check\",\"\")","v":""},"","",null,"",0,"","","","",""]
["SBSA_4402","SBSA_4402",null,null,null,null,null,null,null,null,null,null,null,null,null,null,null,null,null,null,null,null,null,null,null,null,"","",{"$f":"IF(OR(\nOR(AND(D4411<>\"\",F4411=\"\"),AND(E4411<>\"\",F4411=\"\")),\nF4411=LEFT(F4411,MIN(FIND(0,SUBSTITUTE(F4411,{1,2,3,4,5,6,7,8,9},0)&0))-1)=FALSE\n),\"Check\",\"\")","v":""},"","",null,"",0,"","","","",""]
["SBSA_4408","SBSA_4408",null,null,null,null,null,null,null,null,null,null,null,null,null,null,null,null,null,null,null,null,null,null,null,null,"","",{"$f":"IF(OR(\nOR(AND(D4417<>\"\",F4417=\"\"),AND(E4417<>\"\",F4417=\"\")),\nF4417=LEFT(F4417,MIN(FIND(0,SUBSTITUTE(F4417,{1,2,3,4,5,6,7,8,9},0)&0))-1)=FALSE\n),\"Check\",\"\")","v":""},"","",null,"",0,"","","","",""]
["SBSA_4411","SBSA_4411",null,null,null,null,null,null,null,null,null,null,null,null,null,null,null,null,null,null,null,null,null,null,null,null,"","",{"$f":"IF(OR(\nOR(AND(D4420<>\"\",F4420=\"\"),AND(E4420<>\"\",F4420=\"\")),\nF4420=LEFT(F4420,MIN(FIND(0,SUBSTITUTE(F4420,{1,2,3,4,5,6,7,8,9},0)&0))-1)=FALSE\n),\"Check\",\"\")","v":""},"","",null,"",0,"","","","",""]
["SBSA_4416","SBSA_4416",null,null,null,null,null,null,null,null,null,null,null,null,null,null,null,null,null,null,null,null,null,null,null,null,"","",{"$f":"IF(OR(\nOR(AND(D4425<>\"\",F4425=\"\"),AND(E4425<>\"\",F4425=\"\")),\nF4425=LEFT(F4425,MIN(FIND(0,SUBSTITUTE(F4425,{1,2,3,4,5,6,7,8,9},0)&0))-1)=FALSE\n),\"Check\",\"\")","v":""},"","",null,"",0,"","","","",""]
["SBSA_4417","SBSA_4417",null,null,null,null,null,null,null,null,null,null,null,null,null,null,null,null,null,null,null,null,null,null,null,null,"","",{"$f":"IF(OR(\nOR(AND(D4426<>\"\",F4426=\"\"),AND(E4426<>\"\",F4426=\"\")),\nF4426=LEFT(F4426,MIN(FIND(0,SUBSTITUTE(F4426,{1,2,3,4,5,6,7,8,9},0)&0))-1)=FALSE\n),\"Check\",\"\")","v":""},"","",null,"",0,"","","","",""]
["SBSA_4422","SBSA_4422",null,null,null,null,null,null,null,null,null,null,null,null,null,null,null,null,null,null,null,null,null,null,null,null,"","",{"$f":"IF(OR(\nOR(AND(D4431<>\"\",F4431=\"\"),AND(E4431<>\"\",F4431=\"\")),\nF4431=LEFT(F4431,MIN(FIND(0,SUBSTITUTE(F4431,{1,2,3,4,5,6,7,8,9},0)&0))-1)=FALSE\n),\"Check\",\"\")","v":""},"","",null,"",0,"","","","",""]
["SBSA_4426","SBSA_4426",null,null,null,null,null,null,null,null,null,null,null,null,null,null,null,null,null,null,null,null,null,null,null,null,"","",{"$f":"IF(OR(\nOR(AND(D4435<>\"\",F4435=\"\"),AND(E4435<>\"\",F4435=\"\")),\nF4435=LEFT(F4435,MIN(FIND(0,SUBSTITUTE(F4435,{1,2,3,4,5,6,7,8,9},0)&0))-1)=FALSE\n),\"Check\",\"\")","v":""},"","",null,"",0,"","","","",""]
["SBSA_4431","SBSA_4431",null,null,null,null,null,null,null,null,null,null,null,null,null,null,null,null,null,null,null,null,null,null,null,null,"","",{"$f":"IF(OR(\nOR(AND(D4440<>\"\",F4440=\"\"),AND(E4440<>\"\",F4440=\"\")),\nF4440=LEFT(F4440,MIN(FIND(0,SUBSTITUTE(F4440,{1,2,3,4,5,6,7,8,9},0)&0))-1)=FALSE\n),\"Check\",\"\")","v":""},"","",null,"",0,"","","","",""]
["SBSA_4432","SBSA_4432",null,null,null,null,null,null,null,null,null,null,null,null,null,null,null,null,null,null,null,null,null,null,null,null,"","",{"$f":"IF(OR(\nOR(AND(D4441<>\"\",F4441=\"\"),AND(E4441<>\"\",F4441=\"\")),\nF4441=LEFT(F4441,MIN(FIND(0,SUBSTITUTE(F4441,{1,2,3,4,5,6,7,8,9},0)&0))-1)=FALSE\n),\"Check\",\"\")","v":""},"","",null,"",0,"","","","",""]
["SBSA_4438","SBSA_4438",null,null,null,null,null,null,null,null,null,null,null,null,null,null,null,null,null,null,null,null,null,null,null,null,"","",{"$f":"IF(OR(\nOR(AND(D4447<>\"\",F4447=\"\"),AND(E4447<>\"\",F4447=\"\")),\nF4447=LEFT(F4447,MIN(FIND(0,SUBSTITUTE(F4447,{1,2,3,4,5,6,7,8,9},0)&0))-1)=FALSE\n),\"Check\",\"\")","v":""},"","",null,"",0,"","","","",""]
["SBSA_4441","SBSA_4441",null,null,null,null,null,null,null,null,null,null,null,null,null,null,null,null,null,null,null,null,null,null,null,null,"","",{"$f":"IF(OR(\nOR(AND(D4450<>\"\",F4450=\"\"),AND(E4450<>\"\",F4450=\"\")),\nF4450=LEFT(F4450,MIN(FIND(0,SUBSTITUTE(F4450,{1,2,3,4,5,6,7,8,9},0)&0))-1)=FALSE\n),\"Check\",\"\")","v":""},"","",null,"",0,"","","","",""]
["SBSA_4446","SBSA_4446",null,null,null,null,null,null,null,null,null,null,null,null,null,null,null,null,null,null,null,null,null,null,null,null,"","",{"$f":"IF(OR(\nOR(AND(D4455<>\"\",F4455=\"\"),AND(E4455<>\"\",F4455=\"\")),\nF4455=LEFT(F4455,MIN(FIND(0,SUBSTITUTE(F4455,{1,2,3,4,5,6,7,8,9},0)&0))-1)=FALSE\n),\"Check\",\"\")","v":""},"","",null,"",0,"","","","",""]
["SBSA_4447","SBSA_4447",null,null,null,null,null,null,null,null,null,null,null,null,null,null,null,null,null,null,null,null,null,null,null,null,"","",{"$f":"IF(OR(\nOR(AND(D4456<>\"\",F4456=\"\"),AND(E4456<>\"\",F4456=\"\")),\nF4456=LEFT(F4456,MIN(FIND(0,SUBSTITUTE(F4456,{1,2,3,4,5,6,7,8,9},0)&0))-1)=FALSE\n),\"Check\",\"\")","v":""},"","",null,"",0,"","","","",""]
["SBSA_4452","SBSA_4452",null,null,null,null,null,null,null,null,null,null,null,null,null,null,null,null,null,null,null,null,null,null,null,null,{"$f":"IF(AND(C4461=\"\",OR(D4461<>\"\",E4461<>\"\",F4461<>\"\",G4461<>\"\")),\"Check\",\"\")","v":""},{"$f":"IF(AND(C4461<>\"\",OR(AND(D4461=\"\",E4461=\"\"),AND(D4461=0,E4461=0),AND(ABS(D4461)>0,ABS(E4461)>0))),\"Check\",\"\")","v":""},{"$f":"IF(OR(\nOR(AND(D4461<>\"\",F4461=\"\"),AND(E4461<>\"\",F4461=\"\")),\nF4461=LEFT(F4461,MIN(FIND(0,SUBSTITUTE(F4461,{1,2,3,4,5,6,7,8,9},0)&0))-1)=FALSE\n),\"Check\",\"\")","v":""},{"$f":"IF(OR(E4461=\"\",G4461=\"\"),\"\",(E4461*G4461)/100)","v":""},{"$f":"IF(AND(F4461<>\"\",G4461=\"\"),\"Check\",\"\")","v":""},null,{"$f":"IF(C4461=\"\",\"\",C4461&\"_\"&IF(G4461=\"\",0,G4461))","v":""},{"$f":"IF(COUNTBLANK(C4461:G4461)<5,1,0)","v":0},{"$f":"IF(C4461=\"\",\"\",IF(LEN(C4461)=12,\"\",\"Check\"))","v":""},{"$f":"IF(C4461=\"\",\"\",IF(COUNTIF(C$10:C$65536,C4461)=COUNTIF(AG$10:AG$65536,AG4461),\"\",\"Check\"))","v":""},{"$f":"IF(F4461=\"\",\"\",IF(LEN(F4461)=3,\"\",\"Check\"))","v":""},{"$f":"IF(OR(IF(D4461=\"\",\"\",IF(ISNUMBER(D4461)=TRUE,\"\",\"TEXT\"))=\"TEXT\",IF(E4461=\"\",\"\",IF(ISNUMBER(E4461)=TRUE,\"\",\"TEXT\"))=\"TEXT\",IF(G4461=\"\",\"\",IF(ISNUMBER(G4461)=TRUE,\"\",\"TEXT\"))=\"TEXT\"),\"Check\",\"\")","v":""},{"$f":"IF(G4461<0,\"Check\",\"\")","v":""}]
["SBSA_4456","SBSA_4456",null,null,null,null,null,null,null,null,null,null,null,null,null,null,null,null,null,null,null,null,null,null,null,null,"","",{"$f":"IF(OR(\nOR(AND(D4465<>\"\",F4465=\"\"),AND(E4465<>\"\",F4465=\"\")),\nF4465=LEFT(F4465,MIN(FIND(0,SUBSTITUTE(F4465,{1,2,3,4,5,6,7,8,9},0)&0))-1)=FALSE\n),\"Check\",\"\")","v":""},"","",null,"",0,"","","","",""]
["SBSA_4461","SBSA_4461",null,null,null,null,null,null,null,null,null,null,null,null,null,null,null,null,null,null,null,null,null,null,null,null,"","",{"$f":"IF(OR(\nOR(AND(D4470<>\"\",F4470=\"\"),AND(E4470<>\"\",F4470=\"\")),\nF4470=LEFT(F4470,MIN(FIND(0,SUBSTITUTE(F4470,{1,2,3,4,5,6,7,8,9},0)&0))-1)=FALSE\n),\"Check\",\"\")","v":""},"","",null,"",0,"","","","",""]
["SBSA_4462","SBSA_4462",null,null,null,null,null,null,null,null,null,null,null,null,null,null,null,null,null,null,null,null,null,null,null,null,"","",{"$f":"IF(OR(\nOR(AND(D4471<>\"\",F4471=\"\"),AND(E4471<>\"\",F4471=\"\")),\nF4471=LEFT(F4471,MIN(FIND(0,SUBSTITUTE(F4471,{1,2,3,4,5,6,7,8,9},0)&0))-1)=FALSE\n),\"Check\",\"\")","v":""},"","",null,"",0,"","","","",""]
["SBSA_4467","SBSA_4467",null,null,null,null,null,null,null,null,null,null,null,null,null,null,null,null,null,null,null,null,null,null,null,null,"","",{"$f":"IF(OR(\nOR(AND(D4476<>\"\",F4476=\"\"),AND(E4476<>\"\",F4476=\"\")),\nF4476=LEFT(F4476,MIN(FIND(0,SUBSTITUTE(F4476,{1,2,3,4,5,6,7,8,9},0)&0))-1)=FALSE\n),\"Check\",\"\")","v":""},"","",null,"",0,"","","","",""]
["SBSA_4470","SBSA_4470",null,null,null,null,null,null,null,null,null,null,null,null,null,null,null,null,null,null,null,null,null,null,null,null,"","",{"$f":"IF(OR(\nOR(AND(D4479<>\"\",F4479=\"\"),AND(E4479<>\"\",F4479=\"\")),\nF4479=LEFT(F4479,MIN(FIND(0,SUBSTITUTE(F4479,{1,2,3,4,5,6,7,8,9},0)&0))-1)=FALSE\n),\"Check\",\"\")","v":""},"","",null,"",0,"","","","",""]
["SBSA_4476","SBSA_4476",null,null,null,null,null,null,null,null,null,null,null,null,null,null,null,null,null,null,null,null,null,null,null,null,"","",{"$f":"IF(OR(\nOR(AND(D4485<>\"\",F4485=\"\"),AND(E4485<>\"\",F4485=\"\")),\nF4485=LEFT(F4485,MIN(FIND(0,SUBSTITUTE(F4485,{1,2,3,4,5,6,7,8,9},0)&0))-1)=FALSE\n),\"Check\",\"\")","v":""},"","",null,"",0,"","","","",""]
["SBSA_4477","SBSA_4477",null,null,null,null,null,null,null,null,null,null,null,null,null,null,null,null,null,null,null,null,null,null,null,null,"","",{"$f":"IF(OR(\nOR(AND(D4486<>\"\",F4486=\"\"),AND(E4486<>\"\",F4486=\"\")),\nF4486=LEFT(F4486,MIN(FIND(0,SUBSTITUTE(F4486,{1,2,3,4,5,6,7,8,9},0)&0))-1)=FALSE\n),\"Check\",\"\")","v":""},"","",null,"",0,"","","","",""]
["SBSA_4482","SBSA_4482",null,null,null,null,null,null,null,null,null,null,null,null,null,null,null,null,null,null,null,null,null,null,null,null,"","",{"$f":"IF(OR(\nOR(AND(D4491<>\"\",F4491=\"\"),AND(E4491<>\"\",F4491=\"\")),\nF4491=LEFT(F4491,MIN(FIND(0,SUBSTITUTE(F4491,{1,2,3,4,5,6,7,8,9},0)&0))-1)=FALSE\n),\"Check\",\"\")","v":""},"","",null,"",0,"","","","",""]
["SBSA_4486","SBSA_4486",null,null,null,null,null,null,null,null,null,null,null,null,null,null,null,null,null,null,null,null,null,null,null,null,"","",{"$f":"IF(OR(\nOR(AND(D4495<>\"\",F4495=\"\"),AND(E4495<>\"\",F4495=\"\")),\nF4495=LEFT(F4495,MIN(FIND(0,SUBSTITUTE(F4495,{1,2,3,4,5,6,7,8,9},0)&0))-1)=FALSE\n),\"Check\",\"\")","v":""},"","",null,"",0,"","","","",""]
["SBSA_4491","SBSA_4491",null,null,null,null,null,null,null,null,null,null,null,null,null,null,null,null,null,null,null,null,null,null,null,null,"","",{"$f":"IF(OR(\nOR(AND(D4500<>\"\",F4500=\"\"),AND(E4500<>\"\",F4500=\"\")),\nF4500=LEFT(F4500,MIN(FIND(0,SUBSTITUTE(F4500,{1,2,3,4,5,6,7,8,9},0)&0))-1)=FALSE\n),\"Check\",\"\")","v":""},"","",null,"",0,"","","","",""]
["SBSA_4492","SBSA_4492",null,null,null,null,null,null,null,null,null,null,null,null,null,null,null,null,null,null,null,null,null,null,null,null,"","",{"$f":"IF(OR(\nOR(AND(D4501<>\"\",F4501=\"\"),AND(E4501<>\"\",F4501=\"\")),\nF4501=LEFT(F4501,MIN(FIND(0,SUBSTITUTE(F4501,{1,2,3,4,5,6,7,8,9},0)&0))-1)=FALSE\n),\"Check\",\"\")","v":""},"","",null,"",0,"","","","",""]
["SBSA_4497","SBSA_4497",null,null,null,null,null,null,null,null,null,null,null,null,null,null,null,null,null,null,null,null,null,null,null,null,"","",{"$f":"IF(OR(\nOR(AND(D4506<>\"\",F4506=\"\"),AND(E4506<>\"\",F4506=\"\")),\nF4506=LEFT(F4506,MIN(FIND(0,SUBSTITUTE(F4506,{1,2,3,4,5,6,7,8,9},0)&0))-1)=FALSE\n),\"Check\",\"\")","v":""},"","",null,"",0,"","","","",""]
["SBSA_4500","SBSA_4500",null,null,null,null,null,null,null,null,null,null,null,null,null,null,null,null,null,null,null,null,null,null,null,null,"","",{"$f":"IF(OR(\nOR(AND(D4509<>\"\",F4509=\"\"),AND(E4509<>\"\",F4509=\"\")),\nF4509=LEFT(F4509,MIN(FIND(0,SUBSTITUTE(F4509,{1,2,3,4,5,6,7,8,9},0)&0))-1)=FALSE\n),\"Check\",\"\")","v":""},"","",null,"",0,"","","","",""]
["SBSA_4506","SBSA_4506",null,null,null,null,null,null,null,null,null,null,null,null,null,null,null,null,null,null,null,null,null,null,null,null,"","",{"$f":"IF(OR(\nOR(AND(D4515<>\"\",F4515=\"\"),AND(E4515<>\"\",F4515=\"\")),\nF4515=LEFT(F4515,MIN(FIND(0,SUBSTITUTE(F4515,{1,2,3,4,5,6,7,8,9},0)&0))-1)=FALSE\n),\"Check\",\"\")","v":""},"","",null,"",0,"","","","",""]
["SBSA_4507","SBSA_4507",null,null,null,null,null,null,null,null,null,null,null,null,null,null,null,null,null,null,null,null,null,null,null,null,"","",{"$f":"IF(OR(\nOR(AND(D4516<>\"\",F4516=\"\"),AND(E4516<>\"\",F4516=\"\")),\nF4516=LEFT(F4516,MIN(FIND(0,SUBSTITUTE(F4516,{1,2,3,4,5,6,7,8,9},0)&0))-1)=FALSE\n),\"Check\",\"\")","v":""},"","",null,"",0,"","","","",""]
["SBSA_4512","SBSA_4512",null,null,null,null,null,null,null,null,null,null,null,null,null,null,null,null,null,null,null,null,null,null,null,null,"","",{"$f":"IF(OR(\nOR(AND(D4521<>\"\",F4521=\"\"),AND(E4521<>\"\",F4521=\"\")),\nF4521=LEFT(F4521,MIN(FIND(0,SUBSTITUTE(F4521,{1,2,3,4,5,6,7,8,9},0)&0))-1)=FALSE\n),\"Check\",\"\")","v":""},"","",null,"",0,"","","","",""]
["SBSA_4516","SBSA_4516",null,null,null,null,null,null,null,null,null,null,null,null,null,null,null,null,null,null,null,null,null,null,null,null,{"$f":"IF(AND(C4525=\"\",OR(D4525<>\"\",E4525<>\"\",F4525<>\"\",G4525<>\"\")),\"Check\",\"\")","v":""},{"$f":"IF(AND(C4525<>\"\",OR(AND(D4525=\"\",E4525=\"\"),AND(D4525=0,E4525=0),AND(ABS(D4525)>0,ABS(E4525)>0))),\"Check\",\"\")","v":""},{"$f":"IF(OR(\nOR(AND(D4525<>\"\",F4525=\"\"),AND(E4525<>\"\",F4525=\"\")),\nF4525=LEFT(F4525,MIN(FIND(0,SUBSTITUTE(F4525,{1,2,3,4,5,6,7,8,9},0)&0))-1)=FALSE\n),\"Check\",\"\")","v":""},{"$f":"IF(OR(E4525=\"\",G4525=\"\"),\"\",(E4525*G4525)/100)","v":""},{"$f":"IF(AND(F4525<>\"\",G4525=\"\"),\"Check\",\"\")","v":""},null,{"$f":"IF(C4525=\"\",\"\",C4525&\"_\"&IF(G4525=\"\",0,G4525))","v":""},{"$f":"IF(COUNTBLANK(C4525:G4525)<5,1,0)","v":0},{"$f":"IF(C4525=\"\",\"\",IF(LEN(C4525)=12,\"\",\"Check\"))","v":""},{"$f":"IF(C4525=\"\",\"\",IF(COUNTIF(C$10:C$65536,C4525)=COUNTIF(AG$10:AG$65536,AG4525),\"\",\"Check\"))","v":""},{"$f":"IF(F4525=\"\",\"\",IF(LEN(F4525)=3,\"\",\"Check\"))","v":""},{"$f":"IF(OR(IF(D4525=\"\",\"\",IF(ISNUMBER(D4525)=TRUE,\"\",\"TEXT\"))=\"TEXT\",IF(E4525=\"\",\"\",IF(ISNUMBER(E4525)=TRUE,\"\",\"TEXT\"))=\"TEXT\",IF(G4525=\"\",\"\",IF(ISNUMBER(G4525)=TRUE,\"\",\"TEXT\"))=\"TEXT\"),\"Check\",\"\")","v":""},{"$f":"IF(G4525<0,\"Check\",\"\")","v":""}]
["SBSA_4521","SBSA_4521",null,null,null,null,null,null,null,null,null,null,null,null,null,null,null,null,null,null,null,null,null,null,null,null,"","",{"$f":"IF(OR(\nOR(AND(D4530<>\"\",F4530=\"\"),AND(E4530<>\"\",F4530=\"\")),\nF4530=LEFT(F4530,MIN(FIND(0,SUBSTITUTE(F4530,{1,2,3,4,5,6,7,8,9},0)&0))-1)=FALSE\n),\"Check\",\"\")","v":""},"","",null,"",0,"","","","",""]
["SBSA_4522","SBSA_4522",null,null,null,null,null,null,null,null,null,null,null,null,null,null,null,null,null,null,null,null,null,null,null,null,"","",{"$f":"IF(OR(\nOR(AND(D4531<>\"\",F4531=\"\"),AND(E4531<>\"\",F4531=\"\")),\nF4531=LEFT(F4531,MIN(FIND(0,SUBSTITUTE(F4531,{1,2,3,4,5,6,7,8,9},0)&0))-1)=FALSE\n),\"Check\",\"\")","v":""},"","",null,"",0,"","","","",""]
["SBSA_4527","SBSA_4527",null,null,null,null,null,null,null,null,null,null,null,null,null,null,null,null,null,null,null,null,null,null,null,null,"","",{"$f":"IF(OR(\nOR(AND(D4536<>\"\",F4536=\"\"),AND(E4536<>\"\",F4536=\"\")),\nF4536=LEFT(F4536,MIN(FIND(0,SUBSTITUTE(F4536,{1,2,3,4,5,6,7,8,9},0)&0))-1)=FALSE\n),\"Check\",\"\")","v":""},"","",null,"",0,"","","","",""]
["SBSA_4530","SBSA_4530",null,null,null,null,null,null,null,null,null,null,null,null,null,null,null,null,null,null,null,null,null,null,null,null,"","",{"$f":"IF(OR(\nOR(AND(D4539<>\"\",F4539=\"\"),AND(E4539<>\"\",F4539=\"\")),\nF4539=LEFT(F4539,MIN(FIND(0,SUBSTITUTE(F4539,{1,2,3,4,5,6,7,8,9},0)&0))-1)=FALSE\n),\"Check\",\"\")","v":""},"","",null,"",0,"","","","",""]
["SBSA_4536","SBSA_4536",null,null,null,null,null,null,null,null,null,null,null,null,null,null,null,null,null,null,null,null,null,null,null,null,"","",{"$f":"IF(OR(\nOR(AND(D4545<>\"\",F4545=\"\"),AND(E4545<>\"\",F4545=\"\")),\nF4545=LEFT(F4545,MIN(FIND(0,SUBSTITUTE(F4545,{1,2,3,4,5,6,7,8,9},0)&0))-1)=FALSE\n),\"Check\",\"\")","v":""},"","",null,"",0,"","","","",""]
["SBSA_4537","SBSA_4537",null,null,null,null,null,null,null,null,null,null,null,null,null,null,null,null,null,null,null,null,null,null,null,null,"","",{"$f":"IF(OR(\nOR(AND(D4546<>\"\",F4546=\"\"),AND(E4546<>\"\",F4546=\"\")),\nF4546=LEFT(F4546,MIN(FIND(0,SUBSTITUTE(F4546,{1,2,3,4,5,6,7,8,9},0)&0))-1)=FALSE\n),\"Check\",\"\")","v":""},"","",null,"",0,"","","","",""]
["SBSA_4542","SBSA_4542",null,null,null,null,null,null,null,null,null,null,null,null,null,null,null,null,null,null,null,null,null,null,null,null,"","",{"$f":"IF(OR(\nOR(AND(D4551<>\"\",F4551=\"\"),AND(E4551<>\"\",F4551=\"\")),\nF4551=LEFT(F4551,MIN(FIND(0,SUBSTITUTE(F4551,{1,2,3,4,5,6,7,8,9},0)&0))-1)=FALSE\n),\"Check\",\"\")","v":""},"","",null,"",0,"","","","",""]
["SBSA_4546","SBSA_4546",null,null,null,null,null,null,null,null,null,null,null,null,null,null,null,null,null,null,null,null,null,null,null,null,"","",{"$f":"IF(OR(\nOR(AND(D4555<>\"\",F4555=\"\"),AND(E4555<>\"\",F4555=\"\")),\nF4555=LEFT(F4555,MIN(FIND(0,SUBSTITUTE(F4555,{1,2,3,4,5,6,7,8,9},0)&0))-1)=FALSE\n),\"Check\",\"\")","v":""},"","",null,"",0,"","","","",""]
["SBSA_4551","SBSA_4551",null,null,null,null,null,null,null,null,null,null,null,null,null,null,null,null,null,null,null,null,null,null,null,null,"","",{"$f":"IF(OR(\nOR(AND(D4560<>\"\",F4560=\"\"),AND(E4560<>\"\",F4560=\"\")),\nF4560=LEFT(F4560,MIN(FIND(0,SUBSTITUTE(F4560,{1,2,3,4,5,6,7,8,9},0)&0))-1)=FALSE\n),\"Check\",\"\")","v":""},"","",null,"",0,"","","","",""]
["SBSA_4552","SBSA_4552",null,null,null,null,null,null,null,null,null,null,null,null,null,null,null,null,null,null,null,null,null,null,null,null,"","",{"$f":"IF(OR(\nOR(AND(D4561<>\"\",F4561=\"\"),AND(E4561<>\"\",F4561=\"\")),\nF4561=LEFT(F4561,MIN(FIND(0,SUBSTITUTE(F4561,{1,2,3,4,5,6,7,8,9},0)&0))-1)=FALSE\n),\"Check\",\"\")","v":""},"","",null,"",0,"","","","",""]
["SBSA_4557","SBSA_4557",null,null,null,null,null,null,null,null,null,null,null,null,null,null,null,null,null,null,null,null,null,null,null,null,"","",{"$f":"IF(OR(\nOR(AND(D4566<>\"\",F4566=\"\"),AND(E4566<>\"\",F4566=\"\")),\nF4566=LEFT(F4566,MIN(FIND(0,SUBSTITUTE(F4566,{1,2,3,4,5,6,7,8,9},0)&0))-1)=FALSE\n),\"Check\",\"\")","v":""},"","",null,"",0,"","","","",""]
["SBSA_4562","SBSA_4562",null,null,null,null,null,null,null,null,null,null,null,null,null,null,null,null,null,null,null,null,null,null,null,null,"","",{"$f":"IF(OR(\nOR(AND(D4571<>\"\",F4571=\"\"),AND(E4571<>\"\",F4571=\"\")),\nF4571=LEFT(F4571,MIN(FIND(0,SUBSTITUTE(F4571,{1,2,3,4,5,6,7,8,9},0)&0))-1)=FALSE\n),\"Check\",\"\")","v":""},"","",null,"",0,"","","","",""]
["SBSA_4564","SBSA_4564",null,null,null,null,null,null,null,null,null,null,null,null,null,null,null,null,null,null,null,null,null,null,null,null,"","",{"$f":"IF(OR(\nOR(AND(D4573<>\"\",F4573=\"\"),AND(E4573<>\"\",F4573=\"\")),\nF4573=LEFT(F4573,MIN(FIND(0,SUBSTITUTE(F4573,{1,2,3,4,5,6,7,8,9},0)&0))-1)=FALSE\n),\"Check\",\"\")","v":""},"","",null,"",0,"","","","",""]
["SBSA_4567","SBSA_4567",null,null,null,null,null,null,null,null,null,null,null,null,null,null,null,null,null,null,null,null,null,null,null,null,"","",{"$f":"IF(OR(\nOR(AND(D4576<>\"\",F4576=\"\"),AND(E4576<>\"\",F4576=\"\")),\nF4576=LEFT(F4576,MIN(FIND(0,SUBSTITUTE(F4576,{1,2,3,4,5,6,7,8,9},0)&0))-1)=FALSE\n),\"Check\",\"\")","v":""},"","",null,"",0,"","","","",""]
["SBSA_4572","SBSA_4572",null,null,null,null,null,null,null,null,null,null,null,null,null,null,null,null,null,null,null,null,null,null,null,null,"","",{"$f":"IF(OR(\nOR(AND(D4581<>\"\",F4581=\"\"),AND(E4581<>\"\",F4581=\"\")),\nF4581=LEFT(F4581,MIN(FIND(0,SUBSTITUTE(F4581,{1,2,3,4,5,6,7,8,9},0)&0))-1)=FALSE\n),\"Check\",\"\")","v":""},"","",null,"",0,"","","","",""]
["SBSA_4577","SBSA_4577",null,null,null,null,null,null,null,null,null,null,null,null,null,null,null,null,null,null,null,null,null,null,null,null,"","",{"$f":"IF(OR(\nOR(AND(D4586<>\"\",F4586=\"\"),AND(E4586<>\"\",F4586=\"\")),\nF4586=LEFT(F4586,MIN(FIND(0,SUBSTITUTE(F4586,{1,2,3,4,5,6,7,8,9},0)&0))-1)=FALSE\n),\"Check\",\"\")","v":""},"","",null,"",0,"","","","",""]
["SBSA_4581","SBSA_4581",null,null,null,null,null,null,null,null,null,null,null,null,null,null,null,null,null,null,null,null,null,null,null,null,"","",{"$f":"IF(OR(\nOR(AND(D4590<>\"\",F4590=\"\"),AND(E4590<>\"\",F4590=\"\")),\nF4590=LEFT(F4590,MIN(FIND(0,SUBSTITUTE(F4590,{1,2,3,4,5,6,7,8,9},0)&0))-1)=FALSE\n),\"Check\",\"\")","v":""},"","",null,"",0,"","","","",""]
["SBSA_4582","SBSA_4582",null,null,null,null,null,null,null,null,null,null,null,null,null,null,null,null,null,null,null,null,null,null,null,null,"","",{"$f":"IF(OR(\nOR(AND(D4591<>\"\",F4591=\"\"),AND(E4591<>\"\",F4591=\"\")),\nF4591=LEFT(F4591,MIN(FIND(0,SUBSTITUTE(F4591,{1,2,3,4,5,6,7,8,9},0)&0))-1)=FALSE\n),\"Check\",\"\")","v":""},"","",null,"",0,"","","","",""]
["SBSA_4587","SBSA_4587",null,null,null,null,null,null,null,null,null,null,null,null,null,null,null,null,null,null,null,null,null,null,null,null,"","",{"$f":"IF(OR(\nOR(AND(D4596<>\"\",F4596=\"\"),AND(E4596<>\"\",F4596=\"\")),\nF4596=LEFT(F4596,MIN(FIND(0,SUBSTITUTE(F4596,{1,2,3,4,5,6,7,8,9},0)&0))-1)=FALSE\n),\"Check\",\"\")","v":""},"","",null,"",0,"","","","",""]
["SBSA_4592","SBSA_4592",null,null,null,null,null,null,null,null,null,null,null,null,null,null,null,null,null,null,null,null,null,null,null,null,"","",{"$f":"IF(OR(\nOR(AND(D4601<>\"\",F4601=\"\"),AND(E4601<>\"\",F4601=\"\")),\nF4601=LEFT(F4601,MIN(FIND(0,SUBSTITUTE(F4601,{1,2,3,4,5,6,7,8,9},0)&0))-1)=FALSE\n),\"Check\",\"\")","v":""},"","",null,"",0,"","","","",""]
["SBSA_4594","SBSA_4594",null,null,null,null,null,null,null,null,null,null,null,null,null,null,null,null,null,null,null,null,null,null,null,null,"","",{"$f":"IF(OR(\nOR(AND(D4603<>\"\",F4603=\"\"),AND(E4603<>\"\",F4603=\"\")),\nF4603=LEFT(F4603,MIN(FIND(0,SUBSTITUTE(F4603,{1,2,3,4,5,6,7,8,9},0)&0))-1)=FALSE\n),\"Check\",\"\")","v":""},"","",null,"",0,"","","","",""]
["SBSA_4597","SBSA_4597",null,null,null,null,null,null,null,null,null,null,null,null,null,null,null,null,null,null,null,null,null,null,null,null,"","",{"$f":"IF(OR(\nOR(AND(D4606<>\"\",F4606=\"\"),AND(E4606<>\"\",F4606=\"\")),\nF4606=LEFT(F4606,MIN(FIND(0,SUBSTITUTE(F4606,{1,2,3,4,5,6,7,8,9},0)&0))-1)=FALSE\n),\"Check\",\"\")","v":""},"","",null,"",0,"","","","",""]
["SBSA_4602","SBSA_4602",null,null,null,null,null,null,null,null,null,null,null,null,null,null,null,null,null,null,null,null,null,null,null,null,"","",{"$f":"IF(OR(\nOR(AND(D4611<>\"\",F4611=\"\"),AND(E4611<>\"\",F4611=\"\")),\nF4611=LEFT(F4611,MIN(FIND(0,SUBSTITUTE(F4611,{1,2,3,4,5,6,7,8,9},0)&0))-1)=FALSE\n),\"Check\",\"\")","v":""},"","",null,"",0,"","","","",""]
["SBSA_4607","SBSA_4607",null,null,null,null,null,null,null,null,null,null,null,null,null,null,null,null,null,null,null,null,null,null,null,null,"","",{"$f":"IF(OR(\nOR(AND(D4616<>\"\",F4616=\"\"),AND(E4616<>\"\",F4616=\"\")),\nF4616=LEFT(F4616,MIN(FIND(0,SUBSTITUTE(F4616,{1,2,3,4,5,6,7,8,9},0)&0))-1)=FALSE\n),\"Check\",\"\")","v":""},"","",null,"",0,"","","","",""]
["SBSA_4611","SBSA_4611",null,null,null,null,null,null,null,null,null,null,null,null,null,null,null,null,null,null,null,null,null,null,null,null,"","",{"$f":"IF(OR(\nOR(AND(D4620<>\"\",F4620=\"\"),AND(E4620<>\"\",F4620=\"\")),\nF4620=LEFT(F4620,MIN(FIND(0,SUBSTITUTE(F4620,{1,2,3,4,5,6,7,8,9},0)&0))-1)=FALSE\n),\"Check\",\"\")","v":""},"","",null,"",0,"","","","",""]
["SBSA_4612","SBSA_4612",null,null,null,null,null,null,null,null,null,null,null,null,null,null,null,null,null,null,null,null,null,null,null,null,"","",{"$f":"IF(OR(\nOR(AND(D4621<>\"\",F4621=\"\"),AND(E4621<>\"\",F4621=\"\")),\nF4621=LEFT(F4621,MIN(FIND(0,SUBSTITUTE(F4621,{1,2,3,4,5,6,7,8,9},0)&0))-1)=FALSE\n),\"Check\",\"\")","v":""},"","",null,"",0,"","","","",""]
["SBSA_4617","SBSA_4617",null,null,null,null,null,null,null,null,null,null,null,null,null,null,null,null,null,null,null,null,null,null,null,null,"","",{"$f":"IF(OR(\nOR(AND(D4626<>\"\",F4626=\"\"),AND(E4626<>\"\",F4626=\"\")),\nF4626=LEFT(F4626,MIN(FIND(0,SUBSTITUTE(F4626,{1,2,3,4,5,6,7,8,9},0)&0))-1)=FALSE\n),\"Check\",\"\")","v":""},"","",null,"",0,"","","","",""]
["SBSA_4622","SBSA_4622",null,null,null,null,null,null,null,null,null,null,null,null,null,null,null,null,null,null,null,null,null,null,null,null,"","",{"$f":"IF(OR(\nOR(AND(D4631<>\"\",F4631=\"\"),AND(E4631<>\"\",F4631=\"\")),\nF4631=LEFT(F4631,MIN(FIND(0,SUBSTITUTE(F4631,{1,2,3,4,5,6,7,8,9},0)&0))-1)=FALSE\n),\"Check\",\"\")","v":""},"","",null,"",0,"","","","",""]
["SBSA_4624","SBSA_4624",null,null,null,null,null,null,null,null,null,null,null,null,null,null,null,null,null,null,null,null,null,null,null,null,"","",{"$f":"IF(OR(\nOR(AND(D4633<>\"\",F4633=\"\"),AND(E4633<>\"\",F4633=\"\")),\nF4633=LEFT(F4633,MIN(FIND(0,SUBSTITUTE(F4633,{1,2,3,4,5,6,7,8,9},0)&0))-1)=FALSE\n),\"Check\",\"\")","v":""},"","",null,"",0,"","","","",""]
["SBSA_4627","SBSA_4627",null,null,null,null,null,null,null,null,null,null,null,null,null,null,null,null,null,null,null,null,null,null,null,null,"","",{"$f":"IF(OR(\nOR(AND(D4636<>\"\",F4636=\"\"),AND(E4636<>\"\",F4636=\"\")),\nF4636=LEFT(F4636,MIN(FIND(0,SUBSTITUTE(F4636,{1,2,3,4,5,6,7,8,9},0)&0))-1)=FALSE\n),\"Check\",\"\")","v":""},"","",null,"",0,"","","","",""]
["SBSA_4632","SBSA_4632",null,null,null,null,null,null,null,null,null,null,null,null,null,null,null,null,null,null,null,null,null,null,null,null,"","",{"$f":"IF(OR(\nOR(AND(D4641<>\"\",F4641=\"\"),AND(E4641<>\"\",F4641=\"\")),\nF4641=LEFT(F4641,MIN(FIND(0,SUBSTITUTE(F4641,{1,2,3,4,5,6,7,8,9},0)&0))-1)=FALSE\n),\"Check\",\"\")","v":""},"","",null,"",0,"","","","",""]
["SBSA_4637","SBSA_4637",null,null,null,null,null,null,null,null,null,null,null,null,null,null,null,null,null,null,null,null,null,null,null,null,"","",{"$f":"IF(OR(\nOR(AND(D4646<>\"\",F4646=\"\"),AND(E4646<>\"\",F4646=\"\")),\nF4646=LEFT(F4646,MIN(FIND(0,SUBSTITUTE(F4646,{1,2,3,4,5,6,7,8,9},0)&0))-1)=FALSE\n),\"Check\",\"\")","v":""},"","",null,"",0,"","","","",""]
["SBSA_4641","SBSA_4641",null,null,null,null,null,null,null,null,null,null,null,null,null,null,null,null,null,null,null,null,null,null,null,null,"","",{"$f":"IF(OR(\nOR(AND(D4650<>\"\",F4650=\"\"),AND(E4650<>\"\",F4650=\"\")),\nF4650=LEFT(F4650,MIN(FIND(0,SUBSTITUTE(F4650,{1,2,3,4,5,6,7,8,9},0)&0))-1)=FALSE\n),\"Check\",\"\")","v":""},"","",null,"",0,"","","","",""]
["SBSA_4642","SBSA_4642",null,null,null,null,null,null,null,null,null,null,null,null,null,null,null,null,null,null,null,null,null,null,null,null,"","",{"$f":"IF(OR(\nOR(AND(D4651<>\"\",F4651=\"\"),AND(E4651<>\"\",F4651=\"\")),\nF4651=LEFT(F4651,MIN(FIND(0,SUBSTITUTE(F4651,{1,2,3,4,5,6,7,8,9},0)&0))-1)=FALSE\n),\"Check\",\"\")","v":""},"","",null,"",0,"","","","",""]
["SBSA_4647","SBSA_4647",null,null,null,null,null,null,null,null,null,null,null,null,null,null,null,null,null,null,null,null,null,null,null,null,"","",{"$f":"IF(OR(\nOR(AND(D4656<>\"\",F4656=\"\"),AND(E4656<>\"\",F4656=\"\")),\nF4656=LEFT(F4656,MIN(FIND(0,SUBSTITUTE(F4656,{1,2,3,4,5,6,7,8,9},0)&0))-1)=FALSE\n),\"Check\",\"\")","v":""},"","",null,"",0,"","","","",""]
["SBSA_4652","SBSA_4652",null,null,null,null,null,null,null,null,null,null,null,null,null,null,null,null,null,null,null,null,null,null,null,null,"","",{"$f":"IF(OR(\nOR(AND(D4661<>\"\",F4661=\"\"),AND(E4661<>\"\",F4661=\"\")),\nF4661=LEFT(F4661,MIN(FIND(0,SUBSTITUTE(F4661,{1,2,3,4,5,6,7,8,9},0)&0))-1)=FALSE\n),\"Check\",\"\")","v":""},"","",null,"",0,"","","","",""]
["SBSA_4657","SBSA_4657",null,null,null,null,null,null,null,null,null,null,null,null,null,null,null,null,null,null,null,null,null,null,null,null,"","",{"$f":"IF(OR(\nOR(AND(D4666<>\"\",F4666=\"\"),AND(E4666<>\"\",F4666=\"\")),\nF4666=LEFT(F4666,MIN(FIND(0,SUBSTITUTE(F4666,{1,2,3,4,5,6,7,8,9},0)&0))-1)=FALSE\n),\"Check\",\"\")","v":""},"","",null,"",0,"","","","",""]
["SBSA_4659","SBSA_4659",null,null,null,null,null,null,null,null,null,null,null,null,null,null,null,null,null,null,null,null,null,null,null,null,"","",{"$f":"IF(OR(\nOR(AND(D4668<>\"\",F4668=\"\"),AND(E4668<>\"\",F4668=\"\")),\nF4668=LEFT(F4668,MIN(FIND(0,SUBSTITUTE(F4668,{1,2,3,4,5,6,7,8,9},0)&0))-1)=FALSE\n),\"Check\",\"\")","v":""},"","",null,"",0,"","","","",""]
["SBSA_4662","SBSA_4662",null,null,null,null,null,null,null,null,null,null,null,null,null,null,null,null,null,null,null,null,null,null,null,null,"","",{"$f":"IF(OR(\nOR(AND(D4671<>\"\",F4671=\"\"),AND(E4671<>\"\",F4671=\"\")),\nF4671=LEFT(F4671,MIN(FIND(0,SUBSTITUTE(F4671,{1,2,3,4,5,6,7,8,9},0)&0))-1)=FALSE\n),\"Check\",\"\")","v":""},"","",null,"",0,"","","","",""]
["SBSA_4667","SBSA_4667",null,null,null,null,null,null,null,null,null,null,null,null,null,null,null,null,null,null,null,null,null,null,null,null,"","",{"$f":"IF(OR(\nOR(AND(D4676<>\"\",F4676=\"\"),AND(E4676<>\"\",F4676=\"\")),\nF4676=LEFT(F4676,MIN(FIND(0,SUBSTITUTE(F4676,{1,2,3,4,5,6,7,8,9},0)&0))-1)=FALSE\n),\"Check\",\"\")","v":""},"","",null,"",0,"","","","",""]
["SBSA_4672","SBSA_4672",null,null,null,null,null,null,null,null,null,null,null,null,null,null,null,null,null,null,null,null,null,null,null,null,"","",{"$f":"IF(OR(\nOR(AND(D4681<>\"\",F4681=\"\"),AND(E4681<>\"\",F4681=\"\")),\nF4681=LEFT(F4681,MIN(FIND(0,SUBSTITUTE(F4681,{1,2,3,4,5,6,7,8,9},0)&0))-1)=FALSE\n),\"Check\",\"\")","v":""},"","",null,"",0,"","","","",""]
["SBSA_4675","SBSA_4675",null,null,null,null,null,null,null,null,null,null,null,null,null,null,null,null,null,null,null,null,null,null,null,null,"","",{"$f":"IF(OR(\nOR(AND(D4684<>\"\",F4684=\"\"),AND(E4684<>\"\",F4684=\"\")),\nF4684=LEFT(F4684,MIN(FIND(0,SUBSTITUTE(F4684,{1,2,3,4,5,6,7,8,9},0)&0))-1)=FALSE\n),\"Check\",\"\")","v":""},"","",null,"",0,"","","","",""]
["SBSA_4677","SBSA_4677",null,null,null,null,null,null,null,null,null,null,null,null,null,null,null,null,null,null,null,null,null,null,null,null,"","",{"$f":"IF(OR(\nOR(AND(D4686<>\"\",F4686=\"\"),AND(E4686<>\"\",F4686=\"\")),\nF4686=LEFT(F4686,MIN(FIND(0,SUBSTITUTE(F4686,{1,2,3,4,5,6,7,8,9},0)&0))-1)=FALSE\n),\"Check\",\"\")","v":""},"","",null,"",0,"","","","",""]
["SBSA_4682","SBSA_4682",null,null,null,null,null,null,null,null,null,null,null,null,null,null,null,null,null,null,null,null,null,null,null,null,"","",{"$f":"IF(OR(\nOR(AND(D4691<>\"\",F4691=\"\"),AND(E4691<>\"\",F4691=\"\")),\nF4691=LEFT(F4691,MIN(FIND(0,SUBSTITUTE(F4691,{1,2,3,4,5,6,7,8,9},0)&0))-1)=FALSE\n),\"Check\",\"\")","v":""},"","",null,"",0,"","","","",""]
["SBSA_4687","SBSA_4687",null,null,null,null,null,null,null,null,null,null,null,null,null,null,null,null,null,null,null,null,null,null,null,null,"","",{"$f":"IF(OR(\nOR(AND(D4696<>\"\",F4696=\"\"),AND(E4696<>\"\",F4696=\"\")),\nF4696=LEFT(F4696,MIN(FIND(0,SUBSTITUTE(F4696,{1,2,3,4,5,6,7,8,9},0)&0))-1)=FALSE\n),\"Check\",\"\")","v":""},"","",null,"",0,"","","","",""]
["SBSA_4689","SBSA_4689",null,null,null,null,null,null,null,null,null,null,null,null,null,null,null,null,null,null,null,null,null,null,null,null,"","",{"$f":"IF(OR(\nOR(AND(D4698<>\"\",F4698=\"\"),AND(E4698<>\"\",F4698=\"\")),\nF4698=LEFT(F4698,MIN(FIND(0,SUBSTITUTE(F4698,{1,2,3,4,5,6,7,8,9},0)&0))-1)=FALSE\n),\"Check\",\"\")","v":""},"","",null,"",0,"","","","",""]
["SBSA_4692","SBSA_4692",null,null,null,null,null,null,null,null,null,null,null,null,null,null,null,null,null,null,null,null,null,null,null,null,"","",{"$f":"IF(OR(\nOR(AND(D4701<>\"\",F4701=\"\"),AND(E4701<>\"\",F4701=\"\")),\nF4701=LEFT(F4701,MIN(FIND(0,SUBSTITUTE(F4701,{1,2,3,4,5,6,7,8,9},0)&0))-1)=FALSE\n),\"Check\",\"\")","v":""},"","",null,"",0,"","","","",""]
["SBSA_4697","SBSA_4697",null,null,null,null,null,null,null,null,null,null,null,null,null,null,null,null,null,null,null,null,null,null,null,null,"","",{"$f":"IF(OR(\nOR(AND(D4706<>\"\",F4706=\"\"),AND(E4706<>\"\",F4706=\"\")),\nF4706=LEFT(F4706,MIN(FIND(0,SUBSTITUTE(F4706,{1,2,3,4,5,6,7,8,9},0)&0))-1)=FALSE\n),\"Check\",\"\")","v":""},"","",null,"",0,"","","","",""]
["SBSA_4702","SBSA_4702",null,null,null,null,null,null,null,null,null,null,null,null,null,null,null,null,null,null,null,null,null,null,null,null,"","",{"$f":"IF(OR(\nOR(AND(D4711<>\"\",F4711=\"\"),AND(E4711<>\"\",F4711=\"\")),\nF4711=LEFT(F4711,MIN(FIND(0,SUBSTITUTE(F4711,{1,2,3,4,5,6,7,8,9},0)&0))-1)=FALSE\n),\"Check\",\"\")","v":""},"","",null,"",0,"","","","",""]
["SBSA_4703","SBSA_4703",null,null,null,null,null,null,null,null,null,null,null,null,null,null,null,null,null,null,null,null,null,null,null,null,"","",{"$f":"IF(OR(\nOR(AND(D4712<>\"\",F4712=\"\"),AND(E4712<>\"\",F4712=\"\")),\nF4712=LEFT(F4712,MIN(FIND(0,SUBSTITUTE(F4712,{1,2,3,4,5,6,7,8,9},0)&0))-1)=FALSE\n),\"Check\",\"\")","v":""},"","",null,"",0,"","","","",""]
["SBSA_4707","SBSA_4707",null,null,null,null,null,null,null,null,null,null,null,null,null,null,null,null,null,null,null,null,null,null,null,null,"","",{"$f":"IF(OR(\nOR(AND(D4716<>\"\",F4716=\"\"),AND(E4716<>\"\",F4716=\"\")),\nF4716=LEFT(F4716,MIN(FIND(0,SUBSTITUTE(F4716,{1,2,3,4,5,6,7,8,9},0)&0))-1)=FALSE\n),\"Check\",\"\")","v":""},"","",null,"",0,"","","","",""]
["SBSA_4712","SBSA_4712",null,null,null,null,null,null,null,null,null,null,null,null,null,null,null,null,null,null,null,null,null,null,null,null,"","",{"$f":"IF(OR(\nOR(AND(D4721<>\"\",F4721=\"\"),AND(E4721<>\"\",F4721=\"\")),\nF4721=LEFT(F4721,MIN(FIND(0,SUBSTITUTE(F4721,{1,2,3,4,5,6,7,8,9},0)&0))-1)=FALSE\n),\"Check\",\"\")","v":""},"","",null,"",0,"","","","",""]
["SBSA_4717","SBSA_4717",null,null,null,null,null,null,null,null,null,null,null,null,null,null,null,null,null,null,null,null,null,null,null,null,"","",{"$f":"IF(OR(\nOR(AND(D4726<>\"\",F4726=\"\"),AND(E4726<>\"\",F4726=\"\")),\nF4726=LEFT(F4726,MIN(FIND(0,SUBSTITUTE(F4726,{1,2,3,4,5,6,7,8,9},0)&0))-1)=FALSE\n),\"Check\",\"\")","v":""},"","",null,"",0,"","","","",""]
["SBSA_4719","SBSA_4719",null,null,null,null,null,null,null,null,null,null,null,null,null,null,null,null,null,null,null,null,null,null,null,null,"","",{"$f":"IF(OR(\nOR(AND(D4728<>\"\",F4728=\"\"),AND(E4728<>\"\",F4728=\"\")),\nF4728=LEFT(F4728,MIN(FIND(0,SUBSTITUTE(F4728,{1,2,3,4,5,6,7,8,9},0)&0))-1)=FALSE\n),\"Check\",\"\")","v":""},"","",null,"",0,"","","","",""]
["SBSA_4722","SBSA_4722",null,null,null,null,null,null,null,null,null,null,null,null,null,null,null,null,null,null,null,null,null,null,null,null,"","",{"$f":"IF(OR(\nOR(AND(D4731<>\"\",F4731=\"\"),AND(E4731<>\"\",F4731=\"\")),\nF4731=LEFT(F4731,MIN(FIND(0,SUBSTITUTE(F4731,{1,2,3,4,5,6,7,8,9},0)&0))-1)=FALSE\n),\"Check\",\"\")","v":""},"","",null,"",0,"","","","",""]
["SBSA_4727","SBSA_4727",null,null,null,null,null,null,null,null,null,null,null,null,null,null,null,null,null,null,null,null,null,null,null,null,"","",{"$f":"IF(OR(\nOR(AND(D4736<>\"\",F4736=\"\"),AND(E4736<>\"\",F4736=\"\")),\nF4736=LEFT(F4736,MIN(FIND(0,SUBSTITUTE(F4736,{1,2,3,4,5,6,7,8,9},0)&0))-1)=FALSE\n),\"Check\",\"\")","v":""},"","",null,"",0,"","","","",""]
["SBSA_4732","SBSA_4732",null,null,null,null,null,null,null,null,null,null,null,null,null,null,null,null,null,null,null,null,null,null,null,null,"","",{"$f":"IF(OR(\nOR(AND(D4741<>\"\",F4741=\"\"),AND(E4741<>\"\",F4741=\"\")),\nF4741=LEFT(F4741,MIN(FIND(0,SUBSTITUTE(F4741,{1,2,3,4,5,6,7,8,9},0)&0))-1)=FALSE\n),\"Check\",\"\")","v":""},"","",null,"",0,"","","","",""]
["SBSA_4733","SBSA_4733",null,null,null,null,null,null,null,null,null,null,null,null,null,null,null,null,null,null,null,null,null,null,null,null,"","",{"$f":"IF(OR(\nOR(AND(D4742<>\"\",F4742=\"\"),AND(E4742<>\"\",F4742=\"\")),\nF4742=LEFT(F4742,MIN(FIND(0,SUBSTITUTE(F4742,{1,2,3,4,5,6,7,8,9},0)&0))-1)=FALSE\n),\"Check\",\"\")","v":""},"","",null,"",0,"","","","",""]
["SBSA_4737","SBSA_4737",null,null,null,null,null,null,null,null,null,null,null,null,null,null,null,null,null,null,null,null,null,null,null,null,"","",{"$f":"IF(OR(\nOR(AND(D4746<>\"\",F4746=\"\"),AND(E4746<>\"\",F4746=\"\")),\nF4746=LEFT(F4746,MIN(FIND(0,SUBSTITUTE(F4746,{1,2,3,4,5,6,7,8,9},0)&0))-1)=FALSE\n),\"Check\",\"\")","v":""},"","",null,"",0,"","","","",""]
["SBSA_4742","SBSA_4742",null,null,null,null,null,null,null,null,null,null,null,null,null,null,null,null,null,null,null,null,null,null,null,null,"","",{"$f":"IF(OR(\nOR(AND(D4751<>\"\",F4751=\"\"),AND(E4751<>\"\",F4751=\"\")),\nF4751=LEFT(F4751,MIN(FIND(0,SUBSTITUTE(F4751,{1,2,3,4,5,6,7,8,9},0)&0))-1)=FALSE\n),\"Check\",\"\")","v":""},"","",null,"",0,"","","","",""]
["SBSA_4747","SBSA_4747",null,null,null,null,null,null,null,null,null,null,null,null,null,null,null,null,null,null,null,null,null,null,null,null,"","",{"$f":"IF(OR(\nOR(AND(D4756<>\"\",F4756=\"\"),AND(E4756<>\"\",F4756=\"\")),\nF4756=LEFT(F4756,MIN(FIND(0,SUBSTITUTE(F4756,{1,2,3,4,5,6,7,8,9},0)&0))-1)=FALSE\n),\"Check\",\"\")","v":""},"","",null,"",0,"","","","",""]
["SBSA_4748","SBSA_4748",null,null,null,null,null,null,null,null,null,null,null,null,null,null,null,null,null,null,null,null,null,null,null,null,"","",{"$f":"IF(OR(\nOR(AND(D4757<>\"\",F4757=\"\"),AND(E4757<>\"\",F4757=\"\")),\nF4757=LEFT(F4757,MIN(FIND(0,SUBSTITUTE(F4757,{1,2,3,4,5,6,7,8,9},0)&0))-1)=FALSE\n),\"Check\",\"\")","v":""},"","",null,"",0,"","","","",""]
["SBSA_4752","SBSA_4752",null,null,null,null,null,null,null,null,null,null,null,null,null,null,null,null,null,null,null,null,null,null,null,null,"","",{"$f":"IF(OR(\nOR(AND(D4761<>\"\",F4761=\"\"),AND(E4761<>\"\",F4761=\"\")),\nF4761=LEFT(F4761,MIN(FIND(0,SUBSTITUTE(F4761,{1,2,3,4,5,6,7,8,9},0)&0))-1)=FALSE\n),\"Check\",\"\")","v":""},"","",null,"",0,"","","","",""]
["SBSA_4753","SBSA_4753",null,null,null,null,null,null,null,null,null,null,null,null,null,null,null,null,null,null,null,null,null,null,null,null,"","",{"$f":"IF(OR(\nOR(AND(D4762<>\"\",F4762=\"\"),AND(E4762<>\"\",F4762=\"\")),\nF4762=LEFT(F4762,MIN(FIND(0,SUBSTITUTE(F4762,{1,2,3,4,5,6,7,8,9},0)&0))-1)=FALSE\n),\"Check\",\"\")","v":""},"","",null,"",0,"","","","",""]
["SBSA_4754","SBSA_4754",null,null,null,null,null,null,null,null,null,null,null,null,null,null,null,null,null,null,null,null,null,null,null,null,"","",{"$f":"IF(OR(\nOR(AND(D4763<>\"\",F4763=\"\"),AND(E4763<>\"\",F4763=\"\")),\nF4763=LEFT(F4763,MIN(FIND(0,SUBSTITUTE(F4763,{1,2,3,4,5,6,7,8,9},0)&0))-1)=FALSE\n),\"Check\",\"\")","v":""},"","",null,"",0,"","","","",""]
["SBSA_4755","SBSA_4755",null,null,null,null,null,null,null,null,null,null,null,null,null,null,null,null,null,null,null,null,null,null,null,null,"","",{"$f":"IF(OR(\nOR(AND(D4764<>\"\",F4764=\"\"),AND(E4764<>\"\",F4764=\"\")),\nF4764=LEFT(F4764,MIN(FIND(0,SUBSTITUTE(F4764,{1,2,3,4,5,6,7,8,9},0)&0))-1)=FALSE\n),\"Check\",\"\")","v":""},"","",null,"",0,"","","","",""]
["SBSA_4756","SBSA_4756",null,null,null,null,null,null,null,null,null,null,null,null,null,null,null,null,null,null,null,null,null,null,null,null,"","",{"$f":"IF(OR(\nOR(AND(D4765<>\"\",F4765=\"\"),AND(E4765<>\"\",F4765=\"\")),\nF4765=LEFT(F4765,MIN(FIND(0,SUBSTITUTE(F4765,{1,2,3,4,5,6,7,8,9},0)&0))-1)=FALSE\n),\"Check\",\"\")","v":""},"","",null,"",0,"","","","",""]
["SBSA_4757","SBSA_4757",null,null,null,null,null,null,null,null,null,null,null,null,null,null,null,null,null,null,null,null,null,null,null,null,"","",{"$f":"IF(OR(\nOR(AND(D4766<>\"\",F4766=\"\"),AND(E4766<>\"\",F4766=\"\")),\nF4766=LEFT(F4766,MIN(FIND(0,SUBSTITUTE(F4766,{1,2,3,4,5,6,7,8,9},0)&0))-1)=FALSE\n),\"Check\",\"\")","v":""},"","",null,"",0,"","","","",""]
["SBSA_4758","SBSA_4758",null,null,null,null,null,null,null,null,null,null,null,null,null,null,null,null,null,null,null,null,null,null,null,null,"","",{"$f":"IF(OR(\nOR(AND(D4767<>\"\",F4767=\"\"),AND(E4767<>\"\",F4767=\"\")),\nF4767=LEFT(F4767,MIN(FIND(0,SUBSTITUTE(F4767,{1,2,3,4,5,6,7,8,9},0)&0))-1)=FALSE\n),\"Check\",\"\")","v":""},"","",null,"",0,"","","","",""]
["SBSA_4759","SBSA_4759",null,null,null,null,null,null,null,null,null,null,null,null,null,null,null,null,null,null,null,null,null,null,null,null,"","",{"$f":"IF(OR(\nOR(AND(D4768<>\"\",F4768=\"\"),AND(E4768<>\"\",F4768=\"\")),\nF4768=LEFT(F4768,MIN(FIND(0,SUBSTITUTE(F4768,{1,2,3,4,5,6,7,8,9},0)&0))-1)=FALSE\n),\"Check\",\"\")","v":""},"","",null,"",0,"","","","",""]
["SBSA_4760","SBSA_4760",null,null,null,null,null,null,null,null,null,null,null,null,null,null,null,null,null,null,null,null,null,null,null,null,"","",{"$f":"IF(OR(\nOR(AND(D4769<>\"\",F4769=\"\"),AND(E4769<>\"\",F4769=\"\")),\nF4769=LEFT(F4769,MIN(FIND(0,SUBSTITUTE(F4769,{1,2,3,4,5,6,7,8,9},0)&0))-1)=FALSE\n),\"Check\",\"\")","v":""},"","",null,"",0,"","","","",""]
["SBSA_4761","SBSA_4761",null,null,null,null,null,null,null,null,null,null,null,null,null,null,null,null,null,null,null,null,null,null,null,null,"","",{"$f":"IF(OR(\nOR(AND(D4770<>\"\",F4770=\"\"),AND(E4770<>\"\",F4770=\"\")),\nF4770=LEFT(F4770,MIN(FIND(0,SUBSTITUTE(F4770,{1,2,3,4,5,6,7,8,9},0)&0))-1)=FALSE\n),\"Check\",\"\")","v":""},"","",null,"",0,"","","","",""]
["SBSA_4762","SBSA_4762",null,null,null,null,null,null,null,null,null,null,null,null,null,null,null,null,null,null,null,null,null,null,null,null,"","",{"$f":"IF(OR(\nOR(AND(D4771<>\"\",F4771=\"\"),AND(E4771<>\"\",F4771=\"\")),\nF4771=LEFT(F4771,MIN(FIND(0,SUBSTITUTE(F4771,{1,2,3,4,5,6,7,8,9},0)&0))-1)=FALSE\n),\"Check\",\"\")","v":""},"","",null,"",0,"","","","",""]
["SBSA_4763","SBSA_4763",null,null,null,null,null,null,null,null,null,null,null,null,null,null,null,null,null,null,null,null,null,null,null,null,"","",{"$f":"IF(OR(\nOR(AND(D4772<>\"\",F4772=\"\"),AND(E4772<>\"\",F4772=\"\")),\nF4772=LEFT(F4772,MIN(FIND(0,SUBSTITUTE(F4772,{1,2,3,4,5,6,7,8,9},0)&0))-1)=FALSE\n),\"Check\",\"\")","v":""},"","",null,"",0,"","","","",""]
["SBSA_4764","SBSA_4764",null,null,null,null,null,null,null,null,null,null,null,null,null,null,null,null,null,null,null,null,null,null,null,null,"","",{"$f":"IF(OR(\nOR(AND(D4773<>\"\",F4773=\"\"),AND(E4773<>\"\",F4773=\"\")),\nF4773=LEFT(F4773,MIN(FIND(0,SUBSTITUTE(F4773,{1,2,3,4,5,6,7,8,9},0)&0))-1)=FALSE\n),\"Check\",\"\")","v":""},"","",null,"",0,"","","","",""]
["SBSA_4765","SBSA_4765",null,null,null,null,null,null,null,null,null,null,null,null,null,null,null,null,null,null,null,null,null,null,null,null,"","",{"$f":"IF(OR(\nOR(AND(D4774<>\"\",F4774=\"\"),AND(E4774<>\"\",F4774=\"\")),\nF4774=LEFT(F4774,MIN(FIND(0,SUBSTITUTE(F4774,{1,2,3,4,5,6,7,8,9},0)&0))-1)=FALSE\n),\"Check\",\"\")","v":""},"","",null,"",0,"","","","",""]
["SBSA_4766","SBSA_4766",null,null,null,null,null,null,null,null,null,null,null,null,null,null,null,null,null,null,null,null,null,null,null,null,"","",{"$f":"IF(OR(\nOR(AND(D4775<>\"\",F4775=\"\"),AND(E4775<>\"\",F4775=\"\")),\nF4775=LEFT(F4775,MIN(FIND(0,SUBSTITUTE(F4775,{1,2,3,4,5,6,7,8,9},0)&0))-1)=FALSE\n),\"Check\",\"\")","v":""},"","",null,"",0,"","","","",""]
["SBSA_4767","SBSA_4767",null,null,null,null,null,null,null,null,null,null,null,null,null,null,null,null,null,null,null,null,null,null,null,null,"","",{"$f":"IF(OR(\nOR(AND(D4776<>\"\",F4776=\"\"),AND(E4776<>\"\",F4776=\"\")),\nF4776=LEFT(F4776,MIN(FIND(0,SUBSTITUTE(F4776,{1,2,3,4,5,6,7,8,9},0)&0))-1)=FALSE\n),\"Check\",\"\")","v":""},"","",null,"",0,"","","","",""]
["SBSA_4768","SBSA_4768",null,null,null,null,null,null,null,null,null,null,null,null,null,null,null,null,null,null,null,null,null,null,null,null,"","",{"$f":"IF(OR(\nOR(AND(D4777<>\"\",F4777=\"\"),AND(E4777<>\"\",F4777=\"\")),\nF4777=LEFT(F4777,MIN(FIND(0,SUBSTITUTE(F4777,{1,2,3,4,5,6,7,8,9},0)&0))-1)=FALSE\n),\"Check\",\"\")","v":""},"","",null,"",0,"","","","",""]
["SBSA_4769","SBSA_4769",null,null,null,null,null,null,null,null,null,null,null,null,null,null,null,null,null,null,null,null,null,null,null,null,"","",{"$f":"IF(OR(\nOR(AND(D4778<>\"\",F4778=\"\"),AND(E4778<>\"\",F4778=\"\")),\nF4778=LEFT(F4778,MIN(FIND(0,SUBSTITUTE(F4778,{1,2,3,4,5,6,7,8,9},0)&0))-1)=FALSE\n),\"Check\",\"\")","v":""},"","",null,"",0,"","","","",""]
["SBSA_4770","SBSA_4770",null,null,null,null,null,null,null,null,null,null,null,null,null,null,null,null,null,null,null,null,null,null,null,null,"","",{"$f":"IF(OR(\nOR(AND(D4779<>\"\",F4779=\"\"),AND(E4779<>\"\",F4779=\"\")),\nF4779=LEFT(F4779,MIN(FIND(0,SUBSTITUTE(F4779,{1,2,3,4,5,6,7,8,9},0)&0))-1)=FALSE\n),\"Check\",\"\")","v":""},"","",null,"",0,"","","","",""]
["SBSA_4771","SBSA_4771",null,null,null,null,null,null,null,null,null,null,null,null,null,null,null,null,null,null,null,null,null,null,null,null,"","",{"$f":"IF(OR(\nOR(AND(D4780<>\"\",F4780=\"\"),AND(E4780<>\"\",F4780=\"\")),\nF4780=LEFT(F4780,MIN(FIND(0,SUBSTITUTE(F4780,{1,2,3,4,5,6,7,8,9},0)&0))-1)=FALSE\n),\"Check\",\"\")","v":""},"","",null,"",0,"","","","",""]
["SBSA_4772","SBSA_4772",null,null,null,null,null,null,null,null,null,null,null,null,null,null,null,null,null,null,null,null,null,null,null,null,{"$f":"IF(AND(C4781=\"\",OR(D4781<>\"\",E4781<>\"\",F4781<>\"\",G4781<>\"\")),\"Check\",\"\")","v":""},{"$f":"IF(AND(C4781<>\"\",OR(AND(D4781=\"\",E4781=\"\"),AND(D4781=0,E4781=0),AND(ABS(D4781)>0,ABS(E4781)>0))),\"Check\",\"\")","v":""},{"$f":"IF(OR(\nOR(AND(D4781<>\"\",F4781=\"\"),AND(E4781<>\"\",F4781=\"\")),\nF4781=LEFT(F4781,MIN(FIND(0,SUBSTITUTE(F4781,{1,2,3,4,5,6,7,8,9},0)&0))-1)=FALSE\n),\"Check\",\"\")","v":""},{"$f":"IF(OR(E4781=\"\",G4781=\"\"),\"\",(E4781*G4781)/100)","v":""},{"$f":"IF(AND(F4781<>\"\",G4781=\"\"),\"Check\",\"\")","v":""},null,{"$f":"IF(C4781=\"\",\"\",C4781&\"_\"&IF(G4781=\"\",0,G4781))","v":""},{"$f":"IF(COUNTBLANK(C4781:G4781)<5,1,0)","v":0},{"$f":"IF(C4781=\"\",\"\",IF(LEN(C4781)=12,\"\",\"Check\"))","v":""},{"$f":"IF(C4781=\"\",\"\",IF(COUNTIF(C$10:C$65536,C4781)=COUNTIF(AG$10:AG$65536,AG4781),\"\",\"Check\"))","v":""},{"$f":"IF(F4781=\"\",\"\",IF(LEN(F4781)=3,\"\",\"Check\"))","v":""},{"$f":"IF(OR(IF(D4781=\"\",\"\",IF(ISNUMBER(D4781)=TRUE,\"\",\"TEXT\"))=\"TEXT\",IF(E4781=\"\",\"\",IF(ISNUMBER(E4781)=TRUE,\"\",\"TEXT\"))=\"TEXT\",IF(G4781=\"\",\"\",IF(ISNUMBER(G4781)=TRUE,\"\",\"TEXT\"))=\"TEXT\"),\"Check\",\"\")","v":""},{"$f":"IF(G4781<0,\"Check\",\"\")","v":""}]
["SBSA_4773","SBSA_4773",null,null,null,null,null,null,null,null,null,null,null,null,null,null,null,null,null,null,null,null,null,null,null,null,"","",{"$f":"IF(OR(\nOR(AND(D4782<>\"\",F4782=\"\"),AND(E4782<>\"\",F4782=\"\")),\nF4782=LEFT(F4782,MIN(FIND(0,SUBSTITUTE(F4782,{1,2,3,4,5,6,7,8,9},0)&0))-1)=FALSE\n),\"Check\",\"\")","v":""},"","",null,"",0,"","","","",""]
["SBSA_4774","SBSA_4774",null,null,null,null,null,null,null,null,null,null,null,null,null,null,null,null,null,null,null,null,null,null,null,null,"","",{"$f":"IF(OR(\nOR(AND(D4783<>\"\",F4783=\"\"),AND(E4783<>\"\",F4783=\"\")),\nF4783=LEFT(F4783,MIN(FIND(0,SUBSTITUTE(F4783,{1,2,3,4,5,6,7,8,9},0)&0))-1)=FALSE\n),\"Check\",\"\")","v":""},"","",null,"",0,"","","","",""]
["SBSA_4775","SBSA_4775",null,null,null,null,null,null,null,null,null,null,null,null,null,null,null,null,null,null,null,null,null,null,null,null,"","",{"$f":"IF(OR(\nOR(AND(D4784<>\"\",F4784=\"\"),AND(E4784<>\"\",F4784=\"\")),\nF4784=LEFT(F4784,MIN(FIND(0,SUBSTITUTE(F4784,{1,2,3,4,5,6,7,8,9},0)&0))-1)=FALSE\n),\"Check\",\"\")","v":""},"","",null,"",0,"","","","",""]
["SBSA_4776","SBSA_4776",null,null,null,null,null,null,null,null,null,null,null,null,null,null,null,null,null,null,null,null,null,null,null,null,"","",{"$f":"IF(OR(\nOR(AND(D4785<>\"\",F4785=\"\"),AND(E4785<>\"\",F4785=\"\")),\nF4785=LEFT(F4785,MIN(FIND(0,SUBSTITUTE(F4785,{1,2,3,4,5,6,7,8,9},0)&0))-1)=FALSE\n),\"Check\",\"\")","v":""},"","",null,"",0,"","","","",""]
["SBSA_4777","SBSA_4777",null,null,null,null,null,null,null,null,null,null,null,null,null,null,null,null,null,null,null,null,null,null,null,null,"","",{"$f":"IF(OR(\nOR(AND(D4786<>\"\",F4786=\"\"),AND(E4786<>\"\",F4786=\"\")),\nF4786=LEFT(F4786,MIN(FIND(0,SUBSTITUTE(F4786,{1,2,3,4,5,6,7,8,9},0)&0))-1)=FALSE\n),\"Check\",\"\")","v":""},"","",null,"",0,"","","","",""]
["SBSA_4778","SBSA_4778",null,null,null,null,null,null,null,null,null,null,null,null,null,null,null,null,null,null,null,null,null,null,null,null,"","",{"$f":"IF(OR(\nOR(AND(D4787<>\"\",F4787=\"\"),AND(E4787<>\"\",F4787=\"\")),\nF4787=LEFT(F4787,MIN(FIND(0,SUBSTITUTE(F4787,{1,2,3,4,5,6,7,8,9},0)&0))-1)=FALSE\n),\"Check\",\"\")","v":""},"","",null,"",0,"","","","",""]
["SBSA_4779","SBSA_4779",null,null,null,null,null,null,null,null,null,null,null,null,null,null,null,null,null,null,null,null,null,null,null,null,"","",{"$f":"IF(OR(\nOR(AND(D4788<>\"\",F4788=\"\"),AND(E4788<>\"\",F4788=\"\")),\nF4788=LEFT(F4788,MIN(FIND(0,SUBSTITUTE(F4788,{1,2,3,4,5,6,7,8,9},0)&0))-1)=FALSE\n),\"Check\",\"\")","v":""},"","",null,"",0,"","","","",""]
["SBSA_4780","SBSA_4780",null,null,null,null,null,null,null,null,null,null,null,null,null,null,null,null,null,null,null,null,null,null,null,null,"","",{"$f":"IF(OR(\nOR(AND(D4789<>\"\",F4789=\"\"),AND(E4789<>\"\",F4789=\"\")),\nF4789=LEFT(F4789,MIN(FIND(0,SUBSTITUTE(F4789,{1,2,3,4,5,6,7,8,9},0)&0))-1)=FALSE\n),\"Check\",\"\")","v":""},"","",null,"",0,"","","","",""]
["SBSA_4781","SBSA_4781",null,null,null,null,null,null,null,null,null,null,null,null,null,null,null,null,null,null,null,null,null,null,null,null,"","",{"$f":"IF(OR(\nOR(AND(D4790<>\"\",F4790=\"\"),AND(E4790<>\"\",F4790=\"\")),\nF4790=LEFT(F4790,MIN(FIND(0,SUBSTITUTE(F4790,{1,2,3,4,5,6,7,8,9},0)&0))-1)=FALSE\n),\"Check\",\"\")","v":""},"","",null,"",0,"","","","",""]
["SBSA_4782","SBSA_4782",null,null,null,null,null,null,null,null,null,null,null,null,null,null,null,null,null,null,null,null,null,null,null,null,"","",{"$f":"IF(OR(\nOR(AND(D4791<>\"\",F4791=\"\"),AND(E4791<>\"\",F4791=\"\")),\nF4791=LEFT(F4791,MIN(FIND(0,SUBSTITUTE(F4791,{1,2,3,4,5,6,7,8,9},0)&0))-1)=FALSE\n),\"Check\",\"\")","v":""},"","",null,"",0,"","","","",""]
["SBSA_4783","SBSA_4783",null,null,null,null,null,null,null,null,null,null,null,null,null,null,null,null,null,null,null,null,null,null,null,null,"","",{"$f":"IF(OR(\nOR(AND(D4792<>\"\",F4792=\"\"),AND(E4792<>\"\",F4792=\"\")),\nF4792=LEFT(F4792,MIN(FIND(0,SUBSTITUTE(F4792,{1,2,3,4,5,6,7,8,9},0)&0))-1)=FALSE\n),\"Check\",\"\")","v":""},"","",null,"",0,"","","","",""]
["SBSA_4784","SBSA_4784",null,null,null,null,null,null,null,null,null,null,null,null,null,null,null,null,null,null,null,null,null,null,null,null,"","",{"$f":"IF(OR(\nOR(AND(D4793<>\"\",F4793=\"\"),AND(E4793<>\"\",F4793=\"\")),\nF4793=LEFT(F4793,MIN(FIND(0,SUBSTITUTE(F4793,{1,2,3,4,5,6,7,8,9},0)&0))-1)=FALSE\n),\"Check\",\"\")","v":""},"","",null,"",0,"","","","",""]
["SBSA_4785","SBSA_4785",null,null,null,null,null,null,null,null,null,null,null,null,null,null,null,null,null,null,null,null,null,null,null,null,"","",{"$f":"IF(OR(\nOR(AND(D4794<>\"\",F4794=\"\"),AND(E4794<>\"\",F4794=\"\")),\nF4794=LEFT(F4794,MIN(FIND(0,SUBSTITUTE(F4794,{1,2,3,4,5,6,7,8,9},0)&0))-1)=FALSE\n),\"Check\",\"\")","v":""},"","",null,"",0,"","","","",""]
["SBSA_4786","SBSA_4786",null,null,null,null,null,null,null,null,null,null,null,null,null,null,null,null,null,null,null,null,null,null,null,null,"","",{"$f":"IF(OR(\nOR(AND(D4795<>\"\",F4795=\"\"),AND(E4795<>\"\",F4795=\"\")),\nF4795=LEFT(F4795,MIN(FIND(0,SUBSTITUTE(F4795,{1,2,3,4,5,6,7,8,9},0)&0))-1)=FALSE\n),\"Check\",\"\")","v":""},"","",null,"",0,"","","","",""]
["SBSA_4787","SBSA_4787",null,null,null,null,null,null,null,null,null,null,null,null,null,null,null,null,null,null,null,null,null,null,null,null,"","",{"$f":"IF(OR(\nOR(AND(D4796<>\"\",F4796=\"\"),AND(E4796<>\"\",F4796=\"\")),\nF4796=LEFT(F4796,MIN(FIND(0,SUBSTITUTE(F4796,{1,2,3,4,5,6,7,8,9},0)&0))-1)=FALSE\n),\"Check\",\"\")","v":""},"","",null,"",0,"","","","",""]
["SBSA_4788","SBSA_4788",null,null,null,null,null,null,null,null,null,null,null,null,null,null,null,null,null,null,null,null,null,null,null,null,"","",{"$f":"IF(OR(\nOR(AND(D4797<>\"\",F4797=\"\"),AND(E4797<>\"\",F4797=\"\")),\nF4797=LEFT(F4797,MIN(FIND(0,SUBSTITUTE(F4797,{1,2,3,4,5,6,7,8,9},0)&0))-1)=FALSE\n),\"Check\",\"\")","v":""},"","",null,"",0,"","","","",""]
["SBSA_4789","SBSA_4789",null,null,null,null,null,null,null,null,null,null,null,null,null,null,null,null,null,null,null,null,null,null,null,null,"","",{"$f":"IF(OR(\nOR(AND(D4798<>\"\",F4798=\"\"),AND(E4798<>\"\",F4798=\"\")),\nF4798=LEFT(F4798,MIN(FIND(0,SUBSTITUTE(F4798,{1,2,3,4,5,6,7,8,9},0)&0))-1)=FALSE\n),\"Check\",\"\")","v":""},"","",null,"",0,"","","","",""]
["SBSA_4790","SBSA_4790",null,null,null,null,null,null,null,null,null,null,null,null,null,null,null,null,null,null,null,null,null,null,null,null,"","",{"$f":"IF(OR(\nOR(AND(D4799<>\"\",F4799=\"\"),AND(E4799<>\"\",F4799=\"\")),\nF4799=LEFT(F4799,MIN(FIND(0,SUBSTITUTE(F4799,{1,2,3,4,5,6,7,8,9},0)&0))-1)=FALSE\n),\"Check\",\"\")","v":""},"","",null,"",0,"","","","",""]
["SBSA_4791","SBSA_4791",null,null,null,null,null,null,null,null,null,null,null,null,null,null,null,null,null,null,null,null,null,null,null,null,"","",{"$f":"IF(OR(\nOR(AND(D4800<>\"\",F4800=\"\"),AND(E4800<>\"\",F4800=\"\")),\nF4800=LEFT(F4800,MIN(FIND(0,SUBSTITUTE(F4800,{1,2,3,4,5,6,7,8,9},0)&0))-1)=FALSE\n),\"Check\",\"\")","v":""},"","",null,"",0,"","","","",""]
["SBSA_4792","SBSA_4792",null,null,null,null,null,null,null,null,null,null,null,null,null,null,null,null,null,null,null,null,null,null,null,null,"","",{"$f":"IF(OR(\nOR(AND(D4801<>\"\",F4801=\"\"),AND(E4801<>\"\",F4801=\"\")),\nF4801=LEFT(F4801,MIN(FIND(0,SUBSTITUTE(F4801,{1,2,3,4,5,6,7,8,9},0)&0))-1)=FALSE\n),\"Check\",\"\")","v":""},"","",null,"",0,"","","","",""]
["SBSA_4793","SBSA_4793",null,null,null,null,null,null,null,null,null,null,null,null,null,null,null,null,null,null,null,null,null,null,null,null,"","",{"$f":"IF(OR(\nOR(AND(D4802<>\"\",F4802=\"\"),AND(E4802<>\"\",F4802=\"\")),\nF4802=LEFT(F4802,MIN(FIND(0,SUBSTITUTE(F4802,{1,2,3,4,5,6,7,8,9},0)&0))-1)=FALSE\n),\"Check\",\"\")","v":""},"","",null,"",0,"","","","",""]
["SBSA_4794","SBSA_4794",null,null,null,null,null,null,null,null,null,null,null,null,null,null,null,null,null,null,null,null,null,null,null,null,"","",{"$f":"IF(OR(\nOR(AND(D4803<>\"\",F4803=\"\"),AND(E4803<>\"\",F4803=\"\")),\nF4803=LEFT(F4803,MIN(FIND(0,SUBSTITUTE(F4803,{1,2,3,4,5,6,7,8,9},0)&0))-1)=FALSE\n),\"Check\",\"\")","v":""},"","",null,"",0,"","","","",""]
["SBSA_4795","SBSA_4795",null,null,null,null,null,null,null,null,null,null,null,null,null,null,null,null,null,null,null,null,null,null,null,null,"","",{"$f":"IF(OR(\nOR(AND(D4804<>\"\",F4804=\"\"),AND(E4804<>\"\",F4804=\"\")),\nF4804=LEFT(F4804,MIN(FIND(0,SUBSTITUTE(F4804,{1,2,3,4,5,6,7,8,9},0)&0))-1)=FALSE\n),\"Check\",\"\")","v":""},"","",null,"",0,"","","","",""]
["SBSA_4796","SBSA_4796",null,null,null,null,null,null,null,null,null,null,null,null,null,null,null,null,null,null,null,null,null,null,null,null,"","",{"$f":"IF(OR(\nOR(AND(D4805<>\"\",F4805=\"\"),AND(E4805<>\"\",F4805=\"\")),\nF4805=LEFT(F4805,MIN(FIND(0,SUBSTITUTE(F4805,{1,2,3,4,5,6,7,8,9},0)&0))-1)=FALSE\n),\"Check\",\"\")","v":""},"","",null,"",0,"","","","",""]
["SBSA_4797","SBSA_4797",null,null,null,null,null,null,null,null,null,null,null,null,null,null,null,null,null,null,null,null,null,null,null,null,"","",{"$f":"IF(OR(\nOR(AND(D4806<>\"\",F4806=\"\"),AND(E4806<>\"\",F4806=\"\")),\nF4806=LEFT(F4806,MIN(FIND(0,SUBSTITUTE(F4806,{1,2,3,4,5,6,7,8,9},0)&0))-1)=FALSE\n),\"Check\",\"\")","v":""},"","",null,"",0,"","","","",""]
["SBSA_4798","SBSA_4798",null,null,null,null,null,null,null,null,null,null,null,null,null,null,null,null,null,null,null,null,null,null,null,null,"","",{"$f":"IF(OR(\nOR(AND(D4807<>\"\",F4807=\"\"),AND(E4807<>\"\",F4807=\"\")),\nF4807=LEFT(F4807,MIN(FIND(0,SUBSTITUTE(F4807,{1,2,3,4,5,6,7,8,9},0)&0))-1)=FALSE\n),\"Check\",\"\")","v":""},"","",null,"",0,"","","","",""]
["SBSA_4799","SBSA_4799",null,null,null,null,null,null,null,null,null,null,null,null,null,null,null,null,null,null,null,null,null,null,null,null,"","",{"$f":"IF(OR(\nOR(AND(D4808<>\"\",F4808=\"\"),AND(E4808<>\"\",F4808=\"\")),\nF4808=LEFT(F4808,MIN(FIND(0,SUBSTITUTE(F4808,{1,2,3,4,5,6,7,8,9},0)&0))-1)=FALSE\n),\"Check\",\"\")","v":""},"","",null,"",0,"","","","",""]
["SBSA_4800","SBSA_4800",null,null,null,null,null,null,null,null,null,null,null,null,null,null,null,null,null,null,null,null,null,null,null,null,"","",{"$f":"IF(OR(\nOR(AND(D4809<>\"\",F4809=\"\"),AND(E4809<>\"\",F4809=\"\")),\nF4809=LEFT(F4809,MIN(FIND(0,SUBSTITUTE(F4809,{1,2,3,4,5,6,7,8,9},0)&0))-1)=FALSE\n),\"Check\",\"\")","v":""},"","",null,"",0,"","","","",""]
["SBSA_4801","SBSA_4801",null,null,null,null,null,null,null,null,null,null,null,null,null,null,null,null,null,null,null,null,null,null,null,null,"","",{"$f":"IF(OR(\nOR(AND(D4810<>\"\",F4810=\"\"),AND(E4810<>\"\",F4810=\"\")),\nF4810=LEFT(F4810,MIN(FIND(0,SUBSTITUTE(F4810,{1,2,3,4,5,6,7,8,9},0)&0))-1)=FALSE\n),\"Check\",\"\")","v":""},"","",null,"",0,"","","","",""]
["SBSA_4802","SBSA_4802",null,null,null,null,null,null,null,null,null,null,null,null,null,null,null,null,null,null,null,null,null,null,null,null,"","",{"$f":"IF(OR(\nOR(AND(D4811<>\"\",F4811=\"\"),AND(E4811<>\"\",F4811=\"\")),\nF4811=LEFT(F4811,MIN(FIND(0,SUBSTITUTE(F4811,{1,2,3,4,5,6,7,8,9},0)&0))-1)=FALSE\n),\"Check\",\"\")","v":""},"","",null,"",0,"","","","",""]
["SBSA_4803","SBSA_4803",null,null,null,null,null,null,null,null,null,null,null,null,null,null,null,null,null,null,null,null,null,null,null,null,"","",{"$f":"IF(OR(\nOR(AND(D4812<>\"\",F4812=\"\"),AND(E4812<>\"\",F4812=\"\")),\nF4812=LEFT(F4812,MIN(FIND(0,SUBSTITUTE(F4812,{1,2,3,4,5,6,7,8,9},0)&0))-1)=FALSE\n),\"Check\",\"\")","v":""},"","",null,"",0,"","","","",""]
["SBSA_4804","SBSA_4804",null,null,null,null,null,null,null,null,null,null,null,null,null,null,null,null,null,null,null,null,null,null,null,null,"","",{"$f":"IF(OR(\nOR(AND(D4813<>\"\",F4813=\"\"),AND(E4813<>\"\",F4813=\"\")),\nF4813=LEFT(F4813,MIN(FIND(0,SUBSTITUTE(F4813,{1,2,3,4,5,6,7,8,9},0)&0))-1)=FALSE\n),\"Check\",\"\")","v":""},"","",null,"",0,"","","","",""]
["SBSA_4805","SBSA_4805",null,null,null,null,null,null,null,null,null,null,null,null,null,null,null,null,null,null,null,null,null,null,null,null,"","",{"$f":"IF(OR(\nOR(AND(D4814<>\"\",F4814=\"\"),AND(E4814<>\"\",F4814=\"\")),\nF4814=LEFT(F4814,MIN(FIND(0,SUBSTITUTE(F4814,{1,2,3,4,5,6,7,8,9},0)&0))-1)=FALSE\n),\"Check\",\"\")","v":""},"","",null,"",0,"","","","",""]
["SBSA_4806","SBSA_4806",null,null,null,null,null,null,null,null,null,null,null,null,null,null,null,null,null,null,null,null,null,null,null,null,"","",{"$f":"IF(OR(\nOR(AND(D4815<>\"\",F4815=\"\"),AND(E4815<>\"\",F4815=\"\")),\nF4815=LEFT(F4815,MIN(FIND(0,SUBSTITUTE(F4815,{1,2,3,4,5,6,7,8,9},0)&0))-1)=FALSE\n),\"Check\",\"\")","v":""},"","",null,"",0,"","","","",""]
["SBSA_4807","SBSA_4807",null,null,null,null,null,null,null,null,null,null,null,null,null,null,null,null,null,null,null,null,null,null,null,null,"","",{"$f":"IF(OR(\nOR(AND(D4816<>\"\",F4816=\"\"),AND(E4816<>\"\",F4816=\"\")),\nF4816=LEFT(F4816,MIN(FIND(0,SUBSTITUTE(F4816,{1,2,3,4,5,6,7,8,9},0)&0))-1)=FALSE\n),\"Check\",\"\")","v":""},"","",null,"",0,"","","","",""]
["SBSA_4808","SBSA_4808",null,null,null,null,null,null,null,null,null,null,null,null,null,null,null,null,null,null,null,null,null,null,null,null,"","",{"$f":"IF(OR(\nOR(AND(D4817<>\"\",F4817=\"\"),AND(E4817<>\"\",F4817=\"\")),\nF4817=LEFT(F4817,MIN(FIND(0,SUBSTITUTE(F4817,{1,2,3,4,5,6,7,8,9},0)&0))-1)=FALSE\n),\"Check\",\"\")","v":""},"","",null,"",0,"","","","",""]
["SBSA_4809","SBSA_4809",null,null,null,null,null,null,null,null,null,null,null,null,null,null,null,null,null,null,null,null,null,null,null,null,"","",{"$f":"IF(OR(\nOR(AND(D4818<>\"\",F4818=\"\"),AND(E4818<>\"\",F4818=\"\")),\nF4818=LEFT(F4818,MIN(FIND(0,SUBSTITUTE(F4818,{1,2,3,4,5,6,7,8,9},0)&0))-1)=FALSE\n),\"Check\",\"\")","v":""},"","",null,"",0,"","","","",""]
["SBSA_4810","SBSA_4810",null,null,null,null,null,null,null,null,null,null,null,null,null,null,null,null,null,null,null,null,null,null,null,null,"","",{"$f":"IF(OR(\nOR(AND(D4819<>\"\",F4819=\"\"),AND(E4819<>\"\",F4819=\"\")),\nF4819=LEFT(F4819,MIN(FIND(0,SUBSTITUTE(F4819,{1,2,3,4,5,6,7,8,9},0)&0))-1)=FALSE\n),\"Check\",\"\")","v":""},"","",null,"",0,"","","","",""]
["SBSA_4811","SBSA_4811",null,null,null,null,null,null,null,null,null,null,null,null,null,null,null,null,null,null,null,null,null,null,null,null,"","",{"$f":"IF(OR(\nOR(AND(D4820<>\"\",F4820=\"\"),AND(E4820<>\"\",F4820=\"\")),\nF4820=LEFT(F4820,MIN(FIND(0,SUBSTITUTE(F4820,{1,2,3,4,5,6,7,8,9},0)&0))-1)=FALSE\n),\"Check\",\"\")","v":""},"","",null,"",0,"","","","",""]
["SBSA_4812","SBSA_4812",null,null,null,null,null,null,null,null,null,null,null,null,null,null,null,null,null,null,null,null,null,null,null,null,"","",{"$f":"IF(OR(\nOR(AND(D4821<>\"\",F4821=\"\"),AND(E4821<>\"\",F4821=\"\")),\nF4821=LEFT(F4821,MIN(FIND(0,SUBSTITUTE(F4821,{1,2,3,4,5,6,7,8,9},0)&0))-1)=FALSE\n),\"Check\",\"\")","v":""},"","",null,"",0,"","","","",""]
["SBSA_4813","SBSA_4813",null,null,null,null,null,null,null,null,null,null,null,null,null,null,null,null,null,null,null,null,null,null,null,null,"","",{"$f":"IF(OR(\nOR(AND(D4822<>\"\",F4822=\"\"),AND(E4822<>\"\",F4822=\"\")),\nF4822=LEFT(F4822,MIN(FIND(0,SUBSTITUTE(F4822,{1,2,3,4,5,6,7,8,9},0)&0))-1)=FALSE\n),\"Check\",\"\")","v":""},"","",null,"",0,"","","","",""]
["SBSA_4814","SBSA_4814",null,null,null,null,null,null,null,null,null,null,null,null,null,null,null,null,null,null,null,null,null,null,null,null,"","",{"$f":"IF(OR(\nOR(AND(D4823<>\"\",F4823=\"\"),AND(E4823<>\"\",F4823=\"\")),\nF4823=LEFT(F4823,MIN(FIND(0,SUBSTITUTE(F4823,{1,2,3,4,5,6,7,8,9},0)&0))-1)=FALSE\n),\"Check\",\"\")","v":""},"","",null,"",0,"","","","",""]
["SBSA_4815","SBSA_4815",null,null,null,null,null,null,null,null,null,null,null,null,null,null,null,null,null,null,null,null,null,null,null,null,"","",{"$f":"IF(OR(\nOR(AND(D4824<>\"\",F4824=\"\"),AND(E4824<>\"\",F4824=\"\")),\nF4824=LEFT(F4824,MIN(FIND(0,SUBSTITUTE(F4824,{1,2,3,4,5,6,7,8,9},0)&0))-1)=FALSE\n),\"Check\",\"\")","v":""},"","",null,"",0,"","","","",""]
["SBSA_4816","SBSA_4816",null,null,null,null,null,null,null,null,null,null,null,null,null,null,null,null,null,null,null,null,null,null,null,null,"","",{"$f":"IF(OR(\nOR(AND(D4825<>\"\",F4825=\"\"),AND(E4825<>\"\",F4825=\"\")),\nF4825=LEFT(F4825,MIN(FIND(0,SUBSTITUTE(F4825,{1,2,3,4,5,6,7,8,9},0)&0))-1)=FALSE\n),\"Check\",\"\")","v":""},"","",null,"",0,"","","","",""]
["SBSA_4817","SBSA_4817",null,null,null,null,null,null,null,null,null,null,null,null,null,null,null,null,null,null,null,null,null,null,null,null,"","",{"$f":"IF(OR(\nOR(AND(D4826<>\"\",F4826=\"\"),AND(E4826<>\"\",F4826=\"\")),\nF4826=LEFT(F4826,MIN(FIND(0,SUBSTITUTE(F4826,{1,2,3,4,5,6,7,8,9},0)&0))-1)=FALSE\n),\"Check\",\"\")","v":""},"","",null,"",0,"","","","",""]
["SBSA_4818","SBSA_4818",null,null,null,null,null,null,null,null,null,null,null,null,null,null,null,null,null,null,null,null,null,null,null,null,"","",{"$f":"IF(OR(\nOR(AND(D4827<>\"\",F4827=\"\"),AND(E4827<>\"\",F4827=\"\")),\nF4827=LEFT(F4827,MIN(FIND(0,SUBSTITUTE(F4827,{1,2,3,4,5,6,7,8,9},0)&0))-1)=FALSE\n),\"Check\",\"\")","v":""},"","",null,"",0,"","","","",""]
["SBSA_4819","SBSA_4819",null,null,null,null,null,null,null,null,null,null,null,null,null,null,null,null,null,null,null,null,null,null,null,null,"","",{"$f":"IF(OR(\nOR(AND(D4828<>\"\",F4828=\"\"),AND(E4828<>\"\",F4828=\"\")),\nF4828=LEFT(F4828,MIN(FIND(0,SUBSTITUTE(F4828,{1,2,3,4,5,6,7,8,9},0)&0))-1)=FALSE\n),\"Check\",\"\")","v":""},"","",null,"",0,"","","","",""]
["SBSA_4820","SBSA_4820",null,null,null,null,null,null,null,null,null,null,null,null,null,null,null,null,null,null,null,null,null,null,null,null,"","",{"$f":"IF(OR(\nOR(AND(D4829<>\"\",F4829=\"\"),AND(E4829<>\"\",F4829=\"\")),\nF4829=LEFT(F4829,MIN(FIND(0,SUBSTITUTE(F4829,{1,2,3,4,5,6,7,8,9},0)&0))-1)=FALSE\n),\"Check\",\"\")","v":""},"","",null,"",0,"","","","",""]
["SBSA_4821","SBSA_4821",null,null,null,null,null,null,null,null,null,null,null,null,null,null,null,null,null,null,null,null,null,null,null,null,"","",{"$f":"IF(OR(\nOR(AND(D4830<>\"\",F4830=\"\"),AND(E4830<>\"\",F4830=\"\")),\nF4830=LEFT(F4830,MIN(FIND(0,SUBSTITUTE(F4830,{1,2,3,4,5,6,7,8,9},0)&0))-1)=FALSE\n),\"Check\",\"\")","v":""},"","",null,"",0,"","","","",""]
["SBSA_4822","SBSA_4822",null,null,null,null,null,null,null,null,null,null,null,null,null,null,null,null,null,null,null,null,null,null,null,null,"","",{"$f":"IF(OR(\nOR(AND(D4831<>\"\",F4831=\"\"),AND(E4831<>\"\",F4831=\"\")),\nF4831=LEFT(F4831,MIN(FIND(0,SUBSTITUTE(F4831,{1,2,3,4,5,6,7,8,9},0)&0))-1)=FALSE\n),\"Check\",\"\")","v":""},"","",null,"",0,"","","","",""]
["SBSA_4823","SBSA_4823",null,null,null,null,null,null,null,null,null,null,null,null,null,null,null,null,null,null,null,null,null,null,null,null,"","",{"$f":"IF(OR(\nOR(AND(D4832<>\"\",F4832=\"\"),AND(E4832<>\"\",F4832=\"\")),\nF4832=LEFT(F4832,MIN(FIND(0,SUBSTITUTE(F4832,{1,2,3,4,5,6,7,8,9},0)&0))-1)=FALSE\n),\"Check\",\"\")","v":""},"","",null,"",0,"","","","",""]
["SBSA_4824","SBSA_4824",null,null,null,null,null,null,null,null,null,null,null,null,null,null,null,null,null,null,null,null,null,null,null,null,"","",{"$f":"IF(OR(\nOR(AND(D4833<>\"\",F4833=\"\"),AND(E4833<>\"\",F4833=\"\")),\nF4833=LEFT(F4833,MIN(FIND(0,SUBSTITUTE(F4833,{1,2,3,4,5,6,7,8,9},0)&0))-1)=FALSE\n),\"Check\",\"\")","v":""},"","",null,"",0,"","","","",""]
["SBSA_4825","SBSA_4825",null,null,null,null,null,null,null,null,null,null,null,null,null,null,null,null,null,null,null,null,null,null,null,null,"","",{"$f":"IF(OR(\nOR(AND(D4834<>\"\",F4834=\"\"),AND(E4834<>\"\",F4834=\"\")),\nF4834=LEFT(F4834,MIN(FIND(0,SUBSTITUTE(F4834,{1,2,3,4,5,6,7,8,9},0)&0))-1)=FALSE\n),\"Check\",\"\")","v":""},"","",null,"",0,"","","","",""]
["SBSA_4826","SBSA_4826",null,null,null,null,null,null,null,null,null,null,null,null,null,null,null,null,null,null,null,null,null,null,null,null,"","",{"$f":"IF(OR(\nOR(AND(D4835<>\"\",F4835=\"\"),AND(E4835<>\"\",F4835=\"\")),\nF4835=LEFT(F4835,MIN(FIND(0,SUBSTITUTE(F4835,{1,2,3,4,5,6,7,8,9},0)&0))-1)=FALSE\n),\"Check\",\"\")","v":""},"","",null,"",0,"","","","",""]
["SBSA_4827","SBSA_4827",null,null,null,null,null,null,null,null,null,null,null,null,null,null,null,null,null,null,null,null,null,null,null,null,"","",{"$f":"IF(OR(\nOR(AND(D4836<>\"\",F4836=\"\"),AND(E4836<>\"\",F4836=\"\")),\nF4836=LEFT(F4836,MIN(FIND(0,SUBSTITUTE(F4836,{1,2,3,4,5,6,7,8,9},0)&0))-1)=FALSE\n),\"Check\",\"\")","v":""},"","",null,"",0,"","","","",""]
["SBSA_4828","SBSA_4828",null,null,null,null,null,null,null,null,null,null,null,null,null,null,null,null,null,null,null,null,null,null,null,null,"","",{"$f":"IF(OR(\nOR(AND(D4837<>\"\",F4837=\"\"),AND(E4837<>\"\",F4837=\"\")),\nF4837=LEFT(F4837,MIN(FIND(0,SUBSTITUTE(F4837,{1,2,3,4,5,6,7,8,9},0)&0))-1)=FALSE\n),\"Check\",\"\")","v":""},"","",null,"",0,"","","","",""]
["SBSA_4829","SBSA_4829",null,null,null,null,null,null,null,null,null,null,null,null,null,null,null,null,null,null,null,null,null,null,null,null,"","",{"$f":"IF(OR(\nOR(AND(D4838<>\"\",F4838=\"\"),AND(E4838<>\"\",F4838=\"\")),\nF4838=LEFT(F4838,MIN(FIND(0,SUBSTITUTE(F4838,{1,2,3,4,5,6,7,8,9},0)&0))-1)=FALSE\n),\"Check\",\"\")","v":""},"","",null,"",0,"","","","",""]
["SBSA_4830","SBSA_4830",null,null,null,null,null,null,null,null,null,null,null,null,null,null,null,null,null,null,null,null,null,null,null,null,"","",{"$f":"IF(OR(\nOR(AND(D4839<>\"\",F4839=\"\"),AND(E4839<>\"\",F4839=\"\")),\nF4839=LEFT(F4839,MIN(FIND(0,SUBSTITUTE(F4839,{1,2,3,4,5,6,7,8,9},0)&0))-1)=FALSE\n),\"Check\",\"\")","v":""},"","",null,"",0,"","","","",""]
["SBSA_4831","SBSA_4831",null,null,null,null,null,null,null,null,null,null,null,null,null,null,null,null,null,null,null,null,null,null,null,null,"","",{"$f":"IF(OR(\nOR(AND(D4840<>\"\",F4840=\"\"),AND(E4840<>\"\",F4840=\"\")),\nF4840=LEFT(F4840,MIN(FIND(0,SUBSTITUTE(F4840,{1,2,3,4,5,6,7,8,9},0)&0))-1)=FALSE\n),\"Check\",\"\")","v":""},"","",null,"",0,"","","","",""]
["SBSA_4832","SBSA_4832",null,null,null,null,null,null,null,null,null,null,null,null,null,null,null,null,null,null,null,null,null,null,null,null,"","",{"$f":"IF(OR(\nOR(AND(D4841<>\"\",F4841=\"\"),AND(E4841<>\"\",F4841=\"\")),\nF4841=LEFT(F4841,MIN(FIND(0,SUBSTITUTE(F4841,{1,2,3,4,5,6,7,8,9},0)&0))-1)=FALSE\n),\"Check\",\"\")","v":""},"","",null,"",0,"","","","",""]
["SBSA_4833","SBSA_4833",null,null,null,null,null,null,null,null,null,null,null,null,null,null,null,null,null,null,null,null,null,null,null,null,"","",{"$f":"IF(OR(\nOR(AND(D4842<>\"\",F4842=\"\"),AND(E4842<>\"\",F4842=\"\")),\nF4842=LEFT(F4842,MIN(FIND(0,SUBSTITUTE(F4842,{1,2,3,4,5,6,7,8,9},0)&0))-1)=FALSE\n),\"Check\",\"\")","v":""},"","",null,"",0,"","","","",""]
["SBSA_4834","SBSA_4834",null,null,null,null,null,null,null,null,null,null,null,null,null,null,null,null,null,null,null,null,null,null,null,null,"","",{"$f":"IF(OR(\nOR(AND(D4843<>\"\",F4843=\"\"),AND(E4843<>\"\",F4843=\"\")),\nF4843=LEFT(F4843,MIN(FIND(0,SUBSTITUTE(F4843,{1,2,3,4,5,6,7,8,9},0)&0))-1)=FALSE\n),\"Check\",\"\")","v":""},"","",null,"",0,"","","","",""]
["SBSA_4835","SBSA_4835",null,null,null,null,null,null,null,null,null,null,null,null,null,null,null,null,null,null,null,null,null,null,null,null,"","",{"$f":"IF(OR(\nOR(AND(D4844<>\"\",F4844=\"\"),AND(E4844<>\"\",F4844=\"\")),\nF4844=LEFT(F4844,MIN(FIND(0,SUBSTITUTE(F4844,{1,2,3,4,5,6,7,8,9},0)&0))-1)=FALSE\n),\"Check\",\"\")","v":""},"","",null,"",0,"","","","",""]
["SBSA_4836","SBSA_4836",null,null,null,null,null,null,null,null,null,null,null,null,null,null,null,null,null,null,null,null,null,null,null,null,{"$f":"IF(AND(C4845=\"\",OR(D4845<>\"\",E4845<>\"\",F4845<>\"\",G4845<>\"\")),\"Check\",\"\")","v":""},{"$f":"IF(AND(C4845<>\"\",OR(AND(D4845=\"\",E4845=\"\"),AND(D4845=0,E4845=0),AND(ABS(D4845)>0,ABS(E4845)>0))),\"Check\",\"\")","v":""},{"$f":"IF(OR(\nOR(AND(D4845<>\"\",F4845=\"\"),AND(E4845<>\"\",F4845=\"\")),\nF4845=LEFT(F4845,MIN(FIND(0,SUBSTITUTE(F4845,{1,2,3,4,5,6,7,8,9},0)&0))-1)=FALSE\n),\"Check\",\"\")","v":""},{"$f":"IF(OR(E4845=\"\",G4845=\"\"),\"\",(E4845*G4845)/100)","v":""},{"$f":"IF(AND(F4845<>\"\",G4845=\"\"),\"Check\",\"\")","v":""},null,{"$f":"IF(C4845=\"\",\"\",C4845&\"_\"&IF(G4845=\"\",0,G4845))","v":""},{"$f":"IF(COUNTBLANK(C4845:G4845)<5,1,0)","v":0},{"$f":"IF(C4845=\"\",\"\",IF(LEN(C4845)=12,\"\",\"Check\"))","v":""},{"$f":"IF(C4845=\"\",\"\",IF(COUNTIF(C$10:C$65536,C4845)=COUNTIF(AG$10:AG$65536,AG4845),\"\",\"Check\"))","v":""},{"$f":"IF(F4845=\"\",\"\",IF(LEN(F4845)=3,\"\",\"Check\"))","v":""},{"$f":"IF(OR(IF(D4845=\"\",\"\",IF(ISNUMBER(D4845)=TRUE,\"\",\"TEXT\"))=\"TEXT\",IF(E4845=\"\",\"\",IF(ISNUMBER(E4845)=TRUE,\"\",\"TEXT\"))=\"TEXT\",IF(G4845=\"\",\"\",IF(ISNUMBER(G4845)=TRUE,\"\",\"TEXT\"))=\"TEXT\"),\"Check\",\"\")","v":""},{"$f":"IF(G4845<0,\"Check\",\"\")","v":""}]
["SBSA_4837","SBSA_4837",null,null,null,null,null,null,null,null,null,null,null,null,null,null,null,null,null,null,null,null,null,null,null,null,"","",{"$f":"IF(OR(\nOR(AND(D4846<>\"\",F4846=\"\"),AND(E4846<>\"\",F4846=\"\")),\nF4846=LEFT(F4846,MIN(FIND(0,SUBSTITUTE(F4846,{1,2,3,4,5,6,7,8,9},0)&0))-1)=FALSE\n),\"Check\",\"\")","v":""},"","",null,"",0,"","","","",""]
["SBSA_4838","SBSA_4838",null,null,null,null,null,null,null,null,null,null,null,null,null,null,null,null,null,null,null,null,null,null,null,null,"","",{"$f":"IF(OR(\nOR(AND(D4847<>\"\",F4847=\"\"),AND(E4847<>\"\",F4847=\"\")),\nF4847=LEFT(F4847,MIN(FIND(0,SUBSTITUTE(F4847,{1,2,3,4,5,6,7,8,9},0)&0))-1)=FALSE\n),\"Check\",\"\")","v":""},"","",null,"",0,"","","","",""]
["SBSA_4839","SBSA_4839",null,null,null,null,null,null,null,null,null,null,null,null,null,null,null,null,null,null,null,null,null,null,null,null,"","",{"$f":"IF(OR(\nOR(AND(D4848<>\"\",F4848=\"\"),AND(E4848<>\"\",F4848=\"\")),\nF4848=LEFT(F4848,MIN(FIND(0,SUBSTITUTE(F4848,{1,2,3,4,5,6,7,8,9},0)&0))-1)=FALSE\n),\"Check\",\"\")","v":""},"","",null,"",0,"","","","",""]
["SBSA_4840","SBSA_4840",null,null,null,null,null,null,null,null,null,null,null,null,null,null,null,null,null,null,null,null,null,null,null,null,"","",{"$f":"IF(OR(\nOR(AND(D4849<>\"\",F4849=\"\"),AND(E4849<>\"\",F4849=\"\")),\nF4849=LEFT(F4849,MIN(FIND(0,SUBSTITUTE(F4849,{1,2,3,4,5,6,7,8,9},0)&0))-1)=FALSE\n),\"Check\",\"\")","v":""},"","",null,"",0,"","","","",""]
["SBSA_4841","SBSA_4841",null,null,null,null,null,null,null,null,null,null,null,null,null,null,null,null,null,null,null,null,null,null,null,null,"","",{"$f":"IF(OR(\nOR(AND(D4850<>\"\",F4850=\"\"),AND(E4850<>\"\",F4850=\"\")),\nF4850=LEFT(F4850,MIN(FIND(0,SUBSTITUTE(F4850,{1,2,3,4,5,6,7,8,9},0)&0))-1)=FALSE\n),\"Check\",\"\")","v":""},"","",null,"",0,"","","","",""]
["SBSA_4842","SBSA_4842",null,null,null,null,null,null,null,null,null,null,null,null,null,null,null,null,null,null,null,null,null,null,null,null,"","",{"$f":"IF(OR(\nOR(AND(D4851<>\"\",F4851=\"\"),AND(E4851<>\"\",F4851=\"\")),\nF4851=LEFT(F4851,MIN(FIND(0,SUBSTITUTE(F4851,{1,2,3,4,5,6,7,8,9},0)&0))-1)=FALSE\n),\"Check\",\"\")","v":""},"","",null,"",0,"","","","",""]
["SBSA_4843","SBSA_4843",null,null,null,null,null,null,null,null,null,null,null,null,null,null,null,null,null,null,null,null,null,null,null,null,"","",{"$f":"IF(OR(\nOR(AND(D4852<>\"\",F4852=\"\"),AND(E4852<>\"\",F4852=\"\")),\nF4852=LEFT(F4852,MIN(FIND(0,SUBSTITUTE(F4852,{1,2,3,4,5,6,7,8,9},0)&0))-1)=FALSE\n),\"Check\",\"\")","v":""},"","",null,"",0,"","","","",""]
["SBSA_4844","SBSA_4844",null,null,null,null,null,null,null,null,null,null,null,null,null,null,null,null,null,null,null,null,null,null,null,null,"","",{"$f":"IF(OR(\nOR(AND(D4853<>\"\",F4853=\"\"),AND(E4853<>\"\",F4853=\"\")),\nF4853=LEFT(F4853,MIN(FIND(0,SUBSTITUTE(F4853,{1,2,3,4,5,6,7,8,9},0)&0))-1)=FALSE\n),\"Check\",\"\")","v":""},"","",null,"",0,"","","","",""]
["SBSA_4845","SBSA_4845",null,null,null,null,null,null,null,null,null,null,null,null,null,null,null,null,null,null,null,null,null,null,null,null,"","",{"$f":"IF(OR(\nOR(AND(D4854<>\"\",F4854=\"\"),AND(E4854<>\"\",F4854=\"\")),\nF4854=LEFT(F4854,MIN(FIND(0,SUBSTITUTE(F4854,{1,2,3,4,5,6,7,8,9},0)&0))-1)=FALSE\n),\"Check\",\"\")","v":""},"","",null,"",0,"","","","",""]
["SBSA_4846","SBSA_4846",null,null,null,null,null,null,null,null,null,null,null,null,null,null,null,null,null,null,null,null,null,null,null,null,"","",{"$f":"IF(OR(\nOR(AND(D4855<>\"\",F4855=\"\"),AND(E4855<>\"\",F4855=\"\")),\nF4855=LEFT(F4855,MIN(FIND(0,SUBSTITUTE(F4855,{1,2,3,4,5,6,7,8,9},0)&0))-1)=FALSE\n),\"Check\",\"\")","v":""},"","",null,"",0,"","","","",""]
["SBSA_4847","SBSA_4847",null,null,null,null,null,null,null,null,null,null,null,null,null,null,null,null,null,null,null,null,null,null,null,null,"","",{"$f":"IF(OR(\nOR(AND(D4856<>\"\",F4856=\"\"),AND(E4856<>\"\",F4856=\"\")),\nF4856=LEFT(F4856,MIN(FIND(0,SUBSTITUTE(F4856,{1,2,3,4,5,6,7,8,9},0)&0))-1)=FALSE\n),\"Check\",\"\")","v":""},"","",null,"",0,"","","","",""]
["SBSA_4848","SBSA_4848",null,null,null,null,null,null,null,null,null,null,null,null,null,null,null,null,null,null,null,null,null,null,null,null,"","",{"$f":"IF(OR(\nOR(AND(D4857<>\"\",F4857=\"\"),AND(E4857<>\"\",F4857=\"\")),\nF4857=LEFT(F4857,MIN(FIND(0,SUBSTITUTE(F4857,{1,2,3,4,5,6,7,8,9},0)&0))-1)=FALSE\n),\"Check\",\"\")","v":""},"","",null,"",0,"","","","",""]
["SBSA_4849","SBSA_4849",null,null,null,null,null,null,null,null,null,null,null,null,null,null,null,null,null,null,null,null,null,null,null,null,"","",{"$f":"IF(OR(\nOR(AND(D4858<>\"\",F4858=\"\"),AND(E4858<>\"\",F4858=\"\")),\nF4858=LEFT(F4858,MIN(FIND(0,SUBSTITUTE(F4858,{1,2,3,4,5,6,7,8,9},0)&0))-1)=FALSE\n),\"Check\",\"\")","v":""},"","",null,"",0,"","","","",""]
["SBSA_4850","SBSA_4850",null,null,null,null,null,null,null,null,null,null,null,null,null,null,null,null,null,null,null,null,null,null,null,null,"","",{"$f":"IF(OR(\nOR(AND(D4859<>\"\",F4859=\"\"),AND(E4859<>\"\",F4859=\"\")),\nF4859=LEFT(F4859,MIN(FIND(0,SUBSTITUTE(F4859,{1,2,3,4,5,6,7,8,9},0)&0))-1)=FALSE\n),\"Check\",\"\")","v":""},"","",null,"",0,"","","","",""]
["SBSA_4851","SBSA_4851",null,null,null,null,null,null,null,null,null,null,null,null,null,null,null,null,null,null,null,null,null,null,null,null,"","",{"$f":"IF(OR(\nOR(AND(D4860<>\"\",F4860=\"\"),AND(E4860<>\"\",F4860=\"\")),\nF4860=LEFT(F4860,MIN(FIND(0,SUBSTITUTE(F4860,{1,2,3,4,5,6,7,8,9},0)&0))-1)=FALSE\n),\"Check\",\"\")","v":""},"","",null,"",0,"","","","",""]
["SBSA_4852","SBSA_4852",null,null,null,null,null,null,null,null,null,null,null,null,null,null,null,null,null,null,null,null,null,null,null,null,"","",{"$f":"IF(OR(\nOR(AND(D4861<>\"\",F4861=\"\"),AND(E4861<>\"\",F4861=\"\")),\nF4861=LEFT(F4861,MIN(FIND(0,SUBSTITUTE(F4861,{1,2,3,4,5,6,7,8,9},0)&0))-1)=FALSE\n),\"Check\",\"\")","v":""},"","",null,"",0,"","","","",""]
["SBSA_4853","SBSA_4853",null,null,null,null,null,null,null,null,null,null,null,null,null,null,null,null,null,null,null,null,null,null,null,null,"","",{"$f":"IF(OR(\nOR(AND(D4862<>\"\",F4862=\"\"),AND(E4862<>\"\",F4862=\"\")),\nF4862=LEFT(F4862,MIN(FIND(0,SUBSTITUTE(F4862,{1,2,3,4,5,6,7,8,9},0)&0))-1)=FALSE\n),\"Check\",\"\")","v":""},"","",null,"",0,"","","","",""]
["SBSA_4854","SBSA_4854",null,null,null,null,null,null,null,null,null,null,null,null,null,null,null,null,null,null,null,null,null,null,null,null,"","",{"$f":"IF(OR(\nOR(AND(D4863<>\"\",F4863=\"\"),AND(E4863<>\"\",F4863=\"\")),\nF4863=LEFT(F4863,MIN(FIND(0,SUBSTITUTE(F4863,{1,2,3,4,5,6,7,8,9},0)&0))-1)=FALSE\n),\"Check\",\"\")","v":""},"","",null,"",0,"","","","",""]
["SBSA_4855","SBSA_4855",null,null,null,null,null,null,null,null,null,null,null,null,null,null,null,null,null,null,null,null,null,null,null,null,"","",{"$f":"IF(OR(\nOR(AND(D4864<>\"\",F4864=\"\"),AND(E4864<>\"\",F4864=\"\")),\nF4864=LEFT(F4864,MIN(FIND(0,SUBSTITUTE(F4864,{1,2,3,4,5,6,7,8,9},0)&0))-1)=FALSE\n),\"Check\",\"\")","v":""},"","",null,"",0,"","","","",""]
["SBSA_4856","SBSA_4856",null,null,null,null,null,null,null,null,null,null,null,null,null,null,null,null,null,null,null,null,null,null,null,null,"","",{"$f":"IF(OR(\nOR(AND(D4865<>\"\",F4865=\"\"),AND(E4865<>\"\",F4865=\"\")),\nF4865=LEFT(F4865,MIN(FIND(0,SUBSTITUTE(F4865,{1,2,3,4,5,6,7,8,9},0)&0))-1)=FALSE\n),\"Check\",\"\")","v":""},"","",null,"",0,"","","","",""]
["SBSA_4857","SBSA_4857",null,null,null,null,null,null,null,null,null,null,null,null,null,null,null,null,null,null,null,null,null,null,null,null,"","",{"$f":"IF(OR(\nOR(AND(D4866<>\"\",F4866=\"\"),AND(E4866<>\"\",F4866=\"\")),\nF4866=LEFT(F4866,MIN(FIND(0,SUBSTITUTE(F4866,{1,2,3,4,5,6,7,8,9},0)&0))-1)=FALSE\n),\"Check\",\"\")","v":""},"","",null,"",0,"","","","",""]
["SBSA_4858","SBSA_4858",null,null,null,null,null,null,null,null,null,null,null,null,null,null,null,null,null,null,null,null,null,null,null,null,"","",{"$f":"IF(OR(\nOR(AND(D4867<>\"\",F4867=\"\"),AND(E4867<>\"\",F4867=\"\")),\nF4867=LEFT(F4867,MIN(FIND(0,SUBSTITUTE(F4867,{1,2,3,4,5,6,7,8,9},0)&0))-1)=FALSE\n),\"Check\",\"\")","v":""},"","",null,"",0,"","","","",""]
["SBSA_4859","SBSA_4859",null,null,null,null,null,null,null,null,null,null,null,null,null,null,null,null,null,null,null,null,null,null,null,null,"","",{"$f":"IF(OR(\nOR(AND(D4868<>\"\",F4868=\"\"),AND(E4868<>\"\",F4868=\"\")),\nF4868=LEFT(F4868,MIN(FIND(0,SUBSTITUTE(F4868,{1,2,3,4,5,6,7,8,9},0)&0))-1)=FALSE\n),\"Check\",\"\")","v":""},"","",null,"",0,"","","","",""]
["SBSA_4860","SBSA_4860",null,null,null,null,null,null,null,null,null,null,null,null,null,null,null,null,null,null,null,null,null,null,null,null,"","",{"$f":"IF(OR(\nOR(AND(D4869<>\"\",F4869=\"\"),AND(E4869<>\"\",F4869=\"\")),\nF4869=LEFT(F4869,MIN(FIND(0,SUBSTITUTE(F4869,{1,2,3,4,5,6,7,8,9},0)&0))-1)=FALSE\n),\"Check\",\"\")","v":""},"","",null,"",0,"","","","",""]
["SBSA_4861","SBSA_4861",null,null,null,null,null,null,null,null,null,null,null,null,null,null,null,null,null,null,null,null,null,null,null,null,"","",{"$f":"IF(OR(\nOR(AND(D4870<>\"\",F4870=\"\"),AND(E4870<>\"\",F4870=\"\")),\nF4870=LEFT(F4870,MIN(FIND(0,SUBSTITUTE(F4870,{1,2,3,4,5,6,7,8,9},0)&0))-1)=FALSE\n),\"Check\",\"\")","v":""},"","",null,"",0,"","","","",""]
["SBSA_4862","SBSA_4862",null,null,null,null,null,null,null,null,null,null,null,null,null,null,null,null,null,null,null,null,null,null,null,null,"","",{"$f":"IF(OR(\nOR(AND(D4871<>\"\",F4871=\"\"),AND(E4871<>\"\",F4871=\"\")),\nF4871=LEFT(F4871,MIN(FIND(0,SUBSTITUTE(F4871,{1,2,3,4,5,6,7,8,9},0)&0))-1)=FALSE\n),\"Check\",\"\")","v":""},"","",null,"",0,"","","","",""]
["SBSA_4863","SBSA_4863",null,null,null,null,null,null,null,null,null,null,null,null,null,null,null,null,null,null,null,null,null,null,null,null,"","",{"$f":"IF(OR(\nOR(AND(D4872<>\"\",F4872=\"\"),AND(E4872<>\"\",F4872=\"\")),\nF4872=LEFT(F4872,MIN(FIND(0,SUBSTITUTE(F4872,{1,2,3,4,5,6,7,8,9},0)&0))-1)=FALSE\n),\"Check\",\"\")","v":""},"","",null,"",0,"","","","",""]
["SBSA_4864","SBSA_4864",null,null,null,null,null,null,null,null,null,null,null,null,null,null,null,null,null,null,null,null,null,null,null,null,"","",{"$f":"IF(OR(\nOR(AND(D4873<>\"\",F4873=\"\"),AND(E4873<>\"\",F4873=\"\")),\nF4873=LEFT(F4873,MIN(FIND(0,SUBSTITUTE(F4873,{1,2,3,4,5,6,7,8,9},0)&0))-1)=FALSE\n),\"Check\",\"\")","v":""},"","",null,"",0,"","","","",""]
["SBSA_4865","SBSA_4865",null,null,null,null,null,null,null,null,null,null,null,null,null,null,null,null,null,null,null,null,null,null,null,null,"","",{"$f":"IF(OR(\nOR(AND(D4874<>\"\",F4874=\"\"),AND(E4874<>\"\",F4874=\"\")),\nF4874=LEFT(F4874,MIN(FIND(0,SUBSTITUTE(F4874,{1,2,3,4,5,6,7,8,9},0)&0))-1)=FALSE\n),\"Check\",\"\")","v":""},"","",null,"",0,"","","","",""]
["SBSA_4866","SBSA_4866",null,null,null,null,null,null,null,null,null,null,null,null,null,null,null,null,null,null,null,null,null,null,null,null,"","",{"$f":"IF(OR(\nOR(AND(D4875<>\"\",F4875=\"\"),AND(E4875<>\"\",F4875=\"\")),\nF4875=LEFT(F4875,MIN(FIND(0,SUBSTITUTE(F4875,{1,2,3,4,5,6,7,8,9},0)&0))-1)=FALSE\n),\"Check\",\"\")","v":""},"","",null,"",0,"","","","",""]
["SBSA_4867","SBSA_4867",null,null,null,null,null,null,null,null,null,null,null,null,null,null,null,null,null,null,null,null,null,null,null,null,"","",{"$f":"IF(OR(\nOR(AND(D4876<>\"\",F4876=\"\"),AND(E4876<>\"\",F4876=\"\")),\nF4876=LEFT(F4876,MIN(FIND(0,SUBSTITUTE(F4876,{1,2,3,4,5,6,7,8,9},0)&0))-1)=FALSE\n),\"Check\",\"\")","v":""},"","",null,"",0,"","","","",""]
["SBSA_4868","SBSA_4868",null,null,null,null,null,null,null,null,null,null,null,null,null,null,null,null,null,null,null,null,null,null,null,null,"","",{"$f":"IF(OR(\nOR(AND(D4877<>\"\",F4877=\"\"),AND(E4877<>\"\",F4877=\"\")),\nF4877=LEFT(F4877,MIN(FIND(0,SUBSTITUTE(F4877,{1,2,3,4,5,6,7,8,9},0)&0))-1)=FALSE\n),\"Check\",\"\")","v":""},"","",null,"",0,"","","","",""]
["SBSA_4869","SBSA_4869",null,null,null,null,null,null,null,null,null,null,null,null,null,null,null,null,null,null,null,null,null,null,null,null,"","",{"$f":"IF(OR(\nOR(AND(D4878<>\"\",F4878=\"\"),AND(E4878<>\"\",F4878=\"\")),\nF4878=LEFT(F4878,MIN(FIND(0,SUBSTITUTE(F4878,{1,2,3,4,5,6,7,8,9},0)&0))-1)=FALSE\n),\"Check\",\"\")","v":""},"","",null,"",0,"","","","",""]
["SBSA_4870","SBSA_4870",null,null,null,null,null,null,null,null,null,null,null,null,null,null,null,null,null,null,null,null,null,null,null,null,"","",{"$f":"IF(OR(\nOR(AND(D4879<>\"\",F4879=\"\"),AND(E4879<>\"\",F4879=\"\")),\nF4879=LEFT(F4879,MIN(FIND(0,SUBSTITUTE(F4879,{1,2,3,4,5,6,7,8,9},0)&0))-1)=FALSE\n),\"Check\",\"\")","v":""},"","",null,"",0,"","","","",""]
["SBSA_4871","SBSA_4871",null,null,null,null,null,null,null,null,null,null,null,null,null,null,null,null,null,null,null,null,null,null,null,null,"","",{"$f":"IF(OR(\nOR(AND(D4880<>\"\",F4880=\"\"),AND(E4880<>\"\",F4880=\"\")),\nF4880=LEFT(F4880,MIN(FIND(0,SUBSTITUTE(F4880,{1,2,3,4,5,6,7,8,9},0)&0))-1)=FALSE\n),\"Check\",\"\")","v":""},"","",null,"",0,"","","","",""]
["SBSA_4872","SBSA_4872",null,null,null,null,null,null,null,null,null,null,null,null,null,null,null,null,null,null,null,null,null,null,null,null,"","",{"$f":"IF(OR(\nOR(AND(D4881<>\"\",F4881=\"\"),AND(E4881<>\"\",F4881=\"\")),\nF4881=LEFT(F4881,MIN(FIND(0,SUBSTITUTE(F4881,{1,2,3,4,5,6,7,8,9},0)&0))-1)=FALSE\n),\"Check\",\"\")","v":""},"","",null,"",0,"","","","",""]
["SBSA_4873","SBSA_4873",null,null,null,null,null,null,null,null,null,null,null,null,null,null,null,null,null,null,null,null,null,null,null,null,"","",{"$f":"IF(OR(\nOR(AND(D4882<>\"\",F4882=\"\"),AND(E4882<>\"\",F4882=\"\")),\nF4882=LEFT(F4882,MIN(FIND(0,SUBSTITUTE(F4882,{1,2,3,4,5,6,7,8,9},0)&0))-1)=FALSE\n),\"Check\",\"\")","v":""},"","",null,"",0,"","","","",""]
["SBSA_4874","SBSA_4874",null,null,null,null,null,null,null,null,null,null,null,null,null,null,null,null,null,null,null,null,null,null,null,null,"","",{"$f":"IF(OR(\nOR(AND(D4883<>\"\",F4883=\"\"),AND(E4883<>\"\",F4883=\"\")),\nF4883=LEFT(F4883,MIN(FIND(0,SUBSTITUTE(F4883,{1,2,3,4,5,6,7,8,9},0)&0))-1)=FALSE\n),\"Check\",\"\")","v":""},"","",null,"",0,"","","","",""]
["SBSA_4875","SBSA_4875",null,null,null,null,null,null,null,null,null,null,null,null,null,null,null,null,null,null,null,null,null,null,null,null,"","",{"$f":"IF(OR(\nOR(AND(D4884<>\"\",F4884=\"\"),AND(E4884<>\"\",F4884=\"\")),\nF4884=LEFT(F4884,MIN(FIND(0,SUBSTITUTE(F4884,{1,2,3,4,5,6,7,8,9},0)&0))-1)=FALSE\n),\"Check\",\"\")","v":""},"","",null,"",0,"","","","",""]
["SBSA_4876","SBSA_4876",null,null,null,null,null,null,null,null,null,null,null,null,null,null,null,null,null,null,null,null,null,null,null,null,"","",{"$f":"IF(OR(\nOR(AND(D4885<>\"\",F4885=\"\"),AND(E4885<>\"\",F4885=\"\")),\nF4885=LEFT(F4885,MIN(FIND(0,SUBSTITUTE(F4885,{1,2,3,4,5,6,7,8,9},0)&0))-1)=FALSE\n),\"Check\",\"\")","v":""},"","",null,"",0,"","","","",""]
["SBSA_4877","SBSA_4877",null,null,null,null,null,null,null,null,null,null,null,null,null,null,null,null,null,null,null,null,null,null,null,null,"","",{"$f":"IF(OR(\nOR(AND(D4886<>\"\",F4886=\"\"),AND(E4886<>\"\",F4886=\"\")),\nF4886=LEFT(F4886,MIN(FIND(0,SUBSTITUTE(F4886,{1,2,3,4,5,6,7,8,9},0)&0))-1)=FALSE\n),\"Check\",\"\")","v":""},"","",null,"",0,"","","","",""]
["SBSA_4878","SBSA_4878",null,null,null,null,null,null,null,null,null,null,null,null,null,null,null,null,null,null,null,null,null,null,null,null,"","",{"$f":"IF(OR(\nOR(AND(D4887<>\"\",F4887=\"\"),AND(E4887<>\"\",F4887=\"\")),\nF4887=LEFT(F4887,MIN(FIND(0,SUBSTITUTE(F4887,{1,2,3,4,5,6,7,8,9},0)&0))-1)=FALSE\n),\"Check\",\"\")","v":""},"","",null,"",0,"","","","",""]
["SBSA_4879","SBSA_4879",null,null,null,null,null,null,null,null,null,null,null,null,null,null,null,null,null,null,null,null,null,null,null,null,"","",{"$f":"IF(OR(\nOR(AND(D4888<>\"\",F4888=\"\"),AND(E4888<>\"\",F4888=\"\")),\nF4888=LEFT(F4888,MIN(FIND(0,SUBSTITUTE(F4888,{1,2,3,4,5,6,7,8,9},0)&0))-1)=FALSE\n),\"Check\",\"\")","v":""},"","",null,"",0,"","","","",""]
["SBSA_4880","SBSA_4880",null,null,null,null,null,null,null,null,null,null,null,null,null,null,null,null,null,null,null,null,null,null,null,null,"","",{"$f":"IF(OR(\nOR(AND(D4889<>\"\",F4889=\"\"),AND(E4889<>\"\",F4889=\"\")),\nF4889=LEFT(F4889,MIN(FIND(0,SUBSTITUTE(F4889,{1,2,3,4,5,6,7,8,9},0)&0))-1)=FALSE\n),\"Check\",\"\")","v":""},"","",null,"",0,"","","","",""]
["SBSA_4881","SBSA_4881",null,null,null,null,null,null,null,null,null,null,null,null,null,null,null,null,null,null,null,null,null,null,null,null,"","",{"$f":"IF(OR(\nOR(AND(D4890<>\"\",F4890=\"\"),AND(E4890<>\"\",F4890=\"\")),\nF4890=LEFT(F4890,MIN(FIND(0,SUBSTITUTE(F4890,{1,2,3,4,5,6,7,8,9},0)&0))-1)=FALSE\n),\"Check\",\"\")","v":""},"","",null,"",0,"","","","",""]
["SBSA_4882","SBSA_4882",null,null,null,null,null,null,null,null,null,null,null,null,null,null,null,null,null,null,null,null,null,null,null,null,"","",{"$f":"IF(OR(\nOR(AND(D4891<>\"\",F4891=\"\"),AND(E4891<>\"\",F4891=\"\")),\nF4891=LEFT(F4891,MIN(FIND(0,SUBSTITUTE(F4891,{1,2,3,4,5,6,7,8,9},0)&0))-1)=FALSE\n),\"Check\",\"\")","v":""},"","",null,"",0,"","","","",""]
["SBSA_4883","SBSA_4883",null,null,null,null,null,null,null,null,null,null,null,null,null,null,null,null,null,null,null,null,null,null,null,null,"","",{"$f":"IF(OR(\nOR(AND(D4892<>\"\",F4892=\"\"),AND(E4892<>\"\",F4892=\"\")),\nF4892=LEFT(F4892,MIN(FIND(0,SUBSTITUTE(F4892,{1,2,3,4,5,6,7,8,9},0)&0))-1)=FALSE\n),\"Check\",\"\")","v":""},"","",null,"",0,"","","","",""]
["SBSA_4884","SBSA_4884",null,null,null,null,null,null,null,null,null,null,null,null,null,null,null,null,null,null,null,null,null,null,null,null,"","",{"$f":"IF(OR(\nOR(AND(D4893<>\"\",F4893=\"\"),AND(E4893<>\"\",F4893=\"\")),\nF4893=LEFT(F4893,MIN(FIND(0,SUBSTITUTE(F4893,{1,2,3,4,5,6,7,8,9},0)&0))-1)=FALSE\n),\"Check\",\"\")","v":""},"","",null,"",0,"","","","",""]
["SBSA_4885","SBSA_4885",null,null,null,null,null,null,null,null,null,null,null,null,null,null,null,null,null,null,null,null,null,null,null,null,"","",{"$f":"IF(OR(\nOR(AND(D4894<>\"\",F4894=\"\"),AND(E4894<>\"\",F4894=\"\")),\nF4894=LEFT(F4894,MIN(FIND(0,SUBSTITUTE(F4894,{1,2,3,4,5,6,7,8,9},0)&0))-1)=FALSE\n),\"Check\",\"\")","v":""},"","",null,"",0,"","","","",""]
["SBSA_4886","SBSA_4886",null,null,null,null,null,null,null,null,null,null,null,null,null,null,null,null,null,null,null,null,null,null,null,null,"","",{"$f":"IF(OR(\nOR(AND(D4895<>\"\",F4895=\"\"),AND(E4895<>\"\",F4895=\"\")),\nF4895=LEFT(F4895,MIN(FIND(0,SUBSTITUTE(F4895,{1,2,3,4,5,6,7,8,9},0)&0))-1)=FALSE\n),\"Check\",\"\")","v":""},"","",null,"",0,"","","","",""]
["SBSA_4887","SBSA_4887",null,null,null,null,null,null,null,null,null,null,null,null,null,null,null,null,null,null,null,null,null,null,null,null,"","",{"$f":"IF(OR(\nOR(AND(D4896<>\"\",F4896=\"\"),AND(E4896<>\"\",F4896=\"\")),\nF4896=LEFT(F4896,MIN(FIND(0,SUBSTITUTE(F4896,{1,2,3,4,5,6,7,8,9},0)&0))-1)=FALSE\n),\"Check\",\"\")","v":""},"","",null,"",0,"","","","",""]
["SBSA_4888","SBSA_4888",null,null,null,null,null,null,null,null,null,null,null,null,null,null,null,null,null,null,null,null,null,null,null,null,"","",{"$f":"IF(OR(\nOR(AND(D4897<>\"\",F4897=\"\"),AND(E4897<>\"\",F4897=\"\")),\nF4897=LEFT(F4897,MIN(FIND(0,SUBSTITUTE(F4897,{1,2,3,4,5,6,7,8,9},0)&0))-1)=FALSE\n),\"Check\",\"\")","v":""},"","",null,"",0,"","","","",""]
["SBSA_4889","SBSA_4889",null,null,null,null,null,null,null,null,null,null,null,null,null,null,null,null,null,null,null,null,null,null,null,null,"","",{"$f":"IF(OR(\nOR(AND(D4898<>\"\",F4898=\"\"),AND(E4898<>\"\",F4898=\"\")),\nF4898=LEFT(F4898,MIN(FIND(0,SUBSTITUTE(F4898,{1,2,3,4,5,6,7,8,9},0)&0))-1)=FALSE\n),\"Check\",\"\")","v":""},"","",null,"",0,"","","","",""]
["SBSA_4890","SBSA_4890",null,null,null,null,null,null,null,null,null,null,null,null,null,null,null,null,null,null,null,null,null,null,null,null,"","",{"$f":"IF(OR(\nOR(AND(D4899<>\"\",F4899=\"\"),AND(E4899<>\"\",F4899=\"\")),\nF4899=LEFT(F4899,MIN(FIND(0,SUBSTITUTE(F4899,{1,2,3,4,5,6,7,8,9},0)&0))-1)=FALSE\n),\"Check\",\"\")","v":""},"","",null,"",0,"","","","",""]
["SBSA_4891","SBSA_4891",null,null,null,null,null,null,null,null,null,null,null,null,null,null,null,null,null,null,null,null,null,null,null,null,"","",{"$f":"IF(OR(\nOR(AND(D4900<>\"\",F4900=\"\"),AND(E4900<>\"\",F4900=\"\")),\nF4900=LEFT(F4900,MIN(FIND(0,SUBSTITUTE(F4900,{1,2,3,4,5,6,7,8,9},0)&0))-1)=FALSE\n),\"Check\",\"\")","v":""},"","",null,"",0,"","","","",""]
["SBSA_4892","SBSA_4892",null,null,null,null,null,null,null,null,null,null,null,null,null,null,null,null,null,null,null,null,null,null,null,null,"","",{"$f":"IF(OR(\nOR(AND(D4901<>\"\",F4901=\"\"),AND(E4901<>\"\",F4901=\"\")),\nF4901=LEFT(F4901,MIN(FIND(0,SUBSTITUTE(F4901,{1,2,3,4,5,6,7,8,9},0)&0))-1)=FALSE\n),\"Check\",\"\")","v":""},"","",null,"",0,"","","","",""]
["SBSA_4893","SBSA_4893",null,null,null,null,null,null,null,null,null,null,null,null,null,null,null,null,null,null,null,null,null,null,null,null,"","",{"$f":"IF(OR(\nOR(AND(D4902<>\"\",F4902=\"\"),AND(E4902<>\"\",F4902=\"\")),\nF4902=LEFT(F4902,MIN(FIND(0,SUBSTITUTE(F4902,{1,2,3,4,5,6,7,8,9},0)&0))-1)=FALSE\n),\"Check\",\"\")","v":""},"","",null,"",0,"","","","",""]
["SBSA_4894","SBSA_4894",null,null,null,null,null,null,null,null,null,null,null,null,null,null,null,null,null,null,null,null,null,null,null,null,"","",{"$f":"IF(OR(\nOR(AND(D4903<>\"\",F4903=\"\"),AND(E4903<>\"\",F4903=\"\")),\nF4903=LEFT(F4903,MIN(FIND(0,SUBSTITUTE(F4903,{1,2,3,4,5,6,7,8,9},0)&0))-1)=FALSE\n),\"Check\",\"\")","v":""},"","",null,"",0,"","","","",""]
["SBSA_4895","SBSA_4895",null,null,null,null,null,null,null,null,null,null,null,null,null,null,null,null,null,null,null,null,null,null,null,null,"","",{"$f":"IF(OR(\nOR(AND(D4904<>\"\",F4904=\"\"),AND(E4904<>\"\",F4904=\"\")),\nF4904=LEFT(F4904,MIN(FIND(0,SUBSTITUTE(F4904,{1,2,3,4,5,6,7,8,9},0)&0))-1)=FALSE\n),\"Check\",\"\")","v":""},"","",null,"",0,"","","","",""]
["SBSA_4896","SBSA_4896",null,null,null,null,null,null,null,null,null,null,null,null,null,null,null,null,null,null,null,null,null,null,null,null,"","",{"$f":"IF(OR(\nOR(AND(D4905<>\"\",F4905=\"\"),AND(E4905<>\"\",F4905=\"\")),\nF4905=LEFT(F4905,MIN(FIND(0,SUBSTITUTE(F4905,{1,2,3,4,5,6,7,8,9},0)&0))-1)=FALSE\n),\"Check\",\"\")","v":""},"","",null,"",0,"","","","",""]
["SBSA_4897","SBSA_4897",null,null,null,null,null,null,null,null,null,null,null,null,null,null,null,null,null,null,null,null,null,null,null,null,"","",{"$f":"IF(OR(\nOR(AND(D4906<>\"\",F4906=\"\"),AND(E4906<>\"\",F4906=\"\")),\nF4906=LEFT(F4906,MIN(FIND(0,SUBSTITUTE(F4906,{1,2,3,4,5,6,7,8,9},0)&0))-1)=FALSE\n),\"Check\",\"\")","v":""},"","",null,"",0,"","","","",""]
["SBSA_4898","SBSA_4898",null,null,null,null,null,null,null,null,null,null,null,null,null,null,null,null,null,null,null,null,null,null,null,null,"","",{"$f":"IF(OR(\nOR(AND(D4907<>\"\",F4907=\"\"),AND(E4907<>\"\",F4907=\"\")),\nF4907=LEFT(F4907,MIN(FIND(0,SUBSTITUTE(F4907,{1,2,3,4,5,6,7,8,9},0)&0))-1)=FALSE\n),\"Check\",\"\")","v":""},"","",null,"",0,"","","","",""]
["SBSA_4899","SBSA_4899",null,null,null,null,null,null,null,null,null,null,null,null,null,null,null,null,null,null,null,null,null,null,null,null,"","",{"$f":"IF(OR(\nOR(AND(D4908<>\"\",F4908=\"\"),AND(E4908<>\"\",F4908=\"\")),\nF4908=LEFT(F4908,MIN(FIND(0,SUBSTITUTE(F4908,{1,2,3,4,5,6,7,8,9},0)&0))-1)=FALSE\n),\"Check\",\"\")","v":""},"","",null,"",0,"","","","",""]
["SBSA_4900","SBSA_4900",null,null,null,null,null,null,null,null,null,null,null,null,null,null,null,null,null,null,null,null,null,null,null,null,{"$f":"IF(AND(C4909=\"\",OR(D4909<>\"\",E4909<>\"\",F4909<>\"\",G4909<>\"\")),\"Check\",\"\")","v":""},{"$f":"IF(AND(C4909<>\"\",OR(AND(D4909=\"\",E4909=\"\"),AND(D4909=0,E4909=0),AND(ABS(D4909)>0,ABS(E4909)>0))),\"Check\",\"\")","v":""},{"$f":"IF(OR(\nOR(AND(D4909<>\"\",F4909=\"\"),AND(E4909<>\"\",F4909=\"\")),\nF4909=LEFT(F4909,MIN(FIND(0,SUBSTITUTE(F4909,{1,2,3,4,5,6,7,8,9},0)&0))-1)=FALSE\n),\"Check\",\"\")","v":""},{"$f":"IF(OR(E4909=\"\",G4909=\"\"),\"\",(E4909*G4909)/100)","v":""},{"$f":"IF(AND(F4909<>\"\",G4909=\"\"),\"Check\",\"\")","v":""},null,{"$f":"IF(C4909=\"\",\"\",C4909&\"_\"&IF(G4909=\"\",0,G4909))","v":""},{"$f":"IF(COUNTBLANK(C4909:G4909)<5,1,0)","v":0},{"$f":"IF(C4909=\"\",\"\",IF(LEN(C4909)=12,\"\",\"Check\"))","v":""},{"$f":"IF(C4909=\"\",\"\",IF(COUNTIF(C$10:C$65536,C4909)=COUNTIF(AG$10:AG$65536,AG4909),\"\",\"Check\"))","v":""},{"$f":"IF(F4909=\"\",\"\",IF(LEN(F4909)=3,\"\",\"Check\"))","v":""},{"$f":"IF(OR(IF(D4909=\"\",\"\",IF(ISNUMBER(D4909)=TRUE,\"\",\"TEXT\"))=\"TEXT\",IF(E4909=\"\",\"\",IF(ISNUMBER(E4909)=TRUE,\"\",\"TEXT\"))=\"TEXT\",IF(G4909=\"\",\"\",IF(ISNUMBER(G4909)=TRUE,\"\",\"TEXT\"))=\"TEXT\"),\"Check\",\"\")","v":""},{"$f":"IF(G4909<0,\"Check\",\"\")","v":""}]
["SBSA_4901","SBSA_4901",null,null,null,null,null,null,null,null,null,null,null,null,null,null,null,null,null,null,null,null,null,null,null,null,"","",{"$f":"IF(OR(\nOR(AND(D4910<>\"\",F4910=\"\"),AND(E4910<>\"\",F4910=\"\")),\nF4910=LEFT(F4910,MIN(FIND(0,SUBSTITUTE(F4910,{1,2,3,4,5,6,7,8,9},0)&0))-1)=FALSE\n),\"Check\",\"\")","v":""},"","",null,"",0,"","","","",""]
["SBSA_4902","SBSA_4902",null,null,null,null,null,null,null,null,null,null,null,null,null,null,null,null,null,null,null,null,null,null,null,null,"","",{"$f":"IF(OR(\nOR(AND(D4911<>\"\",F4911=\"\"),AND(E4911<>\"\",F4911=\"\")),\nF4911=LEFT(F4911,MIN(FIND(0,SUBSTITUTE(F4911,{1,2,3,4,5,6,7,8,9},0)&0))-1)=FALSE\n),\"Check\",\"\")","v":""},"","",null,"",0,"","","","",""]
["SBSA_4903","SBSA_4903",null,null,null,null,null,null,null,null,null,null,null,null,null,null,null,null,null,null,null,null,null,null,null,null,"","",{"$f":"IF(OR(\nOR(AND(D4912<>\"\",F4912=\"\"),AND(E4912<>\"\",F4912=\"\")),\nF4912=LEFT(F4912,MIN(FIND(0,SUBSTITUTE(F4912,{1,2,3,4,5,6,7,8,9},0)&0))-1)=FALSE\n),\"Check\",\"\")","v":""},"","",null,"",0,"","","","",""]
["SBSA_4904","SBSA_4904",null,null,null,null,null,null,null,null,null,null,null,null,null,null,null,null,null,null,null,null,null,null,null,null,"","",{"$f":"IF(OR(\nOR(AND(D4913<>\"\",F4913=\"\"),AND(E4913<>\"\",F4913=\"\")),\nF4913=LEFT(F4913,MIN(FIND(0,SUBSTITUTE(F4913,{1,2,3,4,5,6,7,8,9},0)&0))-1)=FALSE\n),\"Check\",\"\")","v":""},"","",null,"",0,"","","","",""]
["SBSA_4905","SBSA_4905",null,null,null,null,null,null,null,null,null,null,null,null,null,null,null,null,null,null,null,null,null,null,null,null,"","",{"$f":"IF(OR(\nOR(AND(D4914<>\"\",F4914=\"\"),AND(E4914<>\"\",F4914=\"\")),\nF4914=LEFT(F4914,MIN(FIND(0,SUBSTITUTE(F4914,{1,2,3,4,5,6,7,8,9},0)&0))-1)=FALSE\n),\"Check\",\"\")","v":""},"","",null,"",0,"","","","",""]
["SBSA_4906","SBSA_4906",null,null,null,null,null,null,null,null,null,null,null,null,null,null,null,null,null,null,null,null,null,null,null,null,"","",{"$f":"IF(OR(\nOR(AND(D4915<>\"\",F4915=\"\"),AND(E4915<>\"\",F4915=\"\")),\nF4915=LEFT(F4915,MIN(FIND(0,SUBSTITUTE(F4915,{1,2,3,4,5,6,7,8,9},0)&0))-1)=FALSE\n),\"Check\",\"\")","v":""},"","",null,"",0,"","","","",""]
["SBSA_4907","SBSA_4907",null,null,null,null,null,null,null,null,null,null,null,null,null,null,null,null,null,null,null,null,null,null,null,null,"","",{"$f":"IF(OR(\nOR(AND(D4916<>\"\",F4916=\"\"),AND(E4916<>\"\",F4916=\"\")),\nF4916=LEFT(F4916,MIN(FIND(0,SUBSTITUTE(F4916,{1,2,3,4,5,6,7,8,9},0)&0))-1)=FALSE\n),\"Check\",\"\")","v":""},"","",null,"",0,"","","","",""]
["SBSA_4908","SBSA_4908",null,null,null,null,null,null,null,null,null,null,null,null,null,null,null,null,null,null,null,null,null,null,null,null,"","",{"$f":"IF(OR(\nOR(AND(D4917<>\"\",F4917=\"\"),AND(E4917<>\"\",F4917=\"\")),\nF4917=LEFT(F4917,MIN(FIND(0,SUBSTITUTE(F4917,{1,2,3,4,5,6,7,8,9},0)&0))-1)=FALSE\n),\"Check\",\"\")","v":""},"","",null,"",0,"","","","",""]
["SBSA_4909","SBSA_4909",null,null,null,null,null,null,null,null,null,null,null,null,null,null,null,null,null,null,null,null,null,null,null,null,"","",{"$f":"IF(OR(\nOR(AND(D4918<>\"\",F4918=\"\"),AND(E4918<>\"\",F4918=\"\")),\nF4918=LEFT(F4918,MIN(FIND(0,SUBSTITUTE(F4918,{1,2,3,4,5,6,7,8,9},0)&0))-1)=FALSE\n),\"Check\",\"\")","v":""},"","",null,"",0,"","","","",""]
["SBSA_4910","SBSA_4910",null,null,null,null,null,null,null,null,null,null,null,null,null,null,null,null,null,null,null,null,null,null,null,null,"","",{"$f":"IF(OR(\nOR(AND(D4919<>\"\",F4919=\"\"),AND(E4919<>\"\",F4919=\"\")),\nF4919=LEFT(F4919,MIN(FIND(0,SUBSTITUTE(F4919,{1,2,3,4,5,6,7,8,9},0)&0))-1)=FALSE\n),\"Check\",\"\")","v":""},"","",null,"",0,"","","","",""]
["SBSA_4911","SBSA_4911",null,null,null,null,null,null,null,null,null,null,null,null,null,null,null,null,null,null,null,null,null,null,null,null,"","",{"$f":"IF(OR(\nOR(AND(D4920<>\"\",F4920=\"\"),AND(E4920<>\"\",F4920=\"\")),\nF4920=LEFT(F4920,MIN(FIND(0,SUBSTITUTE(F4920,{1,2,3,4,5,6,7,8,9},0)&0))-1)=FALSE\n),\"Check\",\"\")","v":""},"","",null,"",0,"","","","",""]
["SBSA_4912","SBSA_4912",null,null,null,null,null,null,null,null,null,null,null,null,null,null,null,null,null,null,null,null,null,null,null,null,"","",{"$f":"IF(OR(\nOR(AND(D4921<>\"\",F4921=\"\"),AND(E4921<>\"\",F4921=\"\")),\nF4921=LEFT(F4921,MIN(FIND(0,SUBSTITUTE(F4921,{1,2,3,4,5,6,7,8,9},0)&0))-1)=FALSE\n),\"Check\",\"\")","v":""},"","",null,"",0,"","","","",""]
["SBSA_4913","SBSA_4913",null,null,null,null,null,null,null,null,null,null,null,null,null,null,null,null,null,null,null,null,null,null,null,null,"","",{"$f":"IF(OR(\nOR(AND(D4922<>\"\",F4922=\"\"),AND(E4922<>\"\",F4922=\"\")),\nF4922=LEFT(F4922,MIN(FIND(0,SUBSTITUTE(F4922,{1,2,3,4,5,6,7,8,9},0)&0))-1)=FALSE\n),\"Check\",\"\")","v":""},"","",null,"",0,"","","","",""]
["SBSA_4914","SBSA_4914",null,null,null,null,null,null,null,null,null,null,null,null,null,null,null,null,null,null,null,null,null,null,null,null,"","",{"$f":"IF(OR(\nOR(AND(D4923<>\"\",F4923=\"\"),AND(E4923<>\"\",F4923=\"\")),\nF4923=LEFT(F4923,MIN(FIND(0,SUBSTITUTE(F4923,{1,2,3,4,5,6,7,8,9},0)&0))-1)=FALSE\n),\"Check\",\"\")","v":""},"","",null,"",0,"","","","",""]
["SBSA_4915","SBSA_4915",null,null,null,null,null,null,null,null,null,null,null,null,null,null,null,null,null,null,null,null,null,null,null,null,"","",{"$f":"IF(OR(\nOR(AND(D4924<>\"\",F4924=\"\"),AND(E4924<>\"\",F4924=\"\")),\nF4924=LEFT(F4924,MIN(FIND(0,SUBSTITUTE(F4924,{1,2,3,4,5,6,7,8,9},0)&0))-1)=FALSE\n),\"Check\",\"\")","v":""},"","",null,"",0,"","","","",""]
["SBSA_4916","SBSA_4916",null,null,null,null,null,null,null,null,null,null,null,null,null,null,null,null,null,null,null,null,null,null,null,null,"","",{"$f":"IF(OR(\nOR(AND(D4925<>\"\",F4925=\"\"),AND(E4925<>\"\",F4925=\"\")),\nF4925=LEFT(F4925,MIN(FIND(0,SUBSTITUTE(F4925,{1,2,3,4,5,6,7,8,9},0)&0))-1)=FALSE\n),\"Check\",\"\")","v":""},"","",null,"",0,"","","","",""]
["SBSA_4917","SBSA_4917",null,null,null,null,null,null,null,null,null,null,null,null,null,null,null,null,null,null,null,null,null,null,null,null,"","",{"$f":"IF(OR(\nOR(AND(D4926<>\"\",F4926=\"\"),AND(E4926<>\"\",F4926=\"\")),\nF4926=LEFT(F4926,MIN(FIND(0,SUBSTITUTE(F4926,{1,2,3,4,5,6,7,8,9},0)&0))-1)=FALSE\n),\"Check\",\"\")","v":""},"","",null,"",0,"","","","",""]
["SBSA_4918","SBSA_4918",null,null,null,null,null,null,null,null,null,null,null,null,null,null,null,null,null,null,null,null,null,null,null,null,"","",{"$f":"IF(OR(\nOR(AND(D4927<>\"\",F4927=\"\"),AND(E4927<>\"\",F4927=\"\")),\nF4927=LEFT(F4927,MIN(FIND(0,SUBSTITUTE(F4927,{1,2,3,4,5,6,7,8,9},0)&0))-1)=FALSE\n),\"Check\",\"\")","v":""},"","",null,"",0,"","","","",""]
["SBSA_4919","SBSA_4919",null,null,null,null,null,null,null,null,null,null,null,null,null,null,null,null,null,null,null,null,null,null,null,null,"","",{"$f":"IF(OR(\nOR(AND(D4928<>\"\",F4928=\"\"),AND(E4928<>\"\",F4928=\"\")),\nF4928=LEFT(F4928,MIN(FIND(0,SUBSTITUTE(F4928,{1,2,3,4,5,6,7,8,9},0)&0))-1)=FALSE\n),\"Check\",\"\")","v":""},"","",null,"",0,"","","","",""]
["SBSA_4920","SBSA_4920",null,null,null,null,null,null,null,null,null,null,null,null,null,null,null,null,null,null,null,null,null,null,null,null,"","",{"$f":"IF(OR(\nOR(AND(D4929<>\"\",F4929=\"\"),AND(E4929<>\"\",F4929=\"\")),\nF4929=LEFT(F4929,MIN(FIND(0,SUBSTITUTE(F4929,{1,2,3,4,5,6,7,8,9},0)&0))-1)=FALSE\n),\"Check\",\"\")","v":""},"","",null,"",0,"","","","",""]
["SBSA_4921","SBSA_4921",null,null,null,null,null,null,null,null,null,null,null,null,null,null,null,null,null,null,null,null,null,null,null,null,"","",{"$f":"IF(OR(\nOR(AND(D4930<>\"\",F4930=\"\"),AND(E4930<>\"\",F4930=\"\")),\nF4930=LEFT(F4930,MIN(FIND(0,SUBSTITUTE(F4930,{1,2,3,4,5,6,7,8,9},0)&0))-1)=FALSE\n),\"Check\",\"\")","v":""},"","",null,"",0,"","","","",""]
["SBSA_4922","SBSA_4922",null,null,null,null,null,null,null,null,null,null,null,null,null,null,null,null,null,null,null,null,null,null,null,null,"","",{"$f":"IF(OR(\nOR(AND(D4931<>\"\",F4931=\"\"),AND(E4931<>\"\",F4931=\"\")),\nF4931=LEFT(F4931,MIN(FIND(0,SUBSTITUTE(F4931,{1,2,3,4,5,6,7,8,9},0)&0))-1)=FALSE\n),\"Check\",\"\")","v":""},"","",null,"",0,"","","","",""]
["SBSA_4923","SBSA_4923",null,null,null,null,null,null,null,null,null,null,null,null,null,null,null,null,null,null,null,null,null,null,null,null,"","",{"$f":"IF(OR(\nOR(AND(D4932<>\"\",F4932=\"\"),AND(E4932<>\"\",F4932=\"\")),\nF4932=LEFT(F4932,MIN(FIND(0,SUBSTITUTE(F4932,{1,2,3,4,5,6,7,8,9},0)&0))-1)=FALSE\n),\"Check\",\"\")","v":""},"","",null,"",0,"","","","",""]
["SBSA_4924","SBSA_4924",null,null,null,null,null,null,null,null,null,null,null,null,null,null,null,null,null,null,null,null,null,null,null,null,"","",{"$f":"IF(OR(\nOR(AND(D4933<>\"\",F4933=\"\"),AND(E4933<>\"\",F4933=\"\")),\nF4933=LEFT(F4933,MIN(FIND(0,SUBSTITUTE(F4933,{1,2,3,4,5,6,7,8,9},0)&0))-1)=FALSE\n),\"Check\",\"\")","v":""},"","",null,"",0,"","","","",""]
["SBSA_4925","SBSA_4925",null,null,null,null,null,null,null,null,null,null,null,null,null,null,null,null,null,null,null,null,null,null,null,null,"","",{"$f":"IF(OR(\nOR(AND(D4934<>\"\",F4934=\"\"),AND(E4934<>\"\",F4934=\"\")),\nF4934=LEFT(F4934,MIN(FIND(0,SUBSTITUTE(F4934,{1,2,3,4,5,6,7,8,9},0)&0))-1)=FALSE\n),\"Check\",\"\")","v":""},"","",null,"",0,"","","","",""]
["SBSA_4926","SBSA_4926",null,null,null,null,null,null,null,null,null,null,null,null,null,null,null,null,null,null,null,null,null,null,null,null,"","",{"$f":"IF(OR(\nOR(AND(D4935<>\"\",F4935=\"\"),AND(E4935<>\"\",F4935=\"\")),\nF4935=LEFT(F4935,MIN(FIND(0,SUBSTITUTE(F4935,{1,2,3,4,5,6,7,8,9},0)&0))-1)=FALSE\n),\"Check\",\"\")","v":""},"","",null,"",0,"","","","",""]
["SBSA_4927","SBSA_4927",null,null,null,null,null,null,null,null,null,null,null,null,null,null,null,null,null,null,null,null,null,null,null,null,"","",{"$f":"IF(OR(\nOR(AND(D4936<>\"\",F4936=\"\"),AND(E4936<>\"\",F4936=\"\")),\nF4936=LEFT(F4936,MIN(FIND(0,SUBSTITUTE(F4936,{1,2,3,4,5,6,7,8,9},0)&0))-1)=FALSE\n),\"Check\",\"\")","v":""},"","",null,"",0,"","","","",""]
["SBSA_4928","SBSA_4928",null,null,null,null,null,null,null,null,null,null,null,null,null,null,null,null,null,null,null,null,null,null,null,null,"","",{"$f":"IF(OR(\nOR(AND(D4937<>\"\",F4937=\"\"),AND(E4937<>\"\",F4937=\"\")),\nF4937=LEFT(F4937,MIN(FIND(0,SUBSTITUTE(F4937,{1,2,3,4,5,6,7,8,9},0)&0))-1)=FALSE\n),\"Check\",\"\")","v":""},"","",null,"",0,"","","","",""]
["SBSA_4929","SBSA_4929",null,null,null,null,null,null,null,null,null,null,null,null,null,null,null,null,null,null,null,null,null,null,null,null,"","",{"$f":"IF(OR(\nOR(AND(D4938<>\"\",F4938=\"\"),AND(E4938<>\"\",F4938=\"\")),\nF4938=LEFT(F4938,MIN(FIND(0,SUBSTITUTE(F4938,{1,2,3,4,5,6,7,8,9},0)&0))-1)=FALSE\n),\"Check\",\"\")","v":""},"","",null,"",0,"","","","",""]
["SBSA_4930","SBSA_4930",null,null,null,null,null,null,null,null,null,null,null,null,null,null,null,null,null,null,null,null,null,null,null,null,"","",{"$f":"IF(OR(\nOR(AND(D4939<>\"\",F4939=\"\"),AND(E4939<>\"\",F4939=\"\")),\nF4939=LEFT(F4939,MIN(FIND(0,SUBSTITUTE(F4939,{1,2,3,4,5,6,7,8,9},0)&0))-1)=FALSE\n),\"Check\",\"\")","v":""},"","",null,"",0,"","","","",""]
["SBSA_4931","SBSA_4931",null,null,null,null,null,null,null,null,null,null,null,null,null,null,null,null,null,null,null,null,null,null,null,null,"","",{"$f":"IF(OR(\nOR(AND(D4940<>\"\",F4940=\"\"),AND(E4940<>\"\",F4940=\"\")),\nF4940=LEFT(F4940,MIN(FIND(0,SUBSTITUTE(F4940,{1,2,3,4,5,6,7,8,9},0)&0))-1)=FALSE\n),\"Check\",\"\")","v":""},"","",null,"",0,"","","","",""]
["SBSA_4932","SBSA_4932",null,null,null,null,null,null,null,null,null,null,null,null,null,null,null,null,null,null,null,null,null,null,null,null,"","",{"$f":"IF(OR(\nOR(AND(D4941<>\"\",F4941=\"\"),AND(E4941<>\"\",F4941=\"\")),\nF4941=LEFT(F4941,MIN(FIND(0,SUBSTITUTE(F4941,{1,2,3,4,5,6,7,8,9},0)&0))-1)=FALSE\n),\"Check\",\"\")","v":""},"","",null,"",0,"","","","",""]
["SBSA_4933","SBSA_4933",null,null,null,null,null,null,null,null,null,null,null,null,null,null,null,null,null,null,null,null,null,null,null,null,"","",{"$f":"IF(OR(\nOR(AND(D4942<>\"\",F4942=\"\"),AND(E4942<>\"\",F4942=\"\")),\nF4942=LEFT(F4942,MIN(FIND(0,SUBSTITUTE(F4942,{1,2,3,4,5,6,7,8,9},0)&0))-1)=FALSE\n),\"Check\",\"\")","v":""},"","",null,"",0,"","","","",""]
["SBSA_4934","SBSA_4934",null,null,null,null,null,null,null,null,null,null,null,null,null,null,null,null,null,null,null,null,null,null,null,null,"","",{"$f":"IF(OR(\nOR(AND(D4943<>\"\",F4943=\"\"),AND(E4943<>\"\",F4943=\"\")),\nF4943=LEFT(F4943,MIN(FIND(0,SUBSTITUTE(F4943,{1,2,3,4,5,6,7,8,9},0)&0))-1)=FALSE\n),\"Check\",\"\")","v":""},"","",null,"",0,"","","","",""]
["SBSA_4935","SBSA_4935",null,null,null,null,null,null,null,null,null,null,null,null,null,null,null,null,null,null,null,null,null,null,null,null,"","",{"$f":"IF(OR(\nOR(AND(D4944<>\"\",F4944=\"\"),AND(E4944<>\"\",F4944=\"\")),\nF4944=LEFT(F4944,MIN(FIND(0,SUBSTITUTE(F4944,{1,2,3,4,5,6,7,8,9},0)&0))-1)=FALSE\n),\"Check\",\"\")","v":""},"","",null,"",0,"","","","",""]
["SBSA_4936","SBSA_4936",null,null,null,null,null,null,null,null,null,null,null,null,null,null,null,null,null,null,null,null,null,null,null,null,"","",{"$f":"IF(OR(\nOR(AND(D4945<>\"\",F4945=\"\"),AND(E4945<>\"\",F4945=\"\")),\nF4945=LEFT(F4945,MIN(FIND(0,SUBSTITUTE(F4945,{1,2,3,4,5,6,7,8,9},0)&0))-1)=FALSE\n),\"Check\",\"\")","v":""},"","",null,"",0,"","","","",""]
["SBSA_4937","SBSA_4937",null,null,null,null,null,null,null,null,null,null,null,null,null,null,null,null,null,null,null,null,null,null,null,null,"","",{"$f":"IF(OR(\nOR(AND(D4946<>\"\",F4946=\"\"),AND(E4946<>\"\",F4946=\"\")),\nF4946=LEFT(F4946,MIN(FIND(0,SUBSTITUTE(F4946,{1,2,3,4,5,6,7,8,9},0)&0))-1)=FALSE\n),\"Check\",\"\")","v":""},"","",null,"",0,"","","","",""]
["SBSA_4938","SBSA_4938",null,null,null,null,null,null,null,null,null,null,null,null,null,null,null,null,null,null,null,null,null,null,null,null,"","",{"$f":"IF(OR(\nOR(AND(D4947<>\"\",F4947=\"\"),AND(E4947<>\"\",F4947=\"\")),\nF4947=LEFT(F4947,MIN(FIND(0,SUBSTITUTE(F4947,{1,2,3,4,5,6,7,8,9},0)&0))-1)=FALSE\n),\"Check\",\"\")","v":""},"","",null,"",0,"","","","",""]
["SBSA_4939","SBSA_4939",null,null,null,null,null,null,null,null,null,null,null,null,null,null,null,null,null,null,null,null,null,null,null,null,"","",{"$f":"IF(OR(\nOR(AND(D4948<>\"\",F4948=\"\"),AND(E4948<>\"\",F4948=\"\")),\nF4948=LEFT(F4948,MIN(FIND(0,SUBSTITUTE(F4948,{1,2,3,4,5,6,7,8,9},0)&0))-1)=FALSE\n),\"Check\",\"\")","v":""},"","",null,"",0,"","","","",""]
["SBSA_4940","SBSA_4940",null,null,null,null,null,null,null,null,null,null,null,null,null,null,null,null,null,null,null,null,null,null,null,null,"","",{"$f":"IF(OR(\nOR(AND(D4949<>\"\",F4949=\"\"),AND(E4949<>\"\",F4949=\"\")),\nF4949=LEFT(F4949,MIN(FIND(0,SUBSTITUTE(F4949,{1,2,3,4,5,6,7,8,9},0)&0))-1)=FALSE\n),\"Check\",\"\")","v":""},"","",null,"",0,"","","","",""]
["SBSA_4941","SBSA_4941",null,null,null,null,null,null,null,null,null,null,null,null,null,null,null,null,null,null,null,null,null,null,null,null,"","",{"$f":"IF(OR(\nOR(AND(D4950<>\"\",F4950=\"\"),AND(E4950<>\"\",F4950=\"\")),\nF4950=LEFT(F4950,MIN(FIND(0,SUBSTITUTE(F4950,{1,2,3,4,5,6,7,8,9},0)&0))-1)=FALSE\n),\"Check\",\"\")","v":""},"","",null,"",0,"","","","",""]
["SBSA_4942","SBSA_4942",null,null,null,null,null,null,null,null,null,null,null,null,null,null,null,null,null,null,null,null,null,null,null,null,"","",{"$f":"IF(OR(\nOR(AND(D4951<>\"\",F4951=\"\"),AND(E4951<>\"\",F4951=\"\")),\nF4951=LEFT(F4951,MIN(FIND(0,SUBSTITUTE(F4951,{1,2,3,4,5,6,7,8,9},0)&0))-1)=FALSE\n),\"Check\",\"\")","v":""},"","",null,"",0,"","","","",""]
["SBSA_4943","SBSA_4943",null,null,null,null,null,null,null,null,null,null,null,null,null,null,null,null,null,null,null,null,null,null,null,null,"","",{"$f":"IF(OR(\nOR(AND(D4952<>\"\",F4952=\"\"),AND(E4952<>\"\",F4952=\"\")),\nF4952=LEFT(F4952,MIN(FIND(0,SUBSTITUTE(F4952,{1,2,3,4,5,6,7,8,9},0)&0))-1)=FALSE\n),\"Check\",\"\")","v":""},"","",null,"",0,"","","","",""]
["SBSA_4944","SBSA_4944",null,null,null,null,null,null,null,null,null,null,null,null,null,null,null,null,null,null,null,null,null,null,null,null,"","",{"$f":"IF(OR(\nOR(AND(D4953<>\"\",F4953=\"\"),AND(E4953<>\"\",F4953=\"\")),\nF4953=LEFT(F4953,MIN(FIND(0,SUBSTITUTE(F4953,{1,2,3,4,5,6,7,8,9},0)&0))-1)=FALSE\n),\"Check\",\"\")","v":""},"","",null,"",0,"","","","",""]
["SBSA_4945","SBSA_4945",null,null,null,null,null,null,null,null,null,null,null,null,null,null,null,null,null,null,null,null,null,null,null,null,"","",{"$f":"IF(OR(\nOR(AND(D4954<>\"\",F4954=\"\"),AND(E4954<>\"\",F4954=\"\")),\nF4954=LEFT(F4954,MIN(FIND(0,SUBSTITUTE(F4954,{1,2,3,4,5,6,7,8,9},0)&0))-1)=FALSE\n),\"Check\",\"\")","v":""},"","",null,"",0,"","","","",""]
["SBSA_4946","SBSA_4946",null,null,null,null,null,null,null,null,null,null,null,null,null,null,null,null,null,null,null,null,null,null,null,null,"","",{"$f":"IF(OR(\nOR(AND(D4955<>\"\",F4955=\"\"),AND(E4955<>\"\",F4955=\"\")),\nF4955=LEFT(F4955,MIN(FIND(0,SUBSTITUTE(F4955,{1,2,3,4,5,6,7,8,9},0)&0))-1)=FALSE\n),\"Check\",\"\")","v":""},"","",null,"",0,"","","","",""]
["SBSA_4947","SBSA_4947",null,null,null,null,null,null,null,null,null,null,null,null,null,null,null,null,null,null,null,null,null,null,null,null,"","",{"$f":"IF(OR(\nOR(AND(D4956<>\"\",F4956=\"\"),AND(E4956<>\"\",F4956=\"\")),\nF4956=LEFT(F4956,MIN(FIND(0,SUBSTITUTE(F4956,{1,2,3,4,5,6,7,8,9},0)&0))-1)=FALSE\n),\"Check\",\"\")","v":""},"","",null,"",0,"","","","",""]
["SBSA_4948","SBSA_4948",null,null,null,null,null,null,null,null,null,null,null,null,null,null,null,null,null,null,null,null,null,null,null,null,"","",{"$f":"IF(OR(\nOR(AND(D4957<>\"\",F4957=\"\"),AND(E4957<>\"\",F4957=\"\")),\nF4957=LEFT(F4957,MIN(FIND(0,SUBSTITUTE(F4957,{1,2,3,4,5,6,7,8,9},0)&0))-1)=FALSE\n),\"Check\",\"\")","v":""},"","",null,"",0,"","","","",""]
["SBSA_4949","SBSA_4949",null,null,null,null,null,null,null,null,null,null,null,null,null,null,null,null,null,null,null,null,null,null,null,null,"","",{"$f":"IF(OR(\nOR(AND(D4958<>\"\",F4958=\"\"),AND(E4958<>\"\",F4958=\"\")),\nF4958=LEFT(F4958,MIN(FIND(0,SUBSTITUTE(F4958,{1,2,3,4,5,6,7,8,9},0)&0))-1)=FALSE\n),\"Check\",\"\")","v":""},"","",null,"",0,"","","","",""]
["SBSA_4950","SBSA_4950",null,null,null,null,null,null,null,null,null,null,null,null,null,null,null,null,null,null,null,null,null,null,null,null,"","",{"$f":"IF(OR(\nOR(AND(D4959<>\"\",F4959=\"\"),AND(E4959<>\"\",F4959=\"\")),\nF4959=LEFT(F4959,MIN(FIND(0,SUBSTITUTE(F4959,{1,2,3,4,5,6,7,8,9},0)&0))-1)=FALSE\n),\"Check\",\"\")","v":""},"","",null,"",0,"","","","",""]
["SBSA_4951","SBSA_4951",null,null,null,null,null,null,null,null,null,null,null,null,null,null,null,null,null,null,null,null,null,null,null,null,"","",{"$f":"IF(OR(\nOR(AND(D4960<>\"\",F4960=\"\"),AND(E4960<>\"\",F4960=\"\")),\nF4960=LEFT(F4960,MIN(FIND(0,SUBSTITUTE(F4960,{1,2,3,4,5,6,7,8,9},0)&0))-1)=FALSE\n),\"Check\",\"\")","v":""},"","",null,"",0,"","","","",""]
["SBSA_4952","SBSA_4952",null,null,null,null,null,null,null,null,null,null,null,null,null,null,null,null,null,null,null,null,null,null,null,null,"","",{"$f":"IF(OR(\nOR(AND(D4961<>\"\",F4961=\"\"),AND(E4961<>\"\",F4961=\"\")),\nF4961=LEFT(F4961,MIN(FIND(0,SUBSTITUTE(F4961,{1,2,3,4,5,6,7,8,9},0)&0))-1)=FALSE\n),\"Check\",\"\")","v":""},"","",null,"",0,"","","","",""]
["SBSA_4953","SBSA_4953",null,null,null,null,null,null,null,null,null,null,null,null,null,null,null,null,null,null,null,null,null,null,null,null,"","",{"$f":"IF(OR(\nOR(AND(D4962<>\"\",F4962=\"\"),AND(E4962<>\"\",F4962=\"\")),\nF4962=LEFT(F4962,MIN(FIND(0,SUBSTITUTE(F4962,{1,2,3,4,5,6,7,8,9},0)&0))-1)=FALSE\n),\"Check\",\"\")","v":""},"","",null,"",0,"","","","",""]
["SBSA_4954","SBSA_4954",null,null,null,null,null,null,null,null,null,null,null,null,null,null,null,null,null,null,null,null,null,null,null,null,"","",{"$f":"IF(OR(\nOR(AND(D4963<>\"\",F4963=\"\"),AND(E4963<>\"\",F4963=\"\")),\nF4963=LEFT(F4963,MIN(FIND(0,SUBSTITUTE(F4963,{1,2,3,4,5,6,7,8,9},0)&0))-1)=FALSE\n),\"Check\",\"\")","v":""},"","",null,"",0,"","","","",""]
["SBSA_4955","SBSA_4955",null,null,null,null,null,null,null,null,null,null,null,null,null,null,null,null,null,null,null,null,null,null,null,null,"","",{"$f":"IF(OR(\nOR(AND(D4964<>\"\",F4964=\"\"),AND(E4964<>\"\",F4964=\"\")),\nF4964=LEFT(F4964,MIN(FIND(0,SUBSTITUTE(F4964,{1,2,3,4,5,6,7,8,9},0)&0))-1)=FALSE\n),\"Check\",\"\")","v":""},"","",null,"",0,"","","","",""]
["SBSA_4956","SBSA_4956",null,null,null,null,null,null,null,null,null,null,null,null,null,null,null,null,null,null,null,null,null,null,null,null,"","",{"$f":"IF(OR(\nOR(AND(D4965<>\"\",F4965=\"\"),AND(E4965<>\"\",F4965=\"\")),\nF4965=LEFT(F4965,MIN(FIND(0,SUBSTITUTE(F4965,{1,2,3,4,5,6,7,8,9},0)&0))-1)=FALSE\n),\"Check\",\"\")","v":""},"","",null,"",0,"","","","",""]
["SBSA_4957","SBSA_4957",null,null,null,null,null,null,null,null,null,null,null,null,null,null,null,null,null,null,null,null,null,null,null,null,"","",{"$f":"IF(OR(\nOR(AND(D4966<>\"\",F4966=\"\"),AND(E4966<>\"\",F4966=\"\")),\nF4966=LEFT(F4966,MIN(FIND(0,SUBSTITUTE(F4966,{1,2,3,4,5,6,7,8,9},0)&0))-1)=FALSE\n),\"Check\",\"\")","v":""},"","",null,"",0,"","","","",""]
["SBSA_4958","SBSA_4958",null,null,null,null,null,null,null,null,null,null,null,null,null,null,null,null,null,null,null,null,null,null,null,null,"","",{"$f":"IF(OR(\nOR(AND(D4967<>\"\",F4967=\"\"),AND(E4967<>\"\",F4967=\"\")),\nF4967=LEFT(F4967,MIN(FIND(0,SUBSTITUTE(F4967,{1,2,3,4,5,6,7,8,9},0)&0))-1)=FALSE\n),\"Check\",\"\")","v":""},"","",null,"",0,"","","","",""]
["SBSA_4959","SBSA_4959",null,null,null,null,null,null,null,null,null,null,null,null,null,null,null,null,null,null,null,null,null,null,null,null,"","",{"$f":"IF(OR(\nOR(AND(D4968<>\"\",F4968=\"\"),AND(E4968<>\"\",F4968=\"\")),\nF4968=LEFT(F4968,MIN(FIND(0,SUBSTITUTE(F4968,{1,2,3,4,5,6,7,8,9},0)&0))-1)=FALSE\n),\"Check\",\"\")","v":""},"","",null,"",0,"","","","",""]
["SBSA_4960","SBSA_4960",null,null,null,null,null,null,null,null,null,null,null,null,null,null,null,null,null,null,null,null,null,null,null,null,"","",{"$f":"IF(OR(\nOR(AND(D4969<>\"\",F4969=\"\"),AND(E4969<>\"\",F4969=\"\")),\nF4969=LEFT(F4969,MIN(FIND(0,SUBSTITUTE(F4969,{1,2,3,4,5,6,7,8,9},0)&0))-1)=FALSE\n),\"Check\",\"\")","v":""},"","",null,"",0,"","","","",""]
["SBSA_4961","SBSA_4961",null,null,null,null,null,null,null,null,null,null,null,null,null,null,null,null,null,null,null,null,null,null,null,null,"","",{"$f":"IF(OR(\nOR(AND(D4970<>\"\",F4970=\"\"),AND(E4970<>\"\",F4970=\"\")),\nF4970=LEFT(F4970,MIN(FIND(0,SUBSTITUTE(F4970,{1,2,3,4,5,6,7,8,9},0)&0))-1)=FALSE\n),\"Check\",\"\")","v":""},"","",null,"",0,"","","","",""]
["SBSA_4962","SBSA_4962",null,null,null,null,null,null,null,null,null,null,null,null,null,null,null,null,null,null,null,null,null,null,null,null,"","",{"$f":"IF(OR(\nOR(AND(D4971<>\"\",F4971=\"\"),AND(E4971<>\"\",F4971=\"\")),\nF4971=LEFT(F4971,MIN(FIND(0,SUBSTITUTE(F4971,{1,2,3,4,5,6,7,8,9},0)&0))-1)=FALSE\n),\"Check\",\"\")","v":""},"","",null,"",0,"","","","",""]
["SBSA_4963","SBSA_4963",null,null,null,null,null,null,null,null,null,null,null,null,null,null,null,null,null,null,null,null,null,null,null,null,"","",{"$f":"IF(OR(\nOR(AND(D4972<>\"\",F4972=\"\"),AND(E4972<>\"\",F4972=\"\")),\nF4972=LEFT(F4972,MIN(FIND(0,SUBSTITUTE(F4972,{1,2,3,4,5,6,7,8,9},0)&0))-1)=FALSE\n),\"Check\",\"\")","v":""},"","",null,"",0,"","","","",""]
["SBSA_4964","SBSA_4964",null,null,null,null,null,null,null,null,null,null,null,null,null,null,null,null,null,null,null,null,null,null,null,null,{"$f":"IF(AND(C4973=\"\",OR(D4973<>\"\",E4973<>\"\",F4973<>\"\",G4973<>\"\")),\"Check\",\"\")","v":""},{"$f":"IF(AND(C4973<>\"\",OR(AND(D4973=\"\",E4973=\"\"),AND(D4973=0,E4973=0),AND(ABS(D4973)>0,ABS(E4973)>0))),\"Check\",\"\")","v":""},{"$f":"IF(OR(\nOR(AND(D4973<>\"\",F4973=\"\"),AND(E4973<>\"\",F4973=\"\")),\nF4973=LEFT(F4973,MIN(FIND(0,SUBSTITUTE(F4973,{1,2,3,4,5,6,7,8,9},0)&0))-1)=FALSE\n),\"Check\",\"\")","v":""},{"$f":"IF(OR(E4973=\"\",G4973=\"\"),\"\",(E4973*G4973)/100)","v":""},{"$f":"IF(AND(F4973<>\"\",G4973=\"\"),\"Check\",\"\")","v":""},null,{"$f":"IF(C4973=\"\",\"\",C4973&\"_\"&IF(G4973=\"\",0,G4973))","v":""},{"$f":"IF(COUNTBLANK(C4973:G4973)<5,1,0)","v":0},{"$f":"IF(C4973=\"\",\"\",IF(LEN(C4973)=12,\"\",\"Check\"))","v":""},{"$f":"IF(C4973=\"\",\"\",IF(COUNTIF(C$10:C$65536,C4973)=COUNTIF(AG$10:AG$65536,AG4973),\"\",\"Check\"))","v":""},{"$f":"IF(F4973=\"\",\"\",IF(LEN(F4973)=3,\"\",\"Check\"))","v":""},{"$f":"IF(OR(IF(D4973=\"\",\"\",IF(ISNUMBER(D4973)=TRUE,\"\",\"TEXT\"))=\"TEXT\",IF(E4973=\"\",\"\",IF(ISNUMBER(E4973)=TRUE,\"\",\"TEXT\"))=\"TEXT\",IF(G4973=\"\",\"\",IF(ISNUMBER(G4973)=TRUE,\"\",\"TEXT\"))=\"TEXT\"),\"Check\",\"\")","v":""},{"$f":"IF(G4973<0,\"Check\",\"\")","v":""}]
["SBSA_4965","SBSA_4965",null,null,null,null,null,null,null,null,null,null,null,null,null,null,null,null,null,null,null,null,null,null,null,null,"","",{"$f":"IF(OR(\nOR(AND(D4974<>\"\",F4974=\"\"),AND(E4974<>\"\",F4974=\"\")),\nF4974=LEFT(F4974,MIN(FIND(0,SUBSTITUTE(F4974,{1,2,3,4,5,6,7,8,9},0)&0))-1)=FALSE\n),\"Check\",\"\")","v":""},"","",null,"",0,"","","","",""]
["SBSA_4966","SBSA_4966",null,null,null,null,null,null,null,null,null,null,null,null,null,null,null,null,null,null,null,null,null,null,null,null,"","",{"$f":"IF(OR(\nOR(AND(D4975<>\"\",F4975=\"\"),AND(E4975<>\"\",F4975=\"\")),\nF4975=LEFT(F4975,MIN(FIND(0,SUBSTITUTE(F4975,{1,2,3,4,5,6,7,8,9},0)&0))-1)=FALSE\n),\"Check\",\"\")","v":""},"","",null,"",0,"","","","",""]
["SBSA_4967","SBSA_4967",null,null,null,null,null,null,null,null,null,null,null,null,null,null,null,null,null,null,null,null,null,null,null,null,"","",{"$f":"IF(OR(\nOR(AND(D4976<>\"\",F4976=\"\"),AND(E4976<>\"\",F4976=\"\")),\nF4976=LEFT(F4976,MIN(FIND(0,SUBSTITUTE(F4976,{1,2,3,4,5,6,7,8,9},0)&0))-1)=FALSE\n),\"Check\",\"\")","v":""},"","",null,"",0,"","","","",""]
["SBSA_4968","SBSA_4968",null,null,null,null,null,null,null,null,null,null,null,null,null,null,null,null,null,null,null,null,null,null,null,null,"","",{"$f":"IF(OR(\nOR(AND(D4977<>\"\",F4977=\"\"),AND(E4977<>\"\",F4977=\"\")),\nF4977=LEFT(F4977,MIN(FIND(0,SUBSTITUTE(F4977,{1,2,3,4,5,6,7,8,9},0)&0))-1)=FALSE\n),\"Check\",\"\")","v":""},"","",null,"",0,"","","","",""]
["SBSA_4969","SBSA_4969",null,null,null,null,null,null,null,null,null,null,null,null,null,null,null,null,null,null,null,null,null,null,null,null,"","",{"$f":"IF(OR(\nOR(AND(D4978<>\"\",F4978=\"\"),AND(E4978<>\"\",F4978=\"\")),\nF4978=LEFT(F4978,MIN(FIND(0,SUBSTITUTE(F4978,{1,2,3,4,5,6,7,8,9},0)&0))-1)=FALSE\n),\"Check\",\"\")","v":""},"","",null,"",0,"","","","",""]
["SBSA_4970","SBSA_4970",null,null,null,null,null,null,null,null,null,null,null,null,null,null,null,null,null,null,null,null,null,null,null,null,"","",{"$f":"IF(OR(\nOR(AND(D4979<>\"\",F4979=\"\"),AND(E4979<>\"\",F4979=\"\")),\nF4979=LEFT(F4979,MIN(FIND(0,SUBSTITUTE(F4979,{1,2,3,4,5,6,7,8,9},0)&0))-1)=FALSE\n),\"Check\",\"\")","v":""},"","",null,"",0,"","","","",""]
["SBSA_4971","SBSA_4971",null,null,null,null,null,null,null,null,null,null,null,null,null,null,null,null,null,null,null,null,null,null,null,null,"","",{"$f":"IF(OR(\nOR(AND(D4980<>\"\",F4980=\"\"),AND(E4980<>\"\",F4980=\"\")),\nF4980=LEFT(F4980,MIN(FIND(0,SUBSTITUTE(F4980,{1,2,3,4,5,6,7,8,9},0)&0))-1)=FALSE\n),\"Check\",\"\")","v":""},"","",null,"",0,"","","","",""]
["SBSA_4972","SBSA_4972",null,null,null,null,null,null,null,null,null,null,null,null,null,null,null,null,null,null,null,null,null,null,null,null,"","",{"$f":"IF(OR(\nOR(AND(D4981<>\"\",F4981=\"\"),AND(E4981<>\"\",F4981=\"\")),\nF4981=LEFT(F4981,MIN(FIND(0,SUBSTITUTE(F4981,{1,2,3,4,5,6,7,8,9},0)&0))-1)=FALSE\n),\"Check\",\"\")","v":""},"","",null,"",0,"","","","",""]
["SBSA_4973","SBSA_4973",null,null,null,null,null,null,null,null,null,null,null,null,null,null,null,null,null,null,null,null,null,null,null,null,"","",{"$f":"IF(OR(\nOR(AND(D4982<>\"\",F4982=\"\"),AND(E4982<>\"\",F4982=\"\")),\nF4982=LEFT(F4982,MIN(FIND(0,SUBSTITUTE(F4982,{1,2,3,4,5,6,7,8,9},0)&0))-1)=FALSE\n),\"Check\",\"\")","v":""},"","",null,"",0,"","","","",""]
["SBSA_4974","SBSA_4974",null,null,null,null,null,null,null,null,null,null,null,null,null,null,null,null,null,null,null,null,null,null,null,null,"","",{"$f":"IF(OR(\nOR(AND(D4983<>\"\",F4983=\"\"),AND(E4983<>\"\",F4983=\"\")),\nF4983=LEFT(F4983,MIN(FIND(0,SUBSTITUTE(F4983,{1,2,3,4,5,6,7,8,9},0)&0))-1)=FALSE\n),\"Check\",\"\")","v":""},"","",null,"",0,"","","","",""]
["SBSA_4975","SBSA_4975",null,null,null,null,null,null,null,null,null,null,null,null,null,null,null,null,null,null,null,null,null,null,null,null,"","",{"$f":"IF(OR(\nOR(AND(D4984<>\"\",F4984=\"\"),AND(E4984<>\"\",F4984=\"\")),\nF4984=LEFT(F4984,MIN(FIND(0,SUBSTITUTE(F4984,{1,2,3,4,5,6,7,8,9},0)&0))-1)=FALSE\n),\"Check\",\"\")","v":""},"","",null,"",0,"","","","",""]
["SBSA_4976","SBSA_4976",null,null,null,null,null,null,null,null,null,null,null,null,null,null,null,null,null,null,null,null,null,null,null,null,"","",{"$f":"IF(OR(\nOR(AND(D4985<>\"\",F4985=\"\"),AND(E4985<>\"\",F4985=\"\")),\nF4985=LEFT(F4985,MIN(FIND(0,SUBSTITUTE(F4985,{1,2,3,4,5,6,7,8,9},0)&0))-1)=FALSE\n),\"Check\",\"\")","v":""},"","",null,"",0,"","","","",""]
["SBSA_4977","SBSA_4977",null,null,null,null,null,null,null,null,null,null,null,null,null,null,null,null,null,null,null,null,null,null,null,null,"","",{"$f":"IF(OR(\nOR(AND(D4986<>\"\",F4986=\"\"),AND(E4986<>\"\",F4986=\"\")),\nF4986=LEFT(F4986,MIN(FIND(0,SUBSTITUTE(F4986,{1,2,3,4,5,6,7,8,9},0)&0))-1)=FALSE\n),\"Check\",\"\")","v":""},"","",null,"",0,"","","","",""]
["SBSA_4978","SBSA_4978",null,null,null,null,null,null,null,null,null,null,null,null,null,null,null,null,null,null,null,null,null,null,null,null,"","",{"$f":"IF(OR(\nOR(AND(D4987<>\"\",F4987=\"\"),AND(E4987<>\"\",F4987=\"\")),\nF4987=LEFT(F4987,MIN(FIND(0,SUBSTITUTE(F4987,{1,2,3,4,5,6,7,8,9},0)&0))-1)=FALSE\n),\"Check\",\"\")","v":""},"","",null,"",0,"","","","",""]
["SBSA_4979","SBSA_4979",null,null,null,null,null,null,null,null,null,null,null,null,null,null,null,null,null,null,null,null,null,null,null,null,"","",{"$f":"IF(OR(\nOR(AND(D4988<>\"\",F4988=\"\"),AND(E4988<>\"\",F4988=\"\")),\nF4988=LEFT(F4988,MIN(FIND(0,SUBSTITUTE(F4988,{1,2,3,4,5,6,7,8,9},0)&0))-1)=FALSE\n),\"Check\",\"\")","v":""},"","",null,"",0,"","","","",""]
["SBSA_4980","SBSA_4980",null,null,null,null,null,null,null,null,null,null,null,null,null,null,null,null,null,null,null,null,null,null,null,null,"","",{"$f":"IF(OR(\nOR(AND(D4989<>\"\",F4989=\"\"),AND(E4989<>\"\",F4989=\"\")),\nF4989=LEFT(F4989,MIN(FIND(0,SUBSTITUTE(F4989,{1,2,3,4,5,6,7,8,9},0)&0))-1)=FALSE\n),\"Check\",\"\")","v":""},"","",null,"",0,"","","","",""]
["SBSA_4981","SBSA_4981",null,null,null,null,null,null,null,null,null,null,null,null,null,null,null,null,null,null,null,null,null,null,null,null,"","",{"$f":"IF(OR(\nOR(AND(D4990<>\"\",F4990=\"\"),AND(E4990<>\"\",F4990=\"\")),\nF4990=LEFT(F4990,MIN(FIND(0,SUBSTITUTE(F4990,{1,2,3,4,5,6,7,8,9},0)&0))-1)=FALSE\n),\"Check\",\"\")","v":""},"","",null,"",0,"","","","",""]
["SBSA_4982","SBSA_4982",null,null,null,null,null,null,null,null,null,null,null,null,null,null,null,null,null,null,null,null,null,null,null,null,"","",{"$f":"IF(OR(\nOR(AND(D4991<>\"\",F4991=\"\"),AND(E4991<>\"\",F4991=\"\")),\nF4991=LEFT(F4991,MIN(FIND(0,SUBSTITUTE(F4991,{1,2,3,4,5,6,7,8,9},0)&0))-1)=FALSE\n),\"Check\",\"\")","v":""},"","",null,"",0,"","","","",""]
["SBSA_4983","SBSA_4983",null,null,null,null,null,null,null,null,null,null,null,null,null,null,null,null,null,null,null,null,null,null,null,null,"","",{"$f":"IF(OR(\nOR(AND(D4992<>\"\",F4992=\"\"),AND(E4992<>\"\",F4992=\"\")),\nF4992=LEFT(F4992,MIN(FIND(0,SUBSTITUTE(F4992,{1,2,3,4,5,6,7,8,9},0)&0))-1)=FALSE\n),\"Check\",\"\")","v":""},"","",null,"",0,"","","","",""]
["SBSA_4984","SBSA_4984",null,null,null,null,null,null,null,null,null,null,null,null,null,null,null,null,null,null,null,null,null,null,null,null,"","",{"$f":"IF(OR(\nOR(AND(D4993<>\"\",F4993=\"\"),AND(E4993<>\"\",F4993=\"\")),\nF4993=LEFT(F4993,MIN(FIND(0,SUBSTITUTE(F4993,{1,2,3,4,5,6,7,8,9},0)&0))-1)=FALSE\n),\"Check\",\"\")","v":""},"","",null,"",0,"","","","",""]
["SBSA_4985","SBSA_4985",null,null,null,null,null,null,null,null,null,null,null,null,null,null,null,null,null,null,null,null,null,null,null,null,"","",{"$f":"IF(OR(\nOR(AND(D4994<>\"\",F4994=\"\"),AND(E4994<>\"\",F4994=\"\")),\nF4994=LEFT(F4994,MIN(FIND(0,SUBSTITUTE(F4994,{1,2,3,4,5,6,7,8,9},0)&0))-1)=FALSE\n),\"Check\",\"\")","v":""},"","",null,"",0,"","","","",""]
["SBSA_4986","SBSA_4986",null,null,null,null,null,null,null,null,null,null,null,null,null,null,null,null,null,null,null,null,null,null,null,null,"","",{"$f":"IF(OR(\nOR(AND(D4995<>\"\",F4995=\"\"),AND(E4995<>\"\",F4995=\"\")),\nF4995=LEFT(F4995,MIN(FIND(0,SUBSTITUTE(F4995,{1,2,3,4,5,6,7,8,9},0)&0))-1)=FALSE\n),\"Check\",\"\")","v":""},"","",null,"",0,"","","","",""]
["SBSA_4987","SBSA_4987",null,null,null,null,null,null,null,null,null,null,null,null,null,null,null,null,null,null,null,null,null,null,null,null,"","",{"$f":"IF(OR(\nOR(AND(D4996<>\"\",F4996=\"\"),AND(E4996<>\"\",F4996=\"\")),\nF4996=LEFT(F4996,MIN(FIND(0,SUBSTITUTE(F4996,{1,2,3,4,5,6,7,8,9},0)&0))-1)=FALSE\n),\"Check\",\"\")","v":""},"","",null,"",0,"","","","",""]
["SBSA_4988","SBSA_4988",null,null,null,null,null,null,null,null,null,null,null,null,null,null,null,null,null,null,null,null,null,null,null,null,"","",{"$f":"IF(OR(\nOR(AND(D4997<>\"\",F4997=\"\"),AND(E4997<>\"\",F4997=\"\")),\nF4997=LEFT(F4997,MIN(FIND(0,SUBSTITUTE(F4997,{1,2,3,4,5,6,7,8,9},0)&0))-1)=FALSE\n),\"Check\",\"\")","v":""},"","",null,"",0,"","","","",""]
["SBSA_4989","SBSA_4989",null,null,null,null,null,null,null,null,null,null,null,null,null,null,null,null,null,null,null,null,null,null,null,null,"","",{"$f":"IF(OR(\nOR(AND(D4998<>\"\",F4998=\"\"),AND(E4998<>\"\",F4998=\"\")),\nF4998=LEFT(F4998,MIN(FIND(0,SUBSTITUTE(F4998,{1,2,3,4,5,6,7,8,9},0)&0))-1)=FALSE\n),\"Check\",\"\")","v":""},"","",null,"",0,"","","","",""]
["SBSA_4990","SBSA_4990",null,null,null,null,null,null,null,null,null,null,null,null,null,null,null,null,null,null,null,null,null,null,null,null,"","",{"$f":"IF(OR(\nOR(AND(D4999<>\"\",F4999=\"\"),AND(E4999<>\"\",F4999=\"\")),\nF4999=LEFT(F4999,MIN(FIND(0,SUBSTITUTE(F4999,{1,2,3,4,5,6,7,8,9},0)&0))-1)=FALSE\n),\"Check\",\"\")","v":""},"","",null,"",0,"","","","",""]
["SBSA_4991","SBSA_4991",null,null,null,null,null,null,null,null,null,null,null,null,null,null,null,null,null,null,null,null,null,null,null,null,"","",{"$f":"IF(OR(\nOR(AND(D5000<>\"\",F5000=\"\"),AND(E5000<>\"\",F5000=\"\")),\nF5000=LEFT(F5000,MIN(FIND(0,SUBSTITUTE(F5000,{1,2,3,4,5,6,7,8,9},0)&0))-1)=FALSE\n),\"Check\",\"\")","v":""},"","",null,"",0,"","","","",""]
["SBSA_4992","SBSA_4992",null,null,null,null,null,null,null,null,null,null,null,null,null,null,null,null,null,null,null,null,null,null,null,null,"","",{"$f":"IF(OR(\nOR(AND(D5001<>\"\",F5001=\"\"),AND(E5001<>\"\",F5001=\"\")),\nF5001=LEFT(F5001,MIN(FIND(0,SUBSTITUTE(F5001,{1,2,3,4,5,6,7,8,9},0)&0))-1)=FALSE\n),\"Check\",\"\")","v":""},"","",null,"",0,"","","","",""]
["SBSA_4993","SBSA_4993",null,null,null,null,null,null,null,null,null,null,null,null,null,null,null,null,null,null,null,null,null,null,null,null,"","",{"$f":"IF(OR(\nOR(AND(D5002<>\"\",F5002=\"\"),AND(E5002<>\"\",F5002=\"\")),\nF5002=LEFT(F5002,MIN(FIND(0,SUBSTITUTE(F5002,{1,2,3,4,5,6,7,8,9},0)&0))-1)=FALSE\n),\"Check\",\"\")","v":""},"","",null,"",0,"","","","",""]
["SBSA_4994","SBSA_4994",null,null,null,null,null,null,null,null,null,null,null,null,null,null,null,null,null,null,null,null,null,null,null,null,"","",{"$f":"IF(OR(\nOR(AND(D5003<>\"\",F5003=\"\"),AND(E5003<>\"\",F5003=\"\")),\nF5003=LEFT(F5003,MIN(FIND(0,SUBSTITUTE(F5003,{1,2,3,4,5,6,7,8,9},0)&0))-1)=FALSE\n),\"Check\",\"\")","v":""},"","",null,"",0,"","","","",""]
["SBSA_4995","SBSA_4995",null,null,null,null,null,null,null,null,null,null,null,null,null,null,null,null,null,null,null,null,null,null,null,null,"","",{"$f":"IF(OR(\nOR(AND(D5004<>\"\",F5004=\"\"),AND(E5004<>\"\",F5004=\"\")),\nF5004=LEFT(F5004,MIN(FIND(0,SUBSTITUTE(F5004,{1,2,3,4,5,6,7,8,9},0)&0))-1)=FALSE\n),\"Check\",\"\")","v":""},"","",null,"",0,"","","","",""]
["SBSA_4996","SBSA_4996",null,null,null,null,null,null,null,null,null,null,null,null,null,null,null,null,null,null,null,null,null,null,null,null,"","",{"$f":"IF(OR(\nOR(AND(D5005<>\"\",F5005=\"\"),AND(E5005<>\"\",F5005=\"\")),\nF5005=LEFT(F5005,MIN(FIND(0,SUBSTITUTE(F5005,{1,2,3,4,5,6,7,8,9},0)&0))-1)=FALSE\n),\"Check\",\"\")","v":""},"","",null,"",0,"","","","",""]
["SBSA_4997","SBSA_4997",null,null,null,null,null,null,null,null,null,null,null,null,null,null,null,null,null,null,null,null,null,null,null,null,"","",{"$f":"IF(OR(\nOR(AND(D5006<>\"\",F5006=\"\"),AND(E5006<>\"\",F5006=\"\")),\nF5006=LEFT(F5006,MIN(FIND(0,SUBSTITUTE(F5006,{1,2,3,4,5,6,7,8,9},0)&0))-1)=FALSE\n),\"Check\",\"\")","v":""},"","",null,"",0,"","","","",""]
["SBSA_4998","SBSA_4998",null,null,null,null,null,null,null,null,null,null,null,null,null,null,null,null,null,null,null,null,null,null,null,null,"","",{"$f":"IF(OR(\nOR(AND(D5007<>\"\",F5007=\"\"),AND(E5007<>\"\",F5007=\"\")),\nF5007=LEFT(F5007,MIN(FIND(0,SUBSTITUTE(F5007,{1,2,3,4,5,6,7,8,9},0)&0))-1)=FALSE\n),\"Check\",\"\")","v":""},"","",null,"",0,"","","","",""]
["SBSA_4999","SBSA_4999",null,null,null,null,null,null,null,null,null,null,null,null,null,null,null,null,null,null,null,null,null,null,null,null,"","",{"$f":"IF(OR(\nOR(AND(D5008<>\"\",F5008=\"\"),AND(E5008<>\"\",F5008=\"\")),\nF5008=LEFT(F5008,MIN(FIND(0,SUBSTITUTE(F5008,{1,2,3,4,5,6,7,8,9},0)&0))-1)=FALSE\n),\"Check\",\"\")","v":""},"","",null,"",0,"","","","",""]
["SBSA_5000","SBSA_5000",null,null,null,null,null,null,null,null,null,null,null,null,null,null,null,null,null,null,null,null,null,null,null,null,"","",{"$f":"IF(OR(\nOR(AND(D5009<>\"\",F5009=\"\"),AND(E5009<>\"\",F5009=\"\")),\nF5009=LEFT(F5009,MIN(FIND(0,SUBSTITUTE(F5009,{1,2,3,4,5,6,7,8,9},0)&0))-1)=FALSE\n),\"Check\",\"\")","v":""},"","",null,"",0,"","","","",""]
[null,null,null,null,null,null,null,null,null,null,null,null,null,null,null,null,null,null,null,null,null,null,null,null,null,null,null,null,null,null,null,null,null,1]

{"sheet":"SBSA_NOM_NFC","index":17,"n_rows":510,"n_cols":34,"rows_kept":510,"cut":false,"hidden":true,"merged":[[0,2,0,6],[7,3,7,6]]}
[null,null,"REPORTING OF SECURITIES HELD ON BEHALF OF RESIDENT NON-FINANCIAL COMPANY CLIENTS (NOMINEE) ON A SECURITY BY SECURITY (SBS) BASIS",null,null,null,null,null,null,null,null,null,null,null,null,null,null,null,null,null,null,null,null,null,null,null,null,null,null,null,null,null,null,"A"]
[null,null,"Company Name:",{"$f":"IF(Validation_Checks_CBM!E6<>\"\",Validation_Checks_CBM!E6,\"\")","v":0},null,null,null,null,null,null,null,null,null,null,null,null,null,null,null,null,null,null,null,null,null,null,null,null,null,null,null,null,null,1]
[null,null,null,null,null,null,null,null,null,null,null,null,null,null,null,null,null,null,null,null,null,null,null,null,null,null,null,null,null,null,null,null,null,0]
[null,null,"Return for the quarter ending:",null,{"$f":"IF(AND(Validation_Checks_CBM!E12<>\"\",Validation_Checks_CBM!E13<>\"\"),VLOOKUP(Validation_Checks_CBM!AA2,Validation_Checks_CBM!AA4:AC22,3,FALSE),\"\")","v":""},{"$f":"IF(AND(Validation_Checks_CBM!E12<>\"\",Validation_Checks_CBM!E8<>\"\"),Validation_Checks_CBM!E8,\"\")","v":""},null,null,null,null,null,null,null,null,null,null,null,null,null,null,null,null,null,null,null,null,null,null,null,null,null,null,null,1]
[null,null,null,null,{"$f":"IF(AND(COUNTBLANK(C10:C10009)<10000,E4=\"\"),\"Select 'MONTH'\",\"\")","v":""},null,null,null,null,null,null,null,null,null,null,null,null,null,null,null,null,null,null,null,null,null,null,null,null,null,null,null,null,1]
[null,null,"SBSTIT1","SBSTIT2","SBSTIT3","SBSTIT4","SBSTIT5",null,null,null,null,null,null,null,null,null,null,null,null,null,null,null,null,null,null,null,null,null,null,null,null,null,null,2]
[null,null,"Security identifier code","Position at end of period; Number of Units/shares","Position at end of period; Nominal Value ","Position at end of period; Nominal Currency","Position at end of period; Market price",null,null,null,null,null,null,null,null,null,null,null,null,null,null,null,null,null,null,null,null,null,null,null,null,null,null,2]
[null,null,null,"Position at end of period",null,null,null,null,null,null,null,null,null,null,null,null,null,null,null,null,null,null,null,null,null,null,null,null,null,null,null,null,null,1]
[null,null,"Security identifier code (ISIN)","Number of units/shares (in 000s and applicable for shares and other equity only)","Nominal value (in euro 000s and applicable for debt securities only)","Denominated  currency","Market Price per unit/share in denomination  currency",null,null,null,null,null,null,null,null,null,null,null,null,null,null,null,null,null,null,null,null,null,null,null,null,null,null,1]
["SBSA_1","SBSA_1",null,null,null,null,null,null,null,null,null,null,null,null,null,null,null,null,null,null,null,null,null,null,null,null,null,null,null,null,null,null,null,{"$f":"IF(COUNTBLANK(C10:G10)<5,1,0)","v":0}]
["SBSA_2","SBSA_2",null,null,null,null,null,null,null,null,null,null,null,null,null,null,null,null,null,null,null,null,null,null,null,null,null,null,null,null,null,null,null,0]
["SBSA_3","SBSA_3",null,null,null,null,null,null,null,null,null,null,null,null,null,null,null,null,null,null,null,null,null,null,null,null,null,null,null,null,null,null,null,0]
["SBSA_4","SBSA_4",null,null,null,null,null,null,null,null,null,null,null,null,null,null,null,null,null,null,null,null,null,null,null,null,null,null,null,null,null,null,null,0]
["SBSA_5","SBSA_5",null,null,null,null,null,null,null,null,null,null,null,null,null,null,null,null,null,null,null,null,null,null,null,null,null,null,null,null,null,null,null,0]
["SBSA_6","SBSA_6",null,null,null,null,null,null,null,null,null,null,null,null,null,null,null,null,null,null,null,null,null,null,null,null,null,null,null,null,null,null,null,0]
["SBSA_7","SBSA_7",null,null,null,null,null,null,null,null,null,null,null,null,null,null,null,null,null,null,null,null,null,null,null,null,null,null,null,null,null,null,null,0]
["SBSA_8","SBSA_8",null,null,null,null,null,null,null,null,null,null,null,null,null,null,null,null,null,null,null,null,null,null,null,null,null,null,null,null,null,null,null,0]
["SBSA_9","SBSA_9",null,null,null,null,null,null,null,null,null,null,null,null,null,null,null,null,null,null,null,null,null,null,null,null,null,null,null,null,null,null,null,0]
["SBSA_10","SBSA_10",null,null,null,null,null,null,null,null,null,null,null,null,null,null,null,null,null,null,null,null,null,null,null,null,null,null,null,null,null,null,null,0]
["SBSA_11","SBSA_11",null,null,null,null,null,null,null,null,null,null,null,null,null,null,null,null,null,null,null,null,null,null,null,null,null,null,null,null,null,null,null,0]
["SBSA_12","SBSA_12",null,null,null,null,null,null,null,null,null,null,null,null,null,null,null,null,null,null,null,null,null,null,null,null,null,null,null,null,null,null,null,0]
["SBSA_13","SBSA_13",null,null,null,null,null,null,null,null,null,null,null,null,null,null,null,null,null,null,null,null,null,null,null,null,null,null,null,null,null,null,null,0]
["SBSA_14","SBSA_14",null,null,null,null,null,null,null,null,null,null,null,null,null,null,null,null,null,null,null,null,null,null,null,null,null,null,null,null,null,null,null,0]
["SBSA_15","SBSA_15",null,null,null,null,null,null,null,null,null,null,null,null,null,null,null,null,null,null,null,null,null,null,null,null,null,null,null,null,null,null,null,0]
["SBSA_16","SBSA_16",null,null,null,null,null,null,null,null,null,null,null,null,null,null,null,null,null,null,null,null,null,null,null,null,null,null,null,null,null,null,null,0]
["SBSA_17","SBSA_17",null,null,null,null,null,null,null,null,null,null,null,null,null,null,null,null,null,null,null,null,null,null,null,null,null,null,null,null,null,null,null,0]
["SBSA_18","SBSA_18",null,null,null,null,null,null,null,null,null,null,null,null,null,null,null,null,null,null,null,null,null,null,null,null,null,null,null,null,null,null,null,0]
["SBSA_19","SBSA_19",null,null,null,null,null,null,null,null,null,null,null,null,null,null,null,null,null,null,null,null,null,null,null,null,null,null,null,null,null,null,null,0]
["SBSA_20","SBSA_20",null,null,null,null,null,null,null,null,null,null,null,null,null,null,null,null,null,null,null,null,null,null,null,null,null,null,null,null,null,null,null,0]
["SBSA_21","SBSA_21",null,null,null,null,null,null,null,null,null,null,null,null,null,null,null,null,null,null,null,null,null,null,null,null,null,null,null,null,null,null,null,0]
["SBSA_22","SBSA_22",null,null,null,null,null,null,null,null,null,null,null,null,null,null,null,null,null,null,null,null,null,null,null,null,null,null,null,null,null,null,null,0]
["SBSA_23","SBSA_23",null,null,null,null,null,null,null,null,null,null,null,null,null,null,null,null,null,null,null,null,null,null,null,null,null,null,null,null,null,null,null,0]
["SBSA_24","SBSA_24",null,null,null,null,null,null,null,null,null,null,null,null,null,null,null,null,null,null,null,null,null,null,null,null,null,null,null,null,null,null,null,0]
["SBSA_25","SBSA_25",null,null,null,null,null,null,null,null,null,null,null,null,null,null,null,null,null,null,null,null,null,null,null,null,null,null,null,null,null,null,null,0]
["SBSA_26","SBSA_26",null,null,null,null,null,null,null,null,null,null,null,null,null,null,null,null,null,null,null,null,null,null,null,null,null,null,null,null,null,null,null,0]
["SBSA_27","SBSA_27",null,null,null,null,null,null,null,null,null,null,null,null,null,null,null,null,null,null,null,null,null,null,null,null,null,null,null,null,null,null,null,0]
["SBSA_28","SBSA_28",null,null,null,null,null,null,null,null,null,null,null,null,null,null,null,null,null,null,null,null,null,null,null,null,null,null,null,null,null,null,null,0]
["SBSA_29","SBSA_29",null,null,null,null,null,null,null,null,null,null,null,null,null,null,null,null,null,null,null,null,null,null,null,null,null,null,null,null,null,null,null,0]
["SBSA_30","SBSA_30",null,null,null,null,null,null,null,null,null,null,null,null,null,null,null,null,null,null,null,null,null,null,null,null,null,null,null,null,null,null,null,0]
["SBSA_31","SBSA_31",null,null,null,null,null,null,null,null,null,null,null,null,null,null,null,null,null,null,null,null,null,null,null,null,null,null,null,null,null,null,null,0]
["SBSA_32","SBSA_32",null,null,null,null,null,null,null,null,null,null,null,null,null,null,null,null,null,null,null,null,null,null,null,null,null,null,null,null,null,null,null,0]
["SBSA_33","SBSA_33",null,null,null,null,null,null,null,null,null,null,null,null,null,null,null,null,null,null,null,null,null,null,null,null,null,null,null,null,null,null,null,0]
["SBSA_34","SBSA_34",null,null,null,null,null,null,null,null,null,null,null,null,null,null,null,null,null,null,null,null,null,null,null,null,null,null,null,null,null,null,null,0]
["SBSA_35","SBSA_35",null,null,null,null,null,null,null,null,null,null,null,null,null,null,null,null,null,null,null,null,null,null,null,null,null,null,null,null,null,null,null,0]
["SBSA_36","SBSA_36",null,null,null,null,null,null,null,null,null,null,null,null,null,null,null,null,null,null,null,null,null,null,null,null,null,null,null,null,null,null,null,0]
["SBSA_37","SBSA_37",null,null,null,null,null,null,null,null,null,null,null,null,null,null,null,null,null,null,null,null,null,null,null,null,null,null,null,null,null,null,null,0]
["SBSA_38","SBSA_38",null,null,null,null,null,null,null,null,null,null,null,null,null,null,null,null,null,null,null,null,null,null,null,null,null,null,null,null,null,null,null,0]
["SBSA_39","SBSA_39",null,null,null,null,null,null,null,null,null,null,null,null,null,null,null,null,null,null,null,null,null,null,null,null,null,null,null,null,null,null,null,0]
["SBSA_40","SBSA_40",null,null,null,null,null,null,null,null,null,null,null,null,null,null,null,null,null,null,null,null,null,null,null,null,null,null,null,null,null,null,null,0]
["SBSA_41","SBSA_41",null,null,null,null,null,null,null,null,null,null,null,null,null,null,null,null,null,null,null,null,null,null,null,null,null,null,null,null,null,null,null,0]
["SBSA_42","SBSA_42",null,null,null,null,null,null,null,null,null,null,null,null,null,null,null,null,null,null,null,null,null,null,null,null,null,null,null,null,null,null,null,0]
["SBSA_43","SBSA_43",null,null,null,null,null,null,null,null,null,null,null,null,null,null,null,null,null,null,null,null,null,null,null,null,null,null,null,null,null,null,null,0]
["SBSA_44","SBSA_44",null,null,null,null,null,null,null,null,null,null,null,null,null,null,null,null,null,null,null,null,null,null,null,null,null,null,null,null,null,null,null,0]
["SBSA_45","SBSA_45",null,null,null,null,null,null,null,null,null,null,null,null,null,null,null,null,null,null,null,null,null,null,null,null,null,null,null,null,null,null,null,0]
["SBSA_46","SBSA_46",null,null,null,null,null,null,null,null,null,null,null,null,null,null,null,null,null,null,null,null,null,null,null,null,null,null,null,null,null,null,null,0]
["SBSA_47","SBSA_47",null,null,null,null,null,null,null,null,null,null,null,null,null,null,null,null,null,null,null,null,null,null,null,null,null,null,null,null,null,null,null,0]
["SBSA_48","SBSA_48",null,null,null,null,null,null,null,null,null,null,null,null,null,null,null,null,null,null,null,null,null,null,null,null,null,null,null,null,null,null,null,0]
["SBSA_49","SBSA_49",null,null,null,null,null,null,null,null,null,null,null,null,null,null,null,null,null,null,null,null,null,null,null,null,null,null,null,null,null,null,null,0]
["SBSA_50","SBSA_50",null,null,null,null,null,null,null,null,null,null,null,null,null,null,null,null,null,null,null,null,null,null,null,null,null,null,null,null,null,null,null,0]
["SBSA_51","SBSA_51",null,null,null,null,null,null,null,null,null,null,null,null,null,null,null,null,null,null,null,null,null,null,null,null,null,null,null,null,null,null,null,0]
["SBSA_52","SBSA_52",null,null,null,null,null,null,null,null,null,null,null,null,null,null,null,null,null,null,null,null,null,null,null,null,null,null,null,null,null,null,null,0]
["SBSA_53","SBSA_53",null,null,null,null,null,null,null,null,null,null,null,null,null,null,null,null,null,null,null,null,null,null,null,null,null,null,null,null,null,null,null,0]
["SBSA_54","SBSA_54",null,null,null,null,null,null,null,null,null,null,null,null,null,null,null,null,null,null,null,null,null,null,null,null,null,null,null,null,null,null,null,0]
["SBSA_55","SBSA_55",null,null,null,null,null,null,null,null,null,null,null,null,null,null,null,null,null,null,null,null,null,null,null,null,null,null,null,null,null,null,null,0]
["SBSA_56","SBSA_56",null,null,null,null,null,null,null,null,null,null,null,null,null,null,null,null,null,null,null,null,null,null,null,null,null,null,null,null,null,null,null,0]
["SBSA_57","SBSA_57",null,null,null,null,null,null,null,null,null,null,null,null,null,null,null,null,null,null,null,null,null,null,null,null,null,null,null,null,null,null,null,0]
["SBSA_58","SBSA_58",null,null,null,null,null,null,null,null,null,null,null,null,null,null,null,null,null,null,null,null,null,null,null,null,null,null,null,null,null,null,null,0]
["SBSA_59","SBSA_59",null,null,null,null,null,null,null,null,null,null,null,null,null,null,null,null,null,null,null,null,null,null,null,null,null,null,null,null,null,null,null,0]
["SBSA_60","SBSA_60",null,null,null,null,null,null,null,null,null,null,null,null,null,null,null,null,null,null,null,null,null,null,null,null,null,null,null,null,null,null,null,0]
["SBSA_61","SBSA_61",null,null,null,null,null,null,null,null,null,null,null,null,null,null,null,null,null,null,null,null,null,null,null,null,null,null,null,null,null,null,null,0]
["SBSA_62","SBSA_62",null,null,null,null,null,null,null,null,null,null,null,null,null,null,null,null,null,null,null,null,null,null,null,null,null,null,null,null,null,null,null,0]
["SBSA_63","SBSA_63",null,null,null,null,null,null,null,null,null,null,null,null,null,null,null,null,null,null,null,null,null,null,null,null,null,null,null,null,null,null,null,0]
["SBSA_64","SBSA_64",null,null,null,null,null,null,null,null,null,null,null,null,null,null,null,null,null,null,null,null,null,null,null,null,null,null,null,null,null,null,null,0]
["SBSA_65","SBSA_65",null,null,null,null,null,null,null,null,null,null,null,null,null,null,null,null,null,null,null,null,null,null,null,null,null,null,null,null,null,null,null,{"$f":"IF(COUNTBLANK(C74:G74)<5,1,0)","v":0}]
["SBSA_66","SBSA_66",null,null,null,null,null,null,null,null,null,null,null,null,null,null,null,null,null,null,null,null,null,null,null,null,null,null,null,null,null,null,null,0]
["SBSA_67","SBSA_67",null,null,null,null,null,null,null,null,null,null,null,null,null,null,null,null,null,null,null,null,null,null,null,null,null,null,null,null,null,null,null,0]
["SBSA_68","SBSA_68",null,null,null,null,null,null,null,null,null,null,null,null,null,null,null,null,null,null,null,null,null,null,null,null,null,null,null,null,null,null,null,0]
["SBSA_69","SBSA_69",null,null,null,null,null,null,null,null,null,null,null,null,null,null,null,null,null,null,null,null,null,null,null,null,null,null,null,null,null,null,null,0]
["SBSA_70","SBSA_70",null,null,null,null,null,null,null,null,null,null,null,null,null,null,null,null,null,null,null,null,null,null,null,null,null,null,null,null,null,null,null,0]
["SBSA_71","SBSA_71",null,null,null,null,null,null,null,null,null,null,null,null,null,null,null,null,null,null,null,null,null,null,null,null,null,null,null,null,null,null,null,0]
["SBSA_72","SBSA_72",null,null,null,null,null,null,null,null,null,null,null,null,null,null,null,null,null,null,null,null,null,null,null,null,null,null,null,null,null,null,null,0]
["SBSA_73","SBSA_73",null,null,null,null,null,null,null,null,null,null,null,null,null,null,null,null,null,null,null,null,null,null,null,null,null,null,null,null,null,null,null,0]
["SBSA_74","SBSA_74",null,null,null,null,null,null,null,null,null,null,null,null,null,null,null,null,null,null,null,null,null,null,null,null,null,null,null,null,null,null,null,0]
["SBSA_75","SBSA_75",null,null,null,null,null,null,null,null,null,null,null,null,null,null,null,null,null,null,null,null,null,null,null,null,null,null,null,null,null,null,null,0]
["SBSA_76","SBSA_76",null,null,null,null,null,null,null,null,null,null,null,null,null,null,null,null,null,null,null,null,null,null,null,null,null,null,null,null,null,null,null,0]
["SBSA_77","SBSA_77",null,null,null,null,null,null,null,null,null,null,null,null,null,null,null,null,null,null,null,null,null,null,null,null,null,null,null,null,null,null,null,0]
["SBSA_78","SBSA_78",null,null,null,null,null,null,null,null,null,null,null,null,null,null,null,null,null,null,null,null,null,null,null,null,null,null,null,null,null,null,null,0]
["SBSA_79","SBSA_79",null,null,null,null,null,null,null,null,null,null,null,null,null,null,null,null,null,null,null,null,null,null,null,null,null,null,null,null,null,null,null,0]
["SBSA_80","SBSA_80",null,null,null,null,null,null,null,null,null,null,null,null,null,null,null,null,null,null,null,null,null,null,null,null,null,null,null,null,null,null,null,0]
["SBSA_81","SBSA_81",null,null,null,null,null,null,null,null,null,null,null,null,null,null,null,null,null,null,null,null,null,null,null,null,null,null,null,null,null,null,null,0]
["SBSA_82","SBSA_82",null,null,null,null,null,null,null,null,null,null,null,null,null,null,null,null,null,null,null,null,null,null,null,null,null,null,null,null,null,null,null,0]
["SBSA_83","SBSA_83",null,null,null,null,null,null,null,null,null,null,null,null,null,null,null,null,null,null,null,null,null,null,null,null,null,null,null,null,null,null,null,0]
["SBSA_84","SBSA_84",null,null,null,null,null,null,null,null,null,null,null,null,null,null,null,null,null,null,null,null,null,null,null,null,null,null,null,null,null,null,null,0]
["SBSA_85","SBSA_85",null,null,null,null,null,null,null,null,null,null,null,null,null,null,null,null,null,null,null,null,null,null,null,null,null,null,null,null,null,null,null,0]
["SBSA_86","SBSA_86",null,null,null,null,null,null,null,null,null,null,null,null,null,null,null,null,null,null,null,null,null,null,null,null,null,null,null,null,null,null,null,0]
["SBSA_87","SBSA_87",null,null,null,null,null,null,null,null,null,null,null,null,null,null,null,null,null,null,null,null,null,null,null,null,null,null,null,null,null,null,null,0]
["SBSA_88","SBSA_88",null,null,null,null,null,null,null,null,null,null,null,null,null,null,null,null,null,null,null,null,null,null,null,null,null,null,null,null,null,null,null,0]
["SBSA_89","SBSA_89",null,null,null,null,null,null,null,null,null,null,null,null,null,null,null,null,null,null,null,null,null,null,null,null,null,null,null,null,null,null,null,0]
["SBSA_90","SBSA_90",null,null,null,null,null,null,null,null,null,null,null,null,null,null,null,null,null,null,null,null,null,null,null,null,null,null,null,null,null,null,null,0]
["SBSA_91","SBSA_91",null,null,null,null,null,null,null,null,null,null,null,null,null,null,null,null,null,null,null,null,null,null,null,null,null,null,null,null,null,null,null,0]
["SBSA_92","SBSA_92",null,null,null,null,null,null,null,null,null,null,null,null,null,null,null,null,null,null,null,null,null,null,null,null,null,null,null,null,null,null,null,0]
["SBSA_93","SBSA_93",null,null,null,null,null,null,null,null,null,null,null,null,null,null,null,null,null,null,null,null,null,null,null,null,null,null,null,null,null,null,null,0]
["SBSA_94","SBSA_94",null,null,null,null,null,null,null,null,null,null,null,null,null,null,null,null,null,null,null,null,null,null,null,null,null,null,null,null,null,null,null,0]
["SBSA_95","SBSA_95",null,null,null,null,null,null,null,null,null,null,null,null,null,null,null,null,null,null,null,null,null,null,null,null,null,null,null,null,null,null,null,0]
["SBSA_96","SBSA_96",null,null,null,null,null,null,null,null,null,null,null,null,null,null,null,null,null,null,null,null,null,null,null,null,null,null,null,null,null,null,null,0]
["SBSA_97","SBSA_97",null,null,null,null,null,null,null,null,null,null,null,null,null,null,null,null,null,null,null,null,null,null,null,null,null,null,null,null,null,null,null,0]
["SBSA_98","SBSA_98",null,null,null,null,null,null,null,null,null,null,null,null,null,null,null,null,null,null,null,null,null,null,null,null,null,null,null,null,null,null,null,0]
["SBSA_99","SBSA_99",null,null,null,null,null,null,null,null,null,null,null,null,null,null,null,null,null,null,null,null,null,null,null,null,null,null,null,null,null,null,null,0]
["SBSA_100","SBSA_100",null,null,null,null,null,null,null,null,null,null,null,null,null,null,null,null,null,null,null,null,null,null,null,null,null,null,null,null,null,null,null,0]
["SBSA_101","SBSA_101",null,null,null,null,null,null,null,null,null,null,null,null,null,null,null,null,null,null,null,null,null,null,null,null,null,null,null,null,null,null,null,0]
["SBSA_102","SBSA_102",null,null,null,null,null,null,null,null,null,null,null,null,null,null,null,null,null,null,null,null,null,null,null,null,null,null,null,null,null,null,null,0]
["SBSA_103","SBSA_103",null,null,null,null,null,null,null,null,null,null,null,null,null,null,null,null,null,null,null,null,null,null,null,null,null,null,null,null,null,null,null,0]
["SBSA_104","SBSA_104",null,null,null,null,null,null,null,null,null,null,null,null,null,null,null,null,null,null,null,null,null,null,null,null,null,null,null,null,null,null,null,0]
["SBSA_105","SBSA_105",null,null,null,null,null,null,null,null,null,null,null,null,null,null,null,null,null,null,null,null,null,null,null,null,null,null,null,null,null,null,null,0]
["SBSA_106","SBSA_106",null,null,null,null,null,null,null,null,null,null,null,null,null,null,null,null,null,null,null,null,null,null,null,null,null,null,null,null,null,null,null,0]
["SBSA_107","SBSA_107",null,null,null,null,null,null,null,null,null,null,null,null,null,null,null,null,null,null,null,null,null,null,null,null,null,null,null,null,null,null,null,0]
["SBSA_108","SBSA_108",null,null,null,null,null,null,null,null,null,null,null,null,null,null,null,null,null,null,null,null,null,null,null,null,null,null,null,null,null,null,null,0]
["SBSA_109","SBSA_109",null,null,null,null,null,null,null,null,null,null,null,null,null,null,null,null,null,null,null,null,null,null,null,null,null,null,null,null,null,null,null,0]
["SBSA_110","SBSA_110",null,null,null,null,null,null,null,null,null,null,null,null,null,null,null,null,null,null,null,null,null,null,null,null,null,null,null,null,null,null,null,0]
["SBSA_111","SBSA_111",null,null,null,null,null,null,null,null,null,null,null,null,null,null,null,null,null,null,null,null,null,null,null,null,null,null,null,null,null,null,null,0]
["SBSA_112","SBSA_112",null,null,null,null,null,null,null,null,null,null,null,null,null,null,null,null,null,null,null,null,null,null,null,null,null,null,null,null,null,null,null,0]
["SBSA_113","SBSA_113",null,null,null,null,null,null,null,null,null,null,null,null,null,null,null,null,null,null,null,null,null,null,null,null,null,null,null,null,null,null,null,0]
["SBSA_114","SBSA_114",null,null,null,null,null,null,null,null,null,null,null,null,null,null,null,null,null,null,null,null,null,null,null,null,null,null,null,null,null,null,null,0]
["SBSA_115","SBSA_115",null,null,null,null,null,null,null,null,null,null,null,null,null,null,null,null,null,null,null,null,null,null,null,null,null,null,null,null,null,null,null,0]
["SBSA_116","SBSA_116",null,null,null,null,null,null,null,null,null,null,null,null,null,null,null,null,null,null,null,null,null,null,null,null,null,null,null,null,null,null,null,0]
["SBSA_117","SBSA_117",null,null,null,null,null,null,null,null,null,null,null,null,null,null,null,null,null,null,null,null,null,null,null,null,null,null,null,null,null,null,null,0]
["SBSA_118","SBSA_118",null,null,null,null,null,null,null,null,null,null,null,null,null,null,null,null,null,null,null,null,null,null,null,null,null,null,null,null,null,null,null,0]
["SBSA_119","SBSA_119",null,null,null,null,null,null,null,null,null,null,null,null,null,null,null,null,null,null,null,null,null,null,null,null,null,null,null,null,null,null,null,0]
["SBSA_120","SBSA_120",null,null,null,null,null,null,null,null,null,null,null,null,null,null,null,null,null,null,null,null,null,null,null,null,null,null,null,null,null,null,null,0]
["SBSA_121","SBSA_121",null,null,null,null,null,null,null,null,null,null,null,null,null,null,null,null,null,null,null,null,null,null,null,null,null,null,null,null,null,null,null,0]
["SBSA_122","SBSA_122",null,null,null,null,null,null,null,null,null,null,null,null,null,null,null,null,null,null,null,null,null,null,null,null,null,null,null,null,null,null,null,0]
["SBSA_123","SBSA_123",null,null,null,null,null,null,null,null,null,null,null,null,null,null,null,null,null,null,null,null,null,null,null,null,null,null,null,null,null,null,null,0]
["SBSA_124","SBSA_124",null,null,null,null,null,null,null,null,null,null,null,null,null,null,null,null,null,null,null,null,null,null,null,null,null,null,null,null,null,null,null,0]
["SBSA_125","SBSA_125",null,null,null,null,null,null,null,null,null,null,null,null,null,null,null,null,null,null,null,null,null,null,null,null,null,null,null,null,null,null,null,0]
["SBSA_126","SBSA_126",null,null,null,null,null,null,null,null,null,null,null,null,null,null,null,null,null,null,null,null,null,null,null,null,null,null,null,null,null,null,null,0]
["SBSA_127","SBSA_127",null,null,null,null,null,null,null,null,null,null,null,null,null,null,null,null,null,null,null,null,null,null,null,null,null,null,null,null,null,null,null,0]
["SBSA_128","SBSA_128",null,null,null,null,null,null,null,null,null,null,null,null,null,null,null,null,null,null,null,null,null,null,null,null,null,null,null,null,null,null,null,0]
["SBSA_129","SBSA_129",null,null,null,null,null,null,null,null,null,null,null,null,null,null,null,null,null,null,null,null,null,null,null,null,null,null,null,null,null,null,null,{"$f":"IF(COUNTBLANK(C138:G138)<5,1,0)","v":0}]
["SBSA_130","SBSA_130",null,null,null,null,null,null,null,null,null,null,null,null,null,null,null,null,null,null,null,null,null,null,null,null,null,null,null,null,null,null,null,0]
["SBSA_131","SBSA_131",null,null,null,null,null,null,null,null,null,null,null,null,null,null,null,null,null,null,null,null,null,null,null,null,null,null,null,null,null,null,null,0]
["SBSA_132","SBSA_132",null,null,null,null,null,null,null,null,null,null,null,null,null,null,null,null,null,null,null,null,null,null,null,null,null,null,null,null,null,null,null,0]
["SBSA_133","SBSA_133",null,null,null,null,null,null,null,null,null,null,null,null,null,null,null,null,null,null,null,null,null,null,null,null,null,null,null,null,null,null,null,0]
["SBSA_134","SBSA_134",null,null,null,null,null,null,null,null,null,null,null,null,null,null,null,null,null,null,null,null,null,null,null,null,null,null,null,null,null,null,null,0]
["SBSA_135","SBSA_135",null,null,null,null,null,null,null,null,null,null,null,null,null,null,null,null,null,null,null,null,null,null,null,null,null,null,null,null,null,null,null,0]
["SBSA_136","SBSA_136",null,null,null,null,null,null,null,null,null,null,null,null,null,null,null,null,null,null,null,null,null,null,null,null,null,null,null,null,null,null,null,0]
["SBSA_137","SBSA_137",null,null,null,null,null,null,null,null,null,null,null,null,null,null,null,null,null,null,null,null,null,null,null,null,null,null,null,null,null,null,null,0]
["SBSA_138","SBSA_138",null,null,null,null,null,null,null,null,null,null,null,null,null,null,null,null,null,null,null,null,null,null,null,null,null,null,null,null,null,null,null,0]
["SBSA_139","SBSA_139",null,null,null,null,null,null,null,null,null,null,null,null,null,null,null,null,null,null,null,null,null,null,null,null,null,null,null,null,null,null,null,0]
["SBSA_140","SBSA_140",null,null,null,null,null,null,null,null,null,null,null,null,null,null,null,null,null,null,null,null,null,null,null,null,null,null,null,null,null,null,null,0]
["SBSA_141","SBSA_141",null,null,null,null,null,null,null,null,null,null,null,null,null,null,null,null,null,null,null,null,null,null,null,null,null,null,null,null,null,null,null,0]
["SBSA_142","SBSA_142",null,null,null,null,null,null,null,null,null,null,null,null,null,null,null,null,null,null,null,null,null,null,null,null,null,null,null,null,null,null,null,0]
["SBSA_143","SBSA_143",null,null,null,null,null,null,null,null,null,null,null,null,null,null,null,null,null,null,null,null,null,null,null,null,null,null,null,null,null,null,null,0]
["SBSA_144","SBSA_144",null,null,null,null,null,null,null,null,null,null,null,null,null,null,null,null,null,null,null,null,null,null,null,null,null,null,null,null,null,null,null,0]
["SBSA_145","SBSA_145",null,null,null,null,null,null,null,null,null,null,null,null,null,null,null,null,null,null,null,null,null,null,null,null,null,null,null,null,null,null,null,0]
["SBSA_146","SBSA_146",null,null,null,null,null,null,null,null,null,null,null,null,null,null,null,null,null,null,null,null,null,null,null,null,null,null,null,null,null,null,null,0]
["SBSA_147","SBSA_147",null,null,null,null,null,null,null,null,null,null,null,null,null,null,null,null,null,null,null,null,null,null,null,null,null,null,null,null,null,null,null,0]
["SBSA_148","SBSA_148",null,null,null,null,null,null,null,null,null,null,null,null,null,null,null,null,null,null,null,null,null,null,null,null,null,null,null,null,null,null,null,0]
["SBSA_149","SBSA_149",null,null,null,null,null,null,null,null,null,null,null,null,null,null,null,null,null,null,null,null,null,null,null,null,null,null,null,null,null,null,null,0]
["SBSA_150","SBSA_150",null,null,null,null,null,null,null,null,null,null,null,null,null,null,null,null,null,null,null,null,null,null,null,null,null,null,null,null,null,null,null,0]
["SBSA_151","SBSA_151",null,null,null,null,null,null,null,null,null,null,null,null,null,null,null,null,null,null,null,null,null,null,null,null,null,null,null,null,null,null,null,0]
["SBSA_152","SBSA_152",null,null,null,null,null,null,null,null,null,null,null,null,null,null,null,null,null,null,null,null,null,null,null,null,null,null,null,null,null,null,null,0]
["SBSA_153","SBSA_153",null,null,null,null,null,null,null,null,null,null,null,null,null,null,null,null,null,null,null,null,null,null,null,null,null,null,null,null,null,null,null,0]
["SBSA_154","SBSA_154",null,null,null,null,null,null,null,null,null,null,null,null,null,null,null,null,null,null,null,null,null,null,null,null,null,null,null,null,null,null,null,0]
["SBSA_155","SBSA_155",null,null,null,null,null,null,null,null,null,null,null,null,null,null,null,null,null,null,null,null,null,null,null,null,null,null,null,null,null,null,null,0]
["SBSA_156","SBSA_156",null,null,null,null,null,null,null,null,null,null,null,null,null,null,null,null,null,null,null,null,null,null,null,null,null,null,null,null,null,null,null,0]
["SBSA_157","SBSA_157",null,null,null,null,null,null,null,null,null,null,null,null,null,null,null,null,null,null,null,null,null,null,null,null,null,null,null,null,null,null,null,0]
["SBSA_158","SBSA_158",null,null,null,null,null,null,null,null,null,null,null,null,null,null,null,null,null,null,null,null,null,null,null,null,null,null,null,null,null,null,null,0]
["SBSA_159","SBSA_159",null,null,null,null,null,null,null,null,null,null,null,null,null,null,null,null,null,null,null,null,null,null,null,null,null,null,null,null,null,null,null,0]
["SBSA_160","SBSA_160",null,null,null,null,null,null,null,null,null,null,null,null,null,null,null,null,null,null,null,null,null,null,null,null,null,null,null,null,null,null,null,0]
["SBSA_161","SBSA_161",null,null,null,null,null,null,null,null,null,null,null,null,null,null,null,null,null,null,null,null,null,null,null,null,null,null,null,null,null,null,null,0]
["SBSA_162","SBSA_162",null,null,null,null,null,null,null,null,null,null,null,null,null,null,null,null,null,null,null,null,null,null,null,null,null,null,null,null,null,null,null,0]
["SBSA_163","SBSA_163",null,null,null,null,null,null,null,null,null,null,null,null,null,null,null,null,null,null,null,null,null,null,null,null,null,null,null,null,null,null,null,0]
["SBSA_164","SBSA_164",null,null,null,null,null,null,null,null,null,null,null,null,null,null,null,null,null,null,null,null,null,null,null,null,null,null,null,null,null,null,null,0]
["SBSA_165","SBSA_165",null,null,null,null,null,null,null,null,null,null,null,null,null,null,null,null,null,null,null,null,null,null,null,null,null,null,null,null,null,null,null,0]
["SBSA_166","SBSA_166",null,null,null,null,null,null,null,null,null,null,null,null,null,null,null,null,null,null,null,null,null,null,null,null,null,null,null,null,null,null,null,0]
["SBSA_167","SBSA_167",null,null,null,null,null,null,null,null,null,null,null,null,null,null,null,null,null,null,null,null,null,null,null,null,null,null,null,null,null,null,null,0]
["SBSA_168","SBSA_168",null,null,null,null,null,null,null,null,null,null,null,null,null,null,null,null,null,null,null,null,null,null,null,null,null,null,null,null,null,null,null,0]
["SBSA_169","SBSA_169",null,null,null,null,null,null,null,null,null,null,null,null,null,null,null,null,null,null,null,null,null,null,null,null,null,null,null,null,null,null,null,0]
["SBSA_170","SBSA_170",null,null,null,null,null,null,null,null,null,null,null,null,null,null,null,null,null,null,null,null,null,null,null,null,null,null,null,null,null,null,null,0]
["SBSA_171","SBSA_171",null,null,null,null,null,null,null,null,null,null,null,null,null,null,null,null,null,null,null,null,null,null,null,null,null,null,null,null,null,null,null,0]
["SBSA_172","SBSA_172",null,null,null,null,null,null,null,null,null,null,null,null,null,null,null,null,null,null,null,null,null,null,null,null,null,null,null,null,null,null,null,0]
["SBSA_173","SBSA_173",null,null,null,null,null,null,null,null,null,null,null,null,null,null,null,null,null,null,null,null,null,null,null,null,null,null,null,null,null,null,null,0]
["SBSA_174","SBSA_174",null,null,null,null,null,null,null,null,null,null,null,null,null,null,null,null,null,null,null,null,null,null,null,null,null,null,null,null,null,null,null,0]
["SBSA_175","SBSA_175",null,null,null,null,null,null,null,null,null,null,null,null,null,null,null,null,null,null,null,null,null,null,null,null,null,null,null,null,null,null,null,0]
["SBSA_176","SBSA_176",null,null,null,null,null,null,null,null,null,null,null,null,null,null,null,null,null,null,null,null,null,null,null,null,null,null,null,null,null,null,null,0]
["SBSA_177","SBSA_177",null,null,null,null,null,null,null,null,null,null,null,null,null,null,null,null,null,null,null,null,null,null,null,null,null,null,null,null,null,null,null,0]
["SBSA_178","SBSA_178",null,null,null,null,null,null,null,null,null,null,null,null,null,null,null,null,null,null,null,null,null,null,null,null,null,null,null,null,null,null,null,0]
["SBSA_179","SBSA_179",null,null,null,null,null,null,null,null,null,null,null,null,null,null,null,null,null,null,null,null,null,null,null,null,null,null,null,null,null,null,null,0]
["SBSA_180","SBSA_180",null,null,null,null,null,null,null,null,null,null,null,null,null,null,null,null,null,null,null,null,null,null,null,null,null,null,null,null,null,null,null,0]
["SBSA_181","SBSA_181",null,null,null,null,null,null,null,null,null,null,null,null,null,null,null,null,null,null,null,null,null,null,null,null,null,null,null,null,null,null,null,0]
["SBSA_182","SBSA_182",null,null,null,null,null,null,null,null,null,null,null,null,null,null,null,null,null,null,null,null,null,null,null,null,null,null,null,null,null,null,null,0]
["SBSA_183","SBSA_183",null,null,null,null,null,null,null,null,null,null,null,null,null,null,null,null,null,null,null,null,null,null,null,null,null,null,null,null,null,null,null,0]
["SBSA_184","SBSA_184",null,null,null,null,null,null,null,null,null,null,null,null,null,null,null,null,null,null,null,null,null,null,null,null,null,null,null,null,null,null,null,0]
["SBSA_185","SBSA_185",null,null,null,null,null,null,null,null,null,null,null,null,null,null,null,null,null,null,null,null,null,null,null,null,null,null,null,null,null,null,null,0]
["SBSA_186","SBSA_186",null,null,null,null,null,null,null,null,null,null,null,null,null,null,null,null,null,null,null,null,null,null,null,null,null,null,null,null,null,null,null,0]
["SBSA_187","SBSA_187",null,null,null,null,null,null,null,null,null,null,null,null,null,null,null,null,null,null,null,null,null,null,null,null,null,null,null,null,null,null,null,0]
["SBSA_188","SBSA_188",null,null,null,null,null,null,null,null,null,null,null,null,null,null,null,null,null,null,null,null,null,null,null,null,null,null,null,null,null,null,null,0]
["SBSA_189","SBSA_189",null,null,null,null,null,null,null,null,null,null,null,null,null,null,null,null,null,null,null,null,null,null,null,null,null,null,null,null,null,null,null,0]
["SBSA_190","SBSA_190",null,null,null,null,null,null,null,null,null,null,null,null,null,null,null,null,null,null,null,null,null,null,null,null,null,null,null,null,null,null,null,0]
["SBSA_191","SBSA_191",null,null,null,null,null,null,null,null,null,null,null,null,null,null,null,null,null,null,null,null,null,null,null,null,null,null,null,null,null,null,null,0]
["SBSA_192","SBSA_192",null,null,null,null,null,null,null,null,null,null,null,null,null,null,null,null,null,null,null,null,null,null,null,null,null,null,null,null,null,null,null,0]
["SBSA_193","SBSA_193",null,null,null,null,null,null,null,null,null,null,null,null,null,null,null,null,null,null,null,null,null,null,null,null,null,null,null,null,null,null,null,{"$f":"IF(COUNTBLANK(C202:G202)<5,1,0)","v":0}]
["SBSA_194","SBSA_194",null,null,null,null,null,null,null,null,null,null,null,null,null,null,null,null,null,null,null,null,null,null,null,null,null,null,null,null,null,null,null,0]
["SBSA_195","SBSA_195",null,null,null,null,null,null,null,null,null,null,null,null,null,null,null,null,null,null,null,null,null,null,null,null,null,null,null,null,null,null,null,0]
["SBSA_196","SBSA_196",null,null,null,null,null,null,null,null,null,null,null,null,null,null,null,null,null,null,null,null,null,null,null,null,null,null,null,null,null,null,null,0]
["SBSA_197","SBSA_197",null,null,null,null,null,null,null,null,null,null,null,null,null,null,null,null,null,null,null,null,null,null,null,null,null,null,null,null,null,null,null,0]
["SBSA_198","SBSA_198",null,null,null,null,null,null,null,null,null,null,null,null,null,null,null,null,null,null,null,null,null,null,null,null,null,null,null,null,null,null,null,0]
["SBSA_199","SBSA_199",null,null,null,null,null,null,null,null,null,null,null,null,null,null,null,null,null,null,null,null,null,null,null,null,null,null,null,null,null,null,null,0]
["SBSA_200","SBSA_200",null,null,null,null,null,null,null,null,null,null,null,null,null,null,null,null,null,null,null,null,null,null,null,null,null,null,null,null,null,null,null,0]
["SBSA_201","SBSA_201",null,null,null,null,null,null,null,null,null,null,null,null,null,null,null,null,null,null,null,null,null,null,null,null,null,null,null,null,null,null,null,0]
["SBSA_202","SBSA_202",null,null,null,null,null,null,null,null,null,null,null,null,null,null,null,null,null,null,null,null,null,null,null,null,null,null,null,null,null,null,null,0]
["SBSA_203","SBSA_203",null,null,null,null,null,null,null,null,null,null,null,null,null,null,null,null,null,null,null,null,null,null,null,null,null,null,null,null,null,null,null,0]
["SBSA_204","SBSA_204",null,null,null,null,null,null,null,null,null,null,null,null,null,null,null,null,null,null,null,null,null,null,null,null,null,null,null,null,null,null,null,0]
["SBSA_205","SBSA_205",null,null,null,null,null,null,null,null,null,null,null,null,null,null,null,null,null,null,null,null,null,null,null,null,null,null,null,null,null,null,null,0]
["SBSA_206","SBSA_206",null,null,null,null,null,null,null,null,null,null,null,null,null,null,null,null,null,null,null,null,null,null,null,null,null,null,null,null,null,null,null,0]
["SBSA_207","SBSA_207",null,null,null,null,null,null,null,null,null,null,null,null,null,null,null,null,null,null,null,null,null,null,null,null,null,null,null,null,null,null,null,0]
["SBSA_208","SBSA_208",null,null,null,null,null,null,null,null,null,null,null,null,null,null,null,null,null,null,null,null,null,null,null,null,null,null,null,null,null,null,null,0]
["SBSA_209","SBSA_209",null,null,null,null,null,null,null,null,null,null,null,null,null,null,null,null,null,null,null,null,null,null,null,null,null,null,null,null,null,null,null,0]
["SBSA_210","SBSA_210",null,null,null,null,null,null,null,null,null,null,null,null,null,null,null,null,null,null,null,null,null,null,null,null,null,null,null,null,null,null,null,0]
["SBSA_211","SBSA_211",null,null,null,null,null,null,null,null,null,null,null,null,null,null,null,null,null,null,null,null,null,null,null,null,null,null,null,null,null,null,null,0]
["SBSA_212","SBSA_212",null,null,null,null,null,null,null,null,null,null,null,null,null,null,null,null,null,null,null,null,null,null,null,null,null,null,null,null,null,null,null,0]
["SBSA_213","SBSA_213",null,null,null,null,null,null,null,null,null,null,null,null,null,null,null,null,null,null,null,null,null,null,null,null,null,null,null,null,null,null,null,0]
["SBSA_214","SBSA_214",null,null,null,null,null,null,null,null,null,null,null,null,null,null,null,null,null,null,null,null,null,null,null,null,null,null,null,null,null,null,null,0]
["SBSA_215","SBSA_215",null,null,null,null,null,null,null,null,null,null,null,null,null,null,null,null,null,null,null,null,null,null,null,null,null,null,null,null,null,null,null,0]
["SBSA_216","SBSA_216",null,null,null,null,null,null,null,null,null,null,null,null,null,null,null,null,null,null,null,null,null,null,null,null,null,null,null,null,null,null,null,0]
["SBSA_217","SBSA_217",null,null,null,null,null,null,null,null,null,null,null,null,null,null,null,null,null,null,null,null,null,null,null,null,null,null,null,null,null,null,null,0]
["SBSA_218","SBSA_218",null,null,null,null,null,null,null,null,null,null,null,null,null,null,null,null,null,null,null,null,null,null,null,null,null,null,null,null,null,null,null,0]
["SBSA_219","SBSA_219",null,null,null,null,null,null,null,null,null,null,null,null,null,null,null,null,null,null,null,null,null,null,null,null,null,null,null,null,null,null,null,0]
["SBSA_220","SBSA_220",null,null,null,null,null,null,null,null,null,null,null,null,null,null,null,null,null,null,null,null,null,null,null,null,null,null,null,null,null,null,null,0]
["SBSA_221","SBSA_221",null,null,null,null,null,null,null,null,null,null,null,null,null,null,null,null,null,null,null,null,null,null,null,null,null,null,null,null,null,null,null,0]
["SBSA_222","SBSA_222",null,null,null,null,null,null,null,null,null,null,null,null,null,null,null,null,null,null,null,null,null,null,null,null,null,null,null,null,null,null,null,0]
["SBSA_223","SBSA_223",null,null,null,null,null,null,null,null,null,null,null,null,null,null,null,null,null,null,null,null,null,null,null,null,null,null,null,null,null,null,null,0]
["SBSA_224","SBSA_224",null,null,null,null,null,null,null,null,null,null,null,null,null,null,null,null,null,null,null,null,null,null,null,null,null,null,null,null,null,null,null,0]
["SBSA_225","SBSA_225",null,null,null,null,null,null,null,null,null,null,null,null,null,null,null,null,null,null,null,null,null,null,null,null,null,null,null,null,null,null,null,0]
["SBSA_226","SBSA_226",null,null,null,null,null,null,null,null,null,null,null,null,null,null,null,null,null,null,null,null,null,null,null,null,null,null,null,null,null,null,null,0]
["SBSA_227","SBSA_227",null,null,null,null,null,null,null,null,null,null,null,null,null,null,null,null,null,null,null,null,null,null,null,null,null,null,null,null,null,null,null,0]
["SBSA_228","SBSA_228",null,null,null,null,null,null,null,null,null,null,null,null,null,null,null,null,null,null,null,null,null,null,null,null,null,null,null,null,null,null,null,0]
["SBSA_229","SBSA_229",null,null,null,null,null,null,null,null,null,null,null,null,null,null,null,null,null,null,null,null,null,null,null,null,null,null,null,null,null,null,null,0]
["SBSA_230","SBSA_230",null,null,null,null,null,null,null,null,null,null,null,null,null,null,null,null,null,null,null,null,null,null,null,null,null,null,null,null,null,null,null,0]
["SBSA_231","SBSA_231",null,null,null,null,null,null,null,null,null,null,null,null,null,null,null,null,null,null,null,null,null,null,null,null,null,null,null,null,null,null,null,0]
["SBSA_232","SBSA_232",null,null,null,null,null,null,null,null,null,null,null,null,null,null,null,null,null,null,null,null,null,null,null,null,null,null,null,null,null,null,null,0]
["SBSA_233","SBSA_233",null,null,null,null,null,null,null,null,null,null,null,null,null,null,null,null,null,null,null,null,null,null,null,null,null,null,null,null,null,null,null,0]
["SBSA_234","SBSA_234",null,null,null,null,null,null,null,null,null,null,null,null,null,null,null,null,null,null,null,null,null,null,null,null,null,null,null,null,null,null,null,0]
["SBSA_235","SBSA_235",null,null,null,null,null,null,null,null,null,null,null,null,null,null,null,null,null,null,null,null,null,null,null,null,null,null,null,null,null,null,null,0]
["SBSA_236","SBSA_236",null,null,null,null,null,null,null,null,null,null,null,null,null,null,null,null,null,null,null,null,null,null,null,null,null,null,null,null,null,null,null,0]
["SBSA_237","SBSA_237",null,null,null,null,null,null,null,null,null,null,null,null,null,null,null,null,null,null,null,null,null,null,null,null,null,null,null,null,null,null,null,0]
["SBSA_238","SBSA_238",null,null,null,null,null,null,null,null,null,null,null,null,null,null,null,null,null,null,null,null,null,null,null,null,null,null,null,null,null,null,null,0]
["SBSA_239","SBSA_239",null,null,null,null,null,null,null,null,null,null,null,null,null,null,null,null,null,null,null,null,null,null,null,null,null,null,null,null,null,null,null,0]
["SBSA_240","SBSA_240",null,null,null,null,null,null,null,null,null,null,null,null,null,null,null,null,null,null,null,null,null,null,null,null,null,null,null,null,null,null,null,0]
["SBSA_241","SBSA_241",null,null,null,null,null,null,null,null,null,null,null,null,null,null,null,null,null,null,null,null,null,null,null,null,null,null,null,null,null,null,null,0]
["SBSA_242","SBSA_242",null,null,null,null,null,null,null,null,null,null,null,null,null,null,null,null,null,null,null,null,null,null,null,null,null,null,null,null,null,null,null,0]
["SBSA_243","SBSA_243",null,null,null,null,null,null,null,null,null,null,null,null,null,null,null,null,null,null,null,null,null,null,null,null,null,null,null,null,null,null,null,0]
["SBSA_244","SBSA_244",null,null,null,null,null,null,null,null,null,null,null,null,null,null,null,null,null,null,null,null,null,null,null,null,null,null,null,null,null,null,null,0]
["SBSA_245","SBSA_245",null,null,null,null,null,null,null,null,null,null,null,null,null,null,null,null,null,null,null,null,null,null,null,null,null,null,null,null,null,null,null,0]
["SBSA_246","SBSA_246",null,null,null,null,null,null,null,null,null,null,null,null,null,null,null,null,null,null,null,null,null,null,null,null,null,null,null,null,null,null,null,0]
["SBSA_247","SBSA_247",null,null,null,null,null,null,null,null,null,null,null,null,null,null,null,null,null,null,null,null,null,null,null,null,null,null,null,null,null,null,null,0]
["SBSA_248","SBSA_248",null,null,null,null,null,null,null,null,null,null,null,null,null,null,null,null,null,null,null,null,null,null,null,null,null,null,null,null,null,null,null,0]
["SBSA_249","SBSA_249",null,null,null,null,null,null,null,null,null,null,null,null,null,null,null,null,null,null,null,null,null,null,null,null,null,null,null,null,null,null,null,0]
["SBSA_250","SBSA_250",null,null,null,null,null,null,null,null,null,null,null,null,null,null,null,null,null,null,null,null,null,null,null,null,null,null,null,null,null,null,null,0]
["SBSA_251","SBSA_251",null,null,null,null,null,null,null,null,null,null,null,null,null,null,null,null,null,null,null,null,null,null,null,null,null,null,null,null,null,null,null,0]
["SBSA_252","SBSA_252",null,null,null,null,null,null,null,null,null,null,null,null,null,null,null,null,null,null,null,null,null,null,null,null,null,null,null,null,null,null,null,0]
["SBSA_253","SBSA_253",null,null,null,null,null,null,null,null,null,null,null,null,null,null,null,null,null,null,null,null,null,null,null,null,null,null,null,null,null,null,null,0]
["SBSA_254","SBSA_254",null,null,null,null,null,null,null,null,null,null,null,null,null,null,null,null,null,null,null,null,null,null,null,null,null,null,null,null,null,null,null,0]
["SBSA_255","SBSA_255",null,null,null,null,null,null,null,null,null,null,null,null,null,null,null,null,null,null,null,null,null,null,null,null,null,null,null,null,null,null,null,0]
["SBSA_256","SBSA_256",null,null,null,null,null,null,null,null,null,null,null,null,null,null,null,null,null,null,null,null,null,null,null,null,null,null,null,null,null,null,null,0]
["SBSA_257","SBSA_257",null,null,null,null,null,null,null,null,null,null,null,null,null,null,null,null,null,null,null,null,null,null,null,null,null,null,null,null,null,null,null,{"$f":"IF(COUNTBLANK(C266:G266)<5,1,0)","v":0}]
["SBSA_258","SBSA_258",null,null,null,null,null,null,null,null,null,null,null,null,null,null,null,null,null,null,null,null,null,null,null,null,null,null,null,null,null,null,null,0]
["SBSA_259","SBSA_259",null,null,null,null,null,null,null,null,null,null,null,null,null,null,null,null,null,null,null,null,null,null,null,null,null,null,null,null,null,null,null,0]
["SBSA_260","SBSA_260",null,null,null,null,null,null,null,null,null,null,null,null,null,null,null,null,null,null,null,null,null,null,null,null,null,null,null,null,null,null,null,0]
["SBSA_261","SBSA_261",null,null,null,null,null,null,null,null,null,null,null,null,null,null,null,null,null,null,null,null,null,null,null,null,null,null,null,null,null,null,null,0]
["SBSA_262","SBSA_262",null,null,null,null,null,null,null,null,null,null,null,null,null,null,null,null,null,null,null,null,null,null,null,null,null,null,null,null,null,null,null,0]
["SBSA_263","SBSA_263",null,null,null,null,null,null,null,null,null,null,null,null,null,null,null,null,null,null,null,null,null,null,null,null,null,null,null,null,null,null,null,0]
["SBSA_264","SBSA_264",null,null,null,null,null,null,null,null,null,null,null,null,null,null,null,null,null,null,null,null,null,null,null,null,null,null,null,null,null,null,null,0]
["SBSA_265","SBSA_265",null,null,null,null,null,null,null,null,null,null,null,null,null,null,null,null,null,null,null,null,null,null,null,null,null,null,null,null,null,null,null,0]
["SBSA_266","SBSA_266",null,null,null,null,null,null,null,null,null,null,null,null,null,null,null,null,null,null,null,null,null,null,null,null,null,null,null,null,null,null,null,0]
["SBSA_267","SBSA_267",null,null,null,null,null,null,null,null,null,null,null,null,null,null,null,null,null,null,null,null,null,null,null,null,null,null,null,null,null,null,null,0]
["SBSA_268","SBSA_268",null,null,null,null,null,null,null,null,null,null,null,null,null,null,null,null,null,null,null,null,null,null,null,null,null,null,null,null,null,null,null,0]
["SBSA_269","SBSA_269",null,null,null,null,null,null,null,null,null,null,null,null,null,null,null,null,null,null,null,null,null,null,null,null,null,null,null,null,null,null,null,0]
["SBSA_270","SBSA_270",null,null,null,null,null,null,null,null,null,null,null,null,null,null,null,null,null,null,null,null,null,null,null,null,null,null,null,null,null,null,null,0]
["SBSA_271","SBSA_271",null,null,null,null,null,null,null,null,null,null,null,null,null,null,null,null,null,null,null,null,null,null,null,null,null,null,null,null,null,null,null,0]
["SBSA_272","SBSA_272",null,null,null,null,null,null,null,null,null,null,null,null,null,null,null,null,null,null,null,null,null,null,null,null,null,null,null,null,null,null,null,0]
["SBSA_273","SBSA_273",null,null,null,null,null,null,null,null,null,null,null,null,null,null,null,null,null,null,null,null,null,null,null,null,null,null,null,null,null,null,null,0]
["SBSA_274","SBSA_274",null,null,null,null,null,null,null,null,null,null,null,null,null,null,null,null,null,null,null,null,null,null,null,null,null,null,null,null,null,null,null,0]
["SBSA_275","SBSA_275",null,null,null,null,null,null,null,null,null,null,null,null,null,null,null,null,null,null,null,null,null,null,null,null,null,null,null,null,null,null,null,0]
["SBSA_276","SBSA_276",null,null,null,null,null,null,null,null,null,null,null,null,null,null,null,null,null,null,null,null,null,null,null,null,null,null,null,null,null,null,null,0]
["SBSA_277","SBSA_277",null,null,null,null,null,null,null,null,null,null,null,null,null,null,null,null,null,null,null,null,null,null,null,null,null,null,null,null,null,null,null,0]
["SBSA_278","SBSA_278",null,null,null,null,null,null,null,null,null,null,null,null,null,null,null,null,null,null,null,null,null,null,null,null,null,null,null,null,null,null,null,0]
["SBSA_279","SBSA_279",null,null,null,null,null,null,null,null,null,null,null,null,null,null,null,null,null,null,null,null,null,null,null,null,null,null,null,null,null,null,null,0]
["SBSA_280","SBSA_280",null,null,null,null,null,null,null,null,null,null,null,null,null,null,null,null,null,null,null,null,null,null,null,null,null,null,null,null,null,null,null,0]
["SBSA_281","SBSA_281",null,null,null,null,null,null,null,null,null,null,null,null,null,null,null,null,null,null,null,null,null,null,null,null,null,null,null,null,null,null,null,0]
["SBSA_282","SBSA_282",null,null,null,null,null,null,null,null,null,null,null,null,null,null,null,null,null,null,null,null,null,null,null,null,null,null,null,null,null,null,null,0]
["SBSA_283","SBSA_283",null,null,null,null,null,null,null,null,null,null,null,null,null,null,null,null,null,null,null,null,null,null,null,null,null,null,null,null,null,null,null,0]
["SBSA_284","SBSA_284",null,null,null,null,null,null,null,null,null,null,null,null,null,null,null,null,null,null,null,null,null,null,null,null,null,null,null,null,null,null,null,0]
["SBSA_285","SBSA_285",null,null,null,null,null,null,null,null,null,null,null,null,null,null,null,null,null,null,null,null,null,null,null,null,null,null,null,null,null,null,null,0]
["SBSA_286","SBSA_286",null,null,null,null,null,null,null,null,null,null,null,null,null,null,null,null,null,null,null,null,null,null,null,null,null,null,null,null,null,null,null,0]
["SBSA_287","SBSA_287",null,null,null,null,null,null,null,null,null,null,null,null,null,null,null,null,null,null,null,null,null,null,null,null,null,null,null,null,null,null,null,0]
["SBSA_288","SBSA_288",null,null,null,null,null,null,null,null,null,null,null,null,null,null,null,null,null,null,null,null,null,null,null,null,null,null,null,null,null,null,null,0]
["SBSA_289","SBSA_289",null,null,null,null,null,null,null,null,null,null,null,null,null,null,null,null,null,null,null,null,null,null,null,null,null,null,null,null,null,null,null,0]
["SBSA_290","SBSA_290",null,null,null,null,null,null,null,null,null,null,null,null,null,null,null,null,null,null,null,null,null,null,null,null,null,null,null,null,null,null,null,0]
["SBSA_291","SBSA_291",null,null,null,null,null,null,null,null,null,null,null,null,null,null,null,null,null,null,null,null,null,null,null,null,null,null,null,null,null,null,null,0]
["SBSA_292","SBSA_292",null,null,null,null,null,null,null,null,null,null,null,null,null,null,null,null,null,null,null,null,null,null,null,null,null,null,null,null,null,null,null,0]
["SBSA_293","SBSA_293",null,null,null,null,null,null,null,null,null,null,null,null,null,null,null,null,null,null,null,null,null,null,null,null,null,null,null,null,null,null,null,0]
["SBSA_294","SBSA_294",null,null,null,null,null,null,null,null,null,null,null,null,null,null,null,null,null,null,null,null,null,null,null,null,null,null,null,null,null,null,null,0]
["SBSA_295","SBSA_295",null,null,null,null,null,null,null,null,null,null,null,null,null,null,null,null,null,null,null,null,null,null,null,null,null,null,null,null,null,null,null,0]
["SBSA_296","SBSA_296",null,null,null,null,null,null,null,null,null,null,null,null,null,null,null,null,null,null,null,null,null,null,null,null,null,null,null,null,null,null,null,0]
["SBSA_297","SBSA_297",null,null,null,null,null,null,null,null,null,null,null,null,null,null,null,null,null,null,null,null,null,null,null,null,null,null,null,null,null,null,null,0]
["SBSA_298","SBSA_298",null,null,null,null,null,null,null,null,null,null,null,null,null,null,null,null,null,null,null,null,null,null,null,null,null,null,null,null,null,null,null,0]
["SBSA_299","SBSA_299",null,null,null,null,null,null,null,null,null,null,null,null,null,null,null,null,null,null,null,null,null,null,null,null,null,null,null,null,null,null,null,0]
["SBSA_300","SBSA_300",null,null,null,null,null,null,null,null,null,null,null,null,null,null,null,null,null,null,null,null,null,null,null,null,null,null,null,null,null,null,null,0]
["SBSA_301","SBSA_301",null,null,null,null,null,null,null,null,null,null,null,null,null,null,null,null,null,null,null,null,null,null,null,null,null,null,null,null,null,null,null,0]
["SBSA_302","SBSA_302",null,null,null,null,null,null,null,null,null,null,null,null,null,null,null,null,null,null,null,null,null,null,null,null,null,null,null,null,null,null,null,0]
["SBSA_303","SBSA_303",null,null,null,null,null,null,null,null,null,null,null,null,null,null,null,null,null,null,null,null,null,null,null,null,null,null,null,null,null,null,null,0]
["SBSA_304","SBSA_304",null,null,null,null,null,null,null,null,null,null,null,null,null,null,null,null,null,null,null,null,null,null,null,null,null,null,null,null,null,null,null,0]
["SBSA_305","SBSA_305",null,null,null,null,null,null,null,null,null,null,null,null,null,null,null,null,null,null,null,null,null,null,null,null,null,null,null,null,null,null,null,0]
["SBSA_306","SBSA_306",null,null,null,null,null,null,null,null,null,null,null,null,null,null,null,null,null,null,null,null,null,null,null,null,null,null,null,null,null,null,null,0]
["SBSA_307","SBSA_307",null,null,null,null,null,null,null,null,null,null,null,null,null,null,null,null,null,null,null,null,null,null,null,null,null,null,null,null,null,null,null,0]
["SBSA_308","SBSA_308",null,null,null,null,null,null,null,null,null,null,null,null,null,null,null,null,null,null,null,null,null,null,null,null,null,null,null,null,null,null,null,0]
["SBSA_309","SBSA_309",null,null,null,null,null,null,null,null,null,null,null,null,null,null,null,null,null,null,null,null,null,null,null,null,null,null,null,null,null,null,null,0]
["SBSA_310","SBSA_310",null,null,null,null,null,null,null,null,null,null,null,null,null,null,null,null,null,null,null,null,null,null,null,null,null,null,null,null,null,null,null,0]
["SBSA_311","SBSA_311",null,null,null,null,null,null,null,null,null,null,null,null,null,null,null,null,null,null,null,null,null,null,null,null,null,null,null,null,null,null,null,0]
["SBSA_312","SBSA_312",null,null,null,null,null,null,null,null,null,null,null,null,null,null,null,null,null,null,null,null,null,null,null,null,null,null,null,null,null,null,null,0]
["SBSA_313","SBSA_313",null,null,null,null,null,null,null,null,null,null,null,null,null,null,null,null,null,null,null,null,null,null,null,null,null,null,null,null,null,null,null,0]
["SBSA_314","SBSA_314",null,null,null,null,null,null,null,null,null,null,null,null,null,null,null,null,null,null,null,null,null,null,null,null,null,null,null,null,null,null,null,0]
["SBSA_315","SBSA_315",null,null,null,null,null,null,null,null,null,null,null,null,null,null,null,null,null,null,null,null,null,null,null,null,null,null,null,null,null,null,null,0]
["SBSA_316","SBSA_316",null,null,null,null,null,null,null,null,null,null,null,null,null,null,null,null,null,null,null,null,null,null,null,null,null,null,null,null,null,null,null,0]
["SBSA_317","SBSA_317",null,null,null,null,null,null,null,null,null,null,null,null,null,null,null,null,null,null,null,null,null,null,null,null,null,null,null,null,null,null,null,0]
["SBSA_318","SBSA_318",null,null,null,null,null,null,null,null,null,null,null,null,null,null,null,null,null,null,null,null,null,null,null,null,null,null,null,null,null,null,null,0]
["SBSA_319","SBSA_319",null,null,null,null,null,null,null,null,null,null,null,null,null,null,null,null,null,null,null,null,null,null,null,null,null,null,null,null,null,null,null,0]
["SBSA_320","SBSA_320",null,null,null,null,null,null,null,null,null,null,null,null,null,null,null,null,null,null,null,null,null,null,null,null,null,null,null,null,null,null,null,0]
["SBSA_321","SBSA_321",null,null,null,null,null,null,null,null,null,null,null,null,null,null,null,null,null,null,null,null,null,null,null,null,null,null,null,null,null,null,null,{"$f":"IF(COUNTBLANK(C330:G330)<5,1,0)","v":0}]
["SBSA_322","SBSA_322",null,null,null,null,null,null,null,null,null,null,null,null,null,null,null,null,null,null,null,null,null,null,null,null,null,null,null,null,null,null,null,0]
["SBSA_323","SBSA_323",null,null,null,null,null,null,null,null,null,null,null,null,null,null,null,null,null,null,null,null,null,null,null,null,null,null,null,null,null,null,null,0]
["SBSA_324","SBSA_324",null,null,null,null,null,null,null,null,null,null,null,null,null,null,null,null,null,null,null,null,null,null,null,null,null,null,null,null,null,null,null,0]
["SBSA_325","SBSA_325",null,null,null,null,null,null,null,null,null,null,null,null,null,null,null,null,null,null,null,null,null,null,null,null,null,null,null,null,null,null,null,0]
["SBSA_326","SBSA_326",null,null,null,null,null,null,null,null,null,null,null,null,null,null,null,null,null,null,null,null,null,null,null,null,null,null,null,null,null,null,null,0]
["SBSA_327","SBSA_327",null,null,null,null,null,null,null,null,null,null,null,null,null,null,null,null,null,null,null,null,null,null,null,null,null,null,null,null,null,null,null,0]
["SBSA_328","SBSA_328",null,null,null,null,null,null,null,null,null,null,null,null,null,null,null,null,null,null,null,null,null,null,null,null,null,null,null,null,null,null,null,0]
["SBSA_329","SBSA_329",null,null,null,null,null,null,null,null,null,null,null,null,null,null,null,null,null,null,null,null,null,null,null,null,null,null,null,null,null,null,null,0]
["SBSA_330","SBSA_330",null,null,null,null,null,null,null,null,null,null,null,null,null,null,null,null,null,null,null,null,null,null,null,null,null,null,null,null,null,null,null,0]
["SBSA_331","SBSA_331",null,null,null,null,null,null,null,null,null,null,null,null,null,null,null,null,null,null,null,null,null,null,null,null,null,null,null,null,null,null,null,0]
["SBSA_332","SBSA_332",null,null,null,null,null,null,null,null,null,null,null,null,null,null,null,null,null,null,null,null,null,null,null,null,null,null,null,null,null,null,null,0]
["SBSA_333","SBSA_333",null,null,null,null,null,null,null,null,null,null,null,null,null,null,null,null,null,null,null,null,null,null,null,null,null,null,null,null,null,null,null,0]
["SBSA_334","SBSA_334",null,null,null,null,null,null,null,null,null,null,null,null,null,null,null,null,null,null,null,null,null,null,null,null,null,null,null,null,null,null,null,0]
["SBSA_335","SBSA_335",null,null,null,null,null,null,null,null,null,null,null,null,null,null,null,null,null,null,null,null,null,null,null,null,null,null,null,null,null,null,null,0]
["SBSA_336","SBSA_336",null,null,null,null,null,null,null,null,null,null,null,null,null,null,null,null,null,null,null,null,null,null,null,null,null,null,null,null,null,null,null,0]
["SBSA_337","SBSA_337",null,null,null,null,null,null,null,null,null,null,null,null,null,null,null,null,null,null,null,null,null,null,null,null,null,null,null,null,null,null,null,0]
["SBSA_338","SBSA_338",null,null,null,null,null,null,null,null,null,null,null,null,null,null,null,null,null,null,null,null,null,null,null,null,null,null,null,null,null,null,null,0]
["SBSA_339","SBSA_339",null,null,null,null,null,null,null,null,null,null,null,null,null,null,null,null,null,null,null,null,null,null,null,null,null,null,null,null,null,null,null,0]
["SBSA_340","SBSA_340",null,null,null,null,null,null,null,null,null,null,null,null,null,null,null,null,null,null,null,null,null,null,null,null,null,null,null,null,null,null,null,0]
["SBSA_341","SBSA_341",null,null,null,null,null,null,null,null,null,null,null,null,null,null,null,null,null,null,null,null,null,null,null,null,null,null,null,null,null,null,null,0]
["SBSA_342","SBSA_342",null,null,null,null,null,null,null,null,null,null,null,null,null,null,null,null,null,null,null,null,null,null,null,null,null,null,null,null,null,null,null,0]
["SBSA_343","SBSA_343",null,null,null,null,null,null,null,null,null,null,null,null,null,null,null,null,null,null,null,null,null,null,null,null,null,null,null,null,null,null,null,0]
["SBSA_344","SBSA_344",null,null,null,null,null,null,null,null,null,null,null,null,null,null,null,null,null,null,null,null,null,null,null,null,null,null,null,null,null,null,null,0]
["SBSA_345","SBSA_345",null,null,null,null,null,null,null,null,null,null,null,null,null,null,null,null,null,null,null,null,null,null,null,null,null,null,null,null,null,null,null,0]
["SBSA_346","SBSA_346",null,null,null,null,null,null,null,null,null,null,null,null,null,null,null,null,null,null,null,null,null,null,null,null,null,null,null,null,null,null,null,0]
["SBSA_347","SBSA_347",null,null,null,null,null,null,null,null,null,null,null,null,null,null,null,null,null,null,null,null,null,null,null,null,null,null,null,null,null,null,null,0]
["SBSA_348","SBSA_348",null,null,null,null,null,null,null,null,null,null,null,null,null,null,null,null,null,null,null,null,null,null,null,null,null,null,null,null,null,null,null,0]
["SBSA_349","SBSA_349",null,null,null,null,null,null,null,null,null,null,null,null,null,null,null,null,null,null,null,null,null,null,null,null,null,null,null,null,null,null,null,0]
["SBSA_350","SBSA_350",null,null,null,null,null,null,null,null,null,null,null,null,null,null,null,null,null,null,null,null,null,null,null,null,null,null,null,null,null,null,null,0]
["SBSA_351","SBSA_351",null,null,null,null,null,null,null,null,null,null,null,null,null,null,null,null,null,null,null,null,null,null,null,null,null,null,null,null,null,null,null,0]
["SBSA_352","SBSA_352",null,null,null,null,null,null,null,null,null,null,null,null,null,null,null,null,null,null,null,null,null,null,null,null,null,null,null,null,null,null,null,0]
["SBSA_353","SBSA_353",null,null,null,null,null,null,null,null,null,null,null,null,null,null,null,null,null,null,null,null,null,null,null,null,null,null,null,null,null,null,null,0]
["SBSA_354","SBSA_354",null,null,null,null,null,null,null,null,null,null,null,null,null,null,null,null,null,null,null,null,null,null,null,null,null,null,null,null,null,null,null,0]
["SBSA_355","SBSA_355",null,null,null,null,null,null,null,null,null,null,null,null,null,null,null,null,null,null,null,null,null,null,null,null,null,null,null,null,null,null,null,0]
["SBSA_356","SBSA_356",null,null,null,null,null,null,null,null,null,null,null,null,null,null,null,null,null,null,null,null,null,null,null,null,null,null,null,null,null,null,null,0]
["SBSA_357","SBSA_357",null,null,null,null,null,null,null,null,null,null,null,null,null,null,null,null,null,null,null,null,null,null,null,null,null,null,null,null,null,null,null,0]
["SBSA_358","SBSA_358",null,null,null,null,null,null,null,null,null,null,null,null,null,null,null,null,null,null,null,null,null,null,null,null,null,null,null,null,null,null,null,0]
["SBSA_359","SBSA_359",null,null,null,null,null,null,null,null,null,null,null,null,null,null,null,null,null,null,null,null,null,null,null,null,null,null,null,null,null,null,null,0]
["SBSA_360","SBSA_360",null,null,null,null,null,null,null,null,null,null,null,null,null,null,null,null,null,null,null,null,null,null,null,null,null,null,null,null,null,null,null,0]
["SBSA_361","SBSA_361",null,null,null,null,null,null,null,null,null,null,null,null,null,null,null,null,null,null,null,null,null,null,null,null,null,null,null,null,null,null,null,0]
["SBSA_362","SBSA_362",null,null,null,null,null,null,null,null,null,null,null,null,null,null,null,null,null,null,null,null,null,null,null,null,null,null,null,null,null,null,null,0]
["SBSA_363","SBSA_363",null,null,null,null,null,null,null,null,null,null,null,null,null,null,null,null,null,null,null,null,null,null,null,null,null,null,null,null,null,null,null,0]
["SBSA_364","SBSA_364",null,null,null,null,null,null,null,null,null,null,null,null,null,null,null,null,null,null,null,null,null,null,null,null,null,null,null,null,null,null,null,0]
["SBSA_365","SBSA_365",null,null,null,null,null,null,null,null,null,null,null,null,null,null,null,null,null,null,null,null,null,null,null,null,null,null,null,null,null,null,null,0]
["SBSA_366","SBSA_366",null,null,null,null,null,null,null,null,null,null,null,null,null,null,null,null,null,null,null,null,null,null,null,null,null,null,null,null,null,null,null,0]
["SBSA_367","SBSA_367",null,null,null,null,null,null,null,null,null,null,null,null,null,null,null,null,null,null,null,null,null,null,null,null,null,null,null,null,null,null,null,0]
["SBSA_368","SBSA_368",null,null,null,null,null,null,null,null,null,null,null,null,null,null,null,null,null,null,null,null,null,null,null,null,null,null,null,null,null,null,null,0]
["SBSA_369","SBSA_369",null,null,null,null,null,null,null,null,null,null,null,null,null,null,null,null,null,null,null,null,null,null,null,null,null,null,null,null,null,null,null,0]
["SBSA_370","SBSA_370",null,null,null,null,null,null,null,null,null,null,null,null,null,null,null,null,null,null,null,null,null,null,null,null,null,null,null,null,null,null,null,0]
["SBSA_371","SBSA_371",null,null,null,null,null,null,null,null,null,null,null,null,null,null,null,null,null,null,null,null,null,null,null,null,null,null,null,null,null,null,null,0]
["SBSA_372","SBSA_372",null,null,null,null,null,null,null,null,null,null,null,null,null,null,null,null,null,null,null,null,null,null,null,null,null,null,null,null,null,null,null,0]
["SBSA_373","SBSA_373",null,null,null,null,null,null,null,null,null,null,null,null,null,null,null,null,null,null,null,null,null,null,null,null,null,null,null,null,null,null,null,0]
["SBSA_374","SBSA_374",null,null,null,null,null,null,null,null,null,null,null,null,null,null,null,null,null,null,null,null,null,null,null,null,null,null,null,null,null,null,null,0]
["SBSA_375","SBSA_375",null,null,null,null,null,null,null,null,null,null,null,null,null,null,null,null,null,null,null,null,null,null,null,null,null,null,null,null,null,null,null,0]
["SBSA_376","SBSA_376",null,null,null,null,null,null,null,null,null,null,null,null,null,null,null,null,null,null,null,null,null,null,null,null,null,null,null,null,null,null,null,0]
["SBSA_377","SBSA_377",null,null,null,null,null,null,null,null,null,null,null,null,null,null,null,null,null,null,null,null,null,null,null,null,null,null,null,null,null,null,null,0]
["SBSA_378","SBSA_378",null,null,null,null,null,null,null,null,null,null,null,null,null,null,null,null,null,null,null,null,null,null,null,null,null,null,null,null,null,null,null,0]
["SBSA_379","SBSA_379",null,null,null,null,null,null,null,null,null,null,null,null,null,null,null,null,null,null,null,null,null,null,null,null,null,null,null,null,null,null,null,0]
["SBSA_380","SBSA_380",null,null,null,null,null,null,null,null,null,null,null,null,null,null,null,null,null,null,null,null,null,null,null,null,null,null,null,null,null,null,null,0]
["SBSA_381","SBSA_381",null,null,null,null,null,null,null,null,null,null,null,null,null,null,null,null,null,null,null,null,null,null,null,null,null,null,null,null,null,null,null,0]
["SBSA_382","SBSA_382",null,null,null,null,null,null,null,null,null,null,null,null,null,null,null,null,null,null,null,null,null,null,null,null,null,null,null,null,null,null,null,0]
["SBSA_383","SBSA_383",null,null,null,null,null,null,null,null,null,null,null,null,null,null,null,null,null,null,null,null,null,null,null,null,null,null,null,null,null,null,null,0]
["SBSA_384","SBSA_384",null,null,null,null,null,null,null,null,null,null,null,null,null,null,null,null,null,null,null,null,null,null,null,null,null,null,null,null,null,null,null,0]
["SBSA_385","SBSA_385",null,null,null,null,null,null,null,null,null,null,null,null,null,null,null,null,null,null,null,null,null,null,null,null,null,null,null,null,null,null,null,{"$f":"IF(COUNTBLANK(C394:G394)<5,1,0)","v":0}]
["SBSA_386","SBSA_386",null,null,null,null,null,null,null,null,null,null,null,null,null,null,null,null,null,null,null,null,null,null,null,null,null,null,null,null,null,null,null,0]
["SBSA_387","SBSA_387",null,null,null,null,null,null,null,null,null,null,null,null,null,null,null,null,null,null,null,null,null,null,null,null,null,null,null,null,null,null,null,0]
["SBSA_388","SBSA_388",null,null,null,null,null,null,null,null,null,null,null,null,null,null,null,null,null,null,null,null,null,null,null,null,null,null,null,null,null,null,null,0]
["SBSA_389","SBSA_389",null,null,null,null,null,null,null,null,null,null,null,null,null,null,null,null,null,null,null,null,null,null,null,null,null,null,null,null,null,null,null,0]
["SBSA_390","SBSA_390",null,null,null,null,null,null,null,null,null,null,null,null,null,null,null,null,null,null,null,null,null,null,null,null,null,null,null,null,null,null,null,0]
["SBSA_391","SBSA_391",null,null,null,null,null,null,null,null,null,null,null,null,null,null,null,null,null,null,null,null,null,null,null,null,null,null,null,null,null,null,null,0]
["SBSA_392","SBSA_392",null,null,null,null,null,null,null,null,null,null,null,null,null,null,null,null,null,null,null,null,null,null,null,null,null,null,null,null,null,null,null,0]
["SBSA_393","SBSA_393",null,null,null,null,null,null,null,null,null,null,null,null,null,null,null,null,null,null,null,null,null,null,null,null,null,null,null,null,null,null,null,0]
["SBSA_394","SBSA_394",null,null,null,null,null,null,null,null,null,null,null,null,null,null,null,null,null,null,null,null,null,null,null,null,null,null,null,null,null,null,null,0]
["SBSA_395","SBSA_395",null,null,null,null,null,null,null,null,null,null,null,null,null,null,null,null,null,null,null,null,null,null,null,null,null,null,null,null,null,null,null,0]
["SBSA_396","SBSA_396",null,null,null,null,null,null,null,null,null,null,null,null,null,null,null,null,null,null,null,null,null,null,null,null,null,null,null,null,null,null,null,0]
["SBSA_397","SBSA_397",null,null,null,null,null,null,null,null,null,null,null,null,null,null,null,null,null,null,null,null,null,null,null,null,null,null,null,null,null,null,null,0]
["SBSA_398","SBSA_398",null,null,null,null,null,null,null,null,null,null,null,null,null,null,null,null,null,null,null,null,null,null,null,null,null,null,null,null,null,null,null,0]
["SBSA_399","SBSA_399",null,null,null,null,null,null,null,null,null,null,null,null,null,null,null,null,null,null,null,null,null,null,null,null,null,null,null,null,null,null,null,0]
["SBSA_400","SBSA_400",null,null,null,null,null,null,null,null,null,null,null,null,null,null,null,null,null,null,null,null,null,null,null,null,null,null,null,null,null,null,null,0]
["SBSA_401","SBSA_401",null,null,null,null,null,null,null,null,null,null,null,null,null,null,null,null,null,null,null,null,null,null,null,null,null,null,null,null,null,null,null,0]
["SBSA_402","SBSA_402",null,null,null,null,null,null,null,null,null,null,null,null,null,null,null,null,null,null,null,null,null,null,null,null,null,null,null,null,null,null,null,0]
["SBSA_403","SBSA_403",null,null,null,null,null,null,null,null,null,null,null,null,null,null,null,null,null,null,null,null,null,null,null,null,null,null,null,null,null,null,null,0]
["SBSA_404","SBSA_404",null,null,null,null,null,null,null,null,null,null,null,null,null,null,null,null,null,null,null,null,null,null,null,null,null,null,null,null,null,null,null,0]
["SBSA_405","SBSA_405",null,null,null,null,null,null,null,null,null,null,null,null,null,null,null,null,null,null,null,null,null,null,null,null,null,null,null,null,null,null,null,0]
["SBSA_406","SBSA_406",null,null,null,null,null,null,null,null,null,null,null,null,null,null,null,null,null,null,null,null,null,null,null,null,null,null,null,null,null,null,null,0]
["SBSA_407","SBSA_407",null,null,null,null,null,null,null,null,null,null,null,null,null,null,null,null,null,null,null,null,null,null,null,null,null,null,null,null,null,null,null,0]
["SBSA_408","SBSA_408",null,null,null,null,null,null,null,null,null,null,null,null,null,null,null,null,null,null,null,null,null,null,null,null,null,null,null,null,null,null,null,0]
["SBSA_409","SBSA_409",null,null,null,null,null,null,null,null,null,null,null,null,null,null,null,null,null,null,null,null,null,null,null,null,null,null,null,null,null,null,null,0]
["SBSA_410","SBSA_410",null,null,null,null,null,null,null,null,null,null,null,null,null,null,null,null,null,null,null,null,null,null,null,null,null,null,null,null,null,null,null,0]
["SBSA_411","SBSA_411",null,null,null,null,null,null,null,null,null,null,null,null,null,null,null,null,null,null,null,null,null,null,null,null,null,null,null,null,null,null,null,0]
["SBSA_412","SBSA_412",null,null,null,null,null,null,null,null,null,null,null,null,null,null,null,null,null,null,null,null,null,null,null,null,null,null,null,null,null,null,null,0]
["SBSA_413","SBSA_413",null,null,null,null,null,null,null,null,null,null,null,null,null,null,null,null,null,null,null,null,null,null,null,null,null,null,null,null,null,null,null,0]
["SBSA_414","SBSA_414",null,null,null,null,null,null,null,null,null,null,null,null,null,null,null,null,null,null,null,null,null,null,null,null,null,null,null,null,null,null,null,0]
["SBSA_415","SBSA_415",null,null,null,null,null,null,null,null,null,null,null,null,null,null,null,null,null,null,null,null,null,null,null,null,null,null,null,null,null,null,null,0]
["SBSA_416","SBSA_416",null,null,null,null,null,null,null,null,null,null,null,null,null,null,null,null,null,null,null,null,null,null,null,null,null,null,null,null,null,null,null,0]
["SBSA_417","SBSA_417",null,null,null,null,null,null,null,null,null,null,null,null,null,null,null,null,null,null,null,null,null,null,null,null,null,null,null,null,null,null,null,0]
["SBSA_418","SBSA_418",null,null,null,null,null,null,null,null,null,null,null,null,null,null,null,null,null,null,null,null,null,null,null,null,null,null,null,null,null,null,null,0]
["SBSA_419","SBSA_419",null,null,null,null,null,null,null,null,null,null,null,null,null,null,null,null,null,null,null,null,null,null,null,null,null,null,null,null,null,null,null,0]
["SBSA_420","SBSA_420",null,null,null,null,null,null,null,null,null,null,null,null,null,null,null,null,null,null,null,null,null,null,null,null,null,null,null,null,null,null,null,0]
["SBSA_421","SBSA_421",null,null,null,null,null,null,null,null,null,null,null,null,null,null,null,null,null,null,null,null,null,null,null,null,null,null,null,null,null,null,null,0]
["SBSA_422","SBSA_422",null,null,null,null,null,null,null,null,null,null,null,null,null,null,null,null,null,null,null,null,null,null,null,null,null,null,null,null,null,null,null,0]
["SBSA_423","SBSA_423",null,null,null,null,null,null,null,null,null,null,null,null,null,null,null,null,null,null,null,null,null,null,null,null,null,null,null,null,null,null,null,0]
["SBSA_424","SBSA_424",null,null,null,null,null,null,null,null,null,null,null,null,null,null,null,null,null,null,null,null,null,null,null,null,null,null,null,null,null,null,null,0]
["SBSA_425","SBSA_425",null,null,null,null,null,null,null,null,null,null,null,null,null,null,null,null,null,null,null,null,null,null,null,null,null,null,null,null,null,null,null,0]
["SBSA_426","SBSA_426",null,null,null,null,null,null,null,null,null,null,null,null,null,null,null,null,null,null,null,null,null,null,null,null,null,null,null,null,null,null,null,0]
["SBSA_427","SBSA_427",null,null,null,null,null,null,null,null,null,null,null,null,null,null,null,null,null,null,null,null,null,null,null,null,null,null,null,null,null,null,null,0]
["SBSA_428","SBSA_428",null,null,null,null,null,null,null,null,null,null,null,null,null,null,null,null,null,null,null,null,null,null,null,null,null,null,null,null,null,null,null,0]
["SBSA_429","SBSA_429",null,null,null,null,null,null,null,null,null,null,null,null,null,null,null,null,null,null,null,null,null,null,null,null,null,null,null,null,null,null,null,0]
["SBSA_430","SBSA_430",null,null,null,null,null,null,null,null,null,null,null,null,null,null,null,null,null,null,null,null,null,null,null,null,null,null,null,null,null,null,null,0]
["SBSA_431","SBSA_431",null,null,null,null,null,null,null,null,null,null,null,null,null,null,null,null,null,null,null,null,null,null,null,null,null,null,null,null,null,null,null,0]
["SBSA_432","SBSA_432",null,null,null,null,null,null,null,null,null,null,null,null,null,null,null,null,null,null,null,null,null,null,null,null,null,null,null,null,null,null,null,0]
["SBSA_433","SBSA_433",null,null,null,null,null,null,null,null,null,null,null,null,null,null,null,null,null,null,null,null,null,null,null,null,null,null,null,null,null,null,null,0]
["SBSA_434","SBSA_434",null,null,null,null,null,null,null,null,null,null,null,null,null,null,null,null,null,null,null,null,null,null,null,null,null,null,null,null,null,null,null,0]
["SBSA_435","SBSA_435",null,null,null,null,null,null,null,null,null,null,null,null,null,null,null,null,null,null,null,null,null,null,null,null,null,null,null,null,null,null,null,0]
["SBSA_436","SBSA_436",null,null,null,null,null,null,null,null,null,null,null,null,null,null,null,null,null,null,null,null,null,null,null,null,null,null,null,null,null,null,null,0]
["SBSA_437","SBSA_437",null,null,null,null,null,null,null,null,null,null,null,null,null,null,null,null,null,null,null,null,null,null,null,null,null,null,null,null,null,null,null,0]
["SBSA_438","SBSA_438",null,null,null,null,null,null,null,null,null,null,null,null,null,null,null,null,null,null,null,null,null,null,null,null,null,null,null,null,null,null,null,0]
["SBSA_439","SBSA_439",null,null,null,null,null,null,null,null,null,null,null,null,null,null,null,null,null,null,null,null,null,null,null,null,null,null,null,null,null,null,null,0]
["SBSA_440","SBSA_440",null,null,null,null,null,null,null,null,null,null,null,null,null,null,null,null,null,null,null,null,null,null,null,null,null,null,null,null,null,null,null,0]
["SBSA_441","SBSA_441",null,null,null,null,null,null,null,null,null,null,null,null,null,null,null,null,null,null,null,null,null,null,null,null,null,null,null,null,null,null,null,0]
["SBSA_442","SBSA_442",null,null,null,null,null,null,null,null,null,null,null,null,null,null,null,null,null,null,null,null,null,null,null,null,null,null,null,null,null,null,null,0]
["SBSA_443","SBSA_443",null,null,null,null,null,null,null,null,null,null,null,null,null,null,null,null,null,null,null,null,null,null,null,null,null,null,null,null,null,null,null,0]
["SBSA_444","SBSA_444",null,null,null,null,null,null,null,null,null,null,null,null,null,null,null,null,null,null,null,null,null,null,null,null,null,null,null,null,null,null,null,0]
["SBSA_445","SBSA_445",null,null,null,null,null,null,null,null,null,null,null,null,null,null,null,null,null,null,null,null,null,null,null,null,null,null,null,null,null,null,null,0]
["SBSA_446","SBSA_446",null,null,null,null,null,null,null,null,null,null,null,null,null,null,null,null,null,null,null,null,null,null,null,null,null,null,null,null,null,null,null,0]
["SBSA_447","SBSA_447",null,null,null,null,null,null,null,null,null,null,null,null,null,null,null,null,null,null,null,null,null,null,null,null,null,null,null,null,null,null,null,0]
["SBSA_448","SBSA_448",null,null,null,null,null,null,null,null,null,null,null,null,null,null,null,null,null,null,null,null,null,null,null,null,null,null,null,null,null,null,null,0]
["SBSA_449","SBSA_449",null,null,null,null,null,null,null,null,null,null,null,null,null,null,null,null,null,null,null,null,null,null,null,null,null,null,null,null,null,null,null,{"$f":"IF(COUNTBLANK(C458:G458)<5,1,0)","v":0}]
["SBSA_450","SBSA_450",null,null,null,null,null,null,null,null,null,null,null,null,null,null,null,null,null,null,null,null,null,null,null,null,null,null,null,null,null,null,null,0]
["SBSA_451","SBSA_451",null,null,null,null,null,null,null,null,null,null,null,null,null,null,null,null,null,null,null,null,null,null,null,null,null,null,null,null,null,null,null,0]
["SBSA_452","SBSA_452",null,null,null,null,null,null,null,null,null,null,null,null,null,null,null,null,null,null,null,null,null,null,null,null,null,null,null,null,null,null,null,0]
["SBSA_453","SBSA_453",null,null,null,null,null,null,null,null,null,null,null,null,null,null,null,null,null,null,null,null,null,null,null,null,null,null,null,null,null,null,null,0]
["SBSA_454","SBSA_454",null,null,null,null,null,null,null,null,null,null,null,null,null,null,null,null,null,null,null,null,null,null,null,null,null,null,null,null,null,null,null,0]
["SBSA_455","SBSA_455",null,null,null,null,null,null,null,null,null,null,null,null,null,null,null,null,null,null,null,null,null,null,null,null,null,null,null,null,null,null,null,0]
["SBSA_456","SBSA_456",null,null,null,null,null,null,null,null,null,null,null,null,null,null,null,null,null,null,null,null,null,null,null,null,null,null,null,null,null,null,null,0]
["SBSA_457","SBSA_457",null,null,null,null,null,null,null,null,null,null,null,null,null,null,null,null,null,null,null,null,null,null,null,null,null,null,null,null,null,null,null,0]
["SBSA_458","SBSA_458",null,null,null,null,null,null,null,null,null,null,null,null,null,null,null,null,null,null,null,null,null,null,null,null,null,null,null,null,null,null,null,0]
["SBSA_459","SBSA_459",null,null,null,null,null,null,null,null,null,null,null,null,null,null,null,null,null,null,null,null,null,null,null,null,null,null,null,null,null,null,null,0]
["SBSA_460","SBSA_460",null,null,null,null,null,null,null,null,null,null,null,null,null,null,null,null,null,null,null,null,null,null,null,null,null,null,null,null,null,null,null,0]
["SBSA_461","SBSA_461",null,null,null,null,null,null,null,null,null,null,null,null,null,null,null,null,null,null,null,null,null,null,null,null,null,null,null,null,null,null,null,0]
["SBSA_462","SBSA_462",null,null,null,null,null,null,null,null,null,null,null,null,null,null,null,null,null,null,null,null,null,null,null,null,null,null,null,null,null,null,null,0]
["SBSA_463","SBSA_463",null,null,null,null,null,null,null,null,null,null,null,null,null,null,null,null,null,null,null,null,null,null,null,null,null,null,null,null,null,null,null,0]
["SBSA_464","SBSA_464",null,null,null,null,null,null,null,null,null,null,null,null,null,null,null,null,null,null,null,null,null,null,null,null,null,null,null,null,null,null,null,0]
["SBSA_465","SBSA_465",null,null,null,null,null,null,null,null,null,null,null,null,null,null,null,null,null,null,null,null,null,null,null,null,null,null,null,null,null,null,null,0]
["SBSA_466","SBSA_466",null,null,null,null,null,null,null,null,null,null,null,null,null,null,null,null,null,null,null,null,null,null,null,null,null,null,null,null,null,null,null,0]
["SBSA_467","SBSA_467",null,null,null,null,null,null,null,null,null,null,null,null,null,null,null,null,null,null,null,null,null,null,null,null,null,null,null,null,null,null,null,0]
["SBSA_468","SBSA_468",null,null,null,null,null,null,null,null,null,null,null,null,null,null,null,null,null,null,null,null,null,null,null,null,null,null,null,null,null,null,null,0]
["SBSA_469","SBSA_469",null,null,null,null,null,null,null,null,null,null,null,null,null,null,null,null,null,null,null,null,null,null,null,null,null,null,null,null,null,null,null,0]
["SBSA_470","SBSA_470",null,null,null,null,null,null,null,null,null,null,null,null,null,null,null,null,null,null,null,null,null,null,null,null,null,null,null,null,null,null,null,0]
["SBSA_471","SBSA_471",null,null,null,null,null,null,null,null,null,null,null,null,null,null,null,null,null,null,null,null,null,null,null,null,null,null,null,null,null,null,null,0]
["SBSA_472","SBSA_472",null,null,null,null,null,null,null,null,null,null,null,null,null,null,null,null,null,null,null,null,null,null,null,null,null,null,null,null,null,null,null,0]
["SBSA_473","SBSA_473",null,null,null,null,null,null,null,null,null,null,null,null,null,null,null,null,null,null,null,null,null,null,null,null,null,null,null,null,null,null,null,0]
["SBSA_474","SBSA_474",null,null,null,null,null,null,null,null,null,null,null,null,null,null,null,null,null,null,null,null,null,null,null,null,null,null,null,null,null,null,null,0]
["SBSA_475","SBSA_475",null,null,null,null,null,null,null,null,null,null,null,null,null,null,null,null,null,null,null,null,null,null,null,null,null,null,null,null,null,null,null,0]
["SBSA_476","SBSA_476",null,null,null,null,null,null,null,null,null,null,null,null,null,null,null,null,null,null,null,null,null,null,null,null,null,null,null,null,null,null,null,0]
["SBSA_477","SBSA_477",null,null,null,null,null,null,null,null,null,null,null,null,null,null,null,null,null,null,null,null,null,null,null,null,null,null,null,null,null,null,null,0]
["SBSA_478","SBSA_478",null,null,null,null,null,null,null,null,null,null,null,null,null,null,null,null,null,null,null,null,null,null,null,null,null,null,null,null,null,null,null,0]
["SBSA_479","SBSA_479",null,null,null,null,null,null,null,null,null,null,null,null,null,null,null,null,null,null,null,null,null,null,null,null,null,null,null,null,null,null,null,0]
["SBSA_480","SBSA_480",null,null,null,null,null,null,null,null,null,null,null,null,null,null,null,null,null,null,null,null,null,null,null,null,null,null,null,null,null,null,null,0]
["SBSA_481","SBSA_481",null,null,null,null,null,null,null,null,null,null,null,null,null,null,null,null,null,null,null,null,null,null,null,null,null,null,null,null,null,null,null,0]
["SBSA_482","SBSA_482",null,null,null,null,null,null,null,null,null,null,null,null,null,null,null,null,null,null,null,null,null,null,null,null,null,null,null,null,null,null,null,0]
["SBSA_483","SBSA_483",null,null,null,null,null,null,null,null,null,null,null,null,null,null,null,null,null,null,null,null,null,null,null,null,null,null,null,null,null,null,null,0]
["SBSA_484","SBSA_484",null,null,null,null,null,null,null,null,null,null,null,null,null,null,null,null,null,null,null,null,null,null,null,null,null,null,null,null,null,null,null,0]
["SBSA_485","SBSA_485",null,null,null,null,null,null,null,null,null,null,null,null,null,null,null,null,null,null,null,null,null,null,null,null,null,null,null,null,null,null,null,0]
["SBSA_486","SBSA_486",null,null,null,null,null,null,null,null,null,null,null,null,null,null,null,null,null,null,null,null,null,null,null,null,null,null,null,null,null,null,null,0]
["SBSA_487","SBSA_487",null,null,null,null,null,null,null,null,null,null,null,null,null,null,null,null,null,null,null,null,null,null,null,null,null,null,null,null,null,null,null,0]
["SBSA_488","SBSA_488",null,null,null,null,null,null,null,null,null,null,null,null,null,null,null,null,null,null,null,null,null,null,null,null,null,null,null,null,null,null,null,0]
["SBSA_489","SBSA_489",null,null,null,null,null,null,null,null,null,null,null,null,null,null,null,null,null,null,null,null,null,null,null,null,null,null,null,null,null,null,null,0]
["SBSA_490","SBSA_490",null,null,null,null,null,null,null,null,null,null,null,null,null,null,null,null,null,null,null,null,null,null,null,null,null,null,null,null,null,null,null,0]
["SBSA_491","SBSA_491",null,null,null,null,null,null,null,null,null,null,null,null,null,null,null,null,null,null,null,null,null,null,null,null,null,null,null,null,null,null,null,0]
["SBSA_492","SBSA_492",null,null,null,null,null,null,null,null,null,null,null,null,null,null,null,null,null,null,null,null,null,null,null,null,null,null,null,null,null,null,null,0]
["SBSA_493","SBSA_493",null,null,null,null,null,null,null,null,null,null,null,null,null,null,null,null,null,null,null,null,null,null,null,null,null,null,null,null,null,null,null,0]
["SBSA_494","SBSA_494",null,null,null,null,null,null,null,null,null,null,null,null,null,null,null,null,null,null,null,null,null,null,null,null,null,null,null,null,null,null,null,0]
["SBSA_495","SBSA_495",null,null,null,null,null,null,null,null,null,null,null,null,null,null,null,null,null,null,null,null,null,null,null,null,null,null,null,null,null,null,null,0]
["SBSA_496","SBSA_496",null,null,null,null,null,null,null,null,null,null,null,null,null,null,null,null,null,null,null,null,null,null,null,null,null,null,null,null,null,null,null,0]
["SBSA_497","SBSA_497",null,null,null,null,null,null,null,null,null,null,null,null,null,null,null,null,null,null,null,null,null,null,null,null,null,null,null,null,null,null,null,0]
["SBSA_498","SBSA_498",null,null,null,null,null,null,null,null,null,null,null,null,null,null,null,null,null,null,null,null,null,null,null,null,null,null,null,null,null,null,null,0]
["SBSA_499","SBSA_499",null,null,null,null,null,null,null,null,null,null,null,null,null,null,null,null,null,null,null,null,null,null,null,null,null,null,null,null,null,null,null,0]
["SBSA_500","SBSA_500",null,null,null,null,null,null,null,null,null,null,null,null,null,null,null,null,null,null,null,null,null,null,null,null,null,null,null,null,null,null,null,0]
[null,null,null,null,null,null,null,null,null,null,null,null,null,null,null,null,null,null,null,null,null,null,null,null,null,null,null,null,null,null,null,null,null,1]

{"sheet":"SBSA_NON-NOM_HSE","index":18,"n_rows":1010,"n_cols":34,"rows_kept":1010,"cut":false,"hidden":true,"merged":[[0,2,0,7],[7,3,7,7]]}
[null,null,"REPORTING OF SECURITIES TRANSACTED ON BEHALF OF RESIDENT HOUSEHOLD CLIENTS (NON-NOMINEE) ON A SECURITY BY SECURITY (SBS) BASIS",null,null,null,null,null,null,null,null,null,null,null,null,null,null,null,null,null,null,null,null,null,null,null,null,null,null,null,null,null,null,"A"]
[null,null,"Company Name:",{"$f":"IF(Validation_Checks_CBM!E6<>\"\",Validation_Checks_CBM!E6,\"\")","v":0},null,null,null,null,null,null,null,null,null,null,null,null,null,null,null,null,null,null,null,null,null,null,null,null,null,null,null,null,null,1]
[null,null,null,null,null,null,null,null,null,null,null,null,null,null,null,null,null,null,null,null,null,null,null,null,null,null,null,null,null,null,null,null,null,0]
[null,null,"Return for the quarter ending:",null,{"$f":"IF(AND(Validation_Checks_CBM!E12<>\"\",Validation_Checks_CBM!E13<>\"\"),VLOOKUP(Validation_Checks_CBM!AA2,Validation_Checks_CBM!AA4:AC22,3,FALSE),\"\")","v":""},{"$f":"IF(AND(Validation_Checks_CBM!E12<>\"\",Validation_Checks_CBM!E8<>\"\"),Validation_Checks_CBM!E8,\"\")","v":""},null,null,null,null,null,null,null,null,null,null,null,null,null,null,null,null,null,null,null,null,null,null,null,null,null,null,null,1]
[null,null,null,null,{"$f":"IF(AND(COUNTBLANK(C10:C10009)<10000,E4=\"\"),\"Select 'MONTH'\",\"\")","v":""},null,null,null,null,null,null,null,null,null,null,null,null,null,null,null,null,null,null,null,null,null,null,null,null,null,null,null,null,1]
[null,null,"SBSTIT1","SBSTIT2","SBSTIT3","SBSTIT4","SBSTIT5","SBSTIT6",null,null,null,null,null,null,null,null,null,null,null,null,null,null,null,null,null,null,null,null,null,null,null,null,null,2]
[null,null,"Security identifier code","Position at end of period; Number of Units/shares","Position at end of period; Nominal Value ","Position at end of period; Nominal Currency","Position at end of period; Market price","Transactions effected during the quarter; Net transactions",null,null,null,null,null,null,null,null,null,null,null,null,null,null,null,null,null,null,null,null,null,null,null,null,null,2]
[null,null,null,"Transaction",null,null,null,null,null,null,null,null,null,null,null,null,null,null,null,null,null,null,null,null,null,null,null,null,null,null,null,null,null,1]
[null,null,"Security identifier code (ISIN)",null,null,null,null,"Net transactions (purchases less sales including purchased and sold interest) in euro '000",null,null,null,null,null,null,null,null,null,null,null,null,null,null,null,null,null,null,null,null,null,null,null,null,null,1]
["SBSA_1","SBSA_1",null,null,null,null,null,null,null,null,null,null,null,null,null,null,null,null,null,null,null,null,null,null,null,null,null,null,null,null,null,null,null,{"$f":"IF(COUNTBLANK(C10:H10)<6,1,0)","v":0}]
["SBSA_2","SBSA_2",null,null,null,null,null,null,null,null,null,null,null,null,null,null,null,null,null,null,null,null,null,null,null,null,null,null,null,null,null,null,null,0]
["SBSA_3","SBSA_3",null,null,null,null,null,null,null,null,null,null,null,null,null,null,null,null,null,null,null,null,null,null,null,null,null,null,null,null,null,null,null,0]
["SBSA_4","SBSA_4",null,null,null,null,null,null,null,null,null,null,null,null,null,null,null,null,null,null,null,null,null,null,null,null,null,null,null,null,null,null,null,0]
["SBSA_5","SBSA_5",null,null,null,null,null,null,null,null,null,null,null,null,null,null,null,null,null,null,null,null,null,null,null,null,null,null,null,null,null,null,null,0]
["SBSA_6","SBSA_6",null,null,null,null,null,null,null,null,null,null,null,null,null,null,null,null,null,null,null,null,null,null,null,null,null,null,null,null,null,null,null,0]
["SBSA_7","SBSA_7",null,null,null,null,null,null,null,null,null,null,null,null,null,null,null,null,null,null,null,null,null,null,null,null,null,null,null,null,null,null,null,0]
["SBSA_8","SBSA_8",null,null,null,null,null,null,null,null,null,null,null,null,null,null,null,null,null,null,null,null,null,null,null,null,null,null,null,null,null,null,null,0]
["SBSA_9","SBSA_9",null,null,null,null,null,null,null,null,null,null,null,null,null,null,null,null,null,null,null,null,null,null,null,null,null,null,null,null,null,null,null,0]
["SBSA_10","SBSA_10",null,null,null,null,null,null,null,null,null,null,null,null,null,null,null,null,null,null,null,null,null,null,null,null,null,null,null,null,null,null,null,0]
["SBSA_11","SBSA_11",null,null,null,null,null,null,null,null,null,null,null,null,null,null,null,null,null,null,null,null,null,null,null,null,null,null,null,null,null,null,null,0]
["SBSA_12","SBSA_12",null,null,null,null,null,null,null,null,null,null,null,null,null,null,null,null,null,null,null,null,null,null,null,null,null,null,null,null,null,null,null,0]
["SBSA_13","SBSA_13",null,null,null,null,null,null,null,null,null,null,null,null,null,null,null,null,null,null,null,null,null,null,null,null,null,null,null,null,null,null,null,0]
["SBSA_14","SBSA_14",null,null,null,null,null,null,null,null,null,null,null,null,null,null,null,null,null,null,null,null,null,null,null,null,null,null,null,null,null,null,null,0]
["SBSA_15","SBSA_15",null,null,null,null,null,null,null,null,null,null,null,null,null,null,null,null,null,null,null,null,null,null,null,null,null,null,null,null,null,null,null,0]
["SBSA_16","SBSA_16",null,null,null,null,null,null,null,null,null,null,null,null,null,null,null,null,null,null,null,null,null,null,null,null,null,null,null,null,null,null,null,0]
["SBSA_17","SBSA_17",null,null,null,null,null,null,null,null,null,null,null,null,null,null,null,null,null,null,null,null,null,null,null,null,null,null,null,null,null,null,null,0]
["SBSA_18","SBSA_18",null,null,null,null,null,null,null,null,null,null,null,null,null,null,null,null,null,null,null,null,null,null,null,null,null,null,null,null,null,null,null,0]
["SBSA_19","SBSA_19",null,null,null,null,null,null,null,null,null,null,null,null,null,null,null,null,null,null,null,null,null,null,null,null,null,null,null,null,null,null,null,0]
["SBSA_20","SBSA_20",null,null,null,null,null,null,null,null,null,null,null,null,null,null,null,null,null,null,null,null,null,null,null,null,null,null,null,null,null,null,null,0]
["SBSA_21","SBSA_21",null,null,null,null,null,null,null,null,null,null,null,null,null,null,null,null,null,null,null,null,null,null,null,null,null,null,null,null,null,null,null,0]
["SBSA_22","SBSA_22",null,null,null,null,null,null,null,null,null,null,null,null,null,null,null,null,null,null,null,null,null,null,null,null,null,null,null,null,null,null,null,0]
["SBSA_23","SBSA_23",null,null,null,null,null,null,null,null,null,null,null,null,null,null,null,null,null,null,null,null,null,null,null,null,null,null,null,null,null,null,null,0]
["SBSA_24","SBSA_24",null,null,null,null,null,null,null,null,null,null,null,null,null,null,null,null,null,null,null,null,null,null,null,null,null,null,null,null,null,null,null,0]
["SBSA_25","SBSA_25",null,null,null,null,null,null,null,null,null,null,null,null,null,null,null,null,null,null,null,null,null,null,null,null,null,null,null,null,null,null,null,0]
["SBSA_26","SBSA_26",null,null,null,null,null,null,null,null,null,null,null,null,null,null,null,null,null,null,null,null,null,null,null,null,null,null,null,null,null,null,null,0]
["SBSA_27","SBSA_27",null,null,null,null,null,null,null,null,null,null,null,null,null,null,null,null,null,null,null,null,null,null,null,null,null,null,null,null,null,null,null,0]
["SBSA_28","SBSA_28",null,null,null,null,null,null,null,null,null,null,null,null,null,null,null,null,null,null,null,null,null,null,null,null,null,null,null,null,null,null,null,0]
["SBSA_29","SBSA_29",null,null,null,null,null,null,null,null,null,null,null,null,null,null,null,null,null,null,null,null,null,null,null,null,null,null,null,null,null,null,null,0]
["SBSA_30","SBSA_30",null,null,null,null,null,null,null,null,null,null,null,null,null,null,null,null,null,null,null,null,null,null,null,null,null,null,null,null,null,null,null,0]
["SBSA_31","SBSA_31",null,null,null,null,null,null,null,null,null,null,null,null,null,null,null,null,null,null,null,null,null,null,null,null,null,null,null,null,null,null,null,0]
["SBSA_32","SBSA_32",null,null,null,null,null,null,null,null,null,null,null,null,null,null,null,null,null,null,null,null,null,null,null,null,null,null,null,null,null,null,null,0]
["SBSA_33","SBSA_33",null,null,null,null,null,null,null,null,null,null,null,null,null,null,null,null,null,null,null,null,null,null,null,null,null,null,null,null,null,null,null,0]
["SBSA_34","SBSA_34",null,null,null,null,null,null,null,null,null,null,null,null,null,null,null,null,null,null,null,null,null,null,null,null,null,null,null,null,null,null,null,0]
["SBSA_35","SBSA_35",null,null,null,null,null,null,null,null,null,null,null,null,null,null,null,null,null,null,null,null,null,null,null,null,null,null,null,null,null,null,null,0]
["SBSA_36","SBSA_36",null,null,null,null,null,null,null,null,null,null,null,null,null,null,null,null,null,null,null,null,null,null,null,null,null,null,null,null,null,null,null,0]
["SBSA_37","SBSA_37",null,null,null,null,null,null,null,null,null,null,null,null,null,null,null,null,null,null,null,null,null,null,null,null,null,null,null,null,null,null,null,0]
["SBSA_38","SBSA_38",null,null,null,null,null,null,null,null,null,null,null,null,null,null,null,null,null,null,null,null,null,null,null,null,null,null,null,null,null,null,null,0]
["SBSA_39","SBSA_39",null,null,null,null,null,null,null,null,null,null,null,null,null,null,null,null,null,null,null,null,null,null,null,null,null,null,null,null,null,null,null,0]
["SBSA_40","SBSA_40",null,null,null,null,null,null,null,null,null,null,null,null,null,null,null,null,null,null,null,null,null,null,null,null,null,null,null,null,null,null,null,0]
["SBSA_41","SBSA_41",null,null,null,null,null,null,null,null,null,null,null,null,null,null,null,null,null,null,null,null,null,null,null,null,null,null,null,null,null,null,null,0]
["SBSA_42","SBSA_42",null,null,null,null,null,null,null,null,null,null,null,null,null,null,null,null,null,null,null,null,null,null,null,null,null,null,null,null,null,null,null,0]
["SBSA_43","SBSA_43",null,null,null,null,null,null,null,null,null,null,null,null,null,null,null,null,null,null,null,null,null,null,null,null,null,null,null,null,null,null,null,0]
["SBSA_44","SBSA_44",null,null,null,null,null,null,null,null,null,null,null,null,null,null,null,null,null,null,null,null,null,null,null,null,null,null,null,null,null,null,null,0]
["SBSA_45","SBSA_45",null,null,null,null,null,null,null,null,null,null,null,null,null,null,null,null,null,null,null,null,null,null,null,null,null,null,null,null,null,null,null,0]
["SBSA_46","SBSA_46",null,null,null,null,null,null,null,null,null,null,null,null,null,null,null,null,null,null,null,null,null,null,null,null,null,null,null,null,null,null,null,0]
["SBSA_47","SBSA_47",null,null,null,null,null,null,null,null,null,null,null,null,null,null,null,null,null,null,null,null,null,null,null,null,null,null,null,null,null,null,null,0]
["SBSA_48","SBSA_48",null,null,null,null,null,null,null,null,null,null,null,null,null,null,null,null,null,null,null,null,null,null,null,null,null,null,null,null,null,null,null,0]
["SBSA_49","SBSA_49",null,null,null,null,null,null,null,null,null,null,null,null,null,null,null,null,null,null,null,null,null,null,null,null,null,null,null,null,null,null,null,0]
["SBSA_50","SBSA_50",null,null,null,null,null,null,null,null,null,null,null,null,null,null,null,null,null,null,null,null,null,null,null,null,null,null,null,null,null,null,null,0]
["SBSA_51","SBSA_51",null,null,null,null,null,null,null,null,null,null,null,null,null,null,null,null,null,null,null,null,null,null,null,null,null,null,null,null,null,null,null,0]
["SBSA_52","SBSA_52",null,null,null,null,null,null,null,null,null,null,null,null,null,null,null,null,null,null,null,null,null,null,null,null,null,null,null,null,null,null,null,0]
["SBSA_53","SBSA_53",null,null,null,null,null,null,null,null,null,null,null,null,null,null,null,null,null,null,null,null,null,null,null,null,null,null,null,null,null,null,null,0]
["SBSA_54","SBSA_54",null,null,null,null,null,null,null,null,null,null,null,null,null,null,null,null,null,null,null,null,null,null,null,null,null,null,null,null,null,null,null,0]
["SBSA_55","SBSA_55",null,null,null,null,null,null,null,null,null,null,null,null,null,null,null,null,null,null,null,null,null,null,null,null,null,null,null,null,null,null,null,0]
["SBSA_56","SBSA_56",null,null,null,null,null,null,null,null,null,null,null,null,null,null,null,null,null,null,null,null,null,null,null,null,null,null,null,null,null,null,null,0]
["SBSA_57","SBSA_57",null,null,null,null,null,null,null,null,null,null,null,null,null,null,null,null,null,null,null,null,null,null,null,null,null,null,null,null,null,null,null,0]
["SBSA_58","SBSA_58",null,null,null,null,null,null,null,null,null,null,null,null,null,null,null,null,null,null,null,null,null,null,null,null,null,null,null,null,null,null,null,0]
["SBSA_59","SBSA_59",null,null,null,null,null,null,null,null,null,null,null,null,null,null,null,null,null,null,null,null,null,null,null,null,null,null,null,null,null,null,null,0]
["SBSA_60","SBSA_60",null,null,null,null,null,null,null,null,null,null,null,null,null,null,null,null,null,null,null,null,null,null,null,null,null,null,null,null,null,null,null,0]
["SBSA_61","SBSA_61",null,null,null,null,null,null,null,null,null,null,null,null,null,null,null,null,null,null,null,null,null,null,null,null,null,null,null,null,null,null,null,0]
["SBSA_62","SBSA_62",null,null,null,null,null,null,null,null,null,null,null,null,null,null,null,null,null,null,null,null,null,null,null,null,null,null,null,null,null,null,null,0]
["SBSA_63","SBSA_63",null,null,null,null,null,null,null,null,null,null,null,null,null,null,null,null,null,null,null,null,null,null,null,null,null,null,null,null,null,null,null,0]
["SBSA_64","SBSA_64",null,null,null,null,null,null,null,null,null,null,null,null,null,null,null,null,null,null,null,null,null,null,null,null,null,null,null,null,null,null,null,0]
["SBSA_65","SBSA_65",null,null,null,null,null,null,null,null,null,null,null,null,null,null,null,null,null,null,null,null,null,null,null,null,null,null,null,null,null,null,null,{"$f":"IF(COUNTBLANK(C74:H74)<6,1,0)","v":0}]
["SBSA_66","SBSA_66",null,null,null,null,null,null,null,null,null,null,null,null,null,null,null,null,null,null,null,null,null,null,null,null,null,null,null,null,null,null,null,0]
["SBSA_67","SBSA_67",null,null,null,null,null,null,null,null,null,null,null,null,null,null,null,null,null,null,null,null,null,null,null,null,null,null,null,null,null,null,null,0]
["SBSA_68","SBSA_68",null,null,null,null,null,null,null,null,null,null,null,null,null,null,null,null,null,null,null,null,null,null,null,null,null,null,null,null,null,null,null,0]
["SBSA_69","SBSA_69",null,null,null,null,null,null,null,null,null,null,null,null,null,null,null,null,null,null,null,null,null,null,null,null,null,null,null,null,null,null,null,0]
["SBSA_70","SBSA_70",null,null,null,null,null,null,null,null,null,null,null,null,null,null,null,null,null,null,null,null,null,null,null,null,null,null,null,null,null,null,null,0]
["SBSA_71","SBSA_71",null,null,null,null,null,null,null,null,null,null,null,null,null,null,null,null,null,null,null,null,null,null,null,null,null,null,null,null,null,null,null,0]
["SBSA_72","SBSA_72",null,null,null,null,null,null,null,null,null,null,null,null,null,null,null,null,null,null,null,null,null,null,null,null,null,null,null,null,null,null,null,0]
["SBSA_73","SBSA_73",null,null,null,null,null,null,null,null,null,null,null,null,null,null,null,null,null,null,null,null,null,null,null,null,null,null,null,null,null,null,null,0]
["SBSA_74","SBSA_74",null,null,null,null,null,null,null,null,null,null,null,null,null,null,null,null,null,null,null,null,null,null,null,null,null,null,null,null,null,null,null,0]
["SBSA_75","SBSA_75",null,null,null,null,null,null,null,null,null,null,null,null,null,null,null,null,null,null,null,null,null,null,null,null,null,null,null,null,null,null,null,0]
["SBSA_76","SBSA_76",null,null,null,null,null,null,null,null,null,null,null,null,null,null,null,null,null,null,null,null,null,null,null,null,null,null,null,null,null,null,null,0]
["SBSA_77","SBSA_77",null,null,null,null,null,null,null,null,null,null,null,null,null,null,null,null,null,null,null,null,null,null,null,null,null,null,null,null,null,null,null,0]
["SBSA_78","SBSA_78",null,null,null,null,null,null,null,null,null,null,null,null,null,null,null,null,null,null,null,null,null,null,null,null,null,null,null,null,null,null,null,0]
["SBSA_79","SBSA_79",null,null,null,null,null,null,null,null,null,null,null,null,null,null,null,null,null,null,null,null,null,null,null,null,null,null,null,null,null,null,null,0]
["SBSA_80","SBSA_80",null,null,null,null,null,null,null,null,null,null,null,null,null,null,null,null,null,null,null,null,null,null,null,null,null,null,null,null,null,null,null,0]
["SBSA_81","SBSA_81",null,null,null,null,null,null,null,null,null,null,null,null,null,null,null,null,null,null,null,null,null,null,null,null,null,null,null,null,null,null,null,0]
["SBSA_82","SBSA_82",null,null,null,null,null,null,null,null,null,null,null,null,null,null,null,null,null,null,null,null,null,null,null,null,null,null,null,null,null,null,null,0]
["SBSA_83","SBSA_83",null,null,null,null,null,null,null,null,null,null,null,null,null,null,null,null,null,null,null,null,null,null,null,null,null,null,null,null,null,null,null,0]
["SBSA_84","SBSA_84",null,null,null,null,null,null,null,null,null,null,null,null,null,null,null,null,null,null,null,null,null,null,null,null,null,null,null,null,null,null,null,0]
["SBSA_85","SBSA_85",null,null,null,null,null,null,null,null,null,null,null,null,null,null,null,null,null,null,null,null,null,null,null,null,null,null,null,null,null,null,null,0]
["SBSA_86","SBSA_86",null,null,null,null,null,null,null,null,null,null,null,null,null,null,null,null,null,null,null,null,null,null,null,null,null,null,null,null,null,null,null,0]
["SBSA_87","SBSA_87",null,null,null,null,null,null,null,null,null,null,null,null,null,null,null,null,null,null,null,null,null,null,null,null,null,null,null,null,null,null,null,0]
["SBSA_88","SBSA_88",null,null,null,null,null,null,null,null,null,null,null,null,null,null,null,null,null,null,null,null,null,null,null,null,null,null,null,null,null,null,null,0]
["SBSA_89","SBSA_89",null,null,null,null,null,null,null,null,null,null,null,null,null,null,null,null,null,null,null,null,null,null,null,null,null,null,null,null,null,null,null,0]
["SBSA_90","SBSA_90",null,null,null,null,null,null,null,null,null,null,null,null,null,null,null,null,null,null,null,null,null,null,null,null,null,null,null,null,null,null,null,0]
["SBSA_91","SBSA_91",null,null,null,null,null,null,null,null,null,null,null,null,null,null,null,null,null,null,null,null,null,null,null,null,null,null,null,null,null,null,null,0]
["SBSA_92","SBSA_92",null,null,null,null,null,null,null,null,null,null,null,null,null,null,null,null,null,null,null,null,null,null,null,null,null,null,null,null,null,null,null,0]
["SBSA_93","SBSA_93",null,null,null,null,null,null,null,null,null,null,null,null,null,null,null,null,null,null,null,null,null,null,null,null,null,null,null,null,null,null,null,0]
["SBSA_94","SBSA_94",null,null,null,null,null,null,null,null,null,null,null,null,null,null,null,null,null,null,null,null,null,null,null,null,null,null,null,null,null,null,null,0]
["SBSA_95","SBSA_95",null,null,null,null,null,null,null,null,null,null,null,null,null,null,null,null,null,null,null,null,null,null,null,null,null,null,null,null,null,null,null,0]
["SBSA_96","SBSA_96",null,null,null,null,null,null,null,null,null,null,null,null,null,null,null,null,null,null,null,null,null,null,null,null,null,null,null,null,null,null,null,0]
["SBSA_97","SBSA_97",null,null,null,null,null,null,null,null,null,null,null,null,null,null,null,null,null,null,null,null,null,null,null,null,null,null,null,null,null,null,null,0]
["SBSA_98","SBSA_98",null,null,null,null,null,null,null,null,null,null,null,null,null,null,null,null,null,null,null,null,null,null,null,null,null,null,null,null,null,null,null,0]
["SBSA_99","SBSA_99",null,null,null,null,null,null,null,null,null,null,null,null,null,null,null,null,null,null,null,null,null,null,null,null,null,null,null,null,null,null,null,0]
["SBSA_100","SBSA_100",null,null,null,null,null,null,null,null,null,null,null,null,null,null,null,null,null,null,null,null,null,null,null,null,null,null,null,null,null,null,null,0]
["SBSA_101","SBSA_101",null,null,null,null,null,null,null,null,null,null,null,null,null,null,null,null,null,null,null,null,null,null,null,null,null,null,null,null,null,null,null,0]
["SBSA_102","SBSA_102",null,null,null,null,null,null,null,null,null,null,null,null,null,null,null,null,null,null,null,null,null,null,null,null,null,null,null,null,null,null,null,0]
["SBSA_103","SBSA_103",null,null,null,null,null,null,null,null,null,null,null,null,null,null,null,null,null,null,null,null,null,null,null,null,null,null,null,null,null,null,null,0]
["SBSA_104","SBSA_104",null,null,null,null,null,null,null,null,null,null,null,null,null,null,null,null,null,null,null,null,null,null,null,null,null,null,null,null,null,null,null,0]
["SBSA_105","SBSA_105",null,null,null,null,null,null,null,null,null,null,null,null,null,null,null,null,null,null,null,null,null,null,null,null,null,null,null,null,null,null,null,0]
["SBSA_106","SBSA_106",null,null,null,null,null,null,null,null,null,null,null,null,null,null,null,null,null,null,null,null,null,null,null,null,null,null,null,null,null,null,null,0]
["SBSA_107","SBSA_107",null,null,null,null,null,null,null,null,null,null,null,null,null,null,null,null,null,null,null,null,null,null,null,null,null,null,null,null,null,null,null,0]
["SBSA_108","SBSA_108",null,null,null,null,null,null,null,null,null,null,null,null,null,null,null,null,null,null,null,null,null,null,null,null,null,null,null,null,null,null,null,0]
["SBSA_109","SBSA_109",null,null,null,null,null,null,null,null,null,null,null,null,null,null,null,null,null,null,null,null,null,null,null,null,null,null,null,null,null,null,null,0]
["SBSA_110","SBSA_110",null,null,null,null,null,null,null,null,null,null,null,null,null,null,null,null,null,null,null,null,null,null,null,null,null,null,null,null,null,null,null,0]
["SBSA_111","SBSA_111",null,null,null,null,null,null,null,null,null,null,null,null,null,null,null,null,null,null,null,null,null,null,null,null,null,null,null,null,null,null,null,0]
["SBSA_112","SBSA_112",null,null,null,null,null,null,null,null,null,null,null,null,null,null,null,null,null,null,null,null,null,null,null,null,null,null,null,null,null,null,null,0]
["SBSA_113","SBSA_113",null,null,null,null,null,null,null,null,null,null,null,null,null,null,null,null,null,null,null,null,null,null,null,null,null,null,null,null,null,null,null,0]
["SBSA_114","SBSA_114",null,null,null,null,null,null,null,null,null,null,null,null,null,null,null,null,null,null,null,null,null,null,null,null,null,null,null,null,null,null,null,0]
["SBSA_115","SBSA_115",null,null,null,null,null,null,null,null,null,null,null,null,null,null,null,null,null,null,null,null,null,null,null,null,null,null,null,null,null,null,null,0]
["SBSA_116","SBSA_116",null,null,null,null,null,null,null,null,null,null,null,null,null,null,null,null,null,null,null,null,null,null,null,null,null,null,null,null,null,null,null,0]
["SBSA_117","SBSA_117",null,null,null,null,null,null,null,null,null,null,null,null,null,null,null,null,null,null,null,null,null,null,null,null,null,null,null,null,null,null,null,0]
["SBSA_118","SBSA_118",null,null,null,null,null,null,null,null,null,null,null,null,null,null,null,null,null,null,null,null,null,null,null,null,null,null,null,null,null,null,null,0]
["SBSA_119","SBSA_119",null,null,null,null,null,null,null,null,null,null,null,null,null,null,null,null,null,null,null,null,null,null,null,null,null,null,null,null,null,null,null,0]
["SBSA_120","SBSA_120",null,null,null,null,null,null,null,null,null,null,null,null,null,null,null,null,null,null,null,null,null,null,null,null,null,null,null,null,null,null,null,0]
["SBSA_121","SBSA_121",null,null,null,null,null,null,null,null,null,null,null,null,null,null,null,null,null,null,null,null,null,null,null,null,null,null,null,null,null,null,null,0]
["SBSA_122","SBSA_122",null,null,null,null,null,null,null,null,null,null,null,null,null,null,null,null,null,null,null,null,null,null,null,null,null,null,null,null,null,null,null,0]
["SBSA_123","SBSA_123",null,null,null,null,null,null,null,null,null,null,null,null,null,null,null,null,null,null,null,null,null,null,null,null,null,null,null,null,null,null,null,0]
["SBSA_124","SBSA_124",null,null,null,null,null,null,null,null,null,null,null,null,null,null,null,null,null,null,null,null,null,null,null,null,null,null,null,null,null,null,null,0]
["SBSA_125","SBSA_125",null,null,null,null,null,null,null,null,null,null,null,null,null,null,null,null,null,null,null,null,null,null,null,null,null,null,null,null,null,null,null,0]
["SBSA_126","SBSA_126",null,null,null,null,null,null,null,null,null,null,null,null,null,null,null,null,null,null,null,null,null,null,null,null,null,null,null,null,null,null,null,0]
["SBSA_127","SBSA_127",null,null,null,null,null,null,null,null,null,null,null,null,null,null,null,null,null,null,null,null,null,null,null,null,null,null,null,null,null,null,null,0]
["SBSA_128","SBSA_128",null,null,null,null,null,null,null,null,null,null,null,null,null,null,null,null,null,null,null,null,null,null,null,null,null,null,null,null,null,null,null,0]
["SBSA_129","SBSA_129",null,null,null,null,null,null,null,null,null,null,null,null,null,null,null,null,null,null,null,null,null,null,null,null,null,null,null,null,null,null,null,{"$f":"IF(COUNTBLANK(C138:H138)<6,1,0)","v":0}]
["SBSA_130","SBSA_130",null,null,null,null,null,null,null,null,null,null,null,null,null,null,null,null,null,null,null,null,null,null,null,null,null,null,null,null,null,null,null,0]
["SBSA_131","SBSA_131",null,null,null,null,null,null,null,null,null,null,null,null,null,null,null,null,null,null,null,null,null,null,null,null,null,null,null,null,null,null,null,0]
["SBSA_132","SBSA_132",null,null,null,null,null,null,null,null,null,null,null,null,null,null,null,null,null,null,null,null,null,null,null,null,null,null,null,null,null,null,null,0]
["SBSA_133","SBSA_133",null,null,null,null,null,null,null,null,null,null,null,null,null,null,null,null,null,null,null,null,null,null,null,null,null,null,null,null,null,null,null,0]
["SBSA_134","SBSA_134",null,null,null,null,null,null,null,null,null,null,null,null,null,null,null,null,null,null,null,null,null,null,null,null,null,null,null,null,null,null,null,0]
["SBSA_135","SBSA_135",null,null,null,null,null,null,null,null,null,null,null,null,null,null,null,null,null,null,null,null,null,null,null,null,null,null,null,null,null,null,null,0]
["SBSA_136","SBSA_136",null,null,null,null,null,null,null,null,null,null,null,null,null,null,null,null,null,null,null,null,null,null,null,null,null,null,null,null,null,null,null,0]
["SBSA_137","SBSA_137",null,null,null,null,null,null,null,null,null,null,null,null,null,null,null,null,null,null,null,null,null,null,null,null,null,null,null,null,null,null,null,0]
["SBSA_138","SBSA_138",null,null,null,null,null,null,null,null,null,null,null,null,null,null,null,null,null,null,null,null,null,null,null,null,null,null,null,null,null,null,null,0]
["SBSA_139","SBSA_139",null,null,null,null,null,null,null,null,null,null,null,null,null,null,null,null,null,null,null,null,null,null,null,null,null,null,null,null,null,null,null,0]
["SBSA_140","SBSA_140",null,null,null,null,null,null,null,null,null,null,null,null,null,null,null,null,null,null,null,null,null,null,null,null,null,null,null,null,null,null,null,0]
["SBSA_141","SBSA_141",null,null,null,null,null,null,null,null,null,null,null,null,null,null,null,null,null,null,null,null,null,null,null,null,null,null,null,null,null,null,null,0]
["SBSA_142","SBSA_142",null,null,null,null,null,null,null,null,null,null,null,null,null,null,null,null,null,null,null,null,null,null,null,null,null,null,null,null,null,null,null,0]
["SBSA_143","SBSA_143",null,null,null,null,null,null,null,null,null,null,null,null,null,null,null,null,null,null,null,null,null,null,null,null,null,null,null,null,null,null,null,0]
["SBSA_144","SBSA_144",null,null,null,null,null,null,null,null,null,null,null,null,null,null,null,null,null,null,null,null,null,null,null,null,null,null,null,null,null,null,null,0]
["SBSA_145","SBSA_145",null,null,null,null,null,null,null,null,null,null,null,null,null,null,null,null,null,null,null,null,null,null,null,null,null,null,null,null,null,null,null,0]
["SBSA_146","SBSA_146",null,null,null,null,null,null,null,null,null,null,null,null,null,null,null,null,null,null,null,null,null,null,null,null,null,null,null,null,null,null,null,0]
["SBSA_147","SBSA_147",null,null,null,null,null,null,null,null,null,null,null,null,null,null,null,null,null,null,null,null,null,null,null,null,null,null,null,null,null,null,null,0]
["SBSA_148","SBSA_148",null,null,null,null,null,null,null,null,null,null,null,null,null,null,null,null,null,null,null,null,null,null,null,null,null,null,null,null,null,null,null,0]
["SBSA_149","SBSA_149",null,null,null,null,null,null,null,null,null,null,null,null,null,null,null,null,null,null,null,null,null,null,null,null,null,null,null,null,null,null,null,0]
["SBSA_150","SBSA_150",null,null,null,null,null,null,null,null,null,null,null,null,null,null,null,null,null,null,null,null,null,null,null,null,null,null,null,null,null,null,null,0]
["SBSA_151","SBSA_151",null,null,null,null,null,null,null,null,null,null,null,null,null,null,null,null,null,null,null,null,null,null,null,null,null,null,null,null,null,null,null,0]
["SBSA_152","SBSA_152",null,null,null,null,null,null,null,null,null,null,null,null,null,null,null,null,null,null,null,null,null,null,null,null,null,null,null,null,null,null,null,0]
["SBSA_153","SBSA_153",null,null,null,null,null,null,null,null,null,null,null,null,null,null,null,null,null,null,null,null,null,null,null,null,null,null,null,null,null,null,null,0]
["SBSA_154","SBSA_154",null,null,null,null,null,null,null,null,null,null,null,null,null,null,null,null,null,null,null,null,null,null,null,null,null,null,null,null,null,null,null,0]
["SBSA_155","SBSA_155",null,null,null,null,null,null,null,null,null,null,null,null,null,null,null,null,null,null,null,null,null,null,null,null,null,null,null,null,null,null,null,0]
["SBSA_156","SBSA_156",null,null,null,null,null,null,null,null,null,null,null,null,null,null,null,null,null,null,null,null,null,null,null,null,null,null,null,null,null,null,null,0]
["SBSA_157","SBSA_157",null,null,null,null,null,null,null,null,null,null,null,null,null,null,null,null,null,null,null,null,null,null,null,null,null,null,null,null,null,null,null,0]
["SBSA_158","SBSA_158",null,null,null,null,null,null,null,null,null,null,null,null,null,null,null,null,null,null,null,null,null,null,null,null,null,null,null,null,null,null,null,0]
["SBSA_159","SBSA_159",null,null,null,null,null,null,null,null,null,null,null,null,null,null,null,null,null,null,null,null,null,null,null,null,null,null,null,null,null,null,null,0]
["SBSA_160","SBSA_160",null,null,null,null,null,null,null,null,null,null,null,null,null,null,null,null,null,null,null,null,null,null,null,null,null,null,null,null,null,null,null,0]
["SBSA_161","SBSA_161",null,null,null,null,null,null,null,null,null,null,null,null,null,null,null,null,null,null,null,null,null,null,null,null,null,null,null,null,null,null,null,0]
["SBSA_162","SBSA_162",null,null,null,null,null,null,null,null,null,null,null,null,null,null,null,null,null,null,null,null,null,null,null,null,null,null,null,null,null,null,null,0]
["SBSA_163","SBSA_163",null,null,null,null,null,null,null,null,null,null,null,null,null,null,null,null,null,null,null,null,null,null,null,null,null,null,null,null,null,null,null,0]
["SBSA_164","SBSA_164",null,null,null,null,null,null,null,null,null,null,null,null,null,null,null,null,null,null,null,null,null,null,null,null,null,null,null,null,null,null,null,0]
["SBSA_165","SBSA_165",null,null,null,null,null,null,null,null,null,null,null,null,null,null,null,null,null,null,null,null,null,null,null,null,null,null,null,null,null,null,null,0]
["SBSA_166","SBSA_166",null,null,null,null,null,null,null,null,null,null,null,null,null,null,null,null,null,null,null,null,null,null,null,null,null,null,null,null,null,null,null,0]
["SBSA_167","SBSA_167",null,null,null,null,null,null,null,null,null,null,null,null,null,null,null,null,null,null,null,null,null,null,null,null,null,null,null,null,null,null,null,0]
["SBSA_168","SBSA_168",null,null,null,null,null,null,null,null,null,null,null,null,null,null,null,null,null,null,null,null,null,null,null,null,null,null,null,null,null,null,null,0]
["SBSA_169","SBSA_169",null,null,null,null,null,null,null,null,null,null,null,null,null,null,null,null,null,null,null,null,null,null,null,null,null,null,null,null,null,null,null,0]
["SBSA_170","SBSA_170",null,null,null,null,null,null,null,null,null,null,null,null,null,null,null,null,null,null,null,null,null,null,null,null,null,null,null,null,null,null,null,0]
["SBSA_171","SBSA_171",null,null,null,null,null,null,null,null,null,null,null,null,null,null,null,null,null,null,null,null,null,null,null,null,null,null,null,null,null,null,null,0]
["SBSA_172","SBSA_172",null,null,null,null,null,null,null,null,null,null,null,null,null,null,null,null,null,null,null,null,null,null,null,null,null,null,null,null,null,null,null,0]
["SBSA_173","SBSA_173",null,null,null,null,null,null,null,null,null,null,null,null,null,null,null,null,null,null,null,null,null,null,null,null,null,null,null,null,null,null,null,0]
["SBSA_174","SBSA_174",null,null,null,null,null,null,null,null,null,null,null,null,null,null,null,null,null,null,null,null,null,null,null,null,null,null,null,null,null,null,null,0]
["SBSA_175","SBSA_175",null,null,null,null,null,null,null,null,null,null,null,null,null,null,null,null,null,null,null,null,null,null,null,null,null,null,null,null,null,null,null,0]
["SBSA_176","SBSA_176",null,null,null,null,null,null,null,null,null,null,null,null,null,null,null,null,null,null,null,null,null,null,null,null,null,null,null,null,null,null,null,0]
["SBSA_177","SBSA_177",null,null,null,null,null,null,null,null,null,null,null,null,null,null,null,null,null,null,null,null,null,null,null,null,null,null,null,null,null,null,null,0]
["SBSA_178","SBSA_178",null,null,null,null,null,null,null,null,null,null,null,null,null,null,null,null,null,null,null,null,null,null,null,null,null,null,null,null,null,null,null,0]
["SBSA_179","SBSA_179",null,null,null,null,null,null,null,null,null,null,null,null,null,null,null,null,null,null,null,null,null,null,null,null,null,null,null,null,null,null,null,0]
["SBSA_180","SBSA_180",null,null,null,null,null,null,null,null,null,null,null,null,null,null,null,null,null,null,null,null,null,null,null,null,null,null,null,null,null,null,null,0]
["SBSA_181","SBSA_181",null,null,null,null,null,null,null,null,null,null,null,null,null,null,null,null,null,null,null,null,null,null,null,null,null,null,null,null,null,null,null,0]
["SBSA_182","SBSA_182",null,null,null,null,null,null,null,null,null,null,null,null,null,null,null,null,null,null,null,null,null,null,null,null,null,null,null,null,null,null,null,0]
["SBSA_183","SBSA_183",null,null,null,null,null,null,null,null,null,null,null,null,null,null,null,null,null,null,null,null,null,null,null,null,null,null,null,null,null,null,null,0]
["SBSA_184","SBSA_184",null,null,null,null,null,null,null,null,null,null,null,null,null,null,null,null,null,null,null,null,null,null,null,null,null,null,null,null,null,null,null,0]
["SBSA_185","SBSA_185",null,null,null,null,null,null,null,null,null,null,null,null,null,null,null,null,null,null,null,null,null,null,null,null,null,null,null,null,null,null,null,0]
["SBSA_186","SBSA_186",null,null,null,null,null,null,null,null,null,null,null,null,null,null,null,null,null,null,null,null,null,null,null,null,null,null,null,null,null,null,null,0]
["SBSA_187","SBSA_187",null,null,null,null,null,null,null,null,null,null,null,null,null,null,null,null,null,null,null,null,null,null,null,null,null,null,null,null,null,null,null,0]
["SBSA_188","SBSA_188",null,null,null,null,null,null,null,null,null,null,null,null,null,null,null,null,null,null,null,null,null,null,null,null,null,null,null,null,null,null,null,0]
["SBSA_189","SBSA_189",null,null,null,null,null,null,null,null,null,null,null,null,null,null,null,null,null,null,null,null,null,null,null,null,null,null,null,null,null,null,null,0]
["SBSA_190","SBSA_190",null,null,null,null,null,null,null,null,null,null,null,null,null,null,null,null,null,null,null,null,null,null,null,null,null,null,null,null,null,null,null,0]
["SBSA_191","SBSA_191",null,null,null,null,null,null,null,null,null,null,null,null,null,null,null,null,null,null,null,null,null,null,null,null,null,null,null,null,null,null,null,0]
["SBSA_192","SBSA_192",null,null,null,null,null,null,null,null,null,null,null,null,null,null,null,null,null,null,null,null,null,null,null,null,null,null,null,null,null,null,null,0]
["SBSA_193","SBSA_193",null,null,null,null,null,null,null,null,null,null,null,null,null,null,null,null,null,null,null,null,null,null,null,null,null,null,null,null,null,null,null,{"$f":"IF(COUNTBLANK(C202:H202)<6,1,0)","v":0}]
["SBSA_194","SBSA_194",null,null,null,null,null,null,null,null,null,null,null,null,null,null,null,null,null,null,null,null,null,null,null,null,null,null,null,null,null,null,null,0]
["SBSA_195","SBSA_195",null,null,null,null,null,null,null,null,null,null,null,null,null,null,null,null,null,null,null,null,null,null,null,null,null,null,null,null,null,null,null,0]
["SBSA_196","SBSA_196",null,null,null,null,null,null,null,null,null,null,null,null,null,null,null,null,null,null,null,null,null,null,null,null,null,null,null,null,null,null,null,0]
["SBSA_197","SBSA_197",null,null,null,null,null,null,null,null,null,null,null,null,null,null,null,null,null,null,null,null,null,null,null,null,null,null,null,null,null,null,null,0]
["SBSA_198","SBSA_198",null,null,null,null,null,null,null,null,null,null,null,null,null,null,null,null,null,null,null,null,null,null,null,null,null,null,null,null,null,null,null,0]
["SBSA_199","SBSA_199",null,null,null,null,null,null,null,null,null,null,null,null,null,null,null,null,null,null,null,null,null,null,null,null,null,null,null,null,null,null,null,0]
["SBSA_200","SBSA_200",null,null,null,null,null,null,null,null,null,null,null,null,null,null,null,null,null,null,null,null,null,null,null,null,null,null,null,null,null,null,null,0]
["SBSA_201","SBSA_201",null,null,null,null,null,null,null,null,null,null,null,null,null,null,null,null,null,null,null,null,null,null,null,null,null,null,null,null,null,null,null,0]
["SBSA_202","SBSA_202",null,null,null,null,null,null,null,null,null,null,null,null,null,null,null,null,null,null,null,null,null,null,null,null,null,null,null,null,null,null,null,0]
["SBSA_203","SBSA_203",null,null,null,null,null,null,null,null,null,null,null,null,null,null,null,null,null,null,null,null,null,null,null,null,null,null,null,null,null,null,null,0]
["SBSA_204","SBSA_204",null,null,null,null,null,null,null,null,null,null,null,null,null,null,null,null,null,null,null,null,null,null,null,null,null,null,null,null,null,null,null,0]
["SBSA_205","SBSA_205",null,null,null,null,null,null,null,null,null,null,null,null,null,null,null,null,null,null,null,null,null,null,null,null,null,null,null,null,null,null,null,0]
["SBSA_206","SBSA_206",null,null,null,null,null,null,null,null,null,null,null,null,null,null,null,null,null,null,null,null,null,null,null,null,null,null,null,null,null,null,null,0]
["SBSA_207","SBSA_207",null,null,null,null,null,null,null,null,null,null,null,null,null,null,null,null,null,null,null,null,null,null,null,null,null,null,null,null,null,null,null,0]
["SBSA_208","SBSA_208",null,null,null,null,null,null,null,null,null,null,null,null,null,null,null,null,null,null,null,null,null,null,null,null,null,null,null,null,null,null,null,0]
["SBSA_209","SBSA_209",null,null,null,null,null,null,null,null,null,null,null,null,null,null,null,null,null,null,null,null,null,null,null,null,null,null,null,null,null,null,null,0]
["SBSA_210","SBSA_210",null,null,null,null,null,null,null,null,null,null,null,null,null,null,null,null,null,null,null,null,null,null,null,null,null,null,null,null,null,null,null,0]
["SBSA_211","SBSA_211",null,null,null,null,null,null,null,null,null,null,null,null,null,null,null,null,null,null,null,null,null,null,null,null,null,null,null,null,null,null,null,0]
["SBSA_212","SBSA_212",null,null,null,null,null,null,null,null,null,null,null,null,null,null,null,null,null,null,null,null,null,null,null,null,null,null,null,null,null,null,null,0]
["SBSA_213","SBSA_213",null,null,null,null,null,null,null,null,null,null,null,null,null,null,null,null,null,null,null,null,null,null,null,null,null,null,null,null,null,null,null,0]
["SBSA_214","SBSA_214",null,null,null,null,null,null,null,null,null,null,null,null,null,null,null,null,null,null,null,null,null,null,null,null,null,null,null,null,null,null,null,0]
["SBSA_215","SBSA_215",null,null,null,null,null,null,null,null,null,null,null,null,null,null,null,null,null,null,null,null,null,null,null,null,null,null,null,null,null,null,null,0]
["SBSA_216","SBSA_216",null,null,null,null,null,null,null,null,null,null,null,null,null,null,null,null,null,null,null,null,null,null,null,null,null,null,null,null,null,null,null,0]
["SBSA_217","SBSA_217",null,null,null,null,null,null,null,null,null,null,null,null,null,null,null,null,null,null,null,null,null,null,null,null,null,null,null,null,null,null,null,0]
["SBSA_218","SBSA_218",null,null,null,null,null,null,null,null,null,null,null,null,null,null,null,null,null,null,null,null,null,null,null,null,null,null,null,null,null,null,null,0]
["SBSA_219","SBSA_219",null,null,null,null,null,null,null,null,null,null,null,null,null,null,null,null,null,null,null,null,null,null,null,null,null,null,null,null,null,null,null,0]
["SBSA_220","SBSA_220",null,null,null,null,null,null,null,null,null,null,null,null,null,null,null,null,null,null,null,null,null,null,null,null,null,null,null,null,null,null,null,0]
["SBSA_221","SBSA_221",null,null,null,null,null,null,null,null,null,null,null,null,null,null,null,null,null,null,null,null,null,null,null,null,null,null,null,null,null,null,null,0]
["SBSA_222","SBSA_222",null,null,null,null,null,null,null,null,null,null,null,null,null,null,null,null,null,null,null,null,null,null,null,null,null,null,null,null,null,null,null,0]
["SBSA_223","SBSA_223",null,null,null,null,null,null,null,null,null,null,null,null,null,null,null,null,null,null,null,null,null,null,null,null,null,null,null,null,null,null,null,0]
["SBSA_224","SBSA_224",null,null,null,null,null,null,null,null,null,null,null,null,null,null,null,null,null,null,null,null,null,null,null,null,null,null,null,null,null,null,null,0]
["SBSA_225","SBSA_225",null,null,null,null,null,null,null,null,null,null,null,null,null,null,null,null,null,null,null,null,null,null,null,null,null,null,null,null,null,null,null,0]
["SBSA_226","SBSA_226",null,null,null,null,null,null,null,null,null,null,null,null,null,null,null,null,null,null,null,null,null,null,null,null,null,null,null,null,null,null,null,0]
["SBSA_227","SBSA_227",null,null,null,null,null,null,null,null,null,null,null,null,null,null,null,null,null,null,null,null,null,null,null,null,null,null,null,null,null,null,null,0]
["SBSA_228","SBSA_228",null,null,null,null,null,null,null,null,null,null,null,null,null,null,null,null,null,null,null,null,null,null,null,null,null,null,null,null,null,null,null,0]
["SBSA_229","SBSA_229",null,null,null,null,null,null,null,null,null,null,null,null,null,null,null,null,null,null,null,null,null,null,null,null,null,null,null,null,null,null,null,0]
["SBSA_230","SBSA_230",null,null,null,null,null,null,null,null,null,null,null,null,null,null,null,null,null,null,null,null,null,null,null,null,null,null,null,null,null,null,null,0]
["SBSA_231","SBSA_231",null,null,null,null,null,null,null,null,null,null,null,null,null,null,null,null,null,null,null,null,null,null,null,null,null,null,null,null,null,null,null,0]
["SBSA_232","SBSA_232",null,null,null,null,null,null,null,null,null,null,null,null,null,null,null,null,null,null,null,null,null,null,null,null,null,null,null,null,null,null,null,0]
["SBSA_233","SBSA_233",null,null,null,null,null,null,null,null,null,null,null,null,null,null,null,null,null,null,null,null,null,null,null,null,null,null,null,null,null,null,null,0]
["SBSA_234","SBSA_234",null,null,null,null,null,null,null,null,null,null,null,null,null,null,null,null,null,null,null,null,null,null,null,null,null,null,null,null,null,null,null,0]
["SBSA_235","SBSA_235",null,null,null,null,null,null,null,null,null,null,null,null,null,null,null,null,null,null,null,null,null,null,null,null,null,null,null,null,null,null,null,0]
["SBSA_236","SBSA_236",null,null,null,null,null,null,null,null,null,null,null,null,null,null,null,null,null,null,null,null,null,null,null,null,null,null,null,null,null,null,null,0]
["SBSA_237","SBSA_237",null,null,null,null,null,null,null,null,null,null,null,null,null,null,null,null,null,null,null,null,null,null,null,null,null,null,null,null,null,null,null,0]
["SBSA_238","SBSA_238",null,null,null,null,null,null,null,null,null,null,null,null,null,null,null,null,null,null,null,null,null,null,null,null,null,null,null,null,null,null,null,0]
["SBSA_239","SBSA_239",null,null,null,null,null,null,null,null,null,null,null,null,null,null,null,null,null,null,null,null,null,null,null,null,null,null,null,null,null,null,null,0]
["SBSA_240","SBSA_240",null,null,null,null,null,null,null,null,null,null,null,null,null,null,null,null,null,null,null,null,null,null,null,null,null,null,null,null,null,null,null,0]
["SBSA_241","SBSA_241",null,null,null,null,null,null,null,null,null,null,null,null,null,null,null,null,null,null,null,null,null,null,null,null,null,null,null,null,null,null,null,0]
["SBSA_242","SBSA_242",null,null,null,null,null,null,null,null,null,null,null,null,null,null,null,null,null,null,null,null,null,null,null,null,null,null,null,null,null,null,null,0]
["SBSA_243","SBSA_243",null,null,null,null,null,null,null,null,null,null,null,null,null,null,null,null,null,null,null,null,null,null,null,null,null,null,null,null,null,null,null,0]
["SBSA_244","SBSA_244",null,null,null,null,null,null,null,null,null,null,null,null,null,null,null,null,null,null,null,null,null,null,null,null,null,null,null,null,null,null,null,0]
["SBSA_245","SBSA_245",null,null,null,null,null,null,null,null,null,null,null,null,null,null,null,null,null,null,null,null,null,null,null,null,null,null,null,null,null,null,null,0]
["SBSA_246","SBSA_246",null,null,null,null,null,null,null,null,null,null,null,null,null,null,null,null,null,null,null,null,null,null,null,null,null,null,null,null,null,null,null,0]
["SBSA_247","SBSA_247",null,null,null,null,null,null,null,null,null,null,null,null,null,null,null,null,null,null,null,null,null,null,null,null,null,null,null,null,null,null,null,0]
["SBSA_248","SBSA_248",null,null,null,null,null,null,null,null,null,null,null,null,null,null,null,null,null,null,null,null,null,null,null,null,null,null,null,null,null,null,null,0]
["SBSA_249","SBSA_249",null,null,null,null,null,null,null,null,null,null,null,null,null,null,null,null,null,null,null,null,null,null,null,null,null,null,null,null,null,null,null,0]
["SBSA_250","SBSA_250",null,null,null,null,null,null,null,null,null,null,null,null,null,null,null,null,null,null,null,null,null,null,null,null,null,null,null,null,null,null,null,0]
["SBSA_251","SBSA_251",null,null,null,null,null,null,null,null,null,null,null,null,null,null,null,null,null,null,null,null,null,null,null,null,null,null,null,null,null,null,null,0]
["SBSA_252","SBSA_252",null,null,null,null,null,null,null,null,null,null,null,null,null,null,null,null,null,null,null,null,null,null,null,null,null,null,null,null,null,null,null,0]
["SBSA_253","SBSA_253",null,null,null,null,null,null,null,null,null,null,null,null,null,null,null,null,null,null,null,null,null,null,null,null,null,null,null,null,null,null,null,0]
["SBSA_254","SBSA_254",null,null,null,null,null,null,null,null,null,null,null,null,null,null,null,null,null,null,null,null,null,null,null,null,null,null,null,null,null,null,null,0]
["SBSA_255","SBSA_255",null,null,null,null,null,null,null,null,null,null,null,null,null,null,null,null,null,null,null,null,null,null,null,null,null,null,null,null,null,null,null,0]
["SBSA_256","SBSA_256",null,null,null,null,null,null,null,null,null,null,null,null,null,null,null,null,null,null,null,null,null,null,null,null,null,null,null,null,null,null,null,0]
["SBSA_257","SBSA_257",null,null,null,null,null,null,null,null,null,null,null,null,null,null,null,null,null,null,null,null,null,null,null,null,null,null,null,null,null,null,null,{"$f":"IF(COUNTBLANK(C266:H266)<6,1,0)","v":0}]
["SBSA_258","SBSA_258",null,null,null,null,null,null,null,null,null,null,null,null,null,null,null,null,null,null,null,null,null,null,null,null,null,null,null,null,null,null,null,0]
["SBSA_259","SBSA_259",null,null,null,null,null,null,null,null,null,null,null,null,null,null,null,null,null,null,null,null,null,null,null,null,null,null,null,null,null,null,null,0]
["SBSA_260","SBSA_260",null,null,null,null,null,null,null,null,null,null,null,null,null,null,null,null,null,null,null,null,null,null,null,null,null,null,null,null,null,null,null,0]
["SBSA_261","SBSA_261",null,null,null,null,null,null,null,null,null,null,null,null,null,null,null,null,null,null,null,null,null,null,null,null,null,null,null,null,null,null,null,0]
["SBSA_262","SBSA_262",null,null,null,null,null,null,null,null,null,null,null,null,null,null,null,null,null,null,null,null,null,null,null,null,null,null,null,null,null,null,null,0]
["SBSA_263","SBSA_263",null,null,null,null,null,null,null,null,null,null,null,null,null,null,null,null,null,null,null,null,null,null,null,null,null,null,null,null,null,null,null,0]
["SBSA_264","SBSA_264",null,null,null,null,null,null,null,null,null,null,null,null,null,null,null,null,null,null,null,null,null,null,null,null,null,null,null,null,null,null,null,0]
["SBSA_265","SBSA_265",null,null,null,null,null,null,null,null,null,null,null,null,null,null,null,null,null,null,null,null,null,null,null,null,null,null,null,null,null,null,null,0]
["SBSA_266","SBSA_266",null,null,null,null,null,null,null,null,null,null,null,null,null,null,null,null,null,null,null,null,null,null,null,null,null,null,null,null,null,null,null,0]
["SBSA_267","SBSA_267",null,null,null,null,null,null,null,null,null,null,null,null,null,null,null,null,null,null,null,null,null,null,null,null,null,null,null,null,null,null,null,0]
["SBSA_268","SBSA_268",null,null,null,null,null,null,null,null,null,null,null,null,null,null,null,null,null,null,null,null,null,null,null,null,null,null,null,null,null,null,null,0]
["SBSA_269","SBSA_269",null,null,null,null,null,null,null,null,null,null,null,null,null,null,null,null,null,null,null,null,null,null,null,null,null,null,null,null,null,null,null,0]
["SBSA_270","SBSA_270",null,null,null,null,null,null,null,null,null,null,null,null,null,null,null,null,null,null,null,null,null,null,null,null,null,null,null,null,null,null,null,0]
["SBSA_271","SBSA_271",null,null,null,null,null,null,null,null,null,null,null,null,null,null,null,null,null,null,null,null,null,null,null,null,null,null,null,null,null,null,null,0]
["SBSA_272","SBSA_272",null,null,null,null,null,null,null,null,null,null,null,null,null,null,null,null,null,null,null,null,null,null,null,null,null,null,null,null,null,null,null,0]
["SBSA_273","SBSA_273",null,null,null,null,null,null,null,null,null,null,null,null,null,null,null,null,null,null,null,null,null,null,null,null,null,null,null,null,null,null,null,0]
["SBSA_274","SBSA_274",null,null,null,null,null,null,null,null,null,null,null,null,null,null,null,null,null,null,null,null,null,null,null,null,null,null,null,null,null,null,null,0]
["SBSA_275","SBSA_275",null,null,null,null,null,null,null,null,null,null,null,null,null,null,null,null,null,null,null,null,null,null,null,null,null,null,null,null,null,null,null,0]
["SBSA_276","SBSA_276",null,null,null,null,null,null,null,null,null,null,null,null,null,null,null,null,null,null,null,null,null,null,null,null,null,null,null,null,null,null,null,0]
["SBSA_277","SBSA_277",null,null,null,null,null,null,null,null,null,null,null,null,null,null,null,null,null,null,null,null,null,null,null,null,null,null,null,null,null,null,null,0]
["SBSA_278","SBSA_278",null,null,null,null,null,null,null,null,null,null,null,null,null,null,null,null,null,null,null,null,null,null,null,null,null,null,null,null,null,null,null,0]
["SBSA_279","SBSA_279",null,null,null,null,null,null,null,null,null,null,null,null,null,null,null,null,null,null,null,null,null,null,null,null,null,null,null,null,null,null,null,0]
["SBSA_280","SBSA_280",null,null,null,null,null,null,null,null,null,null,null,null,null,null,null,null,null,null,null,null,null,null,null,null,null,null,null,null,null,null,null,0]
["SBSA_281","SBSA_281",null,null,null,null,null,null,null,null,null,null,null,null,null,null,null,null,null,null,null,null,null,null,null,null,null,null,null,null,null,null,null,0]
["SBSA_282","SBSA_282",null,null,null,null,null,null,null,null,null,null,null,null,null,null,null,null,null,null,null,null,null,null,null,null,null,null,null,null,null,null,null,0]
["SBSA_283","SBSA_283",null,null,null,null,null,null,null,null,null,null,null,null,null,null,null,null,null,null,null,null,null,null,null,null,null,null,null,null,null,null,null,0]
["SBSA_284","SBSA_284",null,null,null,null,null,null,null,null,null,null,null,null,null,null,null,null,null,null,null,null,null,null,null,null,null,null,null,null,null,null,null,0]
["SBSA_285","SBSA_285",null,null,null,null,null,null,null,null,null,null,null,null,null,null,null,null,null,null,null,null,null,null,null,null,null,null,null,null,null,null,null,0]
["SBSA_286","SBSA_286",null,null,null,null,null,null,null,null,null,null,null,null,null,null,null,null,null,null,null,null,null,null,null,null,null,null,null,null,null,null,null,0]
["SBSA_287","SBSA_287",null,null,null,null,null,null,null,null,null,null,null,null,null,null,null,null,null,null,null,null,null,null,null,null,null,null,null,null,null,null,null,0]
["SBSA_288","SBSA_288",null,null,null,null,null,null,null,null,null,null,null,null,null,null,null,null,null,null,null,null,null,null,null,null,null,null,null,null,null,null,null,0]
["SBSA_289","SBSA_289",null,null,null,null,null,null,null,null,null,null,null,null,null,null,null,null,null,null,null,null,null,null,null,null,null,null,null,null,null,null,null,0]
["SBSA_290","SBSA_290",null,null,null,null,null,null,null,null,null,null,null,null,null,null,null,null,null,null,null,null,null,null,null,null,null,null,null,null,null,null,null,0]
["SBSA_291","SBSA_291",null,null,null,null,null,null,null,null,null,null,null,null,null,null,null,null,null,null,null,null,null,null,null,null,null,null,null,null,null,null,null,0]
["SBSA_292","SBSA_292",null,null,null,null,null,null,null,null,null,null,null,null,null,null,null,null,null,null,null,null,null,null,null,null,null,null,null,null,null,null,null,0]
["SBSA_293","SBSA_293",null,null,null,null,null,null,null,null,null,null,null,null,null,null,null,null,null,null,null,null,null,null,null,null,null,null,null,null,null,null,null,0]
["SBSA_294","SBSA_294",null,null,null,null,null,null,null,null,null,null,null,null,null,null,null,null,null,null,null,null,null,null,null,null,null,null,null,null,null,null,null,0]
["SBSA_295","SBSA_295",null,null,null,null,null,null,null,null,null,null,null,null,null,null,null,null,null,null,null,null,null,null,null,null,null,null,null,null,null,null,null,0]
["SBSA_296","SBSA_296",null,null,null,null,null,null,null,null,null,null,null,null,null,null,null,null,null,null,null,null,null,null,null,null,null,null,null,null,null,null,null,0]
["SBSA_297","SBSA_297",null,null,null,null,null,null,null,null,null,null,null,null,null,null,null,null,null,null,null,null,null,null,null,null,null,null,null,null,null,null,null,0]
["SBSA_298","SBSA_298",null,null,null,null,null,null,null,null,null,null,null,null,null,null,null,null,null,null,null,null,null,null,null,null,null,null,null,null,null,null,null,0]
["SBSA_299","SBSA_299",null,null,null,null,null,null,null,null,null,null,null,null,null,null,null,null,null,null,null,null,null,null,null,null,null,null,null,null,null,null,null,0]
["SBSA_300","SBSA_300",null,null,null,null,null,null,null,null,null,null,null,null,null,null,null,null,null,null,null,null,null,null,null,null,null,null,null,null,null,null,null,0]
["SBSA_301","SBSA_301",null,null,null,null,null,null,null,null,null,null,null,null,null,null,null,null,null,null,null,null,null,null,null,null,null,null,null,null,null,null,null,0]
["SBSA_302","SBSA_302",null,null,null,null,null,null,null,null,null,null,null,null,null,null,null,null,null,null,null,null,null,null,null,null,null,null,null,null,null,null,null,0]
["SBSA_303","SBSA_303",null,null,null,null,null,null,null,null,null,null,null,null,null,null,null,null,null,null,null,null,null,null,null,null,null,null,null,null,null,null,null,0]
["SBSA_304","SBSA_304",null,null,null,null,null,null,null,null,null,null,null,null,null,null,null,null,null,null,null,null,null,null,null,null,null,null,null,null,null,null,null,0]
["SBSA_305","SBSA_305",null,null,null,null,null,null,null,null,null,null,null,null,null,null,null,null,null,null,null,null,null,null,null,null,null,null,null,null,null,null,null,0]
["SBSA_306","SBSA_306",null,null,null,null,null,null,null,null,null,null,null,null,null,null,null,null,null,null,null,null,null,null,null,null,null,null,null,null,null,null,null,0]
["SBSA_307","SBSA_307",null,null,null,null,null,null,null,null,null,null,null,null,null,null,null,null,null,null,null,null,null,null,null,null,null,null,null,null,null,null,null,0]
["SBSA_308","SBSA_308",null,null,null,null,null,null,null,null,null,null,null,null,null,null,null,null,null,null,null,null,null,null,null,null,null,null,null,null,null,null,null,0]
["SBSA_309","SBSA_309",null,null,null,null,null,null,null,null,null,null,null,null,null,null,null,null,null,null,null,null,null,null,null,null,null,null,null,null,null,null,null,0]
["SBSA_310","SBSA_310",null,null,null,null,null,null,null,null,null,null,null,null,null,null,null,null,null,null,null,null,null,null,null,null,null,null,null,null,null,null,null,0]
["SBSA_311","SBSA_311",null,null,null,null,null,null,null,null,null,null,null,null,null,null,null,null,null,null,null,null,null,null,null,null,null,null,null,null,null,null,null,0]
["SBSA_312","SBSA_312",null,null,null,null,null,null,null,null,null,null,null,null,null,null,null,null,null,null,null,null,null,null,null,null,null,null,null,null,null,null,null,0]
["SBSA_313","SBSA_313",null,null,null,null,null,null,null,null,null,null,null,null,null,null,null,null,null,null,null,null,null,null,null,null,null,null,null,null,null,null,null,0]
["SBSA_314","SBSA_314",null,null,null,null,null,null,null,null,null,null,null,null,null,null,null,null,null,null,null,null,null,null,null,null,null,null,null,null,null,null,null,0]
["SBSA_315","SBSA_315",null,null,null,null,null,null,null,null,null,null,null,null,null,null,null,null,null,null,null,null,null,null,null,null,null,null,null,null,null,null,null,0]
["SBSA_316","SBSA_316",null,null,null,null,null,null,null,null,null,null,null,null,null,null,null,null,null,null,null,null,null,null,null,null,null,null,null,null,null,null,null,0]
["SBSA_317","SBSA_317",null,null,null,null,null,null,null,null,null,null,null,null,null,null,null,null,null,null,null,null,null,null,null,null,null,null,null,null,null,null,null,0]
["SBSA_318","SBSA_318",null,null,null,null,null,null,null,null,null,null,null,null,null,null,null,null,null,null,null,null,null,null,null,null,null,null,null,null,null,null,null,0]
["SBSA_319","SBSA_319",null,null,null,null,null,null,null,null,null,null,null,null,null,null,null,null,null,null,null,null,null,null,null,null,null,null,null,null,null,null,null,0]
["SBSA_320","SBSA_320",null,null,null,null,null,null,null,null,null,null,null,null,null,null,null,null,null,null,null,null,null,null,null,null,null,null,null,null,null,null,null,0]
["SBSA_321","SBSA_321",null,null,null,null,null,null,null,null,null,null,null,null,null,null,null,null,null,null,null,null,null,null,null,null,null,null,null,null,null,null,null,{"$f":"IF(COUNTBLANK(C330:H330)<6,1,0)","v":0}]
["SBSA_322","SBSA_322",null,null,null,null,null,null,null,null,null,null,null,null,null,null,null,null,null,null,null,null,null,null,null,null,null,null,null,null,null,null,null,0]
["SBSA_323","SBSA_323",null,null,null,null,null,null,null,null,null,null,null,null,null,null,null,null,null,null,null,null,null,null,null,null,null,null,null,null,null,null,null,0]
["SBSA_324","SBSA_324",null,null,null,null,null,null,null,null,null,null,null,null,null,null,null,null,null,null,null,null,null,null,null,null,null,null,null,null,null,null,null,0]
["SBSA_325","SBSA_325",null,null,null,null,null,null,null,null,null,null,null,null,null,null,null,null,null,null,null,null,null,null,null,null,null,null,null,null,null,null,null,0]
["SBSA_326","SBSA_326",null,null,null,null,null,null,null,null,null,null,null,null,null,null,null,null,null,null,null,null,null,null,null,null,null,null,null,null,null,null,null,0]
["SBSA_327","SBSA_327",null,null,null,null,null,null,null,null,null,null,null,null,null,null,null,null,null,null,null,null,null,null,null,null,null,null,null,null,null,null,null,0]
["SBSA_328","SBSA_328",null,null,null,null,null,null,null,null,null,null,null,null,null,null,null,null,null,null,null,null,null,null,null,null,null,null,null,null,null,null,null,0]
["SBSA_329","SBSA_329",null,null,null,null,null,null,null,null,null,null,null,null,null,null,null,null,null,null,null,null,null,null,null,null,null,null,null,null,null,null,null,0]
["SBSA_330","SBSA_330",null,null,null,null,null,null,null,null,null,null,null,null,null,null,null,null,null,null,null,null,null,null,null,null,null,null,null,null,null,null,null,0]
["SBSA_331","SBSA_331",null,null,null,null,null,null,null,null,null,null,null,null,null,null,null,null,null,null,null,null,null,null,null,null,null,null,null,null,null,null,null,0]
["SBSA_332","SBSA_332",null,null,null,null,null,null,null,null,null,null,null,null,null,null,null,null,null,null,null,null,null,null,null,null,null,null,null,null,null,null,null,0]
["SBSA_333","SBSA_333",null,null,null,null,null,null,null,null,null,null,null,null,null,null,null,null,null,null,null,null,null,null,null,null,null,null,null,null,null,null,null,0]
["SBSA_334","SBSA_334",null,null,null,null,null,null,null,null,null,null,null,null,null,null,null,null,null,null,null,null,null,null,null,null,null,null,null,null,null,null,null,0]
["SBSA_335","SBSA_335",null,null,null,null,null,null,null,null,null,null,null,null,null,null,null,null,null,null,null,null,null,null,null,null,null,null,null,null,null,null,null,0]
["SBSA_336","SBSA_336",null,null,null,null,null,null,null,null,null,null,null,null,null,null,null,null,null,null,null,null,null,null,null,null,null,null,null,null,null,null,null,0]
["SBSA_337","SBSA_337",null,null,null,null,null,null,null,null,null,null,null,null,null,null,null,null,null,null,null,null,null,null,null,null,null,null,null,null,null,null,null,0]
["SBSA_338","SBSA_338",null,null,null,null,null,null,null,null,null,null,null,null,null,null,null,null,null,null,null,null,null,null,null,null,null,null,null,null,null,null,null,0]
["SBSA_339","SBSA_339",null,null,null,null,null,null,null,null,null,null,null,null,null,null,null,null,null,null,null,null,null,null,null,null,null,null,null,null,null,null,null,0]
["SBSA_340","SBSA_340",null,null,null,null,null,null,null,null,null,null,null,null,null,null,null,null,null,null,null,null,null,null,null,null,null,null,null,null,null,null,null,0]
["SBSA_341","SBSA_341",null,null,null,null,null,null,null,null,null,null,null,null,null,null,null,null,null,null,null,null,null,null,null,null,null,null,null,null,null,null,null,0]
["SBSA_342","SBSA_342",null,null,null,null,null,null,null,null,null,null,null,null,null,null,null,null,null,null,null,null,null,null,null,null,null,null,null,null,null,null,null,0]
["SBSA_343","SBSA_343",null,null,null,null,null,null,null,null,null,null,null,null,null,null,null,null,null,null,null,null,null,null,null,null,null,null,null,null,null,null,null,0]
["SBSA_344","SBSA_344",null,null,null,null,null,null,null,null,null,null,null,null,null,null,null,null,null,null,null,null,null,null,null,null,null,null,null,null,null,null,null,0]
["SBSA_345","SBSA_345",null,null,null,null,null,null,null,null,null,null,null,null,null,null,null,null,null,null,null,null,null,null,null,null,null,null,null,null,null,null,null,0]
["SBSA_346","SBSA_346",null,null,null,null,null,null,null,null,null,null,null,null,null,null,null,null,null,null,null,null,null,null,null,null,null,null,null,null,null,null,null,0]
["SBSA_347","SBSA_347",null,null,null,null,null,null,null,null,null,null,null,null,null,null,null,null,null,null,null,null,null,null,null,null,null,null,null,null,null,null,null,0]
["SBSA_348","SBSA_348",null,null,null,null,null,null,null,null,null,null,null,null,null,null,null,null,null,null,null,null,null,null,null,null,null,null,null,null,null,null,null,0]
["SBSA_349","SBSA_349",null,null,null,null,null,null,null,null,null,null,null,null,null,null,null,null,null,null,null,null,null,null,null,null,null,null,null,null,null,null,null,0]
["SBSA_350","SBSA_350",null,null,null,null,null,null,null,null,null,null,null,null,null,null,null,null,null,null,null,null,null,null,null,null,null,null,null,null,null,null,null,0]
["SBSA_351","SBSA_351",null,null,null,null,null,null,null,null,null,null,null,null,null,null,null,null,null,null,null,null,null,null,null,null,null,null,null,null,null,null,null,0]
["SBSA_352","SBSA_352",null,null,null,null,null,null,null,null,null,null,null,null,null,null,null,null,null,null,null,null,null,null,null,null,null,null,null,null,null,null,null,0]
["SBSA_353","SBSA_353",null,null,null,null,null,null,null,null,null,null,null,null,null,null,null,null,null,null,null,null,null,null,null,null,null,null,null,null,null,null,null,0]
["SBSA_354","SBSA_354",null,null,null,null,null,null,null,null,null,null,null,null,null,null,null,null,null,null,null,null,null,null,null,null,null,null,null,null,null,null,null,0]
["SBSA_355","SBSA_355",null,null,null,null,null,null,null,null,null,null,null,null,null,null,null,null,null,null,null,null,null,null,null,null,null,null,null,null,null,null,null,0]
["SBSA_356","SBSA_356",null,null,null,null,null,null,null,null,null,null,null,null,null,null,null,null,null,null,null,null,null,null,null,null,null,null,null,null,null,null,null,0]
["SBSA_357","SBSA_357",null,null,null,null,null,null,null,null,null,null,null,null,null,null,null,null,null,null,null,null,null,null,null,null,null,null,null,null,null,null,null,0]
["SBSA_358","SBSA_358",null,null,null,null,null,null,null,null,null,null,null,null,null,null,null,null,null,null,null,null,null,null,null,null,null,null,null,null,null,null,null,0]
["SBSA_359","SBSA_359",null,null,null,null,null,null,null,null,null,null,null,null,null,null,null,null,null,null,null,null,null,null,null,null,null,null,null,null,null,null,null,0]
["SBSA_360","SBSA_360",null,null,null,null,null,null,null,null,null,null,null,null,null,null,null,null,null,null,null,null,null,null,null,null,null,null,null,null,null,null,null,0]
["SBSA_361","SBSA_361",null,null,null,null,null,null,null,null,null,null,null,null,null,null,null,null,null,null,null,null,null,null,null,null,null,null,null,null,null,null,null,0]
["SBSA_362","SBSA_362",null,null,null,null,null,null,null,null,null,null,null,null,null,null,null,null,null,null,null,null,null,null,null,null,null,null,null,null,null,null,null,0]
["SBSA_363","SBSA_363",null,null,null,null,null,null,null,null,null,null,null,null,null,null,null,null,null,null,null,null,null,null,null,null,null,null,null,null,null,null,null,0]
["SBSA_364","SBSA_364",null,null,null,null,null,null,null,null,null,null,null,null,null,null,null,null,null,null,null,null,null,null,null,null,null,null,null,null,null,null,null,0]
["SBSA_365","SBSA_365",null,null,null,null,null,null,null,null,null,null,null,null,null,null,null,null,null,null,null,null,null,null,null,null,null,null,null,null,null,null,null,0]
["SBSA_366","SBSA_366",null,null,null,null,null,null,null,null,null,null,null,null,null,null,null,null,null,null,null,null,null,null,null,null,null,null,null,null,null,null,null,0]
["SBSA_367","SBSA_367",null,null,null,null,null,null,null,null,null,null,null,null,null,null,null,null,null,null,null,null,null,null,null,null,null,null,null,null,null,null,null,0]
["SBSA_368","SBSA_368",null,null,null,null,null,null,null,null,null,null,null,null,null,null,null,null,null,null,null,null,null,null,null,null,null,null,null,null,null,null,null,0]
["SBSA_369","SBSA_369",null,null,null,null,null,null,null,null,null,null,null,null,null,null,null,null,null,null,null,null,null,null,null,null,null,null,null,null,null,null,null,0]
["SBSA_370","SBSA_370",null,null,null,null,null,null,null,null,null,null,null,null,null,null,null,null,null,null,null,null,null,null,null,null,null,null,null,null,null,null,null,0]
["SBSA_371","SBSA_371",null,null,null,null,null,null,null,null,null,null,null,null,null,null,null,null,null,null,null,null,null,null,null,null,null,null,null,null,null,null,null,0]
["SBSA_372","SBSA_372",null,null,null,null,null,null,null,null,null,null,null,null,null,null,null,null,null,null,null,null,null,null,null,null,null,null,null,null,null,null,null,0]
["SBSA_373","SBSA_373",null,null,null,null,null,null,null,null,null,null,null,null,null,null,null,null,null,null,null,null,null,null,null,null,null,null,null,null,null,null,null,0]
["SBSA_374","SBSA_374",null,null,null,null,null,null,null,null,null,null,null,null,null,null,null,null,null,null,null,null,null,null,null,null,null,null,null,null,null,null,null,0]
["SBSA_375","SBSA_375",null,null,null,null,null,null,null,null,null,null,null,null,null,null,null,null,null,null,null,null,null,null,null,null,null,null,null,null,null,null,null,0]
["SBSA_376","SBSA_376",null,null,null,null,null,null,null,null,null,null,null,null,null,null,null,null,null,null,null,null,null,null,null,null,null,null,null,null,null,null,null,0]
["SBSA_377","SBSA_377",null,null,null,null,null,null,null,null,null,null,null,null,null,null,null,null,null,null,null,null,null,null,null,null,null,null,null,null,null,null,null,0]
["SBSA_378","SBSA_378",null,null,null,null,null,null,null,null,null,null,null,null,null,null,null,null,null,null,null,null,null,null,null,null,null,null,null,null,null,null,null,0]
["SBSA_379","SBSA_379",null,null,null,null,null,null,null,null,null,null,null,null,null,null,null,null,null,null,null,null,null,null,null,null,null,null,null,null,null,null,null,0]
["SBSA_380","SBSA_380",null,null,null,null,null,null,null,null,null,null,null,null,null,null,null,null,null,null,null,null,null,null,null,null,null,null,null,null,null,null,null,0]
["SBSA_381","SBSA_381",null,null,null,null,null,null,null,null,null,null,null,null,null,null,null,null,null,null,null,null,null,null,null,null,null,null,null,null,null,null,null,0]
["SBSA_382","SBSA_382",null,null,null,null,null,null,null,null,null,null,null,null,null,null,null,null,null,null,null,null,null,null,null,null,null,null,null,null,null,null,null,0]
["SBSA_383","SBSA_383",null,null,null,null,null,null,null,null,null,null,null,null,null,null,null,null,null,null,null,null,null,null,null,null,null,null,null,null,null,null,null,0]
["SBSA_384","SBSA_384",null,null,null,null,null,null,null,null,null,null,null,null,null,null,null,null,null,null,null,null,null,null,null,null,null,null,null,null,null,null,null,0]
["SBSA_385","SBSA_385",null,null,null,null,null,null,null,null,null,null,null,null,null,null,null,null,null,null,null,null,null,null,null,null,null,null,null,null,null,null,null,{"$f":"IF(COUNTBLANK(C394:H394)<6,1,0)","v":0}]
["SBSA_386","SBSA_386",null,null,null,null,null,null,null,null,null,null,null,null,null,null,null,null,null,null,null,null,null,null,null,null,null,null,null,null,null,null,null,0]
["SBSA_387","SBSA_387",null,null,null,null,null,null,null,null,null,null,null,null,null,null,null,null,null,null,null,null,null,null,null,null,null,null,null,null,null,null,null,0]
["SBSA_388","SBSA_388",null,null,null,null,null,null,null,null,null,null,null,null,null,null,null,null,null,null,null,null,null,null,null,null,null,null,null,null,null,null,null,0]
["SBSA_389","SBSA_389",null,null,null,null,null,null,null,null,null,null,null,null,null,null,null,null,null,null,null,null,null,null,null,null,null,null,null,null,null,null,null,0]
["SBSA_390","SBSA_390",null,null,null,null,null,null,null,null,null,null,null,null,null,null,null,null,null,null,null,null,null,null,null,null,null,null,null,null,null,null,null,0]
["SBSA_391","SBSA_391",null,null,null,null,null,null,null,null,null,null,null,null,null,null,null,null,null,null,null,null,null,null,null,null,null,null,null,null,null,null,null,0]
["SBSA_392","SBSA_392",null,null,null,null,null,null,null,null,null,null,null,null,null,null,null,null,null,null,null,null,null,null,null,null,null,null,null,null,null,null,null,0]
["SBSA_393","SBSA_393",null,null,null,null,null,null,null,null,null,null,null,null,null,null,null,null,null,null,null,null,null,null,null,null,null,null,null,null,null,null,null,0]
["SBSA_394","SBSA_394",null,null,null,null,null,null,null,null,null,null,null,null,null,null,null,null,null,null,null,null,null,null,null,null,null,null,null,null,null,null,null,0]
["SBSA_395","SBSA_395",null,null,null,null,null,null,null,null,null,null,null,null,null,null,null,null,null,null,null,null,null,null,null,null,null,null,null,null,null,null,null,0]
["SBSA_396","SBSA_396",null,null,null,null,null,null,null,null,null,null,null,null,null,null,null,null,null,null,null,null,null,null,null,null,null,null,null,null,null,null,null,0]
["SBSA_397","SBSA_397",null,null,null,null,null,null,null,null,null,null,null,null,null,null,null,null,null,null,null,null,null,null,null,null,null,null,null,null,null,null,null,0]
["SBSA_398","SBSA_398",null,null,null,null,null,null,null,null,null,null,null,null,null,null,null,null,null,null,null,null,null,null,null,null,null,null,null,null,null,null,null,0]
["SBSA_399","SBSA_399",null,null,null,null,null,null,null,null,null,null,null,null,null,null,null,null,null,null,null,null,null,null,null,null,null,null,null,null,null,null,null,0]
["SBSA_400","SBSA_400",null,null,null,null,null,null,null,null,null,null,null,null,null,null,null,null,null,null,null,null,null,null,null,null,null,null,null,null,null,null,null,0]
["SBSA_401","SBSA_401",null,null,null,null,null,null,null,null,null,null,null,null,null,null,null,null,null,null,null,null,null,null,null,null,null,null,null,null,null,null,null,0]
["SBSA_402","SBSA_402",null,null,null,null,null,null,null,null,null,null,null,null,null,null,null,null,null,null,null,null,null,null,null,null,null,null,null,null,null,null,null,0]
["SBSA_403","SBSA_403",null,null,null,null,null,null,null,null,null,null,null,null,null,null,null,null,null,null,null,null,null,null,null,null,null,null,null,null,null,null,null,0]
["SBSA_404","SBSA_404",null,null,null,null,null,null,null,null,null,null,null,null,null,null,null,null,null,null,null,null,null,null,null,null,null,null,null,null,null,null,null,0]
["SBSA_405","SBSA_405",null,null,null,null,null,null,null,null,null,null,null,null,null,null,null,null,null,null,null,null,null,null,null,null,null,null,null,null,null,null,null,0]
["SBSA_406","SBSA_406",null,null,null,null,null,null,null,null,null,null,null,null,null,null,null,null,null,null,null,null,null,null,null,null,null,null,null,null,null,null,null,0]
["SBSA_407","SBSA_407",null,null,null,null,null,null,null,null,null,null,null,null,null,null,null,null,null,null,null,null,null,null,null,null,null,null,null,null,null,null,null,0]
["SBSA_408","SBSA_408",null,null,null,null,null,null,null,null,null,null,null,null,null,null,null,null,null,null,null,null,null,null,null,null,null,null,null,null,null,null,null,0]
["SBSA_409","SBSA_409",null,null,null,null,null,null,null,null,null,null,null,null,null,null,null,null,null,null,null,null,null,null,null,null,null,null,null,null,null,null,null,0]
["SBSA_410","SBSA_410",null,null,null,null,null,null,null,null,null,null,null,null,null,null,null,null,null,null,null,null,null,null,null,null,null,null,null,null,null,null,null,0]
["SBSA_411","SBSA_411",null,null,null,null,null,null,null,null,null,null,null,null,null,null,null,null,null,null,null,null,null,null,null,null,null,null,null,null,null,null,null,0]
["SBSA_412","SBSA_412",null,null,null,null,null,null,null,null,null,null,null,null,null,null,null,null,null,null,null,null,null,null,null,null,null,null,null,null,null,null,null,0]
["SBSA_413","SBSA_413",null,null,null,null,null,null,null,null,null,null,null,null,null,null,null,null,null,null,null,null,null,null,null,null,null,null,null,null,null,null,null,0]
["SBSA_414","SBSA_414",null,null,null,null,null,null,null,null,null,null,null,null,null,null,null,null,null,null,null,null,null,null,null,null,null,null,null,null,null,null,null,0]
["SBSA_415","SBSA_415",null,null,null,null,null,null,null,null,null,null,null,null,null,null,null,null,null,null,null,null,null,null,null,null,null,null,null,null,null,null,null,0]
["SBSA_416","SBSA_416",null,null,null,null,null,null,null,null,null,null,null,null,null,null,null,null,null,null,null,null,null,null,null,null,null,null,null,null,null,null,null,0]
["SBSA_417","SBSA_417",null,null,null,null,null,null,null,null,null,null,null,null,null,null,null,null,null,null,null,null,null,null,null,null,null,null,null,null,null,null,null,0]
["SBSA_418","SBSA_418",null,null,null,null,null,null,null,null,null,null,null,null,null,null,null,null,null,null,null,null,null,null,null,null,null,null,null,null,null,null,null,0]
["SBSA_419","SBSA_419",null,null,null,null,null,null,null,null,null,null,null,null,null,null,null,null,null,null,null,null,null,null,null,null,null,null,null,null,null,null,null,0]
["SBSA_420","SBSA_420",null,null,null,null,null,null,null,null,null,null,null,null,null,null,null,null,null,null,null,null,null,null,null,null,null,null,null,null,null,null,null,0]
["SBSA_421","SBSA_421",null,null,null,null,null,null,null,null,null,null,null,null,null,null,null,null,null,null,null,null,null,null,null,null,null,null,null,null,null,null,null,0]
["SBSA_422","SBSA_422",null,null,null,null,null,null,null,null,null,null,null,null,null,null,null,null,null,null,null,null,null,null,null,null,null,null,null,null,null,null,null,0]
["SBSA_423","SBSA_423",null,null,null,null,null,null,null,null,null,null,null,null,null,null,null,null,null,null,null,null,null,null,null,null,null,null,null,null,null,null,null,0]
["SBSA_424","SBSA_424",null,null,null,null,null,null,null,null,null,null,null,null,null,null,null,null,null,null,null,null,null,null,null,null,null,null,null,null,null,null,null,0]
["SBSA_425","SBSA_425",null,null,null,null,null,null,null,null,null,null,null,null,null,null,null,null,null,null,null,null,null,null,null,null,null,null,null,null,null,null,null,0]
["SBSA_426","SBSA_426",null,null,null,null,null,null,null,null,null,null,null,null,null,null,null,null,null,null,null,null,null,null,null,null,null,null,null,null,null,null,null,0]
["SBSA_427","SBSA_427",null,null,null,null,null,null,null,null,null,null,null,null,null,null,null,null,null,null,null,null,null,null,null,null,null,null,null,null,null,null,null,0]
["SBSA_428","SBSA_428",null,null,null,null,null,null,null,null,null,null,null,null,null,null,null,null,null,null,null,null,null,null,null,null,null,null,null,null,null,null,null,0]
["SBSA_429","SBSA_429",null,null,null,null,null,null,null,null,null,null,null,null,null,null,null,null,null,null,null,null,null,null,null,null,null,null,null,null,null,null,null,0]
["SBSA_430","SBSA_430",null,null,null,null,null,null,null,null,null,null,null,null,null,null,null,null,null,null,null,null,null,null,null,null,null,null,null,null,null,null,null,0]
["SBSA_431","SBSA_431",null,null,null,null,null,null,null,null,null,null,null,null,null,null,null,null,null,null,null,null,null,null,null,null,null,null,null,null,null,null,null,0]
["SBSA_432","SBSA_432",null,null,null,null,null,null,null,null,null,null,null,null,null,null,null,null,null,null,null,null,null,null,null,null,null,null,null,null,null,null,null,0]
["SBSA_433","SBSA_433",null,null,null,null,null,null,null,null,null,null,null,null,null,null,null,null,null,null,null,null,null,null,null,null,null,null,null,null,null,null,null,0]
["SBSA_434","SBSA_434",null,null,null,null,null,null,null,null,null,null,null,null,null,null,null,null,null,null,null,null,null,null,null,null,null,null,null,null,null,null,null,0]
["SBSA_435","SBSA_435",null,null,null,null,null,null,null,null,null,null,null,null,null,null,null,null,null,null,null,null,null,null,null,null,null,null,null,null,null,null,null,0]
["SBSA_436","SBSA_436",null,null,null,null,null,null,null,null,null,null,null,null,null,null,null,null,null,null,null,null,null,null,null,null,null,null,null,null,null,null,null,0]
["SBSA_437","SBSA_437",null,null,null,null,null,null,null,null,null,null,null,null,null,null,null,null,null,null,null,null,null,null,null,null,null,null,null,null,null,null,null,0]
["SBSA_438","SBSA_438",null,null,null,null,null,null,null,null,null,null,null,null,null,null,null,null,null,null,null,null,null,null,null,null,null,null,null,null,null,null,null,0]
["SBSA_439","SBSA_439",null,null,null,null,null,null,null,null,null,null,null,null,null,null,null,null,null,null,null,null,null,null,null,null,null,null,null,null,null,null,null,0]
["SBSA_440","SBSA_440",null,null,null,null,null,null,null,null,null,null,null,null,null,null,null,null,null,null,null,null,null,null,null,null,null,null,null,null,null,null,null,0]
["SBSA_441","SBSA_441",null,null,null,null,null,null,null,null,null,null,null,null,null,null,null,null,null,null,null,null,null,null,null,null,null,null,null,null,null,null,null,0]
["SBSA_442","SBSA_442",null,null,null,null,null,null,null,null,null,null,null,null,null,null,null,null,null,null,null,null,null,null,null,null,null,null,null,null,null,null,null,0]
["SBSA_443","SBSA_443",null,null,null,null,null,null,null,null,null,null,null,null,null,null,null,null,null,null,null,null,null,null,null,null,null,null,null,null,null,null,null,0]
["SBSA_444","SBSA_444",null,null,null,null,null,null,null,null,null,null,null,null,null,null,null,null,null,null,null,null,null,null,null,null,null,null,null,null,null,null,null,0]
["SBSA_445","SBSA_445",null,null,null,null,null,null,null,null,null,null,null,null,null,null,null,null,null,null,null,null,null,null,null,null,null,null,null,null,null,null,null,0]
["SBSA_446","SBSA_446",null,null,null,null,null,null,null,null,null,null,null,null,null,null,null,null,null,null,null,null,null,null,null,null,null,null,null,null,null,null,null,0]
["SBSA_447","SBSA_447",null,null,null,null,null,null,null,null,null,null,null,null,null,null,null,null,null,null,null,null,null,null,null,null,null,null,null,null,null,null,null,0]
["SBSA_448","SBSA_448",null,null,null,null,null,null,null,null,null,null,null,null,null,null,null,null,null,null,null,null,null,null,null,null,null,null,null,null,null,null,null,0]
["SBSA_449","SBSA_449",null,null,null,null,null,null,null,null,null,null,null,null,null,null,null,null,null,null,null,null,null,null,null,null,null,null,null,null,null,null,null,{"$f":"IF(COUNTBLANK(C458:H458)<6,1,0)","v":0}]
["SBSA_450","SBSA_450",null,null,null,null,null,null,null,null,null,null,null,null,null,null,null,null,null,null,null,null,null,null,null,null,null,null,null,null,null,null,null,0]
["SBSA_451","SBSA_451",null,null,null,null,null,null,null,null,null,null,null,null,null,null,null,null,null,null,null,null,null,null,null,null,null,null,null,null,null,null,null,0]
["SBSA_452","SBSA_452",null,null,null,null,null,null,null,null,null,null,null,null,null,null,null,null,null,null,null,null,null,null,null,null,null,null,null,null,null,null,null,0]
["SBSA_453","SBSA_453",null,null,null,null,null,null,null,null,null,null,null,null,null,null,null,null,null,null,null,null,null,null,null,null,null,null,null,null,null,null,null,0]
["SBSA_454","SBSA_454",null,null,null,null,null,null,null,null,null,null,null,null,null,null,null,null,null,null,null,null,null,null,null,null,null,null,null,null,null,null,null,0]
["SBSA_455","SBSA_455",null,null,null,null,null,null,null,null,null,null,null,null,null,null,null,null,null,null,null,null,null,null,null,null,null,null,null,null,null,null,null,0]
["SBSA_456","SBSA_456",null,null,null,null,null,null,null,null,null,null,null,null,null,null,null,null,null,null,null,null,null,null,null,null,null,null,null,null,null,null,null,0]
["SBSA_457","SBSA_457",null,null,null,null,null,null,null,null,null,null,null,null,null,null,null,null,null,null,null,null,null,null,null,null,null,null,null,null,null,null,null,0]
["SBSA_458","SBSA_458",null,null,null,null,null,null,null,null,null,null,null,null,null,null,null,null,null,null,null,null,null,null,null,null,null,null,null,null,null,null,null,0]
["SBSA_459","SBSA_459",null,null,null,null,null,null,null,null,null,null,null,null,null,null,null,null,null,null,null,null,null,null,null,null,null,null,null,null,null,null,null,0]
["SBSA_460","SBSA_460",null,null,null,null,null,null,null,null,null,null,null,null,null,null,null,null,null,null,null,null,null,null,null,null,null,null,null,null,null,null,null,0]
["SBSA_461","SBSA_461",null,null,null,null,null,null,null,null,null,null,null,null,null,null,null,null,null,null,null,null,null,null,null,null,null,null,null,null,null,null,null,0]
["SBSA_462","SBSA_462",null,null,null,null,null,null,null,null,null,null,null,null,null,null,null,null,null,null,null,null,null,null,null,null,null,null,null,null,null,null,null,0]
["SBSA_463","SBSA_463",null,null,null,null,null,null,null,null,null,null,null,null,null,null,null,null,null,null,null,null,null,null,null,null,null,null,null,null,null,null,null,0]
["SBSA_464","SBSA_464",null,null,null,null,null,null,null,null,null,null,null,null,null,null,null,null,null,null,null,null,null,null,null,null,null,null,null,null,null,null,null,0]
["SBSA_465","SBSA_465",null,null,null,null,null,null,null,null,null,null,null,null,null,null,null,null,null,null,null,null,null,null,null,null,null,null,null,null,null,null,null,0]
["SBSA_466","SBSA_466",null,null,null,null,null,null,null,null,null,null,null,null,null,null,null,null,null,null,null,null,null,null,null,null,null,null,null,null,null,null,null,0]
["SBSA_467","SBSA_467",null,null,null,null,null,null,null,null,null,null,null,null,null,null,null,null,null,null,null,null,null,null,null,null,null,null,null,null,null,null,null,0]
["SBSA_468","SBSA_468",null,null,null,null,null,null,null,null,null,null,null,null,null,null,null,null,null,null,null,null,null,null,null,null,null,null,null,null,null,null,null,0]
["SBSA_469","SBSA_469",null,null,null,null,null,null,null,null,null,null,null,null,null,null,null,null,null,null,null,null,null,null,null,null,null,null,null,null,null,null,null,0]
["SBSA_470","SBSA_470",null,null,null,null,null,null,null,null,null,null,null,null,null,null,null,null,null,null,null,null,null,null,null,null,null,null,null,null,null,null,null,0]
["SBSA_471","SBSA_471",null,null,null,null,null,null,null,null,null,null,null,null,null,null,null,null,null,null,null,null,null,null,null,null,null,null,null,null,null,null,null,0]
["SBSA_472","SBSA_472",null,null,null,null,null,null,null,null,null,null,null,null,null,null,null,null,null,null,null,null,null,null,null,null,null,null,null,null,null,null,null,0]
["SBSA_473","SBSA_473",null,null,null,null,null,null,null,null,null,null,null,null,null,null,null,null,null,null,null,null,null,null,null,null,null,null,null,null,null,null,null,0]
["SBSA_474","SBSA_474",null,null,null,null,null,null,null,null,null,null,null,null,null,null,null,null,null,null,null,null,null,null,null,null,null,null,null,null,null,null,null,0]
["SBSA_475","SBSA_475",null,null,null,null,null,null,null,null,null,null,null,null,null,null,null,null,null,null,null,null,null,null,null,null,null,null,null,null,null,null,null,0]
["SBSA_476","SBSA_476",null,null,null,null,null,null,null,null,null,null,null,null,null,null,null,null,null,null,null,null,null,null,null,null,null,null,null,null,null,null,null,0]
["SBSA_477","SBSA_477",null,null,null,null,null,null,null,null,null,null,null,null,null,null,null,null,null,null,null,null,null,null,null,null,null,null,null,null,null,null,null,0]
["SBSA_478","SBSA_478",null,null,null,null,null,null,null,null,null,null,null,null,null,null,null,null,null,null,null,null,null,null,null,null,null,null,null,null,null,null,null,0]
["SBSA_479","SBSA_479",null,null,null,null,null,null,null,null,null,null,null,null,null,null,null,null,null,null,null,null,null,null,null,null,null,null,null,null,null,null,null,0]
["SBSA_480","SBSA_480",null,null,null,null,null,null,null,null,null,null,null,null,null,null,null,null,null,null,null,null,null,null,null,null,null,null,null,null,null,null,null,0]
["SBSA_481","SBSA_481",null,null,null,null,null,null,null,null,null,null,null,null,null,null,null,null,null,null,null,null,null,null,null,null,null,null,null,null,null,null,null,0]
["SBSA_482","SBSA_482",null,null,null,null,null,null,null,null,null,null,null,null,null,null,null,null,null,null,null,null,null,null,null,null,null,null,null,null,null,null,null,0]
["SBSA_483","SBSA_483",null,null,null,null,null,null,null,null,null,null,null,null,null,null,null,null,null,null,null,null,null,null,null,null,null,null,null,null,null,null,null,0]
["SBSA_484","SBSA_484",null,null,null,null,null,null,null,null,null,null,null,null,null,null,null,null,null,null,null,null,null,null,null,null,null,null,null,null,null,null,null,0]
["SBSA_485","SBSA_485",null,null,null,null,null,null,null,null,null,null,null,null,null,null,null,null,null,null,null,null,null,null,null,null,null,null,null,null,null,null,null,0]
["SBSA_486","SBSA_486",null,null,null,null,null,null,null,null,null,null,null,null,null,null,null,null,null,null,null,null,null,null,null,null,null,null,null,null,null,null,null,0]
["SBSA_487","SBSA_487",null,null,null,null,null,null,null,null,null,null,null,null,null,null,null,null,null,null,null,null,null,null,null,null,null,null,null,null,null,null,null,0]
["SBSA_488","SBSA_488",null,null,null,null,null,null,null,null,null,null,null,null,null,null,null,null,null,null,null,null,null,null,null,null,null,null,null,null,null,null,null,0]
["SBSA_489","SBSA_489",null,null,null,null,null,null,null,null,null,null,null,null,null,null,null,null,null,null,null,null,null,null,null,null,null,null,null,null,null,null,null,0]
["SBSA_490","SBSA_490",null,null,null,null,null,null,null,null,null,null,null,null,null,null,null,null,null,null,null,null,null,null,null,null,null,null,null,null,null,null,null,0]
["SBSA_491","SBSA_491",null,null,null,null,null,null,null,null,null,null,null,null,null,null,null,null,null,null,null,null,null,null,null,null,null,null,null,null,null,null,null,0]
["SBSA_492","SBSA_492",null,null,null,null,null,null,null,null,null,null,null,null,null,null,null,null,null,null,null,null,null,null,null,null,null,null,null,null,null,null,null,0]
["SBSA_493","SBSA_493",null,null,null,null,null,null,null,null,null,null,null,null,null,null,null,null,null,null,null,null,null,null,null,null,null,null,null,null,null,null,null,0]
["SBSA_494","SBSA_494",null,null,null,null,null,null,null,null,null,null,null,null,null,null,null,null,null,null,null,null,null,null,null,null,null,null,null,null,null,null,null,0]
["SBSA_495","SBSA_495",null,null,null,null,null,null,null,null,null,null,null,null,null,null,null,null,null,null,null,null,null,null,null,null,null,null,null,null,null,null,null,0]
["SBSA_496","SBSA_496",null,null,null,null,null,null,null,null,null,null,null,null,null,null,null,null,null,null,null,null,null,null,null,null,null,null,null,null,null,null,null,0]
["SBSA_497","SBSA_497",null,null,null,null,null,null,null,null,null,null,null,null,null,null,null,null,null,null,null,null,null,null,null,null,null,null,null,null,null,null,null,0]
["SBSA_498","SBSA_498",null,null,null,null,null,null,null,null,null,null,null,null,null,null,null,null,null,null,null,null,null,null,null,null,null,null,null,null,null,null,null,0]
["SBSA_499","SBSA_499",null,null,null,null,null,null,null,null,null,null,null,null,null,null,null,null,null,null,null,null,null,null,null,null,null,null,null,null,null,null,null,0]
["SBSA_500","SBSA_500",null,null,null,null,null,null,null,null,null,null,null,null,null,null,null,null,null,null,null,null,null,null,null,null,null,null,null,null,null,null,null,0]
["SBSA_501","SBSA_501",null,null,null,null,null,null,null,null,null,null,null,null,null,null,null,null,null,null,null,null,null,null,null,null,null,null,null,null,null,null,null,0]
["SBSA_502","SBSA_502",null,null,null,null,null,null,null,null,null,null,null,null,null,null,null,null,null,null,null,null,null,null,null,null,null,null,null,null,null,null,null,0]
["SBSA_503","SBSA_503",null,null,null,null,null,null,null,null,null,null,null,null,null,null,null,null,null,null,null,null,null,null,null,null,null,null,null,null,null,null,null,0]
["SBSA_504","SBSA_504",null,null,null,null,null,null,null,null,null,null,null,null,null,null,null,null,null,null,null,null,null,null,null,null,null,null,null,null,null,null,null,0]
["SBSA_505","SBSA_505",null,null,null,null,null,null,null,null,null,null,null,null,null,null,null,null,null,null,null,null,null,null,null,null,null,null,null,null,null,null,null,0]
["SBSA_506","SBSA_506",null,null,null,null,null,null,null,null,null,null,null,null,null,null,null,null,null,null,null,null,null,null,null,null,null,null,null,null,null,null,null,0]
["SBSA_507","SBSA_507",null,null,null,null,null,null,null,null,null,null,null,null,null,null,null,null,null,null,null,null,null,null,null,null,null,null,null,null,null,null,null,0]
["SBSA_508","SBSA_508",null,null,null,null,null,null,null,null,null,null,null,null,null,null,null,null,null,null,null,null,null,null,null,null,null,null,null,null,null,null,null,0]
["SBSA_509","SBSA_509",null,null,null,null,null,null,null,null,null,null,null,null,null,null,null,null,null,null,null,null,null,null,null,null,null,null,null,null,null,null,null,0]
["SBSA_510","SBSA_510",null,null,null,null,null,null,null,null,null,null,null,null,null,null,null,null,null,null,null,null,null,null,null,null,null,null,null,null,null,null,null,0]
["SBSA_511","SBSA_511",null,null,null,null,null,null,null,null,null,null,null,null,null,null,null,null,null,null,null,null,null,null,null,null,null,null,null,null,null,null,null,0]
["SBSA_512","SBSA_512",null,null,null,null,null,null,null,null,null,null,null,null,null,null,null,null,null,null,null,null,null,null,null,null,null,null,null,null,null,null,null,0]
["SBSA_513","SBSA_513",null,null,null,null,null,null,null,null,null,null,null,null,null,null,null,null,null,null,null,null,null,null,null,null,null,null,null,null,null,null,null,{"$f":"IF(COUNTBLANK(C522:H522)<6,1,0)","v":0}]
["SBSA_514","SBSA_514",null,null,null,null,null,null,null,null,null,null,null,null,null,null,null,null,null,null,null,null,null,null,null,null,null,null,null,null,null,null,null,0]
["SBSA_515","SBSA_515",null,null,null,null,null,null,null,null,null,null,null,null,null,null,null,null,null,null,null,null,null,null,null,null,null,null,null,null,null,null,null,0]
["SBSA_516","SBSA_516",null,null,null,null,null,null,null,null,null,null,null,null,null,null,null,null,null,null,null,null,null,null,null,null,null,null,null,null,null,null,null,0]
["SBSA_517","SBSA_517",null,null,null,null,null,null,null,null,null,null,null,null,null,null,null,null,null,null,null,null,null,null,null,null,null,null,null,null,null,null,null,0]
["SBSA_518","SBSA_518",null,null,null,null,null,null,null,null,null,null,null,null,null,null,null,null,null,null,null,null,null,null,null,null,null,null,null,null,null,null,null,0]
["SBSA_519","SBSA_519",null,null,null,null,null,null,null,null,null,null,null,null,null,null,null,null,null,null,null,null,null,null,null,null,null,null,null,null,null,null,null,0]
["SBSA_520","SBSA_520",null,null,null,null,null,null,null,null,null,null,null,null,null,null,null,null,null,null,null,null,null,null,null,null,null,null,null,null,null,null,null,0]
["SBSA_521","SBSA_521",null,null,null,null,null,null,null,null,null,null,null,null,null,null,null,null,null,null,null,null,null,null,null,null,null,null,null,null,null,null,null,0]
["SBSA_522","SBSA_522",null,null,null,null,null,null,null,null,null,null,null,null,null,null,null,null,null,null,null,null,null,null,null,null,null,null,null,null,null,null,null,0]
["SBSA_523","SBSA_523",null,null,null,null,null,null,null,null,null,null,null,null,null,null,null,null,null,null,null,null,null,null,null,null,null,null,null,null,null,null,null,0]
["SBSA_524","SBSA_524",null,null,null,null,null,null,null,null,null,null,null,null,null,null,null,null,null,null,null,null,null,null,null,null,null,null,null,null,null,null,null,0]
["SBSA_525","SBSA_525",null,null,null,null,null,null,null,null,null,null,null,null,null,null,null,null,null,null,null,null,null,null,null,null,null,null,null,null,null,null,null,0]
["SBSA_526","SBSA_526",null,null,null,null,null,null,null,null,null,null,null,null,null,null,null,null,null,null,null,null,null,null,null,null,null,null,null,null,null,null,null,0]
["SBSA_527","SBSA_527",null,null,null,null,null,null,null,null,null,null,null,null,null,null,null,null,null,null,null,null,null,null,null,null,null,null,null,null,null,null,null,0]
["SBSA_528","SBSA_528",null,null,null,null,null,null,null,null,null,null,null,null,null,null,null,null,null,null,null,null,null,null,null,null,null,null,null,null,null,null,null,0]
["SBSA_529","SBSA_529",null,null,null,null,null,null,null,null,null,null,null,null,null,null,null,null,null,null,null,null,null,null,null,null,null,null,null,null,null,null,null,0]
["SBSA_530","SBSA_530",null,null,null,null,null,null,null,null,null,null,null,null,null,null,null,null,null,null,null,null,null,null,null,null,null,null,null,null,null,null,null,0]
["SBSA_531","SBSA_531",null,null,null,null,null,null,null,null,null,null,null,null,null,null,null,null,null,null,null,null,null,null,null,null,null,null,null,null,null,null,null,0]
["SBSA_532","SBSA_532",null,null,null,null,null,null,null,null,null,null,null,null,null,null,null,null,null,null,null,null,null,null,null,null,null,null,null,null,null,null,null,0]
["SBSA_533","SBSA_533",null,null,null,null,null,null,null,null,null,null,null,null,null,null,null,null,null,null,null,null,null,null,null,null,null,null,null,null,null,null,null,0]
["SBSA_534","SBSA_534",null,null,null,null,null,null,null,null,null,null,null,null,null,null,null,null,null,null,null,null,null,null,null,null,null,null,null,null,null,null,null,0]
["SBSA_535","SBSA_535",null,null,null,null,null,null,null,null,null,null,null,null,null,null,null,null,null,null,null,null,null,null,null,null,null,null,null,null,null,null,null,0]
["SBSA_536","SBSA_536",null,null,null,null,null,null,null,null,null,null,null,null,null,null,null,null,null,null,null,null,null,null,null,null,null,null,null,null,null,null,null,0]
["SBSA_537","SBSA_537",null,null,null,null,null,null,null,null,null,null,null,null,null,null,null,null,null,null,null,null,null,null,null,null,null,null,null,null,null,null,null,0]
["SBSA_538","SBSA_538",null,null,null,null,null,null,null,null,null,null,null,null,null,null,null,null,null,null,null,null,null,null,null,null,null,null,null,null,null,null,null,0]
["SBSA_539","SBSA_539",null,null,null,null,null,null,null,null,null,null,null,null,null,null,null,null,null,null,null,null,null,null,null,null,null,null,null,null,null,null,null,0]
["SBSA_540","SBSA_540",null,null,null,null,null,null,null,null,null,null,null,null,null,null,null,null,null,null,null,null,null,null,null,null,null,null,null,null,null,null,null,0]
["SBSA_541","SBSA_541",null,null,null,null,null,null,null,null,null,null,null,null,null,null,null,null,null,null,null,null,null,null,null,null,null,null,null,null,null,null,null,0]
["SBSA_542","SBSA_542",null,null,null,null,null,null,null,null,null,null,null,null,null,null,null,null,null,null,null,null,null,null,null,null,null,null,null,null,null,null,null,0]
["SBSA_543","SBSA_543",null,null,null,null,null,null,null,null,null,null,null,null,null,null,null,null,null,null,null,null,null,null,null,null,null,null,null,null,null,null,null,0]
["SBSA_544","SBSA_544",null,null,null,null,null,null,null,null,null,null,null,null,null,null,null,null,null,null,null,null,null,null,null,null,null,null,null,null,null,null,null,0]
["SBSA_545","SBSA_545",null,null,null,null,null,null,null,null,null,null,null,null,null,null,null,null,null,null,null,null,null,null,null,null,null,null,null,null,null,null,null,0]
["SBSA_546","SBSA_546",null,null,null,null,null,null,null,null,null,null,null,null,null,null,null,null,null,null,null,null,null,null,null,null,null,null,null,null,null,null,null,0]
["SBSA_547","SBSA_547",null,null,null,null,null,null,null,null,null,null,null,null,null,null,null,null,null,null,null,null,null,null,null,null,null,null,null,null,null,null,null,0]
["SBSA_548","SBSA_548",null,null,null,null,null,null,null,null,null,null,null,null,null,null,null,null,null,null,null,null,null,null,null,null,null,null,null,null,null,null,null,0]
["SBSA_549","SBSA_549",null,null,null,null,null,null,null,null,null,null,null,null,null,null,null,null,null,null,null,null,null,null,null,null,null,null,null,null,null,null,null,0]
["SBSA_550","SBSA_550",null,null,null,null,null,null,null,null,null,null,null,null,null,null,null,null,null,null,null,null,null,null,null,null,null,null,null,null,null,null,null,0]
["SBSA_551","SBSA_551",null,null,null,null,null,null,null,null,null,null,null,null,null,null,null,null,null,null,null,null,null,null,null,null,null,null,null,null,null,null,null,0]
["SBSA_552","SBSA_552",null,null,null,null,null,null,null,null,null,null,null,null,null,null,null,null,null,null,null,null,null,null,null,null,null,null,null,null,null,null,null,0]
["SBSA_553","SBSA_553",null,null,null,null,null,null,null,null,null,null,null,null,null,null,null,null,null,null,null,null,null,null,null,null,null,null,null,null,null,null,null,0]
["SBSA_554","SBSA_554",null,null,null,null,null,null,null,null,null,null,null,null,null,null,null,null,null,null,null,null,null,null,null,null,null,null,null,null,null,null,null,0]
["SBSA_555","SBSA_555",null,null,null,null,null,null,null,null,null,null,null,null,null,null,null,null,null,null,null,null,null,null,null,null,null,null,null,null,null,null,null,0]
["SBSA_556","SBSA_556",null,null,null,null,null,null,null,null,null,null,null,null,null,null,null,null,null,null,null,null,null,null,null,null,null,null,null,null,null,null,null,0]
["SBSA_557","SBSA_557",null,null,null,null,null,null,null,null,null,null,null,null,null,null,null,null,null,null,null,null,null,null,null,null,null,null,null,null,null,null,null,0]
["SBSA_558","SBSA_558",null,null,null,null,null,null,null,null,null,null,null,null,null,null,null,null,null,null,null,null,null,null,null,null,null,null,null,null,null,null,null,0]
["SBSA_559","SBSA_559",null,null,null,null,null,null,null,null,null,null,null,null,null,null,null,null,null,null,null,null,null,null,null,null,null,null,null,null,null,null,null,0]
["SBSA_560","SBSA_560",null,null,null,null,null,null,null,null,null,null,null,null,null,null,null,null,null,null,null,null,null,null,null,null,null,null,null,null,null,null,null,0]
["SBSA_561","SBSA_561",null,null,null,null,null,null,null,null,null,null,null,null,null,null,null,null,null,null,null,null,null,null,null,null,null,null,null,null,null,null,null,0]
["SBSA_562","SBSA_562",null,null,null,null,null,null,null,null,null,null,null,null,null,null,null,null,null,null,null,null,null,null,null,null,null,null,null,null,null,null,null,0]
["SBSA_563","SBSA_563",null,null,null,null,null,null,null,null,null,null,null,null,null,null,null,null,null,null,null,null,null,null,null,null,null,null,null,null,null,null,null,0]
["SBSA_564","SBSA_564",null,null,null,null,null,null,null,null,null,null,null,null,null,null,null,null,null,null,null,null,null,null,null,null,null,null,null,null,null,null,null,0]
["SBSA_565","SBSA_565",null,null,null,null,null,null,null,null,null,null,null,null,null,null,null,null,null,null,null,null,null,null,null,null,null,null,null,null,null,null,null,0]
["SBSA_566","SBSA_566",null,null,null,null,null,null,null,null,null,null,null,null,null,null,null,null,null,null,null,null,null,null,null,null,null,null,null,null,null,null,null,0]
["SBSA_567","SBSA_567",null,null,null,null,null,null,null,null,null,null,null,null,null,null,null,null,null,null,null,null,null,null,null,null,null,null,null,null,null,null,null,0]
["SBSA_568","SBSA_568",null,null,null,null,null,null,null,null,null,null,null,null,null,null,null,null,null,null,null,null,null,null,null,null,null,null,null,null,null,null,null,0]
["SBSA_569","SBSA_569",null,null,null,null,null,null,null,null,null,null,null,null,null,null,null,null,null,null,null,null,null,null,null,null,null,null,null,null,null,null,null,0]
["SBSA_570","SBSA_570",null,null,null,null,null,null,null,null,null,null,null,null,null,null,null,null,null,null,null,null,null,null,null,null,null,null,null,null,null,null,null,0]
["SBSA_571","SBSA_571",null,null,null,null,null,null,null,null,null,null,null,null,null,null,null,null,null,null,null,null,null,null,null,null,null,null,null,null,null,null,null,0]
["SBSA_572","SBSA_572",null,null,null,null,null,null,null,null,null,null,null,null,null,null,null,null,null,null,null,null,null,null,null,null,null,null,null,null,null,null,null,0]
["SBSA_573","SBSA_573",null,null,null,null,null,null,null,null,null,null,null,null,null,null,null,null,null,null,null,null,null,null,null,null,null,null,null,null,null,null,null,0]
["SBSA_574","SBSA_574",null,null,null,null,null,null,null,null,null,null,null,null,null,null,null,null,null,null,null,null,null,null,null,null,null,null,null,null,null,null,null,0]
["SBSA_575","SBSA_575",null,null,null,null,null,null,null,null,null,null,null,null,null,null,null,null,null,null,null,null,null,null,null,null,null,null,null,null,null,null,null,0]
["SBSA_576","SBSA_576",null,null,null,null,null,null,null,null,null,null,null,null,null,null,null,null,null,null,null,null,null,null,null,null,null,null,null,null,null,null,null,0]
["SBSA_577","SBSA_577",null,null,null,null,null,null,null,null,null,null,null,null,null,null,null,null,null,null,null,null,null,null,null,null,null,null,null,null,null,null,null,{"$f":"IF(COUNTBLANK(C586:H586)<6,1,0)","v":0}]
["SBSA_578","SBSA_578",null,null,null,null,null,null,null,null,null,null,null,null,null,null,null,null,null,null,null,null,null,null,null,null,null,null,null,null,null,null,null,0]
["SBSA_579","SBSA_579",null,null,null,null,null,null,null,null,null,null,null,null,null,null,null,null,null,null,null,null,null,null,null,null,null,null,null,null,null,null,null,0]
["SBSA_580","SBSA_580",null,null,null,null,null,null,null,null,null,null,null,null,null,null,null,null,null,null,null,null,null,null,null,null,null,null,null,null,null,null,null,0]
["SBSA_581","SBSA_581",null,null,null,null,null,null,null,null,null,null,null,null,null,null,null,null,null,null,null,null,null,null,null,null,null,null,null,null,null,null,null,0]
["SBSA_582","SBSA_582",null,null,null,null,null,null,null,null,null,null,null,null,null,null,null,null,null,null,null,null,null,null,null,null,null,null,null,null,null,null,null,0]
["SBSA_583","SBSA_583",null,null,null,null,null,null,null,null,null,null,null,null,null,null,null,null,null,null,null,null,null,null,null,null,null,null,null,null,null,null,null,0]
["SBSA_584","SBSA_584",null,null,null,null,null,null,null,null,null,null,null,null,null,null,null,null,null,null,null,null,null,null,null,null,null,null,null,null,null,null,null,0]
["SBSA_585","SBSA_585",null,null,null,null,null,null,null,null,null,null,null,null,null,null,null,null,null,null,null,null,null,null,null,null,null,null,null,null,null,null,null,0]
["SBSA_586","SBSA_586",null,null,null,null,null,null,null,null,null,null,null,null,null,null,null,null,null,null,null,null,null,null,null,null,null,null,null,null,null,null,null,0]
["SBSA_587","SBSA_587",null,null,null,null,null,null,null,null,null,null,null,null,null,null,null,null,null,null,null,null,null,null,null,null,null,null,null,null,null,null,null,0]
["SBSA_588","SBSA_588",null,null,null,null,null,null,null,null,null,null,null,null,null,null,null,null,null,null,null,null,null,null,null,null,null,null,null,null,null,null,null,0]
["SBSA_589","SBSA_589",null,null,null,null,null,null,null,null,null,null,null,null,null,null,null,null,null,null,null,null,null,null,null,null,null,null,null,null,null,null,null,0]
["SBSA_590","SBSA_590",null,null,null,null,null,null,null,null,null,null,null,null,null,null,null,null,null,null,null,null,null,null,null,null,null,null,null,null,null,null,null,0]
["SBSA_591","SBSA_591",null,null,null,null,null,null,null,null,null,null,null,null,null,null,null,null,null,null,null,null,null,null,null,null,null,null,null,null,null,null,null,0]
["SBSA_592","SBSA_592",null,null,null,null,null,null,null,null,null,null,null,null,null,null,null,null,null,null,null,null,null,null,null,null,null,null,null,null,null,null,null,0]
["SBSA_593","SBSA_593",null,null,null,null,null,null,null,null,null,null,null,null,null,null,null,null,null,null,null,null,null,null,null,null,null,null,null,null,null,null,null,0]
["SBSA_594","SBSA_594",null,null,null,null,null,null,null,null,null,null,null,null,null,null,null,null,null,null,null,null,null,null,null,null,null,null,null,null,null,null,null,0]
["SBSA_595","SBSA_595",null,null,null,null,null,null,null,null,null,null,null,null,null,null,null,null,null,null,null,null,null,null,null,null,null,null,null,null,null,null,null,0]
["SBSA_596","SBSA_596",null,null,null,null,null,null,null,null,null,null,null,null,null,null,null,null,null,null,null,null,null,null,null,null,null,null,null,null,null,null,null,0]
["SBSA_597","SBSA_597",null,null,null,null,null,null,null,null,null,null,null,null,null,null,null,null,null,null,null,null,null,null,null,null,null,null,null,null,null,null,null,0]
["SBSA_598","SBSA_598",null,null,null,null,null,null,null,null,null,null,null,null,null,null,null,null,null,null,null,null,null,null,null,null,null,null,null,null,null,null,null,0]
["SBSA_599","SBSA_599",null,null,null,null,null,null,null,null,null,null,null,null,null,null,null,null,null,null,null,null,null,null,null,null,null,null,null,null,null,null,null,0]
["SBSA_600","SBSA_600",null,null,null,null,null,null,null,null,null,null,null,null,null,null,null,null,null,null,null,null,null,null,null,null,null,null,null,null,null,null,null,0]
["SBSA_601","SBSA_601",null,null,null,null,null,null,null,null,null,null,null,null,null,null,null,null,null,null,null,null,null,null,null,null,null,null,null,null,null,null,null,0]
["SBSA_602","SBSA_602",null,null,null,null,null,null,null,null,null,null,null,null,null,null,null,null,null,null,null,null,null,null,null,null,null,null,null,null,null,null,null,0]
["SBSA_603","SBSA_603",null,null,null,null,null,null,null,null,null,null,null,null,null,null,null,null,null,null,null,null,null,null,null,null,null,null,null,null,null,null,null,0]
["SBSA_604","SBSA_604",null,null,null,null,null,null,null,null,null,null,null,null,null,null,null,null,null,null,null,null,null,null,null,null,null,null,null,null,null,null,null,0]
["SBSA_605","SBSA_605",null,null,null,null,null,null,null,null,null,null,null,null,null,null,null,null,null,null,null,null,null,null,null,null,null,null,null,null,null,null,null,0]
["SBSA_606","SBSA_606",null,null,null,null,null,null,null,null,null,null,null,null,null,null,null,null,null,null,null,null,null,null,null,null,null,null,null,null,null,null,null,0]
["SBSA_607","SBSA_607",null,null,null,null,null,null,null,null,null,null,null,null,null,null,null,null,null,null,null,null,null,null,null,null,null,null,null,null,null,null,null,0]
["SBSA_608","SBSA_608",null,null,null,null,null,null,null,null,null,null,null,null,null,null,null,null,null,null,null,null,null,null,null,null,null,null,null,null,null,null,null,0]
["SBSA_609","SBSA_609",null,null,null,null,null,null,null,null,null,null,null,null,null,null,null,null,null,null,null,null,null,null,null,null,null,null,null,null,null,null,null,0]
["SBSA_610","SBSA_610",null,null,null,null,null,null,null,null,null,null,null,null,null,null,null,null,null,null,null,null,null,null,null,null,null,null,null,null,null,null,null,0]
["SBSA_611","SBSA_611",null,null,null,null,null,null,null,null,null,null,null,null,null,null,null,null,null,null,null,null,null,null,null,null,null,null,null,null,null,null,null,0]
["SBSA_612","SBSA_612",null,null,null,null,null,null,null,null,null,null,null,null,null,null,null,null,null,null,null,null,null,null,null,null,null,null,null,null,null,null,null,0]
["SBSA_613","SBSA_613",null,null,null,null,null,null,null,null,null,null,null,null,null,null,null,null,null,null,null,null,null,null,null,null,null,null,null,null,null,null,null,0]
["SBSA_614","SBSA_614",null,null,null,null,null,null,null,null,null,null,null,null,null,null,null,null,null,null,null,null,null,null,null,null,null,null,null,null,null,null,null,0]
["SBSA_615","SBSA_615",null,null,null,null,null,null,null,null,null,null,null,null,null,null,null,null,null,null,null,null,null,null,null,null,null,null,null,null,null,null,null,0]
["SBSA_616","SBSA_616",null,null,null,null,null,null,null,null,null,null,null,null,null,null,null,null,null,null,null,null,null,null,null,null,null,null,null,null,null,null,null,0]
["SBSA_617","SBSA_617",null,null,null,null,null,null,null,null,null,null,null,null,null,null,null,null,null,null,null,null,null,null,null,null,null,null,null,null,null,null,null,0]
["SBSA_618","SBSA_618",null,null,null,null,null,null,null,null,null,null,null,null,null,null,null,null,null,null,null,null,null,null,null,null,null,null,null,null,null,null,null,0]
["SBSA_619","SBSA_619",null,null,null,null,null,null,null,null,null,null,null,null,null,null,null,null,null,null,null,null,null,null,null,null,null,null,null,null,null,null,null,0]
["SBSA_620","SBSA_620",null,null,null,null,null,null,null,null,null,null,null,null,null,null,null,null,null,null,null,null,null,null,null,null,null,null,null,null,null,null,null,0]
["SBSA_621","SBSA_621",null,null,null,null,null,null,null,null,null,null,null,null,null,null,null,null,null,null,null,null,null,null,null,null,null,null,null,null,null,null,null,0]
["SBSA_622","SBSA_622",null,null,null,null,null,null,null,null,null,null,null,null,null,null,null,null,null,null,null,null,null,null,null,null,null,null,null,null,null,null,null,0]
["SBSA_623","SBSA_623",null,null,null,null,null,null,null,null,null,null,null,null,null,null,null,null,null,null,null,null,null,null,null,null,null,null,null,null,null,null,null,0]
["SBSA_624","SBSA_624",null,null,null,null,null,null,null,null,null,null,null,null,null,null,null,null,null,null,null,null,null,null,null,null,null,null,null,null,null,null,null,0]
["SBSA_625","SBSA_625",null,null,null,null,null,null,null,null,null,null,null,null,null,null,null,null,null,null,null,null,null,null,null,null,null,null,null,null,null,null,null,0]
["SBSA_626","SBSA_626",null,null,null,null,null,null,null,null,null,null,null,null,null,null,null,null,null,null,null,null,null,null,null,null,null,null,null,null,null,null,null,0]
["SBSA_627","SBSA_627",null,null,null,null,null,null,null,null,null,null,null,null,null,null,null,null,null,null,null,null,null,null,null,null,null,null,null,null,null,null,null,0]
["SBSA_628","SBSA_628",null,null,null,null,null,null,null,null,null,null,null,null,null,null,null,null,null,null,null,null,null,null,null,null,null,null,null,null,null,null,null,0]
["SBSA_629","SBSA_629",null,null,null,null,null,null,null,null,null,null,null,null,null,null,null,null,null,null,null,null,null,null,null,null,null,null,null,null,null,null,null,0]
["SBSA_630","SBSA_630",null,null,null,null,null,null,null,null,null,null,null,null,null,null,null,null,null,null,null,null,null,null,null,null,null,null,null,null,null,null,null,0]
["SBSA_631","SBSA_631",null,null,null,null,null,null,null,null,null,null,null,null,null,null,null,null,null,null,null,null,null,null,null,null,null,null,null,null,null,null,null,0]
["SBSA_632","SBSA_632",null,null,null,null,null,null,null,null,null,null,null,null,null,null,null,null,null,null,null,null,null,null,null,null,null,null,null,null,null,null,null,0]
["SBSA_633","SBSA_633",null,null,null,null,null,null,null,null,null,null,null,null,null,null,null,null,null,null,null,null,null,null,null,null,null,null,null,null,null,null,null,0]
["SBSA_634","SBSA_634",null,null,null,null,null,null,null,null,null,null,null,null,null,null,null,null,null,null,null,null,null,null,null,null,null,null,null,null,null,null,null,0]
["SBSA_635","SBSA_635",null,null,null,null,null,null,null,null,null,null,null,null,null,null,null,null,null,null,null,null,null,null,null,null,null,null,null,null,null,null,null,0]
["SBSA_636","SBSA_636",null,null,null,null,null,null,null,null,null,null,null,null,null,null,null,null,null,null,null,null,null,null,null,null,null,null,null,null,null,null,null,0]
["SBSA_637","SBSA_637",null,null,null,null,null,null,null,null,null,null,null,null,null,null,null,null,null,null,null,null,null,null,null,null,null,null,null,null,null,null,null,0]
["SBSA_638","SBSA_638",null,null,null,null,null,null,null,null,null,null,null,null,null,null,null,null,null,null,null,null,null,null,null,null,null,null,null,null,null,null,null,0]
["SBSA_639","SBSA_639",null,null,null,null,null,null,null,null,null,null,null,null,null,null,null,null,null,null,null,null,null,null,null,null,null,null,null,null,null,null,null,0]
["SBSA_640","SBSA_640",null,null,null,null,null,null,null,null,null,null,null,null,null,null,null,null,null,null,null,null,null,null,null,null,null,null,null,null,null,null,null,0]
["SBSA_641","SBSA_641",null,null,null,null,null,null,null,null,null,null,null,null,null,null,null,null,null,null,null,null,null,null,null,null,null,null,null,null,null,null,null,{"$f":"IF(COUNTBLANK(C650:H650)<6,1,0)","v":0}]
["SBSA_642","SBSA_642",null,null,null,null,null,null,null,null,null,null,null,null,null,null,null,null,null,null,null,null,null,null,null,null,null,null,null,null,null,null,null,0]
["SBSA_643","SBSA_643",null,null,null,null,null,null,null,null,null,null,null,null,null,null,null,null,null,null,null,null,null,null,null,null,null,null,null,null,null,null,null,0]
["SBSA_644","SBSA_644",null,null,null,null,null,null,null,null,null,null,null,null,null,null,null,null,null,null,null,null,null,null,null,null,null,null,null,null,null,null,null,0]
["SBSA_645","SBSA_645",null,null,null,null,null,null,null,null,null,null,null,null,null,null,null,null,null,null,null,null,null,null,null,null,null,null,null,null,null,null,null,0]
["SBSA_646","SBSA_646",null,null,null,null,null,null,null,null,null,null,null,null,null,null,null,null,null,null,null,null,null,null,null,null,null,null,null,null,null,null,null,0]
["SBSA_647","SBSA_647",null,null,null,null,null,null,null,null,null,null,null,null,null,null,null,null,null,null,null,null,null,null,null,null,null,null,null,null,null,null,null,0]
["SBSA_648","SBSA_648",null,null,null,null,null,null,null,null,null,null,null,null,null,null,null,null,null,null,null,null,null,null,null,null,null,null,null,null,null,null,null,0]
["SBSA_649","SBSA_649",null,null,null,null,null,null,null,null,null,null,null,null,null,null,null,null,null,null,null,null,null,null,null,null,null,null,null,null,null,null,null,0]
["SBSA_650","SBSA_650",null,null,null,null,null,null,null,null,null,null,null,null,null,null,null,null,null,null,null,null,null,null,null,null,null,null,null,null,null,null,null,0]
["SBSA_651","SBSA_651",null,null,null,null,null,null,null,null,null,null,null,null,null,null,null,null,null,null,null,null,null,null,null,null,null,null,null,null,null,null,null,0]
["SBSA_652","SBSA_652",null,null,null,null,null,null,null,null,null,null,null,null,null,null,null,null,null,null,null,null,null,null,null,null,null,null,null,null,null,null,null,0]
["SBSA_653","SBSA_653",null,null,null,null,null,null,null,null,null,null,null,null,null,null,null,null,null,null,null,null,null,null,null,null,null,null,null,null,null,null,null,0]
["SBSA_654","SBSA_654",null,null,null,null,null,null,null,null,null,null,null,null,null,null,null,null,null,null,null,null,null,null,null,null,null,null,null,null,null,null,null,0]
["SBSA_655","SBSA_655",null,null,null,null,null,null,null,null,null,null,null,null,null,null,null,null,null,null,null,null,null,null,null,null,null,null,null,null,null,null,null,0]
["SBSA_656","SBSA_656",null,null,null,null,null,null,null,null,null,null,null,null,null,null,null,null,null,null,null,null,null,null,null,null,null,null,null,null,null,null,null,0]
["SBSA_657","SBSA_657",null,null,null,null,null,null,null,null,null,null,null,null,null,null,null,null,null,null,null,null,null,null,null,null,null,null,null,null,null,null,null,0]
["SBSA_658","SBSA_658",null,null,null,null,null,null,null,null,null,null,null,null,null,null,null,null,null,null,null,null,null,null,null,null,null,null,null,null,null,null,null,0]
["SBSA_659","SBSA_659",null,null,null,null,null,null,null,null,null,null,null,null,null,null,null,null,null,null,null,null,null,null,null,null,null,null,null,null,null,null,null,0]
["SBSA_660","SBSA_660",null,null,null,null,null,null,null,null,null,null,null,null,null,null,null,null,null,null,null,null,null,null,null,null,null,null,null,null,null,null,null,0]
["SBSA_661","SBSA_661",null,null,null,null,null,null,null,null,null,null,null,null,null,null,null,null,null,null,null,null,null,null,null,null,null,null,null,null,null,null,null,0]
["SBSA_662","SBSA_662",null,null,null,null,null,null,null,null,null,null,null,null,null,null,null,null,null,null,null,null,null,null,null,null,null,null,null,null,null,null,null,0]
["SBSA_663","SBSA_663",null,null,null,null,null,null,null,null,null,null,null,null,null,null,null,null,null,null,null,null,null,null,null,null,null,null,null,null,null,null,null,0]
["SBSA_664","SBSA_664",null,null,null,null,null,null,null,null,null,null,null,null,null,null,null,null,null,null,null,null,null,null,null,null,null,null,null,null,null,null,null,0]
["SBSA_665","SBSA_665",null,null,null,null,null,null,null,null,null,null,null,null,null,null,null,null,null,null,null,null,null,null,null,null,null,null,null,null,null,null,null,0]
["SBSA_666","SBSA_666",null,null,null,null,null,null,null,null,null,null,null,null,null,null,null,null,null,null,null,null,null,null,null,null,null,null,null,null,null,null,null,0]
["SBSA_667","SBSA_667",null,null,null,null,null,null,null,null,null,null,null,null,null,null,null,null,null,null,null,null,null,null,null,null,null,null,null,null,null,null,null,0]
["SBSA_668","SBSA_668",null,null,null,null,null,null,null,null,null,null,null,null,null,null,null,null,null,null,null,null,null,null,null,null,null,null,null,null,null,null,null,0]
["SBSA_669","SBSA_669",null,null,null,null,null,null,null,null,null,null,null,null,null,null,null,null,null,null,null,null,null,null,null,null,null,null,null,null,null,null,null,0]
["SBSA_670","SBSA_670",null,null,null,null,null,null,null,null,null,null,null,null,null,null,null,null,null,null,null,null,null,null,null,null,null,null,null,null,null,null,null,0]
["SBSA_671","SBSA_671",null,null,null,null,null,null,null,null,null,null,null,null,null,null,null,null,null,null,null,null,null,null,null,null,null,null,null,null,null,null,null,0]
["SBSA_672","SBSA_672",null,null,null,null,null,null,null,null,null,null,null,null,null,null,null,null,null,null,null,null,null,null,null,null,null,null,null,null,null,null,null,0]
["SBSA_673","SBSA_673",null,null,null,null,null,null,null,null,null,null,null,null,null,null,null,null,null,null,null,null,null,null,null,null,null,null,null,null,null,null,null,0]
["SBSA_674","SBSA_674",null,null,null,null,null,null,null,null,null,null,null,null,null,null,null,null,null,null,null,null,null,null,null,null,null,null,null,null,null,null,null,0]
["SBSA_675","SBSA_675",null,null,null,null,null,null,null,null,null,null,null,null,null,null,null,null,null,null,null,null,null,null,null,null,null,null,null,null,null,null,null,0]
["SBSA_676","SBSA_676",null,null,null,null,null,null,null,null,null,null,null,null,null,null,null,null,null,null,null,null,null,null,null,null,null,null,null,null,null,null,null,0]
["SBSA_677","SBSA_677",null,null,null,null,null,null,null,null,null,null,null,null,null,null,null,null,null,null,null,null,null,null,null,null,null,null,null,null,null,null,null,0]
["SBSA_678","SBSA_678",null,null,null,null,null,null,null,null,null,null,null,null,null,null,null,null,null,null,null,null,null,null,null,null,null,null,null,null,null,null,null,0]
["SBSA_679","SBSA_679",null,null,null,null,null,null,null,null,null,null,null,null,null,null,null,null,null,null,null,null,null,null,null,null,null,null,null,null,null,null,null,0]
["SBSA_680","SBSA_680",null,null,null,null,null,null,null,null,null,null,null,null,null,null,null,null,null,null,null,null,null,null,null,null,null,null,null,null,null,null,null,0]
["SBSA_681","SBSA_681",null,null,null,null,null,null,null,null,null,null,null,null,null,null,null,null,null,null,null,null,null,null,null,null,null,null,null,null,null,null,null,0]
["SBSA_682","SBSA_682",null,null,null,null,null,null,null,null,null,null,null,null,null,null,null,null,null,null,null,null,null,null,null,null,null,null,null,null,null,null,null,0]
["SBSA_683","SBSA_683",null,null,null,null,null,null,null,null,null,null,null,null,null,null,null,null,null,null,null,null,null,null,null,null,null,null,null,null,null,null,null,0]
["SBSA_684","SBSA_684",null,null,null,null,null,null,null,null,null,null,null,null,null,null,null,null,null,null,null,null,null,null,null,null,null,null,null,null,null,null,null,0]
["SBSA_685","SBSA_685",null,null,null,null,null,null,null,null,null,null,null,null,null,null,null,null,null,null,null,null,null,null,null,null,null,null,null,null,null,null,null,0]
["SBSA_686","SBSA_686",null,null,null,null,null,null,null,null,null,null,null,null,null,null,null,null,null,null,null,null,null,null,null,null,null,null,null,null,null,null,null,0]
["SBSA_687","SBSA_687",null,null,null,null,null,null,null,null,null,null,null,null,null,null,null,null,null,null,null,null,null,null,null,null,null,null,null,null,null,null,null,0]
["SBSA_688","SBSA_688",null,null,null,null,null,null,null,null,null,null,null,null,null,null,null,null,null,null,null,null,null,null,null,null,null,null,null,null,null,null,null,0]
["SBSA_689","SBSA_689",null,null,null,null,null,null,null,null,null,null,null,null,null,null,null,null,null,null,null,null,null,null,null,null,null,null,null,null,null,null,null,0]
["SBSA_690","SBSA_690",null,null,null,null,null,null,null,null,null,null,null,null,null,null,null,null,null,null,null,null,null,null,null,null,null,null,null,null,null,null,null,0]
["SBSA_691","SBSA_691",null,null,null,null,null,null,null,null,null,null,null,null,null,null,null,null,null,null,null,null,null,null,null,null,null,null,null,null,null,null,null,0]
["SBSA_692","SBSA_692",null,null,null,null,null,null,null,null,null,null,null,null,null,null,null,null,null,null,null,null,null,null,null,null,null,null,null,null,null,null,null,0]
["SBSA_693","SBSA_693",null,null,null,null,null,null,null,null,null,null,null,null,null,null,null,null,null,null,null,null,null,null,null,null,null,null,null,null,null,null,null,0]
["SBSA_694","SBSA_694",null,null,null,null,null,null,null,null,null,null,null,null,null,null,null,null,null,null,null,null,null,null,null,null,null,null,null,null,null,null,null,0]
["SBSA_695","SBSA_695",null,null,null,null,null,null,null,null,null,null,null,null,null,null,null,null,null,null,null,null,null,null,null,null,null,null,null,null,null,null,null,0]
["SBSA_696","SBSA_696",null,null,null,null,null,null,null,null,null,null,null,null,null,null,null,null,null,null,null,null,null,null,null,null,null,null,null,null,null,null,null,0]
["SBSA_697","SBSA_697",null,null,null,null,null,null,null,null,null,null,null,null,null,null,null,null,null,null,null,null,null,null,null,null,null,null,null,null,null,null,null,0]
["SBSA_698","SBSA_698",null,null,null,null,null,null,null,null,null,null,null,null,null,null,null,null,null,null,null,null,null,null,null,null,null,null,null,null,null,null,null,0]
["SBSA_699","SBSA_699",null,null,null,null,null,null,null,null,null,null,null,null,null,null,null,null,null,null,null,null,null,null,null,null,null,null,null,null,null,null,null,0]
["SBSA_700","SBSA_700",null,null,null,null,null,null,null,null,null,null,null,null,null,null,null,null,null,null,null,null,null,null,null,null,null,null,null,null,null,null,null,0]
["SBSA_701","SBSA_701",null,null,null,null,null,null,null,null,null,null,null,null,null,null,null,null,null,null,null,null,null,null,null,null,null,null,null,null,null,null,null,0]
["SBSA_702","SBSA_702",null,null,null,null,null,null,null,null,null,null,null,null,null,null,null,null,null,null,null,null,null,null,null,null,null,null,null,null,null,null,null,0]
["SBSA_703","SBSA_703",null,null,null,null,null,null,null,null,null,null,null,null,null,null,null,null,null,null,null,null,null,null,null,null,null,null,null,null,null,null,null,0]
["SBSA_704","SBSA_704",null,null,null,null,null,null,null,null,null,null,null,null,null,null,null,null,null,null,null,null,null,null,null,null,null,null,null,null,null,null,null,0]
["SBSA_705","SBSA_705",null,null,null,null,null,null,null,null,null,null,null,null,null,null,null,null,null,null,null,null,null,null,null,null,null,null,null,null,null,null,null,{"$f":"IF(COUNTBLANK(C714:H714)<6,1,0)","v":0}]
["SBSA_706","SBSA_706",null,null,null,null,null,null,null,null,null,null,null,null,null,null,null,null,null,null,null,null,null,null,null,null,null,null,null,null,null,null,null,0]
["SBSA_707","SBSA_707",null,null,null,null,null,null,null,null,null,null,null,null,null,null,null,null,null,null,null,null,null,null,null,null,null,null,null,null,null,null,null,0]
["SBSA_708","SBSA_708",null,null,null,null,null,null,null,null,null,null,null,null,null,null,null,null,null,null,null,null,null,null,null,null,null,null,null,null,null,null,null,0]
["SBSA_709","SBSA_709",null,null,null,null,null,null,null,null,null,null,null,null,null,null,null,null,null,null,null,null,null,null,null,null,null,null,null,null,null,null,null,0]
["SBSA_710","SBSA_710",null,null,null,null,null,null,null,null,null,null,null,null,null,null,null,null,null,null,null,null,null,null,null,null,null,null,null,null,null,null,null,0]
["SBSA_711","SBSA_711",null,null,null,null,null,null,null,null,null,null,null,null,null,null,null,null,null,null,null,null,null,null,null,null,null,null,null,null,null,null,null,0]
["SBSA_712","SBSA_712",null,null,null,null,null,null,null,null,null,null,null,null,null,null,null,null,null,null,null,null,null,null,null,null,null,null,null,null,null,null,null,0]
["SBSA_713","SBSA_713",null,null,null,null,null,null,null,null,null,null,null,null,null,null,null,null,null,null,null,null,null,null,null,null,null,null,null,null,null,null,null,0]
["SBSA_714","SBSA_714",null,null,null,null,null,null,null,null,null,null,null,null,null,null,null,null,null,null,null,null,null,null,null,null,null,null,null,null,null,null,null,0]
["SBSA_715","SBSA_715",null,null,null,null,null,null,null,null,null,null,null,null,null,null,null,null,null,null,null,null,null,null,null,null,null,null,null,null,null,null,null,0]
["SBSA_716","SBSA_716",null,null,null,null,null,null,null,null,null,null,null,null,null,null,null,null,null,null,null,null,null,null,null,null,null,null,null,null,null,null,null,0]
["SBSA_717","SBSA_717",null,null,null,null,null,null,null,null,null,null,null,null,null,null,null,null,null,null,null,null,null,null,null,null,null,null,null,null,null,null,null,0]
["SBSA_718","SBSA_718",null,null,null,null,null,null,null,null,null,null,null,null,null,null,null,null,null,null,null,null,null,null,null,null,null,null,null,null,null,null,null,0]
["SBSA_719","SBSA_719",null,null,null,null,null,null,null,null,null,null,null,null,null,null,null,null,null,null,null,null,null,null,null,null,null,null,null,null,null,null,null,0]
["SBSA_720","SBSA_720",null,null,null,null,null,null,null,null,null,null,null,null,null,null,null,null,null,null,null,null,null,null,null,null,null,null,null,null,null,null,null,0]
["SBSA_721","SBSA_721",null,null,null,null,null,null,null,null,null,null,null,null,null,null,null,null,null,null,null,null,null,null,null,null,null,null,null,null,null,null,null,0]
["SBSA_722","SBSA_722",null,null,null,null,null,null,null,null,null,null,null,null,null,null,null,null,null,null,null,null,null,null,null,null,null,null,null,null,null,null,null,0]
["SBSA_723","SBSA_723",null,null,null,null,null,null,null,null,null,null,null,null,null,null,null,null,null,null,null,null,null,null,null,null,null,null,null,null,null,null,null,0]
["SBSA_724","SBSA_724",null,null,null,null,null,null,null,null,null,null,null,null,null,null,null,null,null,null,null,null,null,null,null,null,null,null,null,null,null,null,null,0]
["SBSA_725","SBSA_725",null,null,null,null,null,null,null,null,null,null,null,null,null,null,null,null,null,null,null,null,null,null,null,null,null,null,null,null,null,null,null,0]
["SBSA_726","SBSA_726",null,null,null,null,null,null,null,null,null,null,null,null,null,null,null,null,null,null,null,null,null,null,null,null,null,null,null,null,null,null,null,0]
["SBSA_727","SBSA_727",null,null,null,null,null,null,null,null,null,null,null,null,null,null,null,null,null,null,null,null,null,null,null,null,null,null,null,null,null,null,null,0]
["SBSA_728","SBSA_728",null,null,null,null,null,null,null,null,null,null,null,null,null,null,null,null,null,null,null,null,null,null,null,null,null,null,null,null,null,null,null,0]
["SBSA_729","SBSA_729",null,null,null,null,null,null,null,null,null,null,null,null,null,null,null,null,null,null,null,null,null,null,null,null,null,null,null,null,null,null,null,0]
["SBSA_730","SBSA_730",null,null,null,null,null,null,null,null,null,null,null,null,null,null,null,null,null,null,null,null,null,null,null,null,null,null,null,null,null,null,null,0]
["SBSA_731","SBSA_731",null,null,null,null,null,null,null,null,null,null,null,null,null,null,null,null,null,null,null,null,null,null,null,null,null,null,null,null,null,null,null,0]
["SBSA_732","SBSA_732",null,null,null,null,null,null,null,null,null,null,null,null,null,null,null,null,null,null,null,null,null,null,null,null,null,null,null,null,null,null,null,0]
["SBSA_733","SBSA_733",null,null,null,null,null,null,null,null,null,null,null,null,null,null,null,null,null,null,null,null,null,null,null,null,null,null,null,null,null,null,null,0]
["SBSA_734","SBSA_734",null,null,null,null,null,null,null,null,null,null,null,null,null,null,null,null,null,null,null,null,null,null,null,null,null,null,null,null,null,null,null,0]
["SBSA_735","SBSA_735",null,null,null,null,null,null,null,null,null,null,null,null,null,null,null,null,null,null,null,null,null,null,null,null,null,null,null,null,null,null,null,0]
["SBSA_736","SBSA_736",null,null,null,null,null,null,null,null,null,null,null,null,null,null,null,null,null,null,null,null,null,null,null,null,null,null,null,null,null,null,null,0]
["SBSA_737","SBSA_737",null,null,null,null,null,null,null,null,null,null,null,null,null,null,null,null,null,null,null,null,null,null,null,null,null,null,null,null,null,null,null,0]
["SBSA_738","SBSA_738",null,null,null,null,null,null,null,null,null,null,null,null,null,null,null,null,null,null,null,null,null,null,null,null,null,null,null,null,null,null,null,0]
["SBSA_739","SBSA_739",null,null,null,null,null,null,null,null,null,null,null,null,null,null,null,null,null,null,null,null,null,null,null,null,null,null,null,null,null,null,null,0]
["SBSA_740","SBSA_740",null,null,null,null,null,null,null,null,null,null,null,null,null,null,null,null,null,null,null,null,null,null,null,null,null,null,null,null,null,null,null,0]
["SBSA_741","SBSA_741",null,null,null,null,null,null,null,null,null,null,null,null,null,null,null,null,null,null,null,null,null,null,null,null,null,null,null,null,null,null,null,0]
["SBSA_742","SBSA_742",null,null,null,null,null,null,null,null,null,null,null,null,null,null,null,null,null,null,null,null,null,null,null,null,null,null,null,null,null,null,null,0]
["SBSA_743","SBSA_743",null,null,null,null,null,null,null,null,null,null,null,null,null,null,null,null,null,null,null,null,null,null,null,null,null,null,null,null,null,null,null,0]
["SBSA_744","SBSA_744",null,null,null,null,null,null,null,null,null,null,null,null,null,null,null,null,null,null,null,null,null,null,null,null,null,null,null,null,null,null,null,0]
["SBSA_745","SBSA_745",null,null,null,null,null,null,null,null,null,null,null,null,null,null,null,null,null,null,null,null,null,null,null,null,null,null,null,null,null,null,null,0]
["SBSA_746","SBSA_746",null,null,null,null,null,null,null,null,null,null,null,null,null,null,null,null,null,null,null,null,null,null,null,null,null,null,null,null,null,null,null,0]
["SBSA_747","SBSA_747",null,null,null,null,null,null,null,null,null,null,null,null,null,null,null,null,null,null,null,null,null,null,null,null,null,null,null,null,null,null,null,0]
["SBSA_748","SBSA_748",null,null,null,null,null,null,null,null,null,null,null,null,null,null,null,null,null,null,null,null,null,null,null,null,null,null,null,null,null,null,null,0]
["SBSA_749","SBSA_749",null,null,null,null,null,null,null,null,null,null,null,null,null,null,null,null,null,null,null,null,null,null,null,null,null,null,null,null,null,null,null,0]
["SBSA_750","SBSA_750",null,null,null,null,null,null,null,null,null,null,null,null,null,null,null,null,null,null,null,null,null,null,null,null,null,null,null,null,null,null,null,0]
["SBSA_751","SBSA_751",null,null,null,null,null,null,null,null,null,null,null,null,null,null,null,null,null,null,null,null,null,null,null,null,null,null,null,null,null,null,null,0]
["SBSA_752","SBSA_752",null,null,null,null,null,null,null,null,null,null,null,null,null,null,null,null,null,null,null,null,null,null,null,null,null,null,null,null,null,null,null,0]
["SBSA_753","SBSA_753",null,null,null,null,null,null,null,null,null,null,null,null,null,null,null,null,null,null,null,null,null,null,null,null,null,null,null,null,null,null,null,0]
["SBSA_754","SBSA_754",null,null,null,null,null,null,null,null,null,null,null,null,null,null,null,null,null,null,null,null,null,null,null,null,null,null,null,null,null,null,null,0]
["SBSA_755","SBSA_755",null,null,null,null,null,null,null,null,null,null,null,null,null,null,null,null,null,null,null,null,null,null,null,null,null,null,null,null,null,null,null,0]
["SBSA_756","SBSA_756",null,null,null,null,null,null,null,null,null,null,null,null,null,null,null,null,null,null,null,null,null,null,null,null,null,null,null,null,null,null,null,0]
["SBSA_757","SBSA_757",null,null,null,null,null,null,null,null,null,null,null,null,null,null,null,null,null,null,null,null,null,null,null,null,null,null,null,null,null,null,null,0]
["SBSA_758","SBSA_758",null,null,null,null,null,null,null,null,null,null,null,null,null,null,null,null,null,null,null,null,null,null,null,null,null,null,null,null,null,null,null,0]
["SBSA_759","SBSA_759",null,null,null,null,null,null,null,null,null,null,null,null,null,null,null,null,null,null,null,null,null,null,null,null,null,null,null,null,null,null,null,0]
["SBSA_760","SBSA_760",null,null,null,null,null,null,null,null,null,null,null,null,null,null,null,null,null,null,null,null,null,null,null,null,null,null,null,null,null,null,null,0]
["SBSA_761","SBSA_761",null,null,null,null,null,null,null,null,null,null,null,null,null,null,null,null,null,null,null,null,null,null,null,null,null,null,null,null,null,null,null,0]
["SBSA_762","SBSA_762",null,null,null,null,null,null,null,null,null,null,null,null,null,null,null,null,null,null,null,null,null,null,null,null,null,null,null,null,null,null,null,0]
["SBSA_763","SBSA_763",null,null,null,null,null,null,null,null,null,null,null,null,null,null,null,null,null,null,null,null,null,null,null,null,null,null,null,null,null,null,null,0]
["SBSA_764","SBSA_764",null,null,null,null,null,null,null,null,null,null,null,null,null,null,null,null,null,null,null,null,null,null,null,null,null,null,null,null,null,null,null,0]
["SBSA_765","SBSA_765",null,null,null,null,null,null,null,null,null,null,null,null,null,null,null,null,null,null,null,null,null,null,null,null,null,null,null,null,null,null,null,0]
["SBSA_766","SBSA_766",null,null,null,null,null,null,null,null,null,null,null,null,null,null,null,null,null,null,null,null,null,null,null,null,null,null,null,null,null,null,null,0]
["SBSA_767","SBSA_767",null,null,null,null,null,null,null,null,null,null,null,null,null,null,null,null,null,null,null,null,null,null,null,null,null,null,null,null,null,null,null,0]
["SBSA_768","SBSA_768",null,null,null,null,null,null,null,null,null,null,null,null,null,null,null,null,null,null,null,null,null,null,null,null,null,null,null,null,null,null,null,0]
["SBSA_769","SBSA_769",null,null,null,null,null,null,null,null,null,null,null,null,null,null,null,null,null,null,null,null,null,null,null,null,null,null,null,null,null,null,null,{"$f":"IF(COUNTBLANK(C778:H778)<6,1,0)","v":0}]
["SBSA_770","SBSA_770",null,null,null,null,null,null,null,null,null,null,null,null,null,null,null,null,null,null,null,null,null,null,null,null,null,null,null,null,null,null,null,0]
["SBSA_771","SBSA_771",null,null,null,null,null,null,null,null,null,null,null,null,null,null,null,null,null,null,null,null,null,null,null,null,null,null,null,null,null,null,null,0]
["SBSA_772","SBSA_772",null,null,null,null,null,null,null,null,null,null,null,null,null,null,null,null,null,null,null,null,null,null,null,null,null,null,null,null,null,null,null,0]
["SBSA_773","SBSA_773",null,null,null,null,null,null,null,null,null,null,null,null,null,null,null,null,null,null,null,null,null,null,null,null,null,null,null,null,null,null,null,0]
["SBSA_774","SBSA_774",null,null,null,null,null,null,null,null,null,null,null,null,null,null,null,null,null,null,null,null,null,null,null,null,null,null,null,null,null,null,null,0]
["SBSA_775","SBSA_775",null,null,null,null,null,null,null,null,null,null,null,null,null,null,null,null,null,null,null,null,null,null,null,null,null,null,null,null,null,null,null,0]
["SBSA_776","SBSA_776",null,null,null,null,null,null,null,null,null,null,null,null,null,null,null,null,null,null,null,null,null,null,null,null,null,null,null,null,null,null,null,0]
["SBSA_777","SBSA_777",null,null,null,null,null,null,null,null,null,null,null,null,null,null,null,null,null,null,null,null,null,null,null,null,null,null,null,null,null,null,null,0]
["SBSA_778","SBSA_778",null,null,null,null,null,null,null,null,null,null,null,null,null,null,null,null,null,null,null,null,null,null,null,null,null,null,null,null,null,null,null,0]
["SBSA_779","SBSA_779",null,null,null,null,null,null,null,null,null,null,null,null,null,null,null,null,null,null,null,null,null,null,null,null,null,null,null,null,null,null,null,0]
["SBSA_780","SBSA_780",null,null,null,null,null,null,null,null,null,null,null,null,null,null,null,null,null,null,null,null,null,null,null,null,null,null,null,null,null,null,null,0]
["SBSA_781","SBSA_781",null,null,null,null,null,null,null,null,null,null,null,null,null,null,null,null,null,null,null,null,null,null,null,null,null,null,null,null,null,null,null,0]
["SBSA_782","SBSA_782",null,null,null,null,null,null,null,null,null,null,null,null,null,null,null,null,null,null,null,null,null,null,null,null,null,null,null,null,null,null,null,0]
["SBSA_783","SBSA_783",null,null,null,null,null,null,null,null,null,null,null,null,null,null,null,null,null,null,null,null,null,null,null,null,null,null,null,null,null,null,null,0]
["SBSA_784","SBSA_784",null,null,null,null,null,null,null,null,null,null,null,null,null,null,null,null,null,null,null,null,null,null,null,null,null,null,null,null,null,null,null,0]
["SBSA_785","SBSA_785",null,null,null,null,null,null,null,null,null,null,null,null,null,null,null,null,null,null,null,null,null,null,null,null,null,null,null,null,null,null,null,0]
["SBSA_786","SBSA_786",null,null,null,null,null,null,null,null,null,null,null,null,null,null,null,null,null,null,null,null,null,null,null,null,null,null,null,null,null,null,null,0]
["SBSA_787","SBSA_787",null,null,null,null,null,null,null,null,null,null,null,null,null,null,null,null,null,null,null,null,null,null,null,null,null,null,null,null,null,null,null,0]
["SBSA_788","SBSA_788",null,null,null,null,null,null,null,null,null,null,null,null,null,null,null,null,null,null,null,null,null,null,null,null,null,null,null,null,null,null,null,0]
["SBSA_789","SBSA_789",null,null,null,null,null,null,null,null,null,null,null,null,null,null,null,null,null,null,null,null,null,null,null,null,null,null,null,null,null,null,null,0]
["SBSA_790","SBSA_790",null,null,null,null,null,null,null,null,null,null,null,null,null,null,null,null,null,null,null,null,null,null,null,null,null,null,null,null,null,null,null,0]
["SBSA_791","SBSA_791",null,null,null,null,null,null,null,null,null,null,null,null,null,null,null,null,null,null,null,null,null,null,null,null,null,null,null,null,null,null,null,0]
["SBSA_792","SBSA_792",null,null,null,null,null,null,null,null,null,null,null,null,null,null,null,null,null,null,null,null,null,null,null,null,null,null,null,null,null,null,null,0]
["SBSA_793","SBSA_793",null,null,null,null,null,null,null,null,null,null,null,null,null,null,null,null,null,null,null,null,null,null,null,null,null,null,null,null,null,null,null,0]
["SBSA_794","SBSA_794",null,null,null,null,null,null,null,null,null,null,null,null,null,null,null,null,null,null,null,null,null,null,null,null,null,null,null,null,null,null,null,0]
["SBSA_795","SBSA_795",null,null,null,null,null,null,null,null,null,null,null,null,null,null,null,null,null,null,null,null,null,null,null,null,null,null,null,null,null,null,null,0]
["SBSA_796","SBSA_796",null,null,null,null,null,null,null,null,null,null,null,null,null,null,null,null,null,null,null,null,null,null,null,null,null,null,null,null,null,null,null,0]
["SBSA_797","SBSA_797",null,null,null,null,null,null,null,null,null,null,null,null,null,null,null,null,null,null,null,null,null,null,null,null,null,null,null,null,null,null,null,0]
["SBSA_798","SBSA_798",null,null,null,null,null,null,null,null,null,null,null,null,null,null,null,null,null,null,null,null,null,null,null,null,null,null,null,null,null,null,null,0]
["SBSA_799","SBSA_799",null,null,null,null,null,null,null,null,null,null,null,null,null,null,null,null,null,null,null,null,null,null,null,null,null,null,null,null,null,null,null,0]
["SBSA_800","SBSA_800",null,null,null,null,null,null,null,null,null,null,null,null,null,null,null,null,null,null,null,null,null,null,null,null,null,null,null,null,null,null,null,0]
["SBSA_801","SBSA_801",null,null,null,null,null,null,null,null,null,null,null,null,null,null,null,null,null,null,null,null,null,null,null,null,null,null,null,null,null,null,null,0]
["SBSA_802","SBSA_802",null,null,null,null,null,null,null,null,null,null,null,null,null,null,null,null,null,null,null,null,null,null,null,null,null,null,null,null,null,null,null,0]
["SBSA_803","SBSA_803",null,null,null,null,null,null,null,null,null,null,null,null,null,null,null,null,null,null,null,null,null,null,null,null,null,null,null,null,null,null,null,0]
["SBSA_804","SBSA_804",null,null,null,null,null,null,null,null,null,null,null,null,null,null,null,null,null,null,null,null,null,null,null,null,null,null,null,null,null,null,null,0]
["SBSA_805","SBSA_805",null,null,null,null,null,null,null,null,null,null,null,null,null,null,null,null,null,null,null,null,null,null,null,null,null,null,null,null,null,null,null,0]
["SBSA_806","SBSA_806",null,null,null,null,null,null,null,null,null,null,null,null,null,null,null,null,null,null,null,null,null,null,null,null,null,null,null,null,null,null,null,0]
["SBSA_807","SBSA_807",null,null,null,null,null,null,null,null,null,null,null,null,null,null,null,null,null,null,null,null,null,null,null,null,null,null,null,null,null,null,null,0]
["SBSA_808","SBSA_808",null,null,null,null,null,null,null,null,null,null,null,null,null,null,null,null,null,null,null,null,null,null,null,null,null,null,null,null,null,null,null,0]
["SBSA_809","SBSA_809",null,null,null,null,null,null,null,null,null,null,null,null,null,null,null,null,null,null,null,null,null,null,null,null,null,null,null,null,null,null,null,0]
["SBSA_810","SBSA_810",null,null,null,null,null,null,null,null,null,null,null,null,null,null,null,null,null,null,null,null,null,null,null,null,null,null,null,null,null,null,null,0]
["SBSA_811","SBSA_811",null,null,null,null,null,null,null,null,null,null,null,null,null,null,null,null,null,null,null,null,null,null,null,null,null,null,null,null,null,null,null,0]
["SBSA_812","SBSA_812",null,null,null,null,null,null,null,null,null,null,null,null,null,null,null,null,null,null,null,null,null,null,null,null,null,null,null,null,null,null,null,0]
["SBSA_813","SBSA_813",null,null,null,null,null,null,null,null,null,null,null,null,null,null,null,null,null,null,null,null,null,null,null,null,null,null,null,null,null,null,null,0]
["SBSA_814","SBSA_814",null,null,null,null,null,null,null,null,null,null,null,null,null,null,null,null,null,null,null,null,null,null,null,null,null,null,null,null,null,null,null,0]
["SBSA_815","SBSA_815",null,null,null,null,null,null,null,null,null,null,null,null,null,null,null,null,null,null,null,null,null,null,null,null,null,null,null,null,null,null,null,0]
["SBSA_816","SBSA_816",null,null,null,null,null,null,null,null,null,null,null,null,null,null,null,null,null,null,null,null,null,null,null,null,null,null,null,null,null,null,null,0]
["SBSA_817","SBSA_817",null,null,null,null,null,null,null,null,null,null,null,null,null,null,null,null,null,null,null,null,null,null,null,null,null,null,null,null,null,null,null,0]
["SBSA_818","SBSA_818",null,null,null,null,null,null,null,null,null,null,null,null,null,null,null,null,null,null,null,null,null,null,null,null,null,null,null,null,null,null,null,0]
["SBSA_819","SBSA_819",null,null,null,null,null,null,null,null,null,null,null,null,null,null,null,null,null,null,null,null,null,null,null,null,null,null,null,null,null,null,null,0]
["SBSA_820","SBSA_820",null,null,null,null,null,null,null,null,null,null,null,null,null,null,null,null,null,null,null,null,null,null,null,null,null,null,null,null,null,null,null,0]
["SBSA_821","SBSA_821",null,null,null,null,null,null,null,null,null,null,null,null,null,null,null,null,null,null,null,null,null,null,null,null,null,null,null,null,null,null,null,0]
["SBSA_822","SBSA_822",null,null,null,null,null,null,null,null,null,null,null,null,null,null,null,null,null,null,null,null,null,null,null,null,null,null,null,null,null,null,null,0]
["SBSA_823","SBSA_823",null,null,null,null,null,null,null,null,null,null,null,null,null,null,null,null,null,null,null,null,null,null,null,null,null,null,null,null,null,null,null,0]
["SBSA_824","SBSA_824",null,null,null,null,null,null,null,null,null,null,null,null,null,null,null,null,null,null,null,null,null,null,null,null,null,null,null,null,null,null,null,0]
["SBSA_825","SBSA_825",null,null,null,null,null,null,null,null,null,null,null,null,null,null,null,null,null,null,null,null,null,null,null,null,null,null,null,null,null,null,null,0]
["SBSA_826","SBSA_826",null,null,null,null,null,null,null,null,null,null,null,null,null,null,null,null,null,null,null,null,null,null,null,null,null,null,null,null,null,null,null,0]
["SBSA_827","SBSA_827",null,null,null,null,null,null,null,null,null,null,null,null,null,null,null,null,null,null,null,null,null,null,null,null,null,null,null,null,null,null,null,0]
["SBSA_828","SBSA_828",null,null,null,null,null,null,null,null,null,null,null,null,null,null,null,null,null,null,null,null,null,null,null,null,null,null,null,null,null,null,null,0]
["SBSA_829","SBSA_829",null,null,null,null,null,null,null,null,null,null,null,null,null,null,null,null,null,null,null,null,null,null,null,null,null,null,null,null,null,null,null,0]
["SBSA_830","SBSA_830",null,null,null,null,null,null,null,null,null,null,null,null,null,null,null,null,null,null,null,null,null,null,null,null,null,null,null,null,null,null,null,0]
["SBSA_831","SBSA_831",null,null,null,null,null,null,null,null,null,null,null,null,null,null,null,null,null,null,null,null,null,null,null,null,null,null,null,null,null,null,null,0]
["SBSA_832","SBSA_832",null,null,null,null,null,null,null,null,null,null,null,null,null,null,null,null,null,null,null,null,null,null,null,null,null,null,null,null,null,null,null,0]
["SBSA_833","SBSA_833",null,null,null,null,null,null,null,null,null,null,null,null,null,null,null,null,null,null,null,null,null,null,null,null,null,null,null,null,null,null,null,{"$f":"IF(COUNTBLANK(C842:H842)<6,1,0)","v":0}]
["SBSA_834","SBSA_834",null,null,null,null,null,null,null,null,null,null,null,null,null,null,null,null,null,null,null,null,null,null,null,null,null,null,null,null,null,null,null,0]
["SBSA_835","SBSA_835",null,null,null,null,null,null,null,null,null,null,null,null,null,null,null,null,null,null,null,null,null,null,null,null,null,null,null,null,null,null,null,0]
["SBSA_836","SBSA_836",null,null,null,null,null,null,null,null,null,null,null,null,null,null,null,null,null,null,null,null,null,null,null,null,null,null,null,null,null,null,null,0]
["SBSA_837","SBSA_837",null,null,null,null,null,null,null,null,null,null,null,null,null,null,null,null,null,null,null,null,null,null,null,null,null,null,null,null,null,null,null,0]
["SBSA_838","SBSA_838",null,null,null,null,null,null,null,null,null,null,null,null,null,null,null,null,null,null,null,null,null,null,null,null,null,null,null,null,null,null,null,0]
["SBSA_839","SBSA_839",null,null,null,null,null,null,null,null,null,null,null,null,null,null,null,null,null,null,null,null,null,null,null,null,null,null,null,null,null,null,null,0]
["SBSA_840","SBSA_840",null,null,null,null,null,null,null,null,null,null,null,null,null,null,null,null,null,null,null,null,null,null,null,null,null,null,null,null,null,null,null,0]
["SBSA_841","SBSA_841",null,null,null,null,null,null,null,null,null,null,null,null,null,null,null,null,null,null,null,null,null,null,null,null,null,null,null,null,null,null,null,0]
["SBSA_842","SBSA_842",null,null,null,null,null,null,null,null,null,null,null,null,null,null,null,null,null,null,null,null,null,null,null,null,null,null,null,null,null,null,null,0]
["SBSA_843","SBSA_843",null,null,null,null,null,null,null,null,null,null,null,null,null,null,null,null,null,null,null,null,null,null,null,null,null,null,null,null,null,null,null,0]
["SBSA_844","SBSA_844",null,null,null,null,null,null,null,null,null,null,null,null,null,null,null,null,null,null,null,null,null,null,null,null,null,null,null,null,null,null,null,0]
["SBSA_845","SBSA_845",null,null,null,null,null,null,null,null,null,null,null,null,null,null,null,null,null,null,null,null,null,null,null,null,null,null,null,null,null,null,null,0]
["SBSA_846","SBSA_846",null,null,null,null,null,null,null,null,null,null,null,null,null,null,null,null,null,null,null,null,null,null,null,null,null,null,null,null,null,null,null,0]
["SBSA_847","SBSA_847",null,null,null,null,null,null,null,null,null,null,null,null,null,null,null,null,null,null,null,null,null,null,null,null,null,null,null,null,null,null,null,0]
["SBSA_848","SBSA_848",null,null,null,null,null,null,null,null,null,null,null,null,null,null,null,null,null,null,null,null,null,null,null,null,null,null,null,null,null,null,null,0]
["SBSA_849","SBSA_849",null,null,null,null,null,null,null,null,null,null,null,null,null,null,null,null,null,null,null,null,null,null,null,null,null,null,null,null,null,null,null,0]
["SBSA_850","SBSA_850",null,null,null,null,null,null,null,null,null,null,null,null,null,null,null,null,null,null,null,null,null,null,null,null,null,null,null,null,null,null,null,0]
["SBSA_851","SBSA_851",null,null,null,null,null,null,null,null,null,null,null,null,null,null,null,null,null,null,null,null,null,null,null,null,null,null,null,null,null,null,null,0]
["SBSA_852","SBSA_852",null,null,null,null,null,null,null,null,null,null,null,null,null,null,null,null,null,null,null,null,null,null,null,null,null,null,null,null,null,null,null,0]
["SBSA_853","SBSA_853",null,null,null,null,null,null,null,null,null,null,null,null,null,null,null,null,null,null,null,null,null,null,null,null,null,null,null,null,null,null,null,0]
["SBSA_854","SBSA_854",null,null,null,null,null,null,null,null,null,null,null,null,null,null,null,null,null,null,null,null,null,null,null,null,null,null,null,null,null,null,null,0]
["SBSA_855","SBSA_855",null,null,null,null,null,null,null,null,null,null,null,null,null,null,null,null,null,null,null,null,null,null,null,null,null,null,null,null,null,null,null,0]
["SBSA_856","SBSA_856",null,null,null,null,null,null,null,null,null,null,null,null,null,null,null,null,null,null,null,null,null,null,null,null,null,null,null,null,null,null,null,0]
["SBSA_857","SBSA_857",null,null,null,null,null,null,null,null,null,null,null,null,null,null,null,null,null,null,null,null,null,null,null,null,null,null,null,null,null,null,null,0]
["SBSA_858","SBSA_858",null,null,null,null,null,null,null,null,null,null,null,null,null,null,null,null,null,null,null,null,null,null,null,null,null,null,null,null,null,null,null,0]
["SBSA_859","SBSA_859",null,null,null,null,null,null,null,null,null,null,null,null,null,null,null,null,null,null,null,null,null,null,null,null,null,null,null,null,null,null,null,0]
["SBSA_860","SBSA_860",null,null,null,null,null,null,null,null,null,null,null,null,null,null,null,null,null,null,null,null,null,null,null,null,null,null,null,null,null,null,null,0]
["SBSA_861","SBSA_861",null,null,null,null,null,null,null,null,null,null,null,null,null,null,null,null,null,null,null,null,null,null,null,null,null,null,null,null,null,null,null,0]
["SBSA_862","SBSA_862",null,null,null,null,null,null,null,null,null,null,null,null,null,null,null,null,null,null,null,null,null,null,null,null,null,null,null,null,null,null,null,0]
["SBSA_863","SBSA_863",null,null,null,null,null,null,null,null,null,null,null,null,null,null,null,null,null,null,null,null,null,null,null,null,null,null,null,null,null,null,null,0]
["SBSA_864","SBSA_864",null,null,null,null,null,null,null,null,null,null,null,null,null,null,null,null,null,null,null,null,null,null,null,null,null,null,null,null,null,null,null,0]
["SBSA_865","SBSA_865",null,null,null,null,null,null,null,null,null,null,null,null,null,null,null,null,null,null,null,null,null,null,null,null,null,null,null,null,null,null,null,0]
["SBSA_866","SBSA_866",null,null,null,null,null,null,null,null,null,null,null,null,null,null,null,null,null,null,null,null,null,null,null,null,null,null,null,null,null,null,null,0]
["SBSA_867","SBSA_867",null,null,null,null,null,null,null,null,null,null,null,null,null,null,null,null,null,null,null,null,null,null,null,null,null,null,null,null,null,null,null,0]
["SBSA_868","SBSA_868",null,null,null,null,null,null,null,null,null,null,null,null,null,null,null,null,null,null,null,null,null,null,null,null,null,null,null,null,null,null,null,0]
["SBSA_869","SBSA_869",null,null,null,null,null,null,null,null,null,null,null,null,null,null,null,null,null,null,null,null,null,null,null,null,null,null,null,null,null,null,null,0]
["SBSA_870","SBSA_870",null,null,null,null,null,null,null,null,null,null,null,null,null,null,null,null,null,null,null,null,null,null,null,null,null,null,null,null,null,null,null,0]
["SBSA_871","SBSA_871",null,null,null,null,null,null,null,null,null,null,null,null,null,null,null,null,null,null,null,null,null,null,null,null,null,null,null,null,null,null,null,0]
["SBSA_872","SBSA_872",null,null,null,null,null,null,null,null,null,null,null,null,null,null,null,null,null,null,null,null,null,null,null,null,null,null,null,null,null,null,null,0]
["SBSA_873","SBSA_873",null,null,null,null,null,null,null,null,null,null,null,null,null,null,null,null,null,null,null,null,null,null,null,null,null,null,null,null,null,null,null,0]
["SBSA_874","SBSA_874",null,null,null,null,null,null,null,null,null,null,null,null,null,null,null,null,null,null,null,null,null,null,null,null,null,null,null,null,null,null,null,0]
["SBSA_875","SBSA_875",null,null,null,null,null,null,null,null,null,null,null,null,null,null,null,null,null,null,null,null,null,null,null,null,null,null,null,null,null,null,null,0]
["SBSA_876","SBSA_876",null,null,null,null,null,null,null,null,null,null,null,null,null,null,null,null,null,null,null,null,null,null,null,null,null,null,null,null,null,null,null,0]
["SBSA_877","SBSA_877",null,null,null,null,null,null,null,null,null,null,null,null,null,null,null,null,null,null,null,null,null,null,null,null,null,null,null,null,null,null,null,0]
["SBSA_878","SBSA_878",null,null,null,null,null,null,null,null,null,null,null,null,null,null,null,null,null,null,null,null,null,null,null,null,null,null,null,null,null,null,null,0]
["SBSA_879","SBSA_879",null,null,null,null,null,null,null,null,null,null,null,null,null,null,null,null,null,null,null,null,null,null,null,null,null,null,null,null,null,null,null,0]
["SBSA_880","SBSA_880",null,null,null,null,null,null,null,null,null,null,null,null,null,null,null,null,null,null,null,null,null,null,null,null,null,null,null,null,null,null,null,0]
["SBSA_881","SBSA_881",null,null,null,null,null,null,null,null,null,null,null,null,null,null,null,null,null,null,null,null,null,null,null,null,null,null,null,null,null,null,null,0]
["SBSA_882","SBSA_882",null,null,null,null,null,null,null,null,null,null,null,null,null,null,null,null,null,null,null,null,null,null,null,null,null,null,null,null,null,null,null,0]
["SBSA_883","SBSA_883",null,null,null,null,null,null,null,null,null,null,null,null,null,null,null,null,null,null,null,null,null,null,null,null,null,null,null,null,null,null,null,0]
["SBSA_884","SBSA_884",null,null,null,null,null,null,null,null,null,null,null,null,null,null,null,null,null,null,null,null,null,null,null,null,null,null,null,null,null,null,null,0]
["SBSA_885","SBSA_885",null,null,null,null,null,null,null,null,null,null,null,null,null,null,null,null,null,null,null,null,null,null,null,null,null,null,null,null,null,null,null,0]
["SBSA_886","SBSA_886",null,null,null,null,null,null,null,null,null,null,null,null,null,null,null,null,null,null,null,null,null,null,null,null,null,null,null,null,null,null,null,0]
["SBSA_887","SBSA_887",null,null,null,null,null,null,null,null,null,null,null,null,null,null,null,null,null,null,null,null,null,null,null,null,null,null,null,null,null,null,null,0]
["SBSA_888","SBSA_888",null,null,null,null,null,null,null,null,null,null,null,null,null,null,null,null,null,null,null,null,null,null,null,null,null,null,null,null,null,null,null,0]
["SBSA_889","SBSA_889",null,null,null,null,null,null,null,null,null,null,null,null,null,null,null,null,null,null,null,null,null,null,null,null,null,null,null,null,null,null,null,0]
["SBSA_890","SBSA_890",null,null,null,null,null,null,null,null,null,null,null,null,null,null,null,null,null,null,null,null,null,null,null,null,null,null,null,null,null,null,null,0]
["SBSA_891","SBSA_891",null,null,null,null,null,null,null,null,null,null,null,null,null,null,null,null,null,null,null,null,null,null,null,null,null,null,null,null,null,null,null,0]
["SBSA_892","SBSA_892",null,null,null,null,null,null,null,null,null,null,null,null,null,null,null,null,null,null,null,null,null,null,null,null,null,null,null,null,null,null,null,0]
["SBSA_893","SBSA_893",null,null,null,null,null,null,null,null,null,null,null,null,null,null,null,null,null,null,null,null,null,null,null,null,null,null,null,null,null,null,null,0]
["SBSA_894","SBSA_894",null,null,null,null,null,null,null,null,null,null,null,null,null,null,null,null,null,null,null,null,null,null,null,null,null,null,null,null,null,null,null,0]
["SBSA_895","SBSA_895",null,null,null,null,null,null,null,null,null,null,null,null,null,null,null,null,null,null,null,null,null,null,null,null,null,null,null,null,null,null,null,0]
["SBSA_896","SBSA_896",null,null,null,null,null,null,null,null,null,null,null,null,null,null,null,null,null,null,null,null,null,null,null,null,null,null,null,null,null,null,null,0]
["SBSA_897","SBSA_897",null,null,null,null,null,null,null,null,null,null,null,null,null,null,null,null,null,null,null,null,null,null,null,null,null,null,null,null,null,null,null,{"$f":"IF(COUNTBLANK(C906:H906)<6,1,0)","v":0}]
["SBSA_898","SBSA_898",null,null,null,null,null,null,null,null,null,null,null,null,null,null,null,null,null,null,null,null,null,null,null,null,null,null,null,null,null,null,null,0]
["SBSA_899","SBSA_899",null,null,null,null,null,null,null,null,null,null,null,null,null,null,null,null,null,null,null,null,null,null,null,null,null,null,null,null,null,null,null,0]
["SBSA_900","SBSA_900",null,null,null,null,null,null,null,null,null,null,null,null,null,null,null,null,null,null,null,null,null,null,null,null,null,null,null,null,null,null,null,0]
["SBSA_901","SBSA_901",null,null,null,null,null,null,null,null,null,null,null,null,null,null,null,null,null,null,null,null,null,null,null,null,null,null,null,null,null,null,null,0]
["SBSA_902","SBSA_902",null,null,null,null,null,null,null,null,null,null,null,null,null,null,null,null,null,null,null,null,null,null,null,null,null,null,null,null,null,null,null,0]
["SBSA_903","SBSA_903",null,null,null,null,null,null,null,null,null,null,null,null,null,null,null,null,null,null,null,null,null,null,null,null,null,null,null,null,null,null,null,0]
["SBSA_904","SBSA_904",null,null,null,null,null,null,null,null,null,null,null,null,null,null,null,null,null,null,null,null,null,null,null,null,null,null,null,null,null,null,null,0]
["SBSA_905","SBSA_905",null,null,null,null,null,null,null,null,null,null,null,null,null,null,null,null,null,null,null,null,null,null,null,null,null,null,null,null,null,null,null,0]
["SBSA_906","SBSA_906",null,null,null,null,null,null,null,null,null,null,null,null,null,null,null,null,null,null,null,null,null,null,null,null,null,null,null,null,null,null,null,0]
["SBSA_907","SBSA_907",null,null,null,null,null,null,null,null,null,null,null,null,null,null,null,null,null,null,null,null,null,null,null,null,null,null,null,null,null,null,null,0]
["SBSA_908","SBSA_908",null,null,null,null,null,null,null,null,null,null,null,null,null,null,null,null,null,null,null,null,null,null,null,null,null,null,null,null,null,null,null,0]
["SBSA_909","SBSA_909",null,null,null,null,null,null,null,null,null,null,null,null,null,null,null,null,null,null,null,null,null,null,null,null,null,null,null,null,null,null,null,0]
["SBSA_910","SBSA_910",null,null,null,null,null,null,null,null,null,null,null,null,null,null,null,null,null,null,null,null,null,null,null,null,null,null,null,null,null,null,null,0]
["SBSA_911","SBSA_911",null,null,null,null,null,null,null,null,null,null,null,null,null,null,null,null,null,null,null,null,null,null,null,null,null,null,null,null,null,null,null,0]
["SBSA_912","SBSA_912",null,null,null,null,null,null,null,null,null,null,null,null,null,null,null,null,null,null,null,null,null,null,null,null,null,null,null,null,null,null,null,0]
["SBSA_913","SBSA_913",null,null,null,null,null,null,null,null,null,null,null,null,null,null,null,null,null,null,null,null,null,null,null,null,null,null,null,null,null,null,null,0]
["SBSA_914","SBSA_914",null,null,null,null,null,null,null,null,null,null,null,null,null,null,null,null,null,null,null,null,null,null,null,null,null,null,null,null,null,null,null,0]
["SBSA_915","SBSA_915",null,null,null,null,null,null,null,null,null,null,null,null,null,null,null,null,null,null,null,null,null,null,null,null,null,null,null,null,null,null,null,0]
["SBSA_916","SBSA_916",null,null,null,null,null,null,null,null,null,null,null,null,null,null,null,null,null,null,null,null,null,null,null,null,null,null,null,null,null,null,null,0]
["SBSA_917","SBSA_917",null,null,null,null,null,null,null,null,null,null,null,null,null,null,null,null,null,null,null,null,null,null,null,null,null,null,null,null,null,null,null,0]
["SBSA_918","SBSA_918",null,null,null,null,null,null,null,null,null,null,null,null,null,null,null,null,null,null,null,null,null,null,null,null,null,null,null,null,null,null,null,0]
["SBSA_919","SBSA_919",null,null,null,null,null,null,null,null,null,null,null,null,null,null,null,null,null,null,null,null,null,null,null,null,null,null,null,null,null,null,null,0]
["SBSA_920","SBSA_920",null,null,null,null,null,null,null,null,null,null,null,null,null,null,null,null,null,null,null,null,null,null,null,null,null,null,null,null,null,null,null,0]
["SBSA_921","SBSA_921",null,null,null,null,null,null,null,null,null,null,null,null,null,null,null,null,null,null,null,null,null,null,null,null,null,null,null,null,null,null,null,0]
["SBSA_922","SBSA_922",null,null,null,null,null,null,null,null,null,null,null,null,null,null,null,null,null,null,null,null,null,null,null,null,null,null,null,null,null,null,null,0]
["SBSA_923","SBSA_923",null,null,null,null,null,null,null,null,null,null,null,null,null,null,null,null,null,null,null,null,null,null,null,null,null,null,null,null,null,null,null,0]
["SBSA_924","SBSA_924",null,null,null,null,null,null,null,null,null,null,null,null,null,null,null,null,null,null,null,null,null,null,null,null,null,null,null,null,null,null,null,0]
["SBSA_925","SBSA_925",null,null,null,null,null,null,null,null,null,null,null,null,null,null,null,null,null,null,null,null,null,null,null,null,null,null,null,null,null,null,null,0]
["SBSA_926","SBSA_926",null,null,null,null,null,null,null,null,null,null,null,null,null,null,null,null,null,null,null,null,null,null,null,null,null,null,null,null,null,null,null,0]
["SBSA_927","SBSA_927",null,null,null,null,null,null,null,null,null,null,null,null,null,null,null,null,null,null,null,null,null,null,null,null,null,null,null,null,null,null,null,0]
["SBSA_928","SBSA_928",null,null,null,null,null,null,null,null,null,null,null,null,null,null,null,null,null,null,null,null,null,null,null,null,null,null,null,null,null,null,null,0]
["SBSA_929","SBSA_929",null,null,null,null,null,null,null,null,null,null,null,null,null,null,null,null,null,null,null,null,null,null,null,null,null,null,null,null,null,null,null,0]
["SBSA_930","SBSA_930",null,null,null,null,null,null,null,null,null,null,null,null,null,null,null,null,null,null,null,null,null,null,null,null,null,null,null,null,null,null,null,0]
["SBSA_931","SBSA_931",null,null,null,null,null,null,null,null,null,null,null,null,null,null,null,null,null,null,null,null,null,null,null,null,null,null,null,null,null,null,null,0]
["SBSA_932","SBSA_932",null,null,null,null,null,null,null,null,null,null,null,null,null,null,null,null,null,null,null,null,null,null,null,null,null,null,null,null,null,null,null,0]
["SBSA_933","SBSA_933",null,null,null,null,null,null,null,null,null,null,null,null,null,null,null,null,null,null,null,null,null,null,null,null,null,null,null,null,null,null,null,0]
["SBSA_934","SBSA_934",null,null,null,null,null,null,null,null,null,null,null,null,null,null,null,null,null,null,null,null,null,null,null,null,null,null,null,null,null,null,null,0]
["SBSA_935","SBSA_935",null,null,null,null,null,null,null,null,null,null,null,null,null,null,null,null,null,null,null,null,null,null,null,null,null,null,null,null,null,null,null,0]
["SBSA_936","SBSA_936",null,null,null,null,null,null,null,null,null,null,null,null,null,null,null,null,null,null,null,null,null,null,null,null,null,null,null,null,null,null,null,0]
["SBSA_937","SBSA_937",null,null,null,null,null,null,null,null,null,null,null,null,null,null,null,null,null,null,null,null,null,null,null,null,null,null,null,null,null,null,null,0]
["SBSA_938","SBSA_938",null,null,null,null,null,null,null,null,null,null,null,null,null,null,null,null,null,null,null,null,null,null,null,null,null,null,null,null,null,null,null,0]
["SBSA_939","SBSA_939",null,null,null,null,null,null,null,null,null,null,null,null,null,null,null,null,null,null,null,null,null,null,null,null,null,null,null,null,null,null,null,0]
["SBSA_940","SBSA_940",null,null,null,null,null,null,null,null,null,null,null,null,null,null,null,null,null,null,null,null,null,null,null,null,null,null,null,null,null,null,null,0]
["SBSA_941","SBSA_941",null,null,null,null,null,null,null,null,null,null,null,null,null,null,null,null,null,null,null,null,null,null,null,null,null,null,null,null,null,null,null,0]
["SBSA_942","SBSA_942",null,null,null,null,null,null,null,null,null,null,null,null,null,null,null,null,null,null,null,null,null,null,null,null,null,null,null,null,null,null,null,0]
["SBSA_943","SBSA_943",null,null,null,null,null,null,null,null,null,null,null,null,null,null,null,null,null,null,null,null,null,null,null,null,null,null,null,null,null,null,null,0]
["SBSA_944","SBSA_944",null,null,null,null,null,null,null,null,null,null,null,null,null,null,null,null,null,null,null,null,null,null,null,null,null,null,null,null,null,null,null,0]
["SBSA_945","SBSA_945",null,null,null,null,null,null,null,null,null,null,null,null,null,null,null,null,null,null,null,null,null,null,null,null,null,null,null,null,null,null,null,0]
["SBSA_946","SBSA_946",null,null,null,null,null,null,null,null,null,null,null,null,null,null,null,null,null,null,null,null,null,null,null,null,null,null,null,null,null,null,null,0]
["SBSA_947","SBSA_947",null,null,null,null,null,null,null,null,null,null,null,null,null,null,null,null,null,null,null,null,null,null,null,null,null,null,null,null,null,null,null,0]
["SBSA_948","SBSA_948",null,null,null,null,null,null,null,null,null,null,null,null,null,null,null,null,null,null,null,null,null,null,null,null,null,null,null,null,null,null,null,0]
["SBSA_949","SBSA_949",null,null,null,null,null,null,null,null,null,null,null,null,null,null,null,null,null,null,null,null,null,null,null,null,null,null,null,null,null,null,null,0]
["SBSA_950","SBSA_950",null,null,null,null,null,null,null,null,null,null,null,null,null,null,null,null,null,null,null,null,null,null,null,null,null,null,null,null,null,null,null,0]
["SBSA_951","SBSA_951",null,null,null,null,null,null,null,null,null,null,null,null,null,null,null,null,null,null,null,null,null,null,null,null,null,null,null,null,null,null,null,0]
["SBSA_952","SBSA_952",null,null,null,null,null,null,null,null,null,null,null,null,null,null,null,null,null,null,null,null,null,null,null,null,null,null,null,null,null,null,null,0]
["SBSA_953","SBSA_953",null,null,null,null,null,null,null,null,null,null,null,null,null,null,null,null,null,null,null,null,null,null,null,null,null,null,null,null,null,null,null,0]
["SBSA_954","SBSA_954",null,null,null,null,null,null,null,null,null,null,null,null,null,null,null,null,null,null,null,null,null,null,null,null,null,null,null,null,null,null,null,0]
["SBSA_955","SBSA_955",null,null,null,null,null,null,null,null,null,null,null,null,null,null,null,null,null,null,null,null,null,null,null,null,null,null,null,null,null,null,null,0]
["SBSA_956","SBSA_956",null,null,null,null,null,null,null,null,null,null,null,null,null,null,null,null,null,null,null,null,null,null,null,null,null,null,null,null,null,null,null,0]
["SBSA_957","SBSA_957",null,null,null,null,null,null,null,null,null,null,null,null,null,null,null,null,null,null,null,null,null,null,null,null,null,null,null,null,null,null,null,0]
["SBSA_958","SBSA_958",null,null,null,null,null,null,null,null,null,null,null,null,null,null,null,null,null,null,null,null,null,null,null,null,null,null,null,null,null,null,null,0]
["SBSA_959","SBSA_959",null,null,null,null,null,null,null,null,null,null,null,null,null,null,null,null,null,null,null,null,null,null,null,null,null,null,null,null,null,null,null,0]
["SBSA_960","SBSA_960",null,null,null,null,null,null,null,null,null,null,null,null,null,null,null,null,null,null,null,null,null,null,null,null,null,null,null,null,null,null,null,0]
["SBSA_961","SBSA_961",null,null,null,null,null,null,null,null,null,null,null,null,null,null,null,null,null,null,null,null,null,null,null,null,null,null,null,null,null,null,null,{"$f":"IF(COUNTBLANK(C970:H970)<6,1,0)","v":0}]
["SBSA_962","SBSA_962",null,null,null,null,null,null,null,null,null,null,null,null,null,null,null,null,null,null,null,null,null,null,null,null,null,null,null,null,null,null,null,0]
["SBSA_963","SBSA_963",null,null,null,null,null,null,null,null,null,null,null,null,null,null,null,null,null,null,null,null,null,null,null,null,null,null,null,null,null,null,null,0]
["SBSA_964","SBSA_964",null,null,null,null,null,null,null,null,null,null,null,null,null,null,null,null,null,null,null,null,null,null,null,null,null,null,null,null,null,null,null,0]
["SBSA_965","SBSA_965",null,null,null,null,null,null,null,null,null,null,null,null,null,null,null,null,null,null,null,null,null,null,null,null,null,null,null,null,null,null,null,0]
["SBSA_966","SBSA_966",null,null,null,null,null,null,null,null,null,null,null,null,null,null,null,null,null,null,null,null,null,null,null,null,null,null,null,null,null,null,null,0]
["SBSA_967","SBSA_967",null,null,null,null,null,null,null,null,null,null,null,null,null,null,null,null,null,null,null,null,null,null,null,null,null,null,null,null,null,null,null,0]
["SBSA_968","SBSA_968",null,null,null,null,null,null,null,null,null,null,null,null,null,null,null,null,null,null,null,null,null,null,null,null,null,null,null,null,null,null,null,0]
["SBSA_969","SBSA_969",null,null,null,null,null,null,null,null,null,null,null,null,null,null,null,null,null,null,null,null,null,null,null,null,null,null,null,null,null,null,null,0]
["SBSA_970","SBSA_970",null,null,null,null,null,null,null,null,null,null,null,null,null,null,null,null,null,null,null,null,null,null,null,null,null,null,null,null,null,null,null,0]
["SBSA_971","SBSA_971",null,null,null,null,null,null,null,null,null,null,null,null,null,null,null,null,null,null,null,null,null,null,null,null,null,null,null,null,null,null,null,0]
["SBSA_972","SBSA_972",null,null,null,null,null,null,null,null,null,null,null,null,null,null,null,null,null,null,null,null,null,null,null,null,null,null,null,null,null,null,null,0]
["SBSA_973","SBSA_973",null,null,null,null,null,null,null,null,null,null,null,null,null,null,null,null,null,null,null,null,null,null,null,null,null,null,null,null,null,null,null,0]
["SBSA_974","SBSA_974",null,null,null,null,null,null,null,null,null,null,null,null,null,null,null,null,null,null,null,null,null,null,null,null,null,null,null,null,null,null,null,0]
["SBSA_975","SBSA_975",null,null,null,null,null,null,null,null,null,null,null,null,null,null,null,null,null,null,null,null,null,null,null,null,null,null,null,null,null,null,null,0]
["SBSA_976","SBSA_976",null,null,null,null,null,null,null,null,null,null,null,null,null,null,null,null,null,null,null,null,null,null,null,null,null,null,null,null,null,null,null,0]
["SBSA_977","SBSA_977",null,null,null,null,null,null,null,null,null,null,null,null,null,null,null,null,null,null,null,null,null,null,null,null,null,null,null,null,null,null,null,0]
["SBSA_978","SBSA_978",null,null,null,null,null,null,null,null,null,null,null,null,null,null,null,null,null,null,null,null,null,null,null,null,null,null,null,null,null,null,null,0]
["SBSA_979","SBSA_979",null,null,null,null,null,null,null,null,null,null,null,null,null,null,null,null,null,null,null,null,null,null,null,null,null,null,null,null,null,null,null,0]
["SBSA_980","SBSA_980",null,null,null,null,null,null,null,null,null,null,null,null,null,null,null,null,null,null,null,null,null,null,null,null,null,null,null,null,null,null,null,0]
["SBSA_981","SBSA_981",null,null,null,null,null,null,null,null,null,null,null,null,null,null,null,null,null,null,null,null,null,null,null,null,null,null,null,null,null,null,null,0]
["SBSA_982","SBSA_982",null,null,null,null,null,null,null,null,null,null,null,null,null,null,null,null,null,null,null,null,null,null,null,null,null,null,null,null,null,null,null,0]
["SBSA_983","SBSA_983",null,null,null,null,null,null,null,null,null,null,null,null,null,null,null,null,null,null,null,null,null,null,null,null,null,null,null,null,null,null,null,0]
["SBSA_984","SBSA_984",null,null,null,null,null,null,null,null,null,null,null,null,null,null,null,null,null,null,null,null,null,null,null,null,null,null,null,null,null,null,null,0]
["SBSA_985","SBSA_985",null,null,null,null,null,null,null,null,null,null,null,null,null,null,null,null,null,null,null,null,null,null,null,null,null,null,null,null,null,null,null,0]
["SBSA_986","SBSA_986",null,null,null,null,null,null,null,null,null,null,null,null,null,null,null,null,null,null,null,null,null,null,null,null,null,null,null,null,null,null,null,0]
["SBSA_987","SBSA_987",null,null,null,null,null,null,null,null,null,null,null,null,null,null,null,null,null,null,null,null,null,null,null,null,null,null,null,null,null,null,null,0]
["SBSA_988","SBSA_988",null,null,null,null,null,null,null,null,null,null,null,null,null,null,null,null,null,null,null,null,null,null,null,null,null,null,null,null,null,null,null,0]
["SBSA_989","SBSA_989",null,null,null,null,null,null,null,null,null,null,null,null,null,null,null,null,null,null,null,null,null,null,null,null,null,null,null,null,null,null,null,0]
["SBSA_990","SBSA_990",null,null,null,null,null,null,null,null,null,null,null,null,null,null,null,null,null,null,null,null,null,null,null,null,null,null,null,null,null,null,null,0]
["SBSA_991","SBSA_991",null,null,null,null,null,null,null,null,null,null,null,null,null,null,null,null,null,null,null,null,null,null,null,null,null,null,null,null,null,null,null,0]
["SBSA_992","SBSA_992",null,null,null,null,null,null,null,null,null,null,null,null,null,null,null,null,null,null,null,null,null,null,null,null,null,null,null,null,null,null,null,0]
["SBSA_993","SBSA_993",null,null,null,null,null,null,null,null,null,null,null,null,null,null,null,null,null,null,null,null,null,null,null,null,null,null,null,null,null,null,null,0]
["SBSA_994","SBSA_994",null,null,null,null,null,null,null,null,null,null,null,null,null,null,null,null,null,null,null,null,null,null,null,null,null,null,null,null,null,null,null,0]
["SBSA_995","SBSA_995",null,null,null,null,null,null,null,null,null,null,null,null,null,null,null,null,null,null,null,null,null,null,null,null,null,null,null,null,null,null,null,0]
["SBSA_996","SBSA_996",null,null,null,null,null,null,null,null,null,null,null,null,null,null,null,null,null,null,null,null,null,null,null,null,null,null,null,null,null,null,null,0]
["SBSA_997","SBSA_997",null,null,null,null,null,null,null,null,null,null,null,null,null,null,null,null,null,null,null,null,null,null,null,null,null,null,null,null,null,null,null,0]
["SBSA_998","SBSA_998",null,null,null,null,null,null,null,null,null,null,null,null,null,null,null,null,null,null,null,null,null,null,null,null,null,null,null,null,null,null,null,0]
["SBSA_999","SBSA_999",null,null,null,null,null,null,null,null,null,null,null,null,null,null,null,null,null,null,null,null,null,null,null,null,null,null,null,null,null,null,null,0]
["SBSA_1000","SBSA_1000",null,null,null,null,null,null,null,null,null,null,null,null,null,null,null,null,null,null,null,null,null,null,null,null,null,null,null,null,null,null,null,0]
[null,null,null,null,null,null,null,null,null,null,null,null,null,null,null,null,null,null,null,null,null,null,null,null,null,null,null,null,null,null,null,null,null,1]

{"sheet":"SBSA_NON-NOM_NFC","index":19,"n_rows":510,"n_cols":34,"rows_kept":510,"cut":false,"hidden":true,"merged":[[0,2,0,7],[7,3,7,7]]}
[null,null,"REPORTING OF SECURITIES TRANSACTED ON BEHALF OF RESIDENT NON-FINANCIAL COMPANY CLIENTS (NON-NOMINEE) ON A SECURITY BY SECURITY (SBS) BASIS",null,null,null,null,null,null,null,null,null,null,null,null,null,null,null,null,null,null,null,null,null,null,null,null,null,null,null,null,null,null,"A"]
[null,null,"Company Name:",{"$f":"IF(Validation_Checks_CBM!E6<>\"\",Validation_Checks_CBM!E6,\"\")","v":0},null,null,null,null,null,null,null,null,null,null,null,null,null,null,null,null,null,null,null,null,null,null,null,null,null,null,null,null,null,1]
[null,null,null,null,null,null,null,null,null,null,null,null,null,null,null,null,null,null,null,null,null,null,null,null,null,null,null,null,null,null,null,null,null,0]
[null,null,"Return for the quarter ending:",null,{"$f":"IF(AND(Validation_Checks_CBM!E12<>\"\",Validation_Checks_CBM!E13<>\"\"),VLOOKUP(Validation_Checks_CBM!AA2,Validation_Checks_CBM!AA4:AC22,3,FALSE),\"\")","v":""},{"$f":"IF(AND(Validation_Checks_CBM!E12<>\"\",Validation_Checks_CBM!E8<>\"\"),Validation_Checks_CBM!E8,\"\")","v":""},null,null,null,null,null,null,null,null,null,null,null,null,null,null,null,null,null,null,null,null,null,null,null,null,null,null,null,1]
[null,null,null,null,{"$f":"IF(AND(COUNTBLANK(C10:C10009)<10000,E4=\"\"),\"Select 'MONTH'\",\"\")","v":""},null,null,null,null,null,null,null,null,null,null,null,null,null,null,null,null,null,null,null,null,null,null,null,null,null,null,null,null,1]
[null,null,"SBSTIT1","SBSTIT2","SBSTIT3","SBSTIT4","SBSTIT5","SBSTIT6",null,null,null,null,null,null,null,null,null,null,null,null,null,null,null,null,null,null,null,null,null,null,null,null,null,2]
[null,null,"Security identifier code","Position at end of period; Number of Units/shares","Position at end of period; Nominal Value ","Position at end of period; Nominal Currency","Position at end of period; Market price","Transactions effected during the quarter; Net transactions",null,null,null,null,null,null,null,null,null,null,null,null,null,null,null,null,null,null,null,null,null,null,null,null,null,2]
[null,null,null,"Transaction",null,null,null,null,null,null,null,null,null,null,null,null,null,null,null,null,null,null,null,null,null,null,null,null,null,null,null,null,null,1]
[null,null,"Security identifier code (ISIN)",null,null,null,null,"Net transactions (purchases less sales including purchased and sold interest) in euro '000",null,null,null,null,null,null,null,null,null,null,null,null,null,null,null,null,null,null,null,null,null,null,null,null,null,1]
["SBSA_1","SBSA_1",null,null,null,null,null,null,null,null,null,null,null,null,null,null,null,null,null,null,null,null,null,null,null,null,null,null,null,null,null,null,null,{"$f":"IF(COUNTBLANK(C10:H10)<6,1,0)","v":0}]
["SBSA_2","SBSA_2",null,null,null,null,null,null,null,null,null,null,null,null,null,null,null,null,null,null,null,null,null,null,null,null,null,null,null,null,null,null,null,0]
["SBSA_3","SBSA_3",null,null,null,null,null,null,null,null,null,null,null,null,null,null,null,null,null,null,null,null,null,null,null,null,null,null,null,null,null,null,null,0]
["SBSA_4","SBSA_4",null,null,null,null,null,null,null,null,null,null,null,null,null,null,null,null,null,null,null,null,null,null,null,null,null,null,null,null,null,null,null,0]
["SBSA_5","SBSA_5",null,null,null,null,null,null,null,null,null,null,null,null,null,null,null,null,null,null,null,null,null,null,null,null,null,null,null,null,null,null,null,0]
["SBSA_6","SBSA_6",null,null,null,null,null,null,null,null,null,null,null,null,null,null,null,null,null,null,null,null,null,null,null,null,null,null,null,null,null,null,null,0]
["SBSA_7","SBSA_7",null,null,null,null,null,null,null,null,null,null,null,null,null,null,null,null,null,null,null,null,null,null,null,null,null,null,null,null,null,null,null,0]
["SBSA_8","SBSA_8",null,null,null,null,null,null,null,null,null,null,null,null,null,null,null,null,null,null,null,null,null,null,null,null,null,null,null,null,null,null,null,0]
["SBSA_9","SBSA_9",null,null,null,null,null,null,null,null,null,null,null,null,null,null,null,null,null,null,null,null,null,null,null,null,null,null,null,null,null,null,null,0]
["SBSA_10","SBSA_10",null,null,null,null,null,null,null,null,null,null,null,null,null,null,null,null,null,null,null,null,null,null,null,null,null,null,null,null,null,null,null,0]
["SBSA_11","SBSA_11",null,null,null,null,null,null,null,null,null,null,null,null,null,null,null,null,null,null,null,null,null,null,null,null,null,null,null,null,null,null,null,0]
["SBSA_12","SBSA_12",null,null,null,null,null,null,null,null,null,null,null,null,null,null,null,null,null,null,null,null,null,null,null,null,null,null,null,null,null,null,null,0]
["SBSA_13","SBSA_13",null,null,null,null,null,null,null,null,null,null,null,null,null,null,null,null,null,null,null,null,null,null,null,null,null,null,null,null,null,null,null,0]
["SBSA_14","SBSA_14",null,null,null,null,null,null,null,null,null,null,null,null,null,null,null,null,null,null,null,null,null,null,null,null,null,null,null,null,null,null,null,0]
["SBSA_15","SBSA_15",null,null,null,null,null,null,null,null,null,null,null,null,null,null,null,null,null,null,null,null,null,null,null,null,null,null,null,null,null,null,null,0]
["SBSA_16","SBSA_16",null,null,null,null,null,null,null,null,null,null,null,null,null,null,null,null,null,null,null,null,null,null,null,null,null,null,null,null,null,null,null,0]
["SBSA_17","SBSA_17",null,null,null,null,null,null,null,null,null,null,null,null,null,null,null,null,null,null,null,null,null,null,null,null,null,null,null,null,null,null,null,0]
["SBSA_18","SBSA_18",null,null,null,null,null,null,null,null,null,null,null,null,null,null,null,null,null,null,null,null,null,null,null,null,null,null,null,null,null,null,null,0]
["SBSA_19","SBSA_19",null,null,null,null,null,null,null,null,null,null,null,null,null,null,null,null,null,null,null,null,null,null,null,null,null,null,null,null,null,null,null,0]
["SBSA_20","SBSA_20",null,null,null,null,null,null,null,null,null,null,null,null,null,null,null,null,null,null,null,null,null,null,null,null,null,null,null,null,null,null,null,0]
["SBSA_21","SBSA_21",null,null,null,null,null,null,null,null,null,null,null,null,null,null,null,null,null,null,null,null,null,null,null,null,null,null,null,null,null,null,null,0]
["SBSA_22","SBSA_22",null,null,null,null,null,null,null,null,null,null,null,null,null,null,null,null,null,null,null,null,null,null,null,null,null,null,null,null,null,null,null,0]
["SBSA_23","SBSA_23",null,null,null,null,null,null,null,null,null,null,null,null,null,null,null,null,null,null,null,null,null,null,null,null,null,null,null,null,null,null,null,0]
["SBSA_24","SBSA_24",null,null,null,null,null,null,null,null,null,null,null,null,null,null,null,null,null,null,null,null,null,null,null,null,null,null,null,null,null,null,null,0]
["SBSA_25","SBSA_25",null,null,null,null,null,null,null,null,null,null,null,null,null,null,null,null,null,null,null,null,null,null,null,null,null,null,null,null,null,null,null,0]
["SBSA_26","SBSA_26",null,null,null,null,null,null,null,null,null,null,null,null,null,null,null,null,null,null,null,null,null,null,null,null,null,null,null,null,null,null,null,0]
["SBSA_27","SBSA_27",null,null,null,null,null,null,null,null,null,null,null,null,null,null,null,null,null,null,null,null,null,null,null,null,null,null,null,null,null,null,null,0]
["SBSA_28","SBSA_28",null,null,null,null,null,null,null,null,null,null,null,null,null,null,null,null,null,null,null,null,null,null,null,null,null,null,null,null,null,null,null,0]
["SBSA_29","SBSA_29",null,null,null,null,null,null,null,null,null,null,null,null,null,null,null,null,null,null,null,null,null,null,null,null,null,null,null,null,null,null,null,0]
["SBSA_30","SBSA_30",null,null,null,null,null,null,null,null,null,null,null,null,null,null,null,null,null,null,null,null,null,null,null,null,null,null,null,null,null,null,null,0]
["SBSA_31","SBSA_31",null,null,null,null,null,null,null,null,null,null,null,null,null,null,null,null,null,null,null,null,null,null,null,null,null,null,null,null,null,null,null,0]
["SBSA_32","SBSA_32",null,null,null,null,null,null,null,null,null,null,null,null,null,null,null,null,null,null,null,null,null,null,null,null,null,null,null,null,null,null,null,0]
["SBSA_33","SBSA_33",null,null,null,null,null,null,null,null,null,null,null,null,null,null,null,null,null,null,null,null,null,null,null,null,null,null,null,null,null,null,null,0]
["SBSA_34","SBSA_34",null,null,null,null,null,null,null,null,null,null,null,null,null,null,null,null,null,null,null,null,null,null,null,null,null,null,null,null,null,null,null,0]
["SBSA_35","SBSA_35",null,null,null,null,null,null,null,null,null,null,null,null,null,null,null,null,null,null,null,null,null,null,null,null,null,null,null,null,null,null,null,0]
["SBSA_36","SBSA_36",null,null,null,null,null,null,null,null,null,null,null,null,null,null,null,null,null,null,null,null,null,null,null,null,null,null,null,null,null,null,null,0]
["SBSA_37","SBSA_37",null,null,null,null,null,null,null,null,null,null,null,null,null,null,null,null,null,null,null,null,null,null,null,null,null,null,null,null,null,null,null,0]
["SBSA_38","SBSA_38",null,null,null,null,null,null,null,null,null,null,null,null,null,null,null,null,null,null,null,null,null,null,null,null,null,null,null,null,null,null,null,0]
["SBSA_39","SBSA_39",null,null,null,null,null,null,null,null,null,null,null,null,null,null,null,null,null,null,null,null,null,null,null,null,null,null,null,null,null,null,null,0]
["SBSA_40","SBSA_40",null,null,null,null,null,null,null,null,null,null,null,null,null,null,null,null,null,null,null,null,null,null,null,null,null,null,null,null,null,null,null,0]
["SBSA_41","SBSA_41",null,null,null,null,null,null,null,null,null,null,null,null,null,null,null,null,null,null,null,null,null,null,null,null,null,null,null,null,null,null,null,0]
["SBSA_42","SBSA_42",null,null,null,null,null,null,null,null,null,null,null,null,null,null,null,null,null,null,null,null,null,null,null,null,null,null,null,null,null,null,null,0]
["SBSA_43","SBSA_43",null,null,null,null,null,null,null,null,null,null,null,null,null,null,null,null,null,null,null,null,null,null,null,null,null,null,null,null,null,null,null,0]
["SBSA_44","SBSA_44",null,null,null,null,null,null,null,null,null,null,null,null,null,null,null,null,null,null,null,null,null,null,null,null,null,null,null,null,null,null,null,0]
["SBSA_45","SBSA_45",null,null,null,null,null,null,null,null,null,null,null,null,null,null,null,null,null,null,null,null,null,null,null,null,null,null,null,null,null,null,null,0]
["SBSA_46","SBSA_46",null,null,null,null,null,null,null,null,null,null,null,null,null,null,null,null,null,null,null,null,null,null,null,null,null,null,null,null,null,null,null,0]
["SBSA_47","SBSA_47",null,null,null,null,null,null,null,null,null,null,null,null,null,null,null,null,null,null,null,null,null,null,null,null,null,null,null,null,null,null,null,0]
["SBSA_48","SBSA_48",null,null,null,null,null,null,null,null,null,null,null,null,null,null,null,null,null,null,null,null,null,null,null,null,null,null,null,null,null,null,null,0]
["SBSA_49","SBSA_49",null,null,null,null,null,null,null,null,null,null,null,null,null,null,null,null,null,null,null,null,null,null,null,null,null,null,null,null,null,null,null,0]
["SBSA_50","SBSA_50",null,null,null,null,null,null,null,null,null,null,null,null,null,null,null,null,null,null,null,null,null,null,null,null,null,null,null,null,null,null,null,0]
["SBSA_51","SBSA_51",null,null,null,null,null,null,null,null,null,null,null,null,null,null,null,null,null,null,null,null,null,null,null,null,null,null,null,null,null,null,null,0]
["SBSA_52","SBSA_52",null,null,null,null,null,null,null,null,null,null,null,null,null,null,null,null,null,null,null,null,null,null,null,null,null,null,null,null,null,null,null,0]
["SBSA_53","SBSA_53",null,null,null,null,null,null,null,null,null,null,null,null,null,null,null,null,null,null,null,null,null,null,null,null,null,null,null,null,null,null,null,0]
["SBSA_54","SBSA_54",null,null,null,null,null,null,null,null,null,null,null,null,null,null,null,null,null,null,null,null,null,null,null,null,null,null,null,null,null,null,null,0]
["SBSA_55","SBSA_55",null,null,null,null,null,null,null,null,null,null,null,null,null,null,null,null,null,null,null,null,null,null,null,null,null,null,null,null,null,null,null,0]
["SBSA_56","SBSA_56",null,null,null,null,null,null,null,null,null,null,null,null,null,null,null,null,null,null,null,null,null,null,null,null,null,null,null,null,null,null,null,0]
["SBSA_57","SBSA_57",null,null,null,null,null,null,null,null,null,null,null,null,null,null,null,null,null,null,null,null,null,null,null,null,null,null,null,null,null,null,null,0]
["SBSA_58","SBSA_58",null,null,null,null,null,null,null,null,null,null,null,null,null,null,null,null,null,null,null,null,null,null,null,null,null,null,null,null,null,null,null,0]
["SBSA_59","SBSA_59",null,null,null,null,null,null,null,null,null,null,null,null,null,null,null,null,null,null,null,null,null,null,null,null,null,null,null,null,null,null,null,0]
["SBSA_60","SBSA_60",null,null,null,null,null,null,null,null,null,null,null,null,null,null,null,null,null,null,null,null,null,null,null,null,null,null,null,null,null,null,null,0]
["SBSA_61","SBSA_61",null,null,null,null,null,null,null,null,null,null,null,null,null,null,null,null,null,null,null,null,null,null,null,null,null,null,null,null,null,null,null,0]
["SBSA_62","SBSA_62",null,null,null,null,null,null,null,null,null,null,null,null,null,null,null,null,null,null,null,null,null,null,null,null,null,null,null,null,null,null,null,0]
["SBSA_63","SBSA_63",null,null,null,null,null,null,null,null,null,null,null,null,null,null,null,null,null,null,null,null,null,null,null,null,null,null,null,null,null,null,null,0]
["SBSA_64","SBSA_64",null,null,null,null,null,null,null,null,null,null,null,null,null,null,null,null,null,null,null,null,null,null,null,null,null,null,null,null,null,null,null,0]
["SBSA_65","SBSA_65",null,null,null,null,null,null,null,null,null,null,null,null,null,null,null,null,null,null,null,null,null,null,null,null,null,null,null,null,null,null,null,{"$f":"IF(COUNTBLANK(C74:H74)<6,1,0)","v":0}]
["SBSA_66","SBSA_66",null,null,null,null,null,null,null,null,null,null,null,null,null,null,null,null,null,null,null,null,null,null,null,null,null,null,null,null,null,null,null,0]
["SBSA_67","SBSA_67",null,null,null,null,null,null,null,null,null,null,null,null,null,null,null,null,null,null,null,null,null,null,null,null,null,null,null,null,null,null,null,0]
["SBSA_68","SBSA_68",null,null,null,null,null,null,null,null,null,null,null,null,null,null,null,null,null,null,null,null,null,null,null,null,null,null,null,null,null,null,null,0]
["SBSA_69","SBSA_69",null,null,null,null,null,null,null,null,null,null,null,null,null,null,null,null,null,null,null,null,null,null,null,null,null,null,null,null,null,null,null,0]
["SBSA_70","SBSA_70",null,null,null,null,null,null,null,null,null,null,null,null,null,null,null,null,null,null,null,null,null,null,null,null,null,null,null,null,null,null,null,0]
["SBSA_71","SBSA_71",null,null,null,null,null,null,null,null,null,null,null,null,null,null,null,null,null,null,null,null,null,null,null,null,null,null,null,null,null,null,null,0]
["SBSA_72","SBSA_72",null,null,null,null,null,null,null,null,null,null,null,null,null,null,null,null,null,null,null,null,null,null,null,null,null,null,null,null,null,null,null,0]
["SBSA_73","SBSA_73",null,null,null,null,null,null,null,null,null,null,null,null,null,null,null,null,null,null,null,null,null,null,null,null,null,null,null,null,null,null,null,0]
["SBSA_74","SBSA_74",null,null,null,null,null,null,null,null,null,null,null,null,null,null,null,null,null,null,null,null,null,null,null,null,null,null,null,null,null,null,null,0]
["SBSA_75","SBSA_75",null,null,null,null,null,null,null,null,null,null,null,null,null,null,null,null,null,null,null,null,null,null,null,null,null,null,null,null,null,null,null,0]
["SBSA_76","SBSA_76",null,null,null,null,null,null,null,null,null,null,null,null,null,null,null,null,null,null,null,null,null,null,null,null,null,null,null,null,null,null,null,0]
["SBSA_77","SBSA_77",null,null,null,null,null,null,null,null,null,null,null,null,null,null,null,null,null,null,null,null,null,null,null,null,null,null,null,null,null,null,null,0]
["SBSA_78","SBSA_78",null,null,null,null,null,null,null,null,null,null,null,null,null,null,null,null,null,null,null,null,null,null,null,null,null,null,null,null,null,null,null,0]
["SBSA_79","SBSA_79",null,null,null,null,null,null,null,null,null,null,null,null,null,null,null,null,null,null,null,null,null,null,null,null,null,null,null,null,null,null,null,0]
["SBSA_80","SBSA_80",null,null,null,null,null,null,null,null,null,null,null,null,null,null,null,null,null,null,null,null,null,null,null,null,null,null,null,null,null,null,null,0]
["SBSA_81","SBSA_81",null,null,null,null,null,null,null,null,null,null,null,null,null,null,null,null,null,null,null,null,null,null,null,null,null,null,null,null,null,null,null,0]
["SBSA_82","SBSA_82",null,null,null,null,null,null,null,null,null,null,null,null,null,null,null,null,null,null,null,null,null,null,null,null,null,null,null,null,null,null,null,0]
["SBSA_83","SBSA_83",null,null,null,null,null,null,null,null,null,null,null,null,null,null,null,null,null,null,null,null,null,null,null,null,null,null,null,null,null,null,null,0]
["SBSA_84","SBSA_84",null,null,null,null,null,null,null,null,null,null,null,null,null,null,null,null,null,null,null,null,null,null,null,null,null,null,null,null,null,null,null,0]
["SBSA_85","SBSA_85",null,null,null,null,null,null,null,null,null,null,null,null,null,null,null,null,null,null,null,null,null,null,null,null,null,null,null,null,null,null,null,0]
["SBSA_86","SBSA_86",null,null,null,null,null,null,null,null,null,null,null,null,null,null,null,null,null,null,null,null,null,null,null,null,null,null,null,null,null,null,null,0]
["SBSA_87","SBSA_87",null,null,null,null,null,null,null,null,null,null,null,null,null,null,null,null,null,null,null,null,null,null,null,null,null,null,null,null,null,null,null,0]
["SBSA_88","SBSA_88",null,null,null,null,null,null,null,null,null,null,null,null,null,null,null,null,null,null,null,null,null,null,null,null,null,null,null,null,null,null,null,0]
["SBSA_89","SBSA_89",null,null,null,null,null,null,null,null,null,null,null,null,null,null,null,null,null,null,null,null,null,null,null,null,null,null,null,null,null,null,null,0]
["SBSA_90","SBSA_90",null,null,null,null,null,null,null,null,null,null,null,null,null,null,null,null,null,null,null,null,null,null,null,null,null,null,null,null,null,null,null,0]
["SBSA_91","SBSA_91",null,null,null,null,null,null,null,null,null,null,null,null,null,null,null,null,null,null,null,null,null,null,null,null,null,null,null,null,null,null,null,0]
["SBSA_92","SBSA_92",null,null,null,null,null,null,null,null,null,null,null,null,null,null,null,null,null,null,null,null,null,null,null,null,null,null,null,null,null,null,null,0]
["SBSA_93","SBSA_93",null,null,null,null,null,null,null,null,null,null,null,null,null,null,null,null,null,null,null,null,null,null,null,null,null,null,null,null,null,null,null,0]
["SBSA_94","SBSA_94",null,null,null,null,null,null,null,null,null,null,null,null,null,null,null,null,null,null,null,null,null,null,null,null,null,null,null,null,null,null,null,0]
["SBSA_95","SBSA_95",null,null,null,null,null,null,null,null,null,null,null,null,null,null,null,null,null,null,null,null,null,null,null,null,null,null,null,null,null,null,null,0]
["SBSA_96","SBSA_96",null,null,null,null,null,null,null,null,null,null,null,null,null,null,null,null,null,null,null,null,null,null,null,null,null,null,null,null,null,null,null,0]
["SBSA_97","SBSA_97",null,null,null,null,null,null,null,null,null,null,null,null,null,null,null,null,null,null,null,null,null,null,null,null,null,null,null,null,null,null,null,0]
["SBSA_98","SBSA_98",null,null,null,null,null,null,null,null,null,null,null,null,null,null,null,null,null,null,null,null,null,null,null,null,null,null,null,null,null,null,null,0]
["SBSA_99","SBSA_99",null,null,null,null,null,null,null,null,null,null,null,null,null,null,null,null,null,null,null,null,null,null,null,null,null,null,null,null,null,null,null,0]
["SBSA_100","SBSA_100",null,null,null,null,null,null,null,null,null,null,null,null,null,null,null,null,null,null,null,null,null,null,null,null,null,null,null,null,null,null,null,0]
["SBSA_101","SBSA_101",null,null,null,null,null,null,null,null,null,null,null,null,null,null,null,null,null,null,null,null,null,null,null,null,null,null,null,null,null,null,null,0]
["SBSA_102","SBSA_102",null,null,null,null,null,null,null,null,null,null,null,null,null,null,null,null,null,null,null,null,null,null,null,null,null,null,null,null,null,null,null,0]
["SBSA_103","SBSA_103",null,null,null,null,null,null,null,null,null,null,null,null,null,null,null,null,null,null,null,null,null,null,null,null,null,null,null,null,null,null,null,0]
["SBSA_104","SBSA_104",null,null,null,null,null,null,null,null,null,null,null,null,null,null,null,null,null,null,null,null,null,null,null,null,null,null,null,null,null,null,null,0]
["SBSA_105","SBSA_105",null,null,null,null,null,null,null,null,null,null,null,null,null,null,null,null,null,null,null,null,null,null,null,null,null,null,null,null,null,null,null,0]
["SBSA_106","SBSA_106",null,null,null,null,null,null,null,null,null,null,null,null,null,null,null,null,null,null,null,null,null,null,null,null,null,null,null,null,null,null,null,0]
["SBSA_107","SBSA_107",null,null,null,null,null,null,null,null,null,null,null,null,null,null,null,null,null,null,null,null,null,null,null,null,null,null,null,null,null,null,null,0]
["SBSA_108","SBSA_108",null,null,null,null,null,null,null,null,null,null,null,null,null,null,null,null,null,null,null,null,null,null,null,null,null,null,null,null,null,null,null,0]
["SBSA_109","SBSA_109",null,null,null,null,null,null,null,null,null,null,null,null,null,null,null,null,null,null,null,null,null,null,null,null,null,null,null,null,null,null,null,0]
["SBSA_110","SBSA_110",null,null,null,null,null,null,null,null,null,null,null,null,null,null,null,null,null,null,null,null,null,null,null,null,null,null,null,null,null,null,null,0]
["SBSA_111","SBSA_111",null,null,null,null,null,null,null,null,null,null,null,null,null,null,null,null,null,null,null,null,null,null,null,null,null,null,null,null,null,null,null,0]
["SBSA_112","SBSA_112",null,null,null,null,null,null,null,null,null,null,null,null,null,null,null,null,null,null,null,null,null,null,null,null,null,null,null,null,null,null,null,0]
["SBSA_113","SBSA_113",null,null,null,null,null,null,null,null,null,null,null,null,null,null,null,null,null,null,null,null,null,null,null,null,null,null,null,null,null,null,null,0]
["SBSA_114","SBSA_114",null,null,null,null,null,null,null,null,null,null,null,null,null,null,null,null,null,null,null,null,null,null,null,null,null,null,null,null,null,null,null,0]
["SBSA_115","SBSA_115",null,null,null,null,null,null,null,null,null,null,null,null,null,null,null,null,null,null,null,null,null,null,null,null,null,null,null,null,null,null,null,0]
["SBSA_116","SBSA_116",null,null,null,null,null,null,null,null,null,null,null,null,null,null,null,null,null,null,null,null,null,null,null,null,null,null,null,null,null,null,null,0]
["SBSA_117","SBSA_117",null,null,null,null,null,null,null,null,null,null,null,null,null,null,null,null,null,null,null,null,null,null,null,null,null,null,null,null,null,null,null,0]
["SBSA_118","SBSA_118",null,null,null,null,null,null,null,null,null,null,null,null,null,null,null,null,null,null,null,null,null,null,null,null,null,null,null,null,null,null,null,0]
["SBSA_119","SBSA_119",null,null,null,null,null,null,null,null,null,null,null,null,null,null,null,null,null,null,null,null,null,null,null,null,null,null,null,null,null,null,null,0]
["SBSA_120","SBSA_120",null,null,null,null,null,null,null,null,null,null,null,null,null,null,null,null,null,null,null,null,null,null,null,null,null,null,null,null,null,null,null,0]
["SBSA_121","SBSA_121",null,null,null,null,null,null,null,null,null,null,null,null,null,null,null,null,null,null,null,null,null,null,null,null,null,null,null,null,null,null,null,0]
["SBSA_122","SBSA_122",null,null,null,null,null,null,null,null,null,null,null,null,null,null,null,null,null,null,null,null,null,null,null,null,null,null,null,null,null,null,null,0]
["SBSA_123","SBSA_123",null,null,null,null,null,null,null,null,null,null,null,null,null,null,null,null,null,null,null,null,null,null,null,null,null,null,null,null,null,null,null,0]
["SBSA_124","SBSA_124",null,null,null,null,null,null,null,null,null,null,null,null,null,null,null,null,null,null,null,null,null,null,null,null,null,null,null,null,null,null,null,0]
["SBSA_125","SBSA_125",null,null,null,null,null,null,null,null,null,null,null,null,null,null,null,null,null,null,null,null,null,null,null,null,null,null,null,null,null,null,null,0]
["SBSA_126","SBSA_126",null,null,null,null,null,null,null,null,null,null,null,null,null,null,null,null,null,null,null,null,null,null,null,null,null,null,null,null,null,null,null,0]
["SBSA_127","SBSA_127",null,null,null,null,null,null,null,null,null,null,null,null,null,null,null,null,null,null,null,null,null,null,null,null,null,null,null,null,null,null,null,0]
["SBSA_128","SBSA_128",null,null,null,null,null,null,null,null,null,null,null,null,null,null,null,null,null,null,null,null,null,null,null,null,null,null,null,null,null,null,null,0]
["SBSA_129","SBSA_129",null,null,null,null,null,null,null,null,null,null,null,null,null,null,null,null,null,null,null,null,null,null,null,null,null,null,null,null,null,null,null,{"$f":"IF(COUNTBLANK(C138:H138)<6,1,0)","v":0}]
["SBSA_130","SBSA_130",null,null,null,null,null,null,null,null,null,null,null,null,null,null,null,null,null,null,null,null,null,null,null,null,null,null,null,null,null,null,null,0]
["SBSA_131","SBSA_131",null,null,null,null,null,null,null,null,null,null,null,null,null,null,null,null,null,null,null,null,null,null,null,null,null,null,null,null,null,null,null,0]
["SBSA_132","SBSA_132",null,null,null,null,null,null,null,null,null,null,null,null,null,null,null,null,null,null,null,null,null,null,null,null,null,null,null,null,null,null,null,0]
["SBSA_133","SBSA_133",null,null,null,null,null,null,null,null,null,null,null,null,null,null,null,null,null,null,null,null,null,null,null,null,null,null,null,null,null,null,null,0]
["SBSA_134","SBSA_134",null,null,null,null,null,null,null,null,null,null,null,null,null,null,null,null,null,null,null,null,null,null,null,null,null,null,null,null,null,null,null,0]
["SBSA_135","SBSA_135",null,null,null,null,null,null,null,null,null,null,null,null,null,null,null,null,null,null,null,null,null,null,null,null,null,null,null,null,null,null,null,0]
["SBSA_136","SBSA_136",null,null,null,null,null,null,null,null,null,null,null,null,null,null,null,null,null,null,null,null,null,null,null,null,null,null,null,null,null,null,null,0]
["SBSA_137","SBSA_137",null,null,null,null,null,null,null,null,null,null,null,null,null,null,null,null,null,null,null,null,null,null,null,null,null,null,null,null,null,null,null,0]
["SBSA_138","SBSA_138",null,null,null,null,null,null,null,null,null,null,null,null,null,null,null,null,null,null,null,null,null,null,null,null,null,null,null,null,null,null,null,0]
["SBSA_139","SBSA_139",null,null,null,null,null,null,null,null,null,null,null,null,null,null,null,null,null,null,null,null,null,null,null,null,null,null,null,null,null,null,null,0]
["SBSA_140","SBSA_140",null,null,null,null,null,null,null,null,null,null,null,null,null,null,null,null,null,null,null,null,null,null,null,null,null,null,null,null,null,null,null,0]
["SBSA_141","SBSA_141",null,null,null,null,null,null,null,null,null,null,null,null,null,null,null,null,null,null,null,null,null,null,null,null,null,null,null,null,null,null,null,0]
["SBSA_142","SBSA_142",null,null,null,null,null,null,null,null,null,null,null,null,null,null,null,null,null,null,null,null,null,null,null,null,null,null,null,null,null,null,null,0]
["SBSA_143","SBSA_143",null,null,null,null,null,null,null,null,null,null,null,null,null,null,null,null,null,null,null,null,null,null,null,null,null,null,null,null,null,null,null,0]
["SBSA_144","SBSA_144",null,null,null,null,null,null,null,null,null,null,null,null,null,null,null,null,null,null,null,null,null,null,null,null,null,null,null,null,null,null,null,0]
["SBSA_145","SBSA_145",null,null,null,null,null,null,null,null,null,null,null,null,null,null,null,null,null,null,null,null,null,null,null,null,null,null,null,null,null,null,null,0]
["SBSA_146","SBSA_146",null,null,null,null,null,null,null,null,null,null,null,null,null,null,null,null,null,null,null,null,null,null,null,null,null,null,null,null,null,null,null,0]
["SBSA_147","SBSA_147",null,null,null,null,null,null,null,null,null,null,null,null,null,null,null,null,null,null,null,null,null,null,null,null,null,null,null,null,null,null,null,0]
["SBSA_148","SBSA_148",null,null,null,null,null,null,null,null,null,null,null,null,null,null,null,null,null,null,null,null,null,null,null,null,null,null,null,null,null,null,null,0]
["SBSA_149","SBSA_149",null,null,null,null,null,null,null,null,null,null,null,null,null,null,null,null,null,null,null,null,null,null,null,null,null,null,null,null,null,null,null,0]
["SBSA_150","SBSA_150",null,null,null,null,null,null,null,null,null,null,null,null,null,null,null,null,null,null,null,null,null,null,null,null,null,null,null,null,null,null,null,0]
["SBSA_151","SBSA_151",null,null,null,null,null,null,null,null,null,null,null,null,null,null,null,null,null,null,null,null,null,null,null,null,null,null,null,null,null,null,null,0]
["SBSA_152","SBSA_152",null,null,null,null,null,null,null,null,null,null,null,null,null,null,null,null,null,null,null,null,null,null,null,null,null,null,null,null,null,null,null,0]
["SBSA_153","SBSA_153",null,null,null,null,null,null,null,null,null,null,null,null,null,null,null,null,null,null,null,null,null,null,null,null,null,null,null,null,null,null,null,0]
["SBSA_154","SBSA_154",null,null,null,null,null,null,null,null,null,null,null,null,null,null,null,null,null,null,null,null,null,null,null,null,null,null,null,null,null,null,null,0]
["SBSA_155","SBSA_155",null,null,null,null,null,null,null,null,null,null,null,null,null,null,null,null,null,null,null,null,null,null,null,null,null,null,null,null,null,null,null,0]
["SBSA_156","SBSA_156",null,null,null,null,null,null,null,null,null,null,null,null,null,null,null,null,null,null,null,null,null,null,null,null,null,null,null,null,null,null,null,0]
["SBSA_157","SBSA_157",null,null,null,null,null,null,null,null,null,null,null,null,null,null,null,null,null,null,null,null,null,null,null,null,null,null,null,null,null,null,null,0]
["SBSA_158","SBSA_158",null,null,null,null,null,null,null,null,null,null,null,null,null,null,null,null,null,null,null,null,null,null,null,null,null,null,null,null,null,null,null,0]
["SBSA_159","SBSA_159",null,null,null,null,null,null,null,null,null,null,null,null,null,null,null,null,null,null,null,null,null,null,null,null,null,null,null,null,null,null,null,0]
["SBSA_160","SBSA_160",null,null,null,null,null,null,null,null,null,null,null,null,null,null,null,null,null,null,null,null,null,null,null,null,null,null,null,null,null,null,null,0]
["SBSA_161","SBSA_161",null,null,null,null,null,null,null,null,null,null,null,null,null,null,null,null,null,null,null,null,null,null,null,null,null,null,null,null,null,null,null,0]
["SBSA_162","SBSA_162",null,null,null,null,null,null,null,null,null,null,null,null,null,null,null,null,null,null,null,null,null,null,null,null,null,null,null,null,null,null,null,0]
["SBSA_163","SBSA_163",null,null,null,null,null,null,null,null,null,null,null,null,null,null,null,null,null,null,null,null,null,null,null,null,null,null,null,null,null,null,null,0]
["SBSA_164","SBSA_164",null,null,null,null,null,null,null,null,null,null,null,null,null,null,null,null,null,null,null,null,null,null,null,null,null,null,null,null,null,null,null,0]
["SBSA_165","SBSA_165",null,null,null,null,null,null,null,null,null,null,null,null,null,null,null,null,null,null,null,null,null,null,null,null,null,null,null,null,null,null,null,0]
["SBSA_166","SBSA_166",null,null,null,null,null,null,null,null,null,null,null,null,null,null,null,null,null,null,null,null,null,null,null,null,null,null,null,null,null,null,null,0]
["SBSA_167","SBSA_167",null,null,null,null,null,null,null,null,null,null,null,null,null,null,null,null,null,null,null,null,null,null,null,null,null,null,null,null,null,null,null,0]
["SBSA_168","SBSA_168",null,null,null,null,null,null,null,null,null,null,null,null,null,null,null,null,null,null,null,null,null,null,null,null,null,null,null,null,null,null,null,0]
["SBSA_169","SBSA_169",null,null,null,null,null,null,null,null,null,null,null,null,null,null,null,null,null,null,null,null,null,null,null,null,null,null,null,null,null,null,null,0]
["SBSA_170","SBSA_170",null,null,null,null,null,null,null,null,null,null,null,null,null,null,null,null,null,null,null,null,null,null,null,null,null,null,null,null,null,null,null,0]
["SBSA_171","SBSA_171",null,null,null,null,null,null,null,null,null,null,null,null,null,null,null,null,null,null,null,null,null,null,null,null,null,null,null,null,null,null,null,0]
["SBSA_172","SBSA_172",null,null,null,null,null,null,null,null,null,null,null,null,null,null,null,null,null,null,null,null,null,null,null,null,null,null,null,null,null,null,null,0]
["SBSA_173","SBSA_173",null,null,null,null,null,null,null,null,null,null,null,null,null,null,null,null,null,null,null,null,null,null,null,null,null,null,null,null,null,null,null,0]
["SBSA_174","SBSA_174",null,null,null,null,null,null,null,null,null,null,null,null,null,null,null,null,null,null,null,null,null,null,null,null,null,null,null,null,null,null,null,0]
["SBSA_175","SBSA_175",null,null,null,null,null,null,null,null,null,null,null,null,null,null,null,null,null,null,null,null,null,null,null,null,null,null,null,null,null,null,null,0]
["SBSA_176","SBSA_176",null,null,null,null,null,null,null,null,null,null,null,null,null,null,null,null,null,null,null,null,null,null,null,null,null,null,null,null,null,null,null,0]
["SBSA_177","SBSA_177",null,null,null,null,null,null,null,null,null,null,null,null,null,null,null,null,null,null,null,null,null,null,null,null,null,null,null,null,null,null,null,0]
["SBSA_178","SBSA_178",null,null,null,null,null,null,null,null,null,null,null,null,null,null,null,null,null,null,null,null,null,null,null,null,null,null,null,null,null,null,null,0]
["SBSA_179","SBSA_179",null,null,null,null,null,null,null,null,null,null,null,null,null,null,null,null,null,null,null,null,null,null,null,null,null,null,null,null,null,null,null,0]
["SBSA_180","SBSA_180",null,null,null,null,null,null,null,null,null,null,null,null,null,null,null,null,null,null,null,null,null,null,null,null,null,null,null,null,null,null,null,0]
["SBSA_181","SBSA_181",null,null,null,null,null,null,null,null,null,null,null,null,null,null,null,null,null,null,null,null,null,null,null,null,null,null,null,null,null,null,null,0]
["SBSA_182","SBSA_182",null,null,null,null,null,null,null,null,null,null,null,null,null,null,null,null,null,null,null,null,null,null,null,null,null,null,null,null,null,null,null,0]
["SBSA_183","SBSA_183",null,null,null,null,null,null,null,null,null,null,null,null,null,null,null,null,null,null,null,null,null,null,null,null,null,null,null,null,null,null,null,0]
["SBSA_184","SBSA_184",null,null,null,null,null,null,null,null,null,null,null,null,null,null,null,null,null,null,null,null,null,null,null,null,null,null,null,null,null,null,null,0]
["SBSA_185","SBSA_185",null,null,null,null,null,null,null,null,null,null,null,null,null,null,null,null,null,null,null,null,null,null,null,null,null,null,null,null,null,null,null,0]
["SBSA_186","SBSA_186",null,null,null,null,null,null,null,null,null,null,null,null,null,null,null,null,null,null,null,null,null,null,null,null,null,null,null,null,null,null,null,0]
["SBSA_187","SBSA_187",null,null,null,null,null,null,null,null,null,null,null,null,null,null,null,null,null,null,null,null,null,null,null,null,null,null,null,null,null,null,null,0]
["SBSA_188","SBSA_188",null,null,null,null,null,null,null,null,null,null,null,null,null,null,null,null,null,null,null,null,null,null,null,null,null,null,null,null,null,null,null,0]
["SBSA_189","SBSA_189",null,null,null,null,null,null,null,null,null,null,null,null,null,null,null,null,null,null,null,null,null,null,null,null,null,null,null,null,null,null,null,0]
["SBSA_190","SBSA_190",null,null,null,null,null,null,null,null,null,null,null,null,null,null,null,null,null,null,null,null,null,null,null,null,null,null,null,null,null,null,null,0]
["SBSA_191","SBSA_191",null,null,null,null,null,null,null,null,null,null,null,null,null,null,null,null,null,null,null,null,null,null,null,null,null,null,null,null,null,null,null,0]
["SBSA_192","SBSA_192",null,null,null,null,null,null,null,null,null,null,null,null,null,null,null,null,null,null,null,null,null,null,null,null,null,null,null,null,null,null,null,0]
["SBSA_193","SBSA_193",null,null,null,null,null,null,null,null,null,null,null,null,null,null,null,null,null,null,null,null,null,null,null,null,null,null,null,null,null,null,null,{"$f":"IF(COUNTBLANK(C202:H202)<6,1,0)","v":0}]
["SBSA_194","SBSA_194",null,null,null,null,null,null,null,null,null,null,null,null,null,null,null,null,null,null,null,null,null,null,null,null,null,null,null,null,null,null,null,0]
["SBSA_195","SBSA_195",null,null,null,null,null,null,null,null,null,null,null,null,null,null,null,null,null,null,null,null,null,null,null,null,null,null,null,null,null,null,null,0]
["SBSA_196","SBSA_196",null,null,null,null,null,null,null,null,null,null,null,null,null,null,null,null,null,null,null,null,null,null,null,null,null,null,null,null,null,null,null,0]
["SBSA_197","SBSA_197",null,null,null,null,null,null,null,null,null,null,null,null,null,null,null,null,null,null,null,null,null,null,null,null,null,null,null,null,null,null,null,0]
["SBSA_198","SBSA_198",null,null,null,null,null,null,null,null,null,null,null,null,null,null,null,null,null,null,null,null,null,null,null,null,null,null,null,null,null,null,null,0]
["SBSA_199","SBSA_199",null,null,null,null,null,null,null,null,null,null,null,null,null,null,null,null,null,null,null,null,null,null,null,null,null,null,null,null,null,null,null,0]
["SBSA_200","SBSA_200",null,null,null,null,null,null,null,null,null,null,null,null,null,null,null,null,null,null,null,null,null,null,null,null,null,null,null,null,null,null,null,0]
["SBSA_201","SBSA_201",null,null,null,null,null,null,null,null,null,null,null,null,null,null,null,null,null,null,null,null,null,null,null,null,null,null,null,null,null,null,null,0]
["SBSA_202","SBSA_202",null,null,null,null,null,null,null,null,null,null,null,null,null,null,null,null,null,null,null,null,null,null,null,null,null,null,null,null,null,null,null,0]
["SBSA_203","SBSA_203",null,null,null,null,null,null,null,null,null,null,null,null,null,null,null,null,null,null,null,null,null,null,null,null,null,null,null,null,null,null,null,0]
["SBSA_204","SBSA_204",null,null,null,null,null,null,null,null,null,null,null,null,null,null,null,null,null,null,null,null,null,null,null,null,null,null,null,null,null,null,null,0]
["SBSA_205","SBSA_205",null,null,null,null,null,null,null,null,null,null,null,null,null,null,null,null,null,null,null,null,null,null,null,null,null,null,null,null,null,null,null,0]
["SBSA_206","SBSA_206",null,null,null,null,null,null,null,null,null,null,null,null,null,null,null,null,null,null,null,null,null,null,null,null,null,null,null,null,null,null,null,0]
["SBSA_207","SBSA_207",null,null,null,null,null,null,null,null,null,null,null,null,null,null,null,null,null,null,null,null,null,null,null,null,null,null,null,null,null,null,null,0]
["SBSA_208","SBSA_208",null,null,null,null,null,null,null,null,null,null,null,null,null,null,null,null,null,null,null,null,null,null,null,null,null,null,null,null,null,null,null,0]
["SBSA_209","SBSA_209",null,null,null,null,null,null,null,null,null,null,null,null,null,null,null,null,null,null,null,null,null,null,null,null,null,null,null,null,null,null,null,0]
["SBSA_210","SBSA_210",null,null,null,null,null,null,null,null,null,null,null,null,null,null,null,null,null,null,null,null,null,null,null,null,null,null,null,null,null,null,null,0]
["SBSA_211","SBSA_211",null,null,null,null,null,null,null,null,null,null,null,null,null,null,null,null,null,null,null,null,null,null,null,null,null,null,null,null,null,null,null,0]
["SBSA_212","SBSA_212",null,null,null,null,null,null,null,null,null,null,null,null,null,null,null,null,null,null,null,null,null,null,null,null,null,null,null,null,null,null,null,0]
["SBSA_213","SBSA_213",null,null,null,null,null,null,null,null,null,null,null,null,null,null,null,null,null,null,null,null,null,null,null,null,null,null,null,null,null,null,null,0]
["SBSA_214","SBSA_214",null,null,null,null,null,null,null,null,null,null,null,null,null,null,null,null,null,null,null,null,null,null,null,null,null,null,null,null,null,null,null,0]
["SBSA_215","SBSA_215",null,null,null,null,null,null,null,null,null,null,null,null,null,null,null,null,null,null,null,null,null,null,null,null,null,null,null,null,null,null,null,0]
["SBSA_216","SBSA_216",null,null,null,null,null,null,null,null,null,null,null,null,null,null,null,null,null,null,null,null,null,null,null,null,null,null,null,null,null,null,null,0]
["SBSA_217","SBSA_217",null,null,null,null,null,null,null,null,null,null,null,null,null,null,null,null,null,null,null,null,null,null,null,null,null,null,null,null,null,null,null,0]
["SBSA_218","SBSA_218",null,null,null,null,null,null,null,null,null,null,null,null,null,null,null,null,null,null,null,null,null,null,null,null,null,null,null,null,null,null,null,0]
["SBSA_219","SBSA_219",null,null,null,null,null,null,null,null,null,null,null,null,null,null,null,null,null,null,null,null,null,null,null,null,null,null,null,null,null,null,null,0]
["SBSA_220","SBSA_220",null,null,null,null,null,null,null,null,null,null,null,null,null,null,null,null,null,null,null,null,null,null,null,null,null,null,null,null,null,null,null,0]
["SBSA_221","SBSA_221",null,null,null,null,null,null,null,null,null,null,null,null,null,null,null,null,null,null,null,null,null,null,null,null,null,null,null,null,null,null,null,0]
["SBSA_222","SBSA_222",null,null,null,null,null,null,null,null,null,null,null,null,null,null,null,null,null,null,null,null,null,null,null,null,null,null,null,null,null,null,null,0]
["SBSA_223","SBSA_223",null,null,null,null,null,null,null,null,null,null,null,null,null,null,null,null,null,null,null,null,null,null,null,null,null,null,null,null,null,null,null,0]
["SBSA_224","SBSA_224",null,null,null,null,null,null,null,null,null,null,null,null,null,null,null,null,null,null,null,null,null,null,null,null,null,null,null,null,null,null,null,0]
["SBSA_225","SBSA_225",null,null,null,null,null,null,null,null,null,null,null,null,null,null,null,null,null,null,null,null,null,null,null,null,null,null,null,null,null,null,null,0]
["SBSA_226","SBSA_226",null,null,null,null,null,null,null,null,null,null,null,null,null,null,null,null,null,null,null,null,null,null,null,null,null,null,null,null,null,null,null,0]
["SBSA_227","SBSA_227",null,null,null,null,null,null,null,null,null,null,null,null,null,null,null,null,null,null,null,null,null,null,null,null,null,null,null,null,null,null,null,0]
["SBSA_228","SBSA_228",null,null,null,null,null,null,null,null,null,null,null,null,null,null,null,null,null,null,null,null,null,null,null,null,null,null,null,null,null,null,null,0]
["SBSA_229","SBSA_229",null,null,null,null,null,null,null,null,null,null,null,null,null,null,null,null,null,null,null,null,null,null,null,null,null,null,null,null,null,null,null,0]
["SBSA_230","SBSA_230",null,null,null,null,null,null,null,null,null,null,null,null,null,null,null,null,null,null,null,null,null,null,null,null,null,null,null,null,null,null,null,0]
["SBSA_231","SBSA_231",null,null,null,null,null,null,null,null,null,null,null,null,null,null,null,null,null,null,null,null,null,null,null,null,null,null,null,null,null,null,null,0]
["SBSA_232","SBSA_232",null,null,null,null,null,null,null,null,null,null,null,null,null,null,null,null,null,null,null,null,null,null,null,null,null,null,null,null,null,null,null,0]
["SBSA_233","SBSA_233",null,null,null,null,null,null,null,null,null,null,null,null,null,null,null,null,null,null,null,null,null,null,null,null,null,null,null,null,null,null,null,0]
["SBSA_234","SBSA_234",null,null,null,null,null,null,null,null,null,null,null,null,null,null,null,null,null,null,null,null,null,null,null,null,null,null,null,null,null,null,null,0]
["SBSA_235","SBSA_235",null,null,null,null,null,null,null,null,null,null,null,null,null,null,null,null,null,null,null,null,null,null,null,null,null,null,null,null,null,null,null,0]
["SBSA_236","SBSA_236",null,null,null,null,null,null,null,null,null,null,null,null,null,null,null,null,null,null,null,null,null,null,null,null,null,null,null,null,null,null,null,0]
["SBSA_237","SBSA_237",null,null,null,null,null,null,null,null,null,null,null,null,null,null,null,null,null,null,null,null,null,null,null,null,null,null,null,null,null,null,null,0]
["SBSA_238","SBSA_238",null,null,null,null,null,null,null,null,null,null,null,null,null,null,null,null,null,null,null,null,null,null,null,null,null,null,null,null,null,null,null,0]
["SBSA_239","SBSA_239",null,null,null,null,null,null,null,null,null,null,null,null,null,null,null,null,null,null,null,null,null,null,null,null,null,null,null,null,null,null,null,0]
["SBSA_240","SBSA_240",null,null,null,null,null,null,null,null,null,null,null,null,null,null,null,null,null,null,null,null,null,null,null,null,null,null,null,null,null,null,null,0]
["SBSA_241","SBSA_241",null,null,null,null,null,null,null,null,null,null,null,null,null,null,null,null,null,null,null,null,null,null,null,null,null,null,null,null,null,null,null,0]
["SBSA_242","SBSA_242",null,null,null,null,null,null,null,null,null,null,null,null,null,null,null,null,null,null,null,null,null,null,null,null,null,null,null,null,null,null,null,0]
["SBSA_243","SBSA_243",null,null,null,null,null,null,null,null,null,null,null,null,null,null,null,null,null,null,null,null,null,null,null,null,null,null,null,null,null,null,null,0]
["SBSA_244","SBSA_244",null,null,null,null,null,null,null,null,null,null,null,null,null,null,null,null,null,null,null,null,null,null,null,null,null,null,null,null,null,null,null,0]
["SBSA_245","SBSA_245",null,null,null,null,null,null,null,null,null,null,null,null,null,null,null,null,null,null,null,null,null,null,null,null,null,null,null,null,null,null,null,0]
["SBSA_246","SBSA_246",null,null,null,null,null,null,null,null,null,null,null,null,null,null,null,null,null,null,null,null,null,null,null,null,null,null,null,null,null,null,null,0]
["SBSA_247","SBSA_247",null,null,null,null,null,null,null,null,null,null,null,null,null,null,null,null,null,null,null,null,null,null,null,null,null,null,null,null,null,null,null,0]
["SBSA_248","SBSA_248",null,null,null,null,null,null,null,null,null,null,null,null,null,null,null,null,null,null,null,null,null,null,null,null,null,null,null,null,null,null,null,0]
["SBSA_249","SBSA_249",null,null,null,null,null,null,null,null,null,null,null,null,null,null,null,null,null,null,null,null,null,null,null,null,null,null,null,null,null,null,null,0]
["SBSA_250","SBSA_250",null,null,null,null,null,null,null,null,null,null,null,null,null,null,null,null,null,null,null,null,null,null,null,null,null,null,null,null,null,null,null,0]
["SBSA_251","SBSA_251",null,null,null,null,null,null,null,null,null,null,null,null,null,null,null,null,null,null,null,null,null,null,null,null,null,null,null,null,null,null,null,0]
["SBSA_252","SBSA_252",null,null,null,null,null,null,null,null,null,null,null,null,null,null,null,null,null,null,null,null,null,null,null,null,null,null,null,null,null,null,null,0]
["SBSA_253","SBSA_253",null,null,null,null,null,null,null,null,null,null,null,null,null,null,null,null,null,null,null,null,null,null,null,null,null,null,null,null,null,null,null,0]
["SBSA_254","SBSA_254",null,null,null,null,null,null,null,null,null,null,null,null,null,null,null,null,null,null,null,null,null,null,null,null,null,null,null,null,null,null,null,0]
["SBSA_255","SBSA_255",null,null,null,null,null,null,null,null,null,null,null,null,null,null,null,null,null,null,null,null,null,null,null,null,null,null,null,null,null,null,null,0]
["SBSA_256","SBSA_256",null,null,null,null,null,null,null,null,null,null,null,null,null,null,null,null,null,null,null,null,null,null,null,null,null,null,null,null,null,null,null,0]
["SBSA_257","SBSA_257",null,null,null,null,null,null,null,null,null,null,null,null,null,null,null,null,null,null,null,null,null,null,null,null,null,null,null,null,null,null,null,{"$f":"IF(COUNTBLANK(C266:H266)<6,1,0)","v":0}]
["SBSA_258","SBSA_258",null,null,null,null,null,null,null,null,null,null,null,null,null,null,null,null,null,null,null,null,null,null,null,null,null,null,null,null,null,null,null,0]
["SBSA_259","SBSA_259",null,null,null,null,null,null,null,null,null,null,null,null,null,null,null,null,null,null,null,null,null,null,null,null,null,null,null,null,null,null,null,0]
["SBSA_260","SBSA_260",null,null,null,null,null,null,null,null,null,null,null,null,null,null,null,null,null,null,null,null,null,null,null,null,null,null,null,null,null,null,null,0]
["SBSA_261","SBSA_261",null,null,null,null,null,null,null,null,null,null,null,null,null,null,null,null,null,null,null,null,null,null,null,null,null,null,null,null,null,null,null,0]
["SBSA_262","SBSA_262",null,null,null,null,null,null,null,null,null,null,null,null,null,null,null,null,null,null,null,null,null,null,null,null,null,null,null,null,null,null,null,0]
["SBSA_263","SBSA_263",null,null,null,null,null,null,null,null,null,null,null,null,null,null,null,null,null,null,null,null,null,null,null,null,null,null,null,null,null,null,null,0]
["SBSA_264","SBSA_264",null,null,null,null,null,null,null,null,null,null,null,null,null,null,null,null,null,null,null,null,null,null,null,null,null,null,null,null,null,null,null,0]
["SBSA_265","SBSA_265",null,null,null,null,null,null,null,null,null,null,null,null,null,null,null,null,null,null,null,null,null,null,null,null,null,null,null,null,null,null,null,0]
["SBSA_266","SBSA_266",null,null,null,null,null,null,null,null,null,null,null,null,null,null,null,null,null,null,null,null,null,null,null,null,null,null,null,null,null,null,null,0]
["SBSA_267","SBSA_267",null,null,null,null,null,null,null,null,null,null,null,null,null,null,null,null,null,null,null,null,null,null,null,null,null,null,null,null,null,null,null,0]
["SBSA_268","SBSA_268",null,null,null,null,null,null,null,null,null,null,null,null,null,null,null,null,null,null,null,null,null,null,null,null,null,null,null,null,null,null,null,0]
["SBSA_269","SBSA_269",null,null,null,null,null,null,null,null,null,null,null,null,null,null,null,null,null,null,null,null,null,null,null,null,null,null,null,null,null,null,null,0]
["SBSA_270","SBSA_270",null,null,null,null,null,null,null,null,null,null,null,null,null,null,null,null,null,null,null,null,null,null,null,null,null,null,null,null,null,null,null,0]
["SBSA_271","SBSA_271",null,null,null,null,null,null,null,null,null,null,null,null,null,null,null,null,null,null,null,null,null,null,null,null,null,null,null,null,null,null,null,0]
["SBSA_272","SBSA_272",null,null,null,null,null,null,null,null,null,null,null,null,null,null,null,null,null,null,null,null,null,null,null,null,null,null,null,null,null,null,null,0]
["SBSA_273","SBSA_273",null,null,null,null,null,null,null,null,null,null,null,null,null,null,null,null,null,null,null,null,null,null,null,null,null,null,null,null,null,null,null,0]
["SBSA_274","SBSA_274",null,null,null,null,null,null,null,null,null,null,null,null,null,null,null,null,null,null,null,null,null,null,null,null,null,null,null,null,null,null,null,0]
["SBSA_275","SBSA_275",null,null,null,null,null,null,null,null,null,null,null,null,null,null,null,null,null,null,null,null,null,null,null,null,null,null,null,null,null,null,null,0]
["SBSA_276","SBSA_276",null,null,null,null,null,null,null,null,null,null,null,null,null,null,null,null,null,null,null,null,null,null,null,null,null,null,null,null,null,null,null,0]
["SBSA_277","SBSA_277",null,null,null,null,null,null,null,null,null,null,null,null,null,null,null,null,null,null,null,null,null,null,null,null,null,null,null,null,null,null,null,0]
["SBSA_278","SBSA_278",null,null,null,null,null,null,null,null,null,null,null,null,null,null,null,null,null,null,null,null,null,null,null,null,null,null,null,null,null,null,null,0]
["SBSA_279","SBSA_279",null,null,null,null,null,null,null,null,null,null,null,null,null,null,null,null,null,null,null,null,null,null,null,null,null,null,null,null,null,null,null,0]
["SBSA_280","SBSA_280",null,null,null,null,null,null,null,null,null,null,null,null,null,null,null,null,null,null,null,null,null,null,null,null,null,null,null,null,null,null,null,0]
["SBSA_281","SBSA_281",null,null,null,null,null,null,null,null,null,null,null,null,null,null,null,null,null,null,null,null,null,null,null,null,null,null,null,null,null,null,null,0]
["SBSA_282","SBSA_282",null,null,null,null,null,null,null,null,null,null,null,null,null,null,null,null,null,null,null,null,null,null,null,null,null,null,null,null,null,null,null,0]
["SBSA_283","SBSA_283",null,null,null,null,null,null,null,null,null,null,null,null,null,null,null,null,null,null,null,null,null,null,null,null,null,null,null,null,null,null,null,0]
["SBSA_284","SBSA_284",null,null,null,null,null,null,null,null,null,null,null,null,null,null,null,null,null,null,null,null,null,null,null,null,null,null,null,null,null,null,null,0]
["SBSA_285","SBSA_285",null,null,null,null,null,null,null,null,null,null,null,null,null,null,null,null,null,null,null,null,null,null,null,null,null,null,null,null,null,null,null,0]
["SBSA_286","SBSA_286",null,null,null,null,null,null,null,null,null,null,null,null,null,null,null,null,null,null,null,null,null,null,null,null,null,null,null,null,null,null,null,0]
["SBSA_287","SBSA_287",null,null,null,null,null,null,null,null,null,null,null,null,null,null,null,null,null,null,null,null,null,null,null,null,null,null,null,null,null,null,null,0]
["SBSA_288","SBSA_288",null,null,null,null,null,null,null,null,null,null,null,null,null,null,null,null,null,null,null,null,null,null,null,null,null,null,null,null,null,null,null,0]
["SBSA_289","SBSA_289",null,null,null,null,null,null,null,null,null,null,null,null,null,null,null,null,null,null,null,null,null,null,null,null,null,null,null,null,null,null,null,0]
["SBSA_290","SBSA_290",null,null,null,null,null,null,null,null,null,null,null,null,null,null,null,null,null,null,null,null,null,null,null,null,null,null,null,null,null,null,null,0]
["SBSA_291","SBSA_291",null,null,null,null,null,null,null,null,null,null,null,null,null,null,null,null,null,null,null,null,null,null,null,null,null,null,null,null,null,null,null,0]
["SBSA_292","SBSA_292",null,null,null,null,null,null,null,null,null,null,null,null,null,null,null,null,null,null,null,null,null,null,null,null,null,null,null,null,null,null,null,0]
["SBSA_293","SBSA_293",null,null,null,null,null,null,null,null,null,null,null,null,null,null,null,null,null,null,null,null,null,null,null,null,null,null,null,null,null,null,null,0]
["SBSA_294","SBSA_294",null,null,null,null,null,null,null,null,null,null,null,null,null,null,null,null,null,null,null,null,null,null,null,null,null,null,null,null,null,null,null,0]
["SBSA_295","SBSA_295",null,null,null,null,null,null,null,null,null,null,null,null,null,null,null,null,null,null,null,null,null,null,null,null,null,null,null,null,null,null,null,0]
["SBSA_296","SBSA_296",null,null,null,null,null,null,null,null,null,null,null,null,null,null,null,null,null,null,null,null,null,null,null,null,null,null,null,null,null,null,null,0]
["SBSA_297","SBSA_297",null,null,null,null,null,null,null,null,null,null,null,null,null,null,null,null,null,null,null,null,null,null,null,null,null,null,null,null,null,null,null,0]
["SBSA_298","SBSA_298",null,null,null,null,null,null,null,null,null,null,null,null,null,null,null,null,null,null,null,null,null,null,null,null,null,null,null,null,null,null,null,0]
["SBSA_299","SBSA_299",null,null,null,null,null,null,null,null,null,null,null,null,null,null,null,null,null,null,null,null,null,null,null,null,null,null,null,null,null,null,null,0]
["SBSA_300","SBSA_300",null,null,null,null,null,null,null,null,null,null,null,null,null,null,null,null,null,null,null,null,null,null,null,null,null,null,null,null,null,null,null,0]
["SBSA_301","SBSA_301",null,null,null,null,null,null,null,null,null,null,null,null,null,null,null,null,null,null,null,null,null,null,null,null,null,null,null,null,null,null,null,0]
["SBSA_302","SBSA_302",null,null,null,null,null,null,null,null,null,null,null,null,null,null,null,null,null,null,null,null,null,null,null,null,null,null,null,null,null,null,null,0]
["SBSA_303","SBSA_303",null,null,null,null,null,null,null,null,null,null,null,null,null,null,null,null,null,null,null,null,null,null,null,null,null,null,null,null,null,null,null,0]
["SBSA_304","SBSA_304",null,null,null,null,null,null,null,null,null,null,null,null,null,null,null,null,null,null,null,null,null,null,null,null,null,null,null,null,null,null,null,0]
["SBSA_305","SBSA_305",null,null,null,null,null,null,null,null,null,null,null,null,null,null,null,null,null,null,null,null,null,null,null,null,null,null,null,null,null,null,null,0]
["SBSA_306","SBSA_306",null,null,null,null,null,null,null,null,null,null,null,null,null,null,null,null,null,null,null,null,null,null,null,null,null,null,null,null,null,null,null,0]
["SBSA_307","SBSA_307",null,null,null,null,null,null,null,null,null,null,null,null,null,null,null,null,null,null,null,null,null,null,null,null,null,null,null,null,null,null,null,0]
["SBSA_308","SBSA_308",null,null,null,null,null,null,null,null,null,null,null,null,null,null,null,null,null,null,null,null,null,null,null,null,null,null,null,null,null,null,null,0]
["SBSA_309","SBSA_309",null,null,null,null,null,null,null,null,null,null,null,null,null,null,null,null,null,null,null,null,null,null,null,null,null,null,null,null,null,null,null,0]
["SBSA_310","SBSA_310",null,null,null,null,null,null,null,null,null,null,null,null,null,null,null,null,null,null,null,null,null,null,null,null,null,null,null,null,null,null,null,0]
["SBSA_311","SBSA_311",null,null,null,null,null,null,null,null,null,null,null,null,null,null,null,null,null,null,null,null,null,null,null,null,null,null,null,null,null,null,null,0]
["SBSA_312","SBSA_312",null,null,null,null,null,null,null,null,null,null,null,null,null,null,null,null,null,null,null,null,null,null,null,null,null,null,null,null,null,null,null,0]
["SBSA_313","SBSA_313",null,null,null,null,null,null,null,null,null,null,null,null,null,null,null,null,null,null,null,null,null,null,null,null,null,null,null,null,null,null,null,0]
["SBSA_314","SBSA_314",null,null,null,null,null,null,null,null,null,null,null,null,null,null,null,null,null,null,null,null,null,null,null,null,null,null,null,null,null,null,null,0]
["SBSA_315","SBSA_315",null,null,null,null,null,null,null,null,null,null,null,null,null,null,null,null,null,null,null,null,null,null,null,null,null,null,null,null,null,null,null,0]
["SBSA_316","SBSA_316",null,null,null,null,null,null,null,null,null,null,null,null,null,null,null,null,null,null,null,null,null,null,null,null,null,null,null,null,null,null,null,0]
["SBSA_317","SBSA_317",null,null,null,null,null,null,null,null,null,null,null,null,null,null,null,null,null,null,null,null,null,null,null,null,null,null,null,null,null,null,null,0]
["SBSA_318","SBSA_318",null,null,null,null,null,null,null,null,null,null,null,null,null,null,null,null,null,null,null,null,null,null,null,null,null,null,null,null,null,null,null,0]
["SBSA_319","SBSA_319",null,null,null,null,null,null,null,null,null,null,null,null,null,null,null,null,null,null,null,null,null,null,null,null,null,null,null,null,null,null,null,0]
["SBSA_320","SBSA_320",null,null,null,null,null,null,null,null,null,null,null,null,null,null,null,null,null,null,null,null,null,null,null,null,null,null,null,null,null,null,null,0]
["SBSA_321","SBSA_321",null,null,null,null,null,null,null,null,null,null,null,null,null,null,null,null,null,null,null,null,null,null,null,null,null,null,null,null,null,null,null,{"$f":"IF(COUNTBLANK(C330:H330)<6,1,0)","v":0}]
["SBSA_322","SBSA_322",null,null,null,null,null,null,null,null,null,null,null,null,null,null,null,null,null,null,null,null,null,null,null,null,null,null,null,null,null,null,null,0]
["SBSA_323","SBSA_323",null,null,null,null,null,null,null,null,null,null,null,null,null,null,null,null,null,null,null,null,null,null,null,null,null,null,null,null,null,null,null,0]
["SBSA_324","SBSA_324",null,null,null,null,null,null,null,null,null,null,null,null,null,null,null,null,null,null,null,null,null,null,null,null,null,null,null,null,null,null,null,0]
["SBSA_325","SBSA_325",null,null,null,null,null,null,null,null,null,null,null,null,null,null,null,null,null,null,null,null,null,null,null,null,null,null,null,null,null,null,null,0]
["SBSA_326","SBSA_326",null,null,null,null,null,null,null,null,null,null,null,null,null,null,null,null,null,null,null,null,null,null,null,null,null,null,null,null,null,null,null,0]
["SBSA_327","SBSA_327",null,null,null,null,null,null,null,null,null,null,null,null,null,null,null,null,null,null,null,null,null,null,null,null,null,null,null,null,null,null,null,0]
["SBSA_328","SBSA_328",null,null,null,null,null,null,null,null,null,null,null,null,null,null,null,null,null,null,null,null,null,null,null,null,null,null,null,null,null,null,null,0]
["SBSA_329","SBSA_329",null,null,null,null,null,null,null,null,null,null,null,null,null,null,null,null,null,null,null,null,null,null,null,null,null,null,null,null,null,null,null,0]
["SBSA_330","SBSA_330",null,null,null,null,null,null,null,null,null,null,null,null,null,null,null,null,null,null,null,null,null,null,null,null,null,null,null,null,null,null,null,0]
["SBSA_331","SBSA_331",null,null,null,null,null,null,null,null,null,null,null,null,null,null,null,null,null,null,null,null,null,null,null,null,null,null,null,null,null,null,null,0]
["SBSA_332","SBSA_332",null,null,null,null,null,null,null,null,null,null,null,null,null,null,null,null,null,null,null,null,null,null,null,null,null,null,null,null,null,null,null,0]
["SBSA_333","SBSA_333",null,null,null,null,null,null,null,null,null,null,null,null,null,null,null,null,null,null,null,null,null,null,null,null,null,null,null,null,null,null,null,0]
["SBSA_334","SBSA_334",null,null,null,null,null,null,null,null,null,null,null,null,null,null,null,null,null,null,null,null,null,null,null,null,null,null,null,null,null,null,null,0]
["SBSA_335","SBSA_335",null,null,null,null,null,null,null,null,null,null,null,null,null,null,null,null,null,null,null,null,null,null,null,null,null,null,null,null,null,null,null,0]
["SBSA_336","SBSA_336",null,null,null,null,null,null,null,null,null,null,null,null,null,null,null,null,null,null,null,null,null,null,null,null,null,null,null,null,null,null,null,0]
["SBSA_337","SBSA_337",null,null,null,null,null,null,null,null,null,null,null,null,null,null,null,null,null,null,null,null,null,null,null,null,null,null,null,null,null,null,null,0]
["SBSA_338","SBSA_338",null,null,null,null,null,null,null,null,null,null,null,null,null,null,null,null,null,null,null,null,null,null,null,null,null,null,null,null,null,null,null,0]
["SBSA_339","SBSA_339",null,null,null,null,null,null,null,null,null,null,null,null,null,null,null,null,null,null,null,null,null,null,null,null,null,null,null,null,null,null,null,0]
["SBSA_340","SBSA_340",null,null,null,null,null,null,null,null,null,null,null,null,null,null,null,null,null,null,null,null,null,null,null,null,null,null,null,null,null,null,null,0]
["SBSA_341","SBSA_341",null,null,null,null,null,null,null,null,null,null,null,null,null,null,null,null,null,null,null,null,null,null,null,null,null,null,null,null,null,null,null,0]
["SBSA_342","SBSA_342",null,null,null,null,null,null,null,null,null,null,null,null,null,null,null,null,null,null,null,null,null,null,null,null,null,null,null,null,null,null,null,0]
["SBSA_343","SBSA_343",null,null,null,null,null,null,null,null,null,null,null,null,null,null,null,null,null,null,null,null,null,null,null,null,null,null,null,null,null,null,null,0]
["SBSA_344","SBSA_344",null,null,null,null,null,null,null,null,null,null,null,null,null,null,null,null,null,null,null,null,null,null,null,null,null,null,null,null,null,null,null,0]
["SBSA_345","SBSA_345",null,null,null,null,null,null,null,null,null,null,null,null,null,null,null,null,null,null,null,null,null,null,null,null,null,null,null,null,null,null,null,0]
["SBSA_346","SBSA_346",null,null,null,null,null,null,null,null,null,null,null,null,null,null,null,null,null,null,null,null,null,null,null,null,null,null,null,null,null,null,null,0]
["SBSA_347","SBSA_347",null,null,null,null,null,null,null,null,null,null,null,null,null,null,null,null,null,null,null,null,null,null,null,null,null,null,null,null,null,null,null,0]
["SBSA_348","SBSA_348",null,null,null,null,null,null,null,null,null,null,null,null,null,null,null,null,null,null,null,null,null,null,null,null,null,null,null,null,null,null,null,0]
["SBSA_349","SBSA_349",null,null,null,null,null,null,null,null,null,null,null,null,null,null,null,null,null,null,null,null,null,null,null,null,null,null,null,null,null,null,null,0]
["SBSA_350","SBSA_350",null,null,null,null,null,null,null,null,null,null,null,null,null,null,null,null,null,null,null,null,null,null,null,null,null,null,null,null,null,null,null,0]
["SBSA_351","SBSA_351",null,null,null,null,null,null,null,null,null,null,null,null,null,null,null,null,null,null,null,null,null,null,null,null,null,null,null,null,null,null,null,0]
["SBSA_352","SBSA_352",null,null,null,null,null,null,null,null,null,null,null,null,null,null,null,null,null,null,null,null,null,null,null,null,null,null,null,null,null,null,null,0]
["SBSA_353","SBSA_353",null,null,null,null,null,null,null,null,null,null,null,null,null,null,null,null,null,null,null,null,null,null,null,null,null,null,null,null,null,null,null,0]
["SBSA_354","SBSA_354",null,null,null,null,null,null,null,null,null,null,null,null,null,null,null,null,null,null,null,null,null,null,null,null,null,null,null,null,null,null,null,0]
["SBSA_355","SBSA_355",null,null,null,null,null,null,null,null,null,null,null,null,null,null,null,null,null,null,null,null,null,null,null,null,null,null,null,null,null,null,null,0]
["SBSA_356","SBSA_356",null,null,null,null,null,null,null,null,null,null,null,null,null,null,null,null,null,null,null,null,null,null,null,null,null,null,null,null,null,null,null,0]
["SBSA_357","SBSA_357",null,null,null,null,null,null,null,null,null,null,null,null,null,null,null,null,null,null,null,null,null,null,null,null,null,null,null,null,null,null,null,0]
["SBSA_358","SBSA_358",null,null,null,null,null,null,null,null,null,null,null,null,null,null,null,null,null,null,null,null,null,null,null,null,null,null,null,null,null,null,null,0]
["SBSA_359","SBSA_359",null,null,null,null,null,null,null,null,null,null,null,null,null,null,null,null,null,null,null,null,null,null,null,null,null,null,null,null,null,null,null,0]
["SBSA_360","SBSA_360",null,null,null,null,null,null,null,null,null,null,null,null,null,null,null,null,null,null,null,null,null,null,null,null,null,null,null,null,null,null,null,0]
["SBSA_361","SBSA_361",null,null,null,null,null,null,null,null,null,null,null,null,null,null,null,null,null,null,null,null,null,null,null,null,null,null,null,null,null,null,null,0]
["SBSA_362","SBSA_362",null,null,null,null,null,null,null,null,null,null,null,null,null,null,null,null,null,null,null,null,null,null,null,null,null,null,null,null,null,null,null,0]
["SBSA_363","SBSA_363",null,null,null,null,null,null,null,null,null,null,null,null,null,null,null,null,null,null,null,null,null,null,null,null,null,null,null,null,null,null,null,0]
["SBSA_364","SBSA_364",null,null,null,null,null,null,null,null,null,null,null,null,null,null,null,null,null,null,null,null,null,null,null,null,null,null,null,null,null,null,null,0]
["SBSA_365","SBSA_365",null,null,null,null,null,null,null,null,null,null,null,null,null,null,null,null,null,null,null,null,null,null,null,null,null,null,null,null,null,null,null,0]
["SBSA_366","SBSA_366",null,null,null,null,null,null,null,null,null,null,null,null,null,null,null,null,null,null,null,null,null,null,null,null,null,null,null,null,null,null,null,0]
["SBSA_367","SBSA_367",null,null,null,null,null,null,null,null,null,null,null,null,null,null,null,null,null,null,null,null,null,null,null,null,null,null,null,null,null,null,null,0]
["SBSA_368","SBSA_368",null,null,null,null,null,null,null,null,null,null,null,null,null,null,null,null,null,null,null,null,null,null,null,null,null,null,null,null,null,null,null,0]
["SBSA_369","SBSA_369",null,null,null,null,null,null,null,null,null,null,null,null,null,null,null,null,null,null,null,null,null,null,null,null,null,null,null,null,null,null,null,0]
["SBSA_370","SBSA_370",null,null,null,null,null,null,null,null,null,null,null,null,null,null,null,null,null,null,null,null,null,null,null,null,null,null,null,null,null,null,null,0]
["SBSA_371","SBSA_371",null,null,null,null,null,null,null,null,null,null,null,null,null,null,null,null,null,null,null,null,null,null,null,null,null,null,null,null,null,null,null,0]
["SBSA_372","SBSA_372",null,null,null,null,null,null,null,null,null,null,null,null,null,null,null,null,null,null,null,null,null,null,null,null,null,null,null,null,null,null,null,0]
["SBSA_373","SBSA_373",null,null,null,null,null,null,null,null,null,null,null,null,null,null,null,null,null,null,null,null,null,null,null,null,null,null,null,null,null,null,null,0]
["SBSA_374","SBSA_374",null,null,null,null,null,null,null,null,null,null,null,null,null,null,null,null,null,null,null,null,null,null,null,null,null,null,null,null,null,null,null,0]
["SBSA_375","SBSA_375",null,null,null,null,null,null,null,null,null,null,null,null,null,null,null,null,null,null,null,null,null,null,null,null,null,null,null,null,null,null,null,0]
["SBSA_376","SBSA_376",null,null,null,null,null,null,null,null,null,null,null,null,null,null,null,null,null,null,null,null,null,null,null,null,null,null,null,null,null,null,null,0]
["SBSA_377","SBSA_377",null,null,null,null,null,null,null,null,null,null,null,null,null,null,null,null,null,null,null,null,null,null,null,null,null,null,null,null,null,null,null,0]
["SBSA_378","SBSA_378",null,null,null,null,null,null,null,null,null,null,null,null,null,null,null,null,null,null,null,null,null,null,null,null,null,null,null,null,null,null,null,0]
["SBSA_379","SBSA_379",null,null,null,null,null,null,null,null,null,null,null,null,null,null,null,null,null,null,null,null,null,null,null,null,null,null,null,null,null,null,null,0]
["SBSA_380","SBSA_380",null,null,null,null,null,null,null,null,null,null,null,null,null,null,null,null,null,null,null,null,null,null,null,null,null,null,null,null,null,null,null,0]
["SBSA_381","SBSA_381",null,null,null,null,null,null,null,null,null,null,null,null,null,null,null,null,null,null,null,null,null,null,null,null,null,null,null,null,null,null,null,0]
["SBSA_382","SBSA_382",null,null,null,null,null,null,null,null,null,null,null,null,null,null,null,null,null,null,null,null,null,null,null,null,null,null,null,null,null,null,null,0]
["SBSA_383","SBSA_383",null,null,null,null,null,null,null,null,null,null,null,null,null,null,null,null,null,null,null,null,null,null,null,null,null,null,null,null,null,null,null,0]
["SBSA_384","SBSA_384",null,null,null,null,null,null,null,null,null,null,null,null,null,null,null,null,null,null,null,null,null,null,null,null,null,null,null,null,null,null,null,0]
["SBSA_385","SBSA_385",null,null,null,null,null,null,null,null,null,null,null,null,null,null,null,null,null,null,null,null,null,null,null,null,null,null,null,null,null,null,null,{"$f":"IF(COUNTBLANK(C394:H394)<6,1,0)","v":0}]
["SBSA_386","SBSA_386",null,null,null,null,null,null,null,null,null,null,null,null,null,null,null,null,null,null,null,null,null,null,null,null,null,null,null,null,null,null,null,0]
["SBSA_387","SBSA_387",null,null,null,null,null,null,null,null,null,null,null,null,null,null,null,null,null,null,null,null,null,null,null,null,null,null,null,null,null,null,null,0]
["SBSA_388","SBSA_388",null,null,null,null,null,null,null,null,null,null,null,null,null,null,null,null,null,null,null,null,null,null,null,null,null,null,null,null,null,null,null,0]
["SBSA_389","SBSA_389",null,null,null,null,null,null,null,null,null,null,null,null,null,null,null,null,null,null,null,null,null,null,null,null,null,null,null,null,null,null,null,0]
["SBSA_390","SBSA_390",null,null,null,null,null,null,null,null,null,null,null,null,null,null,null,null,null,null,null,null,null,null,null,null,null,null,null,null,null,null,null,0]
["SBSA_391","SBSA_391",null,null,null,null,null,null,null,null,null,null,null,null,null,null,null,null,null,null,null,null,null,null,null,null,null,null,null,null,null,null,null,0]
["SBSA_392","SBSA_392",null,null,null,null,null,null,null,null,null,null,null,null,null,null,null,null,null,null,null,null,null,null,null,null,null,null,null,null,null,null,null,0]
["SBSA_393","SBSA_393",null,null,null,null,null,null,null,null,null,null,null,null,null,null,null,null,null,null,null,null,null,null,null,null,null,null,null,null,null,null,null,0]
["SBSA_394","SBSA_394",null,null,null,null,null,null,null,null,null,null,null,null,null,null,null,null,null,null,null,null,null,null,null,null,null,null,null,null,null,null,null,0]
["SBSA_395","SBSA_395",null,null,null,null,null,null,null,null,null,null,null,null,null,null,null,null,null,null,null,null,null,null,null,null,null,null,null,null,null,null,null,0]
["SBSA_396","SBSA_396",null,null,null,null,null,null,null,null,null,null,null,null,null,null,null,null,null,null,null,null,null,null,null,null,null,null,null,null,null,null,null,0]
["SBSA_397","SBSA_397",null,null,null,null,null,null,null,null,null,null,null,null,null,null,null,null,null,null,null,null,null,null,null,null,null,null,null,null,null,null,null,0]
["SBSA_398","SBSA_398",null,null,null,null,null,null,null,null,null,null,null,null,null,null,null,null,null,null,null,null,null,null,null,null,null,null,null,null,null,null,null,0]
["SBSA_399","SBSA_399",null,null,null,null,null,null,null,null,null,null,null,null,null,null,null,null,null,null,null,null,null,null,null,null,null,null,null,null,null,null,null,0]
["SBSA_400","SBSA_400",null,null,null,null,null,null,null,null,null,null,null,null,null,null,null,null,null,null,null,null,null,null,null,null,null,null,null,null,null,null,null,0]
["SBSA_401","SBSA_401",null,null,null,null,null,null,null,null,null,null,null,null,null,null,null,null,null,null,null,null,null,null,null,null,null,null,null,null,null,null,null,0]
["SBSA_402","SBSA_402",null,null,null,null,null,null,null,null,null,null,null,null,null,null,null,null,null,null,null,null,null,null,null,null,null,null,null,null,null,null,null,0]
["SBSA_403","SBSA_403",null,null,null,null,null,null,null,null,null,null,null,null,null,null,null,null,null,null,null,null,null,null,null,null,null,null,null,null,null,null,null,0]
["SBSA_404","SBSA_404",null,null,null,null,null,null,null,null,null,null,null,null,null,null,null,null,null,null,null,null,null,null,null,null,null,null,null,null,null,null,null,0]
["SBSA_405","SBSA_405",null,null,null,null,null,null,null,null,null,null,null,null,null,null,null,null,null,null,null,null,null,null,null,null,null,null,null,null,null,null,null,0]
["SBSA_406","SBSA_406",null,null,null,null,null,null,null,null,null,null,null,null,null,null,null,null,null,null,null,null,null,null,null,null,null,null,null,null,null,null,null,0]
["SBSA_407","SBSA_407",null,null,null,null,null,null,null,null,null,null,null,null,null,null,null,null,null,null,null,null,null,null,null,null,null,null,null,null,null,null,null,0]
["SBSA_408","SBSA_408",null,null,null,null,null,null,null,null,null,null,null,null,null,null,null,null,null,null,null,null,null,null,null,null,null,null,null,null,null,null,null,0]
["SBSA_409","SBSA_409",null,null,null,null,null,null,null,null,null,null,null,null,null,null,null,null,null,null,null,null,null,null,null,null,null,null,null,null,null,null,null,0]
["SBSA_410","SBSA_410",null,null,null,null,null,null,null,null,null,null,null,null,null,null,null,null,null,null,null,null,null,null,null,null,null,null,null,null,null,null,null,0]
["SBSA_411","SBSA_411",null,null,null,null,null,null,null,null,null,null,null,null,null,null,null,null,null,null,null,null,null,null,null,null,null,null,null,null,null,null,null,0]
["SBSA_412","SBSA_412",null,null,null,null,null,null,null,null,null,null,null,null,null,null,null,null,null,null,null,null,null,null,null,null,null,null,null,null,null,null,null,0]
["SBSA_413","SBSA_413",null,null,null,null,null,null,null,null,null,null,null,null,null,null,null,null,null,null,null,null,null,null,null,null,null,null,null,null,null,null,null,0]
["SBSA_414","SBSA_414",null,null,null,null,null,null,null,null,null,null,null,null,null,null,null,null,null,null,null,null,null,null,null,null,null,null,null,null,null,null,null,0]
["SBSA_415","SBSA_415",null,null,null,null,null,null,null,null,null,null,null,null,null,null,null,null,null,null,null,null,null,null,null,null,null,null,null,null,null,null,null,0]
["SBSA_416","SBSA_416",null,null,null,null,null,null,null,null,null,null,null,null,null,null,null,null,null,null,null,null,null,null,null,null,null,null,null,null,null,null,null,0]
["SBSA_417","SBSA_417",null,null,null,null,null,null,null,null,null,null,null,null,null,null,null,null,null,null,null,null,null,null,null,null,null,null,null,null,null,null,null,0]
["SBSA_418","SBSA_418",null,null,null,null,null,null,null,null,null,null,null,null,null,null,null,null,null,null,null,null,null,null,null,null,null,null,null,null,null,null,null,0]
["SBSA_419","SBSA_419",null,null,null,null,null,null,null,null,null,null,null,null,null,null,null,null,null,null,null,null,null,null,null,null,null,null,null,null,null,null,null,0]
["SBSA_420","SBSA_420",null,null,null,null,null,null,null,null,null,null,null,null,null,null,null,null,null,null,null,null,null,null,null,null,null,null,null,null,null,null,null,0]
["SBSA_421","SBSA_421",null,null,null,null,null,null,null,null,null,null,null,null,null,null,null,null,null,null,null,null,null,null,null,null,null,null,null,null,null,null,null,0]
["SBSA_422","SBSA_422",null,null,null,null,null,null,null,null,null,null,null,null,null,null,null,null,null,null,null,null,null,null,null,null,null,null,null,null,null,null,null,0]
["SBSA_423","SBSA_423",null,null,null,null,null,null,null,null,null,null,null,null,null,null,null,null,null,null,null,null,null,null,null,null,null,null,null,null,null,null,null,0]
["SBSA_424","SBSA_424",null,null,null,null,null,null,null,null,null,null,null,null,null,null,null,null,null,null,null,null,null,null,null,null,null,null,null,null,null,null,null,0]
["SBSA_425","SBSA_425",null,null,null,null,null,null,null,null,null,null,null,null,null,null,null,null,null,null,null,null,null,null,null,null,null,null,null,null,null,null,null,0]
["SBSA_426","SBSA_426",null,null,null,null,null,null,null,null,null,null,null,null,null,null,null,null,null,null,null,null,null,null,null,null,null,null,null,null,null,null,null,0]
["SBSA_427","SBSA_427",null,null,null,null,null,null,null,null,null,null,null,null,null,null,null,null,null,null,null,null,null,null,null,null,null,null,null,null,null,null,null,0]
["SBSA_428","SBSA_428",null,null,null,null,null,null,null,null,null,null,null,null,null,null,null,null,null,null,null,null,null,null,null,null,null,null,null,null,null,null,null,0]
["SBSA_429","SBSA_429",null,null,null,null,null,null,null,null,null,null,null,null,null,null,null,null,null,null,null,null,null,null,null,null,null,null,null,null,null,null,null,0]
["SBSA_430","SBSA_430",null,null,null,null,null,null,null,null,null,null,null,null,null,null,null,null,null,null,null,null,null,null,null,null,null,null,null,null,null,null,null,0]
["SBSA_431","SBSA_431",null,null,null,null,null,null,null,null,null,null,null,null,null,null,null,null,null,null,null,null,null,null,null,null,null,null,null,null,null,null,null,0]
["SBSA_432","SBSA_432",null,null,null,null,null,null,null,null,null,null,null,null,null,null,null,null,null,null,null,null,null,null,null,null,null,null,null,null,null,null,null,0]
["SBSA_433","SBSA_433",null,null,null,null,null,null,null,null,null,null,null,null,null,null,null,null,null,null,null,null,null,null,null,null,null,null,null,null,null,null,null,0]
["SBSA_434","SBSA_434",null,null,null,null,null,null,null,null,null,null,null,null,null,null,null,null,null,null,null,null,null,null,null,null,null,null,null,null,null,null,null,0]
["SBSA_435","SBSA_435",null,null,null,null,null,null,null,null,null,null,null,null,null,null,null,null,null,null,null,null,null,null,null,null,null,null,null,null,null,null,null,0]
["SBSA_436","SBSA_436",null,null,null,null,null,null,null,null,null,null,null,null,null,null,null,null,null,null,null,null,null,null,null,null,null,null,null,null,null,null,null,0]
["SBSA_437","SBSA_437",null,null,null,null,null,null,null,null,null,null,null,null,null,null,null,null,null,null,null,null,null,null,null,null,null,null,null,null,null,null,null,0]
["SBSA_438","SBSA_438",null,null,null,null,null,null,null,null,null,null,null,null,null,null,null,null,null,null,null,null,null,null,null,null,null,null,null,null,null,null,null,0]
["SBSA_439","SBSA_439",null,null,null,null,null,null,null,null,null,null,null,null,null,null,null,null,null,null,null,null,null,null,null,null,null,null,null,null,null,null,null,0]
["SBSA_440","SBSA_440",null,null,null,null,null,null,null,null,null,null,null,null,null,null,null,null,null,null,null,null,null,null,null,null,null,null,null,null,null,null,null,0]
["SBSA_441","SBSA_441",null,null,null,null,null,null,null,null,null,null,null,null,null,null,null,null,null,null,null,null,null,null,null,null,null,null,null,null,null,null,null,0]
["SBSA_442","SBSA_442",null,null,null,null,null,null,null,null,null,null,null,null,null,null,null,null,null,null,null,null,null,null,null,null,null,null,null,null,null,null,null,0]
["SBSA_443","SBSA_443",null,null,null,null,null,null,null,null,null,null,null,null,null,null,null,null,null,null,null,null,null,null,null,null,null,null,null,null,null,null,null,0]
["SBSA_444","SBSA_444",null,null,null,null,null,null,null,null,null,null,null,null,null,null,null,null,null,null,null,null,null,null,null,null,null,null,null,null,null,null,null,0]
["SBSA_445","SBSA_445",null,null,null,null,null,null,null,null,null,null,null,null,null,null,null,null,null,null,null,null,null,null,null,null,null,null,null,null,null,null,null,0]
["SBSA_446","SBSA_446",null,null,null,null,null,null,null,null,null,null,null,null,null,null,null,null,null,null,null,null,null,null,null,null,null,null,null,null,null,null,null,0]
["SBSA_447","SBSA_447",null,null,null,null,null,null,null,null,null,null,null,null,null,null,null,null,null,null,null,null,null,null,null,null,null,null,null,null,null,null,null,0]
["SBSA_448","SBSA_448",null,null,null,null,null,null,null,null,null,null,null,null,null,null,null,null,null,null,null,null,null,null,null,null,null,null,null,null,null,null,null,0]
["SBSA_449","SBSA_449",null,null,null,null,null,null,null,null,null,null,null,null,null,null,null,null,null,null,null,null,null,null,null,null,null,null,null,null,null,null,null,{"$f":"IF(COUNTBLANK(C458:H458)<6,1,0)","v":0}]
["SBSA_450","SBSA_450",null,null,null,null,null,null,null,null,null,null,null,null,null,null,null,null,null,null,null,null,null,null,null,null,null,null,null,null,null,null,null,0]
["SBSA_451","SBSA_451",null,null,null,null,null,null,null,null,null,null,null,null,null,null,null,null,null,null,null,null,null,null,null,null,null,null,null,null,null,null,null,0]
["SBSA_452","SBSA_452",null,null,null,null,null,null,null,null,null,null,null,null,null,null,null,null,null,null,null,null,null,null,null,null,null,null,null,null,null,null,null,0]
["SBSA_453","SBSA_453",null,null,null,null,null,null,null,null,null,null,null,null,null,null,null,null,null,null,null,null,null,null,null,null,null,null,null,null,null,null,null,0]
["SBSA_454","SBSA_454",null,null,null,null,null,null,null,null,null,null,null,null,null,null,null,null,null,null,null,null,null,null,null,null,null,null,null,null,null,null,null,0]
["SBSA_455","SBSA_455",null,null,null,null,null,null,null,null,null,null,null,null,null,null,null,null,null,null,null,null,null,null,null,null,null,null,null,null,null,null,null,0]
["SBSA_456","SBSA_456",null,null,null,null,null,null,null,null,null,null,null,null,null,null,null,null,null,null,null,null,null,null,null,null,null,null,null,null,null,null,null,0]
["SBSA_457","SBSA_457",null,null,null,null,null,null,null,null,null,null,null,null,null,null,null,null,null,null,null,null,null,null,null,null,null,null,null,null,null,null,null,0]
["SBSA_458","SBSA_458",null,null,null,null,null,null,null,null,null,null,null,null,null,null,null,null,null,null,null,null,null,null,null,null,null,null,null,null,null,null,null,0]
["SBSA_459","SBSA_459",null,null,null,null,null,null,null,null,null,null,null,null,null,null,null,null,null,null,null,null,null,null,null,null,null,null,null,null,null,null,null,0]
["SBSA_460","SBSA_460",null,null,null,null,null,null,null,null,null,null,null,null,null,null,null,null,null,null,null,null,null,null,null,null,null,null,null,null,null,null,null,0]
["SBSA_461","SBSA_461",null,null,null,null,null,null,null,null,null,null,null,null,null,null,null,null,null,null,null,null,null,null,null,null,null,null,null,null,null,null,null,0]
["SBSA_462","SBSA_462",null,null,null,null,null,null,null,null,null,null,null,null,null,null,null,null,null,null,null,null,null,null,null,null,null,null,null,null,null,null,null,0]
["SBSA_463","SBSA_463",null,null,null,null,null,null,null,null,null,null,null,null,null,null,null,null,null,null,null,null,null,null,null,null,null,null,null,null,null,null,null,0]
["SBSA_464","SBSA_464",null,null,null,null,null,null,null,null,null,null,null,null,null,null,null,null,null,null,null,null,null,null,null,null,null,null,null,null,null,null,null,0]
["SBSA_465","SBSA_465",null,null,null,null,null,null,null,null,null,null,null,null,null,null,null,null,null,null,null,null,null,null,null,null,null,null,null,null,null,null,null,0]
["SBSA_466","SBSA_466",null,null,null,null,null,null,null,null,null,null,null,null,null,null,null,null,null,null,null,null,null,null,null,null,null,null,null,null,null,null,null,0]
["SBSA_467","SBSA_467",null,null,null,null,null,null,null,null,null,null,null,null,null,null,null,null,null,null,null,null,null,null,null,null,null,null,null,null,null,null,null,0]
["SBSA_468","SBSA_468",null,null,null,null,null,null,null,null,null,null,null,null,null,null,null,null,null,null,null,null,null,null,null,null,null,null,null,null,null,null,null,0]
["SBSA_469","SBSA_469",null,null,null,null,null,null,null,null,null,null,null,null,null,null,null,null,null,null,null,null,null,null,null,null,null,null,null,null,null,null,null,0]
["SBSA_470","SBSA_470",null,null,null,null,null,null,null,null,null,null,null,null,null,null,null,null,null,null,null,null,null,null,null,null,null,null,null,null,null,null,null,0]
["SBSA_471","SBSA_471",null,null,null,null,null,null,null,null,null,null,null,null,null,null,null,null,null,null,null,null,null,null,null,null,null,null,null,null,null,null,null,0]
["SBSA_472","SBSA_472",null,null,null,null,null,null,null,null,null,null,null,null,null,null,null,null,null,null,null,null,null,null,null,null,null,null,null,null,null,null,null,0]
["SBSA_473","SBSA_473",null,null,null,null,null,null,null,null,null,null,null,null,null,null,null,null,null,null,null,null,null,null,null,null,null,null,null,null,null,null,null,0]
["SBSA_474","SBSA_474",null,null,null,null,null,null,null,null,null,null,null,null,null,null,null,null,null,null,null,null,null,null,null,null,null,null,null,null,null,null,null,0]
["SBSA_475","SBSA_475",null,null,null,null,null,null,null,null,null,null,null,null,null,null,null,null,null,null,null,null,null,null,null,null,null,null,null,null,null,null,null,0]
["SBSA_476","SBSA_476",null,null,null,null,null,null,null,null,null,null,null,null,null,null,null,null,null,null,null,null,null,null,null,null,null,null,null,null,null,null,null,0]
["SBSA_477","SBSA_477",null,null,null,null,null,null,null,null,null,null,null,null,null,null,null,null,null,null,null,null,null,null,null,null,null,null,null,null,null,null,null,0]
["SBSA_478","SBSA_478",null,null,null,null,null,null,null,null,null,null,null,null,null,null,null,null,null,null,null,null,null,null,null,null,null,null,null,null,null,null,null,0]
["SBSA_479","SBSA_479",null,null,null,null,null,null,null,null,null,null,null,null,null,null,null,null,null,null,null,null,null,null,null,null,null,null,null,null,null,null,null,0]
["SBSA_480","SBSA_480",null,null,null,null,null,null,null,null,null,null,null,null,null,null,null,null,null,null,null,null,null,null,null,null,null,null,null,null,null,null,null,0]
["SBSA_481","SBSA_481",null,null,null,null,null,null,null,null,null,null,null,null,null,null,null,null,null,null,null,null,null,null,null,null,null,null,null,null,null,null,null,0]
["SBSA_482","SBSA_482",null,null,null,null,null,null,null,null,null,null,null,null,null,null,null,null,null,null,null,null,null,null,null,null,null,null,null,null,null,null,null,0]
["SBSA_483","SBSA_483",null,null,null,null,null,null,null,null,null,null,null,null,null,null,null,null,null,null,null,null,null,null,null,null,null,null,null,null,null,null,null,0]
["SBSA_484","SBSA_484",null,null,null,null,null,null,null,null,null,null,null,null,null,null,null,null,null,null,null,null,null,null,null,null,null,null,null,null,null,null,null,0]
["SBSA_485","SBSA_485",null,null,null,null,null,null,null,null,null,null,null,null,null,null,null,null,null,null,null,null,null,null,null,null,null,null,null,null,null,null,null,0]
["SBSA_486","SBSA_486",null,null,null,null,null,null,null,null,null,null,null,null,null,null,null,null,null,null,null,null,null,null,null,null,null,null,null,null,null,null,null,0]
["SBSA_487","SBSA_487",null,null,null,null,null,null,null,null,null,null,null,null,null,null,null,null,null,null,null,null,null,null,null,null,null,null,null,null,null,null,null,0]
["SBSA_488","SBSA_488",null,null,null,null,null,null,null,null,null,null,null,null,null,null,null,null,null,null,null,null,null,null,null,null,null,null,null,null,null,null,null,0]
["SBSA_489","SBSA_489",null,null,null,null,null,null,null,null,null,null,null,null,null,null,null,null,null,null,null,null,null,null,null,null,null,null,null,null,null,null,null,0]
["SBSA_490","SBSA_490",null,null,null,null,null,null,null,null,null,null,null,null,null,null,null,null,null,null,null,null,null,null,null,null,null,null,null,null,null,null,null,0]
["SBSA_491","SBSA_491",null,null,null,null,null,null,null,null,null,null,null,null,null,null,null,null,null,null,null,null,null,null,null,null,null,null,null,null,null,null,null,0]
["SBSA_492","SBSA_492",null,null,null,null,null,null,null,null,null,null,null,null,null,null,null,null,null,null,null,null,null,null,null,null,null,null,null,null,null,null,null,0]
["SBSA_493","SBSA_493",null,null,null,null,null,null,null,null,null,null,null,null,null,null,null,null,null,null,null,null,null,null,null,null,null,null,null,null,null,null,null,0]
["SBSA_494","SBSA_494",null,null,null,null,null,null,null,null,null,null,null,null,null,null,null,null,null,null,null,null,null,null,null,null,null,null,null,null,null,null,null,0]
["SBSA_495","SBSA_495",null,null,null,null,null,null,null,null,null,null,null,null,null,null,null,null,null,null,null,null,null,null,null,null,null,null,null,null,null,null,null,0]
["SBSA_496","SBSA_496",null,null,null,null,null,null,null,null,null,null,null,null,null,null,null,null,null,null,null,null,null,null,null,null,null,null,null,null,null,null,null,0]
["SBSA_497","SBSA_497",null,null,null,null,null,null,null,null,null,null,null,null,null,null,null,null,null,null,null,null,null,null,null,null,null,null,null,null,null,null,null,0]
["SBSA_498","SBSA_498",null,null,null,null,null,null,null,null,null,null,null,null,null,null,null,null,null,null,null,null,null,null,null,null,null,null,null,null,null,null,null,0]
["SBSA_499","SBSA_499",null,null,null,null,null,null,null,null,null,null,null,null,null,null,null,null,null,null,null,null,null,null,null,null,null,null,null,null,null,null,null,0]
["SBSA_500","SBSA_500",null,null,null,null,null,null,null,null,null,null,null,null,null,null,null,null,null,null,null,null,null,null,null,null,null,null,null,null,null,null,null,0]
[null,null,null,null,null,null,null,null,null,null,null,null,null,null,null,null,null,null,null,null,null,null,null,null,null,null,null,null,null,null,null,null,null,1]

{"sheet":"SBSA_OWN_ACC","index":20,"n_rows":510,"n_cols":34,"rows_kept":510,"cut":false,"hidden":true,"merged":[[0,2,0,6],[7,3,7,6]]}
[null,null,"REPORTING OF SECURITIES HELD ON OWN ACCOUNT ON A SECURITY BY SECURITY (SBS) BASIS",null,null,null,null,null,null,null,null,null,null,null,null,null,null,null,null,null,null,null,null,null,null,null,null,null,null,null,null,null,null,"A"]
[null,null,"Company Name:",{"$f":"IF(Validation_Checks_CBM!E6<>\"\",Validation_Checks_CBM!E6,\"\")","v":0},null,null,null,null,null,null,null,null,null,null,null,null,null,null,null,null,null,null,null,null,null,null,null,null,null,null,null,null,null,1]
[null,null,null,null,null,null,null,null,null,null,null,null,null,null,null,null,null,null,null,null,null,null,null,null,null,null,null,null,null,null,null,null,null,0]
[null,null,"Return for the quarter ending:",null,{"$f":"IF(AND(Validation_Checks_CBM!E12<>\"\",Validation_Checks_CBM!E13<>\"\"),VLOOKUP(Validation_Checks_CBM!AA2,Validation_Checks_CBM!AA4:AC22,3,FALSE),\"\")","v":""},{"$f":"IF(AND(Validation_Checks_CBM!E12<>\"\",Validation_Checks_CBM!E8<>\"\"),Validation_Checks_CBM!E8,\"\")","v":""},null,null,null,null,null,null,null,null,null,null,null,null,null,null,null,null,null,null,null,null,null,null,null,null,null,null,null,1]
[null,null,null,null,{"$f":"IF(AND(COUNTBLANK(C10:C10009)<10000,E4=\"\"),\"Select 'MONTH'\",\"\")","v":""},null,null,null,null,null,null,null,null,null,null,null,null,null,null,null,null,null,null,null,null,null,null,null,null,null,null,null,null,1]
[null,null,"SBSTIT1","SBSTIT2","SBSTIT3","SBSTIT4","SBSTIT5",null,null,null,null,null,null,null,null,null,null,null,null,null,null,null,null,null,null,null,null,null,null,null,null,null,null,2]
[null,null,"Security identifier code","Position at end of period; Number of Units/shares","Position at end of period; Nominal Value ","Position at end of period; Nominal Currency","Position at end of period; Market price",null,null,null,null,null,null,null,null,null,null,null,null,null,null,null,null,null,null,null,null,null,null,null,null,null,null,2]
[null,null,null,"Position at end of period",null,null,null,null,null,null,null,null,null,null,null,null,null,null,null,null,null,null,null,null,null,null,null,null,null,null,null,null,null,1]
[null,null,"Security identifier code (ISIN)","Number of units/shares (in 000s and applicable for shares and other equity only)","Nominal value (in euro 000s and applicable for debt securities only)","Denominated  currency","Market Price per unit/share in denomination  currency",null,null,null,null,null,null,null,null,null,null,null,null,null,null,null,null,null,null,null,null,null,null,null,null,null,null,1]
["SBSA_1","SBSA_1",null,null,null,null,null,null,null,null,null,null,null,null,null,null,null,null,null,null,null,null,null,null,null,null,null,null,null,null,null,null,null,{"$f":"IF(COUNTBLANK(C10:G10)<5,1,0)","v":0}]
["SBSA_2","SBSA_2",null,null,null,null,null,null,null,null,null,null,null,null,null,null,null,null,null,null,null,null,null,null,null,null,null,null,null,null,null,null,null,0]
["SBSA_3","SBSA_3",null,null,null,null,null,null,null,null,null,null,null,null,null,null,null,null,null,null,null,null,null,null,null,null,null,null,null,null,null,null,null,0]
["SBSA_4","SBSA_4",null,null,null,null,null,null,null,null,null,null,null,null,null,null,null,null,null,null,null,null,null,null,null,null,null,null,null,null,null,null,null,0]
["SBSA_5","SBSA_5",null,null,null,null,null,null,null,null,null,null,null,null,null,null,null,null,null,null,null,null,null,null,null,null,null,null,null,null,null,null,null,0]
["SBSA_6","SBSA_6",null,null,null,null,null,null,null,null,null,null,null,null,null,null,null,null,null,null,null,null,null,null,null,null,null,null,null,null,null,null,null,0]
["SBSA_7","SBSA_7",null,null,null,null,null,null,null,null,null,null,null,null,null,null,null,null,null,null,null,null,null,null,null,null,null,null,null,null,null,null,null,0]
["SBSA_8","SBSA_8",null,null,null,null,null,null,null,null,null,null,null,null,null,null,null,null,null,null,null,null,null,null,null,null,null,null,null,null,null,null,null,0]
["SBSA_9","SBSA_9",null,null,null,null,null,null,null,null,null,null,null,null,null,null,null,null,null,null,null,null,null,null,null,null,null,null,null,null,null,null,null,0]
["SBSA_10","SBSA_10",null,null,null,null,null,null,null,null,null,null,null,null,null,null,null,null,null,null,null,null,null,null,null,null,null,null,null,null,null,null,null,0]
["SBSA_11","SBSA_11",null,null,null,null,null,null,null,null,null,null,null,null,null,null,null,null,null,null,null,null,null,null,null,null,null,null,null,null,null,null,null,0]
["SBSA_12","SBSA_12",null,null,null,null,null,null,null,null,null,null,null,null,null,null,null,null,null,null,null,null,null,null,null,null,null,null,null,null,null,null,null,0]
["SBSA_13","SBSA_13",null,null,null,null,null,null,null,null,null,null,null,null,null,null,null,null,null,null,null,null,null,null,null,null,null,null,null,null,null,null,null,0]
["SBSA_14","SBSA_14",null,null,null,null,null,null,null,null,null,null,null,null,null,null,null,null,null,null,null,null,null,null,null,null,null,null,null,null,null,null,null,0]
["SBSA_15","SBSA_15",null,null,null,null,null,null,null,null,null,null,null,null,null,null,null,null,null,null,null,null,null,null,null,null,null,null,null,null,null,null,null,0]
["SBSA_16","SBSA_16",null,null,null,null,null,null,null,null,null,null,null,null,null,null,null,null,null,null,null,null,null,null,null,null,null,null,null,null,null,null,null,0]
["SBSA_17","SBSA_17",null,null,null,null,null,null,null,null,null,null,null,null,null,null,null,null,null,null,null,null,null,null,null,null,null,null,null,null,null,null,null,0]
["SBSA_18","SBSA_18",null,null,null,null,null,null,null,null,null,null,null,null,null,null,null,null,null,null,null,null,null,null,null,null,null,null,null,null,null,null,null,0]
["SBSA_19","SBSA_19",null,null,null,null,null,null,null,null,null,null,null,null,null,null,null,null,null,null,null,null,null,null,null,null,null,null,null,null,null,null,null,0]
["SBSA_20","SBSA_20",null,null,null,null,null,null,null,null,null,null,null,null,null,null,null,null,null,null,null,null,null,null,null,null,null,null,null,null,null,null,null,0]
["SBSA_21","SBSA_21",null,null,null,null,null,null,null,null,null,null,null,null,null,null,null,null,null,null,null,null,null,null,null,null,null,null,null,null,null,null,null,0]
["SBSA_22","SBSA_22",null,null,null,null,null,null,null,null,null,null,null,null,null,null,null,null,null,null,null,null,null,null,null,null,null,null,null,null,null,null,null,0]
["SBSA_23","SBSA_23",null,null,null,null,null,null,null,null,null,null,null,null,null,null,null,null,null,null,null,null,null,null,null,null,null,null,null,null,null,null,null,0]
["SBSA_24","SBSA_24",null,null,null,null,null,null,null,null,null,null,null,null,null,null,null,null,null,null,null,null,null,null,null,null,null,null,null,null,null,null,null,0]
["SBSA_25","SBSA_25",null,null,null,null,null,null,null,null,null,null,null,null,null,null,null,null,null,null,null,null,null,null,null,null,null,null,null,null,null,null,null,0]
["SBSA_26","SBSA_26",null,null,null,null,null,null,null,null,null,null,null,null,null,null,null,null,null,null,null,null,null,null,null,null,null,null,null,null,null,null,null,0]
["SBSA_27","SBSA_27",null,null,null,null,null,null,null,null,null,null,null,null,null,null,null,null,null,null,null,null,null,null,null,null,null,null,null,null,null,null,null,0]
["SBSA_28","SBSA_28",null,null,null,null,null,null,null,null,null,null,null,null,null,null,null,null,null,null,null,null,null,null,null,null,null,null,null,null,null,null,null,0]
["SBSA_29","SBSA_29",null,null,null,null,null,null,null,null,null,null,null,null,null,null,null,null,null,null,null,null,null,null,null,null,null,null,null,null,null,null,null,0]
["SBSA_30","SBSA_30",null,null,null,null,null,null,null,null,null,null,null,null,null,null,null,null,null,null,null,null,null,null,null,null,null,null,null,null,null,null,null,0]
["SBSA_31","SBSA_31",null,null,null,null,null,null,null,null,null,null,null,null,null,null,null,null,null,null,null,null,null,null,null,null,null,null,null,null,null,null,null,0]
["SBSA_32","SBSA_32",null,null,null,null,null,null,null,null,null,null,null,null,null,null,null,null,null,null,null,null,null,null,null,null,null,null,null,null,null,null,null,0]
["SBSA_33","SBSA_33",null,null,null,null,null,null,null,null,null,null,null,null,null,null,null,null,null,null,null,null,null,null,null,null,null,null,null,null,null,null,null,0]
["SBSA_34","SBSA_34",null,null,null,null,null,null,null,null,null,null,null,null,null,null,null,null,null,null,null,null,null,null,null,null,null,null,null,null,null,null,null,0]
["SBSA_35","SBSA_35",null,null,null,null,null,null,null,null,null,null,null,null,null,null,null,null,null,null,null,null,null,null,null,null,null,null,null,null,null,null,null,0]
["SBSA_36","SBSA_36",null,null,null,null,null,null,null,null,null,null,null,null,null,null,null,null,null,null,null,null,null,null,null,null,null,null,null,null,null,null,null,0]
["SBSA_37","SBSA_37",null,null,null,null,null,null,null,null,null,null,null,null,null,null,null,null,null,null,null,null,null,null,null,null,null,null,null,null,null,null,null,0]
["SBSA_38","SBSA_38",null,null,null,null,null,null,null,null,null,null,null,null,null,null,null,null,null,null,null,null,null,null,null,null,null,null,null,null,null,null,null,0]
["SBSA_39","SBSA_39",null,null,null,null,null,null,null,null,null,null,null,null,null,null,null,null,null,null,null,null,null,null,null,null,null,null,null,null,null,null,null,0]
["SBSA_40","SBSA_40",null,null,null,null,null,null,null,null,null,null,null,null,null,null,null,null,null,null,null,null,null,null,null,null,null,null,null,null,null,null,null,0]
["SBSA_41","SBSA_41",null,null,null,null,null,null,null,null,null,null,null,null,null,null,null,null,null,null,null,null,null,null,null,null,null,null,null,null,null,null,null,0]
["SBSA_42","SBSA_42",null,null,null,null,null,null,null,null,null,null,null,null,null,null,null,null,null,null,null,null,null,null,null,null,null,null,null,null,null,null,null,0]
["SBSA_43","SBSA_43",null,null,null,null,null,null,null,null,null,null,null,null,null,null,null,null,null,null,null,null,null,null,null,null,null,null,null,null,null,null,null,0]
["SBSA_44","SBSA_44",null,null,null,null,null,null,null,null,null,null,null,null,null,null,null,null,null,null,null,null,null,null,null,null,null,null,null,null,null,null,null,0]
["SBSA_45","SBSA_45",null,null,null,null,null,null,null,null,null,null,null,null,null,null,null,null,null,null,null,null,null,null,null,null,null,null,null,null,null,null,null,0]
["SBSA_46","SBSA_46",null,null,null,null,null,null,null,null,null,null,null,null,null,null,null,null,null,null,null,null,null,null,null,null,null,null,null,null,null,null,null,0]
["SBSA_47","SBSA_47",null,null,null,null,null,null,null,null,null,null,null,null,null,null,null,null,null,null,null,null,null,null,null,null,null,null,null,null,null,null,null,0]
["SBSA_48","SBSA_48",null,null,null,null,null,null,null,null,null,null,null,null,null,null,null,null,null,null,null,null,null,null,null,null,null,null,null,null,null,null,null,0]
["SBSA_49","SBSA_49",null,null,null,null,null,null,null,null,null,null,null,null,null,null,null,null,null,null,null,null,null,null,null,null,null,null,null,null,null,null,null,0]
["SBSA_50","SBSA_50",null,null,null,null,null,null,null,null,null,null,null,null,null,null,null,null,null,null,null,null,null,null,null,null,null,null,null,null,null,null,null,0]
["SBSA_51","SBSA_51",null,null,null,null,null,null,null,null,null,null,null,null,null,null,null,null,null,null,null,null,null,null,null,null,null,null,null,null,null,null,null,0]
["SBSA_52","SBSA_52",null,null,null,null,null,null,null,null,null,null,null,null,null,null,null,null,null,null,null,null,null,null,null,null,null,null,null,null,null,null,null,0]
["SBSA_53","SBSA_53",null,null,null,null,null,null,null,null,null,null,null,null,null,null,null,null,null,null,null,null,null,null,null,null,null,null,null,null,null,null,null,0]
["SBSA_54","SBSA_54",null,null,null,null,null,null,null,null,null,null,null,null,null,null,null,null,null,null,null,null,null,null,null,null,null,null,null,null,null,null,null,0]
["SBSA_55","SBSA_55",null,null,null,null,null,null,null,null,null,null,null,null,null,null,null,null,null,null,null,null,null,null,null,null,null,null,null,null,null,null,null,0]
["SBSA_56","SBSA_56",null,null,null,null,null,null,null,null,null,null,null,null,null,null,null,null,null,null,null,null,null,null,null,null,null,null,null,null,null,null,null,0]
["SBSA_57","SBSA_57",null,null,null,null,null,null,null,null,null,null,null,null,null,null,null,null,null,null,null,null,null,null,null,null,null,null,null,null,null,null,null,0]
["SBSA_58","SBSA_58",null,null,null,null,null,null,null,null,null,null,null,null,null,null,null,null,null,null,null,null,null,null,null,null,null,null,null,null,null,null,null,0]
["SBSA_59","SBSA_59",null,null,null,null,null,null,null,null,null,null,null,null,null,null,null,null,null,null,null,null,null,null,null,null,null,null,null,null,null,null,null,0]
["SBSA_60","SBSA_60",null,null,null,null,null,null,null,null,null,null,null,null,null,null,null,null,null,null,null,null,null,null,null,null,null,null,null,null,null,null,null,0]
["SBSA_61","SBSA_61",null,null,null,null,null,null,null,null,null,null,null,null,null,null,null,null,null,null,null,null,null,null,null,null,null,null,null,null,null,null,null,0]
["SBSA_62","SBSA_62",null,null,null,null,null,null,null,null,null,null,null,null,null,null,null,null,null,null,null,null,null,null,null,null,null,null,null,null,null,null,null,0]
["SBSA_63","SBSA_63",null,null,null,null,null,null,null,null,null,null,null,null,null,null,null,null,null,null,null,null,null,null,null,null,null,null,null,null,null,null,null,0]
["SBSA_64","SBSA_64",null,null,null,null,null,null,null,null,null,null,null,null,null,null,null,null,null,null,null,null,null,null,null,null,null,null,null,null,null,null,null,0]
["SBSA_65","SBSA_65",null,null,null,null,null,null,null,null,null,null,null,null,null,null,null,null,null,null,null,null,null,null,null,null,null,null,null,null,null,null,null,{"$f":"IF(COUNTBLANK(C74:G74)<5,1,0)","v":0}]
["SBSA_66","SBSA_66",null,null,null,null,null,null,null,null,null,null,null,null,null,null,null,null,null,null,null,null,null,null,null,null,null,null,null,null,null,null,null,0]
["SBSA_67","SBSA_67",null,null,null,null,null,null,null,null,null,null,null,null,null,null,null,null,null,null,null,null,null,null,null,null,null,null,null,null,null,null,null,0]
["SBSA_68","SBSA_68",null,null,null,null,null,null,null,null,null,null,null,null,null,null,null,null,null,null,null,null,null,null,null,null,null,null,null,null,null,null,null,0]
["SBSA_69","SBSA_69",null,null,null,null,null,null,null,null,null,null,null,null,null,null,null,null,null,null,null,null,null,null,null,null,null,null,null,null,null,null,null,0]
["SBSA_70","SBSA_70",null,null,null,null,null,null,null,null,null,null,null,null,null,null,null,null,null,null,null,null,null,null,null,null,null,null,null,null,null,null,null,0]
["SBSA_71","SBSA_71",null,null,null,null,null,null,null,null,null,null,null,null,null,null,null,null,null,null,null,null,null,null,null,null,null,null,null,null,null,null,null,0]
["SBSA_72","SBSA_72",null,null,null,null,null,null,null,null,null,null,null,null,null,null,null,null,null,null,null,null,null,null,null,null,null,null,null,null,null,null,null,0]
["SBSA_73","SBSA_73",null,null,null,null,null,null,null,null,null,null,null,null,null,null,null,null,null,null,null,null,null,null,null,null,null,null,null,null,null,null,null,0]
["SBSA_74","SBSA_74",null,null,null,null,null,null,null,null,null,null,null,null,null,null,null,null,null,null,null,null,null,null,null,null,null,null,null,null,null,null,null,0]
["SBSA_75","SBSA_75",null,null,null,null,null,null,null,null,null,null,null,null,null,null,null,null,null,null,null,null,null,null,null,null,null,null,null,null,null,null,null,0]
["SBSA_76","SBSA_76",null,null,null,null,null,null,null,null,null,null,null,null,null,null,null,null,null,null,null,null,null,null,null,null,null,null,null,null,null,null,null,0]
["SBSA_77","SBSA_77",null,null,null,null,null,null,null,null,null,null,null,null,null,null,null,null,null,null,null,null,null,null,null,null,null,null,null,null,null,null,null,0]
["SBSA_78","SBSA_78",null,null,null,null,null,null,null,null,null,null,null,null,null,null,null,null,null,null,null,null,null,null,null,null,null,null,null,null,null,null,null,0]
["SBSA_79","SBSA_79",null,null,null,null,null,null,null,null,null,null,null,null,null,null,null,null,null,null,null,null,null,null,null,null,null,null,null,null,null,null,null,0]
["SBSA_80","SBSA_80",null,null,null,null,null,null,null,null,null,null,null,null,null,null,null,null,null,null,null,null,null,null,null,null,null,null,null,null,null,null,null,0]
["SBSA_81","SBSA_81",null,null,null,null,null,null,null,null,null,null,null,null,null,null,null,null,null,null,null,null,null,null,null,null,null,null,null,null,null,null,null,0]
["SBSA_82","SBSA_82",null,null,null,null,null,null,null,null,null,null,null,null,null,null,null,null,null,null,null,null,null,null,null,null,null,null,null,null,null,null,null,0]
["SBSA_83","SBSA_83",null,null,null,null,null,null,null,null,null,null,null,null,null,null,null,null,null,null,null,null,null,null,null,null,null,null,null,null,null,null,null,0]
["SBSA_84","SBSA_84",null,null,null,null,null,null,null,null,null,null,null,null,null,null,null,null,null,null,null,null,null,null,null,null,null,null,null,null,null,null,null,0]
["SBSA_85","SBSA_85",null,null,null,null,null,null,null,null,null,null,null,null,null,null,null,null,null,null,null,null,null,null,null,null,null,null,null,null,null,null,null,0]
["SBSA_86","SBSA_86",null,null,null,null,null,null,null,null,null,null,null,null,null,null,null,null,null,null,null,null,null,null,null,null,null,null,null,null,null,null,null,0]
["SBSA_87","SBSA_87",null,null,null,null,null,null,null,null,null,null,null,null,null,null,null,null,null,null,null,null,null,null,null,null,null,null,null,null,null,null,null,0]
["SBSA_88","SBSA_88",null,null,null,null,null,null,null,null,null,null,null,null,null,null,null,null,null,null,null,null,null,null,null,null,null,null,null,null,null,null,null,0]
["SBSA_89","SBSA_89",null,null,null,null,null,null,null,null,null,null,null,null,null,null,null,null,null,null,null,null,null,null,null,null,null,null,null,null,null,null,null,0]
["SBSA_90","SBSA_90",null,null,null,null,null,null,null,null,null,null,null,null,null,null,null,null,null,null,null,null,null,null,null,null,null,null,null,null,null,null,null,0]
["SBSA_91","SBSA_91",null,null,null,null,null,null,null,null,null,null,null,null,null,null,null,null,null,null,null,null,null,null,null,null,null,null,null,null,null,null,null,0]
["SBSA_92","SBSA_92",null,null,null,null,null,null,null,null,null,null,null,null,null,null,null,null,null,null,null,null,null,null,null,null,null,null,null,null,null,null,null,0]
["SBSA_93","SBSA_93",null,null,null,null,null,null,null,null,null,null,null,null,null,null,null,null,null,null,null,null,null,null,null,null,null,null,null,null,null,null,null,0]
["SBSA_94","SBSA_94",null,null,null,null,null,null,null,null,null,null,null,null,null,null,null,null,null,null,null,null,null,null,null,null,null,null,null,null,null,null,null,0]
["SBSA_95","SBSA_95",null,null,null,null,null,null,null,null,null,null,null,null,null,null,null,null,null,null,null,null,null,null,null,null,null,null,null,null,null,null,null,0]
["SBSA_96","SBSA_96",null,null,null,null,null,null,null,null,null,null,null,null,null,null,null,null,null,null,null,null,null,null,null,null,null,null,null,null,null,null,null,0]
["SBSA_97","SBSA_97",null,null,null,null,null,null,null,null,null,null,null,null,null,null,null,null,null,null,null,null,null,null,null,null,null,null,null,null,null,null,null,0]
["SBSA_98","SBSA_98",null,null,null,null,null,null,null,null,null,null,null,null,null,null,null,null,null,null,null,null,null,null,null,null,null,null,null,null,null,null,null,0]
["SBSA_99","SBSA_99",null,null,null,null,null,null,null,null,null,null,null,null,null,null,null,null,null,null,null,null,null,null,null,null,null,null,null,null,null,null,null,0]
["SBSA_100","SBSA_100",null,null,null,null,null,null,null,null,null,null,null,null,null,null,null,null,null,null,null,null,null,null,null,null,null,null,null,null,null,null,null,0]
["SBSA_101","SBSA_101",null,null,null,null,null,null,null,null,null,null,null,null,null,null,null,null,null,null,null,null,null,null,null,null,null,null,null,null,null,null,null,0]
["SBSA_102","SBSA_102",null,null,null,null,null,null,null,null,null,null,null,null,null,null,null,null,null,null,null,null,null,null,null,null,null,null,null,null,null,null,null,0]
["SBSA_103","SBSA_103",null,null,null,null,null,null,null,null,null,null,null,null,null,null,null,null,null,null,null,null,null,null,null,null,null,null,null,null,null,null,null,0]
["SBSA_104","SBSA_104",null,null,null,null,null,null,null,null,null,null,null,null,null,null,null,null,null,null,null,null,null,null,null,null,null,null,null,null,null,null,null,0]
["SBSA_105","SBSA_105",null,null,null,null,null,null,null,null,null,null,null,null,null,null,null,null,null,null,null,null,null,null,null,null,null,null,null,null,null,null,null,0]
["SBSA_106","SBSA_106",null,null,null,null,null,null,null,null,null,null,null,null,null,null,null,null,null,null,null,null,null,null,null,null,null,null,null,null,null,null,null,0]
["SBSA_107","SBSA_107",null,null,null,null,null,null,null,null,null,null,null,null,null,null,null,null,null,null,null,null,null,null,null,null,null,null,null,null,null,null,null,0]
["SBSA_108","SBSA_108",null,null,null,null,null,null,null,null,null,null,null,null,null,null,null,null,null,null,null,null,null,null,null,null,null,null,null,null,null,null,null,0]
["SBSA_109","SBSA_109",null,null,null,null,null,null,null,null,null,null,null,null,null,null,null,null,null,null,null,null,null,null,null,null,null,null,null,null,null,null,null,0]
["SBSA_110","SBSA_110",null,null,null,null,null,null,null,null,null,null,null,null,null,null,null,null,null,null,null,null,null,null,null,null,null,null,null,null,null,null,null,0]
["SBSA_111","SBSA_111",null,null,null,null,null,null,null,null,null,null,null,null,null,null,null,null,null,null,null,null,null,null,null,null,null,null,null,null,null,null,null,0]
["SBSA_112","SBSA_112",null,null,null,null,null,null,null,null,null,null,null,null,null,null,null,null,null,null,null,null,null,null,null,null,null,null,null,null,null,null,null,0]
["SBSA_113","SBSA_113",null,null,null,null,null,null,null,null,null,null,null,null,null,null,null,null,null,null,null,null,null,null,null,null,null,null,null,null,null,null,null,0]
["SBSA_114","SBSA_114",null,null,null,null,null,null,null,null,null,null,null,null,null,null,null,null,null,null,null,null,null,null,null,null,null,null,null,null,null,null,null,0]
["SBSA_115","SBSA_115",null,null,null,null,null,null,null,null,null,null,null,null,null,null,null,null,null,null,null,null,null,null,null,null,null,null,null,null,null,null,null,0]
["SBSA_116","SBSA_116",null,null,null,null,null,null,null,null,null,null,null,null,null,null,null,null,null,null,null,null,null,null,null,null,null,null,null,null,null,null,null,0]
["SBSA_117","SBSA_117",null,null,null,null,null,null,null,null,null,null,null,null,null,null,null,null,null,null,null,null,null,null,null,null,null,null,null,null,null,null,null,0]
["SBSA_118","SBSA_118",null,null,null,null,null,null,null,null,null,null,null,null,null,null,null,null,null,null,null,null,null,null,null,null,null,null,null,null,null,null,null,0]
["SBSA_119","SBSA_119",null,null,null,null,null,null,null,null,null,null,null,null,null,null,null,null,null,null,null,null,null,null,null,null,null,null,null,null,null,null,null,0]
["SBSA_120","SBSA_120",null,null,null,null,null,null,null,null,null,null,null,null,null,null,null,null,null,null,null,null,null,null,null,null,null,null,null,null,null,null,null,0]
["SBSA_121","SBSA_121",null,null,null,null,null,null,null,null,null,null,null,null,null,null,null,null,null,null,null,null,null,null,null,null,null,null,null,null,null,null,null,0]
["SBSA_122","SBSA_122",null,null,null,null,null,null,null,null,null,null,null,null,null,null,null,null,null,null,null,null,null,null,null,null,null,null,null,null,null,null,null,0]
["SBSA_123","SBSA_123",null,null,null,null,null,null,null,null,null,null,null,null,null,null,null,null,null,null,null,null,null,null,null,null,null,null,null,null,null,null,null,0]
["SBSA_124","SBSA_124",null,null,null,null,null,null,null,null,null,null,null,null,null,null,null,null,null,null,null,null,null,null,null,null,null,null,null,null,null,null,null,0]
["SBSA_125","SBSA_125",null,null,null,null,null,null,null,null,null,null,null,null,null,null,null,null,null,null,null,null,null,null,null,null,null,null,null,null,null,null,null,0]
["SBSA_126","SBSA_126",null,null,null,null,null,null,null,null,null,null,null,null,null,null,null,null,null,null,null,null,null,null,null,null,null,null,null,null,null,null,null,0]
["SBSA_127","SBSA_127",null,null,null,null,null,null,null,null,null,null,null,null,null,null,null,null,null,null,null,null,null,null,null,null,null,null,null,null,null,null,null,0]
["SBSA_128","SBSA_128",null,null,null,null,null,null,null,null,null,null,null,null,null,null,null,null,null,null,null,null,null,null,null,null,null,null,null,null,null,null,null,0]
["SBSA_129","SBSA_129",null,null,null,null,null,null,null,null,null,null,null,null,null,null,null,null,null,null,null,null,null,null,null,null,null,null,null,null,null,null,null,{"$f":"IF(COUNTBLANK(C138:G138)<5,1,0)","v":0}]
["SBSA_130","SBSA_130",null,null,null,null,null,null,null,null,null,null,null,null,null,null,null,null,null,null,null,null,null,null,null,null,null,null,null,null,null,null,null,0]
["SBSA_131","SBSA_131",null,null,null,null,null,null,null,null,null,null,null,null,null,null,null,null,null,null,null,null,null,null,null,null,null,null,null,null,null,null,null,0]
["SBSA_132","SBSA_132",null,null,null,null,null,null,null,null,null,null,null,null,null,null,null,null,null,null,null,null,null,null,null,null,null,null,null,null,null,null,null,0]
["SBSA_133","SBSA_133",null,null,null,null,null,null,null,null,null,null,null,null,null,null,null,null,null,null,null,null,null,null,null,null,null,null,null,null,null,null,null,0]
["SBSA_134","SBSA_134",null,null,null,null,null,null,null,null,null,null,null,null,null,null,null,null,null,null,null,null,null,null,null,null,null,null,null,null,null,null,null,0]
["SBSA_135","SBSA_135",null,null,null,null,null,null,null,null,null,null,null,null,null,null,null,null,null,null,null,null,null,null,null,null,null,null,null,null,null,null,null,0]
["SBSA_136","SBSA_136",null,null,null,null,null,null,null,null,null,null,null,null,null,null,null,null,null,null,null,null,null,null,null,null,null,null,null,null,null,null,null,0]
["SBSA_137","SBSA_137",null,null,null,null,null,null,null,null,null,null,null,null,null,null,null,null,null,null,null,null,null,null,null,null,null,null,null,null,null,null,null,0]
["SBSA_138","SBSA_138",null,null,null,null,null,null,null,null,null,null,null,null,null,null,null,null,null,null,null,null,null,null,null,null,null,null,null,null,null,null,null,0]
["SBSA_139","SBSA_139",null,null,null,null,null,null,null,null,null,null,null,null,null,null,null,null,null,null,null,null,null,null,null,null,null,null,null,null,null,null,null,0]
["SBSA_140","SBSA_140",null,null,null,null,null,null,null,null,null,null,null,null,null,null,null,null,null,null,null,null,null,null,null,null,null,null,null,null,null,null,null,0]
["SBSA_141","SBSA_141",null,null,null,null,null,null,null,null,null,null,null,null,null,null,null,null,null,null,null,null,null,null,null,null,null,null,null,null,null,null,null,0]
["SBSA_142","SBSA_142",null,null,null,null,null,null,null,null,null,null,null,null,null,null,null,null,null,null,null,null,null,null,null,null,null,null,null,null,null,null,null,0]
["SBSA_143","SBSA_143",null,null,null,null,null,null,null,null,null,null,null,null,null,null,null,null,null,null,null,null,null,null,null,null,null,null,null,null,null,null,null,0]
["SBSA_144","SBSA_144",null,null,null,null,null,null,null,null,null,null,null,null,null,null,null,null,null,null,null,null,null,null,null,null,null,null,null,null,null,null,null,0]
["SBSA_145","SBSA_145",null,null,null,null,null,null,null,null,null,null,null,null,null,null,null,null,null,null,null,null,null,null,null,null,null,null,null,null,null,null,null,0]
["SBSA_146","SBSA_146",null,null,null,null,null,null,null,null,null,null,null,null,null,null,null,null,null,null,null,null,null,null,null,null,null,null,null,null,null,null,null,0]
["SBSA_147","SBSA_147",null,null,null,null,null,null,null,null,null,null,null,null,null,null,null,null,null,null,null,null,null,null,null,null,null,null,null,null,null,null,null,0]
["SBSA_148","SBSA_148",null,null,null,null,null,null,null,null,null,null,null,null,null,null,null,null,null,null,null,null,null,null,null,null,null,null,null,null,null,null,null,0]
["SBSA_149","SBSA_149",null,null,null,null,null,null,null,null,null,null,null,null,null,null,null,null,null,null,null,null,null,null,null,null,null,null,null,null,null,null,null,0]
["SBSA_150","SBSA_150",null,null,null,null,null,null,null,null,null,null,null,null,null,null,null,null,null,null,null,null,null,null,null,null,null,null,null,null,null,null,null,0]
["SBSA_151","SBSA_151",null,null,null,null,null,null,null,null,null,null,null,null,null,null,null,null,null,null,null,null,null,null,null,null,null,null,null,null,null,null,null,0]
["SBSA_152","SBSA_152",null,null,null,null,null,null,null,null,null,null,null,null,null,null,null,null,null,null,null,null,null,null,null,null,null,null,null,null,null,null,null,0]
["SBSA_153","SBSA_153",null,null,null,null,null,null,null,null,null,null,null,null,null,null,null,null,null,null,null,null,null,null,null,null,null,null,null,null,null,null,null,0]
["SBSA_154","SBSA_154",null,null,null,null,null,null,null,null,null,null,null,null,null,null,null,null,null,null,null,null,null,null,null,null,null,null,null,null,null,null,null,0]
["SBSA_155","SBSA_155",null,null,null,null,null,null,null,null,null,null,null,null,null,null,null,null,null,null,null,null,null,null,null,null,null,null,null,null,null,null,null,0]
["SBSA_156","SBSA_156",null,null,null,null,null,null,null,null,null,null,null,null,null,null,null,null,null,null,null,null,null,null,null,null,null,null,null,null,null,null,null,0]
["SBSA_157","SBSA_157",null,null,null,null,null,null,null,null,null,null,null,null,null,null,null,null,null,null,null,null,null,null,null,null,null,null,null,null,null,null,null,0]
["SBSA_158","SBSA_158",null,null,null,null,null,null,null,null,null,null,null,null,null,null,null,null,null,null,null,null,null,null,null,null,null,null,null,null,null,null,null,0]
["SBSA_159","SBSA_159",null,null,null,null,null,null,null,null,null,null,null,null,null,null,null,null,null,null,null,null,null,null,null,null,null,null,null,null,null,null,null,0]
["SBSA_160","SBSA_160",null,null,null,null,null,null,null,null,null,null,null,null,null,null,null,null,null,null,null,null,null,null,null,null,null,null,null,null,null,null,null,0]
["SBSA_161","SBSA_161",null,null,null,null,null,null,null,null,null,null,null,null,null,null,null,null,null,null,null,null,null,null,null,null,null,null,null,null,null,null,null,0]
["SBSA_162","SBSA_162",null,null,null,null,null,null,null,null,null,null,null,null,null,null,null,null,null,null,null,null,null,null,null,null,null,null,null,null,null,null,null,0]
["SBSA_163","SBSA_163",null,null,null,null,null,null,null,null,null,null,null,null,null,null,null,null,null,null,null,null,null,null,null,null,null,null,null,null,null,null,null,0]
["SBSA_164","SBSA_164",null,null,null,null,null,null,null,null,null,null,null,null,null,null,null,null,null,null,null,null,null,null,null,null,null,null,null,null,null,null,null,0]
["SBSA_165","SBSA_165",null,null,null,null,null,null,null,null,null,null,null,null,null,null,null,null,null,null,null,null,null,null,null,null,null,null,null,null,null,null,null,0]
["SBSA_166","SBSA_166",null,null,null,null,null,null,null,null,null,null,null,null,null,null,null,null,null,null,null,null,null,null,null,null,null,null,null,null,null,null,null,0]
["SBSA_167","SBSA_167",null,null,null,null,null,null,null,null,null,null,null,null,null,null,null,null,null,null,null,null,null,null,null,null,null,null,null,null,null,null,null,0]
["SBSA_168","SBSA_168",null,null,null,null,null,null,null,null,null,null,null,null,null,null,null,null,null,null,null,null,null,null,null,null,null,null,null,null,null,null,null,0]
["SBSA_169","SBSA_169",null,null,null,null,null,null,null,null,null,null,null,null,null,null,null,null,null,null,null,null,null,null,null,null,null,null,null,null,null,null,null,0]
["SBSA_170","SBSA_170",null,null,null,null,null,null,null,null,null,null,null,null,null,null,null,null,null,null,null,null,null,null,null,null,null,null,null,null,null,null,null,0]
["SBSA_171","SBSA_171",null,null,null,null,null,null,null,null,null,null,null,null,null,null,null,null,null,null,null,null,null,null,null,null,null,null,null,null,null,null,null,0]
["SBSA_172","SBSA_172",null,null,null,null,null,null,null,null,null,null,null,null,null,null,null,null,null,null,null,null,null,null,null,null,null,null,null,null,null,null,null,0]
["SBSA_173","SBSA_173",null,null,null,null,null,null,null,null,null,null,null,null,null,null,null,null,null,null,null,null,null,null,null,null,null,null,null,null,null,null,null,0]
["SBSA_174","SBSA_174",null,null,null,null,null,null,null,null,null,null,null,null,null,null,null,null,null,null,null,null,null,null,null,null,null,null,null,null,null,null,null,0]
["SBSA_175","SBSA_175",null,null,null,null,null,null,null,null,null,null,null,null,null,null,null,null,null,null,null,null,null,null,null,null,null,null,null,null,null,null,null,0]
["SBSA_176","SBSA_176",null,null,null,null,null,null,null,null,null,null,null,null,null,null,null,null,null,null,null,null,null,null,null,null,null,null,null,null,null,null,null,0]
["SBSA_177","SBSA_177",null,null,null,null,null,null,null,null,null,null,null,null,null,null,null,null,null,null,null,null,null,null,null,null,null,null,null,null,null,null,null,0]
["SBSA_178","SBSA_178",null,null,null,null,null,null,null,null,null,null,null,null,null,null,null,null,null,null,null,null,null,null,null,null,null,null,null,null,null,null,null,0]
["SBSA_179","SBSA_179",null,null,null,null,null,null,null,null,null,null,null,null,null,null,null,null,null,null,null,null,null,null,null,null,null,null,null,null,null,null,null,0]
["SBSA_180","SBSA_180",null,null,null,null,null,null,null,null,null,null,null,null,null,null,null,null,null,null,null,null,null,null,null,null,null,null,null,null,null,null,null,0]
["SBSA_181","SBSA_181",null,null,null,null,null,null,null,null,null,null,null,null,null,null,null,null,null,null,null,null,null,null,null,null,null,null,null,null,null,null,null,0]
["SBSA_182","SBSA_182",null,null,null,null,null,null,null,null,null,null,null,null,null,null,null,null,null,null,null,null,null,null,null,null,null,null,null,null,null,null,null,0]
["SBSA_183","SBSA_183",null,null,null,null,null,null,null,null,null,null,null,null,null,null,null,null,null,null,null,null,null,null,null,null,null,null,null,null,null,null,null,0]
["SBSA_184","SBSA_184",null,null,null,null,null,null,null,null,null,null,null,null,null,null,null,null,null,null,null,null,null,null,null,null,null,null,null,null,null,null,null,0]
["SBSA_185","SBSA_185",null,null,null,null,null,null,null,null,null,null,null,null,null,null,null,null,null,null,null,null,null,null,null,null,null,null,null,null,null,null,null,0]
["SBSA_186","SBSA_186",null,null,null,null,null,null,null,null,null,null,null,null,null,null,null,null,null,null,null,null,null,null,null,null,null,null,null,null,null,null,null,0]
["SBSA_187","SBSA_187",null,null,null,null,null,null,null,null,null,null,null,null,null,null,null,null,null,null,null,null,null,null,null,null,null,null,null,null,null,null,null,0]
["SBSA_188","SBSA_188",null,null,null,null,null,null,null,null,null,null,null,null,null,null,null,null,null,null,null,null,null,null,null,null,null,null,null,null,null,null,null,0]
["SBSA_189","SBSA_189",null,null,null,null,null,null,null,null,null,null,null,null,null,null,null,null,null,null,null,null,null,null,null,null,null,null,null,null,null,null,null,0]
["SBSA_190","SBSA_190",null,null,null,null,null,null,null,null,null,null,null,null,null,null,null,null,null,null,null,null,null,null,null,null,null,null,null,null,null,null,null,0]
["SBSA_191","SBSA_191",null,null,null,null,null,null,null,null,null,null,null,null,null,null,null,null,null,null,null,null,null,null,null,null,null,null,null,null,null,null,null,0]
["SBSA_192","SBSA_192",null,null,null,null,null,null,null,null,null,null,null,null,null,null,null,null,null,null,null,null,null,null,null,null,null,null,null,null,null,null,null,0]
["SBSA_193","SBSA_193",null,null,null,null,null,null,null,null,null,null,null,null,null,null,null,null,null,null,null,null,null,null,null,null,null,null,null,null,null,null,null,{"$f":"IF(COUNTBLANK(C202:G202)<5,1,0)","v":0}]
["SBSA_194","SBSA_194",null,null,null,null,null,null,null,null,null,null,null,null,null,null,null,null,null,null,null,null,null,null,null,null,null,null,null,null,null,null,null,0]
["SBSA_195","SBSA_195",null,null,null,null,null,null,null,null,null,null,null,null,null,null,null,null,null,null,null,null,null,null,null,null,null,null,null,null,null,null,null,0]
["SBSA_196","SBSA_196",null,null,null,null,null,null,null,null,null,null,null,null,null,null,null,null,null,null,null,null,null,null,null,null,null,null,null,null,null,null,null,0]
["SBSA_197","SBSA_197",null,null,null,null,null,null,null,null,null,null,null,null,null,null,null,null,null,null,null,null,null,null,null,null,null,null,null,null,null,null,null,0]
["SBSA_198","SBSA_198",null,null,null,null,null,null,null,null,null,null,null,null,null,null,null,null,null,null,null,null,null,null,null,null,null,null,null,null,null,null,null,0]
["SBSA_199","SBSA_199",null,null,null,null,null,null,null,null,null,null,null,null,null,null,null,null,null,null,null,null,null,null,null,null,null,null,null,null,null,null,null,0]
["SBSA_200","SBSA_200",null,null,null,null,null,null,null,null,null,null,null,null,null,null,null,null,null,null,null,null,null,null,null,null,null,null,null,null,null,null,null,0]
["SBSA_201","SBSA_201",null,null,null,null,null,null,null,null,null,null,null,null,null,null,null,null,null,null,null,null,null,null,null,null,null,null,null,null,null,null,null,0]
["SBSA_202","SBSA_202",null,null,null,null,null,null,null,null,null,null,null,null,null,null,null,null,null,null,null,null,null,null,null,null,null,null,null,null,null,null,null,0]
["SBSA_203","SBSA_203",null,null,null,null,null,null,null,null,null,null,null,null,null,null,null,null,null,null,null,null,null,null,null,null,null,null,null,null,null,null,null,0]
["SBSA_204","SBSA_204",null,null,null,null,null,null,null,null,null,null,null,null,null,null,null,null,null,null,null,null,null,null,null,null,null,null,null,null,null,null,null,0]
["SBSA_205","SBSA_205",null,null,null,null,null,null,null,null,null,null,null,null,null,null,null,null,null,null,null,null,null,null,null,null,null,null,null,null,null,null,null,0]
["SBSA_206","SBSA_206",null,null,null,null,null,null,null,null,null,null,null,null,null,null,null,null,null,null,null,null,null,null,null,null,null,null,null,null,null,null,null,0]
["SBSA_207","SBSA_207",null,null,null,null,null,null,null,null,null,null,null,null,null,null,null,null,null,null,null,null,null,null,null,null,null,null,null,null,null,null,null,0]
["SBSA_208","SBSA_208",null,null,null,null,null,null,null,null,null,null,null,null,null,null,null,null,null,null,null,null,null,null,null,null,null,null,null,null,null,null,null,0]
["SBSA_209","SBSA_209",null,null,null,null,null,null,null,null,null,null,null,null,null,null,null,null,null,null,null,null,null,null,null,null,null,null,null,null,null,null,null,0]
["SBSA_210","SBSA_210",null,null,null,null,null,null,null,null,null,null,null,null,null,null,null,null,null,null,null,null,null,null,null,null,null,null,null,null,null,null,null,0]
["SBSA_211","SBSA_211",null,null,null,null,null,null,null,null,null,null,null,null,null,null,null,null,null,null,null,null,null,null,null,null,null,null,null,null,null,null,null,0]
["SBSA_212","SBSA_212",null,null,null,null,null,null,null,null,null,null,null,null,null,null,null,null,null,null,null,null,null,null,null,null,null,null,null,null,null,null,null,0]
["SBSA_213","SBSA_213",null,null,null,null,null,null,null,null,null,null,null,null,null,null,null,null,null,null,null,null,null,null,null,null,null,null,null,null,null,null,null,0]
["SBSA_214","SBSA_214",null,null,null,null,null,null,null,null,null,null,null,null,null,null,null,null,null,null,null,null,null,null,null,null,null,null,null,null,null,null,null,0]
["SBSA_215","SBSA_215",null,null,null,null,null,null,null,null,null,null,null,null,null,null,null,null,null,null,null,null,null,null,null,null,null,null,null,null,null,null,null,0]
["SBSA_216","SBSA_216",null,null,null,null,null,null,null,null,null,null,null,null,null,null,null,null,null,null,null,null,null,null,null,null,null,null,null,null,null,null,null,0]
["SBSA_217","SBSA_217",null,null,null,null,null,null,null,null,null,null,null,null,null,null,null,null,null,null,null,null,null,null,null,null,null,null,null,null,null,null,null,0]
["SBSA_218","SBSA_218",null,null,null,null,null,null,null,null,null,null,null,null,null,null,null,null,null,null,null,null,null,null,null,null,null,null,null,null,null,null,null,0]
["SBSA_219","SBSA_219",null,null,null,null,null,null,null,null,null,null,null,null,null,null,null,null,null,null,null,null,null,null,null,null,null,null,null,null,null,null,null,0]
["SBSA_220","SBSA_220",null,null,null,null,null,null,null,null,null,null,null,null,null,null,null,null,null,null,null,null,null,null,null,null,null,null,null,null,null,null,null,0]
["SBSA_221","SBSA_221",null,null,null,null,null,null,null,null,null,null,null,null,null,null,null,null,null,null,null,null,null,null,null,null,null,null,null,null,null,null,null,0]
["SBSA_222","SBSA_222",null,null,null,null,null,null,null,null,null,null,null,null,null,null,null,null,null,null,null,null,null,null,null,null,null,null,null,null,null,null,null,0]
["SBSA_223","SBSA_223",null,null,null,null,null,null,null,null,null,null,null,null,null,null,null,null,null,null,null,null,null,null,null,null,null,null,null,null,null,null,null,0]
["SBSA_224","SBSA_224",null,null,null,null,null,null,null,null,null,null,null,null,null,null,null,null,null,null,null,null,null,null,null,null,null,null,null,null,null,null,null,0]
["SBSA_225","SBSA_225",null,null,null,null,null,null,null,null,null,null,null,null,null,null,null,null,null,null,null,null,null,null,null,null,null,null,null,null,null,null,null,0]
["SBSA_226","SBSA_226",null,null,null,null,null,null,null,null,null,null,null,null,null,null,null,null,null,null,null,null,null,null,null,null,null,null,null,null,null,null,null,0]
["SBSA_227","SBSA_227",null,null,null,null,null,null,null,null,null,null,null,null,null,null,null,null,null,null,null,null,null,null,null,null,null,null,null,null,null,null,null,0]
["SBSA_228","SBSA_228",null,null,null,null,null,null,null,null,null,null,null,null,null,null,null,null,null,null,null,null,null,null,null,null,null,null,null,null,null,null,null,0]
["SBSA_229","SBSA_229",null,null,null,null,null,null,null,null,null,null,null,null,null,null,null,null,null,null,null,null,null,null,null,null,null,null,null,null,null,null,null,0]
["SBSA_230","SBSA_230",null,null,null,null,null,null,null,null,null,null,null,null,null,null,null,null,null,null,null,null,null,null,null,null,null,null,null,null,null,null,null,0]
["SBSA_231","SBSA_231",null,null,null,null,null,null,null,null,null,null,null,null,null,null,null,null,null,null,null,null,null,null,null,null,null,null,null,null,null,null,null,0]
["SBSA_232","SBSA_232",null,null,null,null,null,null,null,null,null,null,null,null,null,null,null,null,null,null,null,null,null,null,null,null,null,null,null,null,null,null,null,0]
["SBSA_233","SBSA_233",null,null,null,null,null,null,null,null,null,null,null,null,null,null,null,null,null,null,null,null,null,null,null,null,null,null,null,null,null,null,null,0]
["SBSA_234","SBSA_234",null,null,null,null,null,null,null,null,null,null,null,null,null,null,null,null,null,null,null,null,null,null,null,null,null,null,null,null,null,null,null,0]
["SBSA_235","SBSA_235",null,null,null,null,null,null,null,null,null,null,null,null,null,null,null,null,null,null,null,null,null,null,null,null,null,null,null,null,null,null,null,0]
["SBSA_236","SBSA_236",null,null,null,null,null,null,null,null,null,null,null,null,null,null,null,null,null,null,null,null,null,null,null,null,null,null,null,null,null,null,null,0]
["SBSA_237","SBSA_237",null,null,null,null,null,null,null,null,null,null,null,null,null,null,null,null,null,null,null,null,null,null,null,null,null,null,null,null,null,null,null,0]
["SBSA_238","SBSA_238",null,null,null,null,null,null,null,null,null,null,null,null,null,null,null,null,null,null,null,null,null,null,null,null,null,null,null,null,null,null,null,0]
["SBSA_239","SBSA_239",null,null,null,null,null,null,null,null,null,null,null,null,null,null,null,null,null,null,null,null,null,null,null,null,null,null,null,null,null,null,null,0]
["SBSA_240","SBSA_240",null,null,null,null,null,null,null,null,null,null,null,null,null,null,null,null,null,null,null,null,null,null,null,null,null,null,null,null,null,null,null,0]
["SBSA_241","SBSA_241",null,null,null,null,null,null,null,null,null,null,null,null,null,null,null,null,null,null,null,null,null,null,null,null,null,null,null,null,null,null,null,0]
["SBSA_242","SBSA_242",null,null,null,null,null,null,null,null,null,null,null,null,null,null,null,null,null,null,null,null,null,null,null,null,null,null,null,null,null,null,null,0]
["SBSA_243","SBSA_243",null,null,null,null,null,null,null,null,null,null,null,null,null,null,null,null,null,null,null,null,null,null,null,null,null,null,null,null,null,null,null,0]
["SBSA_244","SBSA_244",null,null,null,null,null,null,null,null,null,null,null,null,null,null,null,null,null,null,null,null,null,null,null,null,null,null,null,null,null,null,null,0]
["SBSA_245","SBSA_245",null,null,null,null,null,null,null,null,null,null,null,null,null,null,null,null,null,null,null,null,null,null,null,null,null,null,null,null,null,null,null,0]
["SBSA_246","SBSA_246",null,null,null,null,null,null,null,null,null,null,null,null,null,null,null,null,null,null,null,null,null,null,null,null,null,null,null,null,null,null,null,0]
["SBSA_247","SBSA_247",null,null,null,null,null,null,null,null,null,null,null,null,null,null,null,null,null,null,null,null,null,null,null,null,null,null,null,null,null,null,null,0]
["SBSA_248","SBSA_248",null,null,null,null,null,null,null,null,null,null,null,null,null,null,null,null,null,null,null,null,null,null,null,null,null,null,null,null,null,null,null,0]
["SBSA_249","SBSA_249",null,null,null,null,null,null,null,null,null,null,null,null,null,null,null,null,null,null,null,null,null,null,null,null,null,null,null,null,null,null,null,0]
["SBSA_250","SBSA_250",null,null,null,null,null,null,null,null,null,null,null,null,null,null,null,null,null,null,null,null,null,null,null,null,null,null,null,null,null,null,null,0]
["SBSA_251","SBSA_251",null,null,null,null,null,null,null,null,null,null,null,null,null,null,null,null,null,null,null,null,null,null,null,null,null,null,null,null,null,null,null,0]
["SBSA_252","SBSA_252",null,null,null,null,null,null,null,null,null,null,null,null,null,null,null,null,null,null,null,null,null,null,null,null,null,null,null,null,null,null,null,0]
["SBSA_253","SBSA_253",null,null,null,null,null,null,null,null,null,null,null,null,null,null,null,null,null,null,null,null,null,null,null,null,null,null,null,null,null,null,null,0]
["SBSA_254","SBSA_254",null,null,null,null,null,null,null,null,null,null,null,null,null,null,null,null,null,null,null,null,null,null,null,null,null,null,null,null,null,null,null,0]
["SBSA_255","SBSA_255",null,null,null,null,null,null,null,null,null,null,null,null,null,null,null,null,null,null,null,null,null,null,null,null,null,null,null,null,null,null,null,0]
["SBSA_256","SBSA_256",null,null,null,null,null,null,null,null,null,null,null,null,null,null,null,null,null,null,null,null,null,null,null,null,null,null,null,null,null,null,null,0]
["SBSA_257","SBSA_257",null,null,null,null,null,null,null,null,null,null,null,null,null,null,null,null,null,null,null,null,null,null,null,null,null,null,null,null,null,null,null,{"$f":"IF(COUNTBLANK(C266:G266)<5,1,0)","v":0}]
["SBSA_258","SBSA_258",null,null,null,null,null,null,null,null,null,null,null,null,null,null,null,null,null,null,null,null,null,null,null,null,null,null,null,null,null,null,null,0]
["SBSA_259","SBSA_259",null,null,null,null,null,null,null,null,null,null,null,null,null,null,null,null,null,null,null,null,null,null,null,null,null,null,null,null,null,null,null,0]
["SBSA_260","SBSA_260",null,null,null,null,null,null,null,null,null,null,null,null,null,null,null,null,null,null,null,null,null,null,null,null,null,null,null,null,null,null,null,0]
["SBSA_261","SBSA_261",null,null,null,null,null,null,null,null,null,null,null,null,null,null,null,null,null,null,null,null,null,null,null,null,null,null,null,null,null,null,null,0]
["SBSA_262","SBSA_262",null,null,null,null,null,null,null,null,null,null,null,null,null,null,null,null,null,null,null,null,null,null,null,null,null,null,null,null,null,null,null,0]
["SBSA_263","SBSA_263",null,null,null,null,null,null,null,null,null,null,null,null,null,null,null,null,null,null,null,null,null,null,null,null,null,null,null,null,null,null,null,0]
["SBSA_264","SBSA_264",null,null,null,null,null,null,null,null,null,null,null,null,null,null,null,null,null,null,null,null,null,null,null,null,null,null,null,null,null,null,null,0]
["SBSA_265","SBSA_265",null,null,null,null,null,null,null,null,null,null,null,null,null,null,null,null,null,null,null,null,null,null,null,null,null,null,null,null,null,null,null,0]
["SBSA_266","SBSA_266",null,null,null,null,null,null,null,null,null,null,null,null,null,null,null,null,null,null,null,null,null,null,null,null,null,null,null,null,null,null,null,0]
["SBSA_267","SBSA_267",null,null,null,null,null,null,null,null,null,null,null,null,null,null,null,null,null,null,null,null,null,null,null,null,null,null,null,null,null,null,null,0]
["SBSA_268","SBSA_268",null,null,null,null,null,null,null,null,null,null,null,null,null,null,null,null,null,null,null,null,null,null,null,null,null,null,null,null,null,null,null,0]
["SBSA_269","SBSA_269",null,null,null,null,null,null,null,null,null,null,null,null,null,null,null,null,null,null,null,null,null,null,null,null,null,null,null,null,null,null,null,0]
["SBSA_270","SBSA_270",null,null,null,null,null,null,null,null,null,null,null,null,null,null,null,null,null,null,null,null,null,null,null,null,null,null,null,null,null,null,null,0]
["SBSA_271","SBSA_271",null,null,null,null,null,null,null,null,null,null,null,null,null,null,null,null,null,null,null,null,null,null,null,null,null,null,null,null,null,null,null,0]
["SBSA_272","SBSA_272",null,null,null,null,null,null,null,null,null,null,null,null,null,null,null,null,null,null,null,null,null,null,null,null,null,null,null,null,null,null,null,0]
["SBSA_273","SBSA_273",null,null,null,null,null,null,null,null,null,null,null,null,null,null,null,null,null,null,null,null,null,null,null,null,null,null,null,null,null,null,null,0]
["SBSA_274","SBSA_274",null,null,null,null,null,null,null,null,null,null,null,null,null,null,null,null,null,null,null,null,null,null,null,null,null,null,null,null,null,null,null,0]
["SBSA_275","SBSA_275",null,null,null,null,null,null,null,null,null,null,null,null,null,null,null,null,null,null,null,null,null,null,null,null,null,null,null,null,null,null,null,0]
["SBSA_276","SBSA_276",null,null,null,null,null,null,null,null,null,null,null,null,null,null,null,null,null,null,null,null,null,null,null,null,null,null,null,null,null,null,null,0]
["SBSA_277","SBSA_277",null,null,null,null,null,null,null,null,null,null,null,null,null,null,null,null,null,null,null,null,null,null,null,null,null,null,null,null,null,null,null,0]
["SBSA_278","SBSA_278",null,null,null,null,null,null,null,null,null,null,null,null,null,null,null,null,null,null,null,null,null,null,null,null,null,null,null,null,null,null,null,0]
["SBSA_279","SBSA_279",null,null,null,null,null,null,null,null,null,null,null,null,null,null,null,null,null,null,null,null,null,null,null,null,null,null,null,null,null,null,null,0]
["SBSA_280","SBSA_280",null,null,null,null,null,null,null,null,null,null,null,null,null,null,null,null,null,null,null,null,null,null,null,null,null,null,null,null,null,null,null,0]
["SBSA_281","SBSA_281",null,null,null,null,null,null,null,null,null,null,null,null,null,null,null,null,null,null,null,null,null,null,null,null,null,null,null,null,null,null,null,0]
["SBSA_282","SBSA_282",null,null,null,null,null,null,null,null,null,null,null,null,null,null,null,null,null,null,null,null,null,null,null,null,null,null,null,null,null,null,null,0]
["SBSA_283","SBSA_283",null,null,null,null,null,null,null,null,null,null,null,null,null,null,null,null,null,null,null,null,null,null,null,null,null,null,null,null,null,null,null,0]
["SBSA_284","SBSA_284",null,null,null,null,null,null,null,null,null,null,null,null,null,null,null,null,null,null,null,null,null,null,null,null,null,null,null,null,null,null,null,0]
["SBSA_285","SBSA_285",null,null,null,null,null,null,null,null,null,null,null,null,null,null,null,null,null,null,null,null,null,null,null,null,null,null,null,null,null,null,null,0]
["SBSA_286","SBSA_286",null,null,null,null,null,null,null,null,null,null,null,null,null,null,null,null,null,null,null,null,null,null,null,null,null,null,null,null,null,null,null,0]
["SBSA_287","SBSA_287",null,null,null,null,null,null,null,null,null,null,null,null,null,null,null,null,null,null,null,null,null,null,null,null,null,null,null,null,null,null,null,0]
["SBSA_288","SBSA_288",null,null,null,null,null,null,null,null,null,null,null,null,null,null,null,null,null,null,null,null,null,null,null,null,null,null,null,null,null,null,null,0]
["SBSA_289","SBSA_289",null,null,null,null,null,null,null,null,null,null,null,null,null,null,null,null,null,null,null,null,null,null,null,null,null,null,null,null,null,null,null,0]
["SBSA_290","SBSA_290",null,null,null,null,null,null,null,null,null,null,null,null,null,null,null,null,null,null,null,null,null,null,null,null,null,null,null,null,null,null,null,0]
["SBSA_291","SBSA_291",null,null,null,null,null,null,null,null,null,null,null,null,null,null,null,null,null,null,null,null,null,null,null,null,null,null,null,null,null,null,null,0]
["SBSA_292","SBSA_292",null,null,null,null,null,null,null,null,null,null,null,null,null,null,null,null,null,null,null,null,null,null,null,null,null,null,null,null,null,null,null,0]
["SBSA_293","SBSA_293",null,null,null,null,null,null,null,null,null,null,null,null,null,null,null,null,null,null,null,null,null,null,null,null,null,null,null,null,null,null,null,0]
["SBSA_294","SBSA_294",null,null,null,null,null,null,null,null,null,null,null,null,null,null,null,null,null,null,null,null,null,null,null,null,null,null,null,null,null,null,null,0]
["SBSA_295","SBSA_295",null,null,null,null,null,null,null,null,null,null,null,null,null,null,null,null,null,null,null,null,null,null,null,null,null,null,null,null,null,null,null,0]
["SBSA_296","SBSA_296",null,null,null,null,null,null,null,null,null,null,null,null,null,null,null,null,null,null,null,null,null,null,null,null,null,null,null,null,null,null,null,0]
["SBSA_297","SBSA_297",null,null,null,null,null,null,null,null,null,null,null,null,null,null,null,null,null,null,null,null,null,null,null,null,null,null,null,null,null,null,null,0]
["SBSA_298","SBSA_298",null,null,null,null,null,null,null,null,null,null,null,null,null,null,null,null,null,null,null,null,null,null,null,null,null,null,null,null,null,null,null,0]
["SBSA_299","SBSA_299",null,null,null,null,null,null,null,null,null,null,null,null,null,null,null,null,null,null,null,null,null,null,null,null,null,null,null,null,null,null,null,0]
["SBSA_300","SBSA_300",null,null,null,null,null,null,null,null,null,null,null,null,null,null,null,null,null,null,null,null,null,null,null,null,null,null,null,null,null,null,null,0]
["SBSA_301","SBSA_301",null,null,null,null,null,null,null,null,null,null,null,null,null,null,null,null,null,null,null,null,null,null,null,null,null,null,null,null,null,null,null,0]
["SBSA_302","SBSA_302",null,null,null,null,null,null,null,null,null,null,null,null,null,null,null,null,null,null,null,null,null,null,null,null,null,null,null,null,null,null,null,0]
["SBSA_303","SBSA_303",null,null,null,null,null,null,null,null,null,null,null,null,null,null,null,null,null,null,null,null,null,null,null,null,null,null,null,null,null,null,null,0]
["SBSA_304","SBSA_304",null,null,null,null,null,null,null,null,null,null,null,null,null,null,null,null,null,null,null,null,null,null,null,null,null,null,null,null,null,null,null,0]
["SBSA_305","SBSA_305",null,null,null,null,null,null,null,null,null,null,null,null,null,null,null,null,null,null,null,null,null,null,null,null,null,null,null,null,null,null,null,0]
["SBSA_306","SBSA_306",null,null,null,null,null,null,null,null,null,null,null,null,null,null,null,null,null,null,null,null,null,null,null,null,null,null,null,null,null,null,null,0]
["SBSA_307","SBSA_307",null,null,null,null,null,null,null,null,null,null,null,null,null,null,null,null,null,null,null,null,null,null,null,null,null,null,null,null,null,null,null,0]
["SBSA_308","SBSA_308",null,null,null,null,null,null,null,null,null,null,null,null,null,null,null,null,null,null,null,null,null,null,null,null,null,null,null,null,null,null,null,0]
["SBSA_309","SBSA_309",null,null,null,null,null,null,null,null,null,null,null,null,null,null,null,null,null,null,null,null,null,null,null,null,null,null,null,null,null,null,null,0]
["SBSA_310","SBSA_310",null,null,null,null,null,null,null,null,null,null,null,null,null,null,null,null,null,null,null,null,null,null,null,null,null,null,null,null,null,null,null,0]
["SBSA_311","SBSA_311",null,null,null,null,null,null,null,null,null,null,null,null,null,null,null,null,null,null,null,null,null,null,null,null,null,null,null,null,null,null,null,0]
["SBSA_312","SBSA_312",null,null,null,null,null,null,null,null,null,null,null,null,null,null,null,null,null,null,null,null,null,null,null,null,null,null,null,null,null,null,null,0]
["SBSA_313","SBSA_313",null,null,null,null,null,null,null,null,null,null,null,null,null,null,null,null,null,null,null,null,null,null,null,null,null,null,null,null,null,null,null,0]
["SBSA_314","SBSA_314",null,null,null,null,null,null,null,null,null,null,null,null,null,null,null,null,null,null,null,null,null,null,null,null,null,null,null,null,null,null,null,0]
["SBSA_315","SBSA_315",null,null,null,null,null,null,null,null,null,null,null,null,null,null,null,null,null,null,null,null,null,null,null,null,null,null,null,null,null,null,null,0]
["SBSA_316","SBSA_316",null,null,null,null,null,null,null,null,null,null,null,null,null,null,null,null,null,null,null,null,null,null,null,null,null,null,null,null,null,null,null,0]
["SBSA_317","SBSA_317",null,null,null,null,null,null,null,null,null,null,null,null,null,null,null,null,null,null,null,null,null,null,null,null,null,null,null,null,null,null,null,0]
["SBSA_318","SBSA_318",null,null,null,null,null,null,null,null,null,null,null,null,null,null,null,null,null,null,null,null,null,null,null,null,null,null,null,null,null,null,null,0]
["SBSA_319","SBSA_319",null,null,null,null,null,null,null,null,null,null,null,null,null,null,null,null,null,null,null,null,null,null,null,null,null,null,null,null,null,null,null,0]
["SBSA_320","SBSA_320",null,null,null,null,null,null,null,null,null,null,null,null,null,null,null,null,null,null,null,null,null,null,null,null,null,null,null,null,null,null,null,0]
["SBSA_321","SBSA_321",null,null,null,null,null,null,null,null,null,null,null,null,null,null,null,null,null,null,null,null,null,null,null,null,null,null,null,null,null,null,null,{"$f":"IF(COUNTBLANK(C330:G330)<5,1,0)","v":0}]
["SBSA_322","SBSA_322",null,null,null,null,null,null,null,null,null,null,null,null,null,null,null,null,null,null,null,null,null,null,null,null,null,null,null,null,null,null,null,0]
["SBSA_323","SBSA_323",null,null,null,null,null,null,null,null,null,null,null,null,null,null,null,null,null,null,null,null,null,null,null,null,null,null,null,null,null,null,null,0]
["SBSA_324","SBSA_324",null,null,null,null,null,null,null,null,null,null,null,null,null,null,null,null,null,null,null,null,null,null,null,null,null,null,null,null,null,null,null,0]
["SBSA_325","SBSA_325",null,null,null,null,null,null,null,null,null,null,null,null,null,null,null,null,null,null,null,null,null,null,null,null,null,null,null,null,null,null,null,0]
["SBSA_326","SBSA_326",null,null,null,null,null,null,null,null,null,null,null,null,null,null,null,null,null,null,null,null,null,null,null,null,null,null,null,null,null,null,null,0]
["SBSA_327","SBSA_327",null,null,null,null,null,null,null,null,null,null,null,null,null,null,null,null,null,null,null,null,null,null,null,null,null,null,null,null,null,null,null,0]
["SBSA_328","SBSA_328",null,null,null,null,null,null,null,null,null,null,null,null,null,null,null,null,null,null,null,null,null,null,null,null,null,null,null,null,null,null,null,0]
["SBSA_329","SBSA_329",null,null,null,null,null,null,null,null,null,null,null,null,null,null,null,null,null,null,null,null,null,null,null,null,null,null,null,null,null,null,null,0]
["SBSA_330","SBSA_330",null,null,null,null,null,null,null,null,null,null,null,null,null,null,null,null,null,null,null,null,null,null,null,null,null,null,null,null,null,null,null,0]
["SBSA_331","SBSA_331",null,null,null,null,null,null,null,null,null,null,null,null,null,null,null,null,null,null,null,null,null,null,null,null,null,null,null,null,null,null,null,0]
["SBSA_332","SBSA_332",null,null,null,null,null,null,null,null,null,null,null,null,null,null,null,null,null,null,null,null,null,null,null,null,null,null,null,null,null,null,null,0]
["SBSA_333","SBSA_333",null,null,null,null,null,null,null,null,null,null,null,null,null,null,null,null,null,null,null,null,null,null,null,null,null,null,null,null,null,null,null,0]
["SBSA_334","SBSA_334",null,null,null,null,null,null,null,null,null,null,null,null,null,null,null,null,null,null,null,null,null,null,null,null,null,null,null,null,null,null,null,0]
["SBSA_335","SBSA_335",null,null,null,null,null,null,null,null,null,null,null,null,null,null,null,null,null,null,null,null,null,null,null,null,null,null,null,null,null,null,null,0]
["SBSA_336","SBSA_336",null,null,null,null,null,null,null,null,null,null,null,null,null,null,null,null,null,null,null,null,null,null,null,null,null,null,null,null,null,null,null,0]
["SBSA_337","SBSA_337",null,null,null,null,null,null,null,null,null,null,null,null,null,null,null,null,null,null,null,null,null,null,null,null,null,null,null,null,null,null,null,0]
["SBSA_338","SBSA_338",null,null,null,null,null,null,null,null,null,null,null,null,null,null,null,null,null,null,null,null,null,null,null,null,null,null,null,null,null,null,null,0]
["SBSA_339","SBSA_339",null,null,null,null,null,null,null,null,null,null,null,null,null,null,null,null,null,null,null,null,null,null,null,null,null,null,null,null,null,null,null,0]
["SBSA_340","SBSA_340",null,null,null,null,null,null,null,null,null,null,null,null,null,null,null,null,null,null,null,null,null,null,null,null,null,null,null,null,null,null,null,0]
["SBSA_341","SBSA_341",null,null,null,null,null,null,null,null,null,null,null,null,null,null,null,null,null,null,null,null,null,null,null,null,null,null,null,null,null,null,null,0]
["SBSA_342","SBSA_342",null,null,null,null,null,null,null,null,null,null,null,null,null,null,null,null,null,null,null,null,null,null,null,null,null,null,null,null,null,null,null,0]
["SBSA_343","SBSA_343",null,null,null,null,null,null,null,null,null,null,null,null,null,null,null,null,null,null,null,null,null,null,null,null,null,null,null,null,null,null,null,0]
["SBSA_344","SBSA_344",null,null,null,null,null,null,null,null,null,null,null,null,null,null,null,null,null,null,null,null,null,null,null,null,null,null,null,null,null,null,null,0]
["SBSA_345","SBSA_345",null,null,null,null,null,null,null,null,null,null,null,null,null,null,null,null,null,null,null,null,null,null,null,null,null,null,null,null,null,null,null,0]
["SBSA_346","SBSA_346",null,null,null,null,null,null,null,null,null,null,null,null,null,null,null,null,null,null,null,null,null,null,null,null,null,null,null,null,null,null,null,0]
["SBSA_347","SBSA_347",null,null,null,null,null,null,null,null,null,null,null,null,null,null,null,null,null,null,null,null,null,null,null,null,null,null,null,null,null,null,null,0]
["SBSA_348","SBSA_348",null,null,null,null,null,null,null,null,null,null,null,null,null,null,null,null,null,null,null,null,null,null,null,null,null,null,null,null,null,null,null,0]
["SBSA_349","SBSA_349",null,null,null,null,null,null,null,null,null,null,null,null,null,null,null,null,null,null,null,null,null,null,null,null,null,null,null,null,null,null,null,0]
["SBSA_350","SBSA_350",null,null,null,null,null,null,null,null,null,null,null,null,null,null,null,null,null,null,null,null,null,null,null,null,null,null,null,null,null,null,null,0]
["SBSA_351","SBSA_351",null,null,null,null,null,null,null,null,null,null,null,null,null,null,null,null,null,null,null,null,null,null,null,null,null,null,null,null,null,null,null,0]
["SBSA_352","SBSA_352",null,null,null,null,null,null,null,null,null,null,null,null,null,null,null,null,null,null,null,null,null,null,null,null,null,null,null,null,null,null,null,0]
["SBSA_353","SBSA_353",null,null,null,null,null,null,null,null,null,null,null,null,null,null,null,null,null,null,null,null,null,null,null,null,null,null,null,null,null,null,null,0]
["SBSA_354","SBSA_354",null,null,null,null,null,null,null,null,null,null,null,null,null,null,null,null,null,null,null,null,null,null,null,null,null,null,null,null,null,null,null,0]
["SBSA_355","SBSA_355",null,null,null,null,null,null,null,null,null,null,null,null,null,null,null,null,null,null,null,null,null,null,null,null,null,null,null,null,null,null,null,0]
["SBSA_356","SBSA_356",null,null,null,null,null,null,null,null,null,null,null,null,null,null,null,null,null,null,null,null,null,null,null,null,null,null,null,null,null,null,null,0]
["SBSA_357","SBSA_357",null,null,null,null,null,null,null,null,null,null,null,null,null,null,null,null,null,null,null,null,null,null,null,null,null,null,null,null,null,null,null,0]
["SBSA_358","SBSA_358",null,null,null,null,null,null,null,null,null,null,null,null,null,null,null,null,null,null,null,null,null,null,null,null,null,null,null,null,null,null,null,0]
["SBSA_359","SBSA_359",null,null,null,null,null,null,null,null,null,null,null,null,null,null,null,null,null,null,null,null,null,null,null,null,null,null,null,null,null,null,null,0]
["SBSA_360","SBSA_360",null,null,null,null,null,null,null,null,null,null,null,null,null,null,null,null,null,null,null,null,null,null,null,null,null,null,null,null,null,null,null,0]
["SBSA_361","SBSA_361",null,null,null,null,null,null,null,null,null,null,null,null,null,null,null,null,null,null,null,null,null,null,null,null,null,null,null,null,null,null,null,0]
["SBSA_362","SBSA_362",null,null,null,null,null,null,null,null,null,null,null,null,null,null,null,null,null,null,null,null,null,null,null,null,null,null,null,null,null,null,null,0]
["SBSA_363","SBSA_363",null,null,null,null,null,null,null,null,null,null,null,null,null,null,null,null,null,null,null,null,null,null,null,null,null,null,null,null,null,null,null,0]
["SBSA_364","SBSA_364",null,null,null,null,null,null,null,null,null,null,null,null,null,null,null,null,null,null,null,null,null,null,null,null,null,null,null,null,null,null,null,0]
["SBSA_365","SBSA_365",null,null,null,null,null,null,null,null,null,null,null,null,null,null,null,null,null,null,null,null,null,null,null,null,null,null,null,null,null,null,null,0]
["SBSA_366","SBSA_366",null,null,null,null,null,null,null,null,null,null,null,null,null,null,null,null,null,null,null,null,null,null,null,null,null,null,null,null,null,null,null,0]
["SBSA_367","SBSA_367",null,null,null,null,null,null,null,null,null,null,null,null,null,null,null,null,null,null,null,null,null,null,null,null,null,null,null,null,null,null,null,0]
["SBSA_368","SBSA_368",null,null,null,null,null,null,null,null,null,null,null,null,null,null,null,null,null,null,null,null,null,null,null,null,null,null,null,null,null,null,null,0]
["SBSA_369","SBSA_369",null,null,null,null,null,null,null,null,null,null,null,null,null,null,null,null,null,null,null,null,null,null,null,null,null,null,null,null,null,null,null,0]
["SBSA_370","SBSA_370",null,null,null,null,null,null,null,null,null,null,null,null,null,null,null,null,null,null,null,null,null,null,null,null,null,null,null,null,null,null,null,0]
["SBSA_371","SBSA_371",null,null,null,null,null,null,null,null,null,null,null,null,null,null,null,null,null,null,null,null,null,null,null,null,null,null,null,null,null,null,null,0]
["SBSA_372","SBSA_372",null,null,null,null,null,null,null,null,null,null,null,null,null,null,null,null,null,null,null,null,null,null,null,null,null,null,null,null,null,null,null,0]
["SBSA_373","SBSA_373",null,null,null,null,null,null,null,null,null,null,null,null,null,null,null,null,null,null,null,null,null,null,null,null,null,null,null,null,null,null,null,0]
["SBSA_374","SBSA_374",null,null,null,null,null,null,null,null,null,null,null,null,null,null,null,null,null,null,null,null,null,null,null,null,null,null,null,null,null,null,null,0]
["SBSA_375","SBSA_375",null,null,null,null,null,null,null,null,null,null,null,null,null,null,null,null,null,null,null,null,null,null,null,null,null,null,null,null,null,null,null,0]
["SBSA_376","SBSA_376",null,null,null,null,null,null,null,null,null,null,null,null,null,null,null,null,null,null,null,null,null,null,null,null,null,null,null,null,null,null,null,0]
["SBSA_377","SBSA_377",null,null,null,null,null,null,null,null,null,null,null,null,null,null,null,null,null,null,null,null,null,null,null,null,null,null,null,null,null,null,null,0]
["SBSA_378","SBSA_378",null,null,null,null,null,null,null,null,null,null,null,null,null,null,null,null,null,null,null,null,null,null,null,null,null,null,null,null,null,null,null,0]
["SBSA_379","SBSA_379",null,null,null,null,null,null,null,null,null,null,null,null,null,null,null,null,null,null,null,null,null,null,null,null,null,null,null,null,null,null,null,0]
["SBSA_380","SBSA_380",null,null,null,null,null,null,null,null,null,null,null,null,null,null,null,null,null,null,null,null,null,null,null,null,null,null,null,null,null,null,null,0]
["SBSA_381","SBSA_381",null,null,null,null,null,null,null,null,null,null,null,null,null,null,null,null,null,null,null,null,null,null,null,null,null,null,null,null,null,null,null,0]
["SBSA_382","SBSA_382",null,null,null,null,null,null,null,null,null,null,null,null,null,null,null,null,null,null,null,null,null,null,null,null,null,null,null,null,null,null,null,0]
["SBSA_383","SBSA_383",null,null,null,null,null,null,null,null,null,null,null,null,null,null,null,null,null,null,null,null,null,null,null,null,null,null,null,null,null,null,null,0]
["SBSA_384","SBSA_384",null,null,null,null,null,null,null,null,null,null,null,null,null,null,null,null,null,null,null,null,null,null,null,null,null,null,null,null,null,null,null,0]
["SBSA_385","SBSA_385",null,null,null,null,null,null,null,null,null,null,null,null,null,null,null,null,null,null,null,null,null,null,null,null,null,null,null,null,null,null,null,{"$f":"IF(COUNTBLANK(C394:G394)<5,1,0)","v":0}]
["SBSA_386","SBSA_386",null,null,null,null,null,null,null,null,null,null,null,null,null,null,null,null,null,null,null,null,null,null,null,null,null,null,null,null,null,null,null,0]
["SBSA_387","SBSA_387",null,null,null,null,null,null,null,null,null,null,null,null,null,null,null,null,null,null,null,null,null,null,null,null,null,null,null,null,null,null,null,0]
["SBSA_388","SBSA_388",null,null,null,null,null,null,null,null,null,null,null,null,null,null,null,null,null,null,null,null,null,null,null,null,null,null,null,null,null,null,null,0]
["SBSA_389","SBSA_389",null,null,null,null,null,null,null,null,null,null,null,null,null,null,null,null,null,null,null,null,null,null,null,null,null,null,null,null,null,null,null,0]
["SBSA_390","SBSA_390",null,null,null,null,null,null,null,null,null,null,null,null,null,null,null,null,null,null,null,null,null,null,null,null,null,null,null,null,null,null,null,0]
["SBSA_391","SBSA_391",null,null,null,null,null,null,null,null,null,null,null,null,null,null,null,null,null,null,null,null,null,null,null,null,null,null,null,null,null,null,null,0]
["SBSA_392","SBSA_392",null,null,null,null,null,null,null,null,null,null,null,null,null,null,null,null,null,null,null,null,null,null,null,null,null,null,null,null,null,null,null,0]
["SBSA_393","SBSA_393",null,null,null,null,null,null,null,null,null,null,null,null,null,null,null,null,null,null,null,null,null,null,null,null,null,null,null,null,null,null,null,0]
["SBSA_394","SBSA_394",null,null,null,null,null,null,null,null,null,null,null,null,null,null,null,null,null,null,null,null,null,null,null,null,null,null,null,null,null,null,null,0]
["SBSA_395","SBSA_395",null,null,null,null,null,null,null,null,null,null,null,null,null,null,null,null,null,null,null,null,null,null,null,null,null,null,null,null,null,null,null,0]
["SBSA_396","SBSA_396",null,null,null,null,null,null,null,null,null,null,null,null,null,null,null,null,null,null,null,null,null,null,null,null,null,null,null,null,null,null,null,0]
["SBSA_397","SBSA_397",null,null,null,null,null,null,null,null,null,null,null,null,null,null,null,null,null,null,null,null,null,null,null,null,null,null,null,null,null,null,null,0]
["SBSA_398","SBSA_398",null,null,null,null,null,null,null,null,null,null,null,null,null,null,null,null,null,null,null,null,null,null,null,null,null,null,null,null,null,null,null,0]
["SBSA_399","SBSA_399",null,null,null,null,null,null,null,null,null,null,null,null,null,null,null,null,null,null,null,null,null,null,null,null,null,null,null,null,null,null,null,0]
["SBSA_400","SBSA_400",null,null,null,null,null,null,null,null,null,null,null,null,null,null,null,null,null,null,null,null,null,null,null,null,null,null,null,null,null,null,null,0]
["SBSA_401","SBSA_401",null,null,null,null,null,null,null,null,null,null,null,null,null,null,null,null,null,null,null,null,null,null,null,null,null,null,null,null,null,null,null,0]
["SBSA_402","SBSA_402",null,null,null,null,null,null,null,null,null,null,null,null,null,null,null,null,null,null,null,null,null,null,null,null,null,null,null,null,null,null,null,0]
["SBSA_403","SBSA_403",null,null,null,null,null,null,null,null,null,null,null,null,null,null,null,null,null,null,null,null,null,null,null,null,null,null,null,null,null,null,null,0]
["SBSA_404","SBSA_404",null,null,null,null,null,null,null,null,null,null,null,null,null,null,null,null,null,null,null,null,null,null,null,null,null,null,null,null,null,null,null,0]
["SBSA_405","SBSA_405",null,null,null,null,null,null,null,null,null,null,null,null,null,null,null,null,null,null,null,null,null,null,null,null,null,null,null,null,null,null,null,0]
["SBSA_406","SBSA_406",null,null,null,null,null,null,null,null,null,null,null,null,null,null,null,null,null,null,null,null,null,null,null,null,null,null,null,null,null,null,null,0]
["SBSA_407","SBSA_407",null,null,null,null,null,null,null,null,null,null,null,null,null,null,null,null,null,null,null,null,null,null,null,null,null,null,null,null,null,null,null,0]
["SBSA_408","SBSA_408",null,null,null,null,null,null,null,null,null,null,null,null,null,null,null,null,null,null,null,null,null,null,null,null,null,null,null,null,null,null,null,0]
["SBSA_409","SBSA_409",null,null,null,null,null,null,null,null,null,null,null,null,null,null,null,null,null,null,null,null,null,null,null,null,null,null,null,null,null,null,null,0]
["SBSA_410","SBSA_410",null,null,null,null,null,null,null,null,null,null,null,null,null,null,null,null,null,null,null,null,null,null,null,null,null,null,null,null,null,null,null,0]
["SBSA_411","SBSA_411",null,null,null,null,null,null,null,null,null,null,null,null,null,null,null,null,null,null,null,null,null,null,null,null,null,null,null,null,null,null,null,0]
["SBSA_412","SBSA_412",null,null,null,null,null,null,null,null,null,null,null,null,null,null,null,null,null,null,null,null,null,null,null,null,null,null,null,null,null,null,null,0]
["SBSA_413","SBSA_413",null,null,null,null,null,null,null,null,null,null,null,null,null,null,null,null,null,null,null,null,null,null,null,null,null,null,null,null,null,null,null,0]
["SBSA_414","SBSA_414",null,null,null,null,null,null,null,null,null,null,null,null,null,null,null,null,null,null,null,null,null,null,null,null,null,null,null,null,null,null,null,0]
["SBSA_415","SBSA_415",null,null,null,null,null,null,null,null,null,null,null,null,null,null,null,null,null,null,null,null,null,null,null,null,null,null,null,null,null,null,null,0]
["SBSA_416","SBSA_416",null,null,null,null,null,null,null,null,null,null,null,null,null,null,null,null,null,null,null,null,null,null,null,null,null,null,null,null,null,null,null,0]
["SBSA_417","SBSA_417",null,null,null,null,null,null,null,null,null,null,null,null,null,null,null,null,null,null,null,null,null,null,null,null,null,null,null,null,null,null,null,0]
["SBSA_418","SBSA_418",null,null,null,null,null,null,null,null,null,null,null,null,null,null,null,null,null,null,null,null,null,null,null,null,null,null,null,null,null,null,null,0]
["SBSA_419","SBSA_419",null,null,null,null,null,null,null,null,null,null,null,null,null,null,null,null,null,null,null,null,null,null,null,null,null,null,null,null,null,null,null,0]
["SBSA_420","SBSA_420",null,null,null,null,null,null,null,null,null,null,null,null,null,null,null,null,null,null,null,null,null,null,null,null,null,null,null,null,null,null,null,0]
["SBSA_421","SBSA_421",null,null,null,null,null,null,null,null,null,null,null,null,null,null,null,null,null,null,null,null,null,null,null,null,null,null,null,null,null,null,null,0]
["SBSA_422","SBSA_422",null,null,null,null,null,null,null,null,null,null,null,null,null,null,null,null,null,null,null,null,null,null,null,null,null,null,null,null,null,null,null,0]
["SBSA_423","SBSA_423",null,null,null,null,null,null,null,null,null,null,null,null,null,null,null,null,null,null,null,null,null,null,null,null,null,null,null,null,null,null,null,0]
["SBSA_424","SBSA_424",null,null,null,null,null,null,null,null,null,null,null,null,null,null,null,null,null,null,null,null,null,null,null,null,null,null,null,null,null,null,null,0]
["SBSA_425","SBSA_425",null,null,null,null,null,null,null,null,null,null,null,null,null,null,null,null,null,null,null,null,null,null,null,null,null,null,null,null,null,null,null,0]
["SBSA_426","SBSA_426",null,null,null,null,null,null,null,null,null,null,null,null,null,null,null,null,null,null,null,null,null,null,null,null,null,null,null,null,null,null,null,0]
["SBSA_427","SBSA_427",null,null,null,null,null,null,null,null,null,null,null,null,null,null,null,null,null,null,null,null,null,null,null,null,null,null,null,null,null,null,null,0]
["SBSA_428","SBSA_428",null,null,null,null,null,null,null,null,null,null,null,null,null,null,null,null,null,null,null,null,null,null,null,null,null,null,null,null,null,null,null,0]
["SBSA_429","SBSA_429",null,null,null,null,null,null,null,null,null,null,null,null,null,null,null,null,null,null,null,null,null,null,null,null,null,null,null,null,null,null,null,0]
["SBSA_430","SBSA_430",null,null,null,null,null,null,null,null,null,null,null,null,null,null,null,null,null,null,null,null,null,null,null,null,null,null,null,null,null,null,null,0]
["SBSA_431","SBSA_431",null,null,null,null,null,null,null,null,null,null,null,null,null,null,null,null,null,null,null,null,null,null,null,null,null,null,null,null,null,null,null,0]
["SBSA_432","SBSA_432",null,null,null,null,null,null,null,null,null,null,null,null,null,null,null,null,null,null,null,null,null,null,null,null,null,null,null,null,null,null,null,0]
["SBSA_433","SBSA_433",null,null,null,null,null,null,null,null,null,null,null,null,null,null,null,null,null,null,null,null,null,null,null,null,null,null,null,null,null,null,null,0]
["SBSA_434","SBSA_434",null,null,null,null,null,null,null,null,null,null,null,null,null,null,null,null,null,null,null,null,null,null,null,null,null,null,null,null,null,null,null,0]
["SBSA_435","SBSA_435",null,null,null,null,null,null,null,null,null,null,null,null,null,null,null,null,null,null,null,null,null,null,null,null,null,null,null,null,null,null,null,0]
["SBSA_436","SBSA_436",null,null,null,null,null,null,null,null,null,null,null,null,null,null,null,null,null,null,null,null,null,null,null,null,null,null,null,null,null,null,null,0]
["SBSA_437","SBSA_437",null,null,null,null,null,null,null,null,null,null,null,null,null,null,null,null,null,null,null,null,null,null,null,null,null,null,null,null,null,null,null,0]
["SBSA_438","SBSA_438",null,null,null,null,null,null,null,null,null,null,null,null,null,null,null,null,null,null,null,null,null,null,null,null,null,null,null,null,null,null,null,0]
["SBSA_439","SBSA_439",null,null,null,null,null,null,null,null,null,null,null,null,null,null,null,null,null,null,null,null,null,null,null,null,null,null,null,null,null,null,null,0]
["SBSA_440","SBSA_440",null,null,null,null,null,null,null,null,null,null,null,null,null,null,null,null,null,null,null,null,null,null,null,null,null,null,null,null,null,null,null,0]
["SBSA_441","SBSA_441",null,null,null,null,null,null,null,null,null,null,null,null,null,null,null,null,null,null,null,null,null,null,null,null,null,null,null,null,null,null,null,0]
["SBSA_442","SBSA_442",null,null,null,null,null,null,null,null,null,null,null,null,null,null,null,null,null,null,null,null,null,null,null,null,null,null,null,null,null,null,null,0]
["SBSA_443","SBSA_443",null,null,null,null,null,null,null,null,null,null,null,null,null,null,null,null,null,null,null,null,null,null,null,null,null,null,null,null,null,null,null,0]
["SBSA_444","SBSA_444",null,null,null,null,null,null,null,null,null,null,null,null,null,null,null,null,null,null,null,null,null,null,null,null,null,null,null,null,null,null,null,0]
["SBSA_445","SBSA_445",null,null,null,null,null,null,null,null,null,null,null,null,null,null,null,null,null,null,null,null,null,null,null,null,null,null,null,null,null,null,null,0]
["SBSA_446","SBSA_446",null,null,null,null,null,null,null,null,null,null,null,null,null,null,null,null,null,null,null,null,null,null,null,null,null,null,null,null,null,null,null,0]
["SBSA_447","SBSA_447",null,null,null,null,null,null,null,null,null,null,null,null,null,null,null,null,null,null,null,null,null,null,null,null,null,null,null,null,null,null,null,0]
["SBSA_448","SBSA_448",null,null,null,null,null,null,null,null,null,null,null,null,null,null,null,null,null,null,null,null,null,null,null,null,null,null,null,null,null,null,null,0]
["SBSA_449","SBSA_449",null,null,null,null,null,null,null,null,null,null,null,null,null,null,null,null,null,null,null,null,null,null,null,null,null,null,null,null,null,null,null,{"$f":"IF(COUNTBLANK(C458:G458)<5,1,0)","v":0}]
["SBSA_450","SBSA_450",null,null,null,null,null,null,null,null,null,null,null,null,null,null,null,null,null,null,null,null,null,null,null,null,null,null,null,null,null,null,null,0]
["SBSA_451","SBSA_451",null,null,null,null,null,null,null,null,null,null,null,null,null,null,null,null,null,null,null,null,null,null,null,null,null,null,null,null,null,null,null,0]
["SBSA_452","SBSA_452",null,null,null,null,null,null,null,null,null,null,null,null,null,null,null,null,null,null,null,null,null,null,null,null,null,null,null,null,null,null,null,0]
["SBSA_453","SBSA_453",null,null,null,null,null,null,null,null,null,null,null,null,null,null,null,null,null,null,null,null,null,null,null,null,null,null,null,null,null,null,null,0]
["SBSA_454","SBSA_454",null,null,null,null,null,null,null,null,null,null,null,null,null,null,null,null,null,null,null,null,null,null,null,null,null,null,null,null,null,null,null,0]
["SBSA_455","SBSA_455",null,null,null,null,null,null,null,null,null,null,null,null,null,null,null,null,null,null,null,null,null,null,null,null,null,null,null,null,null,null,null,0]
["SBSA_456","SBSA_456",null,null,null,null,null,null,null,null,null,null,null,null,null,null,null,null,null,null,null,null,null,null,null,null,null,null,null,null,null,null,null,0]
["SBSA_457","SBSA_457",null,null,null,null,null,null,null,null,null,null,null,null,null,null,null,null,null,null,null,null,null,null,null,null,null,null,null,null,null,null,null,0]
["SBSA_458","SBSA_458",null,null,null,null,null,null,null,null,null,null,null,null,null,null,null,null,null,null,null,null,null,null,null,null,null,null,null,null,null,null,null,0]
["SBSA_459","SBSA_459",null,null,null,null,null,null,null,null,null,null,null,null,null,null,null,null,null,null,null,null,null,null,null,null,null,null,null,null,null,null,null,0]
["SBSA_460","SBSA_460",null,null,null,null,null,null,null,null,null,null,null,null,null,null,null,null,null,null,null,null,null,null,null,null,null,null,null,null,null,null,null,0]
["SBSA_461","SBSA_461",null,null,null,null,null,null,null,null,null,null,null,null,null,null,null,null,null,null,null,null,null,null,null,null,null,null,null,null,null,null,null,0]
["SBSA_462","SBSA_462",null,null,null,null,null,null,null,null,null,null,null,null,null,null,null,null,null,null,null,null,null,null,null,null,null,null,null,null,null,null,null,0]
["SBSA_463","SBSA_463",null,null,null,null,null,null,null,null,null,null,null,null,null,null,null,null,null,null,null,null,null,null,null,null,null,null,null,null,null,null,null,0]
["SBSA_464","SBSA_464",null,null,null,null,null,null,null,null,null,null,null,null,null,null,null,null,null,null,null,null,null,null,null,null,null,null,null,null,null,null,null,0]
["SBSA_465","SBSA_465",null,null,null,null,null,null,null,null,null,null,null,null,null,null,null,null,null,null,null,null,null,null,null,null,null,null,null,null,null,null,null,0]
["SBSA_466","SBSA_466",null,null,null,null,null,null,null,null,null,null,null,null,null,null,null,null,null,null,null,null,null,null,null,null,null,null,null,null,null,null,null,0]
["SBSA_467","SBSA_467",null,null,null,null,null,null,null,null,null,null,null,null,null,null,null,null,null,null,null,null,null,null,null,null,null,null,null,null,null,null,null,0]
["SBSA_468","SBSA_468",null,null,null,null,null,null,null,null,null,null,null,null,null,null,null,null,null,null,null,null,null,null,null,null,null,null,null,null,null,null,null,0]
["SBSA_469","SBSA_469",null,null,null,null,null,null,null,null,null,null,null,null,null,null,null,null,null,null,null,null,null,null,null,null,null,null,null,null,null,null,null,0]
["SBSA_470","SBSA_470",null,null,null,null,null,null,null,null,null,null,null,null,null,null,null,null,null,null,null,null,null,null,null,null,null,null,null,null,null,null,null,0]
["SBSA_471","SBSA_471",null,null,null,null,null,null,null,null,null,null,null,null,null,null,null,null,null,null,null,null,null,null,null,null,null,null,null,null,null,null,null,0]
["SBSA_472","SBSA_472",null,null,null,null,null,null,null,null,null,null,null,null,null,null,null,null,null,null,null,null,null,null,null,null,null,null,null,null,null,null,null,0]
["SBSA_473","SBSA_473",null,null,null,null,null,null,null,null,null,null,null,null,null,null,null,null,null,null,null,null,null,null,null,null,null,null,null,null,null,null,null,0]
["SBSA_474","SBSA_474",null,null,null,null,null,null,null,null,null,null,null,null,null,null,null,null,null,null,null,null,null,null,null,null,null,null,null,null,null,null,null,0]
["SBSA_475","SBSA_475",null,null,null,null,null,null,null,null,null,null,null,null,null,null,null,null,null,null,null,null,null,null,null,null,null,null,null,null,null,null,null,0]
["SBSA_476","SBSA_476",null,null,null,null,null,null,null,null,null,null,null,null,null,null,null,null,null,null,null,null,null,null,null,null,null,null,null,null,null,null,null,0]
["SBSA_477","SBSA_477",null,null,null,null,null,null,null,null,null,null,null,null,null,null,null,null,null,null,null,null,null,null,null,null,null,null,null,null,null,null,null,0]
["SBSA_478","SBSA_478",null,null,null,null,null,null,null,null,null,null,null,null,null,null,null,null,null,null,null,null,null,null,null,null,null,null,null,null,null,null,null,0]
["SBSA_479","SBSA_479",null,null,null,null,null,null,null,null,null,null,null,null,null,null,null,null,null,null,null,null,null,null,null,null,null,null,null,null,null,null,null,0]
["SBSA_480","SBSA_480",null,null,null,null,null,null,null,null,null,null,null,null,null,null,null,null,null,null,null,null,null,null,null,null,null,null,null,null,null,null,null,0]
["SBSA_481","SBSA_481",null,null,null,null,null,null,null,null,null,null,null,null,null,null,null,null,null,null,null,null,null,null,null,null,null,null,null,null,null,null,null,0]
["SBSA_482","SBSA_482",null,null,null,null,null,null,null,null,null,null,null,null,null,null,null,null,null,null,null,null,null,null,null,null,null,null,null,null,null,null,null,0]
["SBSA_483","SBSA_483",null,null,null,null,null,null,null,null,null,null,null,null,null,null,null,null,null,null,null,null,null,null,null,null,null,null,null,null,null,null,null,0]
["SBSA_484","SBSA_484",null,null,null,null,null,null,null,null,null,null,null,null,null,null,null,null,null,null,null,null,null,null,null,null,null,null,null,null,null,null,null,0]
["SBSA_485","SBSA_485",null,null,null,null,null,null,null,null,null,null,null,null,null,null,null,null,null,null,null,null,null,null,null,null,null,null,null,null,null,null,null,0]
["SBSA_486","SBSA_486",null,null,null,null,null,null,null,null,null,null,null,null,null,null,null,null,null,null,null,null,null,null,null,null,null,null,null,null,null,null,null,0]
["SBSA_487","SBSA_487",null,null,null,null,null,null,null,null,null,null,null,null,null,null,null,null,null,null,null,null,null,null,null,null,null,null,null,null,null,null,null,0]
["SBSA_488","SBSA_488",null,null,null,null,null,null,null,null,null,null,null,null,null,null,null,null,null,null,null,null,null,null,null,null,null,null,null,null,null,null,null,0]
["SBSA_489","SBSA_489",null,null,null,null,null,null,null,null,null,null,null,null,null,null,null,null,null,null,null,null,null,null,null,null,null,null,null,null,null,null,null,0]
["SBSA_490","SBSA_490",null,null,null,null,null,null,null,null,null,null,null,null,null,null,null,null,null,null,null,null,null,null,null,null,null,null,null,null,null,null,null,0]
["SBSA_491","SBSA_491",null,null,null,null,null,null,null,null,null,null,null,null,null,null,null,null,null,null,null,null,null,null,null,null,null,null,null,null,null,null,null,0]
["SBSA_492","SBSA_492",null,null,null,null,null,null,null,null,null,null,null,null,null,null,null,null,null,null,null,null,null,null,null,null,null,null,null,null,null,null,null,0]
["SBSA_493","SBSA_493",null,null,null,null,null,null,null,null,null,null,null,null,null,null,null,null,null,null,null,null,null,null,null,null,null,null,null,null,null,null,null,0]
["SBSA_494","SBSA_494",null,null,null,null,null,null,null,null,null,null,null,null,null,null,null,null,null,null,null,null,null,null,null,null,null,null,null,null,null,null,null,0]
["SBSA_495","SBSA_495",null,null,null,null,null,null,null,null,null,null,null,null,null,null,null,null,null,null,null,null,null,null,null,null,null,null,null,null,null,null,null,0]
["SBSA_496","SBSA_496",null,null,null,null,null,null,null,null,null,null,null,null,null,null,null,null,null,null,null,null,null,null,null,null,null,null,null,null,null,null,null,0]
["SBSA_497","SBSA_497",null,null,null,null,null,null,null,null,null,null,null,null,null,null,null,null,null,null,null,null,null,null,null,null,null,null,null,null,null,null,null,0]
["SBSA_498","SBSA_498",null,null,null,null,null,null,null,null,null,null,null,null,null,null,null,null,null,null,null,null,null,null,null,null,null,null,null,null,null,null,null,0]
["SBSA_499","SBSA_499",null,null,null,null,null,null,null,null,null,null,null,null,null,null,null,null,null,null,null,null,null,null,null,null,null,null,null,null,null,null,null,0]
["SBSA_500","SBSA_500",null,null,null,null,null,null,null,null,null,null,null,null,null,null,null,null,null,null,null,null,null,null,null,null,null,null,null,null,null,null,null,0]
[null,null,null,null,null,null,null,null,null,null,null,null,null,null,null,null,null,null,null,null,null,null,null,null,null,null,null,null,null,null,null,null,null,1]

{"sheet":"Non_SBS_Nominee","index":21,"n_rows":250,"n_cols":14,"rows_kept":250,"cut":false,"hidden":true,"merged":[[11,1,11,2],[12,1,12,2],[13,1,13,2],[14,1,14,2],[15,1,15,2],[16,1,16,2],[1,1,1,9],[3,1,3,9],[4,1,4,9],[5,2,5,6],[9,1,9,9],[10,1,10,2],[23,1,23,2],[24,1,24,2],[25,1,25,2],[26,1,26,2],[27,1,27,2],[28,1,28,2],[17,1,17,2],[18,1,18,2],[19,1,19,2],[20,1,20,2],[21,1,21,2],[22,1,22,2],[35,1,35,2],[36,1,36,2],[37,1,37,2],[38,1,38,2],[39,1,39,2],[40,1,40,2],[29,1,29,2],[30,1,30,2],[31,1,31,2],[32,1,32,2],[33,1,33,2],[34,1,34,2],[47,1,47,2],[48,1,48,2],[49,1,49,2],[50,1,50,2],[51,1,51,2],[52,1,52,2],[41,1,41,2],[42,1,42,2],[43,1,43,2],[44,1,44,2],[45,1,45,2],[46,1,46,2],[59,1,59,2],[60,1,60,2],[61,1,61,9],[62,1,62,9],[63,1,63,2],[64,1,64,2],[53,1,53,2],[54,1,54,2],[55,1,55,2],[56,1,56,2],[57,1,57,2],[58,1,58,2],[71,1,71,2],[72,1,72,2],[73,1,73,2],[74,1,74,2],[75,1,75,9],[76,1,76,9],[65,1,65,2],[66,1,66,2],[67,1,67,2],[68,1,68,2],[69,1,69,2],[70,1,70,2],[83,1,83,2],[84,1,84,2],[85,1,85,2],[86,1,86,2],[87,1,87,2],[88,1,88,2],[77,1,77,9],[78,1,78,2],[79,1,79,2],[80,1,80,2],[81,1,81,2],[82,1,82,2],[95,1,95,2],[96,1,96,2],[97,1,97,2],[98,1,98,2],[99,1,99,2],[100,1,100,2],[89,1,89,2],[90,1,90,2],[91,1,91,2],[92,1,92,2],[93,1,93,2],[94,1,94,2],[107,1,107,2],[108,1,108,2],[109,1,109,2],[110,1,110,2],[111,1,111,2],[112,1,112,2],[101,1,101,2],[102,1,102,2],[103,1,103,2],[104,1,104,2],[105,1,105,2],[106,1,106,2],[119,1,119,2],[120,1,120,9],[121,1,121,9],[122,1,122,2],[123,1,123,2],[124,1,124,2],[113,1,113,2],[114,1,114,2],[115,1,115,2],[116,1,116,2],[117,1,117,2],[118,1,118,2],[131,1,131,2],[132,1,132,2],[133,1,133,2],[125,1,125,2],[126,1,126,2],[127,1,127,2],[128,1,128,2],[129,1,129,2],[130,1,130,2]]}
["A"]
[1,"NOMINEE BUSINESS OF RESIDENT HOUSEHOLDS & NON FINANCIAL COMPANY CLIENTS"]
[0]
[2]
[1,"ASSETS HELD ON BEHALF OF (NOMINEE) RESIDENT HOUSEHOLDS & NON FINANCIAL COMPANY NOT REPORTED ON A SECURITY BY SECURITY BASIS "]
[1,"Company Name:",{"$f":"IF((Validation_Checks_CBM!E6=\"\"),\"\",Validation_Checks_CBM!E6)","v":0}]
[1]
[1,"Reporting Period:",{"$f":"IF(OR(Validation_Checks_CBM!E8=\"\",Validation_Checks_CBM!E8=\"Select Year\",Validation_Checks_CBM!E9=\"\",Validation_Checks_CBM!E10=\"\",Validation_Checks_CBM!E10=\"Select Month\"),\"\",Validation_Checks_CBM!E12)","v":""},null,{"$f":"IF(OR(K10<>\"\",L10<>\"\",M10<>\"\",N10<>\"\"),\"Incomplete data - amend as necessary\",\"\")","v":""}]
[1]
[1,"NOMINEES - RESIDENT HOUSEHOLDS",null,null,null,null,null,null,null,null,{"$f":"IF(COUNTIF(K13:K134,\"Select Instrument\")=0,\"\",COUNTIF(K13:K134,\"Select Instrument\"))","v":""},{"$f":"IF(COUNTIF(L13:L134,\"Select Country\")=0,\"\",COUNTIF(L13:L134,\"Select Country\"))","v":""},{"$f":"IF(COUNTIF(M13:M134,\"Select Sector\")=0,\"\",COUNTIF(M13:M134,\"Select Sector\"))","v":""},{"$f":"IF(COUNTIF(N13:N134,\"Input Values\")=0,\"\",COUNTIF(N13:N134,\"Input Values\"))","v":""}]
[1,"Instrument",null,"Country of issuer","Sector of Issuer","Position at Beginning of  Period","Increase due to  Transactions "," Decrease due to  Transactions ","Other Changes","Position at End of Period ",{"$f":"IF(K10=\"\",\"\",\"Select Instrument Error\")","v":""},{"$f":"IF(L10=\"\",\"\",\"Select Country Error\")","v":""},{"$f":"IF(M10=\"\",\"\",\"Select Sector Error\")","v":""},{"$f":"IF(N10=\"\",\"\",\"Input values Error\")","v":""}]
[1,"Select instrument from dropdown list",null,"Select country","Select sector","EUR '000","EUR '000","EUR '000","EUR '000","EUR '000"]
[{"$f":"IF(AND(ISBLANK(B13)=TRUE,ISBLANK(D13)=TRUE,ISBLANK(E13)=TRUE,ISBLANK(F13)=TRUE,ISBLANK(G13)=TRUE,ISBLANK(H13)=TRUE,ISBLANK(J13)=TRUE),0,1)","v":0},null,null,null,null,null,null,null,{"$f":"+J13-F13-G13+H13","v":0},null,{"$f":"IF(AND(A13=1,B13=\"\"),\"Select Instrument\",\"\")","v":""},{"$f":"IF(AND(A13=1,D13=\"\"),\"Select Country\",\"\")","v":""},{"$f":"IF(AND(A13=1,E13=\"\"),\"Select Sector\",\"\")","v":""},{"$f":"IF(AND(A13=1,AND(F13=\"\",G13=\"\",H13=\"\",J13=\"\")),\"Input Values\",\"\")","v":""}]
[0,null,null,null,null,null,null,null,0,null,"","","",""]
[0,null,null,null,null,null,null,null,0,null,"","","",""]
[0,null,null,null,null,null,null,null,0,null,"","","",""]
[0,null,null,null,null,null,null,null,0,null,"","","",""]
[0,null,null,null,null,null,null,null,0,null,"","","",""]
[0,null,null,null,null,null,null,null,0,null,"","","",""]
[0,null,null,null,null,null,null,null,0,null,"","","",""]
[0,null,null,null,null,null,null,null,0,null,"","","",""]
[0,null,null,null,null,null,null,null,0,null,"","","",""]
[0,null,null,null,null,null,null,null,0,null,"","","",""]
[0,null,null,null,null,null,null,null,0,null,"","","",""]
[0,null,null,null,null,null,null,null,0,null,"","","",""]
[0,null,null,null,null,null,null,null,0,null,"","","",""]
[0,null,null,null,null,null,null,null,0,null,"","","",""]
[0,null,null,null,null,null,null,null,0,null,"","","",""]
[0,null,null,null,null,null,null,null,0,null,"","","",""]
[0,null,null,null,null,null,null,null,0,null,"","","",""]
[0,null,null,null,null,null,null,null,0,null,"","","",""]
[0,null,null,null,null,null,null,null,0,null,"","","",""]
[0,null,null,null,null,null,null,null,0,null,"","","",""]
[0,null,null,null,null,null,null,null,0,null,"","","",""]
[0,null,null,null,null,null,null,null,0,null,"","","",""]
[0,null,null,null,null,null,null,null,0,null,"","","",""]
[0,null,null,null,null,null,null,null,0,null,"","","",""]
[0,null,null,null,null,null,null,null,0,null,"","","",""]
[0,null,null,null,null,null,null,null,0,null,"","","",""]
[0,null,null,null,null,null,null,null,0,null,"","","",""]
[0,null,null,null,null,null,null,null,0,null,"","","",""]
[0,null,null,null,null,null,null,null,0,null,"","","",""]
[0,null,null,null,null,null,null,null,0,null,"","","",""]
[0,null,null,null,null,null,null,null,0,null,"","","",""]
[0,null,null,null,null,null,null,null,0,null,"","","",""]
[0,null,null,null,null,null,null,null,0,null,"","","",""]
[0,null,null,null,null,null,null,null,0,null,"","","",""]
[0,null,null,null,null,null,null,null,0,null,"","","",""]
[0,null,null,null,null,null,null,null,0,null,"","","",""]
[0,null,null,null,null,null,null,null,0,null,"","","",""]
[0,null,null,null,null,null,null,null,0,null,"","","",""]
[0,null,null,null,null,null,null,null,0,null,"","","",""]
[0,null,null,null,null,null,null,null,0,null,"","","",""]
[0,null,null,null,null,null,null,null,0,null,"","","",""]
[0,null,null,null,null,null,null,null,0,null,"","","",""]
[0,null,null,null,null,null,null,null,0,null,"","","",""]
[0,null,null,null,null,null,null,null,0,null,"","","",""]
[0,null,null,null,null,null,null,null,0,null,"","","",""]
[0,null,null,null,null,null,null,null,0,null,"","","",""]
[0,null,null,null,null,null,null,null,0,null,"","","",""]
[0,null,null,null,null,null,null,null,0,null,"","","",""]
[1]
[1,"Other foreign assets held on behalf of nominee resident Households"]
[1,"Instrument",null,"Country of issuer",null,"Position at Beginning of  Period","Increase due to  Transactions "," Decrease due to  Transactions ","Other Changes","Position at End of Period "]
[1,"Please specify instrument",null,"Select country",null,"EUR '000","EUR '000","EUR '000","EUR '000","EUR '000"]
[{"$f":"IF(AND(ISBLANK(B66)=TRUE,ISBLANK(D66)=TRUE,ISBLANK(E66)=TRUE,ISBLANK(F66)=TRUE,ISBLANK(G66)=TRUE,ISBLANK(H66)=TRUE,ISBLANK(J66)=TRUE),0,1)","v":0},null,null,null,null,null,null,null,{"$f":"+J66-F66-G66+H66","v":0},null,{"$f":"IF(AND(A66=1,B66=\"\"),\"Select Instrument\",\"\")","v":""},{"$f":"IF(AND(A66=1,D66=\"\"),\"Select Country\",\"\")","v":""},null,{"$f":"IF(AND(A66=1,AND(F66=\"\",G66=\"\",H66=\"\",J66=\"\")),\"Input Values\",\"\")","v":""}]
[0,null,null,null,null,null,null,null,0,null,"","",null,""]
[0,null,null,null,null,null,null,null,0,null,"","",null,""]
[0,null,null,null,null,null,null,null,0,null,"","",null,""]
[0,null,null,null,null,null,null,null,0,null,"","",null,""]
[0,null,null,null,null,null,null,null,0,null,"","",null,""]
[0,null,null,null,null,null,null,null,0,null,"","",null,""]
[0,null,null,null,null,null,null,null,0,null,"","",null,""]
[0,null,null,null,null,null,null,null,0,null,"","",null,""]
[0,null,null,null,null,null,null,null,0,null,"","",null,""]
[1]
[1]
[1,"NOMINEES - RESIDENT NON-FINANCIAL COMPANIES"]
[1,"Instrument",null,"Country of issuer","Sector of Issuer","Position at Beginning of  Period","Increase due to  Transactions "," Decrease due to  Transactions ","Other Changes","Position at End of Period "]
[1,"Select instrument from dropdown list",null,"Select country","Select sector","EUR '000","EUR '000","EUR '000","EUR '000","EUR '000"]
[{"$f":"IF(AND(ISBLANK(B81)=TRUE,ISBLANK(D81)=TRUE,ISBLANK(E81)=TRUE,ISBLANK(F81)=TRUE,ISBLANK(G81)=TRUE,ISBLANK(H81)=TRUE,ISBLANK(J81)=TRUE),0,1)","v":0},null,null,null,null,null,null,null,{"$f":"+J81-F81-G81+H81","v":0},null,{"$f":"IF(AND(A81=1,B81=\"\"),\"Select Instrument\",\"\")","v":""},{"$f":"IF(AND(A81=1,D81=\"\"),\"Select Country\",\"\")","v":""},{"$f":"IF(AND(A81=1,E81=\"\"),\"Select Sector\",\"\")","v":""},{"$f":"IF(AND(A81=1,AND(F81=\"\",G81=\"\",H81=\"\",J81=\"\")),\"Input Values\",\"\")","v":""}]
[0,null,null,null,null,null,null,null,0,null,"","","",""]
[0,null,null,null,null,null,null,null,0,null,"","","",""]
[0,null,null,null,null,null,null,null,0,null,"","","",""]
[0,null,null,null,null,null,null,null,0,null,"","","",""]
[0,null,null,null,null,null,null,null,0,null,"","","",""]
[0,null,null,null,null,null,null,null,0,null,"","","",""]
[0,null,null,null,null,null,null,null,0,null,"","","",""]
[0,null,null,null,null,null,null,null,0,null,"","","",""]
[0,null,null,null,null,null,null,null,0,null,"","","",""]
[0,null,null,null,null,null,null,null,0,null,"","","",""]
[0,null,null,null,null,null,null,null,0,null,"","","",""]
[0,null,null,null,null,null,null,null,0,null,"","","",""]
[0,null,null,null,null,null,null,null,0,null,"","","",""]
[0,null,null,null,null,null,null,null,0,null,"","","",""]
[0,null,null,null,null,null,null,null,0,null,"","","",""]
[0,null,null,null,null,null,null,null,0,null,"","","",""]
[0,null,null,null,null,null,null,null,0,null,"","","",""]
[0,null,null,null,null,null,null,null,0,null,"","","",""]
[0,null,null,null,null,null,null,null,0,null,"","","",""]
[0,null,null,null,null,null,null,null,0,null,"","","",""]
[0,null,null,null,null,null,null,null,0,null,"","","",""]
[0,null,null,null,null,null,null,null,0,null,"","","",""]
[0,null,null,null,null,null,null,null,0,null,"","","",""]
[0,null,null,null,null,null,null,null,0,null,"","","",""]
[0,null,null,null,null,null,null,null,0,null,"","","",""]
[0,null,null,null,null,null,null,null,0,null,"","","",""]
[0,null,null,null,null,null,null,null,0,null,"","","",""]
[0,null,null,null,null,null,null,null,0,null,"","","",""]
[0,null,null,null,null,null,null,null,0,null,"","","",""]
[0,null,null,null,null,null,null,null,0,null,"","","",""]
[0,null,null,null,null,null,null,null,0,null,"","","",""]
[0,null,null,null,null,null,null,null,0,null,"","","",""]
[0,null,null,null,null,null,null,null,0,null,"","","",""]
[0,null,null,null,null,null,null,null,0,null,"","","",""]
[0,null,null,null,null,null,null,null,0,null,"","","",""]
[0,null,null,null,null,null,null,null,0,null,"","","",""]
[0,null,null,null,null,null,null,null,0,null,"","","",""]
[0,null,null,null,null,null,null,null,0,null,"","","",""]
[0,null,null,null,null,null,null,null,0,null,"","","",""]
[1]
[1,"Other foreign assets held on behalf of nominee resident Non-Financial Companies"]
[1,"Instrument",null,"Country of issuer",null,"Position at Beginning of  Period","Increase due to  Transactions "," Decrease due to  Transactions ","Other Changes","Position at End of Period "]
[1,"Please specify instrument",null,"Select country",null,"EUR '000","EUR '000","EUR '000","EUR '000","EUR '000"]
[{"$f":"IF(AND(ISBLANK(B125)=TRUE,ISBLANK(D125)=TRUE,ISBLANK(E125)=TRUE,ISBLANK(F125)=TRUE,ISBLANK(G125)=TRUE,ISBLANK(H125)=TRUE,ISBLANK(J125)=TRUE),0,1)","v":0},null,null,null,null,null,null,null,{"$f":"+J125-F125-G125+H125","v":0},null,{"$f":"IF(AND(A125=1,B125=\"\"),\"Select Instrument\",\"\")","v":""},{"$f":"IF(AND(A125=1,D125=\"\"),\"Select Country\",\"\")","v":""},null,{"$f":"IF(AND(A125=1,AND(F125=\"\",G125=\"\",H125=\"\",J125=\"\")),\"Input Values\",\"\")","v":""}]
[0,null,null,null,null,null,null,null,0,null,"","",null,""]
[0,null,null,null,null,null,null,null,0,null,"","",null,""]
[0,null,null,null,null,null,null,null,0,null,"","",null,""]
[0,null,null,null,null,null,null,null,0,null,"","",null,""]
[0,null,null,null,null,null,null,null,0,null,"","",null,""]
[0,null,null,null,null,null,null,null,0,null,"","",null,""]
[0,null,null,null,null,null,null,null,0,null,"","",null,""]
[0,null,null,null,null,null,null,null,0,null,"","",null,""]
[1]
[2]
[2]
[2]
[2]
[2]
[2]
[2]
[2]
[2]
[2]
[2]
[2]
[2]
[2]
[2]
[2]
[2,"Investment fund shares/units acquired/sold by Residents of Malta",2729,"Anguilla","AI","Banks","BNK"]
[2,"Shares & Other Equities acquired/sold by Residents of Malta",1111,"Argentina","AR","Government","GOV"]
[2,"Debt Securities acquired/sold by Residents of Malta",1112,"Antigua and Barbuda","AG","Others","OTH"]
[2,null,null,"Aruba","AW"]
[2,null,null,"Australia","AU"]
[2,null,null,"Austria","AT"]
[2,null,null,"Bahamas","BS"]
[2,null,null,"Barbados","BB"]
[2,null,null,"Belgium","BE"]
[2,null,null,"Belize","BZ"]
[2,null,null,"Bermuda","BM"]
[2,null,null,"Brazil","BR"]
[2,null,null,"Bulgaria","BG"]
[2,null,null,"Canada","CA"]
[2,null,null,"Cayman Islands","KY"]
[2,null,null,"Chile","CL"]
[2,null,null,"China","CN"]
[2,null,null,"Croatia","HR"]
[2,null,null,"Cyprus","CY"]
[2,null,null,"Czech Republic","C Z"]
[2,null,null,"Denmark","DK"]
[2,null,null,"Egypt","EG"]
[2,null,null,"Estonia","EE"]
[2,null,null,"European Institutions","4A"]
[2,null,null,"Finland","FI"]
[2,null,null,"France","FR"]
[2,null,null,"Germany","DE"]
[2,null,null,"Gibraltar","GI"]
[2,null,null,"Greece","GR"]
[2,null,null,"Guernsey","GG"]
[2,null,null,"Hong Kong","HK"]
[2,null,null,"Hungary","HU"]
[2,null,null,"Iceland","IS"]
[2,null,null,"India","IN"]
[2,null,null,"Indonesia","ID"]
[2,null,null,"International Organisations","1A"]
[2,null,null,"Ireland","IE"]
[2,null,null,"Isle of Man","IM"]
[2,null,null,"Israel","IL"]
[2,null,null,"Italy","IT"]
[2,null,null,"Japan","JP"]
[2,null,null,"Jersey","JE"]
[2,null,null,"Latvia","LV"]
[2,null,null,"Liechtenstein","LI"]
[2,null,null,"Lithuania","LT"]
[2,null,null,"Luxembourg","LU"]
[2,null,null,"Macedonia, the former Yugoslav Republic of","MK"]
[2,null,null,"Malaysia","MY"]
[2,null,null,"Malta","MT"]
[2,null,null,"Mexico","MX"]
[2,null,null,"Morocco","MA"]
[2,null,null,"Netherlands","NL"]
[2,null,null,"New Zealand","NZ"]
[2,null,null,"Nigeria","NG"]
[2,null,null,"Norway","NO"]
[2,null,null,"Other euro area countries","I6"]
[2,null,null,"Other non-euro area EU countries","J6"]
[2,null,null,"Other Offshore Financial Centres","C4"]
[2,null,null,"Philippines","PH"]
[2,null,null,"Poland","PL"]
[2,null,null,"Portugal","PT"]
[2,null,null,"Rest of the world","Z9"]
[2,null,null,"Romania","RO"]
[2,null,null,"Russia","RU"]
[2,null,null,"Serbia","RS"]
[2,null,null,"Singapore","SG"]
[2,null,null,"Slovakia","SK"]
[2,null,null,"Slovenia","SI"]
[2,null,null,"South Africa","ZA"]
[2,null,null,"South Korea","KR"]
[2,null,null,"Spain","ES"]
[2,null,null,"Sweden","SE"]
[2,null,null,"Switzerland","CH"]
[2,null,null,"Taiwan","TW"]
[2,null,null,"Thailand","TH"]
[2,null,null,"Turkey","TR"]
[2,null,null,"United Kingdom","GB"]
[2,null,null,"United States","US"]
[2,null,null,"Uruguay","UY"]
[2,null,null,"Venezuela","VE"]
[2,null,null,"Virgin Islands British","VG"]
[2,null,null,"Virgin Islands US, ","VI"]
[2]
[2]
[2]
[2]
[2]
[2]
[2]
[2]
[2]
[2]
[2]
[2]
[2]
[2]
[2]
[2]
[2]
[2]

{"sheet":"Non-Resident_Nominee","index":22,"n_rows":250,"n_cols":14,"rows_kept":250,"cut":false,"hidden":true,"merged":[[17,1,17,2],[1,1,1,9],[4,1,4,9],[5,2,5,6],[9,1,9,9],[10,1,10,2],[11,1,11,2],[12,1,12,2],[13,1,13,2],[14,1,14,2],[15,1,15,2],[16,1,16,2],[29,1,29,2],[18,1,18,2],[19,1,19,2],[20,1,20,2],[21,1,21,2],[22,1,22,2],[23,1,23,2],[24,1,24,2],[25,1,25,2],[26,1,26,2],[27,1,27,2],[28,1,28,2],[41,1,41,2],[30,1,30,2],[31,1,31,2],[32,1,32,2],[33,1,33,2],[34,1,34,2],[35,1,35,2],[36,1,36,2],[37,1,37,2],[38,1,38,2],[39,1,39,2],[40,1,40,2],[53,1,53,9],[42,1,42,2],[43,1,43,2],[44,1,44,2],[45,1,45,2],[46,1,46,2],[47,1,47,2],[48,1,48,2],[49,1,49,2],[50,1,50,2],[51,1,51,2],[52,1,52,9],[65,1,65,2],[54,1,54,2],[55,1,55,2],[56,1,56,2],[57,1,57,2],[58,1,58,2],[59,1,59,2],[60,1,60,2],[61,1,61,2],[62,1,62,2],[63,1,63,2],[64,1,64,2]]}
["A"]
[1,"NOMINEE BUSINESS OF NON-RESIDENT CLIENTS"]
[0]
[2]
[1,"DOMESTIC ASSETS HELD ON BEHALF OF NON-RESIDENTS "]
[1,"Company Name:",{"$f":"IF((Validation_Checks_CBM!E6=\"\"),\"\",Validation_Checks_CBM!E6)","v":0}]
[1]
[1,"Reporting Period:",{"$f":"IF(OR(Validation_Checks_CBM!E8=\"\",Validation_Checks_CBM!E8=\"Select Year\",Validation_Checks_CBM!E9=\"\",Validation_Checks_CBM!E10=\"\",Validation_Checks_CBM!E10=\"Select Month\"),\"\",Validation_Checks_CBM!E12)","v":""},null,null,{"$f":"IF(OR(K10<>\"\",L10<>\"\",M10<>\"\",N10<>\"\"),\"Incomplete data - amend as necessary\",\"\")","v":""}]
[1]
[1,"NOMINEES - NON-RESIDENTS",null,null,null,null,null,null,null,null,{"$f":"IF(COUNTIF(K13:K67,\"Select Instrument\")=0,\"\",COUNTIF(K13:K67,\"Select Instrument\"))","v":""},{"$f":"IF(COUNTIF(L13:L67,\"Select Country\")=0,\"\",COUNTIF(L13:L67,\"Select Country\"))","v":""},{"$f":"IF(COUNTIF(M13:M67,\"Select Sector\")=0,\"\",COUNTIF(M13:M67,\"Select Sector\"))","v":""},{"$f":"IF(COUNTIF(N13:N67,\"Input Values\")=0,\"\",COUNTIF(N13:N67,\"Input Values\"))","v":""}]
[1,"Instrument",null,"Country of non-resident asset holder","Sector of Issuer","Position at Beginning of  Period","Increase due to  Transactions "," Decrease due to  Transactions ","Other Changes","Position at End of Period ",{"$f":"IF(K10=\"\",\"\",\"Select Instrument Error\")","v":""},{"$f":"IF(L10=\"\",\"\",\"Select Country Error\")","v":""},{"$f":"IF(M10=\"\",\"\",\"Select Sector Error\")","v":""},{"$f":"IF(N10=\"\",\"\",\"Input values Error\")","v":""}]
[1,"Select instrument from dropdown list",null,"Select country","Select sector","EUR '000","EUR '000","EUR '000","EUR '000","EUR '000"]
[{"$f":"IF(AND(ISBLANK(B13)=TRUE,ISBLANK(D13)=TRUE,ISBLANK(E13)=TRUE,ISBLANK(F13)=TRUE,ISBLANK(G13)=TRUE,ISBLANK(H13)=TRUE,ISBLANK(J13)=TRUE),0,1)","v":0},null,null,null,null,null,null,null,{"$f":"+J13-F13-G13+H13","v":0},null,{"$f":"IF(AND(A13=1,B13=\"\"),\"Select Instrument\",\"\")","v":""},{"$f":"IF(AND(A13=1,D13=\"\"),\"Select Country\",\"\")","v":""},{"$f":"IF(AND(A13=1,E13=\"\"),\"Select Sector\",\"\")","v":""},{"$f":"IF(AND(A13=1,AND(F13=\"\",G13=\"\",H13=\"\",J13=\"\")),\"Input Values\",\"\")","v":""}]
[0,null,null,null,null,null,null,null,0,null,"","","",""]
[0,null,null,null,null,null,null,null,0,null,"","","",""]
[0,null,null,null,null,null,null,null,0,null,"","","",""]
[0,null,null,null,null,null,null,null,0,null,"","","",""]
[0,null,null,null,null,null,null,null,0,null,"","","",""]
[0,null,null,null,null,null,null,null,0,null,"","","",""]
[0,null,null,null,null,null,null,null,0,null,"","","",""]
[0,null,null,null,null,null,null,null,0,null,"","","",""]
[0,null,null,null,null,null,null,null,0,null,"","","",""]
[0,null,null,null,null,null,null,null,0,null,"","","",""]
[0,null,null,null,null,null,null,null,0,null,"","","",""]
[0,null,null,null,null,null,null,null,0,null,"","","",""]
[0,null,null,null,null,null,null,null,0,null,"","","",""]
[0,null,null,null,null,null,null,null,0,null,"","","",""]
[0,null,null,null,null,null,null,null,0,null,"","","",""]
[0,null,null,null,null,null,null,null,0,null,"","","",""]
[0,null,null,null,null,null,null,null,0,null,"","","",""]
[0,null,null,null,null,null,null,null,0,null,"","","",""]
[0,null,null,null,null,null,null,null,0,null,"","","",""]
[0,null,null,null,null,null,null,null,0,null,"","","",""]
[0,null,null,null,null,null,null,null,0,null,"","","",""]
[0,null,null,null,null,null,null,null,0,null,"","","",""]
[0,null,null,null,null,null,null,null,0,null,"","","",""]
[0,null,null,null,null,null,null,null,0,null,"","","",""]
[0,null,null,null,null,null,null,null,0,null,"","","",""]
[0,null,null,null,null,null,null,null,0,null,"","","",""]
[0,null,null,null,null,null,null,null,0,null,"","","",""]
[0,null,null,null,null,null,null,null,0,null,"","","",""]
[0,null,null,null,null,null,null,null,0,null,"","","",""]
[0,null,null,null,null,null,null,null,0,null,"","","",""]
[0,null,null,null,null,null,null,null,0,null,"","","",""]
[0,null,null,null,null,null,null,null,0,null,"","","",""]
[0,null,null,null,null,null,null,null,0,null,"","","",""]
[0,null,null,null,null,null,null,null,0,null,"","","",""]
[0,null,null,null,null,null,null,null,0,null,"","","",""]
[0,null,null,null,null,null,null,null,0,null,"","","",""]
[0,null,null,null,null,null,null,null,0,null,"","","",""]
[0,null,null,null,null,null,null,null,0,null,"","","",""]
[0,null,null,null,null,null,null,null,0,null,"","","",""]
[1]
[1,"Other domestic assets held on behalf of nominee non-residents"]
[1,"Instrument",null,"Country of non-resident asset holder",null,"Position at Beginning of  Period","Increase due to  Transactions "," Decrease due to  Transactions ","Other Changes","Position at End of Period "]
[1,"Please specify instrument",null,"Select country",null,"EUR '000","EUR '000","EUR '000","EUR '000","EUR '000"]
[{"$f":"IF(AND(ISBLANK(B57)=TRUE,ISBLANK(D57)=TRUE,ISBLANK(E57)=TRUE,ISBLANK(F57)=TRUE,ISBLANK(G57)=TRUE,ISBLANK(H57)=TRUE,ISBLANK(J57)=TRUE),0,1)","v":0},null,null,null,null,null,null,null,{"$f":"+J57-F57-G57+H57","v":0},null,{"$f":"IF(AND(A57=1,B57=\"\"),\"Select Instrument\",\"\")","v":""},{"$f":"IF(AND(A57=1,D57=\"\"),\"Select Country\",\"\")","v":""},null,{"$f":"IF(AND(A57=1,AND(F57=\"\",G57=\"\",H57=\"\",J57=\"\")),\"Input Values\",\"\")","v":""}]
[0,null,null,null,null,null,null,null,0,null,"","",null,""]
[0,null,null,null,null,null,null,null,0,null,"","",null,""]
[0,null,null,null,null,null,null,null,0,null,"","",null,""]
[0,null,null,null,null,null,null,null,0,null,"","",null,""]
[0,null,null,null,null,null,null,null,0,null,"","",null,""]
[0,null,null,null,null,null,null,null,0,null,"","",null,""]
[0,null,null,null,null,null,null,null,0,null,"","",null,""]
[0,null,null,null,null,null,null,null,0,null,"","",null,""]
[0,null,null,null,null,null,null,null,0,null,"","",null,""]
[1]
[2]
[2]
[2]
[2]
[2]
[2]
[2]
[2]
[2]
[2]
[2]
[2]
[2]
[2]
[2]
[2]
[2]
[2]
[2]
[2]
[2]
[2]
[2]
[2]
[2]
[2]
[2]
[2]
[2]
[2]
[2]
[2]
[2]
[2]
[2]
[2]
[2]
[2]
[2]
[2]
[2]
[2]
[2]
[2]
[2]
[2]
[2]
[2]
[2]
[2]
[2]
[2]
[2]
[2]
[2]
[2]
[2]
[2]
[2]
[2]
[2]
[2]
[2]
[2]
[2]
[2]
[2]
[2]
[2]
[2]
[2]
[2]
[2]
[2]
[2]
[2]
[2]
[2]
[2]
[2]
[2]
[2]
[2]
[2,"Investment fund shares/units acquired/sold by Residents of Malta",2729,"Anguilla","AI","Banks","BNK"]
[2,"Shares & Other Equities acquired/sold by Residents of Malta",1111,"Argentina","AR","Government","GOV"]
[2,"Debt Securities acquired/sold by Residents of Malta",1112,"Antigua and Barbuda","AG","Others","OTH"]
[2,null,null,"Aruba","AW"]
[2,null,null,"Australia","AU"]
[2,null,null,"Austria","AT"]
[2,null,null,"Bahamas","BS"]
[2,null,null,"Barbados","BB"]
[2,null,null,"Belgium","BE"]
[2,null,null,"Belize","BZ"]
[2,null,null,"Bermuda","BM"]
[2,null,null,"Brazil","BR"]
[2,null,null,"Bulgaria","BG"]
[2,null,null,"Canada","CA"]
[2,null,null,"Cayman Islands","KY"]
[2,null,null,"Chile","CL"]
[2,null,null,"China","CN"]
[2,null,null,"Croatia","HR"]
[2,null,null,"Cyprus","CY"]
[2,null,null,"Czech Republic","C Z"]
[2,null,null,"Denmark","DK"]
[2,null,null,"Egypt","EG"]
[2,null,null,"Estonia","EE"]
[2,null,null,"European Institutions","4A"]
[2,null,null,"Finland","FI"]
[2,null,null,"France","FR"]
[2,null,null,"Germany","DE"]
[2,null,null,"Gibraltar","GI"]
[2,null,null,"Greece","GR"]
[2,null,null,"Guernsey","GG"]
[2,null,null,"Hong Kong","HK"]
[2,null,null,"Hungary","HU"]
[2,null,null,"Iceland","IS"]
[2,null,null,"India","IN"]
[2,null,null,"Indonesia","ID"]
[2,null,null,"International Organisations","1A"]
[2,null,null,"Ireland","IE"]
[2,null,null,"Isle of Man","IM"]
[2,null,null,"Israel","IL"]
[2,null,null,"Italy","IT"]
[2,null,null,"Japan","JP"]
[2,null,null,"Jersey","JE"]
[2,null,null,"Latvia","LV"]
[2,null,null,"Liechtenstein","LI"]
[2,null,null,"Lithuania","LT"]
[2,null,null,"Luxembourg","LU"]
[2,null,null,"Macedonia, the former Yugoslav Republic of","MK"]
[2,null,null,"Malaysia","MY"]
[2,null,null,"Mexico","MX"]
[2,null,null,"Morocco","MA"]
[2,null,null,"Netherlands","NL"]
[2,null,null,"New Zealand","NZ"]
[2,null,null,"Nigeria","NG"]
[2,null,null,"Norway","NO"]
[2,null,null,"Other euro area countries","I6"]
[2,null,null,"Other non-euro area EU countries","J6"]
[2,null,null,"Other Offshore Financial Centres","C4"]
[2,null,null,"Philippines","PH"]
[2,null,null,"Poland","PL"]
[2,null,null,"Portugal","PT"]
[2,null,null,"Rest of the world","Z9"]
[2,null,null,"Romania","RO"]
[2,null,null,"Russia","RU"]
[2,null,null,"Serbia","RS"]
[2,null,null,"Singapore","SG"]
[2,null,null,"Slovakia","SK"]
[2,null,null,"Slovenia","SI"]
[2,null,null,"South Africa","ZA"]
[2,null,null,"South Korea","KR"]
[2,null,null,"Spain","ES"]
[2,null,null,"Sweden","SE"]
[2,null,null,"Switzerland","CH"]
[2,null,null,"Taiwan","TW"]
[2,null,null,"Thailand","TH"]
[2,null,null,"Turkey","TR"]
[2,null,null,"United Kingdom","GB"]
[2,null,null,"United States","US"]
[2,null,null,"Uruguay","UY"]
[2,null,null,"Venezuela","VE"]
[2,null,null,"Virgin Islands British","VG"]
[2,null,null,"Virgin Islands US, ","VI"]
[2]
[2]
[2]
[2]
[2]
[2]
[2]
[2]
[2]
[2]
[2]
[2]
[2]
[2]
[2]
[2]
[2]
[2]
[2]

{"sheet":"Non_Nominee","index":23,"n_rows":250,"n_cols":14,"rows_kept":250,"cut":false,"hidden":true,"merged":[[1,1,1,9],[4,1,4,9],[5,2,5,6],[9,1,9,8],[10,1,11,2],[10,3,11,3],[10,4,11,4],[10,5,10,8],[11,5,11,6],[11,7,11,8],[23,1,23,2],[12,1,12,2],[13,1,13,2],[14,1,14,2],[15,1,15,2],[16,1,16,2],[17,1,17,2],[18,1,18,2],[19,1,19,2],[20,1,20,2],[21,1,21,2],[22,1,22,2],[35,1,35,2],[24,1,24,2],[25,1,25,2],[26,1,26,2],[27,1,27,2],[28,1,28,2],[29,1,29,2],[30,1,30,2],[31,1,31,2],[32,1,32,2],[33,1,33,2],[34,1,34,2],[47,1,47,2],[36,1,36,2],[37,1,37,2],[38,1,38,2],[39,1,39,2],[40,1,40,2],[41,1,41,2],[42,1,42,2],[43,1,43,2],[44,1,44,2],[45,1,45,2],[46,1,46,2],[59,1,59,2],[48,1,48,2],[49,1,49,2],[50,1,50,2],[51,1,51,2],[52,1,52,2],[53,1,53,2],[54,1,54,2],[55,1,55,2],[56,1,56,2],[57,1,57,2],[58,1,58,2],[71,1,71,2],[60,1,60,2],[61,1,61,2],[62,1,62,2],[63,1,63,2],[64,1,64,2],[65,1,65,2],[66,1,66,2],[67,1,67,2],[68,1,68,2],[69,1,69,2],[70,1,70,2],[83,1,83,2],[72,1,72,2],[73,1,73,2],[74,1,74,8],[75,1,75,8],[76,1,77,2],[76,3,77,3],[76,5,76,8],[77,5,77,6],[77,7,77,8],[78,1,78,2],[79,1,79,2],[80,1,80,2],[81,1,81,2],[82,1,82,2],[90,1,90,8],[84,1,84,2],[85,1,85,2],[86,1,86,2],[87,1,87,2],[88,1,88,2],[89,1,89,2]]}
["A"]
[1,"NON-NOMINEE BUSINESS (RESIDENT HOUSEHOLDS & NON FINANCIAL COMPANY CLIENTS)"]
[0]
[2]
[1,"FINANCIAL ASSETS TRANSACTED ON BEHALF OF NON-NOMINEE HOUSEHOLDS & NON FINANCIAL COMPANIES NOT REPORTED ON SECURITY BY SECURITY BASIS "]
[1,"Company Name:",{"$f":"IF((Validation_Checks_CBM!E6=\"\"),\"\",Validation_Checks_CBM!E6)","v":0}]
[1]
[1,"Reporting Period:",{"$f":"IF(OR(Validation_Checks_CBM!E8=\"\",Validation_Checks_CBM!E8=\"Select Year\",Validation_Checks_CBM!E9=\"\",Validation_Checks_CBM!E10=\"\",Validation_Checks_CBM!E10=\"Select Month\"),\"\",Validation_Checks_CBM!E12)","v":""},null,null,{"$f":"IF(OR(K10<>\"\",L10<>\"\",M10<>\"\",N10<>\"\"),\"Incomplete data - amend as necessary\",\"\")","v":""}]
[1]
[1,"NON - NOMINEE",null,null,null,null,null,null,null,null,{"$f":"IF(COUNTIF(K13:K91,\"Select Instrument\")=0,\"\",COUNTIF(K13:K91,\"Select Instrument\"))","v":""},{"$f":"IF(COUNTIF(L13:L91,\"Select Country\")=0,\"\",COUNTIF(L13:L91,\"Select Country\"))","v":""},{"$f":"IF(COUNTIF(M13:M91,\"Select Sector\")=0,\"\",COUNTIF(M13:M91,\"Select Sector\"))","v":""},{"$f":"IF(COUNTIF(N13:N91,\"Input Values\")=0,\"\",COUNTIF(N13:N91,\"Input Values\"))","v":""}]
[1,"Instrument",null,"Country of issuer","Sector of Issuer","Type of Client",null,null,null,null,{"$f":"IF(K10=\"\",\"\",\"Select Instrument Error\")","v":""},{"$f":"IF(L10=\"\",\"\",\"Select Country Error\")","v":""},{"$f":"IF(M10=\"\",\"\",\"Select Sector Error\")","v":""},{"$f":"IF(N10=\"\",\"\",\"Input values Error\")","v":""}]
[1,null,null,null,null,"HOUSEHOLDS",null,"NON FINANCIAL COMPANIES"]
[1,null,null,null,null,"Purchases","Sales","Purchases","Sales"]
[1,"Select instrument from dropdown list",null,"Select country","Select sector","EUR '000","EUR '000","EUR '000","EUR '000"]
[{"$f":"IF(AND(ISBLANK(B15)=TRUE,ISBLANK(D15)=TRUE,ISBLANK(E15)=TRUE,ISBLANK(F15)=TRUE,ISBLANK(G15)=TRUE,ISBLANK(H15)=TRUE,ISBLANK(I15)=TRUE),0,1)","v":0},null,null,null,null,null,null,null,null,null,{"$f":"IF(AND(A15=1,B15=\"\"),\"Select Instrument\",\"\")","v":""},{"$f":"IF(AND(A15=1,D15=\"\"),\"Select Country\",\"\")","v":""},{"$f":"IF(AND(A15=1,E15=\"\"),\"Select Sector\",\"\")","v":""},{"$f":"IF(AND(A15=1,AND(F15=\"\",G15=\"\",H15=\"\",I15=\"\")),\"Input Values\",\"\")","v":""}]
[0,null,null,null,null,null,null,null,null,null,"","","",""]
[0,null,null,null,null,null,null,null,null,null,"","","",""]
[0,null,null,null,null,null,null,null,null,null,"","","",""]
[0,null,null,null,null,null,null,null,null,null,"","","",""]
[0,null,null,null,null,null,null,null,null,null,"","","",""]
[0,null,null,null,null,null,null,null,null,null,"","","",""]
[0,null,null,null,null,null,null,null,null,null,"","","",""]
[0,null,null,null,null,null,null,null,null,null,"","","",""]
[0,null,null,null,null,null,null,null,null,null,"","","",""]
[0,null,null,null,null,null,null,null,null,null,"","","",""]
[0,null,null,null,null,null,null,null,null,null,"","","",""]
[0,null,null,null,null,null,null,null,null,null,"","","",""]
[0,null,null,null,null,null,null,null,null,null,"","","",""]
[0,null,null,null,null,null,null,null,null,null,"","","",""]
[0,null,null,null,null,null,null,null,null,null,"","","",""]
[0,null,null,null,null,null,null,null,null,null,"","","",""]
[0,null,null,null,null,null,null,null,null,null,"","","",""]
[0,null,null,null,null,null,null,null,null,null,"","","",""]
[0,null,null,null,null,null,null,null,null,null,"","","",""]
[0,null,null,null,null,null,null,null,null,null,"","","",""]
[0,null,null,null,null,null,null,null,null,null,"","","",""]
[0,null,null,null,null,null,null,null,null,null,"","","",""]
[0,null,null,null,null,null,null,null,null,null,"","","",""]
[0,null,null,null,null,null,null,null,null,null,"","","",""]
[0,null,null,null,null,null,null,null,null,null,"","","",""]
[0,null,null,null,null,null,null,null,null,null,"","","",""]
[0,null,null,null,null,null,null,null,null,null,"","","",""]
[0,null,null,null,null,null,null,null,null,null,"","","",""]
[0,null,null,null,null,null,null,null,null,null,"","","",""]
[0,null,null,null,null,null,null,null,null,null,"","","",""]
[0,null,null,null,null,null,null,null,null,null,"","","",""]
[0,null,null,null,null,null,null,null,null,null,"","","",""]
[0,null,null,null,null,null,null,null,null,null,"","","",""]
[0,null,null,null,null,null,null,null,null,null,"","","",""]
[0,null,null,null,null,null,null,null,null,null,"","","",""]
[0,null,null,null,null,null,null,null,null,null,"","","",""]
[0,null,null,null,null,null,null,null,null,null,"","","",""]
[0,null,null,null,null,null,null,null,null,null,"","","",""]
[0,null,null,null,null,null,null,null,null,null,"","","",""]
[0,null,null,null,null,null,null,null,null,null,"","","",""]
[0,null,null,null,null,null,null,null,null,null,"","","",""]
[0,null,null,null,null,null,null,null,null,null,"","","",""]
[0,null,null,null,null,null,null,null,null,null,"","","",""]
[0,null,null,null,null,null,null,null,null,null,"","","",""]
[0,null,null,null,null,null,null,null,null,null,"","","",""]
[0,null,null,null,null,null,null,null,null,null,"","","",""]
[0,null,null,null,null,null,null,null,null,null,"","","",""]
[0,null,null,null,null,null,null,null,null,null,"","","",""]
[0,null,null,null,null,null,null,null,null,null,"","","",""]
[0,null,null,null,null,null,null,null,null,null,"","","",""]
[0,null,null,null,null,null,null,null,null,null,"","","",""]
[0,null,null,null,null,null,null,null,null,null,"","","",""]
[0,null,null,null,null,null,null,null,null,null,"","","",""]
[0,null,null,null,null,null,null,null,null,null,"","","",""]
[0,null,null,null,null,null,null,null,null,null,"","","",""]
[0,null,null,null,null,null,null,null,null,null,"","","",""]
[0,null,null,null,null,null,null,null,null,null,"","","",""]
[0,null,null,null,null,null,null,null,null,null,"","","",""]
[0,null,null,null,null,null,null,null,null,null,"","","",""]
[1]
[1,"Other foreign assets transacted on behalf of non-nominee resident Households & Non-Financial Companies"]
[1,"Instrument",null,"Country of issuer",null,"Type of Client",null,null,null,null,{"$f":"IF(K76=\"\",\"\",\"Select Instrument Error\")","v":""},{"$f":"IF(L76=\"\",\"\",\"Select Country Error\")","v":""},null,{"$f":"IF(N76=\"\",\"\",\"Input values Error\")","v":""}]
[1,null,null,null,null,"HOUSEHOLD",null,"NON FINANCIAL COMPANY"]
[1,null,null,null,null,"Purchases","Sales","Purchases","Sales"]
[1,"Please specify instrument",null,"Select country",null,"EUR '000","EUR '000","EUR '000","EUR '000"]
[{"$f":"IF(AND(ISBLANK(B81)=TRUE,ISBLANK(D81)=TRUE,ISBLANK(E81)=TRUE,ISBLANK(F81)=TRUE,ISBLANK(G81)=TRUE,ISBLANK(H81)=TRUE,ISBLANK(I81)=TRUE),0,1)","v":0},null,null,null,null,null,null,null,null,null,{"$f":"IF(AND(A81=1,B81=\"\"),\"Select Instrument\",\"\")","v":""},{"$f":"IF(AND(A81=1,D81=\"\"),\"Select Country\",\"\")","v":""},null,{"$f":"IF(AND(A81=1,AND(F81=\"\",G81=\"\",H81=\"\",I81=\"\")),\"Input Values\",\"\")","v":""}]
[0,null,null,null,null,null,null,null,null,null,"","",null,""]
[0,null,null,null,null,null,null,null,null,null,"","",null,""]
[0,null,null,null,null,null,null,null,null,null,"","",null,""]
[0,null,null,null,null,null,null,null,null,null,"","",null,""]
[0,null,null,null,null,null,null,null,null,null,"","",null,""]
[0,null,null,null,null,null,null,null,null,null,"","",null,""]
[0,null,null,null,null,null,null,null,null,null,"","",null,""]
[0,null,null,null,null,null,null,null,null,null,"","",null,""]
[0,null,null,null,null,null,null,null,null,null,"","",null,""]
[1]
[2]
[2]
[2]
[2]
[2]
[2]
[2]
[2]
[2]
[2]
[2]
[2]
[2]
[2]
[2]
[2]
[2]
[2]
[2]
[2]
[2]
[2]
[2]
[2]
[2]
[2]
[2]
[2]
[2]
[2]
[2]
[2]
[2]
[2]
[2]
[2]
[2]
[2]
[2]
[2]
[2]
[2]
[2]
[2]
[2]
[2]
[2]
[2]
[2]
[2]
[2]
[2]
[2]
[2]
[2]
[2]
[2]
[2]
[2]
[2,"Investment fund shares/units acquired/sold by Residents of Malta",2729,"Anguilla","AI","Banks","BNK"]
[2,"Shares & Other Equities acquired/sold by Residents of Malta",1111,"Argentina","AR","Government","GOV"]
[2,"Debt Securities acquired/sold by Residents of Malta",1112,"Antigua and Barbuda","AG","Others","OTH"]
[2,null,null,"Aruba","AW"]
[2,null,null,"Australia","AU"]
[2,null,null,"Austria","AT"]
[2,null,null,"Bahamas","BS"]
[2,null,null,"Barbados","BB"]
[2,null,null,"Belgium","BE"]
[2,null,null,"Belize","BZ"]
[2,null,null,"Bermuda","BM"]
[2,null,null,"Brazil","BR"]
[2,null,null,"Bulgaria","BG"]
[2,null,null,"Canada","CA"]
[2,null,null,"Cayman Islands","KY"]
[2,null,null,"Chile","CL"]
[2,null,null,"China","CN"]
[2,null,null,"Croatia","HR"]
[2,null,null,"Cyprus","CY"]
[2,null,null,"Czech Republic","C Z"]
[2,null,null,"Denmark","DK"]
[2,null,null,"Egypt","EG"]
[2,null,null,"Estonia","EE"]
[2,null,null,"European Institutions","4A"]
[2,null,null,"Finland","FI"]
[2,null,null,"France","FR"]
[2,null,null,"Germany","DE"]
[2,null,null,"Gibraltar","GI"]
[2,null,null,"Greece","GR"]
[2,null,null,"Guernsey","GG"]
[2,null,null,"Hong Kong","HK"]
[2,null,null,"Hungary","HU"]
[2,null,null,"Iceland","IS"]
[2,null,null,"India","IN"]
[2,null,null,"Indonesia","ID"]
[2,null,null,"International Organisations","1A"]
[2,null,null,"Ireland","IE"]
[2,null,null,"Isle of Man","IM"]
[2,null,null,"Israel","IL"]
[2,null,null,"Italy","IT"]
[2,null,null,"Japan","JP"]
[2,null,null,"Jersey","JE"]
[2,null,null,"Latvia","LV"]
[2,null,null,"Liechtenstein","LI"]
[2,null,null,"Lithuania","LT"]
[2,null,null,"Luxembourg","LU"]
[2,null,null,"Macedonia, the former Yugoslav Republic of","MK"]
[2,null,null,"Malaysia","MY"]
[2,null,null,"Malta","MT"]
[2,null,null,"Mexico","MX"]
[2,null,null,"Morocco","MA"]
[2,null,null,"Netherlands","NL"]
[2,null,null,"New Zealand","NZ"]
[2,null,null,"Nigeria","NG"]
[2,null,null,"Norway","NO"]
[2,null,null,"Other euro area countries","I6"]
[2,null,null,"Other non-euro area EU countries","J6"]
[2,null,null,"Other Offshore Financial Centres","C4"]
[2,null,null,"Philippines","PH"]
[2,null,null,"Poland","PL"]
[2,null,null,"Portugal","PT"]
[2,null,null,"Rest of the world","Z9"]
[2,null,null,"Romania","RO"]
[2,null,null,"Russia","RU"]
[2,null,null,"Serbia","RS"]
[2,null,null,"Singapore","SG"]
[2,null,null,"Slovakia","SK"]
[2,null,null,"Slovenia","SI"]
[2,null,null,"South Africa","ZA"]
[2,null,null,"South Korea","KR"]
[2,null,null,"Spain","ES"]
[2,null,null,"Sweden","SE"]
[2,null,null,"Switzerland","CH"]
[2,null,null,"Taiwan","TW"]
[2,null,null,"Thailand","TH"]
[2,null,null,"Turkey","TR"]
[2,null,null,"United Kingdom","GB"]
[2,null,null,"United States","US"]
[2,null,null,"Uruguay","UY"]
[2,null,null,"Venezuela","VE"]
[2,null,null,"Virgin Islands British","VG"]
[2,null,null,"Virgin Islands US, ","VI"]
[2]
[2]
[2]
[2]
[2]
[2]
[2]
[2]
[2]
[2]
[2]
[2]
[2]
[2]
[2]
[2]
[2]
[2]

{"sheet":"Transactions_for_period","index":24,"n_rows":17,"n_cols":16,"rows_kept":17,"cut":false,"hidden":true,"merged":[[16,1,16,3],[1,1,1,3],[3,2,3,3],[7,1,8,1],[7,2,8,2],[9,1,11,1],[12,1,14,1]]}
[]
[null,"Quarterly Net Transactions *"]
[]
[null,"Company Name:",{"$f":"IF((Validation_Checks_CBM!E6=\"\"),\"\",Validation_Checks_CBM!E6)","v":0},null,null,null,"M","Q","H","A","YEARLY COMPENSATION"]
[null,null,null,null,null,null,null,null,null,null,"M","Q","H","A"]
[null,"Reporting Period:",{"$f":"IF(OR(Validation_Checks_CBM!E8=\"\",Validation_Checks_CBM!E8=\"Select Year\",Validation_Checks_CBM!E9=\"\",Validation_Checks_CBM!E10=\"\",Validation_Checks_CBM!E10=\"Select Month\"),\"\",Validation_Checks_CBM!E12)","v":""},null,null,null,"1st January","31st March","30th June","31st December",0,0,0,0,null,2012]
[null,null,null,null,null,null,"1st February","30th April","31st July","31st January",0,0,0,1,null,2013]
[null,"Type of security","Asset holder","Net transactions",null,null,"1st March","31st May","31st August","28th February",0,0,0,1,null,2014]
[null,null,null,"Eur'000s",null,null,"1st .April","30th June","30th September","31st March",0,0,0,1,null,2015]
[null,"Debt Securities","Resident Households",null,null,null,null,"31st July","31st October","30th April",0,0,0,1,null,2016]
[null,null,"Resident Non-Financial Companies"]
[null,null,"Own Account",null,null,null,null,"30th September","31st December","30th June",0,0,0,1,null,2018]
[null,"Shares & Other Equities including Investment fund shares/units","Resident Households",null,null,null,null,"31st October","31st January","31st July",0,0,1,1,null,2019]
[null,null,"Resident Non-Financial Companies"]
[null,null,"Own Account",null,null,null,null,"31st December","31st March","30th September",0,0,1,1,null,2021]
[null,null,null,null,null,null,null,null,null,null,null,null,null,null,null,2025]
[null,"* This return is to be filled in only by those ISPs which report holdings on a Security by Security basis (Sheet 18)",null,null,null,null,null,null,null,null,null,null,null,null,null,"Select Year"]

{"sheet":"Sectoral_Balance_Sheet","index":25,"n_rows":70,"n_cols":17,"rows_kept":70,"cut":false,"hidden":true,"merged":[[11,14,13,14],[11,15,13,15],[2,2,2,16],[4,3,4,9],[6,3,6,5],[10,4,10,12],[10,13,10,15],[10,16,13,16],[11,4,13,4],[11,5,11,6],[11,7,11,8],[11,9,13,9],[57,4,57,5],[11,10,13,10],[11,11,13,11],[11,12,13,12],[11,13,13,13],[12,5,13,5],[12,6,13,6],[12,7,13,7],[12,8,13,8],[55,10,55,13],[59,4,59,5],[61,4,61,5],[63,4,63,5],[65,4,65,5],[69,2,69,3],[69,4,69,5],[67,2,67,3],[67,4,67,5]]}
[]
[]
[null,null,"SECTORAL BREAKDOWN OF ASSETS & LIABILITIES"]
[]
[null,null,"Company Name:",{"$f":"IF((Validation_Checks_CBM!E6=\"\"),\"\",Validation_Checks_CBM!E6)","v":0}]
[]
[null,null,"Balance Sheet As at: ",{"$f":"IF(OR(Validation_Checks_CBM!E8=\"\",Validation_Checks_CBM!E8=\"Select Year\",Validation_Checks_CBM!E9=\"\",Validation_Checks_CBM!E10=\"\",Validation_Checks_CBM!E10=\"Select Month\"),\"\",Validation_Checks_CBM!E12)","v":""}]
[]
[]
[]
[null,null,null,null,"Resident",null,null,null,null,null,null,null,null,"Non Residents",null,null,"Total"]
[null,null,null,null,"General Government","Monetary Financial Institutions",null,"Other Financial  Institutions including Auxiliaries",null,"Insurance Companies","Non Financial Companies ","Households & NPISH","Total Resident","Euro Area Residents","Rest of the World","Total Non Residents"]
[null,null,null,null,null,"Banks","Money Market Funds","Investment Funds","Others"]
[]
[null,null,null,null,"GenGov;","MFI;","MMF;","IF;","OTH;","ICPF;","NFC;","HH;","TOTRES;","EANRES;","ROW;","TOTNRES;","TOTAL;"]
[null,null,null,null,"General Government;","Banks;","Money Market Funds;","Investment Funds;","Others;","Insurance Companies;","Non Financial Companies;","Households & NPISH;","Total Resident;","Euro Area Residents;","Rest of the World;","Total Non Residents;","total;"]
[null,null,"Assets",null," Euro '000"," Euro '000"," Euro '000"," Euro '000"," Euro '000"," Euro '000"," Euro '000"," Euro '000"," Euro '000"," Euro '000"," Euro '000"," Euro '000"," Euro '000"]
["ISP_A_item1","Assets;1).Debt.Securities","1) Debt Securities",null,{"$f":"E19+E20","v":0},0,0,0,0,0,0,0,{"$f":"SUM(E18:L18)","v":0},{"$f":"N19+N20","v":0},{"$f":"O19+O20","v":0},{"$f":"SUM(N18:O18)","v":0},{"$f":"M18+P18","v":0}]
["ISP_A_item2","Assets;a).Long.term.(maturity.>.1.year)","a) Long term (maturity > 1 year)",null,null,null,null,null,null,null,null,null,0,null,null,0,0]
["ISP_A_item3","Assets;b).Short.term.(maturity.<.=.1.year)","b) Short term (maturity < = 1 year)",null,null,null,null,null,null,null,null,null,0,null,null,0,0]
["ISP_A_item4","Assets;2).Equity.and.investment.fund.shares","2) Equity and investment fund shares",null,{"$f":"E23+E24+E25+E27+E28+E29","v":0},{"$f":"F23+F24+F25+F27+F28+F29","v":0},0,0,0,0,0,0,0,{"$f":"N23+N24+N25+N27+N28+N29","v":0},{"$f":"O23+O24+O25+O27+O28+O29","v":0},0,0]
["ISP_A_item5","Assets;2.1).Listed","2.1) Listed",null,null,null,null,null,null,null,null,null,0,null,null,0,0]
["ISP_A_item6","Assets;a)..L.Equity","a) Equity",null,null,null,null,null,null,null,null,null,0,null,null,0,0]
["ISP_A_item7","Assets;b).Money.market.fund.(MMF).shares/units","b) Money market fund (MMF) shares/units",null,null,null,null,null,null,null,null,null,0,null,null,0,0]
["ISP_A_item8","Assets;c).Investment.fund.(excl..MMFs).shares/units","c) Investment fund (excl. MMFs) shares/units",null,null,null,null,null,null,null,null,null,0,null,null,0,0]
["ISP_A_item9","Assets;2.2).Unlisted","2.2) Unlisted",null,null,null,null,null,null,null,null,null,0,null,null,0,0]
["ISP_A_item10","Assets;a)..Equity","a) Equity",null,null,null,null,null,null,null,null,null,0,null,null,0,0]
["ISP_A_item11","Assets;b).Money.market.fund.(MMF).shares/units","b) Money market fund (MMF) shares/units",null,null,null,null,null,null,null,null,null,0,null,null,{"$f":"SUM(N28:O28)","v":0},{"$f":"M28+P28","v":0}]
["ISP_A_item12","Assets;c).Investment.fund.(excl..MMFs).shares/units","c) Investment fund (excl. MMFs) shares/units",null,null,null,null,null,null,null,null,null,{"$f":"SUM(E29:L29)","v":0},null,null,{"$f":"SUM(N29:O29)","v":0},{"$f":"M29+P29","v":0}]
["ISP_A_item13","Assets;3).Financial.derivatives","3) Financial derivatives",null,null,null,null,null,null,null,null,null,0,null,null,0,0]
["ISP_A_item14","Assets;4).Loans.","4) Loans ",null,{"$f":"E32+E33","v":0},0,0,0,0,0,0,0,0,{"$f":"N32+N33","v":0},{"$f":"O32+O33","v":0},0,0]
["ISP_A_item15","Assets;a)..Long.term.(maturity.>.1.year)","a) Long term (maturity > 1 year)",null,null,null,null,null,null,null,null,null,0,null,null,0,0]
["ISP_A_item16","Assets;b).Short.term.(maturity.<.=.1.year)","b) Short term (maturity < = 1 year)",null,null,null,null,null,null,null,null,null,0,null,null,0,0]
["ISP_A_item17","Assets;5).Deposits.and.cash.balances","5) Deposits and cash balances",null,null,null,null,null,null,null,null,null,0,null,null,0,0]
["ISP_A_item18","Assets;6).Trade.Credits,.Advances.and.Other.Receivables","6) Trade Credits, Advances and Other Receivables",null,null,null,null,null,null,null,null,null,0,null,null,0,0]
["ISP_A_item19","Assets;7).Land.and.buildings","7) Land and buildings",null,null,null,null,null,null,null,null,null,null,null,null,0,0]
["ISP_A_item20","Assets;8).Other.Fixed.Assets","8) Other Fixed/Non-Financial Assets"]
["ISP_A_item21","Assets;9).Other.assets.not.specified.elsewhere","9) Other assets not specified elsewhere",null,null,null,null,null,null,null,null,null,{"$f":"SUM(E38:L38)","v":0},null,null,{"$f":"SUM(N38:O38)","v":0},{"$f":"M38+P38","v":0}]
["ISP_A_item22","Assets;Total.Assets","Total Assets",null,{"$f":"E18+E21+E30+E31+E34+E35+E36+E37+E38","v":0},0,0,0,0,0,0,0,{"$f":"SUM(E39:L39)","v":0},{"$f":"N18+N21+N30+N31+N34+N35+N36+N37+N38","v":0},{"$f":"O18+O21+O30+O31+O34+O35+O36+O37+O38","v":0},{"$f":"SUM(N39:O39)","v":0},{"$f":"M39+P39+Q37","v":0}]
[null,""]
[null,"","Liabilities",null," Euro '000"," Euro '000"," Euro '000"," Euro '000"," Euro '000"," Euro '000"," Euro '000"," Euro '000"," Euro '000"," Euro '000"," Euro '000"," Euro '000"," Euro '000"]
["ISP_L_item17","Assets;10).Debt.securities.issued","10) Debt securities issued",null,null,null,null,null,null,null,null,null,{"$f":"SUM(E42:L42)","v":0},null,null,{"$f":"SUM(N42:O42)","v":0},{"$f":"M42+P42","v":0}]
["ISP_L_item18","Assets;11)Financial.Derivatives","11) Financial Derivatives",null,null,null,null,null,null,null,null,null,0,null,null,0,0]
["ISP_L_item19","Assets;12).Trade.Credits,.Advances.and.Other.Payables","12) Trade Credits & Other Payables",null,null,null,null,null,null,null,null,null,0,null,null,0,0]
["ISP_L_item20","Assets;13).Loans:.","13) Loans: ",null,{"$f":"E46+E47","v":0},0,0,0,0,0,0,0,0,{"$f":"N46+N47","v":0},{"$f":"O46+O47","v":0},0,0]
["ISP_L_item21","Assets;a)..Long.term.(maturity.>.1.year)","a) Long term (maturity > 1 year)",null,null,null,null,null,null,null,null,null,0,null,null,0,0]
["ISP_L_item22","Assets;b).Short.term.(maturity.<.=.1.year)","b) Short term (maturity < = 1 year)",null,null,null,null,null,null,null,null,null,0,null,null,0,0]
["ISP_L_item23","Assets;14).Other.Liabilities.not.specified.elsewhere","14) Other Liabilities not specified elsewhere",null,null,null,null,null,null,null,null,null,0,null,null,0,0]
["ISP_L_item24","Assets;Total.Liabilities","Total Liabilities",null,{"$f":"E42+E43+E44+E45+E48","v":0},0,0,0,0,0,0,0,0,{"$f":"N42+N43+N44+N45+N48","v":0},{"$f":"O42+O43+O44+O45+O48","v":0},0,0]
[null,""]
[null,"Assets;Capital.&.Reserves","Capital & Reserves",null," Euro '000"," Euro '000"," Euro '000"," Euro '000"," Euro '000"," Euro '000"," Euro '000"," Euro '000"," Euro '000"," Euro '000"," Euro '000"," Euro '000"," Euro '000"]
["ISP_L_item25","Assets;15).Called.up.share.capital.","15) Called up share capital ",null,0,null,null,null,null,null,null,null,{"$f":"SUM(E52:L52)","v":0},null,null,{"$f":"SUM(N52:O52)","v":0},{"$f":"M52+P52","v":0}]
["ISP_L_item26","Assets;16).Reserves","16) Reserves",null,{"$f":"IFERROR((E52/$Q$52)*$Q$53,0)","v":0},0,0,0,0,0,0,0,0,0,0,0]
["ISP_L_item27","Assets;Total.Capital.&.Reserves","Total Capital & Reserves",null,{"$f":"E52+E53","v":0},0,0,0,0,0,0,0,{"$f":"SUM(E54:L54)","v":0},{"$f":"N52+N53","v":0},{"$f":"O52+O53","v":0},{"$f":"SUM(N54:O54)","v":0},{"$f":"Q52+Q53","v":0}]
[null,""]
[null,null,"CHECK","TOTAL ASSETS - (TOTAL LIABILITIES + CAPITAL & RESERVES) = 0",null,null,null,null,null,null,{"$f":"IF((Q56<0.5),\" \",\"PLEASE CHECK FIGURES\")","v":" "},null,null,null,null,null,{"$f":"ABS(Q39-Q49-Q54)","v":0}]
[null,""]
[null,"Assets;Selected.off-balance.sheet.items:","Selected off-balance sheet items:",null,"Euro 000's"]
[null,""]
["ISP_L_item28","Assets;Equity.securities.held.obo.Resident.Households","Equity securities held obo Resident Households"]
[null,""]
["ISP_L_item29","Assets;Debt.securities.held.obo.Resident.Households","Debt securities held obo Resident Households"]
[null,""]
["ISP_L_item30","Assets;Equity.securities.held.obo.Resident.NFCs","Equity securities held obo Resident NFCs"]
[null,""]
["ISP_L_item31","Assets;Debt.securities.held.obo.Resident.NFCs","Debt securities held obo Resident NFCs"]
[]
[null,null,"Securities held o.b.o. Special Purpose Entities"]
[]
[null,null,"Foreign securities held on behalf of non-resident non-financial sector (3rd party holdings)"]

{"sheet":"Income_&_Services","index":26,"n_rows":250,"n_cols":9,"rows_kept":250,"cut":false,"hidden":true,"merged":[[12,1,12,3],[1,1,1,5],[5,2,5,4],[9,1,9,5],[10,1,10,3],[11,2,11,3],[24,1,24,2],[13,1,13,3],[14,1,14,3],[15,1,15,3],[16,1,16,5],[17,1,17,5],[18,1,18,2],[19,1,19,2],[20,1,20,2],[21,1,21,2],[22,1,22,2],[23,1,23,2],[36,1,36,2],[25,1,25,2],[26,1,26,2],[27,1,27,2],[28,1,28,2],[29,1,29,2],[30,1,30,2],[31,1,31,2],[32,1,32,2],[33,1,33,2],[34,1,34,2],[35,1,35,2],[48,1,48,2],[37,1,37,2],[38,1,38,2],[39,1,39,2],[40,1,40,2],[41,1,41,2],[42,1,42,2],[43,1,43,2],[44,1,44,2],[45,1,45,2],[46,1,46,2],[47,1,47,2],[60,1,60,5],[49,1,49,2],[50,1,50,2],[51,1,51,2],[52,1,52,2],[53,1,53,2],[54,1,54,2],[55,1,55,2],[56,1,56,2],[57,1,57,2],[58,1,58,2],[59,1,59,2],[72,1,72,2],[61,1,61,5],[62,1,62,2],[63,1,63,2],[64,1,64,2],[65,1,65,2],[66,1,66,2],[67,1,67,2],[68,1,68,2],[69,1,69,2],[70,1,70,2],[71,1,71,2],[84,1,84,2],[73,1,73,2],[74,1,74,2],[75,1,75,2],[76,1,76,2],[77,1,77,2],[78,1,78,2],[79,1,79,2],[80,1,80,2],[81,1,81,2],[82,1,82,2],[83,1,83,2]]}
["A"]
[1,"INCOME RECEIVED/PAID & BUSINESS SERVICES PROVIDED/COMMISSIONED BY THE LICENCE HOLDER  "]
[0]
[2]
[1]
[1,"Company Name:",{"$f":"IF((Validation_Checks_CBM!E6=\"\"),\"\",Validation_Checks_CBM!E6)","v":0}]
[1]
[1,"Reporting Period:",{"$f":"IF(OR(Validation_Checks_CBM!E8=\"\",Validation_Checks_CBM!E8=\"Select Year\",Validation_Checks_CBM!E9=\"\",Validation_Checks_CBM!E10=\"\",Validation_Checks_CBM!E10=\"Select Month\"),\"\",Validation_Checks_CBM!E12)","v":""},{"$f":"IF(OR(G11<>\"\",H11<>\"\",I11<>\"\"),\"Incomplete data - amend as necessary\",\"\")","v":""}]
[1]
[1,"Interest and dividends earned from / paid to non-residents",null,null,null,null,{"$f":"IF(COUNTIF(G13:G85,\"Select Instrument\")=0,\"\",COUNTIF(G13:G85,\"Select Instrument\"))","v":""},{"$f":"IF(COUNTIF(H13:H85,\"Select Country\")=0,\"\",COUNTIF(H13:H85,\"Select Country\"))","v":""},{"$f":"IF(COUNTIF(I13:I85,\"Input Values\")=0,\"\",COUNTIF(I13:I85,\"Input Values\"))","v":""}]
[1,"Type of Income",null,null,"Receipts","Payments",{"$f":"IF(G10=\"\",\"\",\"Select Instrument Error\")","v":""},{"$f":"IF(H10=\"\",\"\",\"Select Country Error\")","v":""},{"$f":"IF(I10=\"\",\"\",\"Input values Error\")","v":""}]
[1,null,null,null,"EUR '000","EUR '000"]
[{"$f":"IF(AND(ISBLANK(E13)=TRUE,ISBLANK(F13)=TRUE),0,1)","v":0},"Interest on own account (earned from / paid to non-residents)1",null,null,null,null,{"$f":"IF(AND(A13=1,B13=\"\"),\"Select Instrument\",\"\")","v":""},null,{"$f":"IF(AND(A13=1,AND(E13=\"\",F13=\"\")),\"Input Values\",\"\")","v":""}]
[{"$f":"IF(AND(ISBLANK(E14)=TRUE,ISBLANK(F14)=TRUE),0,1)","v":0},"Dividends on own account (earned from / paid to non-residents)1",null,null,null,null,{"$f":"IF(AND(A14=1,B14=\"\"),\"Select Instrument\",\"\")","v":""},null,{"$f":"IF(AND(A14=1,AND(E14=\"\",F14=\"\")),\"Input Values\",\"\")","v":""}]
[{"$f":"IF(AND(ISBLANK(E15)=TRUE,ISBLANK(F15)=TRUE),0,1)","v":0},"Interest received obo resident household & non financial companies on foreign securities not reported on a SBS basis",null,null,null,null,{"$f":"IF(AND(A15=1,B15=\"\"),\"Select Instrument\",\"\")","v":""},null,{"$f":"IF(AND(A15=1,AND(E15=\"\",F15=\"\")),\"Input Values\",\"\")","v":""}]
[{"$f":"IF(AND(ISBLANK(E16)=TRUE,ISBLANK(F16)=TRUE),0,1)","v":0},"Dividends received obo resident household & non financial companies on foreign securities not reported on a SBS basis",null,null,null,null,{"$f":"IF(AND(A16=1,B16=\"\"),\"Select Instrument\",\"\")","v":""},null,{"$f":"IF(AND(A16=1,AND(E16=\"\",F16=\"\")),\"Input Values\",\"\")","v":""}]
[1,"1 Do not include interest and/or dividends earned on securities reported on SBSA - Own Account (i.e. Sheet 18e)"]
[1,"Services, wages and rents received from/provided to non-residents"]
[1,"Type of service",null,"Country of counterparty","Receipts","Payments"]
[1,"Select instrument from dropdown list",null,"Select country","EUR '000","EUR '000"]
[{"$f":"IF(AND(ISBLANK(B21)=TRUE,ISBLANK(D21)=TRUE,ISBLANK(E21)=TRUE,ISBLANK(F21)=TRUE),0,1)","v":0},null,null,null,null,null,{"$f":"IF(AND(A21=1,B21=\"\"),\"Select Instrument\",\"\")","v":""},{"$f":"IF(AND(A21=1,D21=\"\"),\"Select Country\",\"\")","v":""},{"$f":"IF(AND(A21=1,AND(E21=\"\",F21=\"\")),\"Input Values\",\"\")","v":""}]
[0,null,null,null,null,null,"","",""]
[0,null,null,null,null,null,"","",""]
[0,null,null,null,null,null,"","",""]
[0,null,null,null,null,null,"","",""]
[0,null,null,null,null,null,"","",""]
[0,null,null,null,null,null,"","",""]
[0,null,null,null,null,null,"","",""]
[0,null,null,null,null,null,"","",""]
[0,null,null,null,null,null,"","",""]
[0,null,null,null,null,null,"","",""]
[0,null,null,null,null,null,"","",""]
[0,null,null,null,null,null,"","",""]
[0,null,null,null,null,null,"","",""]
[0,null,null,null,null,null,"","",""]
[0,null,null,null,null,null,"","",""]
[0,null,null,null,null,null,"","",""]
[0,null,null,null,null,null,"","",""]
[0,null,null,null,null,null,"","",""]
[0,null,null,null,null,null,"","",""]
[0,null,null,null,null,null,"","",""]
[0,null,null,null,null,null,"","",""]
[0,null,null,null,null,null,"","",""]
[0,null,null,null,null,null,"","",""]
[0,null,null,null,null,null,"","",""]
[0,null,null,null,null,null,"","",""]
[0,null,null,null,null,null,"","",""]
[0,null,null,null,null,null,"","",""]
[0,null,null,null,null,null,"","",""]
[0,null,null,null,null,null,"","",""]
[0,null,null,null,null,null,"","",""]
[0,null,null,null,null,null,"","",""]
[0,null,null,null,null,null,"","",""]
[0,null,null,null,null,null,"","",""]
[0,null,null,null,null,null,"","",""]
[0,null,null,null,null,null,"","",""]
[0,null,null,null,null,null,"","",""]
[0,null,null,null,null,null,"","",""]
[0,null,null,null,null,null,"","",""]
[0,null,null,null,null,null,"","",""]
[1]
[1,"Other Services received from/provided to non-residents"]
[1,"Type of service",null,"Country of counterparty","Receipts","Payments"]
[1,"Please specify service",null,"Select country","EUR '000","EUR '000"]
[{"$f":"IF(AND(ISBLANK(B65)=TRUE,ISBLANK(D65)=TRUE,ISBLANK(E65)=TRUE,ISBLANK(F65)=TRUE),0,1)","v":0},null,null,null,null,null,{"$f":"IF(AND(A65=1,B65=\"\"),\"Select Instrument\",\"\")","v":""},{"$f":"IF(AND(A65=1,D65=\"\"),\"Select Country\",\"\")","v":""},{"$f":"IF(AND(A65=1,AND(E65=\"\",F65=\"\")),\"Input Values\",\"\")","v":""}]
[0,null,null,null,null,null,"","",""]
[0,null,null,null,null,null,"","",""]
[0,null,null,null,null,null,"","",""]
[0,null,null,null,null,null,"","",""]
[0,null,null,null,null,null,"","",""]
[0,null,null,null,null,null,"","",""]
[0,null,null,null,null,null,"","",""]
[0,null,null,null,null,null,"","",""]
[0,null,null,null,null,null,"","",""]
[0,null,null,null,null,null,"","",""]
[0,null,null,null,null,null,"","",""]
[0,null,null,null,null,null,"","",""]
[0,null,null,null,null,null,"","",""]
[0,null,null,null,null,null,"","",""]
[0,null,null,null,null,null,"","",""]
[0,null,null,null,null,null,"","",""]
[0,null,null,null,null,null,"","",""]
[0,null,null,null,null,null,"","",""]
[0,null,null,null,null,null,"","",""]
[1]
[2]
[2]
[2]
[2]
[2]
[2]
[2]
[2]
[2]
[2]
[2]
[2]
[2]
[2]
[2]
[2]
[2]
[2]
[2]
[2]
[2]
[2]
[2]
[2]
[2]
[2]
[2]
[2]
[2]
[2]
[2]
[2]
[2]
[2]
[2]
[2]
[2]
[2]
[2]
[2]
[2]
[2]
[2]
[2]
[2]
[2]
[2]
[2]
[2]
[2]
[2]
[2]
[2]
[2]
[2]
[2]
[2]
[2]
[2]
[2]
[2]
[2]
[2]
[2]
[2]
[2,"Accounting, auditing and book-keeping",2362,"Anguilla","AI"]
[2,"Advertising, market research and public opinion polling",1137,"Argentina","AR"]
[2,"Advisory Fees",2760,"Antigua and Barbuda","AG"]
[2,"Business and management consultancy",2329,"Aruba","AW"]
[2,"Commissions",1580,"Australia","AU"]
[2,"Communication services",1141,"Austria","AT"]
[2,"Compensation of Employees",1142,"Bahamas","BS"]
[2,"Computer and information services",1143,"Barbados","BB"]
[2,"Distribution Fees",2761,"Belgium","BE"]
[2,"Financial services",1146,"Belize","BZ"]
[2,"Foreign Tax paid",2331,"Bermuda","BM"]
[2,"Investment Management & Administration Fees",2762,"Brazil","BR"]
[2,"Legal Consultancy Fees",1148,"Bulgaria","BG"]
[2,"Penalties and fines",1157,"Canada","CA"]
[2,"Performance Fees",2763,"Cayman Islands","KY"]
[2,"Public relations services",2330,"Chile","CL"]
[2,"Rent",2291,"China","CN"]
[2,"Tax consultancy services",1156,"Croatia","HR"]
[2,null,null,"Cyprus","CY"]
[2,null,null,"Czech Republic","C Z"]
[2,null,null,"Denmark","DK"]
[2,null,null,"Egypt","EG"]
[2,null,null,"Estonia","EE"]
[2,null,null,"European Institutions","4A"]
[2,null,null,"Finland","FI"]
[2,null,null,"France","FR"]
[2,null,null,"Germany","DE"]
[2,null,null,"Gibraltar","GI"]
[2,null,null,"Greece","GR"]
[2,null,null,"Guernsey","GG"]
[2,null,null,"Hong Kong","HK"]
[2,null,null,"Hungary","HU"]
[2,null,null,"Iceland","IS"]
[2,null,null,"India","IN"]
[2,null,null,"Indonesia","ID"]
[2,null,null,"International Organisations","1A"]
[2,null,null,"Ireland","IE"]
[2,null,null,"Isle of Man","IM"]
[2,null,null,"Israel","IL"]
[2,null,null,"Italy","IT"]
[2,null,null,"Japan","JP"]
[2,null,null,"Jersey","JE"]
[2,null,null,"Latvia","LV"]
[2,null,null,"Liechtenstein","LI"]
[2,null,null,"Lithuania","LT"]
[2,null,null,"Luxembourg","LU"]
[2,null,null,"Macedonia, the former Yugoslav Republic of","MK"]
[2,null,null,"Malaysia","MY"]
[2,null,null,"Mexico","MX"]
[2,null,null,"Morocco","MA"]
[2,null,null,"Netherlands","NL"]
[2,null,null,"New Zealand","NZ"]
[2,null,null,"Nigeria","NG"]
[2,null,null,"Norway","NO"]
[2,null,null,"Other euro area countries","I6"]
[2,null,null,"Other non-euro area EU countries","J6"]
[2,null,null,"Other Offshore Financial Centres","C4"]
[2,null,null,"Philippines","PH"]
[2,null,null,"Poland","PL"]
[2,null,null,"Portugal","PT"]
[2,null,null,"Rest of the world","Z9"]
[2,null,null,"Romania","RO"]
[2,null,null,"Russia","RU"]
[2,null,null,"Serbia","RS"]
[2,null,null,"Singapore","SG"]
[2,null,null,"Slovakia","SK"]
[2,null,null,"Slovenia","SI"]
[2,null,null,"South Africa","ZA"]
[2,null,null,"South Korea","KR"]
[2,null,null,"Spain","ES"]
[2,null,null,"Sweden","SE"]
[2,null,null,"Switzerland","CH"]
[2,null,null,"Taiwan","TW"]
[2,null,null,"Thailand","TH"]
[2,null,null,"Turkey","TR"]
[2,null,null,"United Kingdom","GB"]
[2,null,null,"United States","US"]
[2,null,null,"Uruguay","UY"]
[2,null,null,"Venezuela","VE"]
[2,null,null,"Virgin Islands British","VG"]
[2,null,null,"Virgin Islands US, ","VI"]
[2]
[2]
[2]
[2]
[2]
[2]
[2]
[2]
[2]
[2]
[2]
[2]
[2]
[2]
[2]
[2]
[2]
[2]
[2]

{"sheet":"External_Balance_Sheet","index":27,"n_rows":250,"n_cols":15,"rows_kept":250,"cut":false,"hidden":true,"merged":[[12,1,12,2],[1,1,1,9],[5,2,5,7],[9,1,9,9],[10,1,10,2],[11,1,11,2],[24,1,24,2],[13,1,13,2],[14,1,14,2],[15,1,15,2],[16,1,16,2],[17,1,17,2],[18,1,18,2],[19,1,19,2],[20,1,20,2],[21,1,21,2],[22,1,22,2],[23,1,23,2],[36,1,36,2],[25,1,25,2],[26,1,26,2],[27,1,27,2],[28,1,28,2],[29,1,29,2],[30,1,30,2],[31,1,31,2],[32,1,32,2],[33,1,33,2],[34,1,34,2],[35,1,35,2],[48,1,48,2],[37,1,37,2],[38,1,38,2],[39,1,39,2],[40,1,40,2],[41,1,41,2],[42,1,42,9],[43,1,43,9],[44,1,44,2],[45,1,45,2],[46,1,46,2],[47,1,47,2],[60,1,60,2],[49,1,49,2],[50,1,50,2],[51,1,51,2],[52,1,52,2],[53,1,53,2],[54,1,54,2],[55,1,55,2],[56,1,56,9],[57,1,57,9],[58,1,58,9],[59,1,59,2],[72,1,72,2],[61,1,61,2],[62,1,62,2],[63,1,63,2],[64,1,64,2],[65,1,65,2],[66,1,66,2],[67,1,67,2],[68,1,68,2],[69,1,69,2],[70,1,70,2],[71,1,71,2],[84,1,84,2],[73,1,73,2],[74,1,74,2],[75,1,75,2],[76,1,76,2],[77,1,77,2],[78,1,78,2],[79,1,79,2],[80,1,80,2],[81,1,81,2],[82,1,82,2],[83,1,83,2],[96,1,96,2],[85,1,85,2],[86,1,86,2],[87,1,87,2],[88,1,88,2],[89,1,89,2],[90,1,90,2],[91,1,91,9],[92,1,92,9],[93,1,93,2],[94,1,94,2],[95,1,95,2],[103,1,103,2],[104,1,104,2],[97,1,97,2],[98,1,98,2],[99,1,99,2],[100,1,100,2],[101,1,101,2],[102,1,102,2]]}
["A"]
[1,"BREAKDOWN  OF FOREIGN ASSETS & LIABILITIES OF LICENCE HOLDER"]
[0]
[2]
[1,null,null,null," "]
[1,"Company Name:",{"$f":"IF((Validation_Checks_CBM!E6=\"\"),\"\",Validation_Checks_CBM!E6)","v":0}]
[1]
[1,"Reporting Period:",{"$f":"IF(OR(Validation_Checks_CBM!E8=\"\",Validation_Checks_CBM!E8=\"Select Year\",Validation_Checks_CBM!E9=\"\",Validation_Checks_CBM!E10=\"\",Validation_Checks_CBM!E10=\"Select Month\"),\"\",Validation_Checks_CBM!E12)","v":""},null,null,{"$f":"IF(OR(K10<>\"\",L10<>\"\",M10<>\"\"),\"Incomplete data - amend as necessary\",\"\")","v":""}]
[1]
[1,"FOREIGN ASSETS HELD BY THE LICENCE HOLDERS",null,null,null,null,null,null,null,null,{"$f":"IF(COUNTIF(K13:K106,\"Select Instrument\")=0,\"\",COUNTIF(K13:K106,\"Select Instrument\"))","v":""},{"$f":"IF(COUNTIF(L13:L106,\"Select Country\")=0,\"\",COUNTIF(L13:L106,\"Select Country\"))","v":""},{"$f":"IF(COUNTIF(M13:M106,\"Input Values\")=0,\"\",COUNTIF(M13:M106,\"Input Values\"))","v":""},{"$f":"IF(COUNTIF(N13:N106,\"Select sector of issuer\")=0,\"\",COUNTIF(N13:N106,\"Select sector of issuer\"))","v":""}]
[1,"Instrument1",null,"Country","Sector of Issuer\n\n(to be filled for debt and equity securities incl. investment funds ONLY)","Position at Beginning of  Period","Increase due to  Transactions "," Decrease due to  Transactions ","Other Changes","Position at End of Period ",{"$f":"IF(K10=\"\",\"\",\"Select Instrument Error\")","v":""},{"$f":"IF(L10=\"\",\"\",\"Select Country Error\")","v":""},{"$f":"IF(M10=\"\",\"\",\"Input values Error\")","v":""},{"$f":"IF(N10=\"\",\"\",\"Select sector of issuer Error\")","v":""}]
[1,"Choose instrument from dropdown list",null,"Choose country","Select sector","EUR '000","EUR '000","EUR '000","EUR '000","EUR '000"]
[{"$f":"IF(AND(ISBLANK(B13)=TRUE,ISBLANK(D13)=TRUE,ISBLANK(F13)=TRUE,ISBLANK(G13)=TRUE,ISBLANK(H13)=TRUE,ISBLANK(J13)=TRUE),0,1)","v":0},null,null,null,null,null,null,null,{"$f":"+J13-F13-G13+H13","v":0},null,{"$f":"IF(AND(A13=1,B13=\"\"),\"Select Instrument\",\"\")","v":""},{"$f":"IF(AND(A13=1,D13=\"\"),\"Select Country\",\"\")","v":""},{"$f":"IF(AND(A13=1,AND(F13=\"\",G13=\"\",H13=\"\",J13=\"\")),\"Input Values\",\"\")","v":""},{"$f":"IF(AND(OR(B13=\"Debt securities issued by non residents\",B13=\"Equities issued by non residents\",B13=\"Investment fund share OR units issued by foreign institutions\"),E13=\"\"),\"Select sector of issuer\",\"\")","v":""},{"$f":"IF(OR(B13=\"Debt securities issued by non residents\",B13=\"Equities issued by non residents\", B13=\"Investment fund share OR units issued by foreign institutions\"),1,0)","v":0}]
[0,null,null,null,null,null,null,null,0,null,"","","",{"$f":"IF(AND(OR(B14=\"Debt securities issued by non residents\",B14=\"Equities issued by non residents\",B14=\"Investment fund share OR units issued by foreign institutions\"),E14=\"\"),\"Select sector of issuer\",\"\")","v":""},0]
[0,null,null,null,null,null,null,null,0,null,"","","","",0]
[0,null,null,null,null,null,null,null,0,null,"","","","",0]
[0,null,null,null,null,null,null,null,0,null,"","","","",0]
[0,null,null,null,null,null,null,null,0,null,"","","","",0]
[0,null,null,null,null,null,null,null,0,null,"","","","",0]
[0,null,null,null,null,null,null,null,0,null,"","","","",0]
[0,null,null,null,null,null,null,null,0,null,"","","","",0]
[0,null,null,null,null,null,null,null,0,null,"","","","",0]
[0,null,null,null,null,null,null,null,0,null,"","","","",0]
[0,null,null,null,null,null,null,null,0,null,"","","","",0]
[0,null,null,null,null,null,null,null,0,null,"","","","",0]
[0,null,null,null,null,null,null,null,0,null,"","","","",0]
[0,null,null,null,null,null,null,null,0,null,"","","","",0]
[0,null,null,null,null,null,null,null,0,null,"","","","",0]
[0,null,null,null,null,null,null,null,0,null,"","","","",0]
[0,null,null,null,null,null,null,null,0,null,"","","","",0]
[0,null,null,null,null,null,null,null,0,null,"","","","",0]
[0,null,null,null,null,null,null,null,0,null,"","","","",0]
[0,null,null,null,null,null,null,null,0,null,"","","","",0]
[0,null,null,null,null,null,null,null,0,null,"","","","",0]
[0,null,null,null,null,null,null,null,0,null,"","","","",0]
[0,null,null,null,null,null,null,null,0,null,"","","","",0]
[0,null,null,null,null,null,null,null,0,null,"","","","",0]
[0,null,null,null,null,null,null,null,0,null,"","","","",0]
[0,null,null,null,null,null,null,null,0,null,"","","","",0]
[0,null,null,null,null,null,null,null,0,null,"","","","",0]
[0,null,null,null,null,null,null,null,0,null,"","","","",0]
[0,null,null,null,null,null,null,null,0,null,"","","","",0]
[1]
[1,"Other foreign assets with non-residents",null,null,null,null,null,null,null,null,{"$f":"IF(COUNTIF(K47:K156,\"Select Instrument\")=0,\"\",COUNTIF(K47:K156,\"Select Instrument\"))","v":""},{"$f":"IF(COUNTIF(L47:L156,\"Select Country\")=0,\"\",COUNTIF(L47:L156,\"Select Country\"))","v":""},{"$f":"IF(COUNTIF(M47:M156,\"Input Values\")=0,\"\",COUNTIF(M47:M156,\"Input Values\"))","v":""},{"$f":"IF(COUNTIF(N47:N156,\"Select sector of issuer\")=0,\"\",COUNTIF(N47:N156,\"Select sector of issuer\"))","v":""}]
[1,"Instrument",null,"Country",null,"Position at Beginning of  Period","Increase due to  Transactions "," Decrease due to  Transactions ","Other Changes","Position at End of Period ",{"$f":"IF(K44=\"\",\"\",\"Select Instrument Error\")","v":""},{"$f":"IF(L44=\"\",\"\",\"Select Country Error\")","v":""},{"$f":"IF(M44=\"\",\"\",\"Input values Error\")","v":""},{"$f":"IF(N44=\"\",\"\",\"Select sector of issuer Error\")","v":""}]
[1,"Please specify instrument",null,"Choose country",null,"EUR '000","EUR '000","EUR '000","EUR '000","EUR '000"]
[{"$f":"IF(AND(ISBLANK(B47)=TRUE,ISBLANK(D47)=TRUE,ISBLANK(F47)=TRUE,ISBLANK(G47)=TRUE,ISBLANK(H47)=TRUE,ISBLANK(J47)=TRUE),0,1)","v":0},null,null,null,null,null,null,null,{"$f":"+J47-F47-G47+H47","v":0},null,{"$f":"IF(AND(A47=1,B47=\"\"),\"Select Instrument\",\"\")","v":""},{"$f":"IF(AND(A47=1,D47=\"\"),\"Select Country\",\"\")","v":""},{"$f":"IF(AND(A47=1,AND(F47=\"\",G47=\"\",H47=\"\",J47=\"\")),\"Input Values\",\"\")","v":""}]
[0,null,null,null,null,null,null,null,0,null,"","",""]
[0,null,null,null,null,null,null,null,0,null,"","",""]
[0,null,null,null,null,null,null,null,0,null,"","",""]
[0,null,null,null,null,null,null,null,0,null,"","",""]
[0,null,null,null,null,null,null,null,0,null,"","",""]
[0,null,null,null,null,null,null,null,0,null,"","",""]
[0,null,null,null,null,null,null,null,0,null,"","",""]
[0,null,null,null,null,null,null,null,0,null,"","",""]
[0,null,null,null,null,null,null,null,0,null,"","",""]
[1,"1. Securities which have already been reported in the SBSA - Own Account sheet should not be reported here."]
[1]
[1,"FOREIGN LIABILITIES HELD BY THE LICENCE HOLDER"]
[1,"Instrument",null,"Country",null,"Position at Beginning of  Period","Increase due to  Transactions "," Decrease due to  Transactions ","Other Changes","Position at End of Period "]
[1,"Choose instrument from dropdown list",null,"Choose country",null,"EUR '000","EUR '000","EUR '000","EUR '000","EUR '000"]
[{"$f":"IF(AND(ISBLANK(B62)=TRUE,ISBLANK(D62)=TRUE,ISBLANK(F62)=TRUE,ISBLANK(G62)=TRUE,ISBLANK(H62)=TRUE,ISBLANK(J62)=TRUE),0,1)","v":0},null,null,null,null,null,null,null,{"$f":"+J62-F62-G62+H62","v":0},null,{"$f":"IF(AND(A62=1,B62=\"\"),\"Select Instrument\",\"\")","v":""},{"$f":"IF(AND(A62=1,D62=\"\"),\"Select Country\",\"\")","v":""},{"$f":"IF(AND(A62=1,AND(F62=\"\",G62=\"\",H62=\"\",J62=\"\")),\"Input Values\",\"\")","v":""}]
[0,null,null,null,null,null,null,null,0,null,"","",""]
[0,null,null,null,null,null,null,null,0,null,"","",""]
[0,null,null,null,null,null,null,null,0,null,"","",""]
[0,null,null,null,null,null,null,null,0,null,"","",""]
[0,null,null,null,null,null,null,null,0,null,"","",""]
[0,null,null,null,null,null,null,null,0,null,"","",""]
[0,null,null,null,null,null,null,null,0,null,"","",""]
[0,null,null,null,null,null,null,null,0,null,"","",""]
[0,null,null,null,null,null,null,null,0,null,"","",""]
[0,null,null,null,null,null,null,null,0,null,"","",""]
[0,null,null,null,null,null,null,null,0,null,"","",""]
[0,null,null,null,null,null,null,null,0,null,"","",""]
[0,null,null,null,null,null,null,null,0,null,"","",""]
[0,null,null,null,null,null,null,null,0,null,"","",""]
[0,null,null,null,null,null,null,null,0,null,"","",""]
[0,null,null,null,null,null,null,null,0,null,"","",""]
[0,null,null,null,null,null,null,null,0,null,"","",""]
[0,null,null,null,null,null,null,null,0,null,"","",""]
[0,null,null,null,null,null,null,null,0,null,"","",""]
[0,null,null,null,null,null,null,null,0,null,"","",""]
[0,null,null,null,null,null,null,null,0,null,"","",""]
[0,null,null,null,null,null,null,null,0,null,"","",""]
[0,null,null,null,null,null,null,null,0,null,"","",""]
[0,null,null,null,null,null,null,null,0,null,"","",""]
[0,null,null,null,null,null,null,null,0,null,"","",""]
[0,null,null,null,null,null,null,null,0,null,"","",""]
[0,null,null,null,null,null,null,null,0,null,"","",""]
[0,null,null,null,null,null,null,null,0,null,"","",""]
[0,null,null,null,null,null,null,null,0,null,"","",""]
[1]
[1,"Other foreign liabilities with non-residents",null,null,null,null,null,null,null,null,{"$f":"IF(COUNTIF(K96:K215,\"Select Instrument\")=0,\"\",COUNTIF(K96:K215,\"Select Instrument\"))","v":""},{"$f":"IF(COUNTIF(L96:L215,\"Select Country\")=0,\"\",COUNTIF(L96:L215,\"Select Country\"))","v":""},{"$f":"IF(COUNTIF(M96:M215,\"Input Values\")=0,\"\",COUNTIF(M96:M215,\"Input Values\"))","v":""},{"$f":"IF(COUNTIF(N96:N215,\"Select sector of issuer\")=0,\"\",COUNTIF(N96:N215,\"Select sector of issuer\"))","v":""}]
[1,"Instrument",null,"Country",null,"Position at Beginning of  Period","Increase due to  Transactions "," Decrease due to  Transactions ","Other Changes","Position at End of Period ",{"$f":"IF(K93=\"\",\"\",\"Select Instrument Error\")","v":""},{"$f":"IF(L93=\"\",\"\",\"Select Country Error\")","v":""},{"$f":"IF(M93=\"\",\"\",\"Input values Error\")","v":""},{"$f":"IF(N93=\"\",\"\",\"Select sector of issuer Error\")","v":""}]
[1,"Please specify instrument",null,"Choose country",null,"EUR '000","EUR '000","EUR '000","EUR '000","EUR '000"]
[{"$f":"IF(AND(ISBLANK(B96)=TRUE,ISBLANK(D96)=TRUE,ISBLANK(F96)=TRUE,ISBLANK(G96)=TRUE,ISBLANK(H96)=TRUE,ISBLANK(J96)=TRUE),0,1)","v":0},null,null,null,null,null,null,null,{"$f":"+J96-F96-G96+H96","v":0},null,{"$f":"IF(AND(A96=1,B96=\"\"),\"Select Instrument\",\"\")","v":""},{"$f":"IF(AND(A96=1,D96=\"\"),\"Select Country\",\"\")","v":""},{"$f":"IF(AND(A96=1,AND(F96=\"\",G96=\"\",H96=\"\",J96=\"\")),\"Input Values\",\"\")","v":""}]
[0,null,null,null,null,null,null,null,0,null,"","",""]
[0,null,null,null,null,null,null,null,0,null,"","",""]
[0,null,null,null,null,null,null,null,0,null,"","",""]
[0,null,null,null,null,null,null,null,0,null,"","",""]
[0,null,null,null,null,null,null,null,0,null,"","",""]
[0,null,null,null,null,null,null,null,0,null,"","",""]
[0,null,null,null,null,null,null,null,0,null,"","",""]
[0,null,null,null,null,null,null,null,0,null,"","",""]
[0,null,null,null,null,null,null,null,0,null,"","",""]
[1]
[2]
[2]
[2]
[2]
[2]
[2]
[2]
[2]
[2]
[2]
[2]
[2]
[2]
[2]
[2]
[2]
[2]
[2]
[2]
[2]
[2]
[2]
[2]
[2]
[2]
[2]
[2]
[2]
[2]
[2]
[2]
[2]
[2]
[2]
[2]
[2]
[2]
[2]
[2]
[2]
[2]
[2,"Named range",null,null,null,null,null,null,"Named range","Named range","Named range"]
[2,"INSTRUMENT",null,null,null,null,null,null,"Debt_securities_issued_by_non_residents","Equities_issued_by_non_residents","Investment_fund_share_OR_units_issued_by_foreign_institutions"]
[2]
[2,"Bank Deposits held with foreign banks",1109,"Luxembourg","LU","Banks","BNK",null,"Banks","Banks","Banks"]
[2,"Debt securities issued by non residents",1112,"Ireland","IE","Government","GOV",null,"Government","Government","Government"]
[2,"Equities issued by non residents",1111,"Other Euro Area excluding Ireland & Luxembourg","P1","Others","OTH",null,"Others","Others","Others"]
[2,"Financial derivatives",1852,"United Kingdom","GB"]
[2,"Investment fund share OR units issued by foreign institutions",2729,"Other EU Countries excluding Eurozone & UK","K2"]
[2,"Receivables from non residents",1781,"Brazil","BR"]
[2,null,null,"Canada","CA"]
[2,null,null,"China","CN"]
[2,null,null,"Hong Kong","HK"]
[2,null,null,"India","IN"]
[2,"Called up  share capital (of non-residents) of LESS than 10%",1278,"Japan","JP"]
[2,"Called up  share capital (of non-residents) of MORE than 10%*",1277,"Russian Federation","RU"]
[2,"Financial derivatives",1852,"Switzerland","CH"]
[2,"Loans from non-residents: long-term",1307,"United States","US"]
[2,"Loans from non-residents: short-term",1308,"Offshore financial centres","C4"]
[2,"Payables to non-residents",1785,"Rest of the world ","Z8"]
[2,"Retained Earnings/(losses)",2370,"European Institutions","4A"]
[2,null,null,"International Organisations","1A"]
[2]
[2]
[2]
[2]
[2]
[2]
[2]
[2]
[2]
[2]
[2]
[2]
[2]
[2]
[2]
[2]
[2]
[2]
[2]
[2]
[2]
[2]
[2]
[2]
[2]
[2]
[2]
[2]
[2]
[2]
[2]
[2]
[2]
[2]
[2]
[2]
[2]
[2]
[2]
[2]
[2]
[2]
[2]
[2]
[2]
[2]
[2]
[2]
[2]
[2]
[2]
[2]
[2]
[2]
[2]
[2]
[2]
[2]
[2]
[2]
[2]
[2]
[2]
[2]
[2]
[2]
[2]
[2]
[2]
[2]
[2]
[2]
[2]
[2]
[2]
[2]
[2]
[2]
[2]
[2]
[2]
[2]

{"sheet":"CSV_workings","index":28,"n_rows":389,"n_cols":35,"rows_kept":389,"cut":false,"hidden":true,"merged":[]}
["UnitID","BOP","Table","Year","Freq","MQ","VarID","CountryCode","SectorCode","Doubtful","Input","F01","F02","F03","F04","F05","F06","F07","F08","F09","F10","F11","F12","F13","F14","F15","F16","F17","F18","F19","F20","NewVarLabel",0,"Sheet Name","Line"]
[{"$f":"Validation_Checks_CBM!$E$5","v":0},{"$f":"Validation_Checks_CBM!$E$7","v":0},1,{"$f":"Validation_Checks_CBM!$E$8","v":0},{"$f":"Validation_Checks_CBM!$E$9","v":0},{"$f":"Validation_Checks_CBM!$O$2","v":0},{"$f":"IF(Non_Nominee!B15=\"\",0,VLOOKUP(Non_Nominee!B15,Non_Nominee!B$151:C$153,2,FALSE))","v":0},{"$f":"IF(Non_Nominee!D15=\"\",0,VLOOKUP(Non_Nominee!D15,Non_Nominee!D$151:E$232,2,FALSE))","v":0},{"$f":"IF(Non_Nominee!E15=\"\",0,VLOOKUP(Non_Nominee!E15,Non_Nominee!F$151:G$153,2,FALSE))","v":0},"00","DPM",{"$f":"Non_Nominee!F15","v":0},{"$f":"Non_Nominee!G15","v":0},null,null,null,null,null,null,null,null,null,null,null,null,null,null,null,null,null,null,"-",{"$f":"IF(OR(ABS(L2)>=0.55,ABS(M2)>=0.55,ABS(N2)>=0.55,ABS(O2)>=0.55,ABS(P2)>=0.55,ABS(Q2)>=0.55,ABS(R2)>=0.55,ABS(S2)>=0.55,ABS(T2)>=0.55,ABS(U2)>=0.55,ABS(V2)>=0.55,ABS(W2)>=0.55,ABS(X2)>=0.55,ABS(Y2)>=0.55,ABS(Z2)>=0.55,ABS(AA2)>=0.55,ABS(AB2)>=0.55,ABS(AC2)>=0.55,ABS(AD2)>=0.55,ABS(AE2)>=0.55),0,1)","v":1},"Sheet 21 Non Nominee'!F15 / G15",15]
[{"$f":"$A$2","v":0},{"$f":"$B$2","v":0},1,{"$f":"$D$2","v":0},{"$f":"$E$2","v":0},{"$f":"$F$2","v":0},{"$f":"IF(Non_Nominee!B16=\"\",0,VLOOKUP(Non_Nominee!B16,Non_Nominee!B$151:C$153,2,FALSE))","v":0},{"$f":"IF(Non_Nominee!D16=\"\",0,VLOOKUP(Non_Nominee!D16,Non_Nominee!D$151:E$232,2,FALSE))","v":0},{"$f":"IF(Non_Nominee!E16=\"\",0,VLOOKUP(Non_Nominee!E16,Non_Nominee!F$151:G$153,2,FALSE))","v":0},"00","DPM",{"$f":"Non_Nominee!F16","v":0},{"$f":"Non_Nominee!G16","v":0},null,null,null,null,null,null,null,null,null,null,null,null,null,null,null,null,null,null,"-",1,null,16]
[0,0,1,0,0,0,{"$f":"IF(Non_Nominee!B17=\"\",0,VLOOKUP(Non_Nominee!B17,Non_Nominee!B$151:C$153,2,FALSE))","v":0},{"$f":"IF(Non_Nominee!D17=\"\",0,VLOOKUP(Non_Nominee!D17,Non_Nominee!D$151:E$232,2,FALSE))","v":0},{"$f":"IF(Non_Nominee!E17=\"\",0,VLOOKUP(Non_Nominee!E17,Non_Nominee!F$151:G$153,2,FALSE))","v":0},"00","DPM",{"$f":"Non_Nominee!F17","v":0},{"$f":"Non_Nominee!G17","v":0},null,null,null,null,null,null,null,null,null,null,null,null,null,null,null,null,null,null,"-",1,null,17]
[0,0,1,0,0,0,{"$f":"IF(Non_Nominee!B18=\"\",0,VLOOKUP(Non_Nominee!B18,Non_Nominee!B$151:C$153,2,FALSE))","v":0},{"$f":"IF(Non_Nominee!D18=\"\",0,VLOOKUP(Non_Nominee!D18,Non_Nominee!D$151:E$232,2,FALSE))","v":0},{"$f":"IF(Non_Nominee!E18=\"\",0,VLOOKUP(Non_Nominee!E18,Non_Nominee!F$151:G$153,2,FALSE))","v":0},"00","DPM",{"$f":"Non_Nominee!F18","v":0},{"$f":"Non_Nominee!G18","v":0},null,null,null,null,null,null,null,null,null,null,null,null,null,null,null,null,null,null,"-",1,null,18]
[0,0,1,0,0,0,{"$f":"IF(Non_Nominee!B19=\"\",0,VLOOKUP(Non_Nominee!B19,Non_Nominee!B$151:C$153,2,FALSE))","v":0},{"$f":"IF(Non_Nominee!D19=\"\",0,VLOOKUP(Non_Nominee!D19,Non_Nominee!D$151:E$232,2,FALSE))","v":0},{"$f":"IF(Non_Nominee!E19=\"\",0,VLOOKUP(Non_Nominee!E19,Non_Nominee!F$151:G$153,2,FALSE))","v":0},"00","DPM",{"$f":"Non_Nominee!F19","v":0},{"$f":"Non_Nominee!G19","v":0},null,null,null,null,null,null,null,null,null,null,null,null,null,null,null,null,null,null,"-",1,null,19]
[0,0,1,0,0,0,{"$f":"IF(Non_Nominee!B20=\"\",0,VLOOKUP(Non_Nominee!B20,Non_Nominee!B$151:C$153,2,FALSE))","v":0},{"$f":"IF(Non_Nominee!D20=\"\",0,VLOOKUP(Non_Nominee!D20,Non_Nominee!D$151:E$232,2,FALSE))","v":0},{"$f":"IF(Non_Nominee!E20=\"\",0,VLOOKUP(Non_Nominee!E20,Non_Nominee!F$151:G$153,2,FALSE))","v":0},"00","DPM",{"$f":"Non_Nominee!F20","v":0},{"$f":"Non_Nominee!G20","v":0},null,null,null,null,null,null,null,null,null,null,null,null,null,null,null,null,null,null,"-",1,null,20]
[0,0,1,0,0,0,{"$f":"IF(Non_Nominee!B21=\"\",0,VLOOKUP(Non_Nominee!B21,Non_Nominee!B$151:C$153,2,FALSE))","v":0},{"$f":"IF(Non_Nominee!D21=\"\",0,VLOOKUP(Non_Nominee!D21,Non_Nominee!D$151:E$232,2,FALSE))","v":0},{"$f":"IF(Non_Nominee!E21=\"\",0,VLOOKUP(Non_Nominee!E21,Non_Nominee!F$151:G$153,2,FALSE))","v":0},"00","DPM",{"$f":"Non_Nominee!F21","v":0},{"$f":"Non_Nominee!G21","v":0},null,null,null,null,null,null,null,null,null,null,null,null,null,null,null,null,null,null,"-",1,null,21]
[0,0,1,0,0,0,{"$f":"IF(Non_Nominee!B22=\"\",0,VLOOKUP(Non_Nominee!B22,Non_Nominee!B$151:C$153,2,FALSE))","v":0},{"$f":"IF(Non_Nominee!D22=\"\",0,VLOOKUP(Non_Nominee!D22,Non_Nominee!D$151:E$232,2,FALSE))","v":0},{"$f":"IF(Non_Nominee!E22=\"\",0,VLOOKUP(Non_Nominee!E22,Non_Nominee!F$151:G$153,2,FALSE))","v":0},"00","DPM",{"$f":"Non_Nominee!F22","v":0},{"$f":"Non_Nominee!G22","v":0},null,null,null,null,null,null,null,null,null,null,null,null,null,null,null,null,null,null,"-",1,null,22]
[0,0,1,0,0,0,{"$f":"IF(Non_Nominee!B23=\"\",0,VLOOKUP(Non_Nominee!B23,Non_Nominee!B$151:C$153,2,FALSE))","v":0},{"$f":"IF(Non_Nominee!D23=\"\",0,VLOOKUP(Non_Nominee!D23,Non_Nominee!D$151:E$232,2,FALSE))","v":0},{"$f":"IF(Non_Nominee!E23=\"\",0,VLOOKUP(Non_Nominee!E23,Non_Nominee!F$151:G$153,2,FALSE))","v":0},"00","DPM",{"$f":"Non_Nominee!F23","v":0},{"$f":"Non_Nominee!G23","v":0},null,null,null,null,null,null,null,null,null,null,null,null,null,null,null,null,null,null,"-",1,null,23]
[0,0,1,0,0,0,{"$f":"IF(Non_Nominee!B24=\"\",0,VLOOKUP(Non_Nominee!B24,Non_Nominee!B$151:C$153,2,FALSE))","v":0},{"$f":"IF(Non_Nominee!D24=\"\",0,VLOOKUP(Non_Nominee!D24,Non_Nominee!D$151:E$232,2,FALSE))","v":0},{"$f":"IF(Non_Nominee!E24=\"\",0,VLOOKUP(Non_Nominee!E24,Non_Nominee!F$151:G$153,2,FALSE))","v":0},"00","DPM",{"$f":"Non_Nominee!F24","v":0},{"$f":"Non_Nominee!G24","v":0},null,null,null,null,null,null,null,null,null,null,null,null,null,null,null,null,null,null,"-",1,null,24]
[0,0,1,0,0,0,{"$f":"IF(Non_Nominee!B25=\"\",0,VLOOKUP(Non_Nominee!B25,Non_Nominee!B$151:C$153,2,FALSE))","v":0},{"$f":"IF(Non_Nominee!D25=\"\",0,VLOOKUP(Non_Nominee!D25,Non_Nominee!D$151:E$232,2,FALSE))","v":0},{"$f":"IF(Non_Nominee!E25=\"\",0,VLOOKUP(Non_Nominee!E25,Non_Nominee!F$151:G$153,2,FALSE))","v":0},"00","DPM",{"$f":"Non_Nominee!F25","v":0},{"$f":"Non_Nominee!G25","v":0},null,null,null,null,null,null,null,null,null,null,null,null,null,null,null,null,null,null,"-",1,null,25]
[0,0,1,0,0,0,{"$f":"IF(Non_Nominee!B26=\"\",0,VLOOKUP(Non_Nominee!B26,Non_Nominee!B$151:C$153,2,FALSE))","v":0},{"$f":"IF(Non_Nominee!D26=\"\",0,VLOOKUP(Non_Nominee!D26,Non_Nominee!D$151:E$232,2,FALSE))","v":0},{"$f":"IF(Non_Nominee!E26=\"\",0,VLOOKUP(Non_Nominee!E26,Non_Nominee!F$151:G$153,2,FALSE))","v":0},"00","DPM",{"$f":"Non_Nominee!F26","v":0},{"$f":"Non_Nominee!G26","v":0},null,null,null,null,null,null,null,null,null,null,null,null,null,null,null,null,null,null,"-",1,null,26]
[0,0,1,0,0,0,{"$f":"IF(Non_Nominee!B27=\"\",0,VLOOKUP(Non_Nominee!B27,Non_Nominee!B$151:C$153,2,FALSE))","v":0},{"$f":"IF(Non_Nominee!D27=\"\",0,VLOOKUP(Non_Nominee!D27,Non_Nominee!D$151:E$232,2,FALSE))","v":0},{"$f":"IF(Non_Nominee!E27=\"\",0,VLOOKUP(Non_Nominee!E27,Non_Nominee!F$151:G$153,2,FALSE))","v":0},"00","DPM",{"$f":"Non_Nominee!F27","v":0},{"$f":"Non_Nominee!G27","v":0},null,null,null,null,null,null,null,null,null,null,null,null,null,null,null,null,null,null,"-",1,null,27]
[0,0,1,0,0,0,{"$f":"IF(Non_Nominee!B28=\"\",0,VLOOKUP(Non_Nominee!B28,Non_Nominee!B$151:C$153,2,FALSE))","v":0},{"$f":"IF(Non_Nominee!D28=\"\",0,VLOOKUP(Non_Nominee!D28,Non_Nominee!D$151:E$232,2,FALSE))","v":0},{"$f":"IF(Non_Nominee!E28=\"\",0,VLOOKUP(Non_Nominee!E28,Non_Nominee!F$151:G$153,2,FALSE))","v":0},"00","DPM",{"$f":"Non_Nominee!F28","v":0},{"$f":"Non_Nominee!G28","v":0},null,null,null,null,null,null,null,null,null,null,null,null,null,null,null,null,null,null,"-",1,null,28]
[0,0,1,0,0,0,{"$f":"IF(Non_Nominee!B29=\"\",0,VLOOKUP(Non_Nominee!B29,Non_Nominee!B$151:C$153,2,FALSE))","v":0},{"$f":"IF(Non_Nominee!D29=\"\",0,VLOOKUP(Non_Nominee!D29,Non_Nominee!D$151:E$232,2,FALSE))","v":0},{"$f":"IF(Non_Nominee!E29=\"\",0,VLOOKUP(Non_Nominee!E29,Non_Nominee!F$151:G$153,2,FALSE))","v":0},"00","DPM",{"$f":"Non_Nominee!F29","v":0},{"$f":"Non_Nominee!G29","v":0},null,null,null,null,null,null,null,null,null,null,null,null,null,null,null,null,null,null,"-",1,null,29]
[0,0,1,0,0,0,{"$f":"IF(Non_Nominee!B30=\"\",0,VLOOKUP(Non_Nominee!B30,Non_Nominee!B$151:C$153,2,FALSE))","v":0},{"$f":"IF(Non_Nominee!D30=\"\",0,VLOOKUP(Non_Nominee!D30,Non_Nominee!D$151:E$232,2,FALSE))","v":0},{"$f":"IF(Non_Nominee!E30=\"\",0,VLOOKUP(Non_Nominee!E30,Non_Nominee!F$151:G$153,2,FALSE))","v":0},"00","DPM",{"$f":"Non_Nominee!F30","v":0},{"$f":"Non_Nominee!G30","v":0},null,null,null,null,null,null,null,null,null,null,null,null,null,null,null,null,null,null,"-",1,null,30]
[0,0,1,0,0,0,{"$f":"IF(Non_Nominee!B31=\"\",0,VLOOKUP(Non_Nominee!B31,Non_Nominee!B$151:C$153,2,FALSE))","v":0},{"$f":"IF(Non_Nominee!D31=\"\",0,VLOOKUP(Non_Nominee!D31,Non_Nominee!D$151:E$232,2,FALSE))","v":0},{"$f":"IF(Non_Nominee!E31=\"\",0,VLOOKUP(Non_Nominee!E31,Non_Nominee!F$151:G$153,2,FALSE))","v":0},"00","DPM",{"$f":"Non_Nominee!F31","v":0},{"$f":"Non_Nominee!G31","v":0},null,null,null,null,null,null,null,null,null,null,null,null,null,null,null,null,null,null,"-",1,null,31]
[0,0,1,0,0,0,{"$f":"IF(Non_Nominee!B32=\"\",0,VLOOKUP(Non_Nominee!B32,Non_Nominee!B$151:C$153,2,FALSE))","v":0},{"$f":"IF(Non_Nominee!D32=\"\",0,VLOOKUP(Non_Nominee!D32,Non_Nominee!D$151:E$232,2,FALSE))","v":0},{"$f":"IF(Non_Nominee!E32=\"\",0,VLOOKUP(Non_Nominee!E32,Non_Nominee!F$151:G$153,2,FALSE))","v":0},"00","DPM",{"$f":"Non_Nominee!F32","v":0},{"$f":"Non_Nominee!G32","v":0},null,null,null,null,null,null,null,null,null,null,null,null,null,null,null,null,null,null,"-",1,null,32]
[0,0,1,0,0,0,{"$f":"IF(Non_Nominee!B33=\"\",0,VLOOKUP(Non_Nominee!B33,Non_Nominee!B$151:C$153,2,FALSE))","v":0},{"$f":"IF(Non_Nominee!D33=\"\",0,VLOOKUP(Non_Nominee!D33,Non_Nominee!D$151:E$232,2,FALSE))","v":0},{"$f":"IF(Non_Nominee!E33=\"\",0,VLOOKUP(Non_Nominee!E33,Non_Nominee!F$151:G$153,2,FALSE))","v":0},"00","DPM",{"$f":"Non_Nominee!F33","v":0},{"$f":"Non_Nominee!G33","v":0},null,null,null,null,null,null,null,null,null,null,null,null,null,null,null,null,null,null,"-",1,null,33]
[0,0,1,0,0,0,{"$f":"IF(Non_Nominee!B34=\"\",0,VLOOKUP(Non_Nominee!B34,Non_Nominee!B$151:C$153,2,FALSE))","v":0},{"$f":"IF(Non_Nominee!D34=\"\",0,VLOOKUP(Non_Nominee!D34,Non_Nominee!D$151:E$232,2,FALSE))","v":0},{"$f":"IF(Non_Nominee!E34=\"\",0,VLOOKUP(Non_Nominee!E34,Non_Nominee!F$151:G$153,2,FALSE))","v":0},"00","DPM",{"$f":"Non_Nominee!F34","v":0},{"$f":"Non_Nominee!G34","v":0},null,null,null,null,null,null,null,null,null,null,null,null,null,null,null,null,null,null,"-",1,null,34]
[0,0,1,0,0,0,{"$f":"IF(Non_Nominee!B35=\"\",0,VLOOKUP(Non_Nominee!B35,Non_Nominee!B$151:C$153,2,FALSE))","v":0},{"$f":"IF(Non_Nominee!D35=\"\",0,VLOOKUP(Non_Nominee!D35,Non_Nominee!D$151:E$232,2,FALSE))","v":0},{"$f":"IF(Non_Nominee!E35=\"\",0,VLOOKUP(Non_Nominee!E35,Non_Nominee!F$151:G$153,2,FALSE))","v":0},"00","DPM",{"$f":"Non_Nominee!F35","v":0},{"$f":"Non_Nominee!G35","v":0},null,null,null,null,null,null,null,null,null,null,null,null,null,null,null,null,null,null,"-",1,null,35]
[0,0,1,0,0,0,{"$f":"IF(Non_Nominee!B36=\"\",0,VLOOKUP(Non_Nominee!B36,Non_Nominee!B$151:C$153,2,FALSE))","v":0},{"$f":"IF(Non_Nominee!D36=\"\",0,VLOOKUP(Non_Nominee!D36,Non_Nominee!D$151:E$232,2,FALSE))","v":0},{"$f":"IF(Non_Nominee!E36=\"\",0,VLOOKUP(Non_Nominee!E36,Non_Nominee!F$151:G$153,2,FALSE))","v":0},"00","DPM",{"$f":"Non_Nominee!F36","v":0},{"$f":"Non_Nominee!G36","v":0},null,null,null,null,null,null,null,null,null,null,null,null,null,null,null,null,null,null,"-",1,null,36]
[0,0,1,0,0,0,{"$f":"IF(Non_Nominee!B37=\"\",0,VLOOKUP(Non_Nominee!B37,Non_Nominee!B$151:C$153,2,FALSE))","v":0},{"$f":"IF(Non_Nominee!D37=\"\",0,VLOOKUP(Non_Nominee!D37,Non_Nominee!D$151:E$232,2,FALSE))","v":0},{"$f":"IF(Non_Nominee!E37=\"\",0,VLOOKUP(Non_Nominee!E37,Non_Nominee!F$151:G$153,2,FALSE))","v":0},"00","DPM",{"$f":"Non_Nominee!F37","v":0},{"$f":"Non_Nominee!G37","v":0},null,null,null,null,null,null,null,null,null,null,null,null,null,null,null,null,null,null,"-",1,null,37]
[0,0,1,0,0,0,{"$f":"IF(Non_Nominee!B38=\"\",0,VLOOKUP(Non_Nominee!B38,Non_Nominee!B$151:C$153,2,FALSE))","v":0},{"$f":"IF(Non_Nominee!D38=\"\",0,VLOOKUP(Non_Nominee!D38,Non_Nominee!D$151:E$232,2,FALSE))","v":0},{"$f":"IF(Non_Nominee!E38=\"\",0,VLOOKUP(Non_Nominee!E38,Non_Nominee!F$151:G$153,2,FALSE))","v":0},"00","DPM",{"$f":"Non_Nominee!F38","v":0},{"$f":"Non_Nominee!G38","v":0},null,null,null,null,null,null,null,null,null,null,null,null,null,null,null,null,null,null,"-",1,null,38]
[0,0,1,0,0,0,{"$f":"IF(Non_Nominee!B39=\"\",0,VLOOKUP(Non_Nominee!B39,Non_Nominee!B$151:C$153,2,FALSE))","v":0},{"$f":"IF(Non_Nominee!D39=\"\",0,VLOOKUP(Non_Nominee!D39,Non_Nominee!D$151:E$232,2,FALSE))","v":0},{"$f":"IF(Non_Nominee!E39=\"\",0,VLOOKUP(Non_Nominee!E39,Non_Nominee!F$151:G$153,2,FALSE))","v":0},"00","DPM",{"$f":"Non_Nominee!F39","v":0},{"$f":"Non_Nominee!G39","v":0},null,null,null,null,null,null,null,null,null,null,null,null,null,null,null,null,null,null,"-",1,null,39]
[0,0,1,0,0,0,{"$f":"IF(Non_Nominee!B40=\"\",0,VLOOKUP(Non_Nominee!B40,Non_Nominee!B$151:C$153,2,FALSE))","v":0},{"$f":"IF(Non_Nominee!D40=\"\",0,VLOOKUP(Non_Nominee!D40,Non_Nominee!D$151:E$232,2,FALSE))","v":0},{"$f":"IF(Non_Nominee!E40=\"\",0,VLOOKUP(Non_Nominee!E40,Non_Nominee!F$151:G$153,2,FALSE))","v":0},"00","DPM",{"$f":"Non_Nominee!F40","v":0},{"$f":"Non_Nominee!G40","v":0},null,null,null,null,null,null,null,null,null,null,null,null,null,null,null,null,null,null,"-",1,null,40]
[0,0,1,0,0,0,{"$f":"IF(Non_Nominee!B41=\"\",0,VLOOKUP(Non_Nominee!B41,Non_Nominee!B$151:C$153,2,FALSE))","v":0},{"$f":"IF(Non_Nominee!D41=\"\",0,VLOOKUP(Non_Nominee!D41,Non_Nominee!D$151:E$232,2,FALSE))","v":0},{"$f":"IF(Non_Nominee!E41=\"\",0,VLOOKUP(Non_Nominee!E41,Non_Nominee!F$151:G$153,2,FALSE))","v":0},"00","DPM",{"$f":"Non_Nominee!F41","v":0},{"$f":"Non_Nominee!G41","v":0},null,null,null,null,null,null,null,null,null,null,null,null,null,null,null,null,null,null,"-",1,null,41]
[0,0,1,0,0,0,{"$f":"IF(Non_Nominee!B42=\"\",0,VLOOKUP(Non_Nominee!B42,Non_Nominee!B$151:C$153,2,FALSE))","v":0},{"$f":"IF(Non_Nominee!D42=\"\",0,VLOOKUP(Non_Nominee!D42,Non_Nominee!D$151:E$232,2,FALSE))","v":0},{"$f":"IF(Non_Nominee!E42=\"\",0,VLOOKUP(Non_Nominee!E42,Non_Nominee!F$151:G$153,2,FALSE))","v":0},"00","DPM",{"$f":"Non_Nominee!F42","v":0},{"$f":"Non_Nominee!G42","v":0},null,null,null,null,null,null,null,null,null,null,null,null,null,null,null,null,null,null,"-",1,null,42]
[0,0,1,0,0,0,{"$f":"IF(Non_Nominee!B43=\"\",0,VLOOKUP(Non_Nominee!B43,Non_Nominee!B$151:C$153,2,FALSE))","v":0},{"$f":"IF(Non_Nominee!D43=\"\",0,VLOOKUP(Non_Nominee!D43,Non_Nominee!D$151:E$232,2,FALSE))","v":0},{"$f":"IF(Non_Nominee!E43=\"\",0,VLOOKUP(Non_Nominee!E43,Non_Nominee!F$151:G$153,2,FALSE))","v":0},"00","DPM",{"$f":"Non_Nominee!F43","v":0},{"$f":"Non_Nominee!G43","v":0},null,null,null,null,null,null,null,null,null,null,null,null,null,null,null,null,null,null,"-",1,null,43]
[0,0,1,0,0,0,{"$f":"IF(Non_Nominee!B44=\"\",0,VLOOKUP(Non_Nominee!B44,Non_Nominee!B$151:C$153,2,FALSE))","v":0},{"$f":"IF(Non_Nominee!D44=\"\",0,VLOOKUP(Non_Nominee!D44,Non_Nominee!D$151:E$232,2,FALSE))","v":0},{"$f":"IF(Non_Nominee!E44=\"\",0,VLOOKUP(Non_Nominee!E44,Non_Nominee!F$151:G$153,2,FALSE))","v":0},"00","DPM",{"$f":"Non_Nominee!F44","v":0},{"$f":"Non_Nominee!G44","v":0},null,null,null,null,null,null,null,null,null,null,null,null,null,null,null,null,null,null,"-",1,null,44]
[0,0,1,0,0,0,{"$f":"IF(Non_Nominee!B45=\"\",0,VLOOKUP(Non_Nominee!B45,Non_Nominee!B$151:C$153,2,FALSE))","v":0},{"$f":"IF(Non_Nominee!D45=\"\",0,VLOOKUP(Non_Nominee!D45,Non_Nominee!D$151:E$232,2,FALSE))","v":0},{"$f":"IF(Non_Nominee!E45=\"\",0,VLOOKUP(Non_Nominee!E45,Non_Nominee!F$151:G$153,2,FALSE))","v":0},"00","DPM",{"$f":"Non_Nominee!F45","v":0},{"$f":"Non_Nominee!G45","v":0},null,null,null,null,null,null,null,null,null,null,null,null,null,null,null,null,null,null,"-",1,null,45]
[0,0,1,0,0,0,{"$f":"IF(Non_Nominee!B46=\"\",0,VLOOKUP(Non_Nominee!B46,Non_Nominee!B$151:C$153,2,FALSE))","v":0},{"$f":"IF(Non_Nominee!D46=\"\",0,VLOOKUP(Non_Nominee!D46,Non_Nominee!D$151:E$232,2,FALSE))","v":0},{"$f":"IF(Non_Nominee!E46=\"\",0,VLOOKUP(Non_Nominee!E46,Non_Nominee!F$151:G$153,2,FALSE))","v":0},"00","DPM",{"$f":"Non_Nominee!F46","v":0},{"$f":"Non_Nominee!G46","v":0},null,null,null,null,null,null,null,null,null,null,null,null,null,null,null,null,null,null,"-",1,null,46]
[0,0,1,0,0,0,{"$f":"IF(Non_Nominee!B47=\"\",0,VLOOKUP(Non_Nominee!B47,Non_Nominee!B$151:C$153,2,FALSE))","v":0},{"$f":"IF(Non_Nominee!D47=\"\",0,VLOOKUP(Non_Nominee!D47,Non_Nominee!D$151:E$232,2,FALSE))","v":0},{"$f":"IF(Non_Nominee!E47=\"\",0,VLOOKUP(Non_Nominee!E47,Non_Nominee!F$151:G$153,2,FALSE))","v":0},"00","DPM",{"$f":"Non_Nominee!F47","v":0},{"$f":"Non_Nominee!G47","v":0},null,null,null,null,null,null,null,null,null,null,null,null,null,null,null,null,null,null,"-",1,null,47]
[0,0,1,0,0,0,{"$f":"IF(Non_Nominee!B48=\"\",0,VLOOKUP(Non_Nominee!B48,Non_Nominee!B$151:C$153,2,FALSE))","v":0},{"$f":"IF(Non_Nominee!D48=\"\",0,VLOOKUP(Non_Nominee!D48,Non_Nominee!D$151:E$232,2,FALSE))","v":0},{"$f":"IF(Non_Nominee!E48=\"\",0,VLOOKUP(Non_Nominee!E48,Non_Nominee!F$151:G$153,2,FALSE))","v":0},"00","DPM",{"$f":"Non_Nominee!F48","v":0},{"$f":"Non_Nominee!G48","v":0},null,null,null,null,null,null,null,null,null,null,null,null,null,null,null,null,null,null,"-",1,null,48]
[0,0,1,0,0,0,{"$f":"IF(Non_Nominee!B49=\"\",0,VLOOKUP(Non_Nominee!B49,Non_Nominee!B$151:C$153,2,FALSE))","v":0},{"$f":"IF(Non_Nominee!D49=\"\",0,VLOOKUP(Non_Nominee!D49,Non_Nominee!D$151:E$232,2,FALSE))","v":0},{"$f":"IF(Non_Nominee!E49=\"\",0,VLOOKUP(Non_Nominee!E49,Non_Nominee!F$151:G$153,2,FALSE))","v":0},"00","DPM",{"$f":"Non_Nominee!F49","v":0},{"$f":"Non_Nominee!G49","v":0},null,null,null,null,null,null,null,null,null,null,null,null,null,null,null,null,null,null,"-",1,null,49]
[0,0,1,0,0,0,{"$f":"IF(Non_Nominee!B50=\"\",0,VLOOKUP(Non_Nominee!B50,Non_Nominee!B$151:C$153,2,FALSE))","v":0},{"$f":"IF(Non_Nominee!D50=\"\",0,VLOOKUP(Non_Nominee!D50,Non_Nominee!D$151:E$232,2,FALSE))","v":0},{"$f":"IF(Non_Nominee!E50=\"\",0,VLOOKUP(Non_Nominee!E50,Non_Nominee!F$151:G$153,2,FALSE))","v":0},"00","DPM",{"$f":"Non_Nominee!F50","v":0},{"$f":"Non_Nominee!G50","v":0},null,null,null,null,null,null,null,null,null,null,null,null,null,null,null,null,null,null,"-",1,null,50]
[0,0,1,0,0,0,{"$f":"IF(Non_Nominee!B51=\"\",0,VLOOKUP(Non_Nominee!B51,Non_Nominee!B$151:C$153,2,FALSE))","v":0},{"$f":"IF(Non_Nominee!D51=\"\",0,VLOOKUP(Non_Nominee!D51,Non_Nominee!D$151:E$232,2,FALSE))","v":0},{"$f":"IF(Non_Nominee!E51=\"\",0,VLOOKUP(Non_Nominee!E51,Non_Nominee!F$151:G$153,2,FALSE))","v":0},"00","DPM",{"$f":"Non_Nominee!F51","v":0},{"$f":"Non_Nominee!G51","v":0},null,null,null,null,null,null,null,null,null,null,null,null,null,null,null,null,null,null,"-",1,null,51]
[0,0,1,0,0,0,{"$f":"IF(Non_Nominee!B52=\"\",0,VLOOKUP(Non_Nominee!B52,Non_Nominee!B$151:C$153,2,FALSE))","v":0},{"$f":"IF(Non_Nominee!D52=\"\",0,VLOOKUP(Non_Nominee!D52,Non_Nominee!D$151:E$232,2,FALSE))","v":0},{"$f":"IF(Non_Nominee!E52=\"\",0,VLOOKUP(Non_Nominee!E52,Non_Nominee!F$151:G$153,2,FALSE))","v":0},"00","DPM",{"$f":"Non_Nominee!F52","v":0},{"$f":"Non_Nominee!G52","v":0},null,null,null,null,null,null,null,null,null,null,null,null,null,null,null,null,null,null,"-",1,null,52]
[0,0,1,0,0,0,{"$f":"IF(Non_Nominee!B53=\"\",0,VLOOKUP(Non_Nominee!B53,Non_Nominee!B$151:C$153,2,FALSE))","v":0},{"$f":"IF(Non_Nominee!D53=\"\",0,VLOOKUP(Non_Nominee!D53,Non_Nominee!D$151:E$232,2,FALSE))","v":0},{"$f":"IF(Non_Nominee!E53=\"\",0,VLOOKUP(Non_Nominee!E53,Non_Nominee!F$151:G$153,2,FALSE))","v":0},"00","DPM",{"$f":"Non_Nominee!F53","v":0},{"$f":"Non_Nominee!G53","v":0},null,null,null,null,null,null,null,null,null,null,null,null,null,null,null,null,null,null,"-",1,null,53]
[0,0,1,0,0,0,{"$f":"IF(Non_Nominee!B54=\"\",0,VLOOKUP(Non_Nominee!B54,Non_Nominee!B$151:C$153,2,FALSE))","v":0},{"$f":"IF(Non_Nominee!D54=\"\",0,VLOOKUP(Non_Nominee!D54,Non_Nominee!D$151:E$232,2,FALSE))","v":0},{"$f":"IF(Non_Nominee!E54=\"\",0,VLOOKUP(Non_Nominee!E54,Non_Nominee!F$151:G$153,2,FALSE))","v":0},"00","DPM",{"$f":"Non_Nominee!F54","v":0},{"$f":"Non_Nominee!G54","v":0},null,null,null,null,null,null,null,null,null,null,null,null,null,null,null,null,null,null,"-",1,null,54]
[0,0,1,0,0,0,{"$f":"IF(Non_Nominee!B55=\"\",0,VLOOKUP(Non_Nominee!B55,Non_Nominee!B$151:C$153,2,FALSE))","v":0},{"$f":"IF(Non_Nominee!D55=\"\",0,VLOOKUP(Non_Nominee!D55,Non_Nominee!D$151:E$232,2,FALSE))","v":0},{"$f":"IF(Non_Nominee!E55=\"\",0,VLOOKUP(Non_Nominee!E55,Non_Nominee!F$151:G$153,2,FALSE))","v":0},"00","DPM",{"$f":"Non_Nominee!F55","v":0},{"$f":"Non_Nominee!G55","v":0},null,null,null,null,null,null,null,null,null,null,null,null,null,null,null,null,null,null,"-",1,null,55]
[0,0,1,0,0,0,{"$f":"IF(Non_Nominee!B56=\"\",0,VLOOKUP(Non_Nominee!B56,Non_Nominee!B$151:C$153,2,FALSE))","v":0},{"$f":"IF(Non_Nominee!D56=\"\",0,VLOOKUP(Non_Nominee!D56,Non_Nominee!D$151:E$232,2,FALSE))","v":0},{"$f":"IF(Non_Nominee!E56=\"\",0,VLOOKUP(Non_Nominee!E56,Non_Nominee!F$151:G$153,2,FALSE))","v":0},"00","DPM",{"$f":"Non_Nominee!F56","v":0},{"$f":"Non_Nominee!G56","v":0},null,null,null,null,null,null,null,null,null,null,null,null,null,null,null,null,null,null,"-",1,null,56]
[0,0,1,0,0,0,{"$f":"IF(Non_Nominee!B57=\"\",0,VLOOKUP(Non_Nominee!B57,Non_Nominee!B$151:C$153,2,FALSE))","v":0},{"$f":"IF(Non_Nominee!D57=\"\",0,VLOOKUP(Non_Nominee!D57,Non_Nominee!D$151:E$232,2,FALSE))","v":0},{"$f":"IF(Non_Nominee!E57=\"\",0,VLOOKUP(Non_Nominee!E57,Non_Nominee!F$151:G$153,2,FALSE))","v":0},"00","DPM",{"$f":"Non_Nominee!F57","v":0},{"$f":"Non_Nominee!G57","v":0},null,null,null,null,null,null,null,null,null,null,null,null,null,null,null,null,null,null,"-",1,null,57]
[0,0,1,0,0,0,{"$f":"IF(Non_Nominee!B58=\"\",0,VLOOKUP(Non_Nominee!B58,Non_Nominee!B$151:C$153,2,FALSE))","v":0},{"$f":"IF(Non_Nominee!D58=\"\",0,VLOOKUP(Non_Nominee!D58,Non_Nominee!D$151:E$232,2,FALSE))","v":0},{"$f":"IF(Non_Nominee!E58=\"\",0,VLOOKUP(Non_Nominee!E58,Non_Nominee!F$151:G$153,2,FALSE))","v":0},"00","DPM",{"$f":"Non_Nominee!F58","v":0},{"$f":"Non_Nominee!G58","v":0},null,null,null,null,null,null,null,null,null,null,null,null,null,null,null,null,null,null,"-",1,null,58]
[0,0,1,0,0,0,{"$f":"IF(Non_Nominee!B59=\"\",0,VLOOKUP(Non_Nominee!B59,Non_Nominee!B$151:C$153,2,FALSE))","v":0},{"$f":"IF(Non_Nominee!D59=\"\",0,VLOOKUP(Non_Nominee!D59,Non_Nominee!D$151:E$232,2,FALSE))","v":0},{"$f":"IF(Non_Nominee!E59=\"\",0,VLOOKUP(Non_Nominee!E59,Non_Nominee!F$151:G$153,2,FALSE))","v":0},"00","DPM",{"$f":"Non_Nominee!F59","v":0},{"$f":"Non_Nominee!G59","v":0},null,null,null,null,null,null,null,null,null,null,null,null,null,null,null,null,null,null,"-",1,null,59]
[0,0,1,0,0,0,{"$f":"IF(Non_Nominee!B60=\"\",0,VLOOKUP(Non_Nominee!B60,Non_Nominee!B$151:C$153,2,FALSE))","v":0},{"$f":"IF(Non_Nominee!D60=\"\",0,VLOOKUP(Non_Nominee!D60,Non_Nominee!D$151:E$232,2,FALSE))","v":0},{"$f":"IF(Non_Nominee!E60=\"\",0,VLOOKUP(Non_Nominee!E60,Non_Nominee!F$151:G$153,2,FALSE))","v":0},"00","DPM",{"$f":"Non_Nominee!F60","v":0},{"$f":"Non_Nominee!G60","v":0},null,null,null,null,null,null,null,null,null,null,null,null,null,null,null,null,null,null,"-",1,null,60]
[0,0,1,0,0,0,{"$f":"IF(Non_Nominee!B61=\"\",0,VLOOKUP(Non_Nominee!B61,Non_Nominee!B$151:C$153,2,FALSE))","v":0},{"$f":"IF(Non_Nominee!D61=\"\",0,VLOOKUP(Non_Nominee!D61,Non_Nominee!D$151:E$232,2,FALSE))","v":0},{"$f":"IF(Non_Nominee!E61=\"\",0,VLOOKUP(Non_Nominee!E61,Non_Nominee!F$151:G$153,2,FALSE))","v":0},"00","DPM",{"$f":"Non_Nominee!F61","v":0},{"$f":"Non_Nominee!G61","v":0},null,null,null,null,null,null,null,null,null,null,null,null,null,null,null,null,null,null,"-",1,null,61]
[0,0,1,0,0,0,{"$f":"IF(Non_Nominee!B62=\"\",0,VLOOKUP(Non_Nominee!B62,Non_Nominee!B$151:C$153,2,FALSE))","v":0},{"$f":"IF(Non_Nominee!D62=\"\",0,VLOOKUP(Non_Nominee!D62,Non_Nominee!D$151:E$232,2,FALSE))","v":0},{"$f":"IF(Non_Nominee!E62=\"\",0,VLOOKUP(Non_Nominee!E62,Non_Nominee!F$151:G$153,2,FALSE))","v":0},"00","DPM",{"$f":"Non_Nominee!F62","v":0},{"$f":"Non_Nominee!G62","v":0},null,null,null,null,null,null,null,null,null,null,null,null,null,null,null,null,null,null,"-",1,null,62]
[0,0,1,0,0,0,{"$f":"IF(Non_Nominee!B63=\"\",0,VLOOKUP(Non_Nominee!B63,Non_Nominee!B$151:C$153,2,FALSE))","v":0},{"$f":"IF(Non_Nominee!D63=\"\",0,VLOOKUP(Non_Nominee!D63,Non_Nominee!D$151:E$232,2,FALSE))","v":0},{"$f":"IF(Non_Nominee!E63=\"\",0,VLOOKUP(Non_Nominee!E63,Non_Nominee!F$151:G$153,2,FALSE))","v":0},"00","DPM",{"$f":"Non_Nominee!F63","v":0},{"$f":"Non_Nominee!G63","v":0},null,null,null,null,null,null,null,null,null,null,null,null,null,null,null,null,null,null,"-",1,null,63]
[0,0,1,0,0,0,{"$f":"IF(Non_Nominee!B64=\"\",0,VLOOKUP(Non_Nominee!B64,Non_Nominee!B$151:C$153,2,FALSE))","v":0},{"$f":"IF(Non_Nominee!D64=\"\",0,VLOOKUP(Non_Nominee!D64,Non_Nominee!D$151:E$232,2,FALSE))","v":0},{"$f":"IF(Non_Nominee!E64=\"\",0,VLOOKUP(Non_Nominee!E64,Non_Nominee!F$151:G$153,2,FALSE))","v":0},"00","DPM",{"$f":"Non_Nominee!F64","v":0},{"$f":"Non_Nominee!G64","v":0},null,null,null,null,null,null,null,null,null,null,null,null,null,null,null,null,null,null,"-",1,null,64]
[0,0,1,0,0,0,{"$f":"IF(Non_Nominee!B65=\"\",0,VLOOKUP(Non_Nominee!B65,Non_Nominee!B$151:C$153,2,FALSE))","v":0},{"$f":"IF(Non_Nominee!D65=\"\",0,VLOOKUP(Non_Nominee!D65,Non_Nominee!D$151:E$232,2,FALSE))","v":0},{"$f":"IF(Non_Nominee!E65=\"\",0,VLOOKUP(Non_Nominee!E65,Non_Nominee!F$151:G$153,2,FALSE))","v":0},"00","DPM",{"$f":"Non_Nominee!F65","v":0},{"$f":"Non_Nominee!G65","v":0},null,null,null,null,null,null,null,null,null,null,null,null,null,null,null,null,null,null,"-",1,null,65]
[0,0,1,0,0,0,{"$f":"IF(Non_Nominee!B66=\"\",0,VLOOKUP(Non_Nominee!B66,Non_Nominee!B$151:C$153,2,FALSE))","v":0},{"$f":"IF(Non_Nominee!D66=\"\",0,VLOOKUP(Non_Nominee!D66,Non_Nominee!D$151:E$232,2,FALSE))","v":0},{"$f":"IF(Non_Nominee!E66=\"\",0,VLOOKUP(Non_Nominee!E66,Non_Nominee!F$151:G$153,2,FALSE))","v":0},"00","DPM",{"$f":"Non_Nominee!F66","v":0},{"$f":"Non_Nominee!G66","v":0},null,null,null,null,null,null,null,null,null,null,null,null,null,null,null,null,null,null,"-",1,null,66]
[0,0,1,0,0,0,{"$f":"IF(Non_Nominee!B67=\"\",0,VLOOKUP(Non_Nominee!B67,Non_Nominee!B$151:C$153,2,FALSE))","v":0},{"$f":"IF(Non_Nominee!D67=\"\",0,VLOOKUP(Non_Nominee!D67,Non_Nominee!D$151:E$232,2,FALSE))","v":0},{"$f":"IF(Non_Nominee!E67=\"\",0,VLOOKUP(Non_Nominee!E67,Non_Nominee!F$151:G$153,2,FALSE))","v":0},"00","DPM",{"$f":"Non_Nominee!F67","v":0},{"$f":"Non_Nominee!G67","v":0},null,null,null,null,null,null,null,null,null,null,null,null,null,null,null,null,null,null,"-",1,null,67]
[0,0,1,0,0,0,{"$f":"IF(Non_Nominee!B68=\"\",0,VLOOKUP(Non_Nominee!B68,Non_Nominee!B$151:C$153,2,FALSE))","v":0},{"$f":"IF(Non_Nominee!D68=\"\",0,VLOOKUP(Non_Nominee!D68,Non_Nominee!D$151:E$232,2,FALSE))","v":0},{"$f":"IF(Non_Nominee!E68=\"\",0,VLOOKUP(Non_Nominee!E68,Non_Nominee!F$151:G$153,2,FALSE))","v":0},"00","DPM",{"$f":"Non_Nominee!F68","v":0},{"$f":"Non_Nominee!G68","v":0},null,null,null,null,null,null,null,null,null,null,null,null,null,null,null,null,null,null,"-",1,null,68]
[0,0,1,0,0,0,{"$f":"IF(Non_Nominee!B69=\"\",0,VLOOKUP(Non_Nominee!B69,Non_Nominee!B$151:C$153,2,FALSE))","v":0},{"$f":"IF(Non_Nominee!D69=\"\",0,VLOOKUP(Non_Nominee!D69,Non_Nominee!D$151:E$232,2,FALSE))","v":0},{"$f":"IF(Non_Nominee!E69=\"\",0,VLOOKUP(Non_Nominee!E69,Non_Nominee!F$151:G$153,2,FALSE))","v":0},"00","DPM",{"$f":"Non_Nominee!F69","v":0},{"$f":"Non_Nominee!G69","v":0},null,null,null,null,null,null,null,null,null,null,null,null,null,null,null,null,null,null,"-",1,null,69]
[0,0,1,0,0,0,{"$f":"IF(Non_Nominee!B70=\"\",0,VLOOKUP(Non_Nominee!B70,Non_Nominee!B$151:C$153,2,FALSE))","v":0},{"$f":"IF(Non_Nominee!D70=\"\",0,VLOOKUP(Non_Nominee!D70,Non_Nominee!D$151:E$232,2,FALSE))","v":0},{"$f":"IF(Non_Nominee!E70=\"\",0,VLOOKUP(Non_Nominee!E70,Non_Nominee!F$151:G$153,2,FALSE))","v":0},"00","DPM",{"$f":"Non_Nominee!F70","v":0},{"$f":"Non_Nominee!G70","v":0},null,null,null,null,null,null,null,null,null,null,null,null,null,null,null,null,null,null,"-",1,null,70]
[0,0,1,0,0,0,{"$f":"IF(Non_Nominee!B71=\"\",0,VLOOKUP(Non_Nominee!B71,Non_Nominee!B$151:C$153,2,FALSE))","v":0},{"$f":"IF(Non_Nominee!D71=\"\",0,VLOOKUP(Non_Nominee!D71,Non_Nominee!D$151:E$232,2,FALSE))","v":0},{"$f":"IF(Non_Nominee!E71=\"\",0,VLOOKUP(Non_Nominee!E71,Non_Nominee!F$151:G$153,2,FALSE))","v":0},"00","DPM",{"$f":"Non_Nominee!F71","v":0},{"$f":"Non_Nominee!G71","v":0},null,null,null,null,null,null,null,null,null,null,null,null,null,null,null,null,null,null,"-",1,null,71]
[0,0,1,0,0,0,{"$f":"IF(Non_Nominee!B72=\"\",0,VLOOKUP(Non_Nominee!B72,Non_Nominee!B$151:C$153,2,FALSE))","v":0},{"$f":"IF(Non_Nominee!D72=\"\",0,VLOOKUP(Non_Nominee!D72,Non_Nominee!D$151:E$232,2,FALSE))","v":0},{"$f":"IF(Non_Nominee!E72=\"\",0,VLOOKUP(Non_Nominee!E72,Non_Nominee!F$151:G$153,2,FALSE))","v":0},"00","DPM",{"$f":"Non_Nominee!F72","v":0},{"$f":"Non_Nominee!G72","v":0},null,null,null,null,null,null,null,null,null,null,null,null,null,null,null,null,null,null,"-",1,null,72]
[0,0,1,0,0,0,{"$f":"IF(Non_Nominee!B73=\"\",0,VLOOKUP(Non_Nominee!B73,Non_Nominee!B$151:C$153,2,FALSE))","v":0},{"$f":"IF(Non_Nominee!D73=\"\",0,VLOOKUP(Non_Nominee!D73,Non_Nominee!D$151:E$232,2,FALSE))","v":0},{"$f":"IF(Non_Nominee!E73=\"\",0,VLOOKUP(Non_Nominee!E73,Non_Nominee!F$151:G$153,2,FALSE))","v":0},"00","DPM",{"$f":"Non_Nominee!F73","v":0},{"$f":"Non_Nominee!G73","v":0},null,null,null,null,null,null,null,null,null,null,null,null,null,null,null,null,null,null,"-",1,null,73]
[0,0,1,0,0,0,{"$f":"IF(Non_Nominee!B74=\"\",0,VLOOKUP(Non_Nominee!B74,Non_Nominee!B$151:C$153,2,FALSE))","v":0},{"$f":"IF(Non_Nominee!D74=\"\",0,VLOOKUP(Non_Nominee!D74,Non_Nominee!D$151:E$232,2,FALSE))","v":0},{"$f":"IF(Non_Nominee!E74=\"\",0,VLOOKUP(Non_Nominee!E74,Non_Nominee!F$151:G$153,2,FALSE))","v":0},"00","DPM",{"$f":"Non_Nominee!F74","v":0},{"$f":"Non_Nominee!G74","v":0},null,null,null,null,null,null,null,null,null,null,null,null,null,null,null,null,null,null,"-",1,null,74]
[0,0,1,0,0,0,{"$f":"IF(Non_Nominee!B81<>\"\",9990,0)","v":0},{"$f":"IF(Non_Nominee!D81=\"\",0,VLOOKUP(Non_Nominee!D81,Non_Nominee!D$151:E$232,2,FALSE))","v":0},"#LK","00","DPM",{"$f":"Non_Nominee!F81","v":0},{"$f":"Non_Nominee!G81","v":0},null,null,null,null,null,null,null,null,null,null,null,null,null,null,null,null,null,null,{"$f":"IF(Non_Nominee!B81<>\"\",Non_Nominee!B81,\"-\")","v":"-"},1,null,81]
[0,0,1,0,0,0,{"$f":"IF(Non_Nominee!B82<>\"\",9990,0)","v":0},{"$f":"IF(Non_Nominee!D82=\"\",0,VLOOKUP(Non_Nominee!D82,Non_Nominee!D$151:E$232,2,FALSE))","v":0},"#LK","00","DPM",{"$f":"Non_Nominee!F82","v":0},{"$f":"Non_Nominee!G82","v":0},null,null,null,null,null,null,null,null,null,null,null,null,null,null,null,null,null,null,{"$f":"IF(Non_Nominee!B82<>\"\",Non_Nominee!B82,\"-\")","v":"-"},1,null,82]
[0,0,1,0,0,0,{"$f":"IF(Non_Nominee!B83<>\"\",9990,0)","v":0},{"$f":"IF(Non_Nominee!D83=\"\",0,VLOOKUP(Non_Nominee!D83,Non_Nominee!D$151:E$232,2,FALSE))","v":0},"#LK","00","DPM",{"$f":"Non_Nominee!F83","v":0},{"$f":"Non_Nominee!G83","v":0},null,null,null,null,null,null,null,null,null,null,null,null,null,null,null,null,null,null,{"$f":"IF(Non_Nominee!B83<>\"\",Non_Nominee!B83,\"-\")","v":"-"},1,null,83]
[0,0,1,0,0,0,{"$f":"IF(Non_Nominee!B84<>\"\",9990,0)","v":0},{"$f":"IF(Non_Nominee!D84=\"\",0,VLOOKUP(Non_Nominee!D84,Non_Nominee!D$151:E$232,2,FALSE))","v":0},"#LK","00","DPM",{"$f":"Non_Nominee!F84","v":0},{"$f":"Non_Nominee!G84","v":0},null,null,null,null,null,null,null,null,null,null,null,null,null,null,null,null,null,null,{"$f":"IF(Non_Nominee!B84<>\"\",Non_Nominee!B84,\"-\")","v":"-"},1,null,84]
[0,0,1,0,0,0,{"$f":"IF(Non_Nominee!B85<>\"\",9990,0)","v":0},{"$f":"IF(Non_Nominee!D85=\"\",0,VLOOKUP(Non_Nominee!D85,Non_Nominee!D$151:E$232,2,FALSE))","v":0},"#LK","00","DPM",{"$f":"Non_Nominee!F85","v":0},{"$f":"Non_Nominee!G85","v":0},null,null,null,null,null,null,null,null,null,null,null,null,null,null,null,null,null,null,{"$f":"IF(Non_Nominee!B85<>\"\",Non_Nominee!B85,\"-\")","v":"-"},{"$f":"IF(OR(ABS(L66)>=0.55,ABS(M66)>=0.55,ABS(N66)>=0.55,ABS(O66)>=0.55,ABS(P66)>=0.55,ABS(Q66)>=0.55,ABS(R66)>=0.55,ABS(S66)>=0.55,ABS(T66)>=0.55,ABS(U66)>=0.55,ABS(V66)>=0.55,ABS(W66)>=0.55,ABS(X66)>=0.55,ABS(Y66)>=0.55,ABS(Z66)>=0.55,ABS(AA66)>=0.55,ABS(AB66)>=0.55,ABS(AC66)>=0.55,ABS(AD66)>=0.55,ABS(AE66)>=0.55),0,1)","v":1},null,85]
[{"$f":"$A$2","v":0},{"$f":"$B$2","v":0},1,{"$f":"$D$2","v":0},{"$f":"$E$2","v":0},{"$f":"$F$2","v":0},{"$f":"IF(Non_Nominee!B86<>\"\",9990,0)","v":0},{"$f":"IF(Non_Nominee!D86=\"\",0,VLOOKUP(Non_Nominee!D86,Non_Nominee!D$151:E$232,2,FALSE))","v":0},"#LK","00","DPM",{"$f":"Non_Nominee!F86","v":0},{"$f":"Non_Nominee!G86","v":0},null,null,null,null,null,null,null,null,null,null,null,null,null,null,null,null,null,null,{"$f":"IF(Non_Nominee!B86<>\"\",Non_Nominee!B86,\"-\")","v":"-"},1,null,86]
[0,0,1,0,0,0,{"$f":"IF(Non_Nominee!B87<>\"\",9990,0)","v":0},{"$f":"IF(Non_Nominee!D87=\"\",0,VLOOKUP(Non_Nominee!D87,Non_Nominee!D$151:E$232,2,FALSE))","v":0},"#LK","00","DPM",{"$f":"Non_Nominee!F87","v":0},{"$f":"Non_Nominee!G87","v":0},null,null,null,null,null,null,null,null,null,null,null,null,null,null,null,null,null,null,{"$f":"IF(Non_Nominee!B87<>\"\",Non_Nominee!B87,\"-\")","v":"-"},1,null,87]
[0,0,1,0,0,0,{"$f":"IF(Non_Nominee!B88<>\"\",9990,0)","v":0},{"$f":"IF(Non_Nominee!D88=\"\",0,VLOOKUP(Non_Nominee!D88,Non_Nominee!D$151:E$232,2,FALSE))","v":0},"#LK","00","DPM",{"$f":"Non_Nominee!F88","v":0},{"$f":"Non_Nominee!G88","v":0},null,null,null,null,null,null,null,null,null,null,null,null,null,null,null,null,null,null,{"$f":"IF(Non_Nominee!B88<>\"\",Non_Nominee!B88,\"-\")","v":"-"},1,null,88]
[0,0,1,0,0,0,{"$f":"IF(Non_Nominee!B89<>\"\",9990,0)","v":0},{"$f":"IF(Non_Nominee!D89=\"\",0,VLOOKUP(Non_Nominee!D89,Non_Nominee!D$151:E$232,2,FALSE))","v":0},"#LK","00","DPM",{"$f":"Non_Nominee!F89","v":0},{"$f":"Non_Nominee!G89","v":0},null,null,null,null,null,null,null,null,null,null,null,null,null,null,null,null,null,null,{"$f":"IF(Non_Nominee!B89<>\"\",Non_Nominee!B89,\"-\")","v":"-"},1,null,89]
[0,0,1,0,0,0,{"$f":"IF(Non_Nominee!B90<>\"\",9990,0)","v":0},{"$f":"IF(Non_Nominee!D90=\"\",0,VLOOKUP(Non_Nominee!D90,Non_Nominee!D$151:E$232,2,FALSE))","v":0},"#LK","00","DPM",{"$f":"Non_Nominee!F90","v":0},{"$f":"Non_Nominee!G90","v":0},null,null,null,null,null,null,null,null,null,null,null,null,null,null,null,null,null,null,{"$f":"IF(Non_Nominee!B90<>\"\",Non_Nominee!B90,\"-\")","v":"-"},1,null,90]
[0,0,2,0,0,0,{"$f":"IF(Non_Nominee!B15=\"\",0,VLOOKUP(Non_Nominee!B15,Non_Nominee!B$151:C$153,2,FALSE))","v":0},{"$f":"IF(Non_Nominee!D15=\"\",0,VLOOKUP(Non_Nominee!D15,Non_Nominee!D$151:E$232,2,FALSE))","v":0},{"$f":"IF(Non_Nominee!E15=\"\",0,VLOOKUP(Non_Nominee!E15,Non_Nominee!F$151:G$153,2,FALSE))","v":0},"00","DPM",{"$f":"Non_Nominee!H15","v":0},{"$f":"Non_Nominee!I15","v":0},null,null,null,null,null,null,null,null,null,null,null,null,null,null,null,null,null,null,"-",1,"Sheet 21 Non Nominee'!H15 / I15",15]
[0,0,2,0,0,0,{"$f":"IF(Non_Nominee!B16=\"\",0,VLOOKUP(Non_Nominee!B16,Non_Nominee!B$151:C$153,2,FALSE))","v":0},{"$f":"IF(Non_Nominee!D16=\"\",0,VLOOKUP(Non_Nominee!D16,Non_Nominee!D$151:E$232,2,FALSE))","v":0},{"$f":"IF(Non_Nominee!E16=\"\",0,VLOOKUP(Non_Nominee!E16,Non_Nominee!F$151:G$153,2,FALSE))","v":0},"00","DPM",{"$f":"Non_Nominee!H16","v":0},{"$f":"Non_Nominee!I16","v":0},null,null,null,null,null,null,null,null,null,null,null,null,null,null,null,null,null,null,"-",1,null,16]
[0,0,2,0,0,0,{"$f":"IF(Non_Nominee!B17=\"\",0,VLOOKUP(Non_Nominee!B17,Non_Nominee!B$151:C$153,2,FALSE))","v":0},{"$f":"IF(Non_Nominee!D17=\"\",0,VLOOKUP(Non_Nominee!D17,Non_Nominee!D$151:E$232,2,FALSE))","v":0},{"$f":"IF(Non_Nominee!E17=\"\",0,VLOOKUP(Non_Nominee!E17,Non_Nominee!F$151:G$153,2,FALSE))","v":0},"00","DPM",{"$f":"Non_Nominee!H17","v":0},{"$f":"Non_Nominee!I17","v":0},null,null,null,null,null,null,null,null,null,null,null,null,null,null,null,null,null,null,"-",1,null,17]
[0,0,2,0,0,0,{"$f":"IF(Non_Nominee!B18=\"\",0,VLOOKUP(Non_Nominee!B18,Non_Nominee!B$151:C$153,2,FALSE))","v":0},{"$f":"IF(Non_Nominee!D18=\"\",0,VLOOKUP(Non_Nominee!D18,Non_Nominee!D$151:E$232,2,FALSE))","v":0},{"$f":"IF(Non_Nominee!E18=\"\",0,VLOOKUP(Non_Nominee!E18,Non_Nominee!F$151:G$153,2,FALSE))","v":0},"00","DPM",{"$f":"Non_Nominee!H18","v":0},{"$f":"Non_Nominee!I18","v":0},null,null,null,null,null,null,null,null,null,null,null,null,null,null,null,null,null,null,"-",1,null,18]
[0,0,2,0,0,0,{"$f":"IF(Non_Nominee!B19=\"\",0,VLOOKUP(Non_Nominee!B19,Non_Nominee!B$151:C$153,2,FALSE))","v":0},{"$f":"IF(Non_Nominee!D19=\"\",0,VLOOKUP(Non_Nominee!D19,Non_Nominee!D$151:E$232,2,FALSE))","v":0},{"$f":"IF(Non_Nominee!E19=\"\",0,VLOOKUP(Non_Nominee!E19,Non_Nominee!F$151:G$153,2,FALSE))","v":0},"00","DPM",{"$f":"Non_Nominee!H19","v":0},{"$f":"Non_Nominee!I19","v":0},null,null,null,null,null,null,null,null,null,null,null,null,null,null,null,null,null,null,"-",1,null,19]
[0,0,2,0,0,0,{"$f":"IF(Non_Nominee!B20=\"\",0,VLOOKUP(Non_Nominee!B20,Non_Nominee!B$151:C$153,2,FALSE))","v":0},{"$f":"IF(Non_Nominee!D20=\"\",0,VLOOKUP(Non_Nominee!D20,Non_Nominee!D$151:E$232,2,FALSE))","v":0},{"$f":"IF(Non_Nominee!E20=\"\",0,VLOOKUP(Non_Nominee!E20,Non_Nominee!F$151:G$153,2,FALSE))","v":0},"00","DPM",{"$f":"Non_Nominee!H20","v":0},{"$f":"Non_Nominee!I20","v":0},null,null,null,null,null,null,null,null,null,null,null,null,null,null,null,null,null,null,"-",1,null,20]
[0,0,2,0,0,0,{"$f":"IF(Non_Nominee!B21=\"\",0,VLOOKUP(Non_Nominee!B21,Non_Nominee!B$151:C$153,2,FALSE))","v":0},{"$f":"IF(Non_Nominee!D21=\"\",0,VLOOKUP(Non_Nominee!D21,Non_Nominee!D$151:E$232,2,FALSE))","v":0},{"$f":"IF(Non_Nominee!E21=\"\",0,VLOOKUP(Non_Nominee!E21,Non_Nominee!F$151:G$153,2,FALSE))","v":0},"00","DPM",{"$f":"Non_Nominee!H21","v":0},{"$f":"Non_Nominee!I21","v":0},null,null,null,null,null,null,null,null,null,null,null,null,null,null,null,null,null,null,"-",1,null,21]
[0,0,2,0,0,0,{"$f":"IF(Non_Nominee!B22=\"\",0,VLOOKUP(Non_Nominee!B22,Non_Nominee!B$151:C$153,2,FALSE))","v":0},{"$f":"IF(Non_Nominee!D22=\"\",0,VLOOKUP(Non_Nominee!D22,Non_Nominee!D$151:E$232,2,FALSE))","v":0},{"$f":"IF(Non_Nominee!E22=\"\",0,VLOOKUP(Non_Nominee!E22,Non_Nominee!F$151:G$153,2,FALSE))","v":0},"00","DPM",{"$f":"Non_Nominee!H22","v":0},{"$f":"Non_Nominee!I22","v":0},null,null,null,null,null,null,null,null,null,null,null,null,null,null,null,null,null,null,"-",1,null,22]
[0,0,2,0,0,0,{"$f":"IF(Non_Nominee!B23=\"\",0,VLOOKUP(Non_Nominee!B23,Non_Nominee!B$151:C$153,2,FALSE))","v":0},{"$f":"IF(Non_Nominee!D23=\"\",0,VLOOKUP(Non_Nominee!D23,Non_Nominee!D$151:E$232,2,FALSE))","v":0},{"$f":"IF(Non_Nominee!E23=\"\",0,VLOOKUP(Non_Nominee!E23,Non_Nominee!F$151:G$153,2,FALSE))","v":0},"00","DPM",{"$f":"Non_Nominee!H23","v":0},{"$f":"Non_Nominee!I23","v":0},null,null,null,null,null,null,null,null,null,null,null,null,null,null,null,null,null,null,"-",1,null,23]
[0,0,2,0,0,0,{"$f":"IF(Non_Nominee!B24=\"\",0,VLOOKUP(Non_Nominee!B24,Non_Nominee!B$151:C$153,2,FALSE))","v":0},{"$f":"IF(Non_Nominee!D24=\"\",0,VLOOKUP(Non_Nominee!D24,Non_Nominee!D$151:E$232,2,FALSE))","v":0},{"$f":"IF(Non_Nominee!E24=\"\",0,VLOOKUP(Non_Nominee!E24,Non_Nominee!F$151:G$153,2,FALSE))","v":0},"00","DPM",{"$f":"Non_Nominee!H24","v":0},{"$f":"Non_Nominee!I24","v":0},null,null,null,null,null,null,null,null,null,null,null,null,null,null,null,null,null,null,"-",1,null,24]
[0,0,2,0,0,0,{"$f":"IF(Non_Nominee!B25=\"\",0,VLOOKUP(Non_Nominee!B25,Non_Nominee!B$151:C$153,2,FALSE))","v":0},{"$f":"IF(Non_Nominee!D25=\"\",0,VLOOKUP(Non_Nominee!D25,Non_Nominee!D$151:E$232,2,FALSE))","v":0},{"$f":"IF(Non_Nominee!E25=\"\",0,VLOOKUP(Non_Nominee!E25,Non_Nominee!F$151:G$153,2,FALSE))","v":0},"00","DPM",{"$f":"Non_Nominee!H25","v":0},{"$f":"Non_Nominee!I25","v":0},null,null,null,null,null,null,null,null,null,null,null,null,null,null,null,null,null,null,"-",1,null,25]
[0,0,2,0,0,0,{"$f":"IF(Non_Nominee!B26=\"\",0,VLOOKUP(Non_Nominee!B26,Non_Nominee!B$151:C$153,2,FALSE))","v":0},{"$f":"IF(Non_Nominee!D26=\"\",0,VLOOKUP(Non_Nominee!D26,Non_Nominee!D$151:E$232,2,FALSE))","v":0},{"$f":"IF(Non_Nominee!E26=\"\",0,VLOOKUP(Non_Nominee!E26,Non_Nominee!F$151:G$153,2,FALSE))","v":0},"00","DPM",{"$f":"Non_Nominee!H26","v":0},{"$f":"Non_Nominee!I26","v":0},null,null,null,null,null,null,null,null,null,null,null,null,null,null,null,null,null,null,"-",1,null,26]
[0,0,2,0,0,0,{"$f":"IF(Non_Nominee!B27=\"\",0,VLOOKUP(Non_Nominee!B27,Non_Nominee!B$151:C$153,2,FALSE))","v":0},{"$f":"IF(Non_Nominee!D27=\"\",0,VLOOKUP(Non_Nominee!D27,Non_Nominee!D$151:E$232,2,FALSE))","v":0},{"$f":"IF(Non_Nominee!E27=\"\",0,VLOOKUP(Non_Nominee!E27,Non_Nominee!F$151:G$153,2,FALSE))","v":0},"00","DPM",{"$f":"Non_Nominee!H27","v":0},{"$f":"Non_Nominee!I27","v":0},null,null,null,null,null,null,null,null,null,null,null,null,null,null,null,null,null,null,"-",1,null,27]
[0,0,2,0,0,0,{"$f":"IF(Non_Nominee!B28=\"\",0,VLOOKUP(Non_Nominee!B28,Non_Nominee!B$151:C$153,2,FALSE))","v":0},{"$f":"IF(Non_Nominee!D28=\"\",0,VLOOKUP(Non_Nominee!D28,Non_Nominee!D$151:E$232,2,FALSE))","v":0},{"$f":"IF(Non_Nominee!E28=\"\",0,VLOOKUP(Non_Nominee!E28,Non_Nominee!F$151:G$153,2,FALSE))","v":0},"00","DPM",{"$f":"Non_Nominee!H28","v":0},{"$f":"Non_Nominee!I28","v":0},null,null,null,null,null,null,null,null,null,null,null,null,null,null,null,null,null,null,"-",1,null,28]
[0,0,2,0,0,0,{"$f":"IF(Non_Nominee!B29=\"\",0,VLOOKUP(Non_Nominee!B29,Non_Nominee!B$151:C$153,2,FALSE))","v":0},{"$f":"IF(Non_Nominee!D29=\"\",0,VLOOKUP(Non_Nominee!D29,Non_Nominee!D$151:E$232,2,FALSE))","v":0},{"$f":"IF(Non_Nominee!E29=\"\",0,VLOOKUP(Non_Nominee!E29,Non_Nominee!F$151:G$153,2,FALSE))","v":0},"00","DPM",{"$f":"Non_Nominee!H29","v":0},{"$f":"Non_Nominee!I29","v":0},null,null,null,null,null,null,null,null,null,null,null,null,null,null,null,null,null,null,"-",1,null,29]
[0,0,2,0,0,0,{"$f":"IF(Non_Nominee!B30=\"\",0,VLOOKUP(Non_Nominee!B30,Non_Nominee!B$151:C$153,2,FALSE))","v":0},{"$f":"IF(Non_Nominee!D30=\"\",0,VLOOKUP(Non_Nominee!D30,Non_Nominee!D$151:E$232,2,FALSE))","v":0},{"$f":"IF(Non_Nominee!E30=\"\",0,VLOOKUP(Non_Nominee!E30,Non_Nominee!F$151:G$153,2,FALSE))","v":0},"00","DPM",{"$f":"Non_Nominee!H30","v":0},{"$f":"Non_Nominee!I30","v":0},null,null,null,null,null,null,null,null,null,null,null,null,null,null,null,null,null,null,"-",1,null,30]
[0,0,2,0,0,0,{"$f":"IF(Non_Nominee!B31=\"\",0,VLOOKUP(Non_Nominee!B31,Non_Nominee!B$151:C$153,2,FALSE))","v":0},{"$f":"IF(Non_Nominee!D31=\"\",0,VLOOKUP(Non_Nominee!D31,Non_Nominee!D$151:E$232,2,FALSE))","v":0},{"$f":"IF(Non_Nominee!E31=\"\",0,VLOOKUP(Non_Nominee!E31,Non_Nominee!F$151:G$153,2,FALSE))","v":0},"00","DPM",{"$f":"Non_Nominee!H31","v":0},{"$f":"Non_Nominee!I31","v":0},null,null,null,null,null,null,null,null,null,null,null,null,null,null,null,null,null,null,"-",1,null,31]
[0,0,2,0,0,0,{"$f":"IF(Non_Nominee!B32=\"\",0,VLOOKUP(Non_Nominee!B32,Non_Nominee!B$151:C$153,2,FALSE))","v":0},{"$f":"IF(Non_Nominee!D32=\"\",0,VLOOKUP(Non_Nominee!D32,Non_Nominee!D$151:E$232,2,FALSE))","v":0},{"$f":"IF(Non_Nominee!E32=\"\",0,VLOOKUP(Non_Nominee!E32,Non_Nominee!F$151:G$153,2,FALSE))","v":0},"00","DPM",{"$f":"Non_Nominee!H32","v":0},{"$f":"Non_Nominee!I32","v":0},null,null,null,null,null,null,null,null,null,null,null,null,null,null,null,null,null,null,"-",1,null,32]
[0,0,2,0,0,0,{"$f":"IF(Non_Nominee!B33=\"\",0,VLOOKUP(Non_Nominee!B33,Non_Nominee!B$151:C$153,2,FALSE))","v":0},{"$f":"IF(Non_Nominee!D33=\"\",0,VLOOKUP(Non_Nominee!D33,Non_Nominee!D$151:E$232,2,FALSE))","v":0},{"$f":"IF(Non_Nominee!E33=\"\",0,VLOOKUP(Non_Nominee!E33,Non_Nominee!F$151:G$153,2,FALSE))","v":0},"00","DPM",{"$f":"Non_Nominee!H33","v":0},{"$f":"Non_Nominee!I33","v":0},null,null,null,null,null,null,null,null,null,null,null,null,null,null,null,null,null,null,"-",1,null,33]
[0,0,2,0,0,0,{"$f":"IF(Non_Nominee!B34=\"\",0,VLOOKUP(Non_Nominee!B34,Non_Nominee!B$151:C$153,2,FALSE))","v":0},{"$f":"IF(Non_Nominee!D34=\"\",0,VLOOKUP(Non_Nominee!D34,Non_Nominee!D$151:E$232,2,FALSE))","v":0},{"$f":"IF(Non_Nominee!E34=\"\",0,VLOOKUP(Non_Nominee!E34,Non_Nominee!F$151:G$153,2,FALSE))","v":0},"00","DPM",{"$f":"Non_Nominee!H34","v":0},{"$f":"Non_Nominee!I34","v":0},null,null,null,null,null,null,null,null,null,null,null,null,null,null,null,null,null,null,"-",1,null,34]
[0,0,2,0,0,0,{"$f":"IF(Non_Nominee!B35=\"\",0,VLOOKUP(Non_Nominee!B35,Non_Nominee!B$151:C$153,2,FALSE))","v":0},{"$f":"IF(Non_Nominee!D35=\"\",0,VLOOKUP(Non_Nominee!D35,Non_Nominee!D$151:E$232,2,FALSE))","v":0},{"$f":"IF(Non_Nominee!E35=\"\",0,VLOOKUP(Non_Nominee!E35,Non_Nominee!F$151:G$153,2,FALSE))","v":0},"00","DPM",{"$f":"Non_Nominee!H35","v":0},{"$f":"Non_Nominee!I35","v":0},null,null,null,null,null,null,null,null,null,null,null,null,null,null,null,null,null,null,"-",1,null,35]
[0,0,2,0,0,0,{"$f":"IF(Non_Nominee!B36=\"\",0,VLOOKUP(Non_Nominee!B36,Non_Nominee!B$151:C$153,2,FALSE))","v":0},{"$f":"IF(Non_Nominee!D36=\"\",0,VLOOKUP(Non_Nominee!D36,Non_Nominee!D$151:E$232,2,FALSE))","v":0},{"$f":"IF(Non_Nominee!E36=\"\",0,VLOOKUP(Non_Nominee!E36,Non_Nominee!F$151:G$153,2,FALSE))","v":0},"00","DPM",{"$f":"Non_Nominee!H36","v":0},{"$f":"Non_Nominee!I36","v":0},null,null,null,null,null,null,null,null,null,null,null,null,null,null,null,null,null,null,"-",1,null,36]
[0,0,2,0,0,0,{"$f":"IF(Non_Nominee!B37=\"\",0,VLOOKUP(Non_Nominee!B37,Non_Nominee!B$151:C$153,2,FALSE))","v":0},{"$f":"IF(Non_Nominee!D37=\"\",0,VLOOKUP(Non_Nominee!D37,Non_Nominee!D$151:E$232,2,FALSE))","v":0},{"$f":"IF(Non_Nominee!E37=\"\",0,VLOOKUP(Non_Nominee!E37,Non_Nominee!F$151:G$153,2,FALSE))","v":0},"00","DPM",{"$f":"Non_Nominee!H37","v":0},{"$f":"Non_Nominee!I37","v":0},null,null,null,null,null,null,null,null,null,null,null,null,null,null,null,null,null,null,"-",1,null,37]
[0,0,2,0,0,0,{"$f":"IF(Non_Nominee!B38=\"\",0,VLOOKUP(Non_Nominee!B38,Non_Nominee!B$151:C$153,2,FALSE))","v":0},{"$f":"IF(Non_Nominee!D38=\"\",0,VLOOKUP(Non_Nominee!D38,Non_Nominee!D$151:E$232,2,FALSE))","v":0},{"$f":"IF(Non_Nominee!E38=\"\",0,VLOOKUP(Non_Nominee!E38,Non_Nominee!F$151:G$153,2,FALSE))","v":0},"00","DPM",{"$f":"Non_Nominee!H38","v":0},{"$f":"Non_Nominee!I38","v":0},null,null,null,null,null,null,null,null,null,null,null,null,null,null,null,null,null,null,"-",1,null,38]
[0,0,2,0,0,0,{"$f":"IF(Non_Nominee!B39=\"\",0,VLOOKUP(Non_Nominee!B39,Non_Nominee!B$151:C$153,2,FALSE))","v":0},{"$f":"IF(Non_Nominee!D39=\"\",0,VLOOKUP(Non_Nominee!D39,Non_Nominee!D$151:E$232,2,FALSE))","v":0},{"$f":"IF(Non_Nominee!E39=\"\",0,VLOOKUP(Non_Nominee!E39,Non_Nominee!F$151:G$153,2,FALSE))","v":0},"00","DPM",{"$f":"Non_Nominee!H39","v":0},{"$f":"Non_Nominee!I39","v":0},null,null,null,null,null,null,null,null,null,null,null,null,null,null,null,null,null,null,"-",1,null,39]
[0,0,2,0,0,0,{"$f":"IF(Non_Nominee!B40=\"\",0,VLOOKUP(Non_Nominee!B40,Non_Nominee!B$151:C$153,2,FALSE))","v":0},{"$f":"IF(Non_Nominee!D40=\"\",0,VLOOKUP(Non_Nominee!D40,Non_Nominee!D$151:E$232,2,FALSE))","v":0},{"$f":"IF(Non_Nominee!E40=\"\",0,VLOOKUP(Non_Nominee!E40,Non_Nominee!F$151:G$153,2,FALSE))","v":0},"00","DPM",{"$f":"Non_Nominee!H40","v":0},{"$f":"Non_Nominee!I40","v":0},null,null,null,null,null,null,null,null,null,null,null,null,null,null,null,null,null,null,"-",1,null,40]
[0,0,2,0,0,0,{"$f":"IF(Non_Nominee!B41=\"\",0,VLOOKUP(Non_Nominee!B41,Non_Nominee!B$151:C$153,2,FALSE))","v":0},{"$f":"IF(Non_Nominee!D41=\"\",0,VLOOKUP(Non_Nominee!D41,Non_Nominee!D$151:E$232,2,FALSE))","v":0},{"$f":"IF(Non_Nominee!E41=\"\",0,VLOOKUP(Non_Nominee!E41,Non_Nominee!F$151:G$153,2,FALSE))","v":0},"00","DPM",{"$f":"Non_Nominee!H41","v":0},{"$f":"Non_Nominee!I41","v":0},null,null,null,null,null,null,null,null,null,null,null,null,null,null,null,null,null,null,"-",1,null,41]
[0,0,2,0,0,0,{"$f":"IF(Non_Nominee!B42=\"\",0,VLOOKUP(Non_Nominee!B42,Non_Nominee!B$151:C$153,2,FALSE))","v":0},{"$f":"IF(Non_Nominee!D42=\"\",0,VLOOKUP(Non_Nominee!D42,Non_Nominee!D$151:E$232,2,FALSE))","v":0},{"$f":"IF(Non_Nominee!E42=\"\",0,VLOOKUP(Non_Nominee!E42,Non_Nominee!F$151:G$153,2,FALSE))","v":0},"00","DPM",{"$f":"Non_Nominee!H42","v":0},{"$f":"Non_Nominee!I42","v":0},null,null,null,null,null,null,null,null,null,null,null,null,null,null,null,null,null,null,"-",1,null,42]
[0,0,2,0,0,0,{"$f":"IF(Non_Nominee!B43=\"\",0,VLOOKUP(Non_Nominee!B43,Non_Nominee!B$151:C$153,2,FALSE))","v":0},{"$f":"IF(Non_Nominee!D43=\"\",0,VLOOKUP(Non_Nominee!D43,Non_Nominee!D$151:E$232,2,FALSE))","v":0},{"$f":"IF(Non_Nominee!E43=\"\",0,VLOOKUP(Non_Nominee!E43,Non_Nominee!F$151:G$153,2,FALSE))","v":0},"00","DPM",{"$f":"Non_Nominee!H43","v":0},{"$f":"Non_Nominee!I43","v":0},null,null,null,null,null,null,null,null,null,null,null,null,null,null,null,null,null,null,"-",1,null,43]
[0,0,2,0,0,0,{"$f":"IF(Non_Nominee!B44=\"\",0,VLOOKUP(Non_Nominee!B44,Non_Nominee!B$151:C$153,2,FALSE))","v":0},{"$f":"IF(Non_Nominee!D44=\"\",0,VLOOKUP(Non_Nominee!D44,Non_Nominee!D$151:E$232,2,FALSE))","v":0},{"$f":"IF(Non_Nominee!E44=\"\",0,VLOOKUP(Non_Nominee!E44,Non_Nominee!F$151:G$153,2,FALSE))","v":0},"00","DPM",{"$f":"Non_Nominee!H44","v":0},{"$f":"Non_Nominee!I44","v":0},null,null,null,null,null,null,null,null,null,null,null,null,null,null,null,null,null,null,"-",1,null,44]
[0,0,2,0,0,0,{"$f":"IF(Non_Nominee!B45=\"\",0,VLOOKUP(Non_Nominee!B45,Non_Nominee!B$151:C$153,2,FALSE))","v":0},{"$f":"IF(Non_Nominee!D45=\"\",0,VLOOKUP(Non_Nominee!D45,Non_Nominee!D$151:E$232,2,FALSE))","v":0},{"$f":"IF(Non_Nominee!E45=\"\",0,VLOOKUP(Non_Nominee!E45,Non_Nominee!F$151:G$153,2,FALSE))","v":0},"00","DPM",{"$f":"Non_Nominee!H45","v":0},{"$f":"Non_Nominee!I45","v":0},null,null,null,null,null,null,null,null,null,null,null,null,null,null,null,null,null,null,"-",1,null,45]
[0,0,2,0,0,0,{"$f":"IF(Non_Nominee!B46=\"\",0,VLOOKUP(Non_Nominee!B46,Non_Nominee!B$151:C$153,2,FALSE))","v":0},{"$f":"IF(Non_Nominee!D46=\"\",0,VLOOKUP(Non_Nominee!D46,Non_Nominee!D$151:E$232,2,FALSE))","v":0},{"$f":"IF(Non_Nominee!E46=\"\",0,VLOOKUP(Non_Nominee!E46,Non_Nominee!F$151:G$153,2,FALSE))","v":0},"00","DPM",{"$f":"Non_Nominee!H46","v":0},{"$f":"Non_Nominee!I46","v":0},null,null,null,null,null,null,null,null,null,null,null,null,null,null,null,null,null,null,"-",1,null,46]
[0,0,2,0,0,0,{"$f":"IF(Non_Nominee!B47=\"\",0,VLOOKUP(Non_Nominee!B47,Non_Nominee!B$151:C$153,2,FALSE))","v":0},{"$f":"IF(Non_Nominee!D47=\"\",0,VLOOKUP(Non_Nominee!D47,Non_Nominee!D$151:E$232,2,FALSE))","v":0},{"$f":"IF(Non_Nominee!E47=\"\",0,VLOOKUP(Non_Nominee!E47,Non_Nominee!F$151:G$153,2,FALSE))","v":0},"00","DPM",{"$f":"Non_Nominee!H47","v":0},{"$f":"Non_Nominee!I47","v":0},null,null,null,null,null,null,null,null,null,null,null,null,null,null,null,null,null,null,"-",1,null,47]
[0,0,2,0,0,0,{"$f":"IF(Non_Nominee!B48=\"\",0,VLOOKUP(Non_Nominee!B48,Non_Nominee!B$151:C$153,2,FALSE))","v":0},{"$f":"IF(Non_Nominee!D48=\"\",0,VLOOKUP(Non_Nominee!D48,Non_Nominee!D$151:E$232,2,FALSE))","v":0},{"$f":"IF(Non_Nominee!E48=\"\",0,VLOOKUP(Non_Nominee!E48,Non_Nominee!F$151:G$153,2,FALSE))","v":0},"00","DPM",{"$f":"Non_Nominee!H48","v":0},{"$f":"Non_Nominee!I48","v":0},null,null,null,null,null,null,null,null,null,null,null,null,null,null,null,null,null,null,"-",1,null,48]
[0,0,2,0,0,0,{"$f":"IF(Non_Nominee!B49=\"\",0,VLOOKUP(Non_Nominee!B49,Non_Nominee!B$151:C$153,2,FALSE))","v":0},{"$f":"IF(Non_Nominee!D49=\"\",0,VLOOKUP(Non_Nominee!D49,Non_Nominee!D$151:E$232,2,FALSE))","v":0},{"$f":"IF(Non_Nominee!E49=\"\",0,VLOOKUP(Non_Nominee!E49,Non_Nominee!F$151:G$153,2,FALSE))","v":0},"00","DPM",{"$f":"Non_Nominee!H49","v":0},{"$f":"Non_Nominee!I49","v":0},null,null,null,null,null,null,null,null,null,null,null,null,null,null,null,null,null,null,"-",1,null,49]
[0,0,2,0,0,0,{"$f":"IF(Non_Nominee!B50=\"\",0,VLOOKUP(Non_Nominee!B50,Non_Nominee!B$151:C$153,2,FALSE))","v":0},{"$f":"IF(Non_Nominee!D50=\"\",0,VLOOKUP(Non_Nominee!D50,Non_Nominee!D$151:E$232,2,FALSE))","v":0},{"$f":"IF(Non_Nominee!E50=\"\",0,VLOOKUP(Non_Nominee!E50,Non_Nominee!F$151:G$153,2,FALSE))","v":0},"00","DPM",{"$f":"Non_Nominee!H50","v":0},{"$f":"Non_Nominee!I50","v":0},null,null,null,null,null,null,null,null,null,null,null,null,null,null,null,null,null,null,"-",1,null,50]
[0,0,2,0,0,0,{"$f":"IF(Non_Nominee!B51=\"\",0,VLOOKUP(Non_Nominee!B51,Non_Nominee!B$151:C$153,2,FALSE))","v":0},{"$f":"IF(Non_Nominee!D51=\"\",0,VLOOKUP(Non_Nominee!D51,Non_Nominee!D$151:E$232,2,FALSE))","v":0},{"$f":"IF(Non_Nominee!E51=\"\",0,VLOOKUP(Non_Nominee!E51,Non_Nominee!F$151:G$153,2,FALSE))","v":0},"00","DPM",{"$f":"Non_Nominee!H51","v":0},{"$f":"Non_Nominee!I51","v":0},null,null,null,null,null,null,null,null,null,null,null,null,null,null,null,null,null,null,"-",1,null,51]
[0,0,2,0,0,0,{"$f":"IF(Non_Nominee!B52=\"\",0,VLOOKUP(Non_Nominee!B52,Non_Nominee!B$151:C$153,2,FALSE))","v":0},{"$f":"IF(Non_Nominee!D52=\"\",0,VLOOKUP(Non_Nominee!D52,Non_Nominee!D$151:E$232,2,FALSE))","v":0},{"$f":"IF(Non_Nominee!E52=\"\",0,VLOOKUP(Non_Nominee!E52,Non_Nominee!F$151:G$153,2,FALSE))","v":0},"00","DPM",{"$f":"Non_Nominee!H52","v":0},{"$f":"Non_Nominee!I52","v":0},null,null,null,null,null,null,null,null,null,null,null,null,null,null,null,null,null,null,"-",1,null,52]
[0,0,2,0,0,0,{"$f":"IF(Non_Nominee!B53=\"\",0,VLOOKUP(Non_Nominee!B53,Non_Nominee!B$151:C$153,2,FALSE))","v":0},{"$f":"IF(Non_Nominee!D53=\"\",0,VLOOKUP(Non_Nominee!D53,Non_Nominee!D$151:E$232,2,FALSE))","v":0},{"$f":"IF(Non_Nominee!E53=\"\",0,VLOOKUP(Non_Nominee!E53,Non_Nominee!F$151:G$153,2,FALSE))","v":0},"00","DPM",{"$f":"Non_Nominee!H53","v":0},{"$f":"Non_Nominee!I53","v":0},null,null,null,null,null,null,null,null,null,null,null,null,null,null,null,null,null,null,"-",1,null,53]
[0,0,2,0,0,0,{"$f":"IF(Non_Nominee!B54=\"\",0,VLOOKUP(Non_Nominee!B54,Non_Nominee!B$151:C$153,2,FALSE))","v":0},{"$f":"IF(Non_Nominee!D54=\"\",0,VLOOKUP(Non_Nominee!D54,Non_Nominee!D$151:E$232,2,FALSE))","v":0},{"$f":"IF(Non_Nominee!E54=\"\",0,VLOOKUP(Non_Nominee!E54,Non_Nominee!F$151:G$153,2,FALSE))","v":0},"00","DPM",{"$f":"Non_Nominee!H54","v":0},{"$f":"Non_Nominee!I54","v":0},null,null,null,null,null,null,null,null,null,null,null,null,null,null,null,null,null,null,"-",1,null,54]
[0,0,2,0,0,0,{"$f":"IF(Non_Nominee!B55=\"\",0,VLOOKUP(Non_Nominee!B55,Non_Nominee!B$151:C$153,2,FALSE))","v":0},{"$f":"IF(Non_Nominee!D55=\"\",0,VLOOKUP(Non_Nominee!D55,Non_Nominee!D$151:E$232,2,FALSE))","v":0},{"$f":"IF(Non_Nominee!E55=\"\",0,VLOOKUP(Non_Nominee!E55,Non_Nominee!F$151:G$153,2,FALSE))","v":0},"00","DPM",{"$f":"Non_Nominee!H55","v":0},{"$f":"Non_Nominee!I55","v":0},null,null,null,null,null,null,null,null,null,null,null,null,null,null,null,null,null,null,"-",1,null,55]
[0,0,2,0,0,0,{"$f":"IF(Non_Nominee!B56=\"\",0,VLOOKUP(Non_Nominee!B56,Non_Nominee!B$151:C$153,2,FALSE))","v":0},{"$f":"IF(Non_Nominee!D56=\"\",0,VLOOKUP(Non_Nominee!D56,Non_Nominee!D$151:E$232,2,FALSE))","v":0},{"$f":"IF(Non_Nominee!E56=\"\",0,VLOOKUP(Non_Nominee!E56,Non_Nominee!F$151:G$153,2,FALSE))","v":0},"00","DPM",{"$f":"Non_Nominee!H56","v":0},{"$f":"Non_Nominee!I56","v":0},null,null,null,null,null,null,null,null,null,null,null,null,null,null,null,null,null,null,"-",1,null,56]
[0,0,2,0,0,0,{"$f":"IF(Non_Nominee!B57=\"\",0,VLOOKUP(Non_Nominee!B57,Non_Nominee!B$151:C$153,2,FALSE))","v":0},{"$f":"IF(Non_Nominee!D57=\"\",0,VLOOKUP(Non_Nominee!D57,Non_Nominee!D$151:E$232,2,FALSE))","v":0},{"$f":"IF(Non_Nominee!E57=\"\",0,VLOOKUP(Non_Nominee!E57,Non_Nominee!F$151:G$153,2,FALSE))","v":0},"00","DPM",{"$f":"Non_Nominee!H57","v":0},{"$f":"Non_Nominee!I57","v":0},null,null,null,null,null,null,null,null,null,null,null,null,null,null,null,null,null,null,"-",1,null,57]
[0,0,2,0,0,0,{"$f":"IF(Non_Nominee!B58=\"\",0,VLOOKUP(Non_Nominee!B58,Non_Nominee!B$151:C$153,2,FALSE))","v":0},{"$f":"IF(Non_Nominee!D58=\"\",0,VLOOKUP(Non_Nominee!D58,Non_Nominee!D$151:E$232,2,FALSE))","v":0},{"$f":"IF(Non_Nominee!E58=\"\",0,VLOOKUP(Non_Nominee!E58,Non_Nominee!F$151:G$153,2,FALSE))","v":0},"00","DPM",{"$f":"Non_Nominee!H58","v":0},{"$f":"Non_Nominee!I58","v":0},null,null,null,null,null,null,null,null,null,null,null,null,null,null,null,null,null,null,"-",1,null,58]
[0,0,2,0,0,0,{"$f":"IF(Non_Nominee!B59=\"\",0,VLOOKUP(Non_Nominee!B59,Non_Nominee!B$151:C$153,2,FALSE))","v":0},{"$f":"IF(Non_Nominee!D59=\"\",0,VLOOKUP(Non_Nominee!D59,Non_Nominee!D$151:E$232,2,FALSE))","v":0},{"$f":"IF(Non_Nominee!E59=\"\",0,VLOOKUP(Non_Nominee!E59,Non_Nominee!F$151:G$153,2,FALSE))","v":0},"00","DPM",{"$f":"Non_Nominee!H59","v":0},{"$f":"Non_Nominee!I59","v":0},null,null,null,null,null,null,null,null,null,null,null,null,null,null,null,null,null,null,"-",1,null,59]
[0,0,2,0,0,0,{"$f":"IF(Non_Nominee!B60=\"\",0,VLOOKUP(Non_Nominee!B60,Non_Nominee!B$151:C$153,2,FALSE))","v":0},{"$f":"IF(Non_Nominee!D60=\"\",0,VLOOKUP(Non_Nominee!D60,Non_Nominee!D$151:E$232,2,FALSE))","v":0},{"$f":"IF(Non_Nominee!E60=\"\",0,VLOOKUP(Non_Nominee!E60,Non_Nominee!F$151:G$153,2,FALSE))","v":0},"00","DPM",{"$f":"Non_Nominee!H60","v":0},{"$f":"Non_Nominee!I60","v":0},null,null,null,null,null,null,null,null,null,null,null,null,null,null,null,null,null,null,"-",1,null,60]
[0,0,2,0,0,0,{"$f":"IF(Non_Nominee!B61=\"\",0,VLOOKUP(Non_Nominee!B61,Non_Nominee!B$151:C$153,2,FALSE))","v":0},{"$f":"IF(Non_Nominee!D61=\"\",0,VLOOKUP(Non_Nominee!D61,Non_Nominee!D$151:E$232,2,FALSE))","v":0},{"$f":"IF(Non_Nominee!E61=\"\",0,VLOOKUP(Non_Nominee!E61,Non_Nominee!F$151:G$153,2,FALSE))","v":0},"00","DPM",{"$f":"Non_Nominee!H61","v":0},{"$f":"Non_Nominee!I61","v":0},null,null,null,null,null,null,null,null,null,null,null,null,null,null,null,null,null,null,"-",1,null,61]
[0,0,2,0,0,0,{"$f":"IF(Non_Nominee!B62=\"\",0,VLOOKUP(Non_Nominee!B62,Non_Nominee!B$151:C$153,2,FALSE))","v":0},{"$f":"IF(Non_Nominee!D62=\"\",0,VLOOKUP(Non_Nominee!D62,Non_Nominee!D$151:E$232,2,FALSE))","v":0},{"$f":"IF(Non_Nominee!E62=\"\",0,VLOOKUP(Non_Nominee!E62,Non_Nominee!F$151:G$153,2,FALSE))","v":0},"00","DPM",{"$f":"Non_Nominee!H62","v":0},{"$f":"Non_Nominee!I62","v":0},null,null,null,null,null,null,null,null,null,null,null,null,null,null,null,null,null,null,"-",1,null,62]
[0,0,2,0,0,0,{"$f":"IF(Non_Nominee!B63=\"\",0,VLOOKUP(Non_Nominee!B63,Non_Nominee!B$151:C$153,2,FALSE))","v":0},{"$f":"IF(Non_Nominee!D63=\"\",0,VLOOKUP(Non_Nominee!D63,Non_Nominee!D$151:E$232,2,FALSE))","v":0},{"$f":"IF(Non_Nominee!E63=\"\",0,VLOOKUP(Non_Nominee!E63,Non_Nominee!F$151:G$153,2,FALSE))","v":0},"00","DPM",{"$f":"Non_Nominee!H63","v":0},{"$f":"Non_Nominee!I63","v":0},null,null,null,null,null,null,null,null,null,null,null,null,null,null,null,null,null,null,"-",1,null,63]
[0,0,2,0,0,0,{"$f":"IF(Non_Nominee!B64=\"\",0,VLOOKUP(Non_Nominee!B64,Non_Nominee!B$151:C$153,2,FALSE))","v":0},{"$f":"IF(Non_Nominee!D64=\"\",0,VLOOKUP(Non_Nominee!D64,Non_Nominee!D$151:E$232,2,FALSE))","v":0},{"$f":"IF(Non_Nominee!E64=\"\",0,VLOOKUP(Non_Nominee!E64,Non_Nominee!F$151:G$153,2,FALSE))","v":0},"00","DPM",{"$f":"Non_Nominee!H64","v":0},{"$f":"Non_Nominee!I64","v":0},null,null,null,null,null,null,null,null,null,null,null,null,null,null,null,null,null,null,"-",1,null,64]
[0,0,2,0,0,0,{"$f":"IF(Non_Nominee!B65=\"\",0,VLOOKUP(Non_Nominee!B65,Non_Nominee!B$151:C$153,2,FALSE))","v":0},{"$f":"IF(Non_Nominee!D65=\"\",0,VLOOKUP(Non_Nominee!D65,Non_Nominee!D$151:E$232,2,FALSE))","v":0},{"$f":"IF(Non_Nominee!E65=\"\",0,VLOOKUP(Non_Nominee!E65,Non_Nominee!F$151:G$153,2,FALSE))","v":0},"00","DPM",{"$f":"Non_Nominee!H65","v":0},{"$f":"Non_Nominee!I65","v":0},null,null,null,null,null,null,null,null,null,null,null,null,null,null,null,null,null,null,"-",1,null,65]
[0,0,2,0,0,0,{"$f":"IF(Non_Nominee!B66=\"\",0,VLOOKUP(Non_Nominee!B66,Non_Nominee!B$151:C$153,2,FALSE))","v":0},{"$f":"IF(Non_Nominee!D66=\"\",0,VLOOKUP(Non_Nominee!D66,Non_Nominee!D$151:E$232,2,FALSE))","v":0},{"$f":"IF(Non_Nominee!E66=\"\",0,VLOOKUP(Non_Nominee!E66,Non_Nominee!F$151:G$153,2,FALSE))","v":0},"00","DPM",{"$f":"Non_Nominee!H66","v":0},{"$f":"Non_Nominee!I66","v":0},null,null,null,null,null,null,null,null,null,null,null,null,null,null,null,null,null,null,"-",1,null,66]
[0,0,2,0,0,0,{"$f":"IF(Non_Nominee!B67=\"\",0,VLOOKUP(Non_Nominee!B67,Non_Nominee!B$151:C$153,2,FALSE))","v":0},{"$f":"IF(Non_Nominee!D67=\"\",0,VLOOKUP(Non_Nominee!D67,Non_Nominee!D$151:E$232,2,FALSE))","v":0},{"$f":"IF(Non_Nominee!E67=\"\",0,VLOOKUP(Non_Nominee!E67,Non_Nominee!F$151:G$153,2,FALSE))","v":0},"00","DPM",{"$f":"Non_Nominee!H67","v":0},{"$f":"Non_Nominee!I67","v":0},null,null,null,null,null,null,null,null,null,null,null,null,null,null,null,null,null,null,"-",1,null,67]
[0,0,2,0,0,0,{"$f":"IF(Non_Nominee!B68=\"\",0,VLOOKUP(Non_Nominee!B68,Non_Nominee!B$151:C$153,2,FALSE))","v":0},{"$f":"IF(Non_Nominee!D68=\"\",0,VLOOKUP(Non_Nominee!D68,Non_Nominee!D$151:E$232,2,FALSE))","v":0},{"$f":"IF(Non_Nominee!E68=\"\",0,VLOOKUP(Non_Nominee!E68,Non_Nominee!F$151:G$153,2,FALSE))","v":0},"00","DPM",{"$f":"Non_Nominee!H68","v":0},{"$f":"Non_Nominee!I68","v":0},null,null,null,null,null,null,null,null,null,null,null,null,null,null,null,null,null,null,"-",1,null,68]
[0,0,2,0,0,0,{"$f":"IF(Non_Nominee!B69=\"\",0,VLOOKUP(Non_Nominee!B69,Non_Nominee!B$151:C$153,2,FALSE))","v":0},{"$f":"IF(Non_Nominee!D69=\"\",0,VLOOKUP(Non_Nominee!D69,Non_Nominee!D$151:E$232,2,FALSE))","v":0},{"$f":"IF(Non_Nominee!E69=\"\",0,VLOOKUP(Non_Nominee!E69,Non_Nominee!F$151:G$153,2,FALSE))","v":0},"00","DPM",{"$f":"Non_Nominee!H69","v":0},{"$f":"Non_Nominee!I69","v":0},null,null,null,null,null,null,null,null,null,null,null,null,null,null,null,null,null,null,"-",1,null,69]
[0,0,2,0,0,0,{"$f":"IF(Non_Nominee!B70=\"\",0,VLOOKUP(Non_Nominee!B70,Non_Nominee!B$151:C$153,2,FALSE))","v":0},{"$f":"IF(Non_Nominee!D70=\"\",0,VLOOKUP(Non_Nominee!D70,Non_Nominee!D$151:E$232,2,FALSE))","v":0},{"$f":"IF(Non_Nominee!E70=\"\",0,VLOOKUP(Non_Nominee!E70,Non_Nominee!F$151:G$153,2,FALSE))","v":0},"00","DPM",{"$f":"Non_Nominee!H70","v":0},{"$f":"Non_Nominee!I70","v":0},null,null,null,null,null,null,null,null,null,null,null,null,null,null,null,null,null,null,"-",1,null,70]
[0,0,2,0,0,0,{"$f":"IF(Non_Nominee!B71=\"\",0,VLOOKUP(Non_Nominee!B71,Non_Nominee!B$151:C$153,2,FALSE))","v":0},{"$f":"IF(Non_Nominee!D71=\"\",0,VLOOKUP(Non_Nominee!D71,Non_Nominee!D$151:E$232,2,FALSE))","v":0},{"$f":"IF(Non_Nominee!E71=\"\",0,VLOOKUP(Non_Nominee!E71,Non_Nominee!F$151:G$153,2,FALSE))","v":0},"00","DPM",{"$f":"Non_Nominee!H71","v":0},{"$f":"Non_Nominee!I71","v":0},null,null,null,null,null,null,null,null,null,null,null,null,null,null,null,null,null,null,"-",1,null,71]
[0,0,2,0,0,0,{"$f":"IF(Non_Nominee!B72=\"\",0,VLOOKUP(Non_Nominee!B72,Non_Nominee!B$151:C$153,2,FALSE))","v":0},{"$f":"IF(Non_Nominee!D72=\"\",0,VLOOKUP(Non_Nominee!D72,Non_Nominee!D$151:E$232,2,FALSE))","v":0},{"$f":"IF(Non_Nominee!E72=\"\",0,VLOOKUP(Non_Nominee!E72,Non_Nominee!F$151:G$153,2,FALSE))","v":0},"00","DPM",{"$f":"Non_Nominee!H72","v":0},{"$f":"Non_Nominee!I72","v":0},null,null,null,null,null,null,null,null,null,null,null,null,null,null,null,null,null,null,"-",1,null,72]
[0,0,2,0,0,0,{"$f":"IF(Non_Nominee!B73=\"\",0,VLOOKUP(Non_Nominee!B73,Non_Nominee!B$151:C$153,2,FALSE))","v":0},{"$f":"IF(Non_Nominee!D73=\"\",0,VLOOKUP(Non_Nominee!D73,Non_Nominee!D$151:E$232,2,FALSE))","v":0},{"$f":"IF(Non_Nominee!E73=\"\",0,VLOOKUP(Non_Nominee!E73,Non_Nominee!F$151:G$153,2,FALSE))","v":0},"00","DPM",{"$f":"Non_Nominee!H73","v":0},{"$f":"Non_Nominee!I73","v":0},null,null,null,null,null,null,null,null,null,null,null,null,null,null,null,null,null,null,"-",{"$f":"IF(OR(ABS(L130)>=0.55,ABS(M130)>=0.55,ABS(N130)>=0.55,ABS(O130)>=0.55,ABS(P130)>=0.55,ABS(Q130)>=0.55,ABS(R130)>=0.55,ABS(S130)>=0.55,ABS(T130)>=0.55,ABS(U130)>=0.55,ABS(V130)>=0.55,ABS(W130)>=0.55,ABS(X130)>=0.55,ABS(Y130)>=0.55,ABS(Z130)>=0.55,ABS(AA130)>=0.55,ABS(AB130)>=0.55,ABS(AC130)>=0.55,ABS(AD130)>=0.55,ABS(AE130)>=0.55),0,1)","v":1},null,73]
[{"$f":"$A$2","v":0},{"$f":"$B$2","v":0},2,{"$f":"$D$2","v":0},{"$f":"$E$2","v":0},{"$f":"$F$2","v":0},{"$f":"IF(Non_Nominee!B74=\"\",0,VLOOKUP(Non_Nominee!B74,Non_Nominee!B$151:C$153,2,FALSE))","v":0},{"$f":"IF(Non_Nominee!D74=\"\",0,VLOOKUP(Non_Nominee!D74,Non_Nominee!D$151:E$232,2,FALSE))","v":0},{"$f":"IF(Non_Nominee!E74=\"\",0,VLOOKUP(Non_Nominee!E74,Non_Nominee!F$151:G$153,2,FALSE))","v":0},"00","DPM",{"$f":"Non_Nominee!H74","v":0},{"$f":"Non_Nominee!I74","v":0},null,null,null,null,null,null,null,null,null,null,null,null,null,null,null,null,null,null,"-",1,null,74]
[0,0,2,0,0,0,{"$f":"IF(Non_Nominee!B81<>\"\",9990,0)","v":0},{"$f":"IF(Non_Nominee!D81=\"\",0,VLOOKUP(Non_Nominee!D81,Non_Nominee!D$151:E$232,2,FALSE))","v":0},"#LK","00","DPM",{"$f":"Non_Nominee!H81","v":0},{"$f":"Non_Nominee!I81","v":0},null,null,null,null,null,null,null,null,null,null,null,null,null,null,null,null,null,null,{"$f":"IF(Non_Nominee!B81<>\"\",Non_Nominee!B81,\"-\")","v":"-"},1,null,81]
[0,0,2,0,0,0,{"$f":"IF(Non_Nominee!B82<>\"\",9990,0)","v":0},{"$f":"IF(Non_Nominee!D82=\"\",0,VLOOKUP(Non_Nominee!D82,Non_Nominee!D$151:E$232,2,FALSE))","v":0},"#LK","00","DPM",{"$f":"Non_Nominee!H82","v":0},{"$f":"Non_Nominee!I82","v":0},null,null,null,null,null,null,null,null,null,null,null,null,null,null,null,null,null,null,{"$f":"IF(Non_Nominee!B82<>\"\",Non_Nominee!B82,\"-\")","v":"-"},1,null,82]
[0,0,2,0,0,0,{"$f":"IF(Non_Nominee!B83<>\"\",9990,0)","v":0},{"$f":"IF(Non_Nominee!D83=\"\",0,VLOOKUP(Non_Nominee!D83,Non_Nominee!D$151:E$232,2,FALSE))","v":0},"#LK","00","DPM",{"$f":"Non_Nominee!H83","v":0},{"$f":"Non_Nominee!I83","v":0},null,null,null,null,null,null,null,null,null,null,null,null,null,null,null,null,null,null,{"$f":"IF(Non_Nominee!B83<>\"\",Non_Nominee!B83,\"-\")","v":"-"},1,null,83]
[0,0,2,0,0,0,{"$f":"IF(Non_Nominee!B84<>\"\",9990,0)","v":0},{"$f":"IF(Non_Nominee!D84=\"\",0,VLOOKUP(Non_Nominee!D84,Non_Nominee!D$151:E$232,2,FALSE))","v":0},"#LK","00","DPM",{"$f":"Non_Nominee!H84","v":0},{"$f":"Non_Nominee!I84","v":0},null,null,null,null,null,null,null,null,null,null,null,null,null,null,null,null,null,null,{"$f":"IF(Non_Nominee!B84<>\"\",Non_Nominee!B84,\"-\")","v":"-"},1,null,84]
[0,0,2,0,0,0,{"$f":"IF(Non_Nominee!B85<>\"\",9990,0)","v":0},{"$f":"IF(Non_Nominee!D85=\"\",0,VLOOKUP(Non_Nominee!D85,Non_Nominee!D$151:E$232,2,FALSE))","v":0},"#LK","00","DPM",{"$f":"Non_Nominee!H85","v":0},{"$f":"Non_Nominee!I85","v":0},null,null,null,null,null,null,null,null,null,null,null,null,null,null,null,null,null,null,{"$f":"IF(Non_Nominee!B85<>\"\",Non_Nominee!B85,\"-\")","v":"-"},1,null,85]
[0,0,2,0,0,0,{"$f":"IF(Non_Nominee!B86<>\"\",9990,0)","v":0},{"$f":"IF(Non_Nominee!D86=\"\",0,VLOOKUP(Non_Nominee!D86,Non_Nominee!D$151:E$232,2,FALSE))","v":0},"#LK","00","DPM",{"$f":"Non_Nominee!H86","v":0},{"$f":"Non_Nominee!I86","v":0},null,null,null,null,null,null,null,null,null,null,null,null,null,null,null,null,null,null,{"$f":"IF(Non_Nominee!B86<>\"\",Non_Nominee!B86,\"-\")","v":"-"},1,null,86]
[0,0,2,0,0,0,{"$f":"IF(Non_Nominee!B87<>\"\",9990,0)","v":0},{"$f":"IF(Non_Nominee!D87=\"\",0,VLOOKUP(Non_Nominee!D87,Non_Nominee!D$151:E$232,2,FALSE))","v":0},"#LK","00","DPM",{"$f":"Non_Nominee!H87","v":0},{"$f":"Non_Nominee!I87","v":0},null,null,null,null,null,null,null,null,null,null,null,null,null,null,null,null,null,null,{"$f":"IF(Non_Nominee!B87<>\"\",Non_Nominee!B87,\"-\")","v":"-"},1,null,87]
[0,0,2,0,0,0,{"$f":"IF(Non_Nominee!B88<>\"\",9990,0)","v":0},{"$f":"IF(Non_Nominee!D88=\"\",0,VLOOKUP(Non_Nominee!D88,Non_Nominee!D$151:E$232,2,FALSE))","v":0},"#LK","00","DPM",{"$f":"Non_Nominee!H88","v":0},{"$f":"Non_Nominee!I88","v":0},null,null,null,null,null,null,null,null,null,null,null,null,null,null,null,null,null,null,{"$f":"IF(Non_Nominee!B88<>\"\",Non_Nominee!B88,\"-\")","v":"-"},1,null,88]
[0,0,2,0,0,0,{"$f":"IF(Non_Nominee!B89<>\"\",9990,0)","v":0},{"$f":"IF(Non_Nominee!D89=\"\",0,VLOOKUP(Non_Nominee!D89,Non_Nominee!D$151:E$232,2,FALSE))","v":0},"#LK","00","DPM",{"$f":"Non_Nominee!H89","v":0},{"$f":"Non_Nominee!I89","v":0},null,null,null,null,null,null,null,null,null,null,null,null,null,null,null,null,null,null,{"$f":"IF(Non_Nominee!B89<>\"\",Non_Nominee!B89,\"-\")","v":"-"},1,null,89]
[0,0,2,0,0,0,{"$f":"IF(Non_Nominee!B90<>\"\",9990,0)","v":0},{"$f":"IF(Non_Nominee!D90=\"\",0,VLOOKUP(Non_Nominee!D90,Non_Nominee!D$151:E$232,2,FALSE))","v":0},"#LK","00","DPM",{"$f":"Non_Nominee!H90","v":0},{"$f":"Non_Nominee!I90","v":0},null,null,null,null,null,null,null,null,null,null,null,null,null,null,null,null,null,null,{"$f":"IF(Non_Nominee!B90<>\"\",Non_Nominee!B90,\"-\")","v":"-"},1,null,90]
[0,0,3,0,0,0,{"$f":"IF(Non_SBS_Nominee!B13=\"\",0,VLOOKUP(Non_SBS_Nominee!B13,Non_SBS_Nominee!B$151:C$153,2,FALSE))","v":0},{"$f":"IF(Non_SBS_Nominee!D13=\"\",0,VLOOKUP(Non_SBS_Nominee!D13,Non_SBS_Nominee!D$151:E$232,2,FALSE))","v":0},{"$f":"IF(Non_SBS_Nominee!E13=\"\",0,VLOOKUP(Non_SBS_Nominee!E13,Non_SBS_Nominee!F$151:G$153,2,FALSE))","v":0},"00","DPM",{"$f":"Non_SBS_Nominee!F13","v":0},{"$f":"Non_SBS_Nominee!G13","v":0},{"$f":"Non_SBS_Nominee!H13","v":0},{"$f":"Non_SBS_Nominee!I13","v":0},null,null,{"$f":"Non_SBS_Nominee!J13","v":0},{"$f":"IF(G142=1112,'Income_&_Services'!$E$15*L142/(SUMIF($G$142:$G$190,1112,$L$142:$L$190)+SUMIF($G$201:$G$240,1112,$L$201:$L$240)),0)","v":0},{"$f":"IF(OR(G142=1111,G142=2729),'Income_&_Services'!$E$16*L142/(SUMIF($G$142:$G$190,2729,$L$142:$L$190)+SUMIF($G$201:$G$240,2729,$L$201:$L$240)+SUMIF($G$142:$G$190,1111,$L$142:$L$190)+SUMIF($G$201:$G$240,1111,$L$201:$L$240)),0)","v":0},null,null,null,null,null,null,null,null,null,null,null,"-",1,"Sheet 19 Non SBS Nominee'!F13 / G13 / H13 / I13 / J13 / ",13]
[0,0,3,0,0,0,{"$f":"IF(Non_SBS_Nominee!B14=\"\",0,VLOOKUP(Non_SBS_Nominee!B14,Non_SBS_Nominee!B$151:C$153,2,FALSE))","v":0},{"$f":"IF(Non_SBS_Nominee!D14=\"\",0,VLOOKUP(Non_SBS_Nominee!D14,Non_SBS_Nominee!D$151:E$232,2,FALSE))","v":0},{"$f":"IF(Non_SBS_Nominee!E14=\"\",0,VLOOKUP(Non_SBS_Nominee!E14,Non_SBS_Nominee!F$151:G$153,2,FALSE))","v":0},"00","DPM",{"$f":"Non_SBS_Nominee!F14","v":0},{"$f":"Non_SBS_Nominee!G14","v":0},{"$f":"Non_SBS_Nominee!H14","v":0},{"$f":"Non_SBS_Nominee!I14","v":0},null,null,{"$f":"Non_SBS_Nominee!J14","v":0},{"$f":"IF(G143=1112,'Income_&_Services'!$E$15*L143/(SUMIF($G$142:$G$190,1112,$L$142:$L$190)+SUMIF($G$201:$G$240,1112,$L$201:$L$240)),0)","v":0},{"$f":"IF(OR(G143=1111,G143=2729),'Income_&_Services'!$E$16*L143/(SUMIF($G$142:$G$190,2729,$L$142:$L$190)+SUMIF($G$201:$G$240,2729,$L$201:$L$240)+SUMIF($G$142:$G$190,1111,$L$142:$L$190)+SUMIF($G$201:$G$240,1111,$L$201:$L$240)),0)","v":0},null,null,null,null,null,null,null,null,null,null,null,"-",1,"       Sheet 24 Income & services'!$E$15 / 'Sheet 24 Income & services'!$E$16",14]
[0,0,3,0,0,0,{"$f":"IF(Non_SBS_Nominee!B15=\"\",0,VLOOKUP(Non_SBS_Nominee!B15,Non_SBS_Nominee!B$151:C$153,2,FALSE))","v":0},{"$f":"IF(Non_SBS_Nominee!D15=\"\",0,VLOOKUP(Non_SBS_Nominee!D15,Non_SBS_Nominee!D$151:E$232,2,FALSE))","v":0},{"$f":"IF(Non_SBS_Nominee!E15=\"\",0,VLOOKUP(Non_SBS_Nominee!E15,Non_SBS_Nominee!F$151:G$153,2,FALSE))","v":0},"00","DPM",{"$f":"Non_SBS_Nominee!F15","v":0},{"$f":"Non_SBS_Nominee!G15","v":0},{"$f":"Non_SBS_Nominee!H15","v":0},{"$f":"Non_SBS_Nominee!I15","v":0},null,null,{"$f":"Non_SBS_Nominee!J15","v":0},{"$f":"IF(G144=1112,'Income_&_Services'!$E$15*L144/(SUMIF($G$142:$G$190,1112,$L$142:$L$190)+SUMIF($G$201:$G$240,1112,$L$201:$L$240)),0)","v":0},{"$f":"IF(OR(G144=1111,G144=2729),'Income_&_Services'!$E$16*L144/(SUMIF($G$142:$G$190,2729,$L$142:$L$190)+SUMIF($G$201:$G$240,2729,$L$201:$L$240)+SUMIF($G$142:$G$190,1111,$L$142:$L$190)+SUMIF($G$201:$G$240,1111,$L$201:$L$240)),0)","v":0},null,null,null,null,null,null,null,null,null,null,null,"-",1,"Column S = INT, column T = DIV",15]
[0,0,3,0,0,0,{"$f":"IF(Non_SBS_Nominee!B16=\"\",0,VLOOKUP(Non_SBS_Nominee!B16,Non_SBS_Nominee!B$151:C$153,2,FALSE))","v":0},{"$f":"IF(Non_SBS_Nominee!D16=\"\",0,VLOOKUP(Non_SBS_Nominee!D16,Non_SBS_Nominee!D$151:E$232,2,FALSE))","v":0},{"$f":"IF(Non_SBS_Nominee!E16=\"\",0,VLOOKUP(Non_SBS_Nominee!E16,Non_SBS_Nominee!F$151:G$153,2,FALSE))","v":0},"00","DPM",{"$f":"Non_SBS_Nominee!F16","v":0},{"$f":"Non_SBS_Nominee!G16","v":0},{"$f":"Non_SBS_Nominee!H16","v":0},{"$f":"Non_SBS_Nominee!I16","v":0},null,null,{"$f":"Non_SBS_Nominee!J16","v":0},{"$f":"IF(G145=1112,'Income_&_Services'!$E$15*L145/(SUMIF($G$142:$G$190,1112,$L$142:$L$190)+SUMIF($G$201:$G$240,1112,$L$201:$L$240)),0)","v":0},{"$f":"IF(OR(G145=1111,G145=2729),'Income_&_Services'!$E$16*L145/(SUMIF($G$142:$G$190,2729,$L$142:$L$190)+SUMIF($G$201:$G$240,2729,$L$201:$L$240)+SUMIF($G$142:$G$190,1111,$L$142:$L$190)+SUMIF($G$201:$G$240,1111,$L$201:$L$240)),0)","v":0},null,null,null,null,null,null,null,null,null,null,null,"-",1,null,16]
[0,0,3,0,0,0,{"$f":"IF(Non_SBS_Nominee!B17=\"\",0,VLOOKUP(Non_SBS_Nominee!B17,Non_SBS_Nominee!B$151:C$153,2,FALSE))","v":0},{"$f":"IF(Non_SBS_Nominee!D17=\"\",0,VLOOKUP(Non_SBS_Nominee!D17,Non_SBS_Nominee!D$151:E$232,2,FALSE))","v":0},{"$f":"IF(Non_SBS_Nominee!E17=\"\",0,VLOOKUP(Non_SBS_Nominee!E17,Non_SBS_Nominee!F$151:G$153,2,FALSE))","v":0},"00","DPM",{"$f":"Non_SBS_Nominee!F17","v":0},{"$f":"Non_SBS_Nominee!G17","v":0},{"$f":"Non_SBS_Nominee!H17","v":0},{"$f":"Non_SBS_Nominee!I17","v":0},null,null,{"$f":"Non_SBS_Nominee!J17","v":0},{"$f":"IF(G146=1112,'Income_&_Services'!$E$15*L146/(SUMIF($G$142:$G$190,1112,$L$142:$L$190)+SUMIF($G$201:$G$240,1112,$L$201:$L$240)),0)","v":0},{"$f":"IF(OR(G146=1111,G146=2729),'Income_&_Services'!$E$16*L146/(SUMIF($G$142:$G$190,2729,$L$142:$L$190)+SUMIF($G$201:$G$240,2729,$L$201:$L$240)+SUMIF($G$142:$G$190,1111,$L$142:$L$190)+SUMIF($G$201:$G$240,1111,$L$201:$L$240)),0)","v":0},null,null,null,null,null,null,null,null,null,null,null,"-",1,null,17]
[0,0,3,0,0,0,{"$f":"IF(Non_SBS_Nominee!B18=\"\",0,VLOOKUP(Non_SBS_Nominee!B18,Non_SBS_Nominee!B$151:C$153,2,FALSE))","v":0},{"$f":"IF(Non_SBS_Nominee!D18=\"\",0,VLOOKUP(Non_SBS_Nominee!D18,Non_SBS_Nominee!D$151:E$232,2,FALSE))","v":0},{"$f":"IF(Non_SBS_Nominee!E18=\"\",0,VLOOKUP(Non_SBS_Nominee!E18,Non_SBS_Nominee!F$151:G$153,2,FALSE))","v":0},"00","DPM",{"$f":"Non_SBS_Nominee!F18","v":0},{"$f":"Non_SBS_Nominee!G18","v":0},{"$f":"Non_SBS_Nominee!H18","v":0},{"$f":"Non_SBS_Nominee!I18","v":0},null,null,{"$f":"Non_SBS_Nominee!J18","v":0},{"$f":"IF(G147=1112,'Income_&_Services'!$E$15*L147/(SUMIF($G$142:$G$190,1112,$L$142:$L$190)+SUMIF($G$201:$G$240,1112,$L$201:$L$240)),0)","v":0},{"$f":"IF(OR(G147=1111,G147=2729),'Income_&_Services'!$E$16*L147/(SUMIF($G$142:$G$190,2729,$L$142:$L$190)+SUMIF($G$201:$G$240,2729,$L$201:$L$240)+SUMIF($G$142:$G$190,1111,$L$142:$L$190)+SUMIF($G$201:$G$240,1111,$L$201:$L$240)),0)","v":0},null,null,null,null,null,null,null,null,null,null,null,"-",1,null,18]
[0,0,3,0,0,0,{"$f":"IF(Non_SBS_Nominee!B19=\"\",0,VLOOKUP(Non_SBS_Nominee!B19,Non_SBS_Nominee!B$151:C$153,2,FALSE))","v":0},{"$f":"IF(Non_SBS_Nominee!D19=\"\",0,VLOOKUP(Non_SBS_Nominee!D19,Non_SBS_Nominee!D$151:E$232,2,FALSE))","v":0},{"$f":"IF(Non_SBS_Nominee!E19=\"\",0,VLOOKUP(Non_SBS_Nominee!E19,Non_SBS_Nominee!F$151:G$153,2,FALSE))","v":0},"00","DPM",{"$f":"Non_SBS_Nominee!F19","v":0},{"$f":"Non_SBS_Nominee!G19","v":0},{"$f":"Non_SBS_Nominee!H19","v":0},{"$f":"Non_SBS_Nominee!I19","v":0},null,null,{"$f":"Non_SBS_Nominee!J19","v":0},{"$f":"IF(G148=1112,'Income_&_Services'!$E$15*L148/(SUMIF($G$142:$G$190,1112,$L$142:$L$190)+SUMIF($G$201:$G$240,1112,$L$201:$L$240)),0)","v":0},{"$f":"IF(OR(G148=1111,G148=2729),'Income_&_Services'!$E$16*L148/(SUMIF($G$142:$G$190,2729,$L$142:$L$190)+SUMIF($G$201:$G$240,2729,$L$201:$L$240)+SUMIF($G$142:$G$190,1111,$L$142:$L$190)+SUMIF($G$201:$G$240,1111,$L$201:$L$240)),0)","v":0},null,null,null,null,null,null,null,null,null,null,null,"-",1,null,19]
[0,0,3,0,0,0,{"$f":"IF(Non_SBS_Nominee!B20=\"\",0,VLOOKUP(Non_SBS_Nominee!B20,Non_SBS_Nominee!B$151:C$153,2,FALSE))","v":0},{"$f":"IF(Non_SBS_Nominee!D20=\"\",0,VLOOKUP(Non_SBS_Nominee!D20,Non_SBS_Nominee!D$151:E$232,2,FALSE))","v":0},{"$f":"IF(Non_SBS_Nominee!E20=\"\",0,VLOOKUP(Non_SBS_Nominee!E20,Non_SBS_Nominee!F$151:G$153,2,FALSE))","v":0},"00","DPM",{"$f":"Non_SBS_Nominee!F20","v":0},{"$f":"Non_SBS_Nominee!G20","v":0},{"$f":"Non_SBS_Nominee!H20","v":0},{"$f":"Non_SBS_Nominee!I20","v":0},null,null,{"$f":"Non_SBS_Nominee!J20","v":0},{"$f":"IF(G149=1112,'Income_&_Services'!$E$15*L149/(SUMIF($G$142:$G$190,1112,$L$142:$L$190)+SUMIF($G$201:$G$240,1112,$L$201:$L$240)),0)","v":0},{"$f":"IF(OR(G149=1111,G149=2729),'Income_&_Services'!$E$16*L149/(SUMIF($G$142:$G$190,2729,$L$142:$L$190)+SUMIF($G$201:$G$240,2729,$L$201:$L$240)+SUMIF($G$142:$G$190,1111,$L$142:$L$190)+SUMIF($G$201:$G$240,1111,$L$201:$L$240)),0)","v":0},null,null,null,null,null,null,null,null,null,null,null,"-",1,null,20]
[0,0,3,0,0,0,{"$f":"IF(Non_SBS_Nominee!B21=\"\",0,VLOOKUP(Non_SBS_Nominee!B21,Non_SBS_Nominee!B$151:C$153,2,FALSE))","v":0},{"$f":"IF(Non_SBS_Nominee!D21=\"\",0,VLOOKUP(Non_SBS_Nominee!D21,Non_SBS_Nominee!D$151:E$232,2,FALSE))","v":0},{"$f":"IF(Non_SBS_Nominee!E21=\"\",0,VLOOKUP(Non_SBS_Nominee!E21,Non_SBS_Nominee!F$151:G$153,2,FALSE))","v":0},"00","DPM",{"$f":"Non_SBS_Nominee!F21","v":0},{"$f":"Non_SBS_Nominee!G21","v":0},{"$f":"Non_SBS_Nominee!H21","v":0},{"$f":"Non_SBS_Nominee!I21","v":0},null,null,{"$f":"Non_SBS_Nominee!J21","v":0},{"$f":"IF(G150=1112,'Income_&_Services'!$E$15*L150/(SUMIF($G$142:$G$190,1112,$L$142:$L$190)+SUMIF($G$201:$G$240,1112,$L$201:$L$240)),0)","v":0},{"$f":"IF(OR(G150=1111,G150=2729),'Income_&_Services'!$E$16*L150/(SUMIF($G$142:$G$190,2729,$L$142:$L$190)+SUMIF($G$201:$G$240,2729,$L$201:$L$240)+SUMIF($G$142:$G$190,1111,$L$142:$L$190)+SUMIF($G$201:$G$240,1111,$L$201:$L$240)),0)","v":0},null,null,null,null,null,null,null,null,null,null,null,"-",1,null,21]
[0,0,3,0,0,0,{"$f":"IF(Non_SBS_Nominee!B22=\"\",0,VLOOKUP(Non_SBS_Nominee!B22,Non_SBS_Nominee!B$151:C$153,2,FALSE))","v":0},{"$f":"IF(Non_SBS_Nominee!D22=\"\",0,VLOOKUP(Non_SBS_Nominee!D22,Non_SBS_Nominee!D$151:E$232,2,FALSE))","v":0},{"$f":"IF(Non_SBS_Nominee!E22=\"\",0,VLOOKUP(Non_SBS_Nominee!E22,Non_SBS_Nominee!F$151:G$153,2,FALSE))","v":0},"00","DPM",{"$f":"Non_SBS_Nominee!F22","v":0},{"$f":"Non_SBS_Nominee!G22","v":0},{"$f":"Non_SBS_Nominee!H22","v":0},{"$f":"Non_SBS_Nominee!I22","v":0},null,null,{"$f":"Non_SBS_Nominee!J22","v":0},{"$f":"IF(G151=1112,'Income_&_Services'!$E$15*L151/(SUMIF($G$142:$G$190,1112,$L$142:$L$190)+SUMIF($G$201:$G$240,1112,$L$201:$L$240)),0)","v":0},{"$f":"IF(OR(G151=1111,G151=2729),'Income_&_Services'!$E$16*L151/(SUMIF($G$142:$G$190,2729,$L$142:$L$190)+SUMIF($G$201:$G$240,2729,$L$201:$L$240)+SUMIF($G$142:$G$190,1111,$L$142:$L$190)+SUMIF($G$201:$G$240,1111,$L$201:$L$240)),0)","v":0},null,null,null,null,null,null,null,null,null,null,null,"-",1,null,22]
[0,0,3,0,0,0,{"$f":"IF(Non_SBS_Nominee!B23=\"\",0,VLOOKUP(Non_SBS_Nominee!B23,Non_SBS_Nominee!B$151:C$153,2,FALSE))","v":0},{"$f":"IF(Non_SBS_Nominee!D23=\"\",0,VLOOKUP(Non_SBS_Nominee!D23,Non_SBS_Nominee!D$151:E$232,2,FALSE))","v":0},{"$f":"IF(Non_SBS_Nominee!E23=\"\",0,VLOOKUP(Non_SBS_Nominee!E23,Non_SBS_Nominee!F$151:G$153,2,FALSE))","v":0},"00","DPM",{"$f":"Non_SBS_Nominee!F23","v":0},{"$f":"Non_SBS_Nominee!G23","v":0},{"$f":"Non_SBS_Nominee!H23","v":0},{"$f":"Non_SBS_Nominee!I23","v":0},null,null,{"$f":"Non_SBS_Nominee!J23","v":0},{"$f":"IF(G152=1112,'Income_&_Services'!$E$15*L152/(SUMIF($G$142:$G$190,1112,$L$142:$L$190)+SUMIF($G$201:$G$240,1112,$L$201:$L$240)),0)","v":0},{"$f":"IF(OR(G152=1111,G152=2729),'Income_&_Services'!$E$16*L152/(SUMIF($G$142:$G$190,2729,$L$142:$L$190)+SUMIF($G$201:$G$240,2729,$L$201:$L$240)+SUMIF($G$142:$G$190,1111,$L$142:$L$190)+SUMIF($G$201:$G$240,1111,$L$201:$L$240)),0)","v":0},null,null,null,null,null,null,null,null,null,null,null,"-",1,null,23]
[0,0,3,0,0,0,{"$f":"IF(Non_SBS_Nominee!B24=\"\",0,VLOOKUP(Non_SBS_Nominee!B24,Non_SBS_Nominee!B$151:C$153,2,FALSE))","v":0},{"$f":"IF(Non_SBS_Nominee!D24=\"\",0,VLOOKUP(Non_SBS_Nominee!D24,Non_SBS_Nominee!D$151:E$232,2,FALSE))","v":0},{"$f":"IF(Non_SBS_Nominee!E24=\"\",0,VLOOKUP(Non_SBS_Nominee!E24,Non_SBS_Nominee!F$151:G$153,2,FALSE))","v":0},"00","DPM",{"$f":"Non_SBS_Nominee!F24","v":0},{"$f":"Non_SBS_Nominee!G24","v":0},{"$f":"Non_SBS_Nominee!H24","v":0},{"$f":"Non_SBS_Nominee!I24","v":0},null,null,{"$f":"Non_SBS_Nominee!J24","v":0},{"$f":"IF(G153=1112,'Income_&_Services'!$E$15*L153/(SUMIF($G$142:$G$190,1112,$L$142:$L$190)+SUMIF($G$201:$G$240,1112,$L$201:$L$240)),0)","v":0},{"$f":"IF(OR(G153=1111,G153=2729),'Income_&_Services'!$E$16*L153/(SUMIF($G$142:$G$190,2729,$L$142:$L$190)+SUMIF($G$201:$G$240,2729,$L$201:$L$240)+SUMIF($G$142:$G$190,1111,$L$142:$L$190)+SUMIF($G$201:$G$240,1111,$L$201:$L$240)),0)","v":0},null,null,null,null,null,null,null,null,null,null,null,"-",1,null,24]
[0,0,3,0,0,0,{"$f":"IF(Non_SBS_Nominee!B25=\"\",0,VLOOKUP(Non_SBS_Nominee!B25,Non_SBS_Nominee!B$151:C$153,2,FALSE))","v":0},{"$f":"IF(Non_SBS_Nominee!D25=\"\",0,VLOOKUP(Non_SBS_Nominee!D25,Non_SBS_Nominee!D$151:E$232,2,FALSE))","v":0},{"$f":"IF(Non_SBS_Nominee!E25=\"\",0,VLOOKUP(Non_SBS_Nominee!E25,Non_SBS_Nominee!F$151:G$153,2,FALSE))","v":0},"00","DPM",{"$f":"Non_SBS_Nominee!F25","v":0},{"$f":"Non_SBS_Nominee!G25","v":0},{"$f":"Non_SBS_Nominee!H25","v":0},{"$f":"Non_SBS_Nominee!I25","v":0},null,null,{"$f":"Non_SBS_Nominee!J25","v":0},{"$f":"IF(G154=1112,'Income_&_Services'!$E$15*L154/(SUMIF($G$142:$G$190,1112,$L$142:$L$190)+SUMIF($G$201:$G$240,1112,$L$201:$L$240)),0)","v":0},{"$f":"IF(OR(G154=1111,G154=2729),'Income_&_Services'!$E$16*L154/(SUMIF($G$142:$G$190,2729,$L$142:$L$190)+SUMIF($G$201:$G$240,2729,$L$201:$L$240)+SUMIF($G$142:$G$190,1111,$L$142:$L$190)+SUMIF($G$201:$G$240,1111,$L$201:$L$240)),0)","v":0},null,null,null,null,null,null,null,null,null,null,null,"-",1,null,25]
[0,0,3,0,0,0,{"$f":"IF(Non_SBS_Nominee!B26=\"\",0,VLOOKUP(Non_SBS_Nominee!B26,Non_SBS_Nominee!B$151:C$153,2,FALSE))","v":0},{"$f":"IF(Non_SBS_Nominee!D26=\"\",0,VLOOKUP(Non_SBS_Nominee!D26,Non_SBS_Nominee!D$151:E$232,2,FALSE))","v":0},{"$f":"IF(Non_SBS_Nominee!E26=\"\",0,VLOOKUP(Non_SBS_Nominee!E26,Non_SBS_Nominee!F$151:G$153,2,FALSE))","v":0},"00","DPM",{"$f":"Non_SBS_Nominee!F26","v":0},{"$f":"Non_SBS_Nominee!G26","v":0},{"$f":"Non_SBS_Nominee!H26","v":0},{"$f":"Non_SBS_Nominee!I26","v":0},null,null,{"$f":"Non_SBS_Nominee!J26","v":0},{"$f":"IF(G155=1112,'Income_&_Services'!$E$15*L155/(SUMIF($G$142:$G$190,1112,$L$142:$L$190)+SUMIF($G$201:$G$240,1112,$L$201:$L$240)),0)","v":0},{"$f":"IF(OR(G155=1111,G155=2729),'Income_&_Services'!$E$16*L155/(SUMIF($G$142:$G$190,2729,$L$142:$L$190)+SUMIF($G$201:$G$240,2729,$L$201:$L$240)+SUMIF($G$142:$G$190,1111,$L$142:$L$190)+SUMIF($G$201:$G$240,1111,$L$201:$L$240)),0)","v":0},null,null,null,null,null,null,null,null,null,null,null,"-",1,null,26]
[0,0,3,0,0,0,{"$f":"IF(Non_SBS_Nominee!B27=\"\",0,VLOOKUP(Non_SBS_Nominee!B27,Non_SBS_Nominee!B$151:C$153,2,FALSE))","v":0},{"$f":"IF(Non_SBS_Nominee!D27=\"\",0,VLOOKUP(Non_SBS_Nominee!D27,Non_SBS_Nominee!D$151:E$232,2,FALSE))","v":0},{"$f":"IF(Non_SBS_Nominee!E27=\"\",0,VLOOKUP(Non_SBS_Nominee!E27,Non_SBS_Nominee!F$151:G$153,2,FALSE))","v":0},"00","DPM",{"$f":"Non_SBS_Nominee!F27","v":0},{"$f":"Non_SBS_Nominee!G27","v":0},{"$f":"Non_SBS_Nominee!H27","v":0},{"$f":"Non_SBS_Nominee!I27","v":0},null,null,{"$f":"Non_SBS_Nominee!J27","v":0},{"$f":"IF(G156=1112,'Income_&_Services'!$E$15*L156/(SUMIF($G$142:$G$190,1112,$L$142:$L$190)+SUMIF($G$201:$G$240,1112,$L$201:$L$240)),0)","v":0},{"$f":"IF(OR(G156=1111,G156=2729),'Income_&_Services'!$E$16*L156/(SUMIF($G$142:$G$190,2729,$L$142:$L$190)+SUMIF($G$201:$G$240,2729,$L$201:$L$240)+SUMIF($G$142:$G$190,1111,$L$142:$L$190)+SUMIF($G$201:$G$240,1111,$L$201:$L$240)),0)","v":0},null,null,null,null,null,null,null,null,null,null,null,"-",1,null,27]
[0,0,3,0,0,0,{"$f":"IF(Non_SBS_Nominee!B28=\"\",0,VLOOKUP(Non_SBS_Nominee!B28,Non_SBS_Nominee!B$151:C$153,2,FALSE))","v":0},{"$f":"IF(Non_SBS_Nominee!D28=\"\",0,VLOOKUP(Non_SBS_Nominee!D28,Non_SBS_Nominee!D$151:E$232,2,FALSE))","v":0},{"$f":"IF(Non_SBS_Nominee!E28=\"\",0,VLOOKUP(Non_SBS_Nominee!E28,Non_SBS_Nominee!F$151:G$153,2,FALSE))","v":0},"00","DPM",{"$f":"Non_SBS_Nominee!F28","v":0},{"$f":"Non_SBS_Nominee!G28","v":0},{"$f":"Non_SBS_Nominee!H28","v":0},{"$f":"Non_SBS_Nominee!I28","v":0},null,null,{"$f":"Non_SBS_Nominee!J28","v":0},{"$f":"IF(G157=1112,'Income_&_Services'!$E$15*L157/(SUMIF($G$142:$G$190,1112,$L$142:$L$190)+SUMIF($G$201:$G$240,1112,$L$201:$L$240)),0)","v":0},{"$f":"IF(OR(G157=1111,G157=2729),'Income_&_Services'!$E$16*L157/(SUMIF($G$142:$G$190,2729,$L$142:$L$190)+SUMIF($G$201:$G$240,2729,$L$201:$L$240)+SUMIF($G$142:$G$190,1111,$L$142:$L$190)+SUMIF($G$201:$G$240,1111,$L$201:$L$240)),0)","v":0},null,null,null,null,null,null,null,null,null,null,null,"-",1,null,28]
[0,0,3,0,0,0,{"$f":"IF(Non_SBS_Nominee!B29=\"\",0,VLOOKUP(Non_SBS_Nominee!B29,Non_SBS_Nominee!B$151:C$153,2,FALSE))","v":0},{"$f":"IF(Non_SBS_Nominee!D29=\"\",0,VLOOKUP(Non_SBS_Nominee!D29,Non_SBS_Nominee!D$151:E$232,2,FALSE))","v":0},{"$f":"IF(Non_SBS_Nominee!E29=\"\",0,VLOOKUP(Non_SBS_Nominee!E29,Non_SBS_Nominee!F$151:G$153,2,FALSE))","v":0},"00","DPM",{"$f":"Non_SBS_Nominee!F29","v":0},{"$f":"Non_SBS_Nominee!G29","v":0},{"$f":"Non_SBS_Nominee!H29","v":0},{"$f":"Non_SBS_Nominee!I29","v":0},null,null,{"$f":"Non_SBS_Nominee!J29","v":0},{"$f":"IF(G158=1112,'Income_&_Services'!$E$15*L158/(SUMIF($G$142:$G$190,1112,$L$142:$L$190)+SUMIF($G$201:$G$240,1112,$L$201:$L$240)),0)","v":0},{"$f":"IF(OR(G158=1111,G158=2729),'Income_&_Services'!$E$16*L158/(SUMIF($G$142:$G$190,2729,$L$142:$L$190)+SUMIF($G$201:$G$240,2729,$L$201:$L$240)+SUMIF($G$142:$G$190,1111,$L$142:$L$190)+SUMIF($G$201:$G$240,1111,$L$201:$L$240)),0)","v":0},null,null,null,null,null,null,null,null,null,null,null,"-",1,null,29]
[0,0,3,0,0,0,{"$f":"IF(Non_SBS_Nominee!B30=\"\",0,VLOOKUP(Non_SBS_Nominee!B30,Non_SBS_Nominee!B$151:C$153,2,FALSE))","v":0},{"$f":"IF(Non_SBS_Nominee!D30=\"\",0,VLOOKUP(Non_SBS_Nominee!D30,Non_SBS_Nominee!D$151:E$232,2,FALSE))","v":0},{"$f":"IF(Non_SBS_Nominee!E30=\"\",0,VLOOKUP(Non_SBS_Nominee!E30,Non_SBS_Nominee!F$151:G$153,2,FALSE))","v":0},"00","DPM",{"$f":"Non_SBS_Nominee!F30","v":0},{"$f":"Non_SBS_Nominee!G30","v":0},{"$f":"Non_SBS_Nominee!H30","v":0},{"$f":"Non_SBS_Nominee!I30","v":0},null,null,{"$f":"Non_SBS_Nominee!J30","v":0},{"$f":"IF(G159=1112,'Income_&_Services'!$E$15*L159/(SUMIF($G$142:$G$190,1112,$L$142:$L$190)+SUMIF($G$201:$G$240,1112,$L$201:$L$240)),0)","v":0},{"$f":"IF(OR(G159=1111,G159=2729),'Income_&_Services'!$E$16*L159/(SUMIF($G$142:$G$190,2729,$L$142:$L$190)+SUMIF($G$201:$G$240,2729,$L$201:$L$240)+SUMIF($G$142:$G$190,1111,$L$142:$L$190)+SUMIF($G$201:$G$240,1111,$L$201:$L$240)),0)","v":0},null,null,null,null,null,null,null,null,null,null,null,"-",1,null,30]
[0,0,3,0,0,0,{"$f":"IF(Non_SBS_Nominee!B31=\"\",0,VLOOKUP(Non_SBS_Nominee!B31,Non_SBS_Nominee!B$151:C$153,2,FALSE))","v":0},{"$f":"IF(Non_SBS_Nominee!D31=\"\",0,VLOOKUP(Non_SBS_Nominee!D31,Non_SBS_Nominee!D$151:E$232,2,FALSE))","v":0},{"$f":"IF(Non_SBS_Nominee!E31=\"\",0,VLOOKUP(Non_SBS_Nominee!E31,Non_SBS_Nominee!F$151:G$153,2,FALSE))","v":0},"00","DPM",{"$f":"Non_SBS_Nominee!F31","v":0},{"$f":"Non_SBS_Nominee!G31","v":0},{"$f":"Non_SBS_Nominee!H31","v":0},{"$f":"Non_SBS_Nominee!I31","v":0},null,null,{"$f":"Non_SBS_Nominee!J31","v":0},{"$f":"IF(G160=1112,'Income_&_Services'!$E$15*L160/(SUMIF($G$142:$G$190,1112,$L$142:$L$190)+SUMIF($G$201:$G$240,1112,$L$201:$L$240)),0)","v":0},{"$f":"IF(OR(G160=1111,G160=2729),'Income_&_Services'!$E$16*L160/(SUMIF($G$142:$G$190,2729,$L$142:$L$190)+SUMIF($G$201:$G$240,2729,$L$201:$L$240)+SUMIF($G$142:$G$190,1111,$L$142:$L$190)+SUMIF($G$201:$G$240,1111,$L$201:$L$240)),0)","v":0},null,null,null,null,null,null,null,null,null,null,null,"-",1,null,31]
[0,0,3,0,0,0,{"$f":"IF(Non_SBS_Nominee!B32=\"\",0,VLOOKUP(Non_SBS_Nominee!B32,Non_SBS_Nominee!B$151:C$153,2,FALSE))","v":0},{"$f":"IF(Non_SBS_Nominee!D32=\"\",0,VLOOKUP(Non_SBS_Nominee!D32,Non_SBS_Nominee!D$151:E$232,2,FALSE))","v":0},{"$f":"IF(Non_SBS_Nominee!E32=\"\",0,VLOOKUP(Non_SBS_Nominee!E32,Non_SBS_Nominee!F$151:G$153,2,FALSE))","v":0},"00","DPM",{"$f":"Non_SBS_Nominee!F32","v":0},{"$f":"Non_SBS_Nominee!G32","v":0},{"$f":"Non_SBS_Nominee!H32","v":0},{"$f":"Non_SBS_Nominee!I32","v":0},null,null,{"$f":"Non_SBS_Nominee!J32","v":0},{"$f":"IF(G161=1112,'Income_&_Services'!$E$15*L161/(SUMIF($G$142:$G$190,1112,$L$142:$L$190)+SUMIF($G$201:$G$240,1112,$L$201:$L$240)),0)","v":0},{"$f":"IF(OR(G161=1111,G161=2729),'Income_&_Services'!$E$16*L161/(SUMIF($G$142:$G$190,2729,$L$142:$L$190)+SUMIF($G$201:$G$240,2729,$L$201:$L$240)+SUMIF($G$142:$G$190,1111,$L$142:$L$190)+SUMIF($G$201:$G$240,1111,$L$201:$L$240)),0)","v":0},null,null,null,null,null,null,null,null,null,null,null,"-",1,null,32]
[0,0,3,0,0,0,{"$f":"IF(Non_SBS_Nominee!B33=\"\",0,VLOOKUP(Non_SBS_Nominee!B33,Non_SBS_Nominee!B$151:C$153,2,FALSE))","v":0},{"$f":"IF(Non_SBS_Nominee!D33=\"\",0,VLOOKUP(Non_SBS_Nominee!D33,Non_SBS_Nominee!D$151:E$232,2,FALSE))","v":0},{"$f":"IF(Non_SBS_Nominee!E33=\"\",0,VLOOKUP(Non_SBS_Nominee!E33,Non_SBS_Nominee!F$151:G$153,2,FALSE))","v":0},"00","DPM",{"$f":"Non_SBS_Nominee!F33","v":0},{"$f":"Non_SBS_Nominee!G33","v":0},{"$f":"Non_SBS_Nominee!H33","v":0},{"$f":"Non_SBS_Nominee!I33","v":0},null,null,{"$f":"Non_SBS_Nominee!J33","v":0},{"$f":"IF(G162=1112,'Income_&_Services'!$E$15*L162/(SUMIF($G$142:$G$190,1112,$L$142:$L$190)+SUMIF($G$201:$G$240,1112,$L$201:$L$240)),0)","v":0},{"$f":"IF(OR(G162=1111,G162=2729),'Income_&_Services'!$E$16*L162/(SUMIF($G$142:$G$190,2729,$L$142:$L$190)+SUMIF($G$201:$G$240,2729,$L$201:$L$240)+SUMIF($G$142:$G$190,1111,$L$142:$L$190)+SUMIF($G$201:$G$240,1111,$L$201:$L$240)),0)","v":0},null,null,null,null,null,null,null,null,null,null,null,"-",1,null,33]
[0,0,3,0,0,0,{"$f":"IF(Non_SBS_Nominee!B34=\"\",0,VLOOKUP(Non_SBS_Nominee!B34,Non_SBS_Nominee!B$151:C$153,2,FALSE))","v":0},{"$f":"IF(Non_SBS_Nominee!D34=\"\",0,VLOOKUP(Non_SBS_Nominee!D34,Non_SBS_Nominee!D$151:E$232,2,FALSE))","v":0},{"$f":"IF(Non_SBS_Nominee!E34=\"\",0,VLOOKUP(Non_SBS_Nominee!E34,Non_SBS_Nominee!F$151:G$153,2,FALSE))","v":0},"00","DPM",{"$f":"Non_SBS_Nominee!F34","v":0},{"$f":"Non_SBS_Nominee!G34","v":0},{"$f":"Non_SBS_Nominee!H34","v":0},{"$f":"Non_SBS_Nominee!I34","v":0},null,null,{"$f":"Non_SBS_Nominee!J34","v":0},{"$f":"IF(G163=1112,'Income_&_Services'!$E$15*L163/(SUMIF($G$142:$G$190,1112,$L$142:$L$190)+SUMIF($G$201:$G$240,1112,$L$201:$L$240)),0)","v":0},{"$f":"IF(OR(G163=1111,G163=2729),'Income_&_Services'!$E$16*L163/(SUMIF($G$142:$G$190,2729,$L$142:$L$190)+SUMIF($G$201:$G$240,2729,$L$201:$L$240)+SUMIF($G$142:$G$190,1111,$L$142:$L$190)+SUMIF($G$201:$G$240,1111,$L$201:$L$240)),0)","v":0},null,null,null,null,null,null,null,null,null,null,null,"-",1,null,34]
[0,0,3,0,0,0,{"$f":"IF(Non_SBS_Nominee!B35=\"\",0,VLOOKUP(Non_SBS_Nominee!B35,Non_SBS_Nominee!B$151:C$153,2,FALSE))","v":0},{"$f":"IF(Non_SBS_Nominee!D35=\"\",0,VLOOKUP(Non_SBS_Nominee!D35,Non_SBS_Nominee!D$151:E$232,2,FALSE))","v":0},{"$f":"IF(Non_SBS_Nominee!E35=\"\",0,VLOOKUP(Non_SBS_Nominee!E35,Non_SBS_Nominee!F$151:G$153,2,FALSE))","v":0},"00","DPM",{"$f":"Non_SBS_Nominee!F35","v":0},{"$f":"Non_SBS_Nominee!G35","v":0},{"$f":"Non_SBS_Nominee!H35","v":0},{"$f":"Non_SBS_Nominee!I35","v":0},null,null,{"$f":"Non_SBS_Nominee!J35","v":0},{"$f":"IF(G164=1112,'Income_&_Services'!$E$15*L164/(SUMIF($G$142:$G$190,1112,$L$142:$L$190)+SUMIF($G$201:$G$240,1112,$L$201:$L$240)),0)","v":0},{"$f":"IF(OR(G164=1111,G164=2729),'Income_&_Services'!$E$16*L164/(SUMIF($G$142:$G$190,2729,$L$142:$L$190)+SUMIF($G$201:$G$240,2729,$L$201:$L$240)+SUMIF($G$142:$G$190,1111,$L$142:$L$190)+SUMIF($G$201:$G$240,1111,$L$201:$L$240)),0)","v":0},null,null,null,null,null,null,null,null,null,null,null,"-",1,null,35]
[0,0,3,0,0,0,{"$f":"IF(Non_SBS_Nominee!B36=\"\",0,VLOOKUP(Non_SBS_Nominee!B36,Non_SBS_Nominee!B$151:C$153,2,FALSE))","v":0},{"$f":"IF(Non_SBS_Nominee!D36=\"\",0,VLOOKUP(Non_SBS_Nominee!D36,Non_SBS_Nominee!D$151:E$232,2,FALSE))","v":0},{"$f":"IF(Non_SBS_Nominee!E36=\"\",0,VLOOKUP(Non_SBS_Nominee!E36,Non_SBS_Nominee!F$151:G$153,2,FALSE))","v":0},"00","DPM",{"$f":"Non_SBS_Nominee!F36","v":0},{"$f":"Non_SBS_Nominee!G36","v":0},{"$f":"Non_SBS_Nominee!H36","v":0},{"$f":"Non_SBS_Nominee!I36","v":0},null,null,{"$f":"Non_SBS_Nominee!J36","v":0},{"$f":"IF(G165=1112,'Income_&_Services'!$E$15*L165/(SUMIF($G$142:$G$190,1112,$L$142:$L$190)+SUMIF($G$201:$G$240,1112,$L$201:$L$240)),0)","v":0},{"$f":"IF(OR(G165=1111,G165=2729),'Income_&_Services'!$E$16*L165/(SUMIF($G$142:$G$190,2729,$L$142:$L$190)+SUMIF($G$201:$G$240,2729,$L$201:$L$240)+SUMIF($G$142:$G$190,1111,$L$142:$L$190)+SUMIF($G$201:$G$240,1111,$L$201:$L$240)),0)","v":0},null,null,null,null,null,null,null,null,null,null,null,"-",1,null,36]
[0,0,3,0,0,0,{"$f":"IF(Non_SBS_Nominee!B37=\"\",0,VLOOKUP(Non_SBS_Nominee!B37,Non_SBS_Nominee!B$151:C$153,2,FALSE))","v":0},{"$f":"IF(Non_SBS_Nominee!D37=\"\",0,VLOOKUP(Non_SBS_Nominee!D37,Non_SBS_Nominee!D$151:E$232,2,FALSE))","v":0},{"$f":"IF(Non_SBS_Nominee!E37=\"\",0,VLOOKUP(Non_SBS_Nominee!E37,Non_SBS_Nominee!F$151:G$153,2,FALSE))","v":0},"00","DPM",{"$f":"Non_SBS_Nominee!F37","v":0},{"$f":"Non_SBS_Nominee!G37","v":0},{"$f":"Non_SBS_Nominee!H37","v":0},{"$f":"Non_SBS_Nominee!I37","v":0},null,null,{"$f":"Non_SBS_Nominee!J37","v":0},{"$f":"IF(G166=1112,'Income_&_Services'!$E$15*L166/(SUMIF($G$142:$G$190,1112,$L$142:$L$190)+SUMIF($G$201:$G$240,1112,$L$201:$L$240)),0)","v":0},{"$f":"IF(OR(G166=1111,G166=2729),'Income_&_Services'!$E$16*L166/(SUMIF($G$142:$G$190,2729,$L$142:$L$190)+SUMIF($G$201:$G$240,2729,$L$201:$L$240)+SUMIF($G$142:$G$190,1111,$L$142:$L$190)+SUMIF($G$201:$G$240,1111,$L$201:$L$240)),0)","v":0},null,null,null,null,null,null,null,null,null,null,null,"-",1,null,37]
[0,0,3,0,0,0,{"$f":"IF(Non_SBS_Nominee!B38=\"\",0,VLOOKUP(Non_SBS_Nominee!B38,Non_SBS_Nominee!B$151:C$153,2,FALSE))","v":0},{"$f":"IF(Non_SBS_Nominee!D38=\"\",0,VLOOKUP(Non_SBS_Nominee!D38,Non_SBS_Nominee!D$151:E$232,2,FALSE))","v":0},{"$f":"IF(Non_SBS_Nominee!E38=\"\",0,VLOOKUP(Non_SBS_Nominee!E38,Non_SBS_Nominee!F$151:G$153,2,FALSE))","v":0},"00","DPM",{"$f":"Non_SBS_Nominee!F38","v":0},{"$f":"Non_SBS_Nominee!G38","v":0},{"$f":"Non_SBS_Nominee!H38","v":0},{"$f":"Non_SBS_Nominee!I38","v":0},null,null,{"$f":"Non_SBS_Nominee!J38","v":0},{"$f":"IF(G167=1112,'Income_&_Services'!$E$15*L167/(SUMIF($G$142:$G$190,1112,$L$142:$L$190)+SUMIF($G$201:$G$240,1112,$L$201:$L$240)),0)","v":0},{"$f":"IF(OR(G167=1111,G167=2729),'Income_&_Services'!$E$16*L167/(SUMIF($G$142:$G$190,2729,$L$142:$L$190)+SUMIF($G$201:$G$240,2729,$L$201:$L$240)+SUMIF($G$142:$G$190,1111,$L$142:$L$190)+SUMIF($G$201:$G$240,1111,$L$201:$L$240)),0)","v":0},null,null,null,null,null,null,null,null,null,null,null,"-",1,null,38]
[0,0,3,0,0,0,{"$f":"IF(Non_SBS_Nominee!B39=\"\",0,VLOOKUP(Non_SBS_Nominee!B39,Non_SBS_Nominee!B$151:C$153,2,FALSE))","v":0},{"$f":"IF(Non_SBS_Nominee!D39=\"\",0,VLOOKUP(Non_SBS_Nominee!D39,Non_SBS_Nominee!D$151:E$232,2,FALSE))","v":0},{"$f":"IF(Non_SBS_Nominee!E39=\"\",0,VLOOKUP(Non_SBS_Nominee!E39,Non_SBS_Nominee!F$151:G$153,2,FALSE))","v":0},"00","DPM",{"$f":"Non_SBS_Nominee!F39","v":0},{"$f":"Non_SBS_Nominee!G39","v":0},{"$f":"Non_SBS_Nominee!H39","v":0},{"$f":"Non_SBS_Nominee!I39","v":0},null,null,{"$f":"Non_SBS_Nominee!J39","v":0},{"$f":"IF(G168=1112,'Income_&_Services'!$E$15*L168/(SUMIF($G$142:$G$190,1112,$L$142:$L$190)+SUMIF($G$201:$G$240,1112,$L$201:$L$240)),0)","v":0},{"$f":"IF(OR(G168=1111,G168=2729),'Income_&_Services'!$E$16*L168/(SUMIF($G$142:$G$190,2729,$L$142:$L$190)+SUMIF($G$201:$G$240,2729,$L$201:$L$240)+SUMIF($G$142:$G$190,1111,$L$142:$L$190)+SUMIF($G$201:$G$240,1111,$L$201:$L$240)),0)","v":0},null,null,null,null,null,null,null,null,null,null,null,"-",1,null,39]
[0,0,3,0,0,0,{"$f":"IF(Non_SBS_Nominee!B40=\"\",0,VLOOKUP(Non_SBS_Nominee!B40,Non_SBS_Nominee!B$151:C$153,2,FALSE))","v":0},{"$f":"IF(Non_SBS_Nominee!D40=\"\",0,VLOOKUP(Non_SBS_Nominee!D40,Non_SBS_Nominee!D$151:E$232,2,FALSE))","v":0},{"$f":"IF(Non_SBS_Nominee!E40=\"\",0,VLOOKUP(Non_SBS_Nominee!E40,Non_SBS_Nominee!F$151:G$153,2,FALSE))","v":0},"00","DPM",{"$f":"Non_SBS_Nominee!F40","v":0},{"$f":"Non_SBS_Nominee!G40","v":0},{"$f":"Non_SBS_Nominee!H40","v":0},{"$f":"Non_SBS_Nominee!I40","v":0},null,null,{"$f":"Non_SBS_Nominee!J40","v":0},{"$f":"IF(G169=1112,'Income_&_Services'!$E$15*L169/(SUMIF($G$142:$G$190,1112,$L$142:$L$190)+SUMIF($G$201:$G$240,1112,$L$201:$L$240)),0)","v":0},{"$f":"IF(OR(G169=1111,G169=2729),'Income_&_Services'!$E$16*L169/(SUMIF($G$142:$G$190,2729,$L$142:$L$190)+SUMIF($G$201:$G$240,2729,$L$201:$L$240)+SUMIF($G$142:$G$190,1111,$L$142:$L$190)+SUMIF($G$201:$G$240,1111,$L$201:$L$240)),0)","v":0},null,null,null,null,null,null,null,null,null,null,null,"-",1,null,40]
[0,0,3,0,0,0,{"$f":"IF(Non_SBS_Nominee!B41=\"\",0,VLOOKUP(Non_SBS_Nominee!B41,Non_SBS_Nominee!B$151:C$153,2,FALSE))","v":0},{"$f":"IF(Non_SBS_Nominee!D41=\"\",0,VLOOKUP(Non_SBS_Nominee!D41,Non_SBS_Nominee!D$151:E$232,2,FALSE))","v":0},{"$f":"IF(Non_SBS_Nominee!E41=\"\",0,VLOOKUP(Non_SBS_Nominee!E41,Non_SBS_Nominee!F$151:G$153,2,FALSE))","v":0},"00","DPM",{"$f":"Non_SBS_Nominee!F41","v":0},{"$f":"Non_SBS_Nominee!G41","v":0},{"$f":"Non_SBS_Nominee!H41","v":0},{"$f":"Non_SBS_Nominee!I41","v":0},null,null,{"$f":"Non_SBS_Nominee!J41","v":0},{"$f":"IF(G170=1112,'Income_&_Services'!$E$15*L170/(SUMIF($G$142:$G$190,1112,$L$142:$L$190)+SUMIF($G$201:$G$240,1112,$L$201:$L$240)),0)","v":0},{"$f":"IF(OR(G170=1111,G170=2729),'Income_&_Services'!$E$16*L170/(SUMIF($G$142:$G$190,2729,$L$142:$L$190)+SUMIF($G$201:$G$240,2729,$L$201:$L$240)+SUMIF($G$142:$G$190,1111,$L$142:$L$190)+SUMIF($G$201:$G$240,1111,$L$201:$L$240)),0)","v":0},null,null,null,null,null,null,null,null,null,null,null,"-",1,null,41]
[0,0,3,0,0,0,{"$f":"IF(Non_SBS_Nominee!B42=\"\",0,VLOOKUP(Non_SBS_Nominee!B42,Non_SBS_Nominee!B$151:C$153,2,FALSE))","v":0},{"$f":"IF(Non_SBS_Nominee!D42=\"\",0,VLOOKUP(Non_SBS_Nominee!D42,Non_SBS_Nominee!D$151:E$232,2,FALSE))","v":0},{"$f":"IF(Non_SBS_Nominee!E42=\"\",0,VLOOKUP(Non_SBS_Nominee!E42,Non_SBS_Nominee!F$151:G$153,2,FALSE))","v":0},"00","DPM",{"$f":"Non_SBS_Nominee!F42","v":0},{"$f":"Non_SBS_Nominee!G42","v":0},{"$f":"Non_SBS_Nominee!H42","v":0},{"$f":"Non_SBS_Nominee!I42","v":0},null,null,{"$f":"Non_SBS_Nominee!J42","v":0},{"$f":"IF(G171=1112,'Income_&_Services'!$E$15*L171/(SUMIF($G$142:$G$190,1112,$L$142:$L$190)+SUMIF($G$201:$G$240,1112,$L$201:$L$240)),0)","v":0},{"$f":"IF(OR(G171=1111,G171=2729),'Income_&_Services'!$E$16*L171/(SUMIF($G$142:$G$190,2729,$L$142:$L$190)+SUMIF($G$201:$G$240,2729,$L$201:$L$240)+SUMIF($G$142:$G$190,1111,$L$142:$L$190)+SUMIF($G$201:$G$240,1111,$L$201:$L$240)),0)","v":0},null,null,null,null,null,null,null,null,null,null,null,"-",1,null,42]
[0,0,3,0,0,0,{"$f":"IF(Non_SBS_Nominee!B43=\"\",0,VLOOKUP(Non_SBS_Nominee!B43,Non_SBS_Nominee!B$151:C$153,2,FALSE))","v":0},{"$f":"IF(Non_SBS_Nominee!D43=\"\",0,VLOOKUP(Non_SBS_Nominee!D43,Non_SBS_Nominee!D$151:E$232,2,FALSE))","v":0},{"$f":"IF(Non_SBS_Nominee!E43=\"\",0,VLOOKUP(Non_SBS_Nominee!E43,Non_SBS_Nominee!F$151:G$153,2,FALSE))","v":0},"00","DPM",{"$f":"Non_SBS_Nominee!F43","v":0},{"$f":"Non_SBS_Nominee!G43","v":0},{"$f":"Non_SBS_Nominee!H43","v":0},{"$f":"Non_SBS_Nominee!I43","v":0},null,null,{"$f":"Non_SBS_Nominee!J43","v":0},{"$f":"IF(G172=1112,'Income_&_Services'!$E$15*L172/(SUMIF($G$142:$G$190,1112,$L$142:$L$190)+SUMIF($G$201:$G$240,1112,$L$201:$L$240)),0)","v":0},{"$f":"IF(OR(G172=1111,G172=2729),'Income_&_Services'!$E$16*L172/(SUMIF($G$142:$G$190,2729,$L$142:$L$190)+SUMIF($G$201:$G$240,2729,$L$201:$L$240)+SUMIF($G$142:$G$190,1111,$L$142:$L$190)+SUMIF($G$201:$G$240,1111,$L$201:$L$240)),0)","v":0},null,null,null,null,null,null,null,null,null,null,null,"-",1,null,43]
[0,0,3,0,0,0,{"$f":"IF(Non_SBS_Nominee!B44=\"\",0,VLOOKUP(Non_SBS_Nominee!B44,Non_SBS_Nominee!B$151:C$153,2,FALSE))","v":0},{"$f":"IF(Non_SBS_Nominee!D44=\"\",0,VLOOKUP(Non_SBS_Nominee!D44,Non_SBS_Nominee!D$151:E$232,2,FALSE))","v":0},{"$f":"IF(Non_SBS_Nominee!E44=\"\",0,VLOOKUP(Non_SBS_Nominee!E44,Non_SBS_Nominee!F$151:G$153,2,FALSE))","v":0},"00","DPM",{"$f":"Non_SBS_Nominee!F44","v":0},{"$f":"Non_SBS_Nominee!G44","v":0},{"$f":"Non_SBS_Nominee!H44","v":0},{"$f":"Non_SBS_Nominee!I44","v":0},null,null,{"$f":"Non_SBS_Nominee!J44","v":0},{"$f":"IF(G173=1112,'Income_&_Services'!$E$15*L173/(SUMIF($G$142:$G$190,1112,$L$142:$L$190)+SUMIF($G$201:$G$240,1112,$L$201:$L$240)),0)","v":0},{"$f":"IF(OR(G173=1111,G173=2729),'Income_&_Services'!$E$16*L173/(SUMIF($G$142:$G$190,2729,$L$142:$L$190)+SUMIF($G$201:$G$240,2729,$L$201:$L$240)+SUMIF($G$142:$G$190,1111,$L$142:$L$190)+SUMIF($G$201:$G$240,1111,$L$201:$L$240)),0)","v":0},null,null,null,null,null,null,null,null,null,null,null,"-",1,null,44]
[0,0,3,0,0,0,{"$f":"IF(Non_SBS_Nominee!B45=\"\",0,VLOOKUP(Non_SBS_Nominee!B45,Non_SBS_Nominee!B$151:C$153,2,FALSE))","v":0},{"$f":"IF(Non_SBS_Nominee!D45=\"\",0,VLOOKUP(Non_SBS_Nominee!D45,Non_SBS_Nominee!D$151:E$232,2,FALSE))","v":0},{"$f":"IF(Non_SBS_Nominee!E45=\"\",0,VLOOKUP(Non_SBS_Nominee!E45,Non_SBS_Nominee!F$151:G$153,2,FALSE))","v":0},"00","DPM",{"$f":"Non_SBS_Nominee!F45","v":0},{"$f":"Non_SBS_Nominee!G45","v":0},{"$f":"Non_SBS_Nominee!H45","v":0},{"$f":"Non_SBS_Nominee!I45","v":0},null,null,{"$f":"Non_SBS_Nominee!J45","v":0},{"$f":"IF(G174=1112,'Income_&_Services'!$E$15*L174/(SUMIF($G$142:$G$190,1112,$L$142:$L$190)+SUMIF($G$201:$G$240,1112,$L$201:$L$240)),0)","v":0},{"$f":"IF(OR(G174=1111,G174=2729),'Income_&_Services'!$E$16*L174/(SUMIF($G$142:$G$190,2729,$L$142:$L$190)+SUMIF($G$201:$G$240,2729,$L$201:$L$240)+SUMIF($G$142:$G$190,1111,$L$142:$L$190)+SUMIF($G$201:$G$240,1111,$L$201:$L$240)),0)","v":0},null,null,null,null,null,null,null,null,null,null,null,"-",1,null,45]
[0,0,3,0,0,0,{"$f":"IF(Non_SBS_Nominee!B46=\"\",0,VLOOKUP(Non_SBS_Nominee!B46,Non_SBS_Nominee!B$151:C$153,2,FALSE))","v":0},{"$f":"IF(Non_SBS_Nominee!D46=\"\",0,VLOOKUP(Non_SBS_Nominee!D46,Non_SBS_Nominee!D$151:E$232,2,FALSE))","v":0},{"$f":"IF(Non_SBS_Nominee!E46=\"\",0,VLOOKUP(Non_SBS_Nominee!E46,Non_SBS_Nominee!F$151:G$153,2,FALSE))","v":0},"00","DPM",{"$f":"Non_SBS_Nominee!F46","v":0},{"$f":"Non_SBS_Nominee!G46","v":0},{"$f":"Non_SBS_Nominee!H46","v":0},{"$f":"Non_SBS_Nominee!I46","v":0},null,null,{"$f":"Non_SBS_Nominee!J46","v":0},{"$f":"IF(G175=1112,'Income_&_Services'!$E$15*L175/(SUMIF($G$142:$G$190,1112,$L$142:$L$190)+SUMIF($G$201:$G$240,1112,$L$201:$L$240)),0)","v":0},{"$f":"IF(OR(G175=1111,G175=2729),'Income_&_Services'!$E$16*L175/(SUMIF($G$142:$G$190,2729,$L$142:$L$190)+SUMIF($G$201:$G$240,2729,$L$201:$L$240)+SUMIF($G$142:$G$190,1111,$L$142:$L$190)+SUMIF($G$201:$G$240,1111,$L$201:$L$240)),0)","v":0},null,null,null,null,null,null,null,null,null,null,null,"-",1,null,46]
[0,0,3,0,0,0,{"$f":"IF(Non_SBS_Nominee!B47=\"\",0,VLOOKUP(Non_SBS_Nominee!B47,Non_SBS_Nominee!B$151:C$153,2,FALSE))","v":0},{"$f":"IF(Non_SBS_Nominee!D47=\"\",0,VLOOKUP(Non_SBS_Nominee!D47,Non_SBS_Nominee!D$151:E$232,2,FALSE))","v":0},{"$f":"IF(Non_SBS_Nominee!E47=\"\",0,VLOOKUP(Non_SBS_Nominee!E47,Non_SBS_Nominee!F$151:G$153,2,FALSE))","v":0},"00","DPM",{"$f":"Non_SBS_Nominee!F47","v":0},{"$f":"Non_SBS_Nominee!G47","v":0},{"$f":"Non_SBS_Nominee!H47","v":0},{"$f":"Non_SBS_Nominee!I47","v":0},null,null,{"$f":"Non_SBS_Nominee!J47","v":0},{"$f":"IF(G176=1112,'Income_&_Services'!$E$15*L176/(SUMIF($G$142:$G$190,1112,$L$142:$L$190)+SUMIF($G$201:$G$240,1112,$L$201:$L$240)),0)","v":0},{"$f":"IF(OR(G176=1111,G176=2729),'Income_&_Services'!$E$16*L176/(SUMIF($G$142:$G$190,2729,$L$142:$L$190)+SUMIF($G$201:$G$240,2729,$L$201:$L$240)+SUMIF($G$142:$G$190,1111,$L$142:$L$190)+SUMIF($G$201:$G$240,1111,$L$201:$L$240)),0)","v":0},null,null,null,null,null,null,null,null,null,null,null,"-",1,null,47]
[0,0,3,0,0,0,{"$f":"IF(Non_SBS_Nominee!B48=\"\",0,VLOOKUP(Non_SBS_Nominee!B48,Non_SBS_Nominee!B$151:C$153,2,FALSE))","v":0},{"$f":"IF(Non_SBS_Nominee!D48=\"\",0,VLOOKUP(Non_SBS_Nominee!D48,Non_SBS_Nominee!D$151:E$232,2,FALSE))","v":0},{"$f":"IF(Non_SBS_Nominee!E48=\"\",0,VLOOKUP(Non_SBS_Nominee!E48,Non_SBS_Nominee!F$151:G$153,2,FALSE))","v":0},"00","DPM",{"$f":"Non_SBS_Nominee!F48","v":0},{"$f":"Non_SBS_Nominee!G48","v":0},{"$f":"Non_SBS_Nominee!H48","v":0},{"$f":"Non_SBS_Nominee!I48","v":0},null,null,{"$f":"Non_SBS_Nominee!J48","v":0},{"$f":"IF(G177=1112,'Income_&_Services'!$E$15*L177/(SUMIF($G$142:$G$190,1112,$L$142:$L$190)+SUMIF($G$201:$G$240,1112,$L$201:$L$240)),0)","v":0},{"$f":"IF(OR(G177=1111,G177=2729),'Income_&_Services'!$E$16*L177/(SUMIF($G$142:$G$190,2729,$L$142:$L$190)+SUMIF($G$201:$G$240,2729,$L$201:$L$240)+SUMIF($G$142:$G$190,1111,$L$142:$L$190)+SUMIF($G$201:$G$240,1111,$L$201:$L$240)),0)","v":0},null,null,null,null,null,null,null,null,null,null,null,"-",1,null,48]
[0,0,3,0,0,0,{"$f":"IF(Non_SBS_Nominee!B49=\"\",0,VLOOKUP(Non_SBS_Nominee!B49,Non_SBS_Nominee!B$151:C$153,2,FALSE))","v":0},{"$f":"IF(Non_SBS_Nominee!D49=\"\",0,VLOOKUP(Non_SBS_Nominee!D49,Non_SBS_Nominee!D$151:E$232,2,FALSE))","v":0},{"$f":"IF(Non_SBS_Nominee!E49=\"\",0,VLOOKUP(Non_SBS_Nominee!E49,Non_SBS_Nominee!F$151:G$153,2,FALSE))","v":0},"00","DPM",{"$f":"Non_SBS_Nominee!F49","v":0},{"$f":"Non_SBS_Nominee!G49","v":0},{"$f":"Non_SBS_Nominee!H49","v":0},{"$f":"Non_SBS_Nominee!I49","v":0},null,null,{"$f":"Non_SBS_Nominee!J49","v":0},{"$f":"IF(G178=1112,'Income_&_Services'!$E$15*L178/(SUMIF($G$142:$G$190,1112,$L$142:$L$190)+SUMIF($G$201:$G$240,1112,$L$201:$L$240)),0)","v":0},{"$f":"IF(OR(G178=1111,G178=2729),'Income_&_Services'!$E$16*L178/(SUMIF($G$142:$G$190,2729,$L$142:$L$190)+SUMIF($G$201:$G$240,2729,$L$201:$L$240)+SUMIF($G$142:$G$190,1111,$L$142:$L$190)+SUMIF($G$201:$G$240,1111,$L$201:$L$240)),0)","v":0},null,null,null,null,null,null,null,null,null,null,null,"-",1,null,49]
[0,0,3,0,0,0,{"$f":"IF(Non_SBS_Nominee!B50=\"\",0,VLOOKUP(Non_SBS_Nominee!B50,Non_SBS_Nominee!B$151:C$153,2,FALSE))","v":0},{"$f":"IF(Non_SBS_Nominee!D50=\"\",0,VLOOKUP(Non_SBS_Nominee!D50,Non_SBS_Nominee!D$151:E$232,2,FALSE))","v":0},{"$f":"IF(Non_SBS_Nominee!E50=\"\",0,VLOOKUP(Non_SBS_Nominee!E50,Non_SBS_Nominee!F$151:G$153,2,FALSE))","v":0},"00","DPM",{"$f":"Non_SBS_Nominee!F50","v":0},{"$f":"Non_SBS_Nominee!G50","v":0},{"$f":"Non_SBS_Nominee!H50","v":0},{"$f":"Non_SBS_Nominee!I50","v":0},null,null,{"$f":"Non_SBS_Nominee!J50","v":0},{"$f":"IF(G179=1112,'Income_&_Services'!$E$15*L179/(SUMIF($G$142:$G$190,1112,$L$142:$L$190)+SUMIF($G$201:$G$240,1112,$L$201:$L$240)),0)","v":0},{"$f":"IF(OR(G179=1111,G179=2729),'Income_&_Services'!$E$16*L179/(SUMIF($G$142:$G$190,2729,$L$142:$L$190)+SUMIF($G$201:$G$240,2729,$L$201:$L$240)+SUMIF($G$142:$G$190,1111,$L$142:$L$190)+SUMIF($G$201:$G$240,1111,$L$201:$L$240)),0)","v":0},null,null,null,null,null,null,null,null,null,null,null,"-",1,null,50]
[0,0,3,0,0,0,{"$f":"IF(Non_SBS_Nominee!B51=\"\",0,VLOOKUP(Non_SBS_Nominee!B51,Non_SBS_Nominee!B$151:C$153,2,FALSE))","v":0},{"$f":"IF(Non_SBS_Nominee!D51=\"\",0,VLOOKUP(Non_SBS_Nominee!D51,Non_SBS_Nominee!D$151:E$232,2,FALSE))","v":0},{"$f":"IF(Non_SBS_Nominee!E51=\"\",0,VLOOKUP(Non_SBS_Nominee!E51,Non_SBS_Nominee!F$151:G$153,2,FALSE))","v":0},"00","DPM",{"$f":"Non_SBS_Nominee!F51","v":0},{"$f":"Non_SBS_Nominee!G51","v":0},{"$f":"Non_SBS_Nominee!H51","v":0},{"$f":"Non_SBS_Nominee!I51","v":0},null,null,{"$f":"Non_SBS_Nominee!J51","v":0},{"$f":"IF(G180=1112,'Income_&_Services'!$E$15*L180/(SUMIF($G$142:$G$190,1112,$L$142:$L$190)+SUMIF($G$201:$G$240,1112,$L$201:$L$240)),0)","v":0},{"$f":"IF(OR(G180=1111,G180=2729),'Income_&_Services'!$E$16*L180/(SUMIF($G$142:$G$190,2729,$L$142:$L$190)+SUMIF($G$201:$G$240,2729,$L$201:$L$240)+SUMIF($G$142:$G$190,1111,$L$142:$L$190)+SUMIF($G$201:$G$240,1111,$L$201:$L$240)),0)","v":0},null,null,null,null,null,null,null,null,null,null,null,"-",1,null,51]
[0,0,3,0,0,0,{"$f":"IF(Non_SBS_Nominee!B52=\"\",0,VLOOKUP(Non_SBS_Nominee!B52,Non_SBS_Nominee!B$151:C$153,2,FALSE))","v":0},{"$f":"IF(Non_SBS_Nominee!D52=\"\",0,VLOOKUP(Non_SBS_Nominee!D52,Non_SBS_Nominee!D$151:E$232,2,FALSE))","v":0},{"$f":"IF(Non_SBS_Nominee!E52=\"\",0,VLOOKUP(Non_SBS_Nominee!E52,Non_SBS_Nominee!F$151:G$153,2,FALSE))","v":0},"00","DPM",{"$f":"Non_SBS_Nominee!F52","v":0},{"$f":"Non_SBS_Nominee!G52","v":0},{"$f":"Non_SBS_Nominee!H52","v":0},{"$f":"Non_SBS_Nominee!I52","v":0},null,null,{"$f":"Non_SBS_Nominee!J52","v":0},{"$f":"IF(G181=1112,'Income_&_Services'!$E$15*L181/(SUMIF($G$142:$G$190,1112,$L$142:$L$190)+SUMIF($G$201:$G$240,1112,$L$201:$L$240)),0)","v":0},{"$f":"IF(OR(G181=1111,G181=2729),'Income_&_Services'!$E$16*L181/(SUMIF($G$142:$G$190,2729,$L$142:$L$190)+SUMIF($G$201:$G$240,2729,$L$201:$L$240)+SUMIF($G$142:$G$190,1111,$L$142:$L$190)+SUMIF($G$201:$G$240,1111,$L$201:$L$240)),0)","v":0},null,null,null,null,null,null,null,null,null,null,null,"-",1,null,52]
[0,0,3,0,0,0,{"$f":"IF(Non_SBS_Nominee!B53=\"\",0,VLOOKUP(Non_SBS_Nominee!B53,Non_SBS_Nominee!B$151:C$153,2,FALSE))","v":0},{"$f":"IF(Non_SBS_Nominee!D53=\"\",0,VLOOKUP(Non_SBS_Nominee!D53,Non_SBS_Nominee!D$151:E$232,2,FALSE))","v":0},{"$f":"IF(Non_SBS_Nominee!E53=\"\",0,VLOOKUP(Non_SBS_Nominee!E53,Non_SBS_Nominee!F$151:G$153,2,FALSE))","v":0},"00","DPM",{"$f":"Non_SBS_Nominee!F53","v":0},{"$f":"Non_SBS_Nominee!G53","v":0},{"$f":"Non_SBS_Nominee!H53","v":0},{"$f":"Non_SBS_Nominee!I53","v":0},null,null,{"$f":"Non_SBS_Nominee!J53","v":0},{"$f":"IF(G182=1112,'Income_&_Services'!$E$15*L182/(SUMIF($G$142:$G$190,1112,$L$142:$L$190)+SUMIF($G$201:$G$240,1112,$L$201:$L$240)),0)","v":0},{"$f":"IF(OR(G182=1111,G182=2729),'Income_&_Services'!$E$16*L182/(SUMIF($G$142:$G$190,2729,$L$142:$L$190)+SUMIF($G$201:$G$240,2729,$L$201:$L$240)+SUMIF($G$142:$G$190,1111,$L$142:$L$190)+SUMIF($G$201:$G$240,1111,$L$201:$L$240)),0)","v":0},null,null,null,null,null,null,null,null,null,null,null,"-",1,null,53]
[0,0,3,0,0,0,{"$f":"IF(Non_SBS_Nominee!B54=\"\",0,VLOOKUP(Non_SBS_Nominee!B54,Non_SBS_Nominee!B$151:C$153,2,FALSE))","v":0},{"$f":"IF(Non_SBS_Nominee!D54=\"\",0,VLOOKUP(Non_SBS_Nominee!D54,Non_SBS_Nominee!D$151:E$232,2,FALSE))","v":0},{"$f":"IF(Non_SBS_Nominee!E54=\"\",0,VLOOKUP(Non_SBS_Nominee!E54,Non_SBS_Nominee!F$151:G$153,2,FALSE))","v":0},"00","DPM",{"$f":"Non_SBS_Nominee!F54","v":0},{"$f":"Non_SBS_Nominee!G54","v":0},{"$f":"Non_SBS_Nominee!H54","v":0},{"$f":"Non_SBS_Nominee!I54","v":0},null,null,{"$f":"Non_SBS_Nominee!J54","v":0},{"$f":"IF(G183=1112,'Income_&_Services'!$E$15*L183/(SUMIF($G$142:$G$190,1112,$L$142:$L$190)+SUMIF($G$201:$G$240,1112,$L$201:$L$240)),0)","v":0},{"$f":"IF(OR(G183=1111,G183=2729),'Income_&_Services'!$E$16*L183/(SUMIF($G$142:$G$190,2729,$L$142:$L$190)+SUMIF($G$201:$G$240,2729,$L$201:$L$240)+SUMIF($G$142:$G$190,1111,$L$142:$L$190)+SUMIF($G$201:$G$240,1111,$L$201:$L$240)),0)","v":0},null,null,null,null,null,null,null,null,null,null,null,"-",1,null,54]
[0,0,3,0,0,0,{"$f":"IF(Non_SBS_Nominee!B55=\"\",0,VLOOKUP(Non_SBS_Nominee!B55,Non_SBS_Nominee!B$151:C$153,2,FALSE))","v":0},{"$f":"IF(Non_SBS_Nominee!D55=\"\",0,VLOOKUP(Non_SBS_Nominee!D55,Non_SBS_Nominee!D$151:E$232,2,FALSE))","v":0},{"$f":"IF(Non_SBS_Nominee!E55=\"\",0,VLOOKUP(Non_SBS_Nominee!E55,Non_SBS_Nominee!F$151:G$153,2,FALSE))","v":0},"00","DPM",{"$f":"Non_SBS_Nominee!F55","v":0},{"$f":"Non_SBS_Nominee!G55","v":0},{"$f":"Non_SBS_Nominee!H55","v":0},{"$f":"Non_SBS_Nominee!I55","v":0},null,null,{"$f":"Non_SBS_Nominee!J55","v":0},{"$f":"IF(G184=1112,'Income_&_Services'!$E$15*L184/(SUMIF($G$142:$G$190,1112,$L$142:$L$190)+SUMIF($G$201:$G$240,1112,$L$201:$L$240)),0)","v":0},{"$f":"IF(OR(G184=1111,G184=2729),'Income_&_Services'!$E$16*L184/(SUMIF($G$142:$G$190,2729,$L$142:$L$190)+SUMIF($G$201:$G$240,2729,$L$201:$L$240)+SUMIF($G$142:$G$190,1111,$L$142:$L$190)+SUMIF($G$201:$G$240,1111,$L$201:$L$240)),0)","v":0},null,null,null,null,null,null,null,null,null,null,null,"-",1,null,55]
[0,0,3,0,0,0,{"$f":"IF(Non_SBS_Nominee!B56=\"\",0,VLOOKUP(Non_SBS_Nominee!B56,Non_SBS_Nominee!B$151:C$153,2,FALSE))","v":0},{"$f":"IF(Non_SBS_Nominee!D56=\"\",0,VLOOKUP(Non_SBS_Nominee!D56,Non_SBS_Nominee!D$151:E$232,2,FALSE))","v":0},{"$f":"IF(Non_SBS_Nominee!E56=\"\",0,VLOOKUP(Non_SBS_Nominee!E56,Non_SBS_Nominee!F$151:G$153,2,FALSE))","v":0},"00","DPM",{"$f":"Non_SBS_Nominee!F56","v":0},{"$f":"Non_SBS_Nominee!G56","v":0},{"$f":"Non_SBS_Nominee!H56","v":0},{"$f":"Non_SBS_Nominee!I56","v":0},null,null,{"$f":"Non_SBS_Nominee!J56","v":0},{"$f":"IF(G185=1112,'Income_&_Services'!$E$15*L185/(SUMIF($G$142:$G$190,1112,$L$142:$L$190)+SUMIF($G$201:$G$240,1112,$L$201:$L$240)),0)","v":0},{"$f":"IF(OR(G185=1111,G185=2729),'Income_&_Services'!$E$16*L185/(SUMIF($G$142:$G$190,2729,$L$142:$L$190)+SUMIF($G$201:$G$240,2729,$L$201:$L$240)+SUMIF($G$142:$G$190,1111,$L$142:$L$190)+SUMIF($G$201:$G$240,1111,$L$201:$L$240)),0)","v":0},null,null,null,null,null,null,null,null,null,null,null,"-",1,null,56]
[0,0,3,0,0,0,{"$f":"IF(Non_SBS_Nominee!B57=\"\",0,VLOOKUP(Non_SBS_Nominee!B57,Non_SBS_Nominee!B$151:C$153,2,FALSE))","v":0},{"$f":"IF(Non_SBS_Nominee!D57=\"\",0,VLOOKUP(Non_SBS_Nominee!D57,Non_SBS_Nominee!D$151:E$232,2,FALSE))","v":0},{"$f":"IF(Non_SBS_Nominee!E57=\"\",0,VLOOKUP(Non_SBS_Nominee!E57,Non_SBS_Nominee!F$151:G$153,2,FALSE))","v":0},"00","DPM",{"$f":"Non_SBS_Nominee!F57","v":0},{"$f":"Non_SBS_Nominee!G57","v":0},{"$f":"Non_SBS_Nominee!H57","v":0},{"$f":"Non_SBS_Nominee!I57","v":0},null,null,{"$f":"Non_SBS_Nominee!J57","v":0},{"$f":"IF(G186=1112,'Income_&_Services'!$E$15*L186/(SUMIF($G$142:$G$190,1112,$L$142:$L$190)+SUMIF($G$201:$G$240,1112,$L$201:$L$240)),0)","v":0},{"$f":"IF(OR(G186=1111,G186=2729),'Income_&_Services'!$E$16*L186/(SUMIF($G$142:$G$190,2729,$L$142:$L$190)+SUMIF($G$201:$G$240,2729,$L$201:$L$240)+SUMIF($G$142:$G$190,1111,$L$142:$L$190)+SUMIF($G$201:$G$240,1111,$L$201:$L$240)),0)","v":0},null,null,null,null,null,null,null,null,null,null,null,"-",1,null,57]
[0,0,3,0,0,0,{"$f":"IF(Non_SBS_Nominee!B58=\"\",0,VLOOKUP(Non_SBS_Nominee!B58,Non_SBS_Nominee!B$151:C$153,2,FALSE))","v":0},{"$f":"IF(Non_SBS_Nominee!D58=\"\",0,VLOOKUP(Non_SBS_Nominee!D58,Non_SBS_Nominee!D$151:E$232,2,FALSE))","v":0},{"$f":"IF(Non_SBS_Nominee!E58=\"\",0,VLOOKUP(Non_SBS_Nominee!E58,Non_SBS_Nominee!F$151:G$153,2,FALSE))","v":0},"00","DPM",{"$f":"Non_SBS_Nominee!F58","v":0},{"$f":"Non_SBS_Nominee!G58","v":0},{"$f":"Non_SBS_Nominee!H58","v":0},{"$f":"Non_SBS_Nominee!I58","v":0},null,null,{"$f":"Non_SBS_Nominee!J58","v":0},{"$f":"IF(G187=1112,'Income_&_Services'!$E$15*L187/(SUMIF($G$142:$G$190,1112,$L$142:$L$190)+SUMIF($G$201:$G$240,1112,$L$201:$L$240)),0)","v":0},{"$f":"IF(OR(G187=1111,G187=2729),'Income_&_Services'!$E$16*L187/(SUMIF($G$142:$G$190,2729,$L$142:$L$190)+SUMIF($G$201:$G$240,2729,$L$201:$L$240)+SUMIF($G$142:$G$190,1111,$L$142:$L$190)+SUMIF($G$201:$G$240,1111,$L$201:$L$240)),0)","v":0},null,null,null,null,null,null,null,null,null,null,null,"-",1,null,58]
[0,0,3,0,0,0,{"$f":"IF(Non_SBS_Nominee!B59=\"\",0,VLOOKUP(Non_SBS_Nominee!B59,Non_SBS_Nominee!B$151:C$153,2,FALSE))","v":0},{"$f":"IF(Non_SBS_Nominee!D59=\"\",0,VLOOKUP(Non_SBS_Nominee!D59,Non_SBS_Nominee!D$151:E$232,2,FALSE))","v":0},{"$f":"IF(Non_SBS_Nominee!E59=\"\",0,VLOOKUP(Non_SBS_Nominee!E59,Non_SBS_Nominee!F$151:G$153,2,FALSE))","v":0},"00","DPM",{"$f":"Non_SBS_Nominee!F59","v":0},{"$f":"Non_SBS_Nominee!G59","v":0},{"$f":"Non_SBS_Nominee!H59","v":0},{"$f":"Non_SBS_Nominee!I59","v":0},null,null,{"$f":"Non_SBS_Nominee!J59","v":0},{"$f":"IF(G188=1112,'Income_&_Services'!$E$15*L188/(SUMIF($G$142:$G$190,1112,$L$142:$L$190)+SUMIF($G$201:$G$240,1112,$L$201:$L$240)),0)","v":0},{"$f":"IF(OR(G188=1111,G188=2729),'Income_&_Services'!$E$16*L188/(SUMIF($G$142:$G$190,2729,$L$142:$L$190)+SUMIF($G$201:$G$240,2729,$L$201:$L$240)+SUMIF($G$142:$G$190,1111,$L$142:$L$190)+SUMIF($G$201:$G$240,1111,$L$201:$L$240)),0)","v":0},null,null,null,null,null,null,null,null,null,null,null,"-",1,null,59]
[0,0,3,0,0,0,{"$f":"IF(Non_SBS_Nominee!B60=\"\",0,VLOOKUP(Non_SBS_Nominee!B60,Non_SBS_Nominee!B$151:C$153,2,FALSE))","v":0},{"$f":"IF(Non_SBS_Nominee!D60=\"\",0,VLOOKUP(Non_SBS_Nominee!D60,Non_SBS_Nominee!D$151:E$232,2,FALSE))","v":0},{"$f":"IF(Non_SBS_Nominee!E60=\"\",0,VLOOKUP(Non_SBS_Nominee!E60,Non_SBS_Nominee!F$151:G$153,2,FALSE))","v":0},"00","DPM",{"$f":"Non_SBS_Nominee!F60","v":0},{"$f":"Non_SBS_Nominee!G60","v":0},{"$f":"Non_SBS_Nominee!H60","v":0},{"$f":"Non_SBS_Nominee!I60","v":0},null,null,{"$f":"Non_SBS_Nominee!J60","v":0},{"$f":"IF(G189=1112,'Income_&_Services'!$E$15*L189/(SUMIF($G$142:$G$190,1112,$L$142:$L$190)+SUMIF($G$201:$G$240,1112,$L$201:$L$240)),0)","v":0},{"$f":"IF(OR(G189=1111,G189=2729),'Income_&_Services'!$E$16*L189/(SUMIF($G$142:$G$190,2729,$L$142:$L$190)+SUMIF($G$201:$G$240,2729,$L$201:$L$240)+SUMIF($G$142:$G$190,1111,$L$142:$L$190)+SUMIF($G$201:$G$240,1111,$L$201:$L$240)),0)","v":0},null,null,null,null,null,null,null,null,null,null,null,"-",1,null,60]
[0,0,3,0,0,0,{"$f":"IF(Non_SBS_Nominee!B61=\"\",0,VLOOKUP(Non_SBS_Nominee!B61,Non_SBS_Nominee!B$151:C$153,2,FALSE))","v":0},{"$f":"IF(Non_SBS_Nominee!D61=\"\",0,VLOOKUP(Non_SBS_Nominee!D61,Non_SBS_Nominee!D$151:E$232,2,FALSE))","v":0},{"$f":"IF(Non_SBS_Nominee!E61=\"\",0,VLOOKUP(Non_SBS_Nominee!E61,Non_SBS_Nominee!F$151:G$153,2,FALSE))","v":0},"00","DPM",{"$f":"Non_SBS_Nominee!F61","v":0},{"$f":"Non_SBS_Nominee!G61","v":0},{"$f":"Non_SBS_Nominee!H61","v":0},{"$f":"Non_SBS_Nominee!I61","v":0},null,null,{"$f":"Non_SBS_Nominee!J61","v":0},{"$f":"IF(G190=1112,'Income_&_Services'!$E$15*L190/(SUMIF($G$142:$G$190,1112,$L$142:$L$190)+SUMIF($G$201:$G$240,1112,$L$201:$L$240)),0)","v":0},{"$f":"IF(OR(G190=1111,G190=2729),'Income_&_Services'!$E$16*L190/(SUMIF($G$142:$G$190,2729,$L$142:$L$190)+SUMIF($G$201:$G$240,2729,$L$201:$L$240)+SUMIF($G$142:$G$190,1111,$L$142:$L$190)+SUMIF($G$201:$G$240,1111,$L$201:$L$240)),0)","v":0},null,null,null,null,null,null,null,null,null,null,null,"-",1,null,61]
[0,0,3,0,0,0,{"$f":"IF(Non_SBS_Nominee!B66<>\"\",9990,0)","v":0},{"$f":"IF(Non_SBS_Nominee!D66=\"\",0,VLOOKUP(Non_SBS_Nominee!D66,Non_SBS_Nominee!D$151:E$232,2,FALSE))","v":0},"#LK","00","DPM",{"$f":"Non_SBS_Nominee!F66","v":0},{"$f":"Non_SBS_Nominee!G66","v":0},{"$f":"Non_SBS_Nominee!H66","v":0},null,{"$f":"Non_SBS_Nominee!I66","v":0},null,{"$f":"Non_SBS_Nominee!J66","v":0},null,null,null,null,null,null,null,null,null,null,null,null,null,{"$f":"IF(Non_SBS_Nominee!B66<>\"\",Non_SBS_Nominee!B66,\"-\")","v":"-"},1,"Sheet 19 Non SBS Nominee'!F66 / G66 / H66 / I66 / J66",66]
[0,0,3,0,0,0,{"$f":"IF(Non_SBS_Nominee!B67<>\"\",9990,0)","v":0},{"$f":"IF(Non_SBS_Nominee!D67=\"\",0,VLOOKUP(Non_SBS_Nominee!D67,Non_SBS_Nominee!D$151:E$232,2,FALSE))","v":0},"#LK","00","DPM",{"$f":"Non_SBS_Nominee!F67","v":0},{"$f":"Non_SBS_Nominee!G67","v":0},{"$f":"Non_SBS_Nominee!H67","v":0},null,{"$f":"Non_SBS_Nominee!I67","v":0},null,{"$f":"Non_SBS_Nominee!J67","v":0},null,null,null,null,null,null,null,null,null,null,null,null,null,{"$f":"IF(Non_SBS_Nominee!B67<>\"\",Non_SBS_Nominee!B67,\"-\")","v":"-"},1,null,67]
[0,0,3,0,0,0,{"$f":"IF(Non_SBS_Nominee!B68<>\"\",9990,0)","v":0},{"$f":"IF(Non_SBS_Nominee!D68=\"\",0,VLOOKUP(Non_SBS_Nominee!D68,Non_SBS_Nominee!D$151:E$232,2,FALSE))","v":0},"#LK","00","DPM",{"$f":"Non_SBS_Nominee!F68","v":0},{"$f":"Non_SBS_Nominee!G68","v":0},{"$f":"Non_SBS_Nominee!H68","v":0},null,{"$f":"Non_SBS_Nominee!I68","v":0},null,{"$f":"Non_SBS_Nominee!J68","v":0},null,null,null,null,null,null,null,null,null,null,null,null,null,{"$f":"IF(Non_SBS_Nominee!B68<>\"\",Non_SBS_Nominee!B68,\"-\")","v":"-"},1,null,68]
[0,0,3,0,0,0,{"$f":"IF(Non_SBS_Nominee!B69<>\"\",9990,0)","v":0},{"$f":"IF(Non_SBS_Nominee!D69=\"\",0,VLOOKUP(Non_SBS_Nominee!D69,Non_SBS_Nominee!D$151:E$232,2,FALSE))","v":0},"#LK","00","DPM",{"$f":"Non_SBS_Nominee!F69","v":0},{"$f":"Non_SBS_Nominee!G69","v":0},{"$f":"Non_SBS_Nominee!H69","v":0},null,{"$f":"Non_SBS_Nominee!I69","v":0},null,{"$f":"Non_SBS_Nominee!J69","v":0},null,null,null,null,null,null,null,null,null,null,null,null,null,{"$f":"IF(Non_SBS_Nominee!B69<>\"\",Non_SBS_Nominee!B69,\"-\")","v":"-"},{"$f":"IF(OR(ABS(L194)>=0.55,ABS(M194)>=0.55,ABS(N194)>=0.55,ABS(O194)>=0.55,ABS(P194)>=0.55,ABS(Q194)>=0.55,ABS(R194)>=0.55,ABS(S194)>=0.55,ABS(T194)>=0.55,ABS(U194)>=0.55,ABS(V194)>=0.55,ABS(W194)>=0.55,ABS(X194)>=0.55,ABS(Y194)>=0.55,ABS(Z194)>=0.55,ABS(AA194)>=0.55,ABS(AB194)>=0.55,ABS(AC194)>=0.55,ABS(AD194)>=0.55,ABS(AE194)>=0.55),0,1)","v":1},null,69]
[{"$f":"$A$2","v":0},{"$f":"$B$2","v":0},3,{"$f":"$D$2","v":0},{"$f":"$E$2","v":0},{"$f":"$F$2","v":0},{"$f":"IF(Non_SBS_Nominee!B70<>\"\",9990,0)","v":0},{"$f":"IF(Non_SBS_Nominee!D70=\"\",0,VLOOKUP(Non_SBS_Nominee!D70,Non_SBS_Nominee!D$151:E$232,2,FALSE))","v":0},"#LK","00","DPM",{"$f":"Non_SBS_Nominee!F70","v":0},{"$f":"Non_SBS_Nominee!G70","v":0},{"$f":"Non_SBS_Nominee!H70","v":0},null,{"$f":"Non_SBS_Nominee!I70","v":0},null,{"$f":"Non_SBS_Nominee!J70","v":0},null,null,null,null,null,null,null,null,null,null,null,null,null,{"$f":"IF(Non_SBS_Nominee!B70<>\"\",Non_SBS_Nominee!B70,\"-\")","v":"-"},1,null,70]
[0,0,3,0,0,0,{"$f":"IF(Non_SBS_Nominee!B71<>\"\",9990,0)","v":0},{"$f":"IF(Non_SBS_Nominee!D71=\"\",0,VLOOKUP(Non_SBS_Nominee!D71,Non_SBS_Nominee!D$151:E$232,2,FALSE))","v":0},"#LK","00","DPM",{"$f":"Non_SBS_Nominee!F71","v":0},{"$f":"Non_SBS_Nominee!G71","v":0},{"$f":"Non_SBS_Nominee!H71","v":0},null,{"$f":"Non_SBS_Nominee!I71","v":0},null,{"$f":"Non_SBS_Nominee!J71","v":0},null,null,null,null,null,null,null,null,null,null,null,null,null,{"$f":"IF(Non_SBS_Nominee!B71<>\"\",Non_SBS_Nominee!B71,\"-\")","v":"-"},1,null,71]
[0,0,3,0,0,0,{"$f":"IF(Non_SBS_Nominee!B72<>\"\",9990,0)","v":0},{"$f":"IF(Non_SBS_Nominee!D72=\"\",0,VLOOKUP(Non_SBS_Nominee!D72,Non_SBS_Nominee!D$151:E$232,2,FALSE))","v":0},"#LK","00","DPM",{"$f":"Non_SBS_Nominee!F72","v":0},{"$f":"Non_SBS_Nominee!G72","v":0},{"$f":"Non_SBS_Nominee!H72","v":0},null,{"$f":"Non_SBS_Nominee!I72","v":0},null,{"$f":"Non_SBS_Nominee!J72","v":0},null,null,null,null,null,null,null,null,null,null,null,null,null,{"$f":"IF(Non_SBS_Nominee!B72<>\"\",Non_SBS_Nominee!B72,\"-\")","v":"-"},1,null,72]
[0,0,3,0,0,0,{"$f":"IF(Non_SBS_Nominee!B73<>\"\",9990,0)","v":0},{"$f":"IF(Non_SBS_Nominee!D73=\"\",0,VLOOKUP(Non_SBS_Nominee!D73,Non_SBS_Nominee!D$151:E$232,2,FALSE))","v":0},"#LK","00","DPM",{"$f":"Non_SBS_Nominee!F73","v":0},{"$f":"Non_SBS_Nominee!G73","v":0},{"$f":"Non_SBS_Nominee!H73","v":0},null,{"$f":"Non_SBS_Nominee!I73","v":0},null,{"$f":"Non_SBS_Nominee!J73","v":0},null,null,null,null,null,null,null,null,null,null,null,null,null,{"$f":"IF(Non_SBS_Nominee!B73<>\"\",Non_SBS_Nominee!B73,\"-\")","v":"-"},1,null,73]
[0,0,3,0,0,0,{"$f":"IF(Non_SBS_Nominee!B74<>\"\",9990,0)","v":0},{"$f":"IF(Non_SBS_Nominee!D74=\"\",0,VLOOKUP(Non_SBS_Nominee!D74,Non_SBS_Nominee!D$151:E$232,2,FALSE))","v":0},"#LK","00","DPM",{"$f":"Non_SBS_Nominee!F74","v":0},{"$f":"Non_SBS_Nominee!G74","v":0},{"$f":"Non_SBS_Nominee!H74","v":0},null,{"$f":"Non_SBS_Nominee!I74","v":0},null,{"$f":"Non_SBS_Nominee!J74","v":0},null,null,null,null,null,null,null,null,null,null,null,null,null,{"$f":"IF(Non_SBS_Nominee!B74<>\"\",Non_SBS_Nominee!B74,\"-\")","v":"-"},1,null,74]
[0,0,3,0,0,0,{"$f":"IF(Non_SBS_Nominee!B75<>\"\",9990,0)","v":0},{"$f":"IF(Non_SBS_Nominee!D75=\"\",0,VLOOKUP(Non_SBS_Nominee!D75,Non_SBS_Nominee!D$151:E$232,2,FALSE))","v":0},"#LK","00","DPM",{"$f":"Non_SBS_Nominee!F75","v":0},{"$f":"Non_SBS_Nominee!G75","v":0},{"$f":"Non_SBS_Nominee!H75","v":0},null,{"$f":"Non_SBS_Nominee!I75","v":0},null,{"$f":"Non_SBS_Nominee!J75","v":0},null,null,null,null,null,null,null,null,null,null,null,null,null,{"$f":"IF(Non_SBS_Nominee!B75<>\"\",Non_SBS_Nominee!B75,\"-\")","v":"-"},1,null,75]
[0,0,4,0,0,0,{"$f":"IF(Non_SBS_Nominee!B81=\"\",0,VLOOKUP(Non_SBS_Nominee!B81,Non_SBS_Nominee!B$151:C$153,2,FALSE))","v":0},{"$f":"IF(Non_SBS_Nominee!D81=\"\",0,VLOOKUP(Non_SBS_Nominee!D81,Non_SBS_Nominee!D$151:E$232,2,FALSE))","v":0},{"$f":"IF(Non_SBS_Nominee!E81=\"\",0,VLOOKUP(Non_SBS_Nominee!E81,Non_SBS_Nominee!F$151:G$153,2,FALSE))","v":0},"00","DPM",{"$f":"Non_SBS_Nominee!F81","v":0},{"$f":"Non_SBS_Nominee!G81","v":0},{"$f":"Non_SBS_Nominee!H81","v":0},null,null,{"$f":"Non_SBS_Nominee!I81","v":0},{"$f":"Non_SBS_Nominee!J81","v":0},{"$f":"IF(G201=1112,'Income_&_Services'!$E$15*L201/(SUMIF($G$142:$G$190,1112,$L$142:$L$190)+SUMIF($G$201:$G$240,1112,$L$201:$L$240)),0)","v":0},{"$f":"IF(OR(G201=1111,G201=2729),'Income_&_Services'!$E$16*L201/(SUMIF($G$142:$G$190,2729,$L$142:$L$190)+SUMIF($G$201:$G$240,2729,$L$201:$L$240)+SUMIF($G$142:$G$190,1111,$L$142:$L$190)+SUMIF($G$201:$G$240,1111,$L$201:$L$240)),0)","v":0},null,null,null,null,null,null,null,null,null,null,null,"-",1,"Sheet 19 Non SBS Nominee'!F81 / G81 / H81 / I81 / J81 /",81]
[0,0,4,0,0,0,{"$f":"IF(Non_SBS_Nominee!B82=\"\",0,VLOOKUP(Non_SBS_Nominee!B82,Non_SBS_Nominee!B$151:C$153,2,FALSE))","v":0},{"$f":"IF(Non_SBS_Nominee!D82=\"\",0,VLOOKUP(Non_SBS_Nominee!D82,Non_SBS_Nominee!D$151:E$232,2,FALSE))","v":0},{"$f":"IF(Non_SBS_Nominee!E82=\"\",0,VLOOKUP(Non_SBS_Nominee!E82,Non_SBS_Nominee!F$151:G$153,2,FALSE))","v":0},"00","DPM",{"$f":"Non_SBS_Nominee!F82","v":0},{"$f":"Non_SBS_Nominee!G82","v":0},{"$f":"Non_SBS_Nominee!H82","v":0},null,null,{"$f":"Non_SBS_Nominee!I82","v":0},{"$f":"Non_SBS_Nominee!J82","v":0},{"$f":"IF(G202=1112,'Income_&_Services'!$E$15*L202/(SUMIF($G$142:$G$190,1112,$L$142:$L$190)+SUMIF($G$201:$G$240,1112,$L$201:$L$240)),0)","v":0},{"$f":"IF(OR(G202=1111,G202=2729),'Income_&_Services'!$E$16*L202/(SUMIF($G$142:$G$190,2729,$L$142:$L$190)+SUMIF($G$201:$G$240,2729,$L$201:$L$240)+SUMIF($G$142:$G$190,1111,$L$142:$L$190)+SUMIF($G$201:$G$240,1111,$L$201:$L$240)),0)","v":0},null,null,null,null,null,null,null,null,null,null,null,"-",1,"       'Sheet 24 Income & services'!$E$15 / 'Sheet 24 Income & services'!$E$16",82]
[0,0,4,0,0,0,{"$f":"IF(Non_SBS_Nominee!B83=\"\",0,VLOOKUP(Non_SBS_Nominee!B83,Non_SBS_Nominee!B$151:C$153,2,FALSE))","v":0},{"$f":"IF(Non_SBS_Nominee!D83=\"\",0,VLOOKUP(Non_SBS_Nominee!D83,Non_SBS_Nominee!D$151:E$232,2,FALSE))","v":0},{"$f":"IF(Non_SBS_Nominee!E83=\"\",0,VLOOKUP(Non_SBS_Nominee!E83,Non_SBS_Nominee!F$151:G$153,2,FALSE))","v":0},"00","DPM",{"$f":"Non_SBS_Nominee!F83","v":0},{"$f":"Non_SBS_Nominee!G83","v":0},{"$f":"Non_SBS_Nominee!H83","v":0},null,null,{"$f":"Non_SBS_Nominee!I83","v":0},{"$f":"Non_SBS_Nominee!J83","v":0},{"$f":"IF(G203=1112,'Income_&_Services'!$E$15*L203/(SUMIF($G$142:$G$190,1112,$L$142:$L$190)+SUMIF($G$201:$G$240,1112,$L$201:$L$240)),0)","v":0},{"$f":"IF(OR(G203=1111,G203=2729),'Income_&_Services'!$E$16*L203/(SUMIF($G$142:$G$190,2729,$L$142:$L$190)+SUMIF($G$201:$G$240,2729,$L$201:$L$240)+SUMIF($G$142:$G$190,1111,$L$142:$L$190)+SUMIF($G$201:$G$240,1111,$L$201:$L$240)),0)","v":0},null,null,null,null,null,null,null,null,null,null,null,"-",1,null,83]
[0,0,4,0,0,0,{"$f":"IF(Non_SBS_Nominee!B84=\"\",0,VLOOKUP(Non_SBS_Nominee!B84,Non_SBS_Nominee!B$151:C$153,2,FALSE))","v":0},{"$f":"IF(Non_SBS_Nominee!D84=\"\",0,VLOOKUP(Non_SBS_Nominee!D84,Non_SBS_Nominee!D$151:E$232,2,FALSE))","v":0},{"$f":"IF(Non_SBS_Nominee!E84=\"\",0,VLOOKUP(Non_SBS_Nominee!E84,Non_SBS_Nominee!F$151:G$153,2,FALSE))","v":0},"00","DPM",{"$f":"Non_SBS_Nominee!F84","v":0},{"$f":"Non_SBS_Nominee!G84","v":0},{"$f":"Non_SBS_Nominee!H84","v":0},null,null,{"$f":"Non_SBS_Nominee!I84","v":0},{"$f":"Non_SBS_Nominee!J84","v":0},{"$f":"IF(G204=1112,'Income_&_Services'!$E$15*L204/(SUMIF($G$142:$G$190,1112,$L$142:$L$190)+SUMIF($G$201:$G$240,1112,$L$201:$L$240)),0)","v":0},{"$f":"IF(OR(G204=1111,G204=2729),'Income_&_Services'!$E$16*L204/(SUMIF($G$142:$G$190,2729,$L$142:$L$190)+SUMIF($G$201:$G$240,2729,$L$201:$L$240)+SUMIF($G$142:$G$190,1111,$L$142:$L$190)+SUMIF($G$201:$G$240,1111,$L$201:$L$240)),0)","v":0},null,null,null,null,null,null,null,null,null,null,null,"-",1,null,84]
[0,0,4,0,0,0,{"$f":"IF(Non_SBS_Nominee!B85=\"\",0,VLOOKUP(Non_SBS_Nominee!B85,Non_SBS_Nominee!B$151:C$153,2,FALSE))","v":0},{"$f":"IF(Non_SBS_Nominee!D85=\"\",0,VLOOKUP(Non_SBS_Nominee!D85,Non_SBS_Nominee!D$151:E$232,2,FALSE))","v":0},{"$f":"IF(Non_SBS_Nominee!E85=\"\",0,VLOOKUP(Non_SBS_Nominee!E85,Non_SBS_Nominee!F$151:G$153,2,FALSE))","v":0},"00","DPM",{"$f":"Non_SBS_Nominee!F85","v":0},{"$f":"Non_SBS_Nominee!G85","v":0},{"$f":"Non_SBS_Nominee!H85","v":0},null,null,{"$f":"Non_SBS_Nominee!I85","v":0},{"$f":"Non_SBS_Nominee!J85","v":0},{"$f":"IF(G205=1112,'Income_&_Services'!$E$15*L205/(SUMIF($G$142:$G$190,1112,$L$142:$L$190)+SUMIF($G$201:$G$240,1112,$L$201:$L$240)),0)","v":0},{"$f":"IF(OR(G205=1111,G205=2729),'Income_&_Services'!$E$16*L205/(SUMIF($G$142:$G$190,2729,$L$142:$L$190)+SUMIF($G$201:$G$240,2729,$L$201:$L$240)+SUMIF($G$142:$G$190,1111,$L$142:$L$190)+SUMIF($G$201:$G$240,1111,$L$201:$L$240)),0)","v":0},null,null,null,null,null,null,null,null,null,null,null,"-",1,null,85]
[0,0,4,0,0,0,{"$f":"IF(Non_SBS_Nominee!B86=\"\",0,VLOOKUP(Non_SBS_Nominee!B86,Non_SBS_Nominee!B$151:C$153,2,FALSE))","v":0},{"$f":"IF(Non_SBS_Nominee!D86=\"\",0,VLOOKUP(Non_SBS_Nominee!D86,Non_SBS_Nominee!D$151:E$232,2,FALSE))","v":0},{"$f":"IF(Non_SBS_Nominee!E86=\"\",0,VLOOKUP(Non_SBS_Nominee!E86,Non_SBS_Nominee!F$151:G$153,2,FALSE))","v":0},"00","DPM",{"$f":"Non_SBS_Nominee!F86","v":0},{"$f":"Non_SBS_Nominee!G86","v":0},{"$f":"Non_SBS_Nominee!H86","v":0},null,null,{"$f":"Non_SBS_Nominee!I86","v":0},{"$f":"Non_SBS_Nominee!J86","v":0},{"$f":"IF(G206=1112,'Income_&_Services'!$E$15*L206/(SUMIF($G$142:$G$190,1112,$L$142:$L$190)+SUMIF($G$201:$G$240,1112,$L$201:$L$240)),0)","v":0},{"$f":"IF(OR(G206=1111,G206=2729),'Income_&_Services'!$E$16*L206/(SUMIF($G$142:$G$190,2729,$L$142:$L$190)+SUMIF($G$201:$G$240,2729,$L$201:$L$240)+SUMIF($G$142:$G$190,1111,$L$142:$L$190)+SUMIF($G$201:$G$240,1111,$L$201:$L$240)),0)","v":0},null,null,null,null,null,null,null,null,null,null,null,"-",1,null,86]
[0,0,4,0,0,0,{"$f":"IF(Non_SBS_Nominee!B87=\"\",0,VLOOKUP(Non_SBS_Nominee!B87,Non_SBS_Nominee!B$151:C$153,2,FALSE))","v":0},{"$f":"IF(Non_SBS_Nominee!D87=\"\",0,VLOOKUP(Non_SBS_Nominee!D87,Non_SBS_Nominee!D$151:E$232,2,FALSE))","v":0},{"$f":"IF(Non_SBS_Nominee!E87=\"\",0,VLOOKUP(Non_SBS_Nominee!E87,Non_SBS_Nominee!F$151:G$153,2,FALSE))","v":0},"00","DPM",{"$f":"Non_SBS_Nominee!F87","v":0},{"$f":"Non_SBS_Nominee!G87","v":0},{"$f":"Non_SBS_Nominee!H87","v":0},null,null,{"$f":"Non_SBS_Nominee!I87","v":0},{"$f":"Non_SBS_Nominee!J87","v":0},{"$f":"IF(G207=1112,'Income_&_Services'!$E$15*L207/(SUMIF($G$142:$G$190,1112,$L$142:$L$190)+SUMIF($G$201:$G$240,1112,$L$201:$L$240)),0)","v":0},{"$f":"IF(OR(G207=1111,G207=2729),'Income_&_Services'!$E$16*L207/(SUMIF($G$142:$G$190,2729,$L$142:$L$190)+SUMIF($G$201:$G$240,2729,$L$201:$L$240)+SUMIF($G$142:$G$190,1111,$L$142:$L$190)+SUMIF($G$201:$G$240,1111,$L$201:$L$240)),0)","v":0},null,null,null,null,null,null,null,null,null,null,null,"-",1,null,87]
[0,0,4,0,0,0,{"$f":"IF(Non_SBS_Nominee!B88=\"\",0,VLOOKUP(Non_SBS_Nominee!B88,Non_SBS_Nominee!B$151:C$153,2,FALSE))","v":0},{"$f":"IF(Non_SBS_Nominee!D88=\"\",0,VLOOKUP(Non_SBS_Nominee!D88,Non_SBS_Nominee!D$151:E$232,2,FALSE))","v":0},{"$f":"IF(Non_SBS_Nominee!E88=\"\",0,VLOOKUP(Non_SBS_Nominee!E88,Non_SBS_Nominee!F$151:G$153,2,FALSE))","v":0},"00","DPM",{"$f":"Non_SBS_Nominee!F88","v":0},{"$f":"Non_SBS_Nominee!G88","v":0},{"$f":"Non_SBS_Nominee!H88","v":0},null,null,{"$f":"Non_SBS_Nominee!I88","v":0},{"$f":"Non_SBS_Nominee!J88","v":0},{"$f":"IF(G208=1112,'Income_&_Services'!$E$15*L208/(SUMIF($G$142:$G$190,1112,$L$142:$L$190)+SUMIF($G$201:$G$240,1112,$L$201:$L$240)),0)","v":0},{"$f":"IF(OR(G208=1111,G208=2729),'Income_&_Services'!$E$16*L208/(SUMIF($G$142:$G$190,2729,$L$142:$L$190)+SUMIF($G$201:$G$240,2729,$L$201:$L$240)+SUMIF($G$142:$G$190,1111,$L$142:$L$190)+SUMIF($G$201:$G$240,1111,$L$201:$L$240)),0)","v":0},null,null,null,null,null,null,null,null,null,null,null,"-",1,null,88]
[0,0,4,0,0,0,{"$f":"IF(Non_SBS_Nominee!B89=\"\",0,VLOOKUP(Non_SBS_Nominee!B89,Non_SBS_Nominee!B$151:C$153,2,FALSE))","v":0},{"$f":"IF(Non_SBS_Nominee!D89=\"\",0,VLOOKUP(Non_SBS_Nominee!D89,Non_SBS_Nominee!D$151:E$232,2,FALSE))","v":0},{"$f":"IF(Non_SBS_Nominee!E89=\"\",0,VLOOKUP(Non_SBS_Nominee!E89,Non_SBS_Nominee!F$151:G$153,2,FALSE))","v":0},"00","DPM",{"$f":"Non_SBS_Nominee!F89","v":0},{"$f":"Non_SBS_Nominee!G89","v":0},{"$f":"Non_SBS_Nominee!H89","v":0},null,null,{"$f":"Non_SBS_Nominee!I89","v":0},{"$f":"Non_SBS_Nominee!J89","v":0},{"$f":"IF(G209=1112,'Income_&_Services'!$E$15*L209/(SUMIF($G$142:$G$190,1112,$L$142:$L$190)+SUMIF($G$201:$G$240,1112,$L$201:$L$240)),0)","v":0},{"$f":"IF(OR(G209=1111,G209=2729),'Income_&_Services'!$E$16*L209/(SUMIF($G$142:$G$190,2729,$L$142:$L$190)+SUMIF($G$201:$G$240,2729,$L$201:$L$240)+SUMIF($G$142:$G$190,1111,$L$142:$L$190)+SUMIF($G$201:$G$240,1111,$L$201:$L$240)),0)","v":0},null,null,null,null,null,null,null,null,null,null,null,"-",1,null,89]
[0,0,4,0,0,0,{"$f":"IF(Non_SBS_Nominee!B90=\"\",0,VLOOKUP(Non_SBS_Nominee!B90,Non_SBS_Nominee!B$151:C$153,2,FALSE))","v":0},{"$f":"IF(Non_SBS_Nominee!D90=\"\",0,VLOOKUP(Non_SBS_Nominee!D90,Non_SBS_Nominee!D$151:E$232,2,FALSE))","v":0},{"$f":"IF(Non_SBS_Nominee!E90=\"\",0,VLOOKUP(Non_SBS_Nominee!E90,Non_SBS_Nominee!F$151:G$153,2,FALSE))","v":0},"00","DPM",{"$f":"Non_SBS_Nominee!F90","v":0},{"$f":"Non_SBS_Nominee!G90","v":0},{"$f":"Non_SBS_Nominee!H90","v":0},null,null,{"$f":"Non_SBS_Nominee!I90","v":0},{"$f":"Non_SBS_Nominee!J90","v":0},{"$f":"IF(G210=1112,'Income_&_Services'!$E$15*L210/(SUMIF($G$142:$G$190,1112,$L$142:$L$190)+SUMIF($G$201:$G$240,1112,$L$201:$L$240)),0)","v":0},{"$f":"IF(OR(G210=1111,G210=2729),'Income_&_Services'!$E$16*L210/(SUMIF($G$142:$G$190,2729,$L$142:$L$190)+SUMIF($G$201:$G$240,2729,$L$201:$L$240)+SUMIF($G$142:$G$190,1111,$L$142:$L$190)+SUMIF($G$201:$G$240,1111,$L$201:$L$240)),0)","v":0},null,null,null,null,null,null,null,null,null,null,null,"-",1,null,90]
[0,0,4,0,0,0,{"$f":"IF(Non_SBS_Nominee!B91=\"\",0,VLOOKUP(Non_SBS_Nominee!B91,Non_SBS_Nominee!B$151:C$153,2,FALSE))","v":0},{"$f":"IF(Non_SBS_Nominee!D91=\"\",0,VLOOKUP(Non_SBS_Nominee!D91,Non_SBS_Nominee!D$151:E$232,2,FALSE))","v":0},{"$f":"IF(Non_SBS_Nominee!E91=\"\",0,VLOOKUP(Non_SBS_Nominee!E91,Non_SBS_Nominee!F$151:G$153,2,FALSE))","v":0},"00","DPM",{"$f":"Non_SBS_Nominee!F91","v":0},{"$f":"Non_SBS_Nominee!G91","v":0},{"$f":"Non_SBS_Nominee!H91","v":0},null,null,{"$f":"Non_SBS_Nominee!I91","v":0},{"$f":"Non_SBS_Nominee!J91","v":0},{"$f":"IF(G211=1112,'Income_&_Services'!$E$15*L211/(SUMIF($G$142:$G$190,1112,$L$142:$L$190)+SUMIF($G$201:$G$240,1112,$L$201:$L$240)),0)","v":0},{"$f":"IF(OR(G211=1111,G211=2729),'Income_&_Services'!$E$16*L211/(SUMIF($G$142:$G$190,2729,$L$142:$L$190)+SUMIF($G$201:$G$240,2729,$L$201:$L$240)+SUMIF($G$142:$G$190,1111,$L$142:$L$190)+SUMIF($G$201:$G$240,1111,$L$201:$L$240)),0)","v":0},null,null,null,null,null,null,null,null,null,null,null,"-",1,null,91]
[0,0,4,0,0,0,{"$f":"IF(Non_SBS_Nominee!B92=\"\",0,VLOOKUP(Non_SBS_Nominee!B92,Non_SBS_Nominee!B$151:C$153,2,FALSE))","v":0},{"$f":"IF(Non_SBS_Nominee!D92=\"\",0,VLOOKUP(Non_SBS_Nominee!D92,Non_SBS_Nominee!D$151:E$232,2,FALSE))","v":0},{"$f":"IF(Non_SBS_Nominee!E92=\"\",0,VLOOKUP(Non_SBS_Nominee!E92,Non_SBS_Nominee!F$151:G$153,2,FALSE))","v":0},"00","DPM",{"$f":"Non_SBS_Nominee!F92","v":0},{"$f":"Non_SBS_Nominee!G92","v":0},{"$f":"Non_SBS_Nominee!H92","v":0},null,null,{"$f":"Non_SBS_Nominee!I92","v":0},{"$f":"Non_SBS_Nominee!J92","v":0},{"$f":"IF(G212=1112,'Income_&_Services'!$E$15*L212/(SUMIF($G$142:$G$190,1112,$L$142:$L$190)+SUMIF($G$201:$G$240,1112,$L$201:$L$240)),0)","v":0},{"$f":"IF(OR(G212=1111,G212=2729),'Income_&_Services'!$E$16*L212/(SUMIF($G$142:$G$190,2729,$L$142:$L$190)+SUMIF($G$201:$G$240,2729,$L$201:$L$240)+SUMIF($G$142:$G$190,1111,$L$142:$L$190)+SUMIF($G$201:$G$240,1111,$L$201:$L$240)),0)","v":0},null,null,null,null,null,null,null,null,null,null,null,"-",1,null,92]
[0,0,4,0,0,0,{"$f":"IF(Non_SBS_Nominee!B93=\"\",0,VLOOKUP(Non_SBS_Nominee!B93,Non_SBS_Nominee!B$151:C$153,2,FALSE))","v":0},{"$f":"IF(Non_SBS_Nominee!D93=\"\",0,VLOOKUP(Non_SBS_Nominee!D93,Non_SBS_Nominee!D$151:E$232,2,FALSE))","v":0},{"$f":"IF(Non_SBS_Nominee!E93=\"\",0,VLOOKUP(Non_SBS_Nominee!E93,Non_SBS_Nominee!F$151:G$153,2,FALSE))","v":0},"00","DPM",{"$f":"Non_SBS_Nominee!F93","v":0},{"$f":"Non_SBS_Nominee!G93","v":0},{"$f":"Non_SBS_Nominee!H93","v":0},null,null,{"$f":"Non_SBS_Nominee!I93","v":0},{"$f":"Non_SBS_Nominee!J93","v":0},{"$f":"IF(G213=1112,'Income_&_Services'!$E$15*L213/(SUMIF($G$142:$G$190,1112,$L$142:$L$190)+SUMIF($G$201:$G$240,1112,$L$201:$L$240)),0)","v":0},{"$f":"IF(OR(G213=1111,G213=2729),'Income_&_Services'!$E$16*L213/(SUMIF($G$142:$G$190,2729,$L$142:$L$190)+SUMIF($G$201:$G$240,2729,$L$201:$L$240)+SUMIF($G$142:$G$190,1111,$L$142:$L$190)+SUMIF($G$201:$G$240,1111,$L$201:$L$240)),0)","v":0},null,null,null,null,null,null,null,null,null,null,null,"-",1,null,93]
[0,0,4,0,0,0,{"$f":"IF(Non_SBS_Nominee!B94=\"\",0,VLOOKUP(Non_SBS_Nominee!B94,Non_SBS_Nominee!B$151:C$153,2,FALSE))","v":0},{"$f":"IF(Non_SBS_Nominee!D94=\"\",0,VLOOKUP(Non_SBS_Nominee!D94,Non_SBS_Nominee!D$151:E$232,2,FALSE))","v":0},{"$f":"IF(Non_SBS_Nominee!E94=\"\",0,VLOOKUP(Non_SBS_Nominee!E94,Non_SBS_Nominee!F$151:G$153,2,FALSE))","v":0},"00","DPM",{"$f":"Non_SBS_Nominee!F94","v":0},{"$f":"Non_SBS_Nominee!G94","v":0},{"$f":"Non_SBS_Nominee!H94","v":0},null,null,{"$f":"Non_SBS_Nominee!I94","v":0},{"$f":"Non_SBS_Nominee!J94","v":0},{"$f":"IF(G214=1112,'Income_&_Services'!$E$15*L214/(SUMIF($G$142:$G$190,1112,$L$142:$L$190)+SUMIF($G$201:$G$240,1112,$L$201:$L$240)),0)","v":0},{"$f":"IF(OR(G214=1111,G214=2729),'Income_&_Services'!$E$16*L214/(SUMIF($G$142:$G$190,2729,$L$142:$L$190)+SUMIF($G$201:$G$240,2729,$L$201:$L$240)+SUMIF($G$142:$G$190,1111,$L$142:$L$190)+SUMIF($G$201:$G$240,1111,$L$201:$L$240)),0)","v":0},null,null,null,null,null,null,null,null,null,null,null,"-",1,null,94]
[0,0,4,0,0,0,{"$f":"IF(Non_SBS_Nominee!B95=\"\",0,VLOOKUP(Non_SBS_Nominee!B95,Non_SBS_Nominee!B$151:C$153,2,FALSE))","v":0},{"$f":"IF(Non_SBS_Nominee!D95=\"\",0,VLOOKUP(Non_SBS_Nominee!D95,Non_SBS_Nominee!D$151:E$232,2,FALSE))","v":0},{"$f":"IF(Non_SBS_Nominee!E95=\"\",0,VLOOKUP(Non_SBS_Nominee!E95,Non_SBS_Nominee!F$151:G$153,2,FALSE))","v":0},"00","DPM",{"$f":"Non_SBS_Nominee!F95","v":0},{"$f":"Non_SBS_Nominee!G95","v":0},{"$f":"Non_SBS_Nominee!H95","v":0},null,null,{"$f":"Non_SBS_Nominee!I95","v":0},{"$f":"Non_SBS_Nominee!J95","v":0},{"$f":"IF(G215=1112,'Income_&_Services'!$E$15*L215/(SUMIF($G$142:$G$190,1112,$L$142:$L$190)+SUMIF($G$201:$G$240,1112,$L$201:$L$240)),0)","v":0},{"$f":"IF(OR(G215=1111,G215=2729),'Income_&_Services'!$E$16*L215/(SUMIF($G$142:$G$190,2729,$L$142:$L$190)+SUMIF($G$201:$G$240,2729,$L$201:$L$240)+SUMIF($G$142:$G$190,1111,$L$142:$L$190)+SUMIF($G$201:$G$240,1111,$L$201:$L$240)),0)","v":0},null,null,null,null,null,null,null,null,null,null,null,"-",1,null,95]
[0,0,4,0,0,0,{"$f":"IF(Non_SBS_Nominee!B96=\"\",0,VLOOKUP(Non_SBS_Nominee!B96,Non_SBS_Nominee!B$151:C$153,2,FALSE))","v":0},{"$f":"IF(Non_SBS_Nominee!D96=\"\",0,VLOOKUP(Non_SBS_Nominee!D96,Non_SBS_Nominee!D$151:E$232,2,FALSE))","v":0},{"$f":"IF(Non_SBS_Nominee!E96=\"\",0,VLOOKUP(Non_SBS_Nominee!E96,Non_SBS_Nominee!F$151:G$153,2,FALSE))","v":0},"00","DPM",{"$f":"Non_SBS_Nominee!F96","v":0},{"$f":"Non_SBS_Nominee!G96","v":0},{"$f":"Non_SBS_Nominee!H96","v":0},null,null,{"$f":"Non_SBS_Nominee!I96","v":0},{"$f":"Non_SBS_Nominee!J96","v":0},{"$f":"IF(G216=1112,'Income_&_Services'!$E$15*L216/(SUMIF($G$142:$G$190,1112,$L$142:$L$190)+SUMIF($G$201:$G$240,1112,$L$201:$L$240)),0)","v":0},{"$f":"IF(OR(G216=1111,G216=2729),'Income_&_Services'!$E$16*L216/(SUMIF($G$142:$G$190,2729,$L$142:$L$190)+SUMIF($G$201:$G$240,2729,$L$201:$L$240)+SUMIF($G$142:$G$190,1111,$L$142:$L$190)+SUMIF($G$201:$G$240,1111,$L$201:$L$240)),0)","v":0},null,null,null,null,null,null,null,null,null,null,null,"-",1,null,96]
[0,0,4,0,0,0,{"$f":"IF(Non_SBS_Nominee!B97=\"\",0,VLOOKUP(Non_SBS_Nominee!B97,Non_SBS_Nominee!B$151:C$153,2,FALSE))","v":0},{"$f":"IF(Non_SBS_Nominee!D97=\"\",0,VLOOKUP(Non_SBS_Nominee!D97,Non_SBS_Nominee!D$151:E$232,2,FALSE))","v":0},{"$f":"IF(Non_SBS_Nominee!E97=\"\",0,VLOOKUP(Non_SBS_Nominee!E97,Non_SBS_Nominee!F$151:G$153,2,FALSE))","v":0},"00","DPM",{"$f":"Non_SBS_Nominee!F97","v":0},{"$f":"Non_SBS_Nominee!G97","v":0},{"$f":"Non_SBS_Nominee!H97","v":0},null,null,{"$f":"Non_SBS_Nominee!I97","v":0},{"$f":"Non_SBS_Nominee!J97","v":0},{"$f":"IF(G217=1112,'Income_&_Services'!$E$15*L217/(SUMIF($G$142:$G$190,1112,$L$142:$L$190)+SUMIF($G$201:$G$240,1112,$L$201:$L$240)),0)","v":0},{"$f":"IF(OR(G217=1111,G217=2729),'Income_&_Services'!$E$16*L217/(SUMIF($G$142:$G$190,2729,$L$142:$L$190)+SUMIF($G$201:$G$240,2729,$L$201:$L$240)+SUMIF($G$142:$G$190,1111,$L$142:$L$190)+SUMIF($G$201:$G$240,1111,$L$201:$L$240)),0)","v":0},null,null,null,null,null,null,null,null,null,null,null,"-",1,null,97]
[0,0,4,0,0,0,{"$f":"IF(Non_SBS_Nominee!B98=\"\",0,VLOOKUP(Non_SBS_Nominee!B98,Non_SBS_Nominee!B$151:C$153,2,FALSE))","v":0},{"$f":"IF(Non_SBS_Nominee!D98=\"\",0,VLOOKUP(Non_SBS_Nominee!D98,Non_SBS_Nominee!D$151:E$232,2,FALSE))","v":0},{"$f":"IF(Non_SBS_Nominee!E98=\"\",0,VLOOKUP(Non_SBS_Nominee!E98,Non_SBS_Nominee!F$151:G$153,2,FALSE))","v":0},"00","DPM",{"$f":"Non_SBS_Nominee!F98","v":0},{"$f":"Non_SBS_Nominee!G98","v":0},{"$f":"Non_SBS_Nominee!H98","v":0},null,null,{"$f":"Non_SBS_Nominee!I98","v":0},{"$f":"Non_SBS_Nominee!J98","v":0},{"$f":"IF(G218=1112,'Income_&_Services'!$E$15*L218/(SUMIF($G$142:$G$190,1112,$L$142:$L$190)+SUMIF($G$201:$G$240,1112,$L$201:$L$240)),0)","v":0},{"$f":"IF(OR(G218=1111,G218=2729),'Income_&_Services'!$E$16*L218/(SUMIF($G$142:$G$190,2729,$L$142:$L$190)+SUMIF($G$201:$G$240,2729,$L$201:$L$240)+SUMIF($G$142:$G$190,1111,$L$142:$L$190)+SUMIF($G$201:$G$240,1111,$L$201:$L$240)),0)","v":0},null,null,null,null,null,null,null,null,null,null,null,"-",1,null,98]
[0,0,4,0,0,0,{"$f":"IF(Non_SBS_Nominee!B99=\"\",0,VLOOKUP(Non_SBS_Nominee!B99,Non_SBS_Nominee!B$151:C$153,2,FALSE))","v":0},{"$f":"IF(Non_SBS_Nominee!D99=\"\",0,VLOOKUP(Non_SBS_Nominee!D99,Non_SBS_Nominee!D$151:E$232,2,FALSE))","v":0},{"$f":"IF(Non_SBS_Nominee!E99=\"\",0,VLOOKUP(Non_SBS_Nominee!E99,Non_SBS_Nominee!F$151:G$153,2,FALSE))","v":0},"00","DPM",{"$f":"Non_SBS_Nominee!F99","v":0},{"$f":"Non_SBS_Nominee!G99","v":0},{"$f":"Non_SBS_Nominee!H99","v":0},null,null,{"$f":"Non_SBS_Nominee!I99","v":0},{"$f":"Non_SBS_Nominee!J99","v":0},{"$f":"IF(G219=1112,'Income_&_Services'!$E$15*L219/(SUMIF($G$142:$G$190,1112,$L$142:$L$190)+SUMIF($G$201:$G$240,1112,$L$201:$L$240)),0)","v":0},{"$f":"IF(OR(G219=1111,G219=2729),'Income_&_Services'!$E$16*L219/(SUMIF($G$142:$G$190,2729,$L$142:$L$190)+SUMIF($G$201:$G$240,2729,$L$201:$L$240)+SUMIF($G$142:$G$190,1111,$L$142:$L$190)+SUMIF($G$201:$G$240,1111,$L$201:$L$240)),0)","v":0},null,null,null,null,null,null,null,null,null,null,null,"-",1,null,99]
[0,0,4,0,0,0,{"$f":"IF(Non_SBS_Nominee!B100=\"\",0,VLOOKUP(Non_SBS_Nominee!B100,Non_SBS_Nominee!B$151:C$153,2,FALSE))","v":0},{"$f":"IF(Non_SBS_Nominee!D100=\"\",0,VLOOKUP(Non_SBS_Nominee!D100,Non_SBS_Nominee!D$151:E$232,2,FALSE))","v":0},{"$f":"IF(Non_SBS_Nominee!E100=\"\",0,VLOOKUP(Non_SBS_Nominee!E100,Non_SBS_Nominee!F$151:G$153,2,FALSE))","v":0},"00","DPM",{"$f":"Non_SBS_Nominee!F100","v":0},{"$f":"Non_SBS_Nominee!G100","v":0},{"$f":"Non_SBS_Nominee!H100","v":0},null,null,{"$f":"Non_SBS_Nominee!I100","v":0},{"$f":"Non_SBS_Nominee!J100","v":0},{"$f":"IF(G220=1112,'Income_&_Services'!$E$15*L220/(SUMIF($G$142:$G$190,1112,$L$142:$L$190)+SUMIF($G$201:$G$240,1112,$L$201:$L$240)),0)","v":0},{"$f":"IF(OR(G220=1111,G220=2729),'Income_&_Services'!$E$16*L220/(SUMIF($G$142:$G$190,2729,$L$142:$L$190)+SUMIF($G$201:$G$240,2729,$L$201:$L$240)+SUMIF($G$142:$G$190,1111,$L$142:$L$190)+SUMIF($G$201:$G$240,1111,$L$201:$L$240)),0)","v":0},null,null,null,null,null,null,null,null,null,null,null,"-",1,null,100]
[0,0,4,0,0,0,{"$f":"IF(Non_SBS_Nominee!B101=\"\",0,VLOOKUP(Non_SBS_Nominee!B101,Non_SBS_Nominee!B$151:C$153,2,FALSE))","v":0},{"$f":"IF(Non_SBS_Nominee!D101=\"\",0,VLOOKUP(Non_SBS_Nominee!D101,Non_SBS_Nominee!D$151:E$232,2,FALSE))","v":0},{"$f":"IF(Non_SBS_Nominee!E101=\"\",0,VLOOKUP(Non_SBS_Nominee!E101,Non_SBS_Nominee!F$151:G$153,2,FALSE))","v":0},"00","DPM",{"$f":"Non_SBS_Nominee!F101","v":0},{"$f":"Non_SBS_Nominee!G101","v":0},{"$f":"Non_SBS_Nominee!H101","v":0},null,null,{"$f":"Non_SBS_Nominee!I101","v":0},{"$f":"Non_SBS_Nominee!J101","v":0},{"$f":"IF(G221=1112,'Income_&_Services'!$E$15*L221/(SUMIF($G$142:$G$190,1112,$L$142:$L$190)+SUMIF($G$201:$G$240,1112,$L$201:$L$240)),0)","v":0},{"$f":"IF(OR(G221=1111,G221=2729),'Income_&_Services'!$E$16*L221/(SUMIF($G$142:$G$190,2729,$L$142:$L$190)+SUMIF($G$201:$G$240,2729,$L$201:$L$240)+SUMIF($G$142:$G$190,1111,$L$142:$L$190)+SUMIF($G$201:$G$240,1111,$L$201:$L$240)),0)","v":0},null,null,null,null,null,null,null,null,null,null,null,"-",1,null,101]
[0,0,4,0,0,0,{"$f":"IF(Non_SBS_Nominee!B102=\"\",0,VLOOKUP(Non_SBS_Nominee!B102,Non_SBS_Nominee!B$151:C$153,2,FALSE))","v":0},{"$f":"IF(Non_SBS_Nominee!D102=\"\",0,VLOOKUP(Non_SBS_Nominee!D102,Non_SBS_Nominee!D$151:E$232,2,FALSE))","v":0},{"$f":"IF(Non_SBS_Nominee!E102=\"\",0,VLOOKUP(Non_SBS_Nominee!E102,Non_SBS_Nominee!F$151:G$153,2,FALSE))","v":0},"00","DPM",{"$f":"Non_SBS_Nominee!F102","v":0},{"$f":"Non_SBS_Nominee!G102","v":0},{"$f":"Non_SBS_Nominee!H102","v":0},null,null,{"$f":"Non_SBS_Nominee!I102","v":0},{"$f":"Non_SBS_Nominee!J102","v":0},{"$f":"IF(G222=1112,'Income_&_Services'!$E$15*L222/(SUMIF($G$142:$G$190,1112,$L$142:$L$190)+SUMIF($G$201:$G$240,1112,$L$201:$L$240)),0)","v":0},{"$f":"IF(OR(G222=1111,G222=2729),'Income_&_Services'!$E$16*L222/(SUMIF($G$142:$G$190,2729,$L$142:$L$190)+SUMIF($G$201:$G$240,2729,$L$201:$L$240)+SUMIF($G$142:$G$190,1111,$L$142:$L$190)+SUMIF($G$201:$G$240,1111,$L$201:$L$240)),0)","v":0},null,null,null,null,null,null,null,null,null,null,null,"-",1,null,102]
[0,0,4,0,0,0,{"$f":"IF(Non_SBS_Nominee!B103=\"\",0,VLOOKUP(Non_SBS_Nominee!B103,Non_SBS_Nominee!B$151:C$153,2,FALSE))","v":0},{"$f":"IF(Non_SBS_Nominee!D103=\"\",0,VLOOKUP(Non_SBS_Nominee!D103,Non_SBS_Nominee!D$151:E$232,2,FALSE))","v":0},{"$f":"IF(Non_SBS_Nominee!E103=\"\",0,VLOOKUP(Non_SBS_Nominee!E103,Non_SBS_Nominee!F$151:G$153,2,FALSE))","v":0},"00","DPM",{"$f":"Non_SBS_Nominee!F103","v":0},{"$f":"Non_SBS_Nominee!G103","v":0},{"$f":"Non_SBS_Nominee!H103","v":0},null,null,{"$f":"Non_SBS_Nominee!I103","v":0},{"$f":"Non_SBS_Nominee!J103","v":0},{"$f":"IF(G223=1112,'Income_&_Services'!$E$15*L223/(SUMIF($G$142:$G$190,1112,$L$142:$L$190)+SUMIF($G$201:$G$240,1112,$L$201:$L$240)),0)","v":0},{"$f":"IF(OR(G223=1111,G223=2729),'Income_&_Services'!$E$16*L223/(SUMIF($G$142:$G$190,2729,$L$142:$L$190)+SUMIF($G$201:$G$240,2729,$L$201:$L$240)+SUMIF($G$142:$G$190,1111,$L$142:$L$190)+SUMIF($G$201:$G$240,1111,$L$201:$L$240)),0)","v":0},null,null,null,null,null,null,null,null,null,null,null,"-",1,null,103]
[0,0,4,0,0,0,{"$f":"IF(Non_SBS_Nominee!B104=\"\",0,VLOOKUP(Non_SBS_Nominee!B104,Non_SBS_Nominee!B$151:C$153,2,FALSE))","v":0},{"$f":"IF(Non_SBS_Nominee!D104=\"\",0,VLOOKUP(Non_SBS_Nominee!D104,Non_SBS_Nominee!D$151:E$232,2,FALSE))","v":0},{"$f":"IF(Non_SBS_Nominee!E104=\"\",0,VLOOKUP(Non_SBS_Nominee!E104,Non_SBS_Nominee!F$151:G$153,2,FALSE))","v":0},"00","DPM",{"$f":"Non_SBS_Nominee!F104","v":0},{"$f":"Non_SBS_Nominee!G104","v":0},{"$f":"Non_SBS_Nominee!H104","v":0},null,null,{"$f":"Non_SBS_Nominee!I104","v":0},{"$f":"Non_SBS_Nominee!J104","v":0},{"$f":"IF(G224=1112,'Income_&_Services'!$E$15*L224/(SUMIF($G$142:$G$190,1112,$L$142:$L$190)+SUMIF($G$201:$G$240,1112,$L$201:$L$240)),0)","v":0},{"$f":"IF(OR(G224=1111,G224=2729),'Income_&_Services'!$E$16*L224/(SUMIF($G$142:$G$190,2729,$L$142:$L$190)+SUMIF($G$201:$G$240,2729,$L$201:$L$240)+SUMIF($G$142:$G$190,1111,$L$142:$L$190)+SUMIF($G$201:$G$240,1111,$L$201:$L$240)),0)","v":0},null,null,null,null,null,null,null,null,null,null,null,"-",1,null,104]
[0,0,4,0,0,0,{"$f":"IF(Non_SBS_Nominee!B105=\"\",0,VLOOKUP(Non_SBS_Nominee!B105,Non_SBS_Nominee!B$151:C$153,2,FALSE))","v":0},{"$f":"IF(Non_SBS_Nominee!D105=\"\",0,VLOOKUP(Non_SBS_Nominee!D105,Non_SBS_Nominee!D$151:E$232,2,FALSE))","v":0},{"$f":"IF(Non_SBS_Nominee!E105=\"\",0,VLOOKUP(Non_SBS_Nominee!E105,Non_SBS_Nominee!F$151:G$153,2,FALSE))","v":0},"00","DPM",{"$f":"Non_SBS_Nominee!F105","v":0},{"$f":"Non_SBS_Nominee!G105","v":0},{"$f":"Non_SBS_Nominee!H105","v":0},null,null,{"$f":"Non_SBS_Nominee!I105","v":0},{"$f":"Non_SBS_Nominee!J105","v":0},{"$f":"IF(G225=1112,'Income_&_Services'!$E$15*L225/(SUMIF($G$142:$G$190,1112,$L$142:$L$190)+SUMIF($G$201:$G$240,1112,$L$201:$L$240)),0)","v":0},{"$f":"IF(OR(G225=1111,G225=2729),'Income_&_Services'!$E$16*L225/(SUMIF($G$142:$G$190,2729,$L$142:$L$190)+SUMIF($G$201:$G$240,2729,$L$201:$L$240)+SUMIF($G$142:$G$190,1111,$L$142:$L$190)+SUMIF($G$201:$G$240,1111,$L$201:$L$240)),0)","v":0},null,null,null,null,null,null,null,null,null,null,null,"-",1,null,105]
[0,0,4,0,0,0,{"$f":"IF(Non_SBS_Nominee!B106=\"\",0,VLOOKUP(Non_SBS_Nominee!B106,Non_SBS_Nominee!B$151:C$153,2,FALSE))","v":0},{"$f":"IF(Non_SBS_Nominee!D106=\"\",0,VLOOKUP(Non_SBS_Nominee!D106,Non_SBS_Nominee!D$151:E$232,2,FALSE))","v":0},{"$f":"IF(Non_SBS_Nominee!E106=\"\",0,VLOOKUP(Non_SBS_Nominee!E106,Non_SBS_Nominee!F$151:G$153,2,FALSE))","v":0},"00","DPM",{"$f":"Non_SBS_Nominee!F106","v":0},{"$f":"Non_SBS_Nominee!G106","v":0},{"$f":"Non_SBS_Nominee!H106","v":0},null,null,{"$f":"Non_SBS_Nominee!I106","v":0},{"$f":"Non_SBS_Nominee!J106","v":0},{"$f":"IF(G226=1112,'Income_&_Services'!$E$15*L226/(SUMIF($G$142:$G$190,1112,$L$142:$L$190)+SUMIF($G$201:$G$240,1112,$L$201:$L$240)),0)","v":0},{"$f":"IF(OR(G226=1111,G226=2729),'Income_&_Services'!$E$16*L226/(SUMIF($G$142:$G$190,2729,$L$142:$L$190)+SUMIF($G$201:$G$240,2729,$L$201:$L$240)+SUMIF($G$142:$G$190,1111,$L$142:$L$190)+SUMIF($G$201:$G$240,1111,$L$201:$L$240)),0)","v":0},null,null,null,null,null,null,null,null,null,null,null,"-",1,null,106]
[0,0,4,0,0,0,{"$f":"IF(Non_SBS_Nominee!B107=\"\",0,VLOOKUP(Non_SBS_Nominee!B107,Non_SBS_Nominee!B$151:C$153,2,FALSE))","v":0},{"$f":"IF(Non_SBS_Nominee!D107=\"\",0,VLOOKUP(Non_SBS_Nominee!D107,Non_SBS_Nominee!D$151:E$232,2,FALSE))","v":0},{"$f":"IF(Non_SBS_Nominee!E107=\"\",0,VLOOKUP(Non_SBS_Nominee!E107,Non_SBS_Nominee!F$151:G$153,2,FALSE))","v":0},"00","DPM",{"$f":"Non_SBS_Nominee!F107","v":0},{"$f":"Non_SBS_Nominee!G107","v":0},{"$f":"Non_SBS_Nominee!H107","v":0},null,null,{"$f":"Non_SBS_Nominee!I107","v":0},{"$f":"Non_SBS_Nominee!J107","v":0},{"$f":"IF(G227=1112,'Income_&_Services'!$E$15*L227/(SUMIF($G$142:$G$190,1112,$L$142:$L$190)+SUMIF($G$201:$G$240,1112,$L$201:$L$240)),0)","v":0},{"$f":"IF(OR(G227=1111,G227=2729),'Income_&_Services'!$E$16*L227/(SUMIF($G$142:$G$190,2729,$L$142:$L$190)+SUMIF($G$201:$G$240,2729,$L$201:$L$240)+SUMIF($G$142:$G$190,1111,$L$142:$L$190)+SUMIF($G$201:$G$240,1111,$L$201:$L$240)),0)","v":0},null,null,null,null,null,null,null,null,null,null,null,"-",1,null,107]
[0,0,4,0,0,0,{"$f":"IF(Non_SBS_Nominee!B108=\"\",0,VLOOKUP(Non_SBS_Nominee!B108,Non_SBS_Nominee!B$151:C$153,2,FALSE))","v":0},{"$f":"IF(Non_SBS_Nominee!D108=\"\",0,VLOOKUP(Non_SBS_Nominee!D108,Non_SBS_Nominee!D$151:E$232,2,FALSE))","v":0},{"$f":"IF(Non_SBS_Nominee!E108=\"\",0,VLOOKUP(Non_SBS_Nominee!E108,Non_SBS_Nominee!F$151:G$153,2,FALSE))","v":0},"00","DPM",{"$f":"Non_SBS_Nominee!F108","v":0},{"$f":"Non_SBS_Nominee!G108","v":0},{"$f":"Non_SBS_Nominee!H108","v":0},null,null,{"$f":"Non_SBS_Nominee!I108","v":0},{"$f":"Non_SBS_Nominee!J108","v":0},{"$f":"IF(G228=1112,'Income_&_Services'!$E$15*L228/(SUMIF($G$142:$G$190,1112,$L$142:$L$190)+SUMIF($G$201:$G$240,1112,$L$201:$L$240)),0)","v":0},{"$f":"IF(OR(G228=1111,G228=2729),'Income_&_Services'!$E$16*L228/(SUMIF($G$142:$G$190,2729,$L$142:$L$190)+SUMIF($G$201:$G$240,2729,$L$201:$L$240)+SUMIF($G$142:$G$190,1111,$L$142:$L$190)+SUMIF($G$201:$G$240,1111,$L$201:$L$240)),0)","v":0},null,null,null,null,null,null,null,null,null,null,null,"-",1,null,108]
[0,0,4,0,0,0,{"$f":"IF(Non_SBS_Nominee!B109=\"\",0,VLOOKUP(Non_SBS_Nominee!B109,Non_SBS_Nominee!B$151:C$153,2,FALSE))","v":0},{"$f":"IF(Non_SBS_Nominee!D109=\"\",0,VLOOKUP(Non_SBS_Nominee!D109,Non_SBS_Nominee!D$151:E$232,2,FALSE))","v":0},{"$f":"IF(Non_SBS_Nominee!E109=\"\",0,VLOOKUP(Non_SBS_Nominee!E109,Non_SBS_Nominee!F$151:G$153,2,FALSE))","v":0},"00","DPM",{"$f":"Non_SBS_Nominee!F109","v":0},{"$f":"Non_SBS_Nominee!G109","v":0},{"$f":"Non_SBS_Nominee!H109","v":0},null,null,{"$f":"Non_SBS_Nominee!I109","v":0},{"$f":"Non_SBS_Nominee!J109","v":0},{"$f":"IF(G229=1112,'Income_&_Services'!$E$15*L229/(SUMIF($G$142:$G$190,1112,$L$142:$L$190)+SUMIF($G$201:$G$240,1112,$L$201:$L$240)),0)","v":0},{"$f":"IF(OR(G229=1111,G229=2729),'Income_&_Services'!$E$16*L229/(SUMIF($G$142:$G$190,2729,$L$142:$L$190)+SUMIF($G$201:$G$240,2729,$L$201:$L$240)+SUMIF($G$142:$G$190,1111,$L$142:$L$190)+SUMIF($G$201:$G$240,1111,$L$201:$L$240)),0)","v":0},null,null,null,null,null,null,null,null,null,null,null,"-",1,null,109]
[0,0,4,0,0,0,{"$f":"IF(Non_SBS_Nominee!B110=\"\",0,VLOOKUP(Non_SBS_Nominee!B110,Non_SBS_Nominee!B$151:C$153,2,FALSE))","v":0},{"$f":"IF(Non_SBS_Nominee!D110=\"\",0,VLOOKUP(Non_SBS_Nominee!D110,Non_SBS_Nominee!D$151:E$232,2,FALSE))","v":0},{"$f":"IF(Non_SBS_Nominee!E110=\"\",0,VLOOKUP(Non_SBS_Nominee!E110,Non_SBS_Nominee!F$151:G$153,2,FALSE))","v":0},"00","DPM",{"$f":"Non_SBS_Nominee!F110","v":0},{"$f":"Non_SBS_Nominee!G110","v":0},{"$f":"Non_SBS_Nominee!H110","v":0},null,null,{"$f":"Non_SBS_Nominee!I110","v":0},{"$f":"Non_SBS_Nominee!J110","v":0},{"$f":"IF(G230=1112,'Income_&_Services'!$E$15*L230/(SUMIF($G$142:$G$190,1112,$L$142:$L$190)+SUMIF($G$201:$G$240,1112,$L$201:$L$240)),0)","v":0},{"$f":"IF(OR(G230=1111,G230=2729),'Income_&_Services'!$E$16*L230/(SUMIF($G$142:$G$190,2729,$L$142:$L$190)+SUMIF($G$201:$G$240,2729,$L$201:$L$240)+SUMIF($G$142:$G$190,1111,$L$142:$L$190)+SUMIF($G$201:$G$240,1111,$L$201:$L$240)),0)","v":0},null,null,null,null,null,null,null,null,null,null,null,"-",1,null,110]
[0,0,4,0,0,0,{"$f":"IF(Non_SBS_Nominee!B111=\"\",0,VLOOKUP(Non_SBS_Nominee!B111,Non_SBS_Nominee!B$151:C$153,2,FALSE))","v":0},{"$f":"IF(Non_SBS_Nominee!D111=\"\",0,VLOOKUP(Non_SBS_Nominee!D111,Non_SBS_Nominee!D$151:E$232,2,FALSE))","v":0},{"$f":"IF(Non_SBS_Nominee!E111=\"\",0,VLOOKUP(Non_SBS_Nominee!E111,Non_SBS_Nominee!F$151:G$153,2,FALSE))","v":0},"00","DPM",{"$f":"Non_SBS_Nominee!F111","v":0},{"$f":"Non_SBS_Nominee!G111","v":0},{"$f":"Non_SBS_Nominee!H111","v":0},null,null,{"$f":"Non_SBS_Nominee!I111","v":0},{"$f":"Non_SBS_Nominee!J111","v":0},{"$f":"IF(G231=1112,'Income_&_Services'!$E$15*L231/(SUMIF($G$142:$G$190,1112,$L$142:$L$190)+SUMIF($G$201:$G$240,1112,$L$201:$L$240)),0)","v":0},{"$f":"IF(OR(G231=1111,G231=2729),'Income_&_Services'!$E$16*L231/(SUMIF($G$142:$G$190,2729,$L$142:$L$190)+SUMIF($G$201:$G$240,2729,$L$201:$L$240)+SUMIF($G$142:$G$190,1111,$L$142:$L$190)+SUMIF($G$201:$G$240,1111,$L$201:$L$240)),0)","v":0},null,null,null,null,null,null,null,null,null,null,null,"-",1,null,111]
[0,0,4,0,0,0,{"$f":"IF(Non_SBS_Nominee!B112=\"\",0,VLOOKUP(Non_SBS_Nominee!B112,Non_SBS_Nominee!B$151:C$153,2,FALSE))","v":0},{"$f":"IF(Non_SBS_Nominee!D112=\"\",0,VLOOKUP(Non_SBS_Nominee!D112,Non_SBS_Nominee!D$151:E$232,2,FALSE))","v":0},{"$f":"IF(Non_SBS_Nominee!E112=\"\",0,VLOOKUP(Non_SBS_Nominee!E112,Non_SBS_Nominee!F$151:G$153,2,FALSE))","v":0},"00","DPM",{"$f":"Non_SBS_Nominee!F112","v":0},{"$f":"Non_SBS_Nominee!G112","v":0},{"$f":"Non_SBS_Nominee!H112","v":0},null,null,{"$f":"Non_SBS_Nominee!I112","v":0},{"$f":"Non_SBS_Nominee!J112","v":0},{"$f":"IF(G232=1112,'Income_&_Services'!$E$15*L232/(SUMIF($G$142:$G$190,1112,$L$142:$L$190)+SUMIF($G$201:$G$240,1112,$L$201:$L$240)),0)","v":0},{"$f":"IF(OR(G232=1111,G232=2729),'Income_&_Services'!$E$16*L232/(SUMIF($G$142:$G$190,2729,$L$142:$L$190)+SUMIF($G$201:$G$240,2729,$L$201:$L$240)+SUMIF($G$142:$G$190,1111,$L$142:$L$190)+SUMIF($G$201:$G$240,1111,$L$201:$L$240)),0)","v":0},null,null,null,null,null,null,null,null,null,null,null,"-",1,null,112]
[0,0,4,0,0,0,{"$f":"IF(Non_SBS_Nominee!B113=\"\",0,VLOOKUP(Non_SBS_Nominee!B113,Non_SBS_Nominee!B$151:C$153,2,FALSE))","v":0},{"$f":"IF(Non_SBS_Nominee!D113=\"\",0,VLOOKUP(Non_SBS_Nominee!D113,Non_SBS_Nominee!D$151:E$232,2,FALSE))","v":0},{"$f":"IF(Non_SBS_Nominee!E113=\"\",0,VLOOKUP(Non_SBS_Nominee!E113,Non_SBS_Nominee!F$151:G$153,2,FALSE))","v":0},"00","DPM",{"$f":"Non_SBS_Nominee!F113","v":0},{"$f":"Non_SBS_Nominee!G113","v":0},{"$f":"Non_SBS_Nominee!H113","v":0},null,null,{"$f":"Non_SBS_Nominee!I113","v":0},{"$f":"Non_SBS_Nominee!J113","v":0},{"$f":"IF(G233=1112,'Income_&_Services'!$E$15*L233/(SUMIF($G$142:$G$190,1112,$L$142:$L$190)+SUMIF($G$201:$G$240,1112,$L$201:$L$240)),0)","v":0},{"$f":"IF(OR(G233=1111,G233=2729),'Income_&_Services'!$E$16*L233/(SUMIF($G$142:$G$190,2729,$L$142:$L$190)+SUMIF($G$201:$G$240,2729,$L$201:$L$240)+SUMIF($G$142:$G$190,1111,$L$142:$L$190)+SUMIF($G$201:$G$240,1111,$L$201:$L$240)),0)","v":0},null,null,null,null,null,null,null,null,null,null,null,"-",1,null,113]
[0,0,4,0,0,0,{"$f":"IF(Non_SBS_Nominee!B114=\"\",0,VLOOKUP(Non_SBS_Nominee!B114,Non_SBS_Nominee!B$151:C$153,2,FALSE))","v":0},{"$f":"IF(Non_SBS_Nominee!D114=\"\",0,VLOOKUP(Non_SBS_Nominee!D114,Non_SBS_Nominee!D$151:E$232,2,FALSE))","v":0},{"$f":"IF(Non_SBS_Nominee!E114=\"\",0,VLOOKUP(Non_SBS_Nominee!E114,Non_SBS_Nominee!F$151:G$153,2,FALSE))","v":0},"00","DPM",{"$f":"Non_SBS_Nominee!F114","v":0},{"$f":"Non_SBS_Nominee!G114","v":0},{"$f":"Non_SBS_Nominee!H114","v":0},null,null,{"$f":"Non_SBS_Nominee!I114","v":0},{"$f":"Non_SBS_Nominee!J114","v":0},{"$f":"IF(G234=1112,'Income_&_Services'!$E$15*L234/(SUMIF($G$142:$G$190,1112,$L$142:$L$190)+SUMIF($G$201:$G$240,1112,$L$201:$L$240)),0)","v":0},{"$f":"IF(OR(G234=1111,G234=2729),'Income_&_Services'!$E$16*L234/(SUMIF($G$142:$G$190,2729,$L$142:$L$190)+SUMIF($G$201:$G$240,2729,$L$201:$L$240)+SUMIF($G$142:$G$190,1111,$L$142:$L$190)+SUMIF($G$201:$G$240,1111,$L$201:$L$240)),0)","v":0},null,null,null,null,null,null,null,null,null,null,null,"-",1,null,114]
[0,0,4,0,0,0,{"$f":"IF(Non_SBS_Nominee!B115=\"\",0,VLOOKUP(Non_SBS_Nominee!B115,Non_SBS_Nominee!B$151:C$153,2,FALSE))","v":0},{"$f":"IF(Non_SBS_Nominee!D115=\"\",0,VLOOKUP(Non_SBS_Nominee!D115,Non_SBS_Nominee!D$151:E$232,2,FALSE))","v":0},{"$f":"IF(Non_SBS_Nominee!E115=\"\",0,VLOOKUP(Non_SBS_Nominee!E115,Non_SBS_Nominee!F$151:G$153,2,FALSE))","v":0},"00","DPM",{"$f":"Non_SBS_Nominee!F115","v":0},{"$f":"Non_SBS_Nominee!G115","v":0},{"$f":"Non_SBS_Nominee!H115","v":0},null,null,{"$f":"Non_SBS_Nominee!I115","v":0},{"$f":"Non_SBS_Nominee!J115","v":0},{"$f":"IF(G235=1112,'Income_&_Services'!$E$15*L235/(SUMIF($G$142:$G$190,1112,$L$142:$L$190)+SUMIF($G$201:$G$240,1112,$L$201:$L$240)),0)","v":0},{"$f":"IF(OR(G235=1111,G235=2729),'Income_&_Services'!$E$16*L235/(SUMIF($G$142:$G$190,2729,$L$142:$L$190)+SUMIF($G$201:$G$240,2729,$L$201:$L$240)+SUMIF($G$142:$G$190,1111,$L$142:$L$190)+SUMIF($G$201:$G$240,1111,$L$201:$L$240)),0)","v":0},null,null,null,null,null,null,null,null,null,null,null,"-",1,null,115]
[0,0,4,0,0,0,{"$f":"IF(Non_SBS_Nominee!B116=\"\",0,VLOOKUP(Non_SBS_Nominee!B116,Non_SBS_Nominee!B$151:C$153,2,FALSE))","v":0},{"$f":"IF(Non_SBS_Nominee!D116=\"\",0,VLOOKUP(Non_SBS_Nominee!D116,Non_SBS_Nominee!D$151:E$232,2,FALSE))","v":0},{"$f":"IF(Non_SBS_Nominee!E116=\"\",0,VLOOKUP(Non_SBS_Nominee!E116,Non_SBS_Nominee!F$151:G$153,2,FALSE))","v":0},"00","DPM",{"$f":"Non_SBS_Nominee!F116","v":0},{"$f":"Non_SBS_Nominee!G116","v":0},{"$f":"Non_SBS_Nominee!H116","v":0},null,null,{"$f":"Non_SBS_Nominee!I116","v":0},{"$f":"Non_SBS_Nominee!J116","v":0},{"$f":"IF(G236=1112,'Income_&_Services'!$E$15*L236/(SUMIF($G$142:$G$190,1112,$L$142:$L$190)+SUMIF($G$201:$G$240,1112,$L$201:$L$240)),0)","v":0},{"$f":"IF(OR(G236=1111,G236=2729),'Income_&_Services'!$E$16*L236/(SUMIF($G$142:$G$190,2729,$L$142:$L$190)+SUMIF($G$201:$G$240,2729,$L$201:$L$240)+SUMIF($G$142:$G$190,1111,$L$142:$L$190)+SUMIF($G$201:$G$240,1111,$L$201:$L$240)),0)","v":0},null,null,null,null,null,null,null,null,null,null,null,"-",1,null,116]
[0,0,4,0,0,0,{"$f":"IF(Non_SBS_Nominee!B117=\"\",0,VLOOKUP(Non_SBS_Nominee!B117,Non_SBS_Nominee!B$151:C$153,2,FALSE))","v":0},{"$f":"IF(Non_SBS_Nominee!D117=\"\",0,VLOOKUP(Non_SBS_Nominee!D117,Non_SBS_Nominee!D$151:E$232,2,FALSE))","v":0},{"$f":"IF(Non_SBS_Nominee!E117=\"\",0,VLOOKUP(Non_SBS_Nominee!E117,Non_SBS_Nominee!F$151:G$153,2,FALSE))","v":0},"00","DPM",{"$f":"Non_SBS_Nominee!F117","v":0},{"$f":"Non_SBS_Nominee!G117","v":0},{"$f":"Non_SBS_Nominee!H117","v":0},null,null,{"$f":"Non_SBS_Nominee!I117","v":0},{"$f":"Non_SBS_Nominee!J117","v":0},{"$f":"IF(G237=1112,'Income_&_Services'!$E$15*L237/(SUMIF($G$142:$G$190,1112,$L$142:$L$190)+SUMIF($G$201:$G$240,1112,$L$201:$L$240)),0)","v":0},{"$f":"IF(OR(G237=1111,G237=2729),'Income_&_Services'!$E$16*L237/(SUMIF($G$142:$G$190,2729,$L$142:$L$190)+SUMIF($G$201:$G$240,2729,$L$201:$L$240)+SUMIF($G$142:$G$190,1111,$L$142:$L$190)+SUMIF($G$201:$G$240,1111,$L$201:$L$240)),0)","v":0},null,null,null,null,null,null,null,null,null,null,null,"-",1,null,117]
[0,0,4,0,0,0,{"$f":"IF(Non_SBS_Nominee!B118=\"\",0,VLOOKUP(Non_SBS_Nominee!B118,Non_SBS_Nominee!B$151:C$153,2,FALSE))","v":0},{"$f":"IF(Non_SBS_Nominee!D118=\"\",0,VLOOKUP(Non_SBS_Nominee!D118,Non_SBS_Nominee!D$151:E$232,2,FALSE))","v":0},{"$f":"IF(Non_SBS_Nominee!E118=\"\",0,VLOOKUP(Non_SBS_Nominee!E118,Non_SBS_Nominee!F$151:G$153,2,FALSE))","v":0},"00","DPM",{"$f":"Non_SBS_Nominee!F118","v":0},{"$f":"Non_SBS_Nominee!G118","v":0},{"$f":"Non_SBS_Nominee!H118","v":0},null,null,{"$f":"Non_SBS_Nominee!I118","v":0},{"$f":"Non_SBS_Nominee!J118","v":0},{"$f":"IF(G238=1112,'Income_&_Services'!$E$15*L238/(SUMIF($G$142:$G$190,1112,$L$142:$L$190)+SUMIF($G$201:$G$240,1112,$L$201:$L$240)),0)","v":0},{"$f":"IF(OR(G238=1111,G238=2729),'Income_&_Services'!$E$16*L238/(SUMIF($G$142:$G$190,2729,$L$142:$L$190)+SUMIF($G$201:$G$240,2729,$L$201:$L$240)+SUMIF($G$142:$G$190,1111,$L$142:$L$190)+SUMIF($G$201:$G$240,1111,$L$201:$L$240)),0)","v":0},null,null,null,null,null,null,null,null,null,null,null,"-",1,null,118]
[0,0,4,0,0,0,{"$f":"IF(Non_SBS_Nominee!B119=\"\",0,VLOOKUP(Non_SBS_Nominee!B119,Non_SBS_Nominee!B$151:C$153,2,FALSE))","v":0},{"$f":"IF(Non_SBS_Nominee!D119=\"\",0,VLOOKUP(Non_SBS_Nominee!D119,Non_SBS_Nominee!D$151:E$232,2,FALSE))","v":0},{"$f":"IF(Non_SBS_Nominee!E119=\"\",0,VLOOKUP(Non_SBS_Nominee!E119,Non_SBS_Nominee!F$151:G$153,2,FALSE))","v":0},"00","DPM",{"$f":"Non_SBS_Nominee!F119","v":0},{"$f":"Non_SBS_Nominee!G119","v":0},{"$f":"Non_SBS_Nominee!H119","v":0},null,null,{"$f":"Non_SBS_Nominee!I119","v":0},{"$f":"Non_SBS_Nominee!J119","v":0},{"$f":"IF(G239=1112,'Income_&_Services'!$E$15*L239/(SUMIF($G$142:$G$190,1112,$L$142:$L$190)+SUMIF($G$201:$G$240,1112,$L$201:$L$240)),0)","v":0},{"$f":"IF(OR(G239=1111,G239=2729),'Income_&_Services'!$E$16*L239/(SUMIF($G$142:$G$190,2729,$L$142:$L$190)+SUMIF($G$201:$G$240,2729,$L$201:$L$240)+SUMIF($G$142:$G$190,1111,$L$142:$L$190)+SUMIF($G$201:$G$240,1111,$L$201:$L$240)),0)","v":0},null,null,null,null,null,null,null,null,null,null,null,"-",1,null,119]
[0,0,4,0,0,0,{"$f":"IF(Non_SBS_Nominee!B120=\"\",0,VLOOKUP(Non_SBS_Nominee!B120,Non_SBS_Nominee!B$151:C$153,2,FALSE))","v":0},{"$f":"IF(Non_SBS_Nominee!D120=\"\",0,VLOOKUP(Non_SBS_Nominee!D120,Non_SBS_Nominee!D$151:E$232,2,FALSE))","v":0},{"$f":"IF(Non_SBS_Nominee!E120=\"\",0,VLOOKUP(Non_SBS_Nominee!E120,Non_SBS_Nominee!F$151:G$153,2,FALSE))","v":0},"00","DPM",{"$f":"Non_SBS_Nominee!F120","v":0},{"$f":"Non_SBS_Nominee!G120","v":0},{"$f":"Non_SBS_Nominee!H120","v":0},null,null,{"$f":"Non_SBS_Nominee!I120","v":0},{"$f":"Non_SBS_Nominee!J120","v":0},{"$f":"IF(G240=1112,'Income_&_Services'!$E$15*L240/(SUMIF($G$142:$G$190,1112,$L$142:$L$190)+SUMIF($G$201:$G$240,1112,$L$201:$L$240)),0)","v":0},{"$f":"IF(OR(G240=1111,G240=2729),'Income_&_Services'!$E$16*L240/(SUMIF($G$142:$G$190,2729,$L$142:$L$190)+SUMIF($G$201:$G$240,2729,$L$201:$L$240)+SUMIF($G$142:$G$190,1111,$L$142:$L$190)+SUMIF($G$201:$G$240,1111,$L$201:$L$240)),0)","v":0},null,null,null,null,null,null,null,null,null,null,null,"-",1,null,120]
[0,0,4,0,0,0,{"$f":"IF(Non_SBS_Nominee!B125<>\"\",9990,0)","v":0},{"$f":"IF(Non_SBS_Nominee!D125=\"\",0,VLOOKUP(Non_SBS_Nominee!D125,Non_SBS_Nominee!D$151:E$232,2,FALSE))","v":0},"#LK","00","DPM",{"$f":"Non_SBS_Nominee!F125","v":0},{"$f":"Non_SBS_Nominee!G125","v":0},{"$f":"Non_SBS_Nominee!H125","v":0},null,null,{"$f":"Non_SBS_Nominee!I125","v":0},{"$f":"Non_SBS_Nominee!J125","v":0},null,null,null,null,null,null,null,null,null,null,null,null,null,{"$f":"IF(Non_SBS_Nominee!B125<>\"\",Non_SBS_Nominee!B125,\"-\")","v":"-"},1,"Sheet 19 Non SBS Nominee'!F125 / G125 / H125 / I125 / J125",125]
[0,0,4,0,0,0,{"$f":"IF(Non_SBS_Nominee!B126<>\"\",9990,0)","v":0},{"$f":"IF(Non_SBS_Nominee!D126=\"\",0,VLOOKUP(Non_SBS_Nominee!D126,Non_SBS_Nominee!D$151:E$232,2,FALSE))","v":0},"#LK","00","DPM",{"$f":"Non_SBS_Nominee!F126","v":0},{"$f":"Non_SBS_Nominee!G126","v":0},{"$f":"Non_SBS_Nominee!H126","v":0},null,null,{"$f":"Non_SBS_Nominee!I126","v":0},{"$f":"Non_SBS_Nominee!J126","v":0},null,null,null,null,null,null,null,null,null,null,null,null,null,{"$f":"IF(Non_SBS_Nominee!B126<>\"\",Non_SBS_Nominee!B126,\"-\")","v":"-"},1,null,126]
[0,0,4,0,0,0,{"$f":"IF(Non_SBS_Nominee!B127<>\"\",9990,0)","v":0},{"$f":"IF(Non_SBS_Nominee!D127=\"\",0,VLOOKUP(Non_SBS_Nominee!D127,Non_SBS_Nominee!D$151:E$232,2,FALSE))","v":0},"#LK","00","DPM",{"$f":"Non_SBS_Nominee!F127","v":0},{"$f":"Non_SBS_Nominee!G127","v":0},{"$f":"Non_SBS_Nominee!H127","v":0},null,null,{"$f":"Non_SBS_Nominee!I127","v":0},{"$f":"Non_SBS_Nominee!J127","v":0},null,null,null,null,null,null,null,null,null,null,null,null,null,{"$f":"IF(Non_SBS_Nominee!B127<>\"\",Non_SBS_Nominee!B127,\"-\")","v":"-"},1,null,127]
[0,0,4,0,0,0,{"$f":"IF(Non_SBS_Nominee!B128<>\"\",9990,0)","v":0},{"$f":"IF(Non_SBS_Nominee!D128=\"\",0,VLOOKUP(Non_SBS_Nominee!D128,Non_SBS_Nominee!D$151:E$232,2,FALSE))","v":0},"#LK","00","DPM",{"$f":"Non_SBS_Nominee!F128","v":0},{"$f":"Non_SBS_Nominee!G128","v":0},{"$f":"Non_SBS_Nominee!H128","v":0},null,null,{"$f":"Non_SBS_Nominee!I128","v":0},{"$f":"Non_SBS_Nominee!J128","v":0},null,null,null,null,null,null,null,null,null,null,null,null,null,{"$f":"IF(Non_SBS_Nominee!B128<>\"\",Non_SBS_Nominee!B128,\"-\")","v":"-"},1,null,128]
[0,0,4,0,0,0,{"$f":"IF(Non_SBS_Nominee!B129<>\"\",9990,0)","v":0},{"$f":"IF(Non_SBS_Nominee!D129=\"\",0,VLOOKUP(Non_SBS_Nominee!D129,Non_SBS_Nominee!D$151:E$232,2,FALSE))","v":0},"#LK","00","DPM",{"$f":"Non_SBS_Nominee!F129","v":0},{"$f":"Non_SBS_Nominee!G129","v":0},{"$f":"Non_SBS_Nominee!H129","v":0},null,null,{"$f":"Non_SBS_Nominee!I129","v":0},{"$f":"Non_SBS_Nominee!J129","v":0},null,null,null,null,null,null,null,null,null,null,null,null,null,{"$f":"IF(Non_SBS_Nominee!B129<>\"\",Non_SBS_Nominee!B129,\"-\")","v":"-"},1,null,129]
[0,0,4,0,0,0,{"$f":"IF(Non_SBS_Nominee!B130<>\"\",9990,0)","v":0},{"$f":"IF(Non_SBS_Nominee!D130=\"\",0,VLOOKUP(Non_SBS_Nominee!D130,Non_SBS_Nominee!D$151:E$232,2,FALSE))","v":0},"#LK","00","DPM",{"$f":"Non_SBS_Nominee!F130","v":0},{"$f":"Non_SBS_Nominee!G130","v":0},{"$f":"Non_SBS_Nominee!H130","v":0},null,null,{"$f":"Non_SBS_Nominee!I130","v":0},{"$f":"Non_SBS_Nominee!J130","v":0},null,null,null,null,null,null,null,null,null,null,null,null,null,{"$f":"IF(Non_SBS_Nominee!B130<>\"\",Non_SBS_Nominee!B130,\"-\")","v":"-"},1,null,130]
[0,0,4,0,0,0,{"$f":"IF(Non_SBS_Nominee!B131<>\"\",9990,0)","v":0},{"$f":"IF(Non_SBS_Nominee!D131=\"\",0,VLOOKUP(Non_SBS_Nominee!D131,Non_SBS_Nominee!D$151:E$232,2,FALSE))","v":0},"#LK","00","DPM",{"$f":"Non_SBS_Nominee!F131","v":0},{"$f":"Non_SBS_Nominee!G131","v":0},{"$f":"Non_SBS_Nominee!H131","v":0},null,null,{"$f":"Non_SBS_Nominee!I131","v":0},{"$f":"Non_SBS_Nominee!J131","v":0},null,null,null,null,null,null,null,null,null,null,null,null,null,{"$f":"IF(Non_SBS_Nominee!B131<>\"\",Non_SBS_Nominee!B131,\"-\")","v":"-"},1,null,131]
[0,0,4,0,0,0,{"$f":"IF(Non_SBS_Nominee!B132<>\"\",9990,0)","v":0},{"$f":"IF(Non_SBS_Nominee!D132=\"\",0,VLOOKUP(Non_SBS_Nominee!D132,Non_SBS_Nominee!D$151:E$232,2,FALSE))","v":0},"#LK","00","DPM",{"$f":"Non_SBS_Nominee!F132","v":0},{"$f":"Non_SBS_Nominee!G132","v":0},{"$f":"Non_SBS_Nominee!H132","v":0},null,null,{"$f":"Non_SBS_Nominee!I132","v":0},{"$f":"Non_SBS_Nominee!J132","v":0},null,null,null,null,null,null,null,null,null,null,null,null,null,{"$f":"IF(Non_SBS_Nominee!B132<>\"\",Non_SBS_Nominee!B132,\"-\")","v":"-"},1,null,132]
[0,0,4,0,0,0,{"$f":"IF(Non_SBS_Nominee!B133<>\"\",9990,0)","v":0},{"$f":"IF(Non_SBS_Nominee!D133=\"\",0,VLOOKUP(Non_SBS_Nominee!D133,Non_SBS_Nominee!D$151:E$232,2,FALSE))","v":0},"#LK","00","DPM",{"$f":"Non_SBS_Nominee!F133","v":0},{"$f":"Non_SBS_Nominee!G133","v":0},{"$f":"Non_SBS_Nominee!H133","v":0},null,null,{"$f":"Non_SBS_Nominee!I133","v":0},{"$f":"Non_SBS_Nominee!J133","v":0},null,null,null,null,null,null,null,null,null,null,null,null,null,{"$f":"IF(Non_SBS_Nominee!B133<>\"\",Non_SBS_Nominee!B133,\"-\")","v":"-"},1,null,133]
[0,0,6,0,0,0,{"$f":"IF(External_Balance_Sheet!B13=\"\",0,VLOOKUP(External_Balance_Sheet!B13,External_Balance_Sheet!B$151:C$156,2,FALSE))","v":0},{"$f":"IF(External_Balance_Sheet!D13=\"\",0,VLOOKUP(External_Balance_Sheet!D13,External_Balance_Sheet!D$151:E$168,2,FALSE))","v":0},{"$f":"IF(External_Balance_Sheet!E13=\"\",\"#LK\",VLOOKUP(External_Balance_Sheet!E13,External_Balance_Sheet!F$151:G$153,2,FALSE))","v":"#LK"},"00","DPM",{"$f":"External_Balance_Sheet!F13","v":0},{"$f":"External_Balance_Sheet!G13","v":0},{"$f":"External_Balance_Sheet!H13","v":0},{"$f":"IF(OR(External_Balance_Sheet!B13=\"Bank Deposits held with foreign banks\",External_Balance_Sheet!B13=\"Receivables from non-residents\"),External_Balance_Sheet!I13,0)","v":0},{"$f":"IF(OR(External_Balance_Sheet!B13=\"Debt securities issued by non-residents\",External_Balance_Sheet!B13=\"Equities issued by non-residents\",External_Balance_Sheet!B13=\"Financial derivatives\",External_Balance_Sheet!B13=\"Investment fund share/units issued by foreign institutions \"),External_Balance_Sheet!I13,0)","v":0},null,{"$f":"External_Balance_Sheet!J13","v":0},null,null,null,null,null,null,null,null,null,null,null,null,null,"-",1,"Sheet 25 External Balance Sheet'!F13 / G13 / H13 / I13 / J13",13]
[0,0,6,0,0,0,{"$f":"IF(External_Balance_Sheet!B14=\"\",0,VLOOKUP(External_Balance_Sheet!B14,External_Balance_Sheet!B$151:C$156,2,FALSE))","v":0},{"$f":"IF(External_Balance_Sheet!D14=\"\",0,VLOOKUP(External_Balance_Sheet!D14,External_Balance_Sheet!D$151:E$168,2,FALSE))","v":0},{"$f":"IF(External_Balance_Sheet!E14=\"\",\"#LK\",VLOOKUP(External_Balance_Sheet!E14,External_Balance_Sheet!F$151:G$153,2,FALSE))","v":"#LK"},"00","DPM",{"$f":"External_Balance_Sheet!F14","v":0},{"$f":"External_Balance_Sheet!G14","v":0},{"$f":"External_Balance_Sheet!H14","v":0},{"$f":"IF(OR(External_Balance_Sheet!B14=\"Bank Deposits held with foreign banks\",External_Balance_Sheet!B14=\"Receivables from non-residents\"),External_Balance_Sheet!I14,0)","v":0},{"$f":"IF(OR(External_Balance_Sheet!B14=\"Debt securities issued by non-residents\",External_Balance_Sheet!B14=\"Equities issued by non-residents\",External_Balance_Sheet!B14=\"Financial derivatives\",External_Balance_Sheet!B14=\"Investment fund share/units issued by foreign institutions \"),External_Balance_Sheet!I14,0)","v":0},null,{"$f":"External_Balance_Sheet!J14","v":0},null,null,null,null,null,null,null,null,null,null,null,null,null,"-",1,null,14]
[0,0,6,0,0,0,{"$f":"IF(External_Balance_Sheet!B15=\"\",0,VLOOKUP(External_Balance_Sheet!B15,External_Balance_Sheet!B$151:C$156,2,FALSE))","v":0},{"$f":"IF(External_Balance_Sheet!D15=\"\",0,VLOOKUP(External_Balance_Sheet!D15,External_Balance_Sheet!D$151:E$168,2,FALSE))","v":0},{"$f":"IF(External_Balance_Sheet!E15=\"\",\"#LK\",VLOOKUP(External_Balance_Sheet!E15,External_Balance_Sheet!F$151:G$153,2,FALSE))","v":"#LK"},"00","DPM",{"$f":"External_Balance_Sheet!F15","v":0},{"$f":"External_Balance_Sheet!G15","v":0},{"$f":"External_Balance_Sheet!H15","v":0},{"$f":"IF(OR(External_Balance_Sheet!B15=\"Bank Deposits held with foreign banks\",External_Balance_Sheet!B15=\"Receivables from non-residents\"),External_Balance_Sheet!I15,0)","v":0},{"$f":"IF(OR(External_Balance_Sheet!B15=\"Debt securities issued by non-residents\",External_Balance_Sheet!B15=\"Equities issued by non-residents\",External_Balance_Sheet!B15=\"Financial derivatives\",External_Balance_Sheet!B15=\"Investment fund share/units issued by foreign institutions \"),External_Balance_Sheet!I15,0)","v":0},null,{"$f":"External_Balance_Sheet!J15","v":0},null,null,null,null,null,null,null,null,null,null,null,null,null,"-",1,null,15]
[0,0,6,0,0,0,{"$f":"IF(External_Balance_Sheet!B16=\"\",0,VLOOKUP(External_Balance_Sheet!B16,External_Balance_Sheet!B$151:C$156,2,FALSE))","v":0},{"$f":"IF(External_Balance_Sheet!D16=\"\",0,VLOOKUP(External_Balance_Sheet!D16,External_Balance_Sheet!D$151:E$168,2,FALSE))","v":0},{"$f":"IF(External_Balance_Sheet!E16=\"\",\"#LK\",VLOOKUP(External_Balance_Sheet!E16,External_Balance_Sheet!F$151:G$153,2,FALSE))","v":"#LK"},"00","DPM",{"$f":"External_Balance_Sheet!F16","v":0},{"$f":"External_Balance_Sheet!G16","v":0},{"$f":"External_Balance_Sheet!H16","v":0},{"$f":"IF(OR(External_Balance_Sheet!B16=\"Bank Deposits held with foreign banks\",External_Balance_Sheet!B16=\"Receivables from non-residents\"),External_Balance_Sheet!I16,0)","v":0},{"$f":"IF(OR(External_Balance_Sheet!B16=\"Debt securities issued by non-residents\",External_Balance_Sheet!B16=\"Equities issued by non-residents\",External_Balance_Sheet!B16=\"Financial derivatives\",External_Balance_Sheet!B16=\"Investment fund share/units issued by foreign institutions \"),External_Balance_Sheet!I16,0)","v":0},null,{"$f":"External_Balance_Sheet!J16","v":0},null,null,null,null,null,null,null,null,null,null,null,null,null,"-",1,null,16]
[0,0,6,0,0,0,{"$f":"IF(External_Balance_Sheet!B17=\"\",0,VLOOKUP(External_Balance_Sheet!B17,External_Balance_Sheet!B$151:C$156,2,FALSE))","v":0},{"$f":"IF(External_Balance_Sheet!D17=\"\",0,VLOOKUP(External_Balance_Sheet!D17,External_Balance_Sheet!D$151:E$168,2,FALSE))","v":0},{"$f":"IF(External_Balance_Sheet!E17=\"\",\"#LK\",VLOOKUP(External_Balance_Sheet!E17,External_Balance_Sheet!F$151:G$153,2,FALSE))","v":"#LK"},"00","DPM",{"$f":"External_Balance_Sheet!F17","v":0},{"$f":"External_Balance_Sheet!G17","v":0},{"$f":"External_Balance_Sheet!H17","v":0},{"$f":"IF(OR(External_Balance_Sheet!B17=\"Bank Deposits held with foreign banks\",External_Balance_Sheet!B17=\"Receivables from non-residents\"),External_Balance_Sheet!I17,0)","v":0},{"$f":"IF(OR(External_Balance_Sheet!B17=\"Debt securities issued by non-residents\",External_Balance_Sheet!B17=\"Equities issued by non-residents\",External_Balance_Sheet!B17=\"Financial derivatives\",External_Balance_Sheet!B17=\"Investment fund share/units issued by foreign institutions \"),External_Balance_Sheet!I17,0)","v":0},null,{"$f":"External_Balance_Sheet!J17","v":0},null,null,null,null,null,null,null,null,null,null,null,null,null,"-",1,null,17]
[0,0,6,0,0,0,{"$f":"IF(External_Balance_Sheet!B18=\"\",0,VLOOKUP(External_Balance_Sheet!B18,External_Balance_Sheet!B$151:C$156,2,FALSE))","v":0},{"$f":"IF(External_Balance_Sheet!D18=\"\",0,VLOOKUP(External_Balance_Sheet!D18,External_Balance_Sheet!D$151:E$168,2,FALSE))","v":0},{"$f":"IF(External_Balance_Sheet!E18=\"\",\"#LK\",VLOOKUP(External_Balance_Sheet!E18,External_Balance_Sheet!F$151:G$153,2,FALSE))","v":"#LK"},"00","DPM",{"$f":"External_Balance_Sheet!F18","v":0},{"$f":"External_Balance_Sheet!G18","v":0},{"$f":"External_Balance_Sheet!H18","v":0},{"$f":"IF(OR(External_Balance_Sheet!B18=\"Bank Deposits held with foreign banks\",External_Balance_Sheet!B18=\"Receivables from non-residents\"),External_Balance_Sheet!I18,0)","v":0},{"$f":"IF(OR(External_Balance_Sheet!B18=\"Debt securities issued by non-residents\",External_Balance_Sheet!B18=\"Equities issued by non-residents\",External_Balance_Sheet!B18=\"Financial derivatives\",External_Balance_Sheet!B18=\"Investment fund share/units issued by foreign institutions \"),External_Balance_Sheet!I18,0)","v":0},null,{"$f":"External_Balance_Sheet!J18","v":0},null,null,null,null,null,null,null,null,null,null,null,null,null,"-",1,null,18]
[0,0,6,0,0,0,{"$f":"IF(External_Balance_Sheet!B19=\"\",0,VLOOKUP(External_Balance_Sheet!B19,External_Balance_Sheet!B$151:C$156,2,FALSE))","v":0},{"$f":"IF(External_Balance_Sheet!D19=\"\",0,VLOOKUP(External_Balance_Sheet!D19,External_Balance_Sheet!D$151:E$168,2,FALSE))","v":0},{"$f":"IF(External_Balance_Sheet!E19=\"\",\"#LK\",VLOOKUP(External_Balance_Sheet!E19,External_Balance_Sheet!F$151:G$153,2,FALSE))","v":"#LK"},"00","DPM",{"$f":"External_Balance_Sheet!F19","v":0},{"$f":"External_Balance_Sheet!G19","v":0},{"$f":"External_Balance_Sheet!H19","v":0},{"$f":"IF(OR(External_Balance_Sheet!B19=\"Bank Deposits held with foreign banks\",External_Balance_Sheet!B19=\"Receivables from non-residents\"),External_Balance_Sheet!I19,0)","v":0},{"$f":"IF(OR(External_Balance_Sheet!B19=\"Debt securities issued by non-residents\",External_Balance_Sheet!B19=\"Equities issued by non-residents\",External_Balance_Sheet!B19=\"Financial derivatives\",External_Balance_Sheet!B19=\"Investment fund share/units issued by foreign institutions \"),External_Balance_Sheet!I19,0)","v":0},null,{"$f":"External_Balance_Sheet!J19","v":0},null,null,null,null,null,null,null,null,null,null,null,null,null,"-",1,null,19]
[0,0,6,0,0,0,{"$f":"IF(External_Balance_Sheet!B20=\"\",0,VLOOKUP(External_Balance_Sheet!B20,External_Balance_Sheet!B$151:C$156,2,FALSE))","v":0},{"$f":"IF(External_Balance_Sheet!D20=\"\",0,VLOOKUP(External_Balance_Sheet!D20,External_Balance_Sheet!D$151:E$168,2,FALSE))","v":0},{"$f":"IF(External_Balance_Sheet!E20=\"\",\"#LK\",VLOOKUP(External_Balance_Sheet!E20,External_Balance_Sheet!F$151:G$153,2,FALSE))","v":"#LK"},"00","DPM",{"$f":"External_Balance_Sheet!F20","v":0},{"$f":"External_Balance_Sheet!G20","v":0},{"$f":"External_Balance_Sheet!H20","v":0},{"$f":"IF(OR(External_Balance_Sheet!B20=\"Bank Deposits held with foreign banks\",External_Balance_Sheet!B20=\"Receivables from non-residents\"),External_Balance_Sheet!I20,0)","v":0},{"$f":"IF(OR(External_Balance_Sheet!B20=\"Debt securities issued by non-residents\",External_Balance_Sheet!B20=\"Equities issued by non-residents\",External_Balance_Sheet!B20=\"Financial derivatives\",External_Balance_Sheet!B20=\"Investment fund share/units issued by foreign institutions \"),External_Balance_Sheet!I20,0)","v":0},null,{"$f":"External_Balance_Sheet!J20","v":0},null,null,null,null,null,null,null,null,null,null,null,null,null,"-",1,null,20]
[0,0,6,0,0,0,{"$f":"IF(External_Balance_Sheet!B21=\"\",0,VLOOKUP(External_Balance_Sheet!B21,External_Balance_Sheet!B$151:C$156,2,FALSE))","v":0},{"$f":"IF(External_Balance_Sheet!D21=\"\",0,VLOOKUP(External_Balance_Sheet!D21,External_Balance_Sheet!D$151:E$168,2,FALSE))","v":0},{"$f":"IF(External_Balance_Sheet!E21=\"\",\"#LK\",VLOOKUP(External_Balance_Sheet!E21,External_Balance_Sheet!F$151:G$153,2,FALSE))","v":"#LK"},"00","DPM",{"$f":"External_Balance_Sheet!F21","v":0},{"$f":"External_Balance_Sheet!G21","v":0},{"$f":"External_Balance_Sheet!H21","v":0},{"$f":"IF(OR(External_Balance_Sheet!B21=\"Bank Deposits held with foreign banks\",External_Balance_Sheet!B21=\"Receivables from non-residents\"),External_Balance_Sheet!I21,0)","v":0},{"$f":"IF(OR(External_Balance_Sheet!B21=\"Debt securities issued by non-residents\",External_Balance_Sheet!B21=\"Equities issued by non-residents\",External_Balance_Sheet!B21=\"Financial derivatives\",External_Balance_Sheet!B21=\"Investment fund share/units issued by foreign institutions \"),External_Balance_Sheet!I21,0)","v":0},null,{"$f":"External_Balance_Sheet!J21","v":0},null,null,null,null,null,null,null,null,null,null,null,null,null,"-",{"$f":"IF(OR(ABS(L258)>=0.55,ABS(M258)>=0.55,ABS(N258)>=0.55,ABS(O258)>=0.55,ABS(P258)>=0.55,ABS(Q258)>=0.55,ABS(R258)>=0.55,ABS(S258)>=0.55,ABS(T258)>=0.55,ABS(U258)>=0.55,ABS(V258)>=0.55,ABS(W258)>=0.55,ABS(X258)>=0.55,ABS(Y258)>=0.55,ABS(Z258)>=0.55,ABS(AA258)>=0.55,ABS(AB258)>=0.55,ABS(AC258)>=0.55,ABS(AD258)>=0.55,ABS(AE258)>=0.55),0,1)","v":1},null,21]
[{"$f":"$A$2","v":0},{"$f":"$B$2","v":0},6,{"$f":"$D$2","v":0},{"$f":"$E$2","v":0},{"$f":"$F$2","v":0},{"$f":"IF(External_Balance_Sheet!B22=\"\",0,VLOOKUP(External_Balance_Sheet!B22,External_Balance_Sheet!B$151:C$156,2,FALSE))","v":0},{"$f":"IF(External_Balance_Sheet!D22=\"\",0,VLOOKUP(External_Balance_Sheet!D22,External_Balance_Sheet!D$151:E$168,2,FALSE))","v":0},{"$f":"IF(External_Balance_Sheet!E22=\"\",\"#LK\",VLOOKUP(External_Balance_Sheet!E22,External_Balance_Sheet!F$151:G$153,2,FALSE))","v":"#LK"},"00","DPM",{"$f":"External_Balance_Sheet!F22","v":0},{"$f":"External_Balance_Sheet!G22","v":0},{"$f":"External_Balance_Sheet!H22","v":0},{"$f":"IF(OR(External_Balance_Sheet!B22=\"Bank Deposits held with foreign banks\",External_Balance_Sheet!B22=\"Receivables from non-residents\"),External_Balance_Sheet!I22,0)","v":0},{"$f":"IF(OR(External_Balance_Sheet!B22=\"Debt securities issued by non-residents\",External_Balance_Sheet!B22=\"Equities issued by non-residents\",External_Balance_Sheet!B22=\"Financial derivatives\",External_Balance_Sheet!B22=\"Investment fund share/units issued by foreign institutions \"),External_Balance_Sheet!I22,0)","v":0},null,{"$f":"External_Balance_Sheet!J22","v":0},null,null,null,null,null,null,null,null,null,null,null,null,null,"-",1,null,22]
[0,0,6,0,0,0,{"$f":"IF(External_Balance_Sheet!B23=\"\",0,VLOOKUP(External_Balance_Sheet!B23,External_Balance_Sheet!B$151:C$156,2,FALSE))","v":0},{"$f":"IF(External_Balance_Sheet!D23=\"\",0,VLOOKUP(External_Balance_Sheet!D23,External_Balance_Sheet!D$151:E$168,2,FALSE))","v":0},{"$f":"IF(External_Balance_Sheet!E23=\"\",\"#LK\",VLOOKUP(External_Balance_Sheet!E23,External_Balance_Sheet!F$151:G$153,2,FALSE))","v":"#LK"},"00","DPM",{"$f":"External_Balance_Sheet!F23","v":0},{"$f":"External_Balance_Sheet!G23","v":0},{"$f":"External_Balance_Sheet!H23","v":0},{"$f":"IF(OR(External_Balance_Sheet!B23=\"Bank Deposits held with foreign banks\",External_Balance_Sheet!B23=\"Receivables from non-residents\"),External_Balance_Sheet!I23,0)","v":0},{"$f":"IF(OR(External_Balance_Sheet!B23=\"Debt securities issued by non-residents\",External_Balance_Sheet!B23=\"Equities issued by non-residents\",External_Balance_Sheet!B23=\"Financial derivatives\",External_Balance_Sheet!B23=\"Investment fund share/units issued by foreign institutions \"),External_Balance_Sheet!I23,0)","v":0},null,{"$f":"External_Balance_Sheet!J23","v":0},null,null,null,null,null,null,null,null,null,null,null,null,null,"-",1,null,23]
[0,0,6,0,0,0,{"$f":"IF(External_Balance_Sheet!B24=\"\",0,VLOOKUP(External_Balance_Sheet!B24,External_Balance_Sheet!B$151:C$156,2,FALSE))","v":0},{"$f":"IF(External_Balance_Sheet!D24=\"\",0,VLOOKUP(External_Balance_Sheet!D24,External_Balance_Sheet!D$151:E$168,2,FALSE))","v":0},{"$f":"IF(External_Balance_Sheet!E24=\"\",\"#LK\",VLOOKUP(External_Balance_Sheet!E24,External_Balance_Sheet!F$151:G$153,2,FALSE))","v":"#LK"},"00","DPM",{"$f":"External_Balance_Sheet!F24","v":0},{"$f":"External_Balance_Sheet!G24","v":0},{"$f":"External_Balance_Sheet!H24","v":0},{"$f":"IF(OR(External_Balance_Sheet!B24=\"Bank Deposits held with foreign banks\",External_Balance_Sheet!B24=\"Receivables from non-residents\"),External_Balance_Sheet!I24,0)","v":0},{"$f":"IF(OR(External_Balance_Sheet!B24=\"Debt securities issued by non-residents\",External_Balance_Sheet!B24=\"Equities issued by non-residents\",External_Balance_Sheet!B24=\"Financial derivatives\",External_Balance_Sheet!B24=\"Investment fund share/units issued by foreign institutions \"),External_Balance_Sheet!I24,0)","v":0},null,{"$f":"External_Balance_Sheet!J24","v":0},null,null,null,null,null,null,null,null,null,null,null,null,null,"-",1,null,24]
[0,0,6,0,0,0,{"$f":"IF(External_Balance_Sheet!B25=\"\",0,VLOOKUP(External_Balance_Sheet!B25,External_Balance_Sheet!B$151:C$156,2,FALSE))","v":0},{"$f":"IF(External_Balance_Sheet!D25=\"\",0,VLOOKUP(External_Balance_Sheet!D25,External_Balance_Sheet!D$151:E$168,2,FALSE))","v":0},{"$f":"IF(External_Balance_Sheet!E25=\"\",\"#LK\",VLOOKUP(External_Balance_Sheet!E25,External_Balance_Sheet!F$151:G$153,2,FALSE))","v":"#LK"},"00","DPM",{"$f":"External_Balance_Sheet!F25","v":0},{"$f":"External_Balance_Sheet!G25","v":0},{"$f":"External_Balance_Sheet!H25","v":0},{"$f":"IF(OR(External_Balance_Sheet!B25=\"Bank Deposits held with foreign banks\",External_Balance_Sheet!B25=\"Receivables from non-residents\"),External_Balance_Sheet!I25,0)","v":0},{"$f":"IF(OR(External_Balance_Sheet!B25=\"Debt securities issued by non-residents\",External_Balance_Sheet!B25=\"Equities issued by non-residents\",External_Balance_Sheet!B25=\"Financial derivatives\",External_Balance_Sheet!B25=\"Investment fund share/units issued by foreign institutions \"),External_Balance_Sheet!I25,0)","v":0},null,{"$f":"External_Balance_Sheet!J25","v":0},null,null,null,null,null,null,null,null,null,null,null,null,null,"-",1,null,25]
[0,0,6,0,0,0,{"$f":"IF(External_Balance_Sheet!B26=\"\",0,VLOOKUP(External_Balance_Sheet!B26,External_Balance_Sheet!B$151:C$156,2,FALSE))","v":0},{"$f":"IF(External_Balance_Sheet!D26=\"\",0,VLOOKUP(External_Balance_Sheet!D26,External_Balance_Sheet!D$151:E$168,2,FALSE))","v":0},{"$f":"IF(External_Balance_Sheet!E26=\"\",\"#LK\",VLOOKUP(External_Balance_Sheet!E26,External_Balance_Sheet!F$151:G$153,2,FALSE))","v":"#LK"},"00","DPM",{"$f":"External_Balance_Sheet!F26","v":0},{"$f":"External_Balance_Sheet!G26","v":0},{"$f":"External_Balance_Sheet!H26","v":0},{"$f":"IF(OR(External_Balance_Sheet!B26=\"Bank Deposits held with foreign banks\",External_Balance_Sheet!B26=\"Receivables from non-residents\"),External_Balance_Sheet!I26,0)","v":0},{"$f":"IF(OR(External_Balance_Sheet!B26=\"Debt securities issued by non-residents\",External_Balance_Sheet!B26=\"Equities issued by non-residents\",External_Balance_Sheet!B26=\"Financial derivatives\",External_Balance_Sheet!B26=\"Investment fund share/units issued by foreign institutions \"),External_Balance_Sheet!I26,0)","v":0},null,{"$f":"External_Balance_Sheet!J26","v":0},null,null,null,null,null,null,null,null,null,null,null,null,null,"-",1,null,26]
[0,0,6,0,0,0,{"$f":"IF(External_Balance_Sheet!B27=\"\",0,VLOOKUP(External_Balance_Sheet!B27,External_Balance_Sheet!B$151:C$156,2,FALSE))","v":0},{"$f":"IF(External_Balance_Sheet!D27=\"\",0,VLOOKUP(External_Balance_Sheet!D27,External_Balance_Sheet!D$151:E$168,2,FALSE))","v":0},{"$f":"IF(External_Balance_Sheet!E27=\"\",\"#LK\",VLOOKUP(External_Balance_Sheet!E27,External_Balance_Sheet!F$151:G$153,2,FALSE))","v":"#LK"},"00","DPM",{"$f":"External_Balance_Sheet!F27","v":0},{"$f":"External_Balance_Sheet!G27","v":0},{"$f":"External_Balance_Sheet!H27","v":0},{"$f":"IF(OR(External_Balance_Sheet!B27=\"Bank Deposits held with foreign banks\",External_Balance_Sheet!B27=\"Receivables from non-residents\"),External_Balance_Sheet!I27,0)","v":0},{"$f":"IF(OR(External_Balance_Sheet!B27=\"Debt securities issued by non-residents\",External_Balance_Sheet!B27=\"Equities issued by non-residents\",External_Balance_Sheet!B27=\"Financial derivatives\",External_Balance_Sheet!B27=\"Investment fund share/units issued by foreign institutions \"),External_Balance_Sheet!I27,0)","v":0},null,{"$f":"External_Balance_Sheet!J27","v":0},null,null,null,null,null,null,null,null,null,null,null,null,null,"-",1,null,27]
[0,0,6,0,0,0,{"$f":"IF(External_Balance_Sheet!B28=\"\",0,VLOOKUP(External_Balance_Sheet!B28,External_Balance_Sheet!B$151:C$156,2,FALSE))","v":0},{"$f":"IF(External_Balance_Sheet!D28=\"\",0,VLOOKUP(External_Balance_Sheet!D28,External_Balance_Sheet!D$151:E$168,2,FALSE))","v":0},{"$f":"IF(External_Balance_Sheet!E28=\"\",\"#LK\",VLOOKUP(External_Balance_Sheet!E28,External_Balance_Sheet!F$151:G$153,2,FALSE))","v":"#LK"},"00","DPM",{"$f":"External_Balance_Sheet!F28","v":0},{"$f":"External_Balance_Sheet!G28","v":0},{"$f":"External_Balance_Sheet!H28","v":0},{"$f":"IF(OR(External_Balance_Sheet!B28=\"Bank Deposits held with foreign banks\",External_Balance_Sheet!B28=\"Receivables from non-residents\"),External_Balance_Sheet!I28,0)","v":0},{"$f":"IF(OR(External_Balance_Sheet!B28=\"Debt securities issued by non-residents\",External_Balance_Sheet!B28=\"Equities issued by non-residents\",External_Balance_Sheet!B28=\"Financial derivatives\",External_Balance_Sheet!B28=\"Investment fund share/units issued by foreign institutions \"),External_Balance_Sheet!I28,0)","v":0},null,{"$f":"External_Balance_Sheet!J28","v":0},null,null,null,null,null,null,null,null,null,null,null,null,null,"-",1,null,28]
[0,0,6,0,0,0,{"$f":"IF(External_Balance_Sheet!B29=\"\",0,VLOOKUP(External_Balance_Sheet!B29,External_Balance_Sheet!B$151:C$156,2,FALSE))","v":0},{"$f":"IF(External_Balance_Sheet!D29=\"\",0,VLOOKUP(External_Balance_Sheet!D29,External_Balance_Sheet!D$151:E$168,2,FALSE))","v":0},{"$f":"IF(External_Balance_Sheet!E29=\"\",\"#LK\",VLOOKUP(External_Balance_Sheet!E29,External_Balance_Sheet!F$151:G$153,2,FALSE))","v":"#LK"},"00","DPM",{"$f":"External_Balance_Sheet!F29","v":0},{"$f":"External_Balance_Sheet!G29","v":0},{"$f":"External_Balance_Sheet!H29","v":0},{"$f":"IF(OR(External_Balance_Sheet!B29=\"Bank Deposits held with foreign banks\",External_Balance_Sheet!B29=\"Receivables from non-residents\"),External_Balance_Sheet!I29,0)","v":0},{"$f":"IF(OR(External_Balance_Sheet!B29=\"Debt securities issued by non-residents\",External_Balance_Sheet!B29=\"Equities issued by non-residents\",External_Balance_Sheet!B29=\"Financial derivatives\",External_Balance_Sheet!B29=\"Investment fund share/units issued by foreign institutions \"),External_Balance_Sheet!I29,0)","v":0},null,{"$f":"External_Balance_Sheet!J29","v":0},null,null,null,null,null,null,null,null,null,null,null,null,null,"-",1,null,29]
[0,0,6,0,0,0,{"$f":"IF(External_Balance_Sheet!B30=\"\",0,VLOOKUP(External_Balance_Sheet!B30,External_Balance_Sheet!B$151:C$156,2,FALSE))","v":0},{"$f":"IF(External_Balance_Sheet!D30=\"\",0,VLOOKUP(External_Balance_Sheet!D30,External_Balance_Sheet!D$151:E$168,2,FALSE))","v":0},{"$f":"IF(External_Balance_Sheet!E30=\"\",\"#LK\",VLOOKUP(External_Balance_Sheet!E30,External_Balance_Sheet!F$151:G$153,2,FALSE))","v":"#LK"},"00","DPM",{"$f":"External_Balance_Sheet!F30","v":0},{"$f":"External_Balance_Sheet!G30","v":0},{"$f":"External_Balance_Sheet!H30","v":0},{"$f":"IF(OR(External_Balance_Sheet!B30=\"Bank Deposits held with foreign banks\",External_Balance_Sheet!B30=\"Receivables from non-residents\"),External_Balance_Sheet!I30,0)","v":0},{"$f":"IF(OR(External_Balance_Sheet!B30=\"Debt securities issued by non-residents\",External_Balance_Sheet!B30=\"Equities issued by non-residents\",External_Balance_Sheet!B30=\"Financial derivatives\",External_Balance_Sheet!B30=\"Investment fund share/units issued by foreign institutions \"),External_Balance_Sheet!I30,0)","v":0},null,{"$f":"External_Balance_Sheet!J30","v":0},null,null,null,null,null,null,null,null,null,null,null,null,null,"-",1,null,30]
[0,0,6,0,0,0,{"$f":"IF(External_Balance_Sheet!B31=\"\",0,VLOOKUP(External_Balance_Sheet!B31,External_Balance_Sheet!B$151:C$156,2,FALSE))","v":0},{"$f":"IF(External_Balance_Sheet!D31=\"\",0,VLOOKUP(External_Balance_Sheet!D31,External_Balance_Sheet!D$151:E$168,2,FALSE))","v":0},{"$f":"IF(External_Balance_Sheet!E31=\"\",\"#LK\",VLOOKUP(External_Balance_Sheet!E31,External_Balance_Sheet!F$151:G$153,2,FALSE))","v":"#LK"},"00","DPM",{"$f":"External_Balance_Sheet!F31","v":0},{"$f":"External_Balance_Sheet!G31","v":0},{"$f":"External_Balance_Sheet!H31","v":0},{"$f":"IF(OR(External_Balance_Sheet!B31=\"Bank Deposits held with foreign banks\",External_Balance_Sheet!B31=\"Receivables from non-residents\"),External_Balance_Sheet!I31,0)","v":0},{"$f":"IF(OR(External_Balance_Sheet!B31=\"Debt securities issued by non-residents\",External_Balance_Sheet!B31=\"Equities issued by non-residents\",External_Balance_Sheet!B31=\"Financial derivatives\",External_Balance_Sheet!B31=\"Investment fund share/units issued by foreign institutions \"),External_Balance_Sheet!I31,0)","v":0},null,{"$f":"External_Balance_Sheet!J31","v":0},null,null,null,null,null,null,null,null,null,null,null,null,null,"-",1,null,31]
[0,0,6,0,0,0,{"$f":"IF(External_Balance_Sheet!B32=\"\",0,VLOOKUP(External_Balance_Sheet!B32,External_Balance_Sheet!B$151:C$156,2,FALSE))","v":0},{"$f":"IF(External_Balance_Sheet!D32=\"\",0,VLOOKUP(External_Balance_Sheet!D32,External_Balance_Sheet!D$151:E$168,2,FALSE))","v":0},{"$f":"IF(External_Balance_Sheet!E32=\"\",\"#LK\",VLOOKUP(External_Balance_Sheet!E32,External_Balance_Sheet!F$151:G$153,2,FALSE))","v":"#LK"},"00","DPM",{"$f":"External_Balance_Sheet!F32","v":0},{"$f":"External_Balance_Sheet!G32","v":0},{"$f":"External_Balance_Sheet!H32","v":0},{"$f":"IF(OR(External_Balance_Sheet!B32=\"Bank Deposits held with foreign banks\",External_Balance_Sheet!B32=\"Receivables from non-residents\"),External_Balance_Sheet!I32,0)","v":0},{"$f":"IF(OR(External_Balance_Sheet!B32=\"Debt securities issued by non-residents\",External_Balance_Sheet!B32=\"Equities issued by non-residents\",External_Balance_Sheet!B32=\"Financial derivatives\",External_Balance_Sheet!B32=\"Investment fund share/units issued by foreign institutions \"),External_Balance_Sheet!I32,0)","v":0},null,{"$f":"External_Balance_Sheet!J32","v":0},null,null,null,null,null,null,null,null,null,null,null,null,null,"-",1,null,32]
[0,0,6,0,0,0,{"$f":"IF(External_Balance_Sheet!B33=\"\",0,VLOOKUP(External_Balance_Sheet!B33,External_Balance_Sheet!B$151:C$156,2,FALSE))","v":0},{"$f":"IF(External_Balance_Sheet!D33=\"\",0,VLOOKUP(External_Balance_Sheet!D33,External_Balance_Sheet!D$151:E$168,2,FALSE))","v":0},{"$f":"IF(External_Balance_Sheet!E33=\"\",\"#LK\",VLOOKUP(External_Balance_Sheet!E33,External_Balance_Sheet!F$151:G$153,2,FALSE))","v":"#LK"},"00","DPM",{"$f":"External_Balance_Sheet!F33","v":0},{"$f":"External_Balance_Sheet!G33","v":0},{"$f":"External_Balance_Sheet!H33","v":0},{"$f":"IF(OR(External_Balance_Sheet!B33=\"Bank Deposits held with foreign banks\",External_Balance_Sheet!B33=\"Receivables from non-residents\"),External_Balance_Sheet!I33,0)","v":0},{"$f":"IF(OR(External_Balance_Sheet!B33=\"Debt securities issued by non-residents\",External_Balance_Sheet!B33=\"Equities issued by non-residents\",External_Balance_Sheet!B33=\"Financial derivatives\",External_Balance_Sheet!B33=\"Investment fund share/units issued by foreign institutions \"),External_Balance_Sheet!I33,0)","v":0},null,{"$f":"External_Balance_Sheet!J33","v":0},null,null,null,null,null,null,null,null,null,null,null,null,null,"-",1,null,33]
[0,0,6,0,0,0,{"$f":"IF(External_Balance_Sheet!B34=\"\",0,VLOOKUP(External_Balance_Sheet!B34,External_Balance_Sheet!B$151:C$156,2,FALSE))","v":0},{"$f":"IF(External_Balance_Sheet!D34=\"\",0,VLOOKUP(External_Balance_Sheet!D34,External_Balance_Sheet!D$151:E$168,2,FALSE))","v":0},{"$f":"IF(External_Balance_Sheet!E34=\"\",\"#LK\",VLOOKUP(External_Balance_Sheet!E34,External_Balance_Sheet!F$151:G$153,2,FALSE))","v":"#LK"},"00","DPM",{"$f":"External_Balance_Sheet!F34","v":0},{"$f":"External_Balance_Sheet!G34","v":0},{"$f":"External_Balance_Sheet!H34","v":0},{"$f":"IF(OR(External_Balance_Sheet!B34=\"Bank Deposits held with foreign banks\",External_Balance_Sheet!B34=\"Receivables from non-residents\"),External_Balance_Sheet!I34,0)","v":0},{"$f":"IF(OR(External_Balance_Sheet!B34=\"Debt securities issued by non-residents\",External_Balance_Sheet!B34=\"Equities issued by non-residents\",External_Balance_Sheet!B34=\"Financial derivatives\",External_Balance_Sheet!B34=\"Investment fund share/units issued by foreign institutions \"),External_Balance_Sheet!I34,0)","v":0},null,{"$f":"External_Balance_Sheet!J34","v":0},null,null,null,null,null,null,null,null,null,null,null,null,null,"-",1,null,34]
[0,0,6,0,0,0,{"$f":"IF(External_Balance_Sheet!B35=\"\",0,VLOOKUP(External_Balance_Sheet!B35,External_Balance_Sheet!B$151:C$156,2,FALSE))","v":0},{"$f":"IF(External_Balance_Sheet!D35=\"\",0,VLOOKUP(External_Balance_Sheet!D35,External_Balance_Sheet!D$151:E$168,2,FALSE))","v":0},{"$f":"IF(External_Balance_Sheet!E35=\"\",\"#LK\",VLOOKUP(External_Balance_Sheet!E35,External_Balance_Sheet!F$151:G$153,2,FALSE))","v":"#LK"},"00","DPM",{"$f":"External_Balance_Sheet!F35","v":0},{"$f":"External_Balance_Sheet!G35","v":0},{"$f":"External_Balance_Sheet!H35","v":0},{"$f":"IF(OR(External_Balance_Sheet!B35=\"Bank Deposits held with foreign banks\",External_Balance_Sheet!B35=\"Receivables from non-residents\"),External_Balance_Sheet!I35,0)","v":0},{"$f":"IF(OR(External_Balance_Sheet!B35=\"Debt securities issued by non-residents\",External_Balance_Sheet!B35=\"Equities issued by non-residents\",External_Balance_Sheet!B35=\"Financial derivatives\",External_Balance_Sheet!B35=\"Investment fund share/units issued by foreign institutions \"),External_Balance_Sheet!I35,0)","v":0},null,{"$f":"External_Balance_Sheet!J35","v":0},null,null,null,null,null,null,null,null,null,null,null,null,null,"-",1,null,35]
[0,0,6,0,0,0,{"$f":"IF(External_Balance_Sheet!B36=\"\",0,VLOOKUP(External_Balance_Sheet!B36,External_Balance_Sheet!B$151:C$156,2,FALSE))","v":0},{"$f":"IF(External_Balance_Sheet!D36=\"\",0,VLOOKUP(External_Balance_Sheet!D36,External_Balance_Sheet!D$151:E$168,2,FALSE))","v":0},{"$f":"IF(External_Balance_Sheet!E36=\"\",\"#LK\",VLOOKUP(External_Balance_Sheet!E36,External_Balance_Sheet!F$151:G$153,2,FALSE))","v":"#LK"},"00","DPM",{"$f":"External_Balance_Sheet!F36","v":0},{"$f":"External_Balance_Sheet!G36","v":0},{"$f":"External_Balance_Sheet!H36","v":0},{"$f":"IF(OR(External_Balance_Sheet!B36=\"Bank Deposits held with foreign banks\",External_Balance_Sheet!B36=\"Receivables from non-residents\"),External_Balance_Sheet!I36,0)","v":0},{"$f":"IF(OR(External_Balance_Sheet!B36=\"Debt securities issued by non-residents\",External_Balance_Sheet!B36=\"Equities issued by non-residents\",External_Balance_Sheet!B36=\"Financial derivatives\",External_Balance_Sheet!B36=\"Investment fund share/units issued by foreign institutions \"),External_Balance_Sheet!I36,0)","v":0},null,{"$f":"External_Balance_Sheet!J36","v":0},null,null,null,null,null,null,null,null,null,null,null,null,null,"-",1,null,36]
[0,0,6,0,0,0,{"$f":"IF(External_Balance_Sheet!B37=\"\",0,VLOOKUP(External_Balance_Sheet!B37,External_Balance_Sheet!B$151:C$156,2,FALSE))","v":0},{"$f":"IF(External_Balance_Sheet!D37=\"\",0,VLOOKUP(External_Balance_Sheet!D37,External_Balance_Sheet!D$151:E$168,2,FALSE))","v":0},{"$f":"IF(External_Balance_Sheet!E37=\"\",\"#LK\",VLOOKUP(External_Balance_Sheet!E37,External_Balance_Sheet!F$151:G$153,2,FALSE))","v":"#LK"},"00","DPM",{"$f":"External_Balance_Sheet!F37","v":0},{"$f":"External_Balance_Sheet!G37","v":0},{"$f":"External_Balance_Sheet!H37","v":0},{"$f":"IF(OR(External_Balance_Sheet!B37=\"Bank Deposits held with foreign banks\",External_Balance_Sheet!B37=\"Receivables from non-residents\"),External_Balance_Sheet!I37,0)","v":0},{"$f":"IF(OR(External_Balance_Sheet!B37=\"Debt securities issued by non-residents\",External_Balance_Sheet!B37=\"Equities issued by non-residents\",External_Balance_Sheet!B37=\"Financial derivatives\",External_Balance_Sheet!B37=\"Investment fund share/units issued by foreign institutions \"),External_Balance_Sheet!I37,0)","v":0},null,{"$f":"External_Balance_Sheet!J37","v":0},null,null,null,null,null,null,null,null,null,null,null,null,null,"-",1,null,37]
[0,0,6,0,0,0,{"$f":"IF(External_Balance_Sheet!B38=\"\",0,VLOOKUP(External_Balance_Sheet!B38,External_Balance_Sheet!B$151:C$156,2,FALSE))","v":0},{"$f":"IF(External_Balance_Sheet!D38=\"\",0,VLOOKUP(External_Balance_Sheet!D38,External_Balance_Sheet!D$151:E$168,2,FALSE))","v":0},{"$f":"IF(External_Balance_Sheet!E38=\"\",\"#LK\",VLOOKUP(External_Balance_Sheet!E38,External_Balance_Sheet!F$151:G$153,2,FALSE))","v":"#LK"},"00","DPM",{"$f":"External_Balance_Sheet!F38","v":0},{"$f":"External_Balance_Sheet!G38","v":0},{"$f":"External_Balance_Sheet!H38","v":0},{"$f":"IF(OR(External_Balance_Sheet!B38=\"Bank Deposits held with foreign banks\",External_Balance_Sheet!B38=\"Receivables from non-residents\"),External_Balance_Sheet!I38,0)","v":0},{"$f":"IF(OR(External_Balance_Sheet!B38=\"Debt securities issued by non-residents\",External_Balance_Sheet!B38=\"Equities issued by non-residents\",External_Balance_Sheet!B38=\"Financial derivatives\",External_Balance_Sheet!B38=\"Investment fund share/units issued by foreign institutions \"),External_Balance_Sheet!I38,0)","v":0},null,{"$f":"External_Balance_Sheet!J38","v":0},null,null,null,null,null,null,null,null,null,null,null,null,null,"-",1,null,38]
[0,0,6,0,0,0,{"$f":"IF(External_Balance_Sheet!B39=\"\",0,VLOOKUP(External_Balance_Sheet!B39,External_Balance_Sheet!B$151:C$156,2,FALSE))","v":0},{"$f":"IF(External_Balance_Sheet!D39=\"\",0,VLOOKUP(External_Balance_Sheet!D39,External_Balance_Sheet!D$151:E$168,2,FALSE))","v":0},{"$f":"IF(External_Balance_Sheet!E39=\"\",\"#LK\",VLOOKUP(External_Balance_Sheet!E39,External_Balance_Sheet!F$151:G$153,2,FALSE))","v":"#LK"},"00","DPM",{"$f":"External_Balance_Sheet!F39","v":0},{"$f":"External_Balance_Sheet!G39","v":0},{"$f":"External_Balance_Sheet!H39","v":0},{"$f":"IF(OR(External_Balance_Sheet!B39=\"Bank Deposits held with foreign banks\",External_Balance_Sheet!B39=\"Receivables from non-residents\"),External_Balance_Sheet!I39,0)","v":0},{"$f":"IF(OR(External_Balance_Sheet!B39=\"Debt securities issued by non-residents\",External_Balance_Sheet!B39=\"Equities issued by non-residents\",External_Balance_Sheet!B39=\"Financial derivatives\",External_Balance_Sheet!B39=\"Investment fund share/units issued by foreign institutions \"),External_Balance_Sheet!I39,0)","v":0},null,{"$f":"External_Balance_Sheet!J39","v":0},null,null,null,null,null,null,null,null,null,null,null,null,null,"-",1,null,39]
[0,0,6,0,0,0,{"$f":"IF(External_Balance_Sheet!B40=\"\",0,VLOOKUP(External_Balance_Sheet!B40,External_Balance_Sheet!B$151:C$156,2,FALSE))","v":0},{"$f":"IF(External_Balance_Sheet!D40=\"\",0,VLOOKUP(External_Balance_Sheet!D40,External_Balance_Sheet!D$151:E$168,2,FALSE))","v":0},{"$f":"IF(External_Balance_Sheet!E40=\"\",\"#LK\",VLOOKUP(External_Balance_Sheet!E40,External_Balance_Sheet!F$151:G$153,2,FALSE))","v":"#LK"},"00","DPM",{"$f":"External_Balance_Sheet!F40","v":0},{"$f":"External_Balance_Sheet!G40","v":0},{"$f":"External_Balance_Sheet!H40","v":0},{"$f":"IF(OR(External_Balance_Sheet!B40=\"Bank Deposits held with foreign banks\",External_Balance_Sheet!B40=\"Receivables from non-residents\"),External_Balance_Sheet!I40,0)","v":0},{"$f":"IF(OR(External_Balance_Sheet!B40=\"Debt securities issued by non-residents\",External_Balance_Sheet!B40=\"Equities issued by non-residents\",External_Balance_Sheet!B40=\"Financial derivatives\",External_Balance_Sheet!B40=\"Investment fund share/units issued by foreign institutions \"),External_Balance_Sheet!I40,0)","v":0},null,{"$f":"External_Balance_Sheet!J40","v":0},null,null,null,null,null,null,null,null,null,null,null,null,null,"-",1,null,40]
[0,0,6,0,0,0,{"$f":"IF(External_Balance_Sheet!B41=\"\",0,VLOOKUP(External_Balance_Sheet!B41,External_Balance_Sheet!B$151:C$156,2,FALSE))","v":0},{"$f":"IF(External_Balance_Sheet!D41=\"\",0,VLOOKUP(External_Balance_Sheet!D41,External_Balance_Sheet!D$151:E$168,2,FALSE))","v":0},{"$f":"IF(External_Balance_Sheet!E41=\"\",\"#LK\",VLOOKUP(External_Balance_Sheet!E41,External_Balance_Sheet!F$151:G$153,2,FALSE))","v":"#LK"},"00","DPM",{"$f":"External_Balance_Sheet!F41","v":0},{"$f":"External_Balance_Sheet!G41","v":0},{"$f":"External_Balance_Sheet!H41","v":0},{"$f":"IF(OR(External_Balance_Sheet!B41=\"Bank Deposits held with foreign banks\",External_Balance_Sheet!B41=\"Receivables from non-residents\"),External_Balance_Sheet!I41,0)","v":0},{"$f":"IF(OR(External_Balance_Sheet!B41=\"Debt securities issued by non-residents\",External_Balance_Sheet!B41=\"Equities issued by non-residents\",External_Balance_Sheet!B41=\"Financial derivatives\",External_Balance_Sheet!B41=\"Investment fund share/units issued by foreign institutions \"),External_Balance_Sheet!I41,0)","v":0},null,{"$f":"External_Balance_Sheet!J41","v":0},null,null,null,null,null,null,null,null,null,null,null,null,null,"-",1,null,41]
[0,0,6,0,0,0,{"$f":"IF(External_Balance_Sheet!B42=\"\",0,VLOOKUP(External_Balance_Sheet!B42,External_Balance_Sheet!B$151:C$156,2,FALSE))","v":0},{"$f":"IF(External_Balance_Sheet!D42=\"\",0,VLOOKUP(External_Balance_Sheet!D42,External_Balance_Sheet!D$151:E$168,2,FALSE))","v":0},{"$f":"IF(External_Balance_Sheet!E42=\"\",\"#LK\",VLOOKUP(External_Balance_Sheet!E42,External_Balance_Sheet!F$151:G$153,2,FALSE))","v":"#LK"},"00","DPM",{"$f":"External_Balance_Sheet!F42","v":0},{"$f":"External_Balance_Sheet!G42","v":0},{"$f":"External_Balance_Sheet!H42","v":0},{"$f":"IF(OR(External_Balance_Sheet!B42=\"Bank Deposits held with foreign banks\",External_Balance_Sheet!B42=\"Receivables from non-residents\"),External_Balance_Sheet!I42,0)","v":0},{"$f":"IF(OR(External_Balance_Sheet!B42=\"Debt securities issued by non-residents\",External_Balance_Sheet!B42=\"Equities issued by non-residents\",External_Balance_Sheet!B42=\"Financial derivatives\",External_Balance_Sheet!B42=\"Investment fund share/units issued by foreign institutions \"),External_Balance_Sheet!I42,0)","v":0},null,{"$f":"External_Balance_Sheet!J42","v":0},null,null,null,null,null,null,null,null,null,null,null,null,null,"-",1,null,42]
[0,0,6,0,0,0,{"$f":"IF(External_Balance_Sheet!B47<>\"\",9990,0)","v":0},{"$f":"IF(External_Balance_Sheet!D47=\"\",0,VLOOKUP(External_Balance_Sheet!D47,External_Balance_Sheet!D$151:E$168,2,FALSE))","v":0},"#LK","00","DPM",{"$f":"External_Balance_Sheet!F47","v":0},{"$f":"External_Balance_Sheet!G47","v":0},{"$f":"External_Balance_Sheet!H47","v":0},null,{"$f":"External_Balance_Sheet!I47","v":0},null,{"$f":"External_Balance_Sheet!J47","v":0},null,null,null,null,null,null,null,null,null,null,null,null,null,{"$f":"IF(External_Balance_Sheet!B47<>\"\",External_Balance_Sheet!B47,\"-\")","v":"-"},1,null,47]
[0,0,6,0,0,0,{"$f":"IF(External_Balance_Sheet!B48<>\"\",9990,0)","v":0},{"$f":"IF(External_Balance_Sheet!D48=\"\",0,VLOOKUP(External_Balance_Sheet!D48,External_Balance_Sheet!D$151:E$168,2,FALSE))","v":0},"#LK","00","DPM",{"$f":"External_Balance_Sheet!F48","v":0},{"$f":"External_Balance_Sheet!G48","v":0},{"$f":"External_Balance_Sheet!H48","v":0},null,{"$f":"External_Balance_Sheet!I48","v":0},null,{"$f":"External_Balance_Sheet!J48","v":0},null,null,null,null,null,null,null,null,null,null,null,null,null,{"$f":"IF(External_Balance_Sheet!B48<>\"\",External_Balance_Sheet!B48,\"-\")","v":"-"},1,null,48]
[0,0,6,0,0,0,{"$f":"IF(External_Balance_Sheet!B49<>\"\",9990,0)","v":0},{"$f":"IF(External_Balance_Sheet!D49=\"\",0,VLOOKUP(External_Balance_Sheet!D49,External_Balance_Sheet!D$151:E$168,2,FALSE))","v":0},"#LK","00","DPM",{"$f":"External_Balance_Sheet!F49","v":0},{"$f":"External_Balance_Sheet!G49","v":0},{"$f":"External_Balance_Sheet!H49","v":0},null,{"$f":"External_Balance_Sheet!I49","v":0},null,{"$f":"External_Balance_Sheet!J49","v":0},null,null,null,null,null,null,null,null,null,null,null,null,null,{"$f":"IF(External_Balance_Sheet!B49<>\"\",External_Balance_Sheet!B49,\"-\")","v":"-"},1,null,49]
[0,0,6,0,0,0,{"$f":"IF(External_Balance_Sheet!B50<>\"\",9990,0)","v":0},{"$f":"IF(External_Balance_Sheet!D50=\"\",0,VLOOKUP(External_Balance_Sheet!D50,External_Balance_Sheet!D$151:E$168,2,FALSE))","v":0},"#LK","00","DPM",{"$f":"External_Balance_Sheet!F50","v":0},{"$f":"External_Balance_Sheet!G50","v":0},{"$f":"External_Balance_Sheet!H50","v":0},null,{"$f":"External_Balance_Sheet!I50","v":0},null,{"$f":"External_Balance_Sheet!J50","v":0},null,null,null,null,null,null,null,null,null,null,null,null,null,{"$f":"IF(External_Balance_Sheet!B50<>\"\",External_Balance_Sheet!B50,\"-\")","v":"-"},1,null,50]
[0,0,6,0,0,0,{"$f":"IF(External_Balance_Sheet!B51<>\"\",9990,0)","v":0},{"$f":"IF(External_Balance_Sheet!D51=\"\",0,VLOOKUP(External_Balance_Sheet!D51,External_Balance_Sheet!D$151:E$168,2,FALSE))","v":0},"#LK","00","DPM",{"$f":"External_Balance_Sheet!F51","v":0},{"$f":"External_Balance_Sheet!G51","v":0},{"$f":"External_Balance_Sheet!H51","v":0},null,{"$f":"External_Balance_Sheet!I51","v":0},null,{"$f":"External_Balance_Sheet!J51","v":0},null,null,null,null,null,null,null,null,null,null,null,null,null,{"$f":"IF(External_Balance_Sheet!B51<>\"\",External_Balance_Sheet!B51,\"-\")","v":"-"},1,null,51]
[0,0,6,0,0,0,{"$f":"IF(External_Balance_Sheet!B52<>\"\",9990,0)","v":0},{"$f":"IF(External_Balance_Sheet!D52=\"\",0,VLOOKUP(External_Balance_Sheet!D52,External_Balance_Sheet!D$151:E$168,2,FALSE))","v":0},"#LK","00","DPM",{"$f":"External_Balance_Sheet!F52","v":0},{"$f":"External_Balance_Sheet!G52","v":0},{"$f":"External_Balance_Sheet!H52","v":0},null,{"$f":"External_Balance_Sheet!I52","v":0},null,{"$f":"External_Balance_Sheet!J52","v":0},null,null,null,null,null,null,null,null,null,null,null,null,null,{"$f":"IF(External_Balance_Sheet!B52<>\"\",External_Balance_Sheet!B52,\"-\")","v":"-"},1,null,52]
[0,0,6,0,0,0,{"$f":"IF(External_Balance_Sheet!B53<>\"\",9990,0)","v":0},{"$f":"IF(External_Balance_Sheet!D53=\"\",0,VLOOKUP(External_Balance_Sheet!D53,External_Balance_Sheet!D$151:E$168,2,FALSE))","v":0},"#LK","00","DPM",{"$f":"External_Balance_Sheet!F53","v":0},{"$f":"External_Balance_Sheet!G53","v":0},{"$f":"External_Balance_Sheet!H53","v":0},null,{"$f":"External_Balance_Sheet!I53","v":0},null,{"$f":"External_Balance_Sheet!J53","v":0},null,null,null,null,null,null,null,null,null,null,null,null,null,{"$f":"IF(External_Balance_Sheet!B53<>\"\",External_Balance_Sheet!B53,\"-\")","v":"-"},1,null,53]
[0,0,6,0,0,0,{"$f":"IF(External_Balance_Sheet!B54<>\"\",9990,0)","v":0},{"$f":"IF(External_Balance_Sheet!D54=\"\",0,VLOOKUP(External_Balance_Sheet!D54,External_Balance_Sheet!D$151:E$168,2,FALSE))","v":0},"#LK","00","DPM",{"$f":"External_Balance_Sheet!F54","v":0},{"$f":"External_Balance_Sheet!G54","v":0},{"$f":"External_Balance_Sheet!H54","v":0},null,{"$f":"External_Balance_Sheet!I54","v":0},null,{"$f":"External_Balance_Sheet!J54","v":0},null,null,null,null,null,null,null,null,null,null,null,null,null,{"$f":"IF(External_Balance_Sheet!B54<>\"\",External_Balance_Sheet!B54,\"-\")","v":"-"},1,null,54]
[0,0,6,0,0,0,{"$f":"IF(External_Balance_Sheet!B55<>\"\",9990,0)","v":0},{"$f":"IF(External_Balance_Sheet!D55=\"\",0,VLOOKUP(External_Balance_Sheet!D55,External_Balance_Sheet!D$151:E$168,2,FALSE))","v":0},"#LK","00","DPM",{"$f":"External_Balance_Sheet!F55","v":0},{"$f":"External_Balance_Sheet!G55","v":0},{"$f":"External_Balance_Sheet!H55","v":0},null,{"$f":"External_Balance_Sheet!I55","v":0},null,{"$f":"External_Balance_Sheet!J55","v":0},null,null,null,null,null,null,null,null,null,null,null,null,null,{"$f":"IF(External_Balance_Sheet!B55<>\"\",External_Balance_Sheet!B55,\"-\")","v":"-"},1,null,55]
[0,0,6,0,0,0,{"$f":"IF(External_Balance_Sheet!B56<>\"\",9990,0)","v":0},{"$f":"IF(External_Balance_Sheet!D56=\"\",0,VLOOKUP(External_Balance_Sheet!D56,External_Balance_Sheet!D$151:E$168,2,FALSE))","v":0},"#LK","00","DPM",{"$f":"External_Balance_Sheet!F56","v":0},{"$f":"External_Balance_Sheet!G56","v":0},{"$f":"External_Balance_Sheet!H56","v":0},null,{"$f":"External_Balance_Sheet!I56","v":0},null,{"$f":"External_Balance_Sheet!J56","v":0},null,null,null,null,null,null,null,null,null,null,null,null,null,{"$f":"IF(External_Balance_Sheet!B56<>\"\",External_Balance_Sheet!B56,\"-\")","v":"-"},1,null,56]
[0,0,7,0,0,0,{"$f":"IF(External_Balance_Sheet!B62=\"\",0,VLOOKUP(External_Balance_Sheet!B62,External_Balance_Sheet!B$161:C$167,2,FALSE))","v":0},{"$f":"IF(External_Balance_Sheet!D62=\"\",0,VLOOKUP(External_Balance_Sheet!D62,External_Balance_Sheet!D$151:E$168,2,FALSE))","v":0},"#LK","00","DPM",{"$f":"External_Balance_Sheet!F62","v":0},{"$f":"External_Balance_Sheet!G62","v":0},{"$f":"External_Balance_Sheet!H62","v":0},null,{"$f":"External_Balance_Sheet!I62","v":0},null,{"$f":"External_Balance_Sheet!J62","v":0},null,null,null,null,null,null,null,null,null,null,null,null,null,"-",1,"Sheet 25 External Balance Sheet'!F62 / G62 / H62 / I62 / J62",62]
[0,0,7,0,0,0,{"$f":"IF(External_Balance_Sheet!B63=\"\",0,VLOOKUP(External_Balance_Sheet!B63,External_Balance_Sheet!B$161:C$167,2,FALSE))","v":0},{"$f":"IF(External_Balance_Sheet!D63=\"\",0,VLOOKUP(External_Balance_Sheet!D63,External_Balance_Sheet!D$151:E$168,2,FALSE))","v":0},"#LK","00","DPM",{"$f":"External_Balance_Sheet!F63","v":0},{"$f":"External_Balance_Sheet!G63","v":0},{"$f":"External_Balance_Sheet!H63","v":0},null,{"$f":"External_Balance_Sheet!I63","v":0},null,{"$f":"External_Balance_Sheet!J63","v":0},null,null,null,null,null,null,null,null,null,null,null,null,null,"-",1,null,63]
[0,0,7,0,0,0,{"$f":"IF(External_Balance_Sheet!B64=\"\",0,VLOOKUP(External_Balance_Sheet!B64,External_Balance_Sheet!B$161:C$167,2,FALSE))","v":0},{"$f":"IF(External_Balance_Sheet!D64=\"\",0,VLOOKUP(External_Balance_Sheet!D64,External_Balance_Sheet!D$151:E$168,2,FALSE))","v":0},"#LK","00","DPM",{"$f":"External_Balance_Sheet!F64","v":0},{"$f":"External_Balance_Sheet!G64","v":0},{"$f":"External_Balance_Sheet!H64","v":0},null,{"$f":"External_Balance_Sheet!I64","v":0},null,{"$f":"External_Balance_Sheet!J64","v":0},null,null,null,null,null,null,null,null,null,null,null,null,null,"-",1,null,64]
[0,0,7,0,0,0,{"$f":"IF(External_Balance_Sheet!B65=\"\",0,VLOOKUP(External_Balance_Sheet!B65,External_Balance_Sheet!B$161:C$167,2,FALSE))","v":0},{"$f":"IF(External_Balance_Sheet!D65=\"\",0,VLOOKUP(External_Balance_Sheet!D65,External_Balance_Sheet!D$151:E$168,2,FALSE))","v":0},"#LK","00","DPM",{"$f":"External_Balance_Sheet!F65","v":0},{"$f":"External_Balance_Sheet!G65","v":0},{"$f":"External_Balance_Sheet!H65","v":0},null,{"$f":"External_Balance_Sheet!I65","v":0},null,{"$f":"External_Balance_Sheet!J65","v":0},null,null,null,null,null,null,null,null,null,null,null,null,null,"-",1,null,65]
[0,0,7,0,0,0,{"$f":"IF(External_Balance_Sheet!B66=\"\",0,VLOOKUP(External_Balance_Sheet!B66,External_Balance_Sheet!B$161:C$167,2,FALSE))","v":0},{"$f":"IF(External_Balance_Sheet!D66=\"\",0,VLOOKUP(External_Balance_Sheet!D66,External_Balance_Sheet!D$151:E$168,2,FALSE))","v":0},"#LK","00","DPM",{"$f":"External_Balance_Sheet!F66","v":0},{"$f":"External_Balance_Sheet!G66","v":0},{"$f":"External_Balance_Sheet!H66","v":0},null,{"$f":"External_Balance_Sheet!I66","v":0},null,{"$f":"External_Balance_Sheet!J66","v":0},null,null,null,null,null,null,null,null,null,null,null,null,null,"-",1,null,66]
[0,0,7,0,0,0,{"$f":"IF(External_Balance_Sheet!B67=\"\",0,VLOOKUP(External_Balance_Sheet!B67,External_Balance_Sheet!B$161:C$167,2,FALSE))","v":0},{"$f":"IF(External_Balance_Sheet!D67=\"\",0,VLOOKUP(External_Balance_Sheet!D67,External_Balance_Sheet!D$151:E$168,2,FALSE))","v":0},"#LK","00","DPM",{"$f":"External_Balance_Sheet!F67","v":0},{"$f":"External_Balance_Sheet!G67","v":0},{"$f":"External_Balance_Sheet!H67","v":0},null,{"$f":"External_Balance_Sheet!I67","v":0},null,{"$f":"External_Balance_Sheet!J67","v":0},null,null,null,null,null,null,null,null,null,null,null,null,null,"-",1,null,67]
[0,0,7,0,0,0,{"$f":"IF(External_Balance_Sheet!B68=\"\",0,VLOOKUP(External_Balance_Sheet!B68,External_Balance_Sheet!B$161:C$167,2,FALSE))","v":0},{"$f":"IF(External_Balance_Sheet!D68=\"\",0,VLOOKUP(External_Balance_Sheet!D68,External_Balance_Sheet!D$151:E$168,2,FALSE))","v":0},"#LK","00","DPM",{"$f":"External_Balance_Sheet!F68","v":0},{"$f":"External_Balance_Sheet!G68","v":0},{"$f":"External_Balance_Sheet!H68","v":0},null,{"$f":"External_Balance_Sheet!I68","v":0},null,{"$f":"External_Balance_Sheet!J68","v":0},null,null,null,null,null,null,null,null,null,null,null,null,null,"-",1,null,68]
[0,0,7,0,0,0,{"$f":"IF(External_Balance_Sheet!B69=\"\",0,VLOOKUP(External_Balance_Sheet!B69,External_Balance_Sheet!B$161:C$167,2,FALSE))","v":0},{"$f":"IF(External_Balance_Sheet!D69=\"\",0,VLOOKUP(External_Balance_Sheet!D69,External_Balance_Sheet!D$151:E$168,2,FALSE))","v":0},"#LK","00","DPM",{"$f":"External_Balance_Sheet!F69","v":0},{"$f":"External_Balance_Sheet!G69","v":0},{"$f":"External_Balance_Sheet!H69","v":0},null,{"$f":"External_Balance_Sheet!I69","v":0},null,{"$f":"External_Balance_Sheet!J69","v":0},null,null,null,null,null,null,null,null,null,null,null,null,null,"-",1,null,69]
[0,0,7,0,0,0,{"$f":"IF(External_Balance_Sheet!B70=\"\",0,VLOOKUP(External_Balance_Sheet!B70,External_Balance_Sheet!B$161:C$167,2,FALSE))","v":0},{"$f":"IF(External_Balance_Sheet!D70=\"\",0,VLOOKUP(External_Balance_Sheet!D70,External_Balance_Sheet!D$151:E$168,2,FALSE))","v":0},"#LK","00","DPM",{"$f":"External_Balance_Sheet!F70","v":0},{"$f":"External_Balance_Sheet!G70","v":0},{"$f":"External_Balance_Sheet!H70","v":0},null,{"$f":"External_Balance_Sheet!I70","v":0},null,{"$f":"External_Balance_Sheet!J70","v":0},null,null,null,null,null,null,null,null,null,null,null,null,null,"-",1,null,70]
[0,0,7,0,0,0,{"$f":"IF(External_Balance_Sheet!B71=\"\",0,VLOOKUP(External_Balance_Sheet!B71,External_Balance_Sheet!B$161:C$167,2,FALSE))","v":0},{"$f":"IF(External_Balance_Sheet!D71=\"\",0,VLOOKUP(External_Balance_Sheet!D71,External_Balance_Sheet!D$151:E$168,2,FALSE))","v":0},"#LK","00","DPM",{"$f":"External_Balance_Sheet!F71","v":0},{"$f":"External_Balance_Sheet!G71","v":0},{"$f":"External_Balance_Sheet!H71","v":0},null,{"$f":"External_Balance_Sheet!I71","v":0},null,{"$f":"External_Balance_Sheet!J71","v":0},null,null,null,null,null,null,null,null,null,null,null,null,null,"-",1,null,71]
[0,0,7,0,0,0,{"$f":"IF(External_Balance_Sheet!B72=\"\",0,VLOOKUP(External_Balance_Sheet!B72,External_Balance_Sheet!B$161:C$167,2,FALSE))","v":0},{"$f":"IF(External_Balance_Sheet!D72=\"\",0,VLOOKUP(External_Balance_Sheet!D72,External_Balance_Sheet!D$151:E$168,2,FALSE))","v":0},"#LK","00","DPM",{"$f":"External_Balance_Sheet!F72","v":0},{"$f":"External_Balance_Sheet!G72","v":0},{"$f":"External_Balance_Sheet!H72","v":0},null,{"$f":"External_Balance_Sheet!I72","v":0},null,{"$f":"External_Balance_Sheet!J72","v":0},null,null,null,null,null,null,null,null,null,null,null,null,null,"-",1,null,72]
[0,0,7,0,0,0,{"$f":"IF(External_Balance_Sheet!B73=\"\",0,VLOOKUP(External_Balance_Sheet!B73,External_Balance_Sheet!B$161:C$167,2,FALSE))","v":0},{"$f":"IF(External_Balance_Sheet!D73=\"\",0,VLOOKUP(External_Balance_Sheet!D73,External_Balance_Sheet!D$151:E$168,2,FALSE))","v":0},"#LK","00","DPM",{"$f":"External_Balance_Sheet!F73","v":0},{"$f":"External_Balance_Sheet!G73","v":0},{"$f":"External_Balance_Sheet!H73","v":0},null,{"$f":"External_Balance_Sheet!I73","v":0},null,{"$f":"External_Balance_Sheet!J73","v":0},null,null,null,null,null,null,null,null,null,null,null,null,null,"-",1,null,73]
[0,0,7,0,0,0,{"$f":"IF(External_Balance_Sheet!B74=\"\",0,VLOOKUP(External_Balance_Sheet!B74,External_Balance_Sheet!B$161:C$167,2,FALSE))","v":0},{"$f":"IF(External_Balance_Sheet!D74=\"\",0,VLOOKUP(External_Balance_Sheet!D74,External_Balance_Sheet!D$151:E$168,2,FALSE))","v":0},"#LK","00","DPM",{"$f":"External_Balance_Sheet!F74","v":0},{"$f":"External_Balance_Sheet!G74","v":0},{"$f":"External_Balance_Sheet!H74","v":0},null,{"$f":"External_Balance_Sheet!I74","v":0},null,{"$f":"External_Balance_Sheet!J74","v":0},null,null,null,null,null,null,null,null,null,null,null,null,null,"-",1,null,74]
[0,0,7,0,0,0,{"$f":"IF(External_Balance_Sheet!B75=\"\",0,VLOOKUP(External_Balance_Sheet!B75,External_Balance_Sheet!B$161:C$167,2,FALSE))","v":0},{"$f":"IF(External_Balance_Sheet!D75=\"\",0,VLOOKUP(External_Balance_Sheet!D75,External_Balance_Sheet!D$151:E$168,2,FALSE))","v":0},"#LK","00","DPM",{"$f":"External_Balance_Sheet!F75","v":0},{"$f":"External_Balance_Sheet!G75","v":0},{"$f":"External_Balance_Sheet!H75","v":0},null,{"$f":"External_Balance_Sheet!I75","v":0},null,{"$f":"External_Balance_Sheet!J75","v":0},null,null,null,null,null,null,null,null,null,null,null,null,null,"-",1,null,75]
[0,0,7,0,0,0,{"$f":"IF(External_Balance_Sheet!B76=\"\",0,VLOOKUP(External_Balance_Sheet!B76,External_Balance_Sheet!B$161:C$167,2,FALSE))","v":0},{"$f":"IF(External_Balance_Sheet!D76=\"\",0,VLOOKUP(External_Balance_Sheet!D76,External_Balance_Sheet!D$151:E$168,2,FALSE))","v":0},"#LK","00","DPM",{"$f":"External_Balance_Sheet!F76","v":0},{"$f":"External_Balance_Sheet!G76","v":0},{"$f":"External_Balance_Sheet!H76","v":0},null,{"$f":"External_Balance_Sheet!I76","v":0},null,{"$f":"External_Balance_Sheet!J76","v":0},null,null,null,null,null,null,null,null,null,null,null,null,null,"-",1,null,76]
[0,0,7,0,0,0,{"$f":"IF(External_Balance_Sheet!B77=\"\",0,VLOOKUP(External_Balance_Sheet!B77,External_Balance_Sheet!B$161:C$167,2,FALSE))","v":0},{"$f":"IF(External_Balance_Sheet!D77=\"\",0,VLOOKUP(External_Balance_Sheet!D77,External_Balance_Sheet!D$151:E$168,2,FALSE))","v":0},"#LK","00","DPM",{"$f":"External_Balance_Sheet!F77","v":0},{"$f":"External_Balance_Sheet!G77","v":0},{"$f":"External_Balance_Sheet!H77","v":0},null,{"$f":"External_Balance_Sheet!I77","v":0},null,{"$f":"External_Balance_Sheet!J77","v":0},null,null,null,null,null,null,null,null,null,null,null,null,null,"-",1,null,77]
[0,0,7,0,0,0,{"$f":"IF(External_Balance_Sheet!B78=\"\",0,VLOOKUP(External_Balance_Sheet!B78,External_Balance_Sheet!B$161:C$167,2,FALSE))","v":0},{"$f":"IF(External_Balance_Sheet!D78=\"\",0,VLOOKUP(External_Balance_Sheet!D78,External_Balance_Sheet!D$151:E$168,2,FALSE))","v":0},"#LK","00","DPM",{"$f":"External_Balance_Sheet!F78","v":0},{"$f":"External_Balance_Sheet!G78","v":0},{"$f":"External_Balance_Sheet!H78","v":0},null,{"$f":"External_Balance_Sheet!I78","v":0},null,{"$f":"External_Balance_Sheet!J78","v":0},null,null,null,null,null,null,null,null,null,null,null,null,null,"-",1,null,78]
[0,0,7,0,0,0,{"$f":"IF(External_Balance_Sheet!B79=\"\",0,VLOOKUP(External_Balance_Sheet!B79,External_Balance_Sheet!B$161:C$167,2,FALSE))","v":0},{"$f":"IF(External_Balance_Sheet!D79=\"\",0,VLOOKUP(External_Balance_Sheet!D79,External_Balance_Sheet!D$151:E$168,2,FALSE))","v":0},"#LK","00","DPM",{"$f":"External_Balance_Sheet!F79","v":0},{"$f":"External_Balance_Sheet!G79","v":0},{"$f":"External_Balance_Sheet!H79","v":0},null,{"$f":"External_Balance_Sheet!I79","v":0},null,{"$f":"External_Balance_Sheet!J79","v":0},null,null,null,null,null,null,null,null,null,null,null,null,null,"-",1,null,79]
[0,0,7,0,0,0,{"$f":"IF(External_Balance_Sheet!B80=\"\",0,VLOOKUP(External_Balance_Sheet!B80,External_Balance_Sheet!B$161:C$167,2,FALSE))","v":0},{"$f":"IF(External_Balance_Sheet!D80=\"\",0,VLOOKUP(External_Balance_Sheet!D80,External_Balance_Sheet!D$151:E$168,2,FALSE))","v":0},"#LK","00","DPM",{"$f":"External_Balance_Sheet!F80","v":0},{"$f":"External_Balance_Sheet!G80","v":0},{"$f":"External_Balance_Sheet!H80","v":0},null,{"$f":"External_Balance_Sheet!I80","v":0},null,{"$f":"External_Balance_Sheet!J80","v":0},null,null,null,null,null,null,null,null,null,null,null,null,null,"-",1,null,80]
[0,0,7,0,0,0,{"$f":"IF(External_Balance_Sheet!B81=\"\",0,VLOOKUP(External_Balance_Sheet!B81,External_Balance_Sheet!B$161:C$167,2,FALSE))","v":0},{"$f":"IF(External_Balance_Sheet!D81=\"\",0,VLOOKUP(External_Balance_Sheet!D81,External_Balance_Sheet!D$151:E$168,2,FALSE))","v":0},"#LK","00","DPM",{"$f":"External_Balance_Sheet!F81","v":0},{"$f":"External_Balance_Sheet!G81","v":0},{"$f":"External_Balance_Sheet!H81","v":0},null,{"$f":"External_Balance_Sheet!I81","v":0},null,{"$f":"External_Balance_Sheet!J81","v":0},null,null,null,null,null,null,null,null,null,null,null,null,null,"-",1,null,81]
[0,0,7,0,0,0,{"$f":"IF(External_Balance_Sheet!B82=\"\",0,VLOOKUP(External_Balance_Sheet!B82,External_Balance_Sheet!B$161:C$167,2,FALSE))","v":0},{"$f":"IF(External_Balance_Sheet!D82=\"\",0,VLOOKUP(External_Balance_Sheet!D82,External_Balance_Sheet!D$151:E$168,2,FALSE))","v":0},"#LK","00","DPM",{"$f":"External_Balance_Sheet!F82","v":0},{"$f":"External_Balance_Sheet!G82","v":0},{"$f":"External_Balance_Sheet!H82","v":0},null,{"$f":"External_Balance_Sheet!I82","v":0},null,{"$f":"External_Balance_Sheet!J82","v":0},null,null,null,null,null,null,null,null,null,null,null,null,null,"-",1,null,82]
[0,0,7,0,0,0,{"$f":"IF(External_Balance_Sheet!B83=\"\",0,VLOOKUP(External_Balance_Sheet!B83,External_Balance_Sheet!B$161:C$167,2,FALSE))","v":0},{"$f":"IF(External_Balance_Sheet!D83=\"\",0,VLOOKUP(External_Balance_Sheet!D83,External_Balance_Sheet!D$151:E$168,2,FALSE))","v":0},"#LK","00","DPM",{"$f":"External_Balance_Sheet!F83","v":0},{"$f":"External_Balance_Sheet!G83","v":0},{"$f":"External_Balance_Sheet!H83","v":0},null,{"$f":"External_Balance_Sheet!I83","v":0},null,{"$f":"External_Balance_Sheet!J83","v":0},null,null,null,null,null,null,null,null,null,null,null,null,null,"-",1,null,83]
[0,0,7,0,0,0,{"$f":"IF(External_Balance_Sheet!B84=\"\",0,VLOOKUP(External_Balance_Sheet!B84,External_Balance_Sheet!B$161:C$167,2,FALSE))","v":0},{"$f":"IF(External_Balance_Sheet!D84=\"\",0,VLOOKUP(External_Balance_Sheet!D84,External_Balance_Sheet!D$151:E$168,2,FALSE))","v":0},"#LK","00","DPM",{"$f":"External_Balance_Sheet!F84","v":0},{"$f":"External_Balance_Sheet!G84","v":0},{"$f":"External_Balance_Sheet!H84","v":0},null,{"$f":"External_Balance_Sheet!I84","v":0},null,{"$f":"External_Balance_Sheet!J84","v":0},null,null,null,null,null,null,null,null,null,null,null,null,null,"-",1,null,84]
[0,0,7,0,0,0,{"$f":"IF(External_Balance_Sheet!B85=\"\",0,VLOOKUP(External_Balance_Sheet!B85,External_Balance_Sheet!B$161:C$167,2,FALSE))","v":0},{"$f":"IF(External_Balance_Sheet!D85=\"\",0,VLOOKUP(External_Balance_Sheet!D85,External_Balance_Sheet!D$151:E$168,2,FALSE))","v":0},"#LK","00","DPM",{"$f":"External_Balance_Sheet!F85","v":0},{"$f":"External_Balance_Sheet!G85","v":0},{"$f":"External_Balance_Sheet!H85","v":0},null,{"$f":"External_Balance_Sheet!I85","v":0},null,{"$f":"External_Balance_Sheet!J85","v":0},null,null,null,null,null,null,null,null,null,null,null,null,null,"-",1,null,85]
[0,0,7,0,0,0,{"$f":"IF(External_Balance_Sheet!B86=\"\",0,VLOOKUP(External_Balance_Sheet!B86,External_Balance_Sheet!B$161:C$167,2,FALSE))","v":0},{"$f":"IF(External_Balance_Sheet!D86=\"\",0,VLOOKUP(External_Balance_Sheet!D86,External_Balance_Sheet!D$151:E$168,2,FALSE))","v":0},"#LK","00","DPM",{"$f":"External_Balance_Sheet!F86","v":0},{"$f":"External_Balance_Sheet!G86","v":0},{"$f":"External_Balance_Sheet!H86","v":0},null,{"$f":"External_Balance_Sheet!I86","v":0},null,{"$f":"External_Balance_Sheet!J86","v":0},null,null,null,null,null,null,null,null,null,null,null,null,null,"-",1,null,86]
[0,0,7,0,0,0,{"$f":"IF(External_Balance_Sheet!B87=\"\",0,VLOOKUP(External_Balance_Sheet!B87,External_Balance_Sheet!B$161:C$167,2,FALSE))","v":0},{"$f":"IF(External_Balance_Sheet!D87=\"\",0,VLOOKUP(External_Balance_Sheet!D87,External_Balance_Sheet!D$151:E$168,2,FALSE))","v":0},"#LK","00","DPM",{"$f":"External_Balance_Sheet!F87","v":0},{"$f":"External_Balance_Sheet!G87","v":0},{"$f":"External_Balance_Sheet!H87","v":0},null,{"$f":"External_Balance_Sheet!I87","v":0},null,{"$f":"External_Balance_Sheet!J87","v":0},null,null,null,null,null,null,null,null,null,null,null,null,null,"-",1,null,87]
[0,0,7,0,0,0,{"$f":"IF(External_Balance_Sheet!B88=\"\",0,VLOOKUP(External_Balance_Sheet!B88,External_Balance_Sheet!B$161:C$167,2,FALSE))","v":0},{"$f":"IF(External_Balance_Sheet!D88=\"\",0,VLOOKUP(External_Balance_Sheet!D88,External_Balance_Sheet!D$151:E$168,2,FALSE))","v":0},"#LK","00","DPM",{"$f":"External_Balance_Sheet!F88","v":0},{"$f":"External_Balance_Sheet!G88","v":0},{"$f":"External_Balance_Sheet!H88","v":0},null,{"$f":"External_Balance_Sheet!I88","v":0},null,{"$f":"External_Balance_Sheet!J88","v":0},null,null,null,null,null,null,null,null,null,null,null,null,null,"-",1,null,88]
[0,0,7,0,0,0,{"$f":"IF(External_Balance_Sheet!B89=\"\",0,VLOOKUP(External_Balance_Sheet!B89,External_Balance_Sheet!B$161:C$167,2,FALSE))","v":0},{"$f":"IF(External_Balance_Sheet!D89=\"\",0,VLOOKUP(External_Balance_Sheet!D89,External_Balance_Sheet!D$151:E$168,2,FALSE))","v":0},"#LK","00","DPM",{"$f":"External_Balance_Sheet!F89","v":0},{"$f":"External_Balance_Sheet!G89","v":0},{"$f":"External_Balance_Sheet!H89","v":0},null,{"$f":"External_Balance_Sheet!I89","v":0},null,{"$f":"External_Balance_Sheet!J89","v":0},null,null,null,null,null,null,null,null,null,null,null,null,null,"-",1,null,89]
[0,0,7,0,0,0,{"$f":"IF(External_Balance_Sheet!B90=\"\",0,VLOOKUP(External_Balance_Sheet!B90,External_Balance_Sheet!B$161:C$167,2,FALSE))","v":0},{"$f":"IF(External_Balance_Sheet!D90=\"\",0,VLOOKUP(External_Balance_Sheet!D90,External_Balance_Sheet!D$151:E$168,2,FALSE))","v":0},"#LK","00","DPM",{"$f":"External_Balance_Sheet!F90","v":0},{"$f":"External_Balance_Sheet!G90","v":0},{"$f":"External_Balance_Sheet!H90","v":0},null,{"$f":"External_Balance_Sheet!I90","v":0},null,{"$f":"External_Balance_Sheet!J90","v":0},null,null,null,null,null,null,null,null,null,null,null,null,null,"-",1,null,90]
[0,0,7,0,0,0,{"$f":"IF(External_Balance_Sheet!B91=\"\",0,VLOOKUP(External_Balance_Sheet!B91,External_Balance_Sheet!B$161:C$167,2,FALSE))","v":0},{"$f":"IF(External_Balance_Sheet!D91=\"\",0,VLOOKUP(External_Balance_Sheet!D91,External_Balance_Sheet!D$151:E$168,2,FALSE))","v":0},"#LK","00","DPM",{"$f":"External_Balance_Sheet!F91","v":0},{"$f":"External_Balance_Sheet!G91","v":0},{"$f":"External_Balance_Sheet!H91","v":0},null,{"$f":"External_Balance_Sheet!I91","v":0},null,{"$f":"External_Balance_Sheet!J91","v":0},null,null,null,null,null,null,null,null,null,null,null,null,null,"-",1,null,91]
[0,0,7,0,0,0,{"$f":"IF(External_Balance_Sheet!B96>\"\",9990,0)","v":0},{"$f":"IF(External_Balance_Sheet!D96=\"\",0,VLOOKUP(External_Balance_Sheet!D96,External_Balance_Sheet!D$151:E$168,2,FALSE))","v":0},"#LK","00","DPM",{"$f":"External_Balance_Sheet!F96","v":0},{"$f":"External_Balance_Sheet!G96","v":0},{"$f":"External_Balance_Sheet!H96","v":0},null,{"$f":"External_Balance_Sheet!I96","v":0},null,{"$f":"External_Balance_Sheet!J96","v":0},null,null,null,null,null,null,null,null,null,null,null,null,null,{"$f":"IF(External_Balance_Sheet!B96<>\"\",External_Balance_Sheet!B96,\"-\")","v":"-"},1,null,96]
[0,0,7,0,0,0,{"$f":"IF(External_Balance_Sheet!B97>\"\",9990,0)","v":0},{"$f":"IF(External_Balance_Sheet!D97=\"\",0,VLOOKUP(External_Balance_Sheet!D97,External_Balance_Sheet!D$151:E$168,2,FALSE))","v":0},"#LK","00","DPM",{"$f":"External_Balance_Sheet!F97","v":0},{"$f":"External_Balance_Sheet!G97","v":0},{"$f":"External_Balance_Sheet!H97","v":0},null,{"$f":"External_Balance_Sheet!I97","v":0},null,{"$f":"External_Balance_Sheet!J97","v":0},null,null,null,null,null,null,null,null,null,null,null,null,null,{"$f":"IF(External_Balance_Sheet!B97<>\"\",External_Balance_Sheet!B97,\"-\")","v":"-"},1,null,97]
[0,0,7,0,0,0,{"$f":"IF(External_Balance_Sheet!B98>\"\",9990,0)","v":0},{"$f":"IF(External_Balance_Sheet!D98=\"\",0,VLOOKUP(External_Balance_Sheet!D98,External_Balance_Sheet!D$151:E$168,2,FALSE))","v":0},"#LK","00","DPM",{"$f":"External_Balance_Sheet!F98","v":0},{"$f":"External_Balance_Sheet!G98","v":0},{"$f":"External_Balance_Sheet!H98","v":0},null,{"$f":"External_Balance_Sheet!I98","v":0},null,{"$f":"External_Balance_Sheet!J98","v":0},null,null,null,null,null,null,null,null,null,null,null,null,null,{"$f":"IF(External_Balance_Sheet!B98<>\"\",External_Balance_Sheet!B98,\"-\")","v":"-"},{"$f":"IF(OR(ABS(L322)>=0.55,ABS(M322)>=0.55,ABS(N322)>=0.55,ABS(O322)>=0.55,ABS(P322)>=0.55,ABS(Q322)>=0.55,ABS(R322)>=0.55,ABS(S322)>=0.55,ABS(T322)>=0.55,ABS(U322)>=0.55,ABS(V322)>=0.55,ABS(W322)>=0.55,ABS(X322)>=0.55,ABS(Y322)>=0.55,ABS(Z322)>=0.55,ABS(AA322)>=0.55,ABS(AB322)>=0.55,ABS(AC322)>=0.55,ABS(AD322)>=0.55,ABS(AE322)>=0.55),0,1)","v":1},null,98]
[{"$f":"$A$2","v":0},{"$f":"$B$2","v":0},7,{"$f":"$D$2","v":0},{"$f":"$E$2","v":0},{"$f":"$F$2","v":0},{"$f":"IF(External_Balance_Sheet!B99>\"\",9990,0)","v":0},{"$f":"IF(External_Balance_Sheet!D99=\"\",0,VLOOKUP(External_Balance_Sheet!D99,External_Balance_Sheet!D$151:E$168,2,FALSE))","v":0},"#LK","00","DPM",{"$f":"External_Balance_Sheet!F99","v":0},{"$f":"External_Balance_Sheet!G99","v":0},{"$f":"External_Balance_Sheet!H99","v":0},null,{"$f":"External_Balance_Sheet!I99","v":0},null,{"$f":"External_Balance_Sheet!J99","v":0},null,null,null,null,null,null,null,null,null,null,null,null,null,{"$f":"IF(External_Balance_Sheet!B99<>\"\",External_Balance_Sheet!B99,\"-\")","v":"-"},1,null,99]
[0,0,7,0,0,0,{"$f":"IF(External_Balance_Sheet!B100>\"\",9990,0)","v":0},{"$f":"IF(External_Balance_Sheet!D100=\"\",0,VLOOKUP(External_Balance_Sheet!D100,External_Balance_Sheet!D$151:E$168,2,FALSE))","v":0},"#LK","00","DPM",{"$f":"External_Balance_Sheet!F100","v":0},{"$f":"External_Balance_Sheet!G100","v":0},{"$f":"External_Balance_Sheet!H100","v":0},null,{"$f":"External_Balance_Sheet!I100","v":0},null,{"$f":"External_Balance_Sheet!J100","v":0},null,null,null,null,null,null,null,null,null,null,null,null,null,{"$f":"IF(External_Balance_Sheet!B100<>\"\",External_Balance_Sheet!B100,\"-\")","v":"-"},1,null,100]
[0,0,7,0,0,0,{"$f":"IF(External_Balance_Sheet!B101>\"\",9990,0)","v":0},{"$f":"IF(External_Balance_Sheet!D101=\"\",0,VLOOKUP(External_Balance_Sheet!D101,External_Balance_Sheet!D$151:E$168,2,FALSE))","v":0},"#LK","00","DPM",{"$f":"External_Balance_Sheet!F101","v":0},{"$f":"External_Balance_Sheet!G101","v":0},{"$f":"External_Balance_Sheet!H101","v":0},null,{"$f":"External_Balance_Sheet!I101","v":0},null,{"$f":"External_Balance_Sheet!J101","v":0},null,null,null,null,null,null,null,null,null,null,null,null,null,{"$f":"IF(External_Balance_Sheet!B101<>\"\",External_Balance_Sheet!B101,\"-\")","v":"-"},1,null,101]
[0,0,7,0,0,0,{"$f":"IF(External_Balance_Sheet!B102>\"\",9990,0)","v":0},{"$f":"IF(External_Balance_Sheet!D102=\"\",0,VLOOKUP(External_Balance_Sheet!D102,External_Balance_Sheet!D$151:E$168,2,FALSE))","v":0},"#LK","00","DPM",{"$f":"External_Balance_Sheet!F102","v":0},{"$f":"External_Balance_Sheet!G102","v":0},{"$f":"External_Balance_Sheet!H102","v":0},null,{"$f":"External_Balance_Sheet!I102","v":0},null,{"$f":"External_Balance_Sheet!J102","v":0},null,null,null,null,null,null,null,null,null,null,null,null,null,{"$f":"IF(External_Balance_Sheet!B102<>\"\",External_Balance_Sheet!B102,\"-\")","v":"-"},1,null,102]
[0,0,7,0,0,0,{"$f":"IF(External_Balance_Sheet!B103>\"\",9990,0)","v":0},{"$f":"IF(External_Balance_Sheet!D103=\"\",0,VLOOKUP(External_Balance_Sheet!D103,External_Balance_Sheet!D$151:E$168,2,FALSE))","v":0},"#LK","00","DPM",{"$f":"External_Balance_Sheet!F103","v":0},{"$f":"External_Balance_Sheet!G103","v":0},{"$f":"External_Balance_Sheet!H103","v":0},null,{"$f":"External_Balance_Sheet!I103","v":0},null,{"$f":"External_Balance_Sheet!J103","v":0},null,null,null,null,null,null,null,null,null,null,null,null,null,{"$f":"IF(External_Balance_Sheet!B103<>\"\",External_Balance_Sheet!B103,\"-\")","v":"-"},1,null,103]
[0,0,7,0,0,0,{"$f":"IF(External_Balance_Sheet!B104>\"\",9990,0)","v":0},{"$f":"IF(External_Balance_Sheet!D104=\"\",0,VLOOKUP(External_Balance_Sheet!D104,External_Balance_Sheet!D$151:E$168,2,FALSE))","v":0},"#LK","00","DPM",{"$f":"External_Balance_Sheet!F104","v":0},{"$f":"External_Balance_Sheet!G104","v":0},{"$f":"External_Balance_Sheet!H104","v":0},null,{"$f":"External_Balance_Sheet!I104","v":0},null,{"$f":"External_Balance_Sheet!J104","v":0},null,null,null,null,null,null,null,null,null,null,null,null,null,{"$f":"IF(External_Balance_Sheet!B104<>\"\",External_Balance_Sheet!B104,\"-\")","v":"-"},1,null,104]
[0,0,7,0,0,0,{"$f":"IF(External_Balance_Sheet!B105>\"\",9990,0)","v":0},{"$f":"IF(External_Balance_Sheet!D105=\"\",0,VLOOKUP(External_Balance_Sheet!D105,External_Balance_Sheet!D$151:E$168,2,FALSE))","v":0},"#LK","00","DPM",{"$f":"External_Balance_Sheet!F105","v":0},{"$f":"External_Balance_Sheet!G105","v":0},{"$f":"External_Balance_Sheet!H105","v":0},null,{"$f":"External_Balance_Sheet!I105","v":0},null,{"$f":"External_Balance_Sheet!J105","v":0},null,null,null,null,null,null,null,null,null,null,null,null,null,{"$f":"IF(External_Balance_Sheet!B105<>\"\",External_Balance_Sheet!B105,\"-\")","v":"-"},1,null,105]
[0,0,8,0,0,0,{"$f":"IF('Income_&_Services'!B21=\"\",0,VLOOKUP('Income_&_Services'!B21,'Income_&_Services'!B$151:C$168,2,FALSE))","v":0},{"$f":"IF('Income_&_Services'!D21=\"\",0,VLOOKUP('Income_&_Services'!D21,'Income_&_Services'!D$151:E$231,2,FALSE))","v":0},"#LK","00","DPM",{"$f":"'Income_&_Services'!E21","v":0},{"$f":"'Income_&_Services'!F21","v":0},null,null,null,null,null,null,null,null,null,null,null,null,null,null,null,null,null,null,"-",1,"Sheet 24 Income & services'!E21 / F21",21]
[0,0,8,0,0,0,{"$f":"IF('Income_&_Services'!B22=\"\",0,VLOOKUP('Income_&_Services'!B22,'Income_&_Services'!B$151:C$168,2,FALSE))","v":0},{"$f":"IF('Income_&_Services'!D22=\"\",0,VLOOKUP('Income_&_Services'!D22,'Income_&_Services'!D$151:E$231,2,FALSE))","v":0},"#LK","00","DPM",{"$f":"'Income_&_Services'!E22","v":0},{"$f":"'Income_&_Services'!F22","v":0},null,null,null,null,null,null,null,null,null,null,null,null,null,null,null,null,null,null,"-",1,null,22]
[0,0,8,0,0,0,{"$f":"IF('Income_&_Services'!B23=\"\",0,VLOOKUP('Income_&_Services'!B23,'Income_&_Services'!B$151:C$168,2,FALSE))","v":0},{"$f":"IF('Income_&_Services'!D23=\"\",0,VLOOKUP('Income_&_Services'!D23,'Income_&_Services'!D$151:E$231,2,FALSE))","v":0},"#LK","00","DPM",{"$f":"'Income_&_Services'!E23","v":0},{"$f":"'Income_&_Services'!F23","v":0},null,null,null,null,null,null,null,null,null,null,null,null,null,null,null,null,null,null,"-",1,null,23]
[0,0,8,0,0,0,{"$f":"IF('Income_&_Services'!B24=\"\",0,VLOOKUP('Income_&_Services'!B24,'Income_&_Services'!B$151:C$168,2,FALSE))","v":0},{"$f":"IF('Income_&_Services'!D24=\"\",0,VLOOKUP('Income_&_Services'!D24,'Income_&_Services'!D$151:E$231,2,FALSE))","v":0},"#LK","00","DPM",{"$f":"'Income_&_Services'!E24","v":0},{"$f":"'Income_&_Services'!F24","v":0},null,null,null,null,null,null,null,null,null,null,null,null,null,null,null,null,null,null,"-",1,null,24]
[0,0,8,0,0,0,{"$f":"IF('Income_&_Services'!B25=\"\",0,VLOOKUP('Income_&_Services'!B25,'Income_&_Services'!B$151:C$168,2,FALSE))","v":0},{"$f":"IF('Income_&_Services'!D25=\"\",0,VLOOKUP('Income_&_Services'!D25,'Income_&_Services'!D$151:E$231,2,FALSE))","v":0},"#LK","00","DPM",{"$f":"'Income_&_Services'!E25","v":0},{"$f":"'Income_&_Services'!F25","v":0},null,null,null,null,null,null,null,null,null,null,null,null,null,null,null,null,null,null,"-",1,null,25]
[0,0,8,0,0,0,{"$f":"IF('Income_&_Services'!B26=\"\",0,VLOOKUP('Income_&_Services'!B26,'Income_&_Services'!B$151:C$168,2,FALSE))","v":0},{"$f":"IF('Income_&_Services'!D26=\"\",0,VLOOKUP('Income_&_Services'!D26,'Income_&_Services'!D$151:E$231,2,FALSE))","v":0},"#LK","00","DPM",{"$f":"'Income_&_Services'!E26","v":0},{"$f":"'Income_&_Services'!F26","v":0},null,null,null,null,null,null,null,null,null,null,null,null,null,null,null,null,null,null,"-",1,null,26]
[0,0,8,0,0,0,{"$f":"IF('Income_&_Services'!B27=\"\",0,VLOOKUP('Income_&_Services'!B27,'Income_&_Services'!B$151:C$168,2,FALSE))","v":0},{"$f":"IF('Income_&_Services'!D27=\"\",0,VLOOKUP('Income_&_Services'!D27,'Income_&_Services'!D$151:E$231,2,FALSE))","v":0},"#LK","00","DPM",{"$f":"'Income_&_Services'!E27","v":0},{"$f":"'Income_&_Services'!F27","v":0},null,null,null,null,null,null,null,null,null,null,null,null,null,null,null,null,null,null,"-",1,null,27]
[0,0,8,0,0,0,{"$f":"IF('Income_&_Services'!B28=\"\",0,VLOOKUP('Income_&_Services'!B28,'Income_&_Services'!B$151:C$168,2,FALSE))","v":0},{"$f":"IF('Income_&_Services'!D28=\"\",0,VLOOKUP('Income_&_Services'!D28,'Income_&_Services'!D$151:E$231,2,FALSE))","v":0},"#LK","00","DPM",{"$f":"'Income_&_Services'!E28","v":0},{"$f":"'Income_&_Services'!F28","v":0},null,null,null,null,null,null,null,null,null,null,null,null,null,null,null,null,null,null,"-",1,null,28]
[0,0,8,0,0,0,{"$f":"IF('Income_&_Services'!B29=\"\",0,VLOOKUP('Income_&_Services'!B29,'Income_&_Services'!B$151:C$168,2,FALSE))","v":0},{"$f":"IF('Income_&_Services'!D29=\"\",0,VLOOKUP('Income_&_Services'!D29,'Income_&_Services'!D$151:E$231,2,FALSE))","v":0},"#LK","00","DPM",{"$f":"'Income_&_Services'!E29","v":0},{"$f":"'Income_&_Services'!F29","v":0},null,null,null,null,null,null,null,null,null,null,null,null,null,null,null,null,null,null,"-",1,null,29]
[0,0,8,0,0,0,{"$f":"IF('Income_&_Services'!B30=\"\",0,VLOOKUP('Income_&_Services'!B30,'Income_&_Services'!B$151:C$168,2,FALSE))","v":0},{"$f":"IF('Income_&_Services'!D30=\"\",0,VLOOKUP('Income_&_Services'!D30,'Income_&_Services'!D$151:E$231,2,FALSE))","v":0},"#LK","00","DPM",{"$f":"'Income_&_Services'!E30","v":0},{"$f":"'Income_&_Services'!F30","v":0},null,null,null,null,null,null,null,null,null,null,null,null,null,null,null,null,null,null,"-",1,null,30]
[0,0,8,0,0,0,{"$f":"IF('Income_&_Services'!B31=\"\",0,VLOOKUP('Income_&_Services'!B31,'Income_&_Services'!B$151:C$168,2,FALSE))","v":0},{"$f":"IF('Income_&_Services'!D31=\"\",0,VLOOKUP('Income_&_Services'!D31,'Income_&_Services'!D$151:E$231,2,FALSE))","v":0},"#LK","00","DPM",{"$f":"'Income_&_Services'!E31","v":0},{"$f":"'Income_&_Services'!F31","v":0},null,null,null,null,null,null,null,null,null,null,null,null,null,null,null,null,null,null,"-",1,null,31]
[0,0,8,0,0,0,{"$f":"IF('Income_&_Services'!B32=\"\",0,VLOOKUP('Income_&_Services'!B32,'Income_&_Services'!B$151:C$168,2,FALSE))","v":0},{"$f":"IF('Income_&_Services'!D32=\"\",0,VLOOKUP('Income_&_Services'!D32,'Income_&_Services'!D$151:E$231,2,FALSE))","v":0},"#LK","00","DPM",{"$f":"'Income_&_Services'!E32","v":0},{"$f":"'Income_&_Services'!F32","v":0},null,null,null,null,null,null,null,null,null,null,null,null,null,null,null,null,null,null,"-",1,null,32]
[0,0,8,0,0,0,{"$f":"IF('Income_&_Services'!B33=\"\",0,VLOOKUP('Income_&_Services'!B33,'Income_&_Services'!B$151:C$168,2,FALSE))","v":0},{"$f":"IF('Income_&_Services'!D33=\"\",0,VLOOKUP('Income_&_Services'!D33,'Income_&_Services'!D$151:E$231,2,FALSE))","v":0},"#LK","00","DPM",{"$f":"'Income_&_Services'!E33","v":0},{"$f":"'Income_&_Services'!F33","v":0},null,null,null,null,null,null,null,null,null,null,null,null,null,null,null,null,null,null,"-",1,null,33]
[0,0,8,0,0,0,{"$f":"IF('Income_&_Services'!B34=\"\",0,VLOOKUP('Income_&_Services'!B34,'Income_&_Services'!B$151:C$168,2,FALSE))","v":0},{"$f":"IF('Income_&_Services'!D34=\"\",0,VLOOKUP('Income_&_Services'!D34,'Income_&_Services'!D$151:E$231,2,FALSE))","v":0},"#LK","00","DPM",{"$f":"'Income_&_Services'!E34","v":0},{"$f":"'Income_&_Services'!F34","v":0},null,null,null,null,null,null,null,null,null,null,null,null,null,null,null,null,null,null,"-",1,null,34]
[0,0,8,0,0,0,{"$f":"IF('Income_&_Services'!B35=\"\",0,VLOOKUP('Income_&_Services'!B35,'Income_&_Services'!B$151:C$168,2,FALSE))","v":0},{"$f":"IF('Income_&_Services'!D35=\"\",0,VLOOKUP('Income_&_Services'!D35,'Income_&_Services'!D$151:E$231,2,FALSE))","v":0},"#LK","00","DPM",{"$f":"'Income_&_Services'!E35","v":0},{"$f":"'Income_&_Services'!F35","v":0},null,null,null,null,null,null,null,null,null,null,null,null,null,null,null,null,null,null,"-",1,null,35]
[0,0,8,0,0,0,{"$f":"IF('Income_&_Services'!B36=\"\",0,VLOOKUP('Income_&_Services'!B36,'Income_&_Services'!B$151:C$168,2,FALSE))","v":0},{"$f":"IF('Income_&_Services'!D36=\"\",0,VLOOKUP('Income_&_Services'!D36,'Income_&_Services'!D$151:E$231,2,FALSE))","v":0},"#LK","00","DPM",{"$f":"'Income_&_Services'!E36","v":0},{"$f":"'Income_&_Services'!F36","v":0},null,null,null,null,null,null,null,null,null,null,null,null,null,null,null,null,null,null,"-",1,null,36]
[0,0,8,0,0,0,{"$f":"IF('Income_&_Services'!B37=\"\",0,VLOOKUP('Income_&_Services'!B37,'Income_&_Services'!B$151:C$168,2,FALSE))","v":0},{"$f":"IF('Income_&_Services'!D37=\"\",0,VLOOKUP('Income_&_Services'!D37,'Income_&_Services'!D$151:E$231,2,FALSE))","v":0},"#LK","00","DPM",{"$f":"'Income_&_Services'!E37","v":0},{"$f":"'Income_&_Services'!F37","v":0},null,null,null,null,null,null,null,null,null,null,null,null,null,null,null,null,null,null,"-",1,null,37]
[0,0,8,0,0,0,{"$f":"IF('Income_&_Services'!B38=\"\",0,VLOOKUP('Income_&_Services'!B38,'Income_&_Services'!B$151:C$168,2,FALSE))","v":0},{"$f":"IF('Income_&_Services'!D38=\"\",0,VLOOKUP('Income_&_Services'!D38,'Income_&_Services'!D$151:E$231,2,FALSE))","v":0},"#LK","00","DPM",{"$f":"'Income_&_Services'!E38","v":0},{"$f":"'Income_&_Services'!F38","v":0},null,null,null,null,null,null,null,null,null,null,null,null,null,null,null,null,null,null,"-",1,null,38]
[0,0,8,0,0,0,{"$f":"IF('Income_&_Services'!B39=\"\",0,VLOOKUP('Income_&_Services'!B39,'Income_&_Services'!B$151:C$168,2,FALSE))","v":0},{"$f":"IF('Income_&_Services'!D39=\"\",0,VLOOKUP('Income_&_Services'!D39,'Income_&_Services'!D$151:E$231,2,FALSE))","v":0},"#LK","00","DPM",{"$f":"'Income_&_Services'!E39","v":0},{"$f":"'Income_&_Services'!F39","v":0},null,null,null,null,null,null,null,null,null,null,null,null,null,null,null,null,null,null,"-",1,null,39]
[0,0,8,0,0,0,{"$f":"IF('Income_&_Services'!B40=\"\",0,VLOOKUP('Income_&_Services'!B40,'Income_&_Services'!B$151:C$168,2,FALSE))","v":0},{"$f":"IF('Income_&_Services'!D40=\"\",0,VLOOKUP('Income_&_Services'!D40,'Income_&_Services'!D$151:E$231,2,FALSE))","v":0},"#LK","00","DPM",{"$f":"'Income_&_Services'!E40","v":0},{"$f":"'Income_&_Services'!F40","v":0},null,null,null,null,null,null,null,null,null,null,null,null,null,null,null,null,null,null,"-",1,null,40]
[0,0,8,0,0,0,{"$f":"IF('Income_&_Services'!B41=\"\",0,VLOOKUP('Income_&_Services'!B41,'Income_&_Services'!B$151:C$168,2,FALSE))","v":0},{"$f":"IF('Income_&_Services'!D41=\"\",0,VLOOKUP('Income_&_Services'!D41,'Income_&_Services'!D$151:E$231,2,FALSE))","v":0},"#LK","00","DPM",{"$f":"'Income_&_Services'!E41","v":0},{"$f":"'Income_&_Services'!F41","v":0},null,null,null,null,null,null,null,null,null,null,null,null,null,null,null,null,null,null,"-",1,null,41]
[0,0,8,0,0,0,{"$f":"IF('Income_&_Services'!B42=\"\",0,VLOOKUP('Income_&_Services'!B42,'Income_&_Services'!B$151:C$168,2,FALSE))","v":0},{"$f":"IF('Income_&_Services'!D42=\"\",0,VLOOKUP('Income_&_Services'!D42,'Income_&_Services'!D$151:E$231,2,FALSE))","v":0},"#LK","00","DPM",{"$f":"'Income_&_Services'!E42","v":0},{"$f":"'Income_&_Services'!F42","v":0},null,null,null,null,null,null,null,null,null,null,null,null,null,null,null,null,null,null,"-",1,null,42]
[0,0,8,0,0,0,{"$f":"IF('Income_&_Services'!B43=\"\",0,VLOOKUP('Income_&_Services'!B43,'Income_&_Services'!B$151:C$168,2,FALSE))","v":0},{"$f":"IF('Income_&_Services'!D43=\"\",0,VLOOKUP('Income_&_Services'!D43,'Income_&_Services'!D$151:E$231,2,FALSE))","v":0},"#LK","00","DPM",{"$f":"'Income_&_Services'!E43","v":0},{"$f":"'Income_&_Services'!F43","v":0},null,null,null,null,null,null,null,null,null,null,null,null,null,null,null,null,null,null,"-",1,null,43]
[0,0,8,0,0,0,{"$f":"IF('Income_&_Services'!B44=\"\",0,VLOOKUP('Income_&_Services'!B44,'Income_&_Services'!B$151:C$168,2,FALSE))","v":0},{"$f":"IF('Income_&_Services'!D44=\"\",0,VLOOKUP('Income_&_Services'!D44,'Income_&_Services'!D$151:E$231,2,FALSE))","v":0},"#LK","00","DPM",{"$f":"'Income_&_Services'!E44","v":0},{"$f":"'Income_&_Services'!F44","v":0},null,null,null,null,null,null,null,null,null,null,null,null,null,null,null,null,null,null,"-",1,null,44]
[0,0,8,0,0,0,{"$f":"IF('Income_&_Services'!B45=\"\",0,VLOOKUP('Income_&_Services'!B45,'Income_&_Services'!B$151:C$168,2,FALSE))","v":0},{"$f":"IF('Income_&_Services'!D45=\"\",0,VLOOKUP('Income_&_Services'!D45,'Income_&_Services'!D$151:E$231,2,FALSE))","v":0},"#LK","00","DPM",{"$f":"'Income_&_Services'!E45","v":0},{"$f":"'Income_&_Services'!F45","v":0},null,null,null,null,null,null,null,null,null,null,null,null,null,null,null,null,null,null,"-",1,null,45]
[0,0,8,0,0,0,{"$f":"IF('Income_&_Services'!B46=\"\",0,VLOOKUP('Income_&_Services'!B46,'Income_&_Services'!B$151:C$168,2,FALSE))","v":0},{"$f":"IF('Income_&_Services'!D46=\"\",0,VLOOKUP('Income_&_Services'!D46,'Income_&_Services'!D$151:E$231,2,FALSE))","v":0},"#LK","00","DPM",{"$f":"'Income_&_Services'!E46","v":0},{"$f":"'Income_&_Services'!F46","v":0},null,null,null,null,null,null,null,null,null,null,null,null,null,null,null,null,null,null,"-",1,null,46]
[0,0,8,0,0,0,{"$f":"IF('Income_&_Services'!B47=\"\",0,VLOOKUP('Income_&_Services'!B47,'Income_&_Services'!B$151:C$168,2,FALSE))","v":0},{"$f":"IF('Income_&_Services'!D47=\"\",0,VLOOKUP('Income_&_Services'!D47,'Income_&_Services'!D$151:E$231,2,FALSE))","v":0},"#LK","00","DPM",{"$f":"'Income_&_Services'!E47","v":0},{"$f":"'Income_&_Services'!F47","v":0},null,null,null,null,null,null,null,null,null,null,null,null,null,null,null,null,null,null,"-",1,null,47]
[0,0,8,0,0,0,{"$f":"IF('Income_&_Services'!B48=\"\",0,VLOOKUP('Income_&_Services'!B48,'Income_&_Services'!B$151:C$168,2,FALSE))","v":0},{"$f":"IF('Income_&_Services'!D48=\"\",0,VLOOKUP('Income_&_Services'!D48,'Income_&_Services'!D$151:E$231,2,FALSE))","v":0},"#LK","00","DPM",{"$f":"'Income_&_Services'!E48","v":0},{"$f":"'Income_&_Services'!F48","v":0},null,null,null,null,null,null,null,null,null,null,null,null,null,null,null,null,null,null,"-",1,null,48]
[0,0,8,0,0,0,{"$f":"IF('Income_&_Services'!B49=\"\",0,VLOOKUP('Income_&_Services'!B49,'Income_&_Services'!B$151:C$168,2,FALSE))","v":0},{"$f":"IF('Income_&_Services'!D49=\"\",0,VLOOKUP('Income_&_Services'!D49,'Income_&_Services'!D$151:E$231,2,FALSE))","v":0},"#LK","00","DPM",{"$f":"'Income_&_Services'!E49","v":0},{"$f":"'Income_&_Services'!F49","v":0},null,null,null,null,null,null,null,null,null,null,null,null,null,null,null,null,null,null,"-",1,null,49]
[0,0,8,0,0,0,{"$f":"IF('Income_&_Services'!B50=\"\",0,VLOOKUP('Income_&_Services'!B50,'Income_&_Services'!B$151:C$168,2,FALSE))","v":0},{"$f":"IF('Income_&_Services'!D50=\"\",0,VLOOKUP('Income_&_Services'!D50,'Income_&_Services'!D$151:E$231,2,FALSE))","v":0},"#LK","00","DPM",{"$f":"'Income_&_Services'!E50","v":0},{"$f":"'Income_&_Services'!F50","v":0},null,null,null,null,null,null,null,null,null,null,null,null,null,null,null,null,null,null,"-",1,null,50]
[0,0,8,0,0,0,{"$f":"IF('Income_&_Services'!B51=\"\",0,VLOOKUP('Income_&_Services'!B51,'Income_&_Services'!B$151:C$168,2,FALSE))","v":0},{"$f":"IF('Income_&_Services'!D51=\"\",0,VLOOKUP('Income_&_Services'!D51,'Income_&_Services'!D$151:E$231,2,FALSE))","v":0},"#LK","00","DPM",{"$f":"'Income_&_Services'!E51","v":0},{"$f":"'Income_&_Services'!F51","v":0},null,null,null,null,null,null,null,null,null,null,null,null,null,null,null,null,null,null,"-",1,null,51]
[0,0,8,0,0,0,{"$f":"IF('Income_&_Services'!B52=\"\",0,VLOOKUP('Income_&_Services'!B52,'Income_&_Services'!B$151:C$168,2,FALSE))","v":0},{"$f":"IF('Income_&_Services'!D52=\"\",0,VLOOKUP('Income_&_Services'!D52,'Income_&_Services'!D$151:E$231,2,FALSE))","v":0},"#LK","00","DPM",{"$f":"'Income_&_Services'!E52","v":0},{"$f":"'Income_&_Services'!F52","v":0},null,null,null,null,null,null,null,null,null,null,null,null,null,null,null,null,null,null,"-",1,null,52]
[0,0,8,0,0,0,{"$f":"IF('Income_&_Services'!B53=\"\",0,VLOOKUP('Income_&_Services'!B53,'Income_&_Services'!B$151:C$168,2,FALSE))","v":0},{"$f":"IF('Income_&_Services'!D53=\"\",0,VLOOKUP('Income_&_Services'!D53,'Income_&_Services'!D$151:E$231,2,FALSE))","v":0},"#LK","00","DPM",{"$f":"'Income_&_Services'!E53","v":0},{"$f":"'Income_&_Services'!F53","v":0},null,null,null,null,null,null,null,null,null,null,null,null,null,null,null,null,null,null,"-",1,null,53]
[0,0,8,0,0,0,{"$f":"IF('Income_&_Services'!B54=\"\",0,VLOOKUP('Income_&_Services'!B54,'Income_&_Services'!B$151:C$168,2,FALSE))","v":0},{"$f":"IF('Income_&_Services'!D54=\"\",0,VLOOKUP('Income_&_Services'!D54,'Income_&_Services'!D$151:E$231,2,FALSE))","v":0},"#LK","00","DPM",{"$f":"'Income_&_Services'!E54","v":0},{"$f":"'Income_&_Services'!F54","v":0},null,null,null,null,null,null,null,null,null,null,null,null,null,null,null,null,null,null,"-",1,null,54]
[0,0,8,0,0,0,{"$f":"IF('Income_&_Services'!B55=\"\",0,VLOOKUP('Income_&_Services'!B55,'Income_&_Services'!B$151:C$168,2,FALSE))","v":0},{"$f":"IF('Income_&_Services'!D55=\"\",0,VLOOKUP('Income_&_Services'!D55,'Income_&_Services'!D$151:E$231,2,FALSE))","v":0},"#LK","00","DPM",{"$f":"'Income_&_Services'!E55","v":0},{"$f":"'Income_&_Services'!F55","v":0},null,null,null,null,null,null,null,null,null,null,null,null,null,null,null,null,null,null,"-",1,null,55]
[0,0,8,0,0,0,{"$f":"IF('Income_&_Services'!B56=\"\",0,VLOOKUP('Income_&_Services'!B56,'Income_&_Services'!B$151:C$168,2,FALSE))","v":0},{"$f":"IF('Income_&_Services'!D56=\"\",0,VLOOKUP('Income_&_Services'!D56,'Income_&_Services'!D$151:E$231,2,FALSE))","v":0},"#LK","00","DPM",{"$f":"'Income_&_Services'!E56","v":0},{"$f":"'Income_&_Services'!F56","v":0},null,null,null,null,null,null,null,null,null,null,null,null,null,null,null,null,null,null,"-",1,null,56]
[0,0,8,0,0,0,{"$f":"IF('Income_&_Services'!B57=\"\",0,VLOOKUP('Income_&_Services'!B57,'Income_&_Services'!B$151:C$168,2,FALSE))","v":0},{"$f":"IF('Income_&_Services'!D57=\"\",0,VLOOKUP('Income_&_Services'!D57,'Income_&_Services'!D$151:E$231,2,FALSE))","v":0},"#LK","00","DPM",{"$f":"'Income_&_Services'!E57","v":0},{"$f":"'Income_&_Services'!F57","v":0},null,null,null,null,null,null,null,null,null,null,null,null,null,null,null,null,null,null,"-",1,null,57]
[0,0,8,0,0,0,{"$f":"IF('Income_&_Services'!B58=\"\",0,VLOOKUP('Income_&_Services'!B58,'Income_&_Services'!B$151:C$168,2,FALSE))","v":0},{"$f":"IF('Income_&_Services'!D58=\"\",0,VLOOKUP('Income_&_Services'!D58,'Income_&_Services'!D$151:E$231,2,FALSE))","v":0},"#LK","00","DPM",{"$f":"'Income_&_Services'!E58","v":0},{"$f":"'Income_&_Services'!F58","v":0},null,null,null,null,null,null,null,null,null,null,null,null,null,null,null,null,null,null,"-",1,null,58]
[0,0,8,0,0,0,{"$f":"IF('Income_&_Services'!B59=\"\",0,VLOOKUP('Income_&_Services'!B59,'Income_&_Services'!B$151:C$168,2,FALSE))","v":0},{"$f":"IF('Income_&_Services'!D59=\"\",0,VLOOKUP('Income_&_Services'!D59,'Income_&_Services'!D$151:E$231,2,FALSE))","v":0},"#LK","00","DPM",{"$f":"'Income_&_Services'!E59","v":0},{"$f":"'Income_&_Services'!F59","v":0},null,null,null,null,null,null,null,null,null,null,null,null,null,null,null,null,null,null,"-",1,null,59]
[0,0,8,0,0,0,{"$f":"IF('Income_&_Services'!B60=\"\",0,VLOOKUP('Income_&_Services'!B60,'Income_&_Services'!B$151:C$168,2,FALSE))","v":0},{"$f":"IF('Income_&_Services'!D60=\"\",0,VLOOKUP('Income_&_Services'!D60,'Income_&_Services'!D$151:E$231,2,FALSE))","v":0},"#LK","00","DPM",{"$f":"'Income_&_Services'!E60","v":0},{"$f":"'Income_&_Services'!F60","v":0},null,null,null,null,null,null,null,null,null,null,null,null,null,null,null,null,null,null,"-",1,null,60]
[0,0,8,0,0,0,{"$f":"IF('Income_&_Services'!B65>\"\",9990,0)","v":0},{"$f":"IF('Income_&_Services'!D65=\"\",0,VLOOKUP('Income_&_Services'!D65,'Income_&_Services'!D$151:E$231,2,FALSE))","v":0},"#LK","00","DPM",{"$f":"'Income_&_Services'!E65","v":0},{"$f":"'Income_&_Services'!F65","v":0},null,null,null,null,null,null,null,null,null,null,null,null,null,null,null,null,null,null,{"$f":"IF('Income_&_Services'!B65<>\"\",'Income_&_Services'!B65,\"-\")","v":"-"},1,null,65]
[0,0,8,0,0,0,{"$f":"IF('Income_&_Services'!B66>\"\",9990,0)","v":0},{"$f":"IF('Income_&_Services'!D66=\"\",0,VLOOKUP('Income_&_Services'!D66,'Income_&_Services'!D$151:E$231,2,FALSE))","v":0},"#LK","00","DPM",{"$f":"'Income_&_Services'!E66","v":0},{"$f":"'Income_&_Services'!F66","v":0},null,null,null,null,null,null,null,null,null,null,null,null,null,null,null,null,null,null,{"$f":"IF('Income_&_Services'!B66<>\"\",'Income_&_Services'!B66,\"-\")","v":"-"},1,null,66]
[0,0,8,0,0,0,{"$f":"IF('Income_&_Services'!B67>\"\",9990,0)","v":0},{"$f":"IF('Income_&_Services'!D67=\"\",0,VLOOKUP('Income_&_Services'!D67,'Income_&_Services'!D$151:E$231,2,FALSE))","v":0},"#LK","00","DPM",{"$f":"'Income_&_Services'!E67","v":0},{"$f":"'Income_&_Services'!F67","v":0},null,null,null,null,null,null,null,null,null,null,null,null,null,null,null,null,null,null,{"$f":"IF('Income_&_Services'!B67<>\"\",'Income_&_Services'!B67,\"-\")","v":"-"},1,null,67]
[0,0,8,0,0,0,{"$f":"IF('Income_&_Services'!B68>\"\",9990,0)","v":0},{"$f":"IF('Income_&_Services'!D68=\"\",0,VLOOKUP('Income_&_Services'!D68,'Income_&_Services'!D$151:E$231,2,FALSE))","v":0},"#LK","00","DPM",{"$f":"'Income_&_Services'!E68","v":0},{"$f":"'Income_&_Services'!F68","v":0},null,null,null,null,null,null,null,null,null,null,null,null,null,null,null,null,null,null,{"$f":"IF('Income_&_Services'!B68<>\"\",'Income_&_Services'!B68,\"-\")","v":"-"},1,null,68]
[0,0,8,0,0,0,{"$f":"IF('Income_&_Services'!B69>\"\",9990,0)","v":0},{"$f":"IF('Income_&_Services'!D69=\"\",0,VLOOKUP('Income_&_Services'!D69,'Income_&_Services'!D$151:E$231,2,FALSE))","v":0},"#LK","00","DPM",{"$f":"'Income_&_Services'!E69","v":0},{"$f":"'Income_&_Services'!F69","v":0},null,null,null,null,null,null,null,null,null,null,null,null,null,null,null,null,null,null,{"$f":"IF('Income_&_Services'!B69<>\"\",'Income_&_Services'!B69,\"-\")","v":"-"},1,null,69]
[0,0,8,0,0,0,{"$f":"IF('Income_&_Services'!B70>\"\",9990,0)","v":0},{"$f":"IF('Income_&_Services'!D70=\"\",0,VLOOKUP('Income_&_Services'!D70,'Income_&_Services'!D$151:E$231,2,FALSE))","v":0},"#LK","00","DPM",{"$f":"'Income_&_Services'!E70","v":0},{"$f":"'Income_&_Services'!F70","v":0},null,null,null,null,null,null,null,null,null,null,null,null,null,null,null,null,null,null,{"$f":"IF('Income_&_Services'!B70<>\"\",'Income_&_Services'!B70,\"-\")","v":"-"},1,null,70]
[0,0,8,0,0,0,{"$f":"IF('Income_&_Services'!B71>\"\",9990,0)","v":0},{"$f":"IF('Income_&_Services'!D71=\"\",0,VLOOKUP('Income_&_Services'!D71,'Income_&_Services'!D$151:E$231,2,FALSE))","v":0},"#LK","00","DPM",{"$f":"'Income_&_Services'!E71","v":0},{"$f":"'Income_&_Services'!F71","v":0},null,null,null,null,null,null,null,null,null,null,null,null,null,null,null,null,null,null,{"$f":"IF('Income_&_Services'!B71<>\"\",'Income_&_Services'!B71,\"-\")","v":"-"},1,null,71]
[0,0,8,0,0,0,{"$f":"IF('Income_&_Services'!B72>\"\",9990,0)","v":0},{"$f":"IF('Income_&_Services'!D72=\"\",0,VLOOKUP('Income_&_Services'!D72,'Income_&_Services'!D$151:E$231,2,FALSE))","v":0},"#LK","00","DPM",{"$f":"'Income_&_Services'!E72","v":0},{"$f":"'Income_&_Services'!F72","v":0},null,null,null,null,null,null,null,null,null,null,null,null,null,null,null,null,null,null,{"$f":"IF('Income_&_Services'!B72<>\"\",'Income_&_Services'!B72,\"-\")","v":"-"},1,null,72]
[0,0,8,0,0,0,{"$f":"IF('Income_&_Services'!B73>\"\",9990,0)","v":0},{"$f":"IF('Income_&_Services'!D73=\"\",0,VLOOKUP('Income_&_Services'!D73,'Income_&_Services'!D$151:E$231,2,FALSE))","v":0},"#LK","00","DPM",{"$f":"'Income_&_Services'!E73","v":0},{"$f":"'Income_&_Services'!F73","v":0},null,null,null,null,null,null,null,null,null,null,null,null,null,null,null,null,null,null,{"$f":"IF('Income_&_Services'!B73<>\"\",'Income_&_Services'!B73,\"-\")","v":"-"},1,null,73]
[0,0,8,0,0,0,{"$f":"IF('Income_&_Services'!B74>\"\",9990,0)","v":0},{"$f":"IF('Income_&_Services'!D74=\"\",0,VLOOKUP('Income_&_Services'!D74,'Income_&_Services'!D$151:E$231,2,FALSE))","v":0},"#LK","00","DPM",{"$f":"'Income_&_Services'!E74","v":0},{"$f":"'Income_&_Services'!F74","v":0},null,null,null,null,null,null,null,null,null,null,null,null,null,null,null,null,null,null,{"$f":"IF('Income_&_Services'!B74<>\"\",'Income_&_Services'!B74,\"-\")","v":"-"},1,null,74]
[0,0,8,0,0,0,{"$f":"IF('Income_&_Services'!B75>\"\",9990,0)","v":0},{"$f":"IF('Income_&_Services'!D75=\"\",0,VLOOKUP('Income_&_Services'!D75,'Income_&_Services'!D$151:E$231,2,FALSE))","v":0},"#LK","00","DPM",{"$f":"'Income_&_Services'!E75","v":0},{"$f":"'Income_&_Services'!F75","v":0},null,null,null,null,null,null,null,null,null,null,null,null,null,null,null,null,null,null,{"$f":"IF('Income_&_Services'!B75<>\"\",'Income_&_Services'!B75,\"-\")","v":"-"},1,null,75]
[0,0,8,0,0,0,{"$f":"IF('Income_&_Services'!B76>\"\",9990,0)","v":0},{"$f":"IF('Income_&_Services'!D76=\"\",0,VLOOKUP('Income_&_Services'!D76,'Income_&_Services'!D$151:E$231,2,FALSE))","v":0},"#LK","00","DPM",{"$f":"'Income_&_Services'!E76","v":0},{"$f":"'Income_&_Services'!F76","v":0},null,null,null,null,null,null,null,null,null,null,null,null,null,null,null,null,null,null,{"$f":"IF('Income_&_Services'!B76<>\"\",'Income_&_Services'!B76,\"-\")","v":"-"},1,null,76]
[0,0,8,0,0,0,{"$f":"IF('Income_&_Services'!B77>\"\",9990,0)","v":0},{"$f":"IF('Income_&_Services'!D77=\"\",0,VLOOKUP('Income_&_Services'!D77,'Income_&_Services'!D$151:E$231,2,FALSE))","v":0},"#LK","00","DPM",{"$f":"'Income_&_Services'!E77","v":0},{"$f":"'Income_&_Services'!F77","v":0},null,null,null,null,null,null,null,null,null,null,null,null,null,null,null,null,null,null,{"$f":"IF('Income_&_Services'!B77<>\"\",'Income_&_Services'!B77,\"-\")","v":"-"},1,null,77]
[0,0,8,0,0,0,{"$f":"IF('Income_&_Services'!B78>\"\",9990,0)","v":0},{"$f":"IF('Income_&_Services'!D78=\"\",0,VLOOKUP('Income_&_Services'!D78,'Income_&_Services'!D$151:E$231,2,FALSE))","v":0},"#LK","00","DPM",{"$f":"'Income_&_Services'!E78","v":0},{"$f":"'Income_&_Services'!F78","v":0},null,null,null,null,null,null,null,null,null,null,null,null,null,null,null,null,null,null,{"$f":"IF('Income_&_Services'!B78<>\"\",'Income_&_Services'!B78,\"-\")","v":"-"},1,null,78]
[0,0,8,0,0,0,{"$f":"IF('Income_&_Services'!B79>\"\",9990,0)","v":0},{"$f":"IF('Income_&_Services'!D79=\"\",0,VLOOKUP('Income_&_Services'!D79,'Income_&_Services'!D$151:E$231,2,FALSE))","v":0},"#LK","00","DPM",{"$f":"'Income_&_Services'!E79","v":0},{"$f":"'Income_&_Services'!F79","v":0},null,null,null,null,null,null,null,null,null,null,null,null,null,null,null,null,null,null,{"$f":"IF('Income_&_Services'!B79<>\"\",'Income_&_Services'!B79,\"-\")","v":"-"},1,null,79]
[0,0,8,0,0,0,{"$f":"IF('Income_&_Services'!B80>\"\",9990,0)","v":0},{"$f":"IF('Income_&_Services'!D80=\"\",0,VLOOKUP('Income_&_Services'!D80,'Income_&_Services'!D$151:E$231,2,FALSE))","v":0},"#LK","00","DPM",{"$f":"'Income_&_Services'!E80","v":0},{"$f":"'Income_&_Services'!F80","v":0},null,null,null,null,null,null,null,null,null,null,null,null,null,null,null,null,null,null,{"$f":"IF('Income_&_Services'!B80<>\"\",'Income_&_Services'!B80,\"-\")","v":"-"},1,null,80]
[0,0,8,0,0,0,{"$f":"IF('Income_&_Services'!B81>\"\",9990,0)","v":0},{"$f":"IF('Income_&_Services'!D81=\"\",0,VLOOKUP('Income_&_Services'!D81,'Income_&_Services'!D$151:E$231,2,FALSE))","v":0},"#LK","00","DPM",{"$f":"'Income_&_Services'!E81","v":0},{"$f":"'Income_&_Services'!F81","v":0},null,null,null,null,null,null,null,null,null,null,null,null,null,null,null,null,null,null,{"$f":"IF('Income_&_Services'!B81<>\"\",'Income_&_Services'!B81,\"-\")","v":"-"},1,null,81]
[0,0,8,0,0,0,{"$f":"IF('Income_&_Services'!B82>\"\",9990,0)","v":0},{"$f":"IF('Income_&_Services'!D82=\"\",0,VLOOKUP('Income_&_Services'!D82,'Income_&_Services'!D$151:E$231,2,FALSE))","v":0},"#LK","00","DPM",{"$f":"'Income_&_Services'!E82","v":0},{"$f":"'Income_&_Services'!F82","v":0},null,null,null,null,null,null,null,null,null,null,null,null,null,null,null,null,null,null,{"$f":"IF('Income_&_Services'!B82<>\"\",'Income_&_Services'!B82,\"-\")","v":"-"},1,null,82]
[0,0,8,0,0,0,{"$f":"IF('Income_&_Services'!B83>\"\",9990,0)","v":0},{"$f":"IF('Income_&_Services'!D83=\"\",0,VLOOKUP('Income_&_Services'!D83,'Income_&_Services'!D$151:E$231,2,FALSE))","v":0},"#LK","00","DPM",{"$f":"'Income_&_Services'!E83","v":0},{"$f":"'Income_&_Services'!F83","v":0},null,null,null,null,null,null,null,null,null,null,null,null,null,null,null,null,null,null,{"$f":"IF('Income_&_Services'!B83<>\"\",'Income_&_Services'!B83,\"-\")","v":"-"},1,null,83]
[0,0,8,0,0,0,{"$f":"IF('Income_&_Services'!B84>\"\",9990,0)","v":0},{"$f":"IF('Income_&_Services'!D84=\"\",0,VLOOKUP('Income_&_Services'!D84,'Income_&_Services'!D$151:E$231,2,FALSE))","v":0},"#LK","00","DPM",{"$f":"'Income_&_Services'!E84","v":0},{"$f":"'Income_&_Services'!F84","v":0},null,null,null,null,null,null,null,null,null,null,null,null,null,null,null,null,null,null,{"$f":"IF('Income_&_Services'!B84<>\"\",'Income_&_Services'!B84,\"-\")","v":"-"},1,null,84]

{"sheet":"CSV_final","index":29,"n_rows":0,"n_cols":0,"rows_kept":0,"cut":false,"hidden":true,"merged":[]}

{"sheet":"C0IS","index":30,"n_rows":47,"n_cols":6,"rows_kept":47,"cut":false,"hidden":true,"merged":[]}
["SheetCode","FieldCode","FICode","Date","ColNum","Value"]
["C0IS","C_00_IS_04",{"$f":"'COVER SHEET'!$C$17","v":""},{"$f":"'COVER SHEET'!$C$24","v":"00:00:00"},1,{"$f":"'Income Statement'!H20","v":0}]
["C0IS","C_00_IS_05",{"$f":"'COVER SHEET'!$C$17","v":""},{"$f":"'COVER SHEET'!$C$24","v":"00:00:00"},1,{"$f":"'Income Statement'!H21","v":0}]
["C0IS","C_00_IS_01",{"$f":"'COVER SHEET'!$C$17","v":""},{"$f":"'COVER SHEET'!$C$24","v":"00:00:00"},2,{"$f":"'Income Statement'!I11","v":0}]
["C0IS","C_00_IS_02",{"$f":"'COVER SHEET'!$C$17","v":""},{"$f":"'COVER SHEET'!$C$24","v":"00:00:00"},2,{"$f":"'Income Statement'!I12","v":0}]
["C0IS","C_00_IS_03",{"$f":"'COVER SHEET'!$C$17","v":""},{"$f":"'COVER SHEET'!$C$24","v":"00:00:00"},2,{"$f":"'Income Statement'!I17","v":0}]
["C0IS","C_00_IS_05",{"$f":"'COVER SHEET'!$C$17","v":""},{"$f":"'COVER SHEET'!$C$24","v":"00:00:00"},2,{"$f":"'Income Statement'!I21","v":0}]
["C0IS","C_00_IS_06",{"$f":"'COVER SHEET'!$C$17","v":""},{"$f":"'COVER SHEET'!$C$24","v":"00:00:00"},2,{"$f":"'Income Statement'!I22","v":0}]
["C0IS","C_00_IS_07",{"$f":"'COVER SHEET'!$C$17","v":""},{"$f":"'COVER SHEET'!$C$24","v":"00:00:00"},2,{"$f":"'Income Statement'!I23","v":0}]
["C0IS","C_00_IS_08",{"$f":"'COVER SHEET'!$C$17","v":""},{"$f":"'COVER SHEET'!$C$24","v":"00:00:00"},2,{"$f":"'Income Statement'!I27","v":0}]
["C0IS","C_00_IS_09",{"$f":"'COVER SHEET'!$C$17","v":""},{"$f":"'COVER SHEET'!$C$24","v":"00:00:00"},2,{"$f":"'Income Statement'!I28","v":0}]
["C0IS","C_00_IS_10",{"$f":"'COVER SHEET'!$C$17","v":""},{"$f":"'COVER SHEET'!$C$24","v":"00:00:00"},2,{"$f":"'Income Statement'!I29","v":0}]
["C0IS","C_00_IS_11",{"$f":"'COVER SHEET'!$C$17","v":""},{"$f":"'COVER SHEET'!$C$24","v":"00:00:00"},2,{"$f":"'Income Statement'!I30","v":0}]
["C0IS","C_00_IS_12",{"$f":"'COVER SHEET'!$C$17","v":""},{"$f":"'COVER SHEET'!$C$24","v":"00:00:00"},2,{"$f":"'Income Statement'!I34","v":0}]
["C0IS","C_00_IS_13",{"$f":"'COVER SHEET'!$C$17","v":""},{"$f":"'COVER SHEET'!$C$24","v":"00:00:00"},2,{"$f":"'Income Statement'!I35","v":0}]
["C0IS","C_00_IS_14",{"$f":"'COVER SHEET'!$C$17","v":""},{"$f":"'COVER SHEET'!$C$24","v":"00:00:00"},2,{"$f":"'Income Statement'!I36","v":0}]
["C0IS","C_00_IS_15",{"$f":"'COVER SHEET'!$C$17","v":""},{"$f":"'COVER SHEET'!$C$24","v":"00:00:00"},2,{"$f":"'Income Statement'!I37","v":0}]
["C0IS","C_00_IS_19",{"$f":"'COVER SHEET'!$C$17","v":""},{"$f":"'COVER SHEET'!$C$24","v":"00:00:00"},2,{"$f":"'Income Statement'!I52","v":0}]
["C0IS","C_00_IS_20",{"$f":"'COVER SHEET'!$C$17","v":""},{"$f":"'COVER SHEET'!$C$24","v":"00:00:00"},2,{"$f":"'Income Statement'!I55","v":0}]
["C0IS","C_00_IS_21",{"$f":"'COVER SHEET'!$C$17","v":""},{"$f":"'COVER SHEET'!$C$24","v":"00:00:00"},2,{"$f":"'Income Statement'!I59","v":0}]
["C0IS","C_00_IS_22",{"$f":"'COVER SHEET'!$C$17","v":""},{"$f":"'COVER SHEET'!$C$24","v":"00:00:00"},2,{"$f":"'Income Statement'!I60","v":0}]
["C0IS","C_00_IS_27",{"$f":"'COVER SHEET'!$C$17","v":""},{"$f":"'COVER SHEET'!$C$24","v":"00:00:00"},2,{"$f":"'Income Statement'!I73","v":0}]
["C0IS","C_00_IS_28",{"$f":"'COVER SHEET'!$C$17","v":""},{"$f":"'COVER SHEET'!$C$24","v":"00:00:00"},2,{"$f":"'Income Statement'!I75","v":0}]
["C0IS","C_00_IS_29",{"$f":"'COVER SHEET'!$C$17","v":""},{"$f":"'COVER SHEET'!$C$24","v":"00:00:00"},2,{"$f":"'Income Statement'!I77","v":0}]
["C0IS","C_00_IS_34",{"$f":"'COVER SHEET'!$C$17","v":""},{"$f":"'COVER SHEET'!$C$24","v":"00:00:00"},2,{"$f":"'Income Statement'!I90","v":"0"}]
["C0IS","C_00_IS_35",{"$f":"'COVER SHEET'!$C$17","v":""},{"$f":"'COVER SHEET'!$C$24","v":"00:00:00"},2,{"$f":"'Income Statement'!I92","v":0}]
["C0IS","C_00_IS_36",{"$f":"'COVER SHEET'!$C$17","v":""},{"$f":"'COVER SHEET'!$C$24","v":"00:00:00"},2,{"$f":"'Income Statement'!I93","v":0}]
["C0IS","C_00_IS_37",{"$f":"'COVER SHEET'!$C$17","v":""},{"$f":"'COVER SHEET'!$C$24","v":"00:00:00"},2,{"$f":"'Income Statement'!I94","v":0}]
["C0IS","C_00_IS_38",{"$f":"'COVER SHEET'!$C$17","v":""},{"$f":"'COVER SHEET'!$C$24","v":"00:00:00"},2,{"$f":"'Income Statement'!I95","v":0}]
["C0IS","C_00_IS_02a",{"$f":"'COVER SHEET'!$C$17","v":""},{"$f":"'COVER SHEET'!$C$24","v":"00:00:00"},3,{"$f":"'Income Statement'!M12","v":0}]
["C0IS","C_00_IS_07a",{"$f":"'COVER SHEET'!$C$17","v":""},{"$f":"'COVER SHEET'!$C$24","v":"00:00:00"},3,{"$f":"'Income Statement'!M23","v":0}]
["C0IS","C_00_IS_11a",{"$f":"'COVER SHEET'!$C$17","v":""},{"$f":"'COVER SHEET'!$C$24","v":"00:00:00"},3,{"$f":"'Income Statement'!M30","v":0}]
["C0IS","C_00_IS_15a",{"$f":"'COVER SHEET'!$C$17","v":""},{"$f":"'COVER SHEET'!$C$24","v":"00:00:00"},3,{"$f":"'Income Statement'!M37","v":0}]
["C0IS","C_00_IS_16",{"$f":"'COVER SHEET'!$C$17","v":""},{"$f":"'COVER SHEET'!$C$24","v":"00:00:00"},3,{"$f":"'Income Statement'!M40","v":0}]
["C0IS","C_00_IS_17",{"$f":"'COVER SHEET'!$C$17","v":""},{"$f":"'COVER SHEET'!$C$24","v":"00:00:00"},3,{"$f":"'Income Statement'!M43","v":0}]
["C0IS","C_00_IS_18",{"$f":"'COVER SHEET'!$C$17","v":""},{"$f":"'COVER SHEET'!$C$24","v":"00:00:00"},3,{"$f":"'Income Statement'!M46","v":0}]
["C0IS","C_00_IS_20a",{"$f":"'COVER SHEET'!$C$17","v":""},{"$f":"'COVER SHEET'!$C$24","v":"00:00:00"},3,{"$f":"'Income Statement'!M55","v":0}]
["C0IS","C_00_IS_22a",{"$f":"'COVER SHEET'!$C$17","v":""},{"$f":"'COVER SHEET'!$C$24","v":"00:00:00"},3,{"$f":"'Income Statement'!M60","v":0}]
["C0IS","C_00_IS_23",{"$f":"'COVER SHEET'!$C$17","v":""},{"$f":"'COVER SHEET'!$C$24","v":"00:00:00"},3,{"$f":"'Income Statement'!M63","v":0}]
["C0IS","C_00_IS_24",{"$f":"'COVER SHEET'!$C$17","v":""},{"$f":"'COVER SHEET'!$C$24","v":"00:00:00"},3,{"$f":"'Income Statement'!M66","v":0}]
["C0IS","C_00_IS_25",{"$f":"'COVER SHEET'!$C$17","v":""},{"$f":"'COVER SHEET'!$C$24","v":"00:00:00"},3,{"$f":"'Income Statement'!M69","v":0}]
["C0IS","C_00_IS_26",{"$f":"'COVER SHEET'!$C$17","v":""},{"$f":"'COVER SHEET'!$C$24","v":"00:00:00"},3,{"$f":"'Income Statement'!M71","v":0}]
["C0IS","C_00_IS_30",{"$f":"'COVER SHEET'!$C$17","v":""},{"$f":"'COVER SHEET'!$C$24","v":"00:00:00"},3,{"$f":"'Income Statement'!M79","v":0}]
["C0IS","C_00_IS_31",{"$f":"'COVER SHEET'!$C$17","v":""},{"$f":"'COVER SHEET'!$C$24","v":"00:00:00"},3,{"$f":"'Income Statement'!M81","v":0}]
["C0IS","C_00_IS_32",{"$f":"'COVER SHEET'!$C$17","v":""},{"$f":"'COVER SHEET'!$C$24","v":"00:00:00"},3,{"$f":"'Income Statement'!M84","v":0}]
["C0IS","C_00_IS_38a",{"$f":"'COVER SHEET'!$C$17","v":""},{"$f":"'COVER SHEET'!$C$24","v":"00:00:00"},3,{"$f":"'Income Statement'!M95","v":0}]
["C0IS","C_00_IS_39",{"$f":"'COVER SHEET'!$C$17","v":""},{"$f":"'COVER SHEET'!$C$24","v":"00:00:00"},3,{"$f":"'Income Statement'!M97","v":0}]

{"sheet":"Income Statement","index":31,"n_rows":111,"n_cols":17,"rows_kept":111,"cut":false,"hidden":false,"merged":[[51,2,51,7],[107,2,107,12],[88,2,89,7],[90,2,91,7],[101,2,101,12],[104,2,104,12],[52,2,52,7],[53,2,53,7]]}
[]
[null,"INCOME STATEMENT & ITEMS THROUGH STATEMENT OF CHANGES IN EQUITY"]
[]
[null,null,null,"Licence Holder:    ",{"$f":"IF('COVER SHEET'!C15=0,\"\",'COVER SHEET'!C15)","v":""}]
[null,null,null,"Period:    ",{"$f":"IF(OR('COVER SHEET'!C23=0,'COVER SHEET'!C24=0),\" \",(TEXT('COVER SHEET'!C23,\"dd-mm-yyyy\")&\" - \"&(TEXT('COVER SHEET'!C24,\"dd-mm-yyyy\"))))","v":" "},null,{"$f":"Review!F2","v":" Months"}]
[]
[null,null,null,null,null,null,null,null,{"$f":"IF('COVER SHEET'!C28=\"\",\"\",'COVER SHEET'!C28)","v":""},null,null,null,{"$f":"IF('COVER SHEET'!C28=\"\",\"\",'COVER SHEET'!C28)","v":""}]
[null,1,"ISA-related Revenue"]
[]
[null,1.1000000000000001,"Dealing on Own Account Profit or (Loss)"]
[null,null,"a) Dealing Profit or (Loss) - Trading",null,null,null,null,null,{"$f":"-'Input Sheet'!D14","v":0}]
[null,null,"b) Dealing Profit or (Loss) - Long Term Financial Instruments",null,null,null,null,null,{"$f":"-'Input Sheet'!D15","v":0},"Total Dealing Profit or (Loss)",null,null,{"$f":"+I11+I12","v":0}]
[]
[]
[null,1.2,"Commissions Received "]
[null,null,"a) Commissions received on transactions in :"]
[null,null,"          i) locally based schemes",null,null,null,null,null,{"$f":"-'Input Sheet'!D17","v":0}]
[null,null,"          ii) foreign based schemes "]
[null,null,"        - listed on an EU Regulated Market or the"]
[null,null,"  Regulated Market of a developed financial centre",null,null,null,null,{"$f":"-'Input Sheet'!D19","v":0}]
[null,null,"- listed in other markets",null,null,null,null,{"$f":"-'Input Sheet'!D20","v":0},{"$f":"+H21+H20","v":0}]
[null,null,"          iii) unit linked products",null,null,null,null,null,{"$f":"-'Input Sheet'!D21","v":0}]
[null,null,"b) Other commission (equities, debt instruments etc.)",null,null,null,null,null,{"$f":"-'Input Sheet'!D22","v":0},"Total commissions",null,null,{"$f":"SUM(I17:I23)","v":0}]
[]
[]
[null,1.3,"Investment Management and Administration Fees"]
[null,null,"a) Retail clients",null,null,null,null,null,{"$f":"-'Input Sheet'!D24","v":0}]
[null,null,"b) Professional clients",null,null,null,null,null,{"$f":"-'Input Sheet'!D25","v":0}]
[null,null,"c) Collective Investment Schemes",null,null,null,null,null,{"$f":"-'Input Sheet'!D26","v":0}]
[null,null,"d) Other (e.g. Connected companies)",null,null,null,null,null,{"$f":"-'Input Sheet'!D27","v":0},"Total investment management fees",null,null,{"$f":"SUM(I27:I30)","v":0}]
[]
[]
[null,1.4,"Investment Advisory Fees"]
[null,null,"a) Retail clients",null,null,null,null,null,{"$f":"-'Input Sheet'!D29","v":0}]
[null,null,"b) Professional clients",null,null,null,null,null,{"$f":"-'Input Sheet'!D30","v":0}]
[null,null,"c) Collective Investment Schemes",null,null,null,null,null,{"$f":"-'Input Sheet'!D31","v":0}]
[null,null,"d) Other (e.g. Connected companies)",null,null,null,null,null,{"$f":"-'Input Sheet'!D32","v":0},"Total investment advisory fees",null,null,{"$f":"SUM(I34:I37)","v":0}]
[]
[]
[null,1.5,"Other ISA related revenue*",null,null,null,null,null,null,null,null,null,{"$f":"-'Input Sheet'!D33","v":0}]
[]
[]
[null,2,"Non-ISA related revenue**",null,null,null,null,null,null,null,null,null,{"$f":"-'Input Sheet'!D34","v":0}]
[]
[]
[null,3,"Total Revenue",null,null,null,null,null,null,null,null,null,{"$f":"SUM(M12:M43)","v":0}]
[]
[]
[null,4,"Operating Expenses"]
[]
[null,4.0999999999999996,"Commissions and fees"]
[null,null,"a) Commissions that are directly related to the acquisition of gross revenue (derived from investment services activities), paid or payable to third parties",null,null,null,null,null,{"$f":"'Input Sheet'!D39","v":0}]
[null,null,"    i) Fees, brokerage and other charges paid to clearing houses, exchanges and intermediate brokers for the purpose of executing, registering or clearing transactions. ",null,null,null,null,null,{"$f":"'Input Sheet'!D40","v":0}]
[null,null,"    ii) Fees to tied agents",null,null,null,null,null,{"$f":"'Input Sheet'!D41","v":0}]
[null,null,"b) Other Commissions payable (not related to investment services activities)",null,null,null,null,null,{"$f":"'Input Sheet'!D42","v":0},"Total Commissions and Fees",null,null,{"$f":"SUM(I52:I55)","v":0}]
[]
[]
[null,4.2,"Exceptional Items of expenditure"]
[null,null,"a) Allowed by MFSA***",null,null,null,null,null,{"$f":"'Input Sheet'!D44","v":0}]
[null,null,"b) Other",null,null,null,null,null,{"$f":"'Input Sheet'!D45","v":0},"Total Exceptional items",null,null,{"$f":"SUM(I59:I60)","v":0}]
[]
[]
[null,5,"Total Operating Expenses ",null,null,null,null,null,null,null,null,null,{"$f":"M55+M60","v":0}]
[]
[]
[null,6,"Gross Profit",null,null,null,null,null,null,null,null,null,{"$f":"M46-M63","v":0}]
[]
[]
[null,7,"Administrative Expenses",null,null,null,null,null,null,null,null,null,{"$f":"SUM('Input Sheet'!D46:D64)+SUM('Input Sheet'!D70+'Input Sheet'!D71+'Input Sheet'!D72)+IF('Input Sheet'!F81=\"P/L\",'Input Sheet'!D81,\"0\")+IF('Input Sheet'!F83=\"P/L\",'Input Sheet'!D83,\"0\")","v":0}]
[]
[null,8,"Operating Profit (loss)",null,null,null,null,null,null,null,null,null,{"$f":"M66-M69","v":0}]
[]
[null,9,"k) Finance Income",null,null,null,null,null,{"$f":"-'Input Sheet'!D35","v":0}]
[]
[null,10,"l)  Finance Cost",null,null,null,null,null,{"$f":"SUM('Input Sheet'!D66:D69)","v":0}]
[]
[null,11,"m) Fair Value through Profit or Loss",null,null,null,null,null,{"$f":"-'Input Sheet'!D36","v":0}]
[]
[null,12,"Profit (Loss) before tax ",null,null,null,null,null,null,null,null,null,{"$f":"M71+I73-I75+I77","v":0}]
[]
[null,13,"Tax (expense) income",null,null,null,null,null,null,null,null,null,{"$f":"'Input Sheet'!D73","v":0}]
[]
[]
[null,14,"Profit (Loss) after tax ",null,null,null,null,null,null,null,null,null,{"$f":"M79-M81","v":0}]
[]
[]
[null,15,"Other Comprehensive Income"]
[]
[null,null,"n) Fair value movements on Intangible Assets",null,null,null,null,null,null,null,null,null,null,null,null,"gain","losses"]
[null,null,null,null,null,null,null,null,{"$f":"+IF('Input Sheet'!F81=\"OCI\",-'Input Sheet'!D81,\"0\")","v":"0"},null,null,null,null,null,null,{"$f":"IF(I90>0,I90,)","v":"0"},{"$f":"IF(I90<0,I90,0)","v":0}]
[null,null,"o) Gain/Loss on revaluation of available for sale Financial Assets",null,null,null,null,null,null,null,null,null,null,null,null,0,0]
[null,null,null,null,null,null,null,null,{"$f":"-'Input Sheet'!D82","v":0},null,null,null,null,null,null,0,0]
[null,null,"p)  Gain/Loss on revaluation of property",null,null,null,null,null,{"$f":"IF('Input Sheet'!F83=\"OCI\",-'Input Sheet'!D83,0)","v":0},null,null,null,null,null,null,0,0]
[null,null,"q) Other items of income and expense included in other comprehensive income",null,null,null,null,null,{"$f":"-'Input Sheet'!D84","v":0},null,null,null,null,null,null,0,0]
[null,null,"r) Tax income/expense relating to components of other comprehensive income",null,null,null,null,null,{"$f":"-'Input Sheet'!D85","v":0},"Other Comprehensive Income",null,null,{"$f":"SUM(I90+I92+I93+I94+I95)","v":0},null,null,0,0]
[null,null,null,null,null,null,null,null,null,null,null,null,null,null,null,{"$f":"SUM(P90:P95)","v":0},{"$f":"SUM(Q90:Q95)","v":0}]
[null,16,"Total Comprehensive Income",null,null,null,null,null,null,null,null,null,{"$f":"M84+M95","v":0}]
[]
[]
[null,17,"Additonal Details*"]
[null,17.100000000000001,"* Details of 'Other-ISA related revenue':"]
[null,null,{"$f":"IF(M40=0,\" \",'Input Sheet'!F33)","v":" "}]
[]
[null,17.2,"** Details of 'Non-ISA related revenue':"]
[null,null,{"$f":"IF(M43=0,\"\",'Input Sheet'!F34)","v":""}]
[]
[null,17.3,"*** Details of 'Exceptional Items of expenditure Allowed by the MFSA':"]
[null,null,{"$f":"IF(I59=0,\"\",'Input Sheet'!F44)","v":""}]
[]
[]
[null,null,null,null,null,null,null,null,null,null,null,"VALIDATION SHEET 2",{"$f":"-SUM('Input Sheet'!D14:D84)","v":0}]

{"sheet":"Balance Sheet","index":32,"n_rows":78,"n_cols":11,"rows_kept":78,"cut":false,"hidden":true,"merged":[[77,2,77,10],[78,2,78,10],[70,2,70,10],[71,2,71,10],[72,2,72,10],[75,2,75,10],[74,2,74,10]]}
[]
[null,"Balance Sheet"]
[]
[null,null,null,"Licence Holder:    ",{"$f":"IF('COVER SHEET'!C15=0,\"\",'COVER SHEET'!C15)","v":""}]
[null,null,null,"Period:    ",{"$f":"IF(OR('COVER SHEET'!C23=0,'COVER SHEET'!C24=0),\" \",(TEXT('COVER SHEET'!C23,\"dd-mm-yyyy\")&\" - \"&(TEXT('COVER SHEET'!C24,\"dd-mm-yyyy\"))))","v":" "},null,null,{"$f":"Review!F2","v":" Months"},{"$f":"IF(OR('[31]COVER SHEET'!B29=0,'[31]COVER SHEET'!B30=0),\" \",(TEXT('[31]COVER SHEET'!B29,\"dd-mm-yyyy\")&\" - \"&(TEXT('[31]COVER SHEET'!B30,\"dd-mm-yyyy\"))))","v":" "}]
[]
[null,null,null,null,null,null,null,{"$f":"IF('COVER SHEET'!C28=\"\",\"\",'COVER SHEET'!C28)","v":""},null,null,{"$f":"IF('COVER SHEET'!C28=\"\",\"\",'COVER SHEET'!C28)","v":""}]
[]
[null,1,"Assets"]
[]
[null,1.1000000000000001,"Non-current"]
[null,null,"a) Intangible assets",null,null,null,null,{"$f":"'Input Sheet'!D89+'Input Sheet'!D90","v":0}]
[null,null,"b) Property, Plant and Equipment",null,null,null,null,{"$f":"'Input Sheet'!D91","v":0}]
[null,null,"c) Investment Property",null,null,null,null,{"$f":"'Input Sheet'!D92","v":0},"Total Non-current assets",null,{"$f":"SUM(H12:H14)","v":0}]
[]
[null,1.2,"Current"]
[null,null,"a) Inventories",null,null,null,null,{"$f":"'Input Sheet'!D94","v":0}]
[null,null,"b) Deferred Tax Asset",null,null,null,null,{"$f":"'Input Sheet'!D93","v":0}]
[null,null,"c) Financial Instruments - Long Positions",null,null,null,null,{"$f":"'Input Sheet'!AE295","v":0}]
[null,null,"d) Trading Book Debtors",null,null,null,null,{"$f":"SUM('Input Sheet'!F296:F300)","v":0}]
[null,null,"e) Non-Trading Book Debtors",null,null,null,null,{"$f":"SUM('Input Sheet'!D303:D314)+'Input Sheet'!D320+'Input Sheet'!D316+SUM('Input Sheet'!G296:G300)+'Input Sheet'!D321","v":0}]
[null,null,"f) Amounts due from group companies*",null,null,null,null,{"$f":"+'Input Sheet'!D318","v":0},{"$f":"IF(J22<=K22,1,0)","v":1},{"$f":"IF(H22>=1,1,0)","v":0},{"$f":"IF(ISBLANK($C$73),0,1)","v":1}]
[null,null,"g) Amounts due from other connected persons*",null,null,null,null,{"$f":"+'Input Sheet'!D319","v":0},{"$f":"IF(J23<=K23,1,0)","v":1},{"$f":"IF(H23>=1,1,0)","v":0},{"$f":"IF(ISBLANK($C$73),0,1)","v":1}]
[null,null,"h) Amounts receivable from government bodies",null,null,null,null,{"$f":"'Input Sheet'!D325+'Input Sheet'!D326","v":0}]
[null,null,"i) Amounts receivable from financial institutions",null,null,null,null,{"$f":"SUM('Input Sheet'!D328:D329)","v":0}]
[null,null,"j) Bank and cash balances",null,null,null,null,{"$f":"+SUM('Input Sheet'!D332:D333)","v":0}]
[null,null,"k) Other receivables",null,null,null,null,{"$f":"'Input Sheet'!D330+'Input Sheet'!D322+'Input Sheet'!D323","v":0},"Total Current Assets",null,{"$f":"SUM(H17:H27)","v":0}]
[]
[null,1,"Total Assets",null,null,null,null,null,null,null,{"$f":"+K14+K27","v":0}]
[]
[null,2,"Equity"]
[]
[null,2.1,"Equity and Other Reserves"]
[null,null,"a) Called up ordinary share capital ",null,null,null,null,{"$f":"-'Input Sheet'!D357","v":0}]
[null,null,"b) Preference share capital",null,null,null,null,{"$f":"-SUM('Input Sheet'!D358:D364)","v":0}]
[null,null,"c) Investor Compensation Scheme Reserve",null,null,null,null,{"$f":"-'Input Sheet'!D365","v":0}]
[null,null,"d) Share premium account",null,null,null,null,{"$f":"-SUM('Input Sheet'!D367:D371)","v":0}]
[null,null,"e) Revenue reserves",null,"i) as per the previous year's audited accounts",null,null,{"$f":"-'Input Sheet'!D372","v":0}]
[null,null,null,null,"ii) retained profits/ (loss) for the year/ period",null,null,{"$f":"'Income Statement'!M84","v":0}]
[null,null,"f) Other Comprehensive Income  i) as per the previous year's audited accounts",null,null,null,null,{"$f":"-'Input Sheet'!D373","v":0}]
[null,null,"                         ii) other comprehensive income for the year/period",null,null,null,null,{"$f":"'Income Statement'!M95","v":0}]
[null,null,"g) Other reserves",null,null,null,null,{"$f":"-'Input Sheet'!D374-'Input Sheet'!D77-'Input Sheet'!D78","v":0},"Total Equity and other reserves",null,{"$f":"SUM(H34:H42)","v":0}]
[]
[null,2.2000000000000002,"Minority Interest",null,null,null,null,null,null,null,{"$f":"-'Input Sheet'!D377","v":0}]
[]
[null,3,"Liabilities"]
[]
[null,3.1,"Non-current"]
[null,null,"a) Loans: ","i) subordinated",null,null,{"$f":"-SUM('Input Sheet'!D344:D346)","v":0}]
[null,null,"                   ","ii) other",null,null,{"$f":"-'Input Sheet'!D347","v":0},{"$f":"+G49+G50","v":0}]
[null,null,"b) Amounts due to group companies**",null,null,null,null,{"$f":"-'Input Sheet'!D349","v":0}]
[null,null,"c) Amounts due to other connected persons**",null,null,null,null,{"$f":"-'Input Sheet'!D350","v":0}]
[null,null,"d) Other Payables",null,null,null,null,{"$f":"-'Input Sheet'!D351","v":0},"Total Non-current liabilities",null,{"$f":"SUM(H50:H53)","v":0}]
[]
[null,3.2,"Current"]
[null,null,"a) Loans/overdrafts",null,null,null,null,{"$f":"-'Input Sheet'!D337","v":0}]
[null,null,"b) Taxation",null,null,null,null,{"$f":"-'Input Sheet'!D336","v":0}]
[null,null,"c) Amounts due to group companies**",null,null,null,null,{"$f":"-'Input Sheet'!D339","v":0}]
[null,null,"d) Amounts due to other connected persons**",null,null,null,null,{"$f":"-'Input Sheet'!D340","v":0}]
[null,null,"e) Financial instruments - Short Positions ",null,null,null,null,{"$f":"ABS('Input Sheet'!AF295)","v":0}]
[null,null,"f) Other payables",null,null,null,null,{"$f":"-'Input Sheet'!D342+(-'Input Sheet'!D341)","v":0}]
[null,null,"g) Deferred Tax Liability",null,null,null,null,{"$f":"-'Input Sheet'!D352","v":0}]
[null,null,"h) Provisions for liabilities",null,null,null,null,{"$f":"-'Input Sheet'!D353","v":0}]
[null,null,"i) Financial Liabilities",null,null,null,null,{"$f":"-'Input Sheet'!D354","v":0},"Total Current liabilities",null,{"$f":"SUM(H56:H64)","v":0}]
[]
[null,3,"Total Liabilities",null,null,null,null,null,null,null,{"$f":"+K53+K64","v":0}]
[]
[]
[null,4,"Total Equity and Liabilities",null,null,null,null,null,null,null,{"$f":"K42+K66+K44","v":0}]
[]
[null,5,"Additonal Details"]
[null,5.0999999999999996,"* Details of 'Amounts from other connected persons' and/or group Companies':"]
[null,null,{"$f":"IF(H22+H23=0,\"\",'Input Sheet'!F318&\"  --\n\n \"&'Input Sheet'!F319)","v":""}]
[]
[null,5.2,"** Details of 'Amounts due to other connected persons' and/or Amounts due to/ from group Companies':"]
[null,null,{"$f":"IF(H51+H52+H58+H59=0,\"\",'Input Sheet'!F339&\" --\n\"&'Input Sheet'!F340&\" --\n\"&'Input Sheet'!F349&\" --\n\"&'Input Sheet'!F350)","v":""}]
[]
[null,5.3,"Any other details or comments:"]

{"sheet":"C01","index":33,"n_rows":100,"n_cols":6,"rows_kept":100,"cut":false,"hidden":true,"merged":[]}
["SheetCode","FieldCode","FICode","Date","ColNum","Value"]
["C01","C_01_00_010",{"$f":"'COVER SHEET'!$C$17","v":""},{"$f":"'COVER SHEET'!$C$24","v":"00:00:00"},1,{"$f":"'Own Funds Calculation'!E9","v":0}]
["C01","C_01_00_015",{"$f":"'COVER SHEET'!$C$17","v":""},{"$f":"'COVER SHEET'!$C$24","v":"00:00:00"},1,{"$f":"'Own Funds Calculation'!E10","v":0}]
["C01","C_01_00_020",{"$f":"'COVER SHEET'!$C$17","v":""},{"$f":"'COVER SHEET'!$C$24","v":"00:00:00"},1,{"$f":"'Own Funds Calculation'!E11","v":0}]
["C01","C_01_00_030",{"$f":"'COVER SHEET'!$C$17","v":""},{"$f":"'COVER SHEET'!$C$24","v":"00:00:00"},1,{"$f":"'Own Funds Calculation'!E12","v":0}]
["C01","C_01_00_040",{"$f":"'COVER SHEET'!$C$17","v":""},{"$f":"'COVER SHEET'!$C$24","v":"00:00:00"},1,{"$f":"'Own Funds Calculation'!E13","v":0}]
["C01","C_01_00_050",{"$f":"'COVER SHEET'!$C$17","v":""},{"$f":"'COVER SHEET'!$C$24","v":"00:00:00"},1,{"$f":"'Own Funds Calculation'!E14","v":0}]
["C01","C_01_00_060",{"$f":"'COVER SHEET'!$C$17","v":""},{"$f":"'COVER SHEET'!$C$24","v":"00:00:00"},1,{"$f":"'Own Funds Calculation'!E15","v":0}]
["C01","C_01_00_070",{"$f":"'COVER SHEET'!$C$17","v":""},{"$f":"'COVER SHEET'!$C$24","v":"00:00:00"},1,{"$f":"'Own Funds Calculation'!E16","v":0}]
["C01","C_01_00_080",{"$f":"'COVER SHEET'!$C$17","v":""},{"$f":"'COVER SHEET'!$C$24","v":"00:00:00"},1,{"$f":"'Own Funds Calculation'!E17","v":"0"}]
["C01","C_01_00_090",{"$f":"'COVER SHEET'!$C$17","v":""},{"$f":"'COVER SHEET'!$C$24","v":"00:00:00"},1,{"$f":"'Own Funds Calculation'!E18","v":"0"}]
["C01","C_01_00_091",{"$f":"'COVER SHEET'!$C$17","v":""},{"$f":"'COVER SHEET'!$C$24","v":"00:00:00"},1,{"$f":"'Own Funds Calculation'!E19","v":"0"}]
["C01","C_01_00_092",{"$f":"'COVER SHEET'!$C$17","v":""},{"$f":"'COVER SHEET'!$C$24","v":"00:00:00"},1,{"$f":"'Own Funds Calculation'!E20","v":0}]
["C01","C_01_00_130",{"$f":"'COVER SHEET'!$C$17","v":""},{"$f":"'COVER SHEET'!$C$24","v":"00:00:00"},1,{"$f":"'Own Funds Calculation'!E21","v":0}]
["C01","C_01_00_140",{"$f":"'COVER SHEET'!$C$17","v":""},{"$f":"'COVER SHEET'!$C$24","v":"00:00:00"},1,{"$f":"'Own Funds Calculation'!E22","v":0}]
["C01","C_01_00_150",{"$f":"'COVER SHEET'!$C$17","v":""},{"$f":"'COVER SHEET'!$C$24","v":"00:00:00"},1,{"$f":"'Own Funds Calculation'!E23","v":0}]
["C01","C_01_00_160",{"$f":"'COVER SHEET'!$C$17","v":""},{"$f":"'COVER SHEET'!$C$24","v":"00:00:00"},1,{"$f":"'Own Funds Calculation'!E24","v":0}]
["C01","C_01_00_170",{"$f":"'COVER SHEET'!$C$17","v":""},{"$f":"'COVER SHEET'!$C$24","v":"00:00:00"},1,{"$f":"'Own Funds Calculation'!E25","v":0}]
["C01","C_01_00_180",{"$f":"'COVER SHEET'!$C$17","v":""},{"$f":"'COVER SHEET'!$C$24","v":"00:00:00"},1,{"$f":"'Own Funds Calculation'!E26","v":0}]
["C01","C_01_00_200",{"$f":"'COVER SHEET'!$C$17","v":""},{"$f":"'COVER SHEET'!$C$24","v":"00:00:00"},1,{"$f":"'Own Funds Calculation'!E27","v":0}]
["C01","C_01_00_210",{"$f":"'COVER SHEET'!$C$17","v":""},{"$f":"'COVER SHEET'!$C$24","v":"00:00:00"},1,{"$f":"'Own Funds Calculation'!E28","v":0}]
["C01","C_01_00_220",{"$f":"'COVER SHEET'!$C$17","v":""},{"$f":"'COVER SHEET'!$C$24","v":"00:00:00"},1,{"$f":"'Own Funds Calculation'!E29","v":0}]
["C01","C_01_00_230",{"$f":"'COVER SHEET'!$C$17","v":""},{"$f":"'COVER SHEET'!$C$24","v":"00:00:00"},1,{"$f":"'Own Funds Calculation'!E30","v":0}]
["C01","C_01_00_240",{"$f":"'COVER SHEET'!$C$17","v":""},{"$f":"'COVER SHEET'!$C$24","v":"00:00:00"},1,{"$f":"'Own Funds Calculation'!E31","v":0}]
["C01","C_01_00_250",{"$f":"'COVER SHEET'!$C$17","v":""},{"$f":"'COVER SHEET'!$C$24","v":"00:00:00"},1,{"$f":"'Own Funds Calculation'!E32","v":0}]
["C01","C_01_00_260",{"$f":"'COVER SHEET'!$C$17","v":""},{"$f":"'COVER SHEET'!$C$24","v":"00:00:00"},1,{"$f":"'Own Funds Calculation'!E33","v":0}]
["C01","C_01_00_270",{"$f":"'COVER SHEET'!$C$17","v":""},{"$f":"'COVER SHEET'!$C$24","v":"00:00:00"},1,{"$f":"'Own Funds Calculation'!E34","v":0}]
["C01","C_01_00_280",{"$f":"'COVER SHEET'!$C$17","v":""},{"$f":"'COVER SHEET'!$C$24","v":"00:00:00"},1,{"$f":"'Own Funds Calculation'!E35","v":0}]
["C01","C_01_00_285",{"$f":"'COVER SHEET'!$C$17","v":""},{"$f":"'COVER SHEET'!$C$24","v":"00:00:00"},1,{"$f":"'Own Funds Calculation'!E36","v":0}]
["C01","C_01_00_290",{"$f":"'COVER SHEET'!$C$17","v":""},{"$f":"'COVER SHEET'!$C$24","v":"00:00:00"},1,{"$f":"'Own Funds Calculation'!E37","v":0}]
["C01","C_01_00_300",{"$f":"'COVER SHEET'!$C$17","v":""},{"$f":"'COVER SHEET'!$C$24","v":"00:00:00"},1,{"$f":"'Own Funds Calculation'!E38","v":0}]
["C01","C_01_00_310",{"$f":"'COVER SHEET'!$C$17","v":""},{"$f":"'COVER SHEET'!$C$24","v":"00:00:00"},1,{"$f":"'Own Funds Calculation'!E39","v":0}]
["C01","C_01_00_320",{"$f":"'COVER SHEET'!$C$17","v":""},{"$f":"'COVER SHEET'!$C$24","v":"00:00:00"},1,{"$f":"'Own Funds Calculation'!E40","v":0}]
["C01","C_01_00_330",{"$f":"'COVER SHEET'!$C$17","v":""},{"$f":"'COVER SHEET'!$C$24","v":"00:00:00"},1,{"$f":"'Own Funds Calculation'!E41","v":0}]
["C01","C_01_00_340",{"$f":"'COVER SHEET'!$C$17","v":""},{"$f":"'COVER SHEET'!$C$24","v":"00:00:00"},1,{"$f":"'Own Funds Calculation'!E42","v":0}]
["C01","C_01_00_350",{"$f":"'COVER SHEET'!$C$17","v":""},{"$f":"'COVER SHEET'!$C$24","v":"00:00:00"},1,{"$f":"'Own Funds Calculation'!E43","v":0}]
["C01","C_01_00_360",{"$f":"'COVER SHEET'!$C$17","v":""},{"$f":"'COVER SHEET'!$C$24","v":"00:00:00"},1,{"$f":"'Own Funds Calculation'!E44","v":0}]
["C01","C_01_00_370",{"$f":"'COVER SHEET'!$C$17","v":""},{"$f":"'COVER SHEET'!$C$24","v":"00:00:00"},1,{"$f":"'Own Funds Calculation'!E45","v":0}]
["C01","C_01_00_380",{"$f":"'COVER SHEET'!$C$17","v":""},{"$f":"'COVER SHEET'!$C$24","v":"00:00:00"},1,{"$f":"'Own Funds Calculation'!E46","v":0}]
["C01","C_01_00_390",{"$f":"'COVER SHEET'!$C$17","v":""},{"$f":"'COVER SHEET'!$C$24","v":"00:00:00"},1,{"$f":"'Own Funds Calculation'!E47","v":0}]
["C01","C_01_00_400",{"$f":"'COVER SHEET'!$C$17","v":""},{"$f":"'COVER SHEET'!$C$24","v":"00:00:00"},1,{"$f":"'Own Funds Calculation'!E48","v":0}]
["C01","C_01_00_410",{"$f":"'COVER SHEET'!$C$17","v":""},{"$f":"'COVER SHEET'!$C$24","v":"00:00:00"},1,{"$f":"'Own Funds Calculation'!E49","v":0}]
["C01","C_01_00_420",{"$f":"'COVER SHEET'!$C$17","v":""},{"$f":"'COVER SHEET'!$C$24","v":"00:00:00"},1,{"$f":"'Own Funds Calculation'!E50","v":0}]
["C01","C_01_00_430",{"$f":"'COVER SHEET'!$C$17","v":""},{"$f":"'COVER SHEET'!$C$24","v":"00:00:00"},1,{"$f":"'Own Funds Calculation'!E51","v":0}]
["C01","C_01_00_440",{"$f":"'COVER SHEET'!$C$17","v":""},{"$f":"'COVER SHEET'!$C$24","v":"00:00:00"},1,{"$f":"'Own Funds Calculation'!E52","v":0}]
["C01","C_01_00_450",{"$f":"'COVER SHEET'!$C$17","v":""},{"$f":"'COVER SHEET'!$C$24","v":"00:00:00"},1,{"$f":"'Own Funds Calculation'!E53","v":0}]
["C01","C_01_00_460",{"$f":"'COVER SHEET'!$C$17","v":""},{"$f":"'COVER SHEET'!$C$24","v":"00:00:00"},1,{"$f":"'Own Funds Calculation'!E54","v":0}]
["C01","C_01_00_470",{"$f":"'COVER SHEET'!$C$17","v":""},{"$f":"'COVER SHEET'!$C$24","v":"00:00:00"},1,{"$f":"'Own Funds Calculation'!E55","v":0}]
["C01","C_01_00_471",{"$f":"'COVER SHEET'!$C$17","v":""},{"$f":"'COVER SHEET'!$C$24","v":"00:00:00"},1,{"$f":"'Own Funds Calculation'!E56","v":0}]
["C01","C_01_00_472",{"$f":"'COVER SHEET'!$C$17","v":""},{"$f":"'COVER SHEET'!$C$24","v":"00:00:00"},1,{"$f":"'Own Funds Calculation'!E57","v":0}]
["C01","C_01_00_480",{"$f":"'COVER SHEET'!$C$17","v":""},{"$f":"'COVER SHEET'!$C$24","v":"00:00:00"},1,{"$f":"'Own Funds Calculation'!E58","v":"0"}]
["C01","C_01_00_490",{"$f":"'COVER SHEET'!$C$17","v":""},{"$f":"'COVER SHEET'!$C$24","v":"00:00:00"},1,{"$f":"'Own Funds Calculation'!E59","v":0}]
["C01","C_01_00_500",{"$f":"'COVER SHEET'!$C$17","v":""},{"$f":"'COVER SHEET'!$C$24","v":"00:00:00"},1,{"$f":"'Own Funds Calculation'!E60","v":0}]
["C01","C_01_00_510",{"$f":"'COVER SHEET'!$C$17","v":""},{"$f":"'COVER SHEET'!$C$24","v":"00:00:00"},1,{"$f":"'Own Funds Calculation'!E61","v":0}]
["C01","C_01_00_520",{"$f":"'COVER SHEET'!$C$17","v":""},{"$f":"'COVER SHEET'!$C$24","v":"00:00:00"},1,{"$f":"'Own Funds Calculation'!E62","v":0}]
["C01","C_01_00_524",{"$f":"'COVER SHEET'!$C$17","v":""},{"$f":"'COVER SHEET'!$C$24","v":"00:00:00"},1,{"$f":"'Own Funds Calculation'!E63","v":0}]
["C01","C_01_00_529",{"$f":"'COVER SHEET'!$C$17","v":""},{"$f":"'COVER SHEET'!$C$24","v":"00:00:00"},1,{"$f":"'Own Funds Calculation'!E64","v":0}]
["C01","C_01_00_530",{"$f":"'COVER SHEET'!$C$17","v":""},{"$f":"'COVER SHEET'!$C$24","v":"00:00:00"},1,{"$f":"'Own Funds Calculation'!E65","v":0}]
["C01","C_01_00_540",{"$f":"'COVER SHEET'!$C$17","v":""},{"$f":"'COVER SHEET'!$C$24","v":"00:00:00"},1,{"$f":"'Own Funds Calculation'!E66","v":0}]
["C01","C_01_00_550",{"$f":"'COVER SHEET'!$C$17","v":""},{"$f":"'COVER SHEET'!$C$24","v":"00:00:00"},1,{"$f":"'Own Funds Calculation'!E67","v":0}]
["C01","C_01_00_560",{"$f":"'COVER SHEET'!$C$17","v":""},{"$f":"'COVER SHEET'!$C$24","v":"00:00:00"},1,{"$f":"'Own Funds Calculation'!E68","v":0}]
["C01","C_01_00_570",{"$f":"'COVER SHEET'!$C$17","v":""},{"$f":"'COVER SHEET'!$C$24","v":"00:00:00"},1,{"$f":"'Own Funds Calculation'!E69","v":0}]
["C01","C_01_00_580",{"$f":"'COVER SHEET'!$C$17","v":""},{"$f":"'COVER SHEET'!$C$24","v":"00:00:00"},1,{"$f":"'Own Funds Calculation'!E70","v":0}]
["C01","C_01_00_590",{"$f":"'COVER SHEET'!$C$17","v":""},{"$f":"'COVER SHEET'!$C$24","v":"00:00:00"},1,{"$f":"'Own Funds Calculation'!E71","v":"0"}]
["C01","C_01_00_620",{"$f":"'COVER SHEET'!$C$17","v":""},{"$f":"'COVER SHEET'!$C$24","v":"00:00:00"},1,{"$f":"'Own Funds Calculation'!E72","v":"0"}]
["C01","C_01_00_621",{"$f":"'COVER SHEET'!$C$17","v":""},{"$f":"'COVER SHEET'!$C$24","v":"00:00:00"},1,{"$f":"'Own Funds Calculation'!E73","v":"0"}]
["C01","C_01_00_622",{"$f":"'COVER SHEET'!$C$17","v":""},{"$f":"'COVER SHEET'!$C$24","v":"00:00:00"},1,{"$f":"'Own Funds Calculation'!E74","v":0}]
["C01","C_01_00_660",{"$f":"'COVER SHEET'!$C$17","v":""},{"$f":"'COVER SHEET'!$C$24","v":"00:00:00"},1,{"$f":"'Own Funds Calculation'!E75","v":0}]
["C01","C_01_00_670",{"$f":"'COVER SHEET'!$C$17","v":""},{"$f":"'COVER SHEET'!$C$24","v":"00:00:00"},1,{"$f":"'Own Funds Calculation'!E76","v":0}]
["C01","C_01_00_680",{"$f":"'COVER SHEET'!$C$17","v":""},{"$f":"'COVER SHEET'!$C$24","v":"00:00:00"},1,{"$f":"'Own Funds Calculation'!E77","v":0}]
["C01","C_01_00_690",{"$f":"'COVER SHEET'!$C$17","v":""},{"$f":"'COVER SHEET'!$C$24","v":"00:00:00"},1,{"$f":"'Own Funds Calculation'!E78","v":0}]
["C01","C_01_00_700",{"$f":"'COVER SHEET'!$C$17","v":""},{"$f":"'COVER SHEET'!$C$24","v":"00:00:00"},1,{"$f":"'Own Funds Calculation'!E79","v":"0"}]
["C01","C_01_00_710",{"$f":"'COVER SHEET'!$C$17","v":""},{"$f":"'COVER SHEET'!$C$24","v":"00:00:00"},1,{"$f":"'Own Funds Calculation'!E80","v":0}]
["C01","C_01_00_720",{"$f":"'COVER SHEET'!$C$17","v":""},{"$f":"'COVER SHEET'!$C$24","v":"00:00:00"},1,{"$f":"'Own Funds Calculation'!E81","v":0}]
["C01","C_01_00_730",{"$f":"'COVER SHEET'!$C$17","v":""},{"$f":"'COVER SHEET'!$C$24","v":"00:00:00"},1,{"$f":"'Own Funds Calculation'!E82","v":0}]
["C01","C_01_00_740",{"$f":"'COVER SHEET'!$C$17","v":""},{"$f":"'COVER SHEET'!$C$24","v":"00:00:00"},1,{"$f":"'Own Funds Calculation'!E83","v":0}]
["C01","C_01_00_744",{"$f":"'COVER SHEET'!$C$17","v":""},{"$f":"'COVER SHEET'!$C$24","v":"00:00:00"},1,{"$f":"'Own Funds Calculation'!E84","v":0}]
["C01","C_01_00_748",{"$f":"'COVER SHEET'!$C$17","v":""},{"$f":"'COVER SHEET'!$C$24","v":"00:00:00"},1,{"$f":"'Own Funds Calculation'!E85","v":0}]
["C01","C_01_00_750",{"$f":"'COVER SHEET'!$C$17","v":""},{"$f":"'COVER SHEET'!$C$24","v":"00:00:00"},1,{"$f":"'Own Funds Calculation'!E86","v":0}]
["C01","C_01_00_760",{"$f":"'COVER SHEET'!$C$17","v":""},{"$f":"'COVER SHEET'!$C$24","v":"00:00:00"},1,{"$f":"'Own Funds Calculation'!E87","v":0}]
["C01","C_01_00_770",{"$f":"'COVER SHEET'!$C$17","v":""},{"$f":"'COVER SHEET'!$C$24","v":"00:00:00"},1,{"$f":"'Own Funds Calculation'!E88","v":0}]
["C01","C_01_00_780",{"$f":"'COVER SHEET'!$C$17","v":""},{"$f":"'COVER SHEET'!$C$24","v":"00:00:00"},1,{"$f":"'Own Funds Calculation'!E89","v":0}]
["C01","C_01_00_790",{"$f":"'COVER SHEET'!$C$17","v":""},{"$f":"'COVER SHEET'!$C$24","v":"00:00:00"},1,{"$f":"'Own Funds Calculation'!E90","v":0}]
["C01","C_01_00_800",{"$f":"'COVER SHEET'!$C$17","v":""},{"$f":"'COVER SHEET'!$C$24","v":"00:00:00"},1,{"$f":"'Own Funds Calculation'!E91","v":0}]
["C01","C_01_00_810",{"$f":"'COVER SHEET'!$C$17","v":""},{"$f":"'COVER SHEET'!$C$24","v":"00:00:00"},1,{"$f":"'Own Funds Calculation'!E92","v":"0"}]
["C01","C_01_00_840",{"$f":"'COVER SHEET'!$C$17","v":""},{"$f":"'COVER SHEET'!$C$24","v":"00:00:00"},1,{"$f":"'Own Funds Calculation'!E93","v":"0"}]
["C01","C_01_00_841",{"$f":"'COVER SHEET'!$C$17","v":""},{"$f":"'COVER SHEET'!$C$24","v":"00:00:00"},1,{"$f":"'Own Funds Calculation'!E94","v":"0"}]
["C01","C_01_00_842",{"$f":"'COVER SHEET'!$C$17","v":""},{"$f":"'COVER SHEET'!$C$24","v":"00:00:00"},1,{"$f":"'Own Funds Calculation'!E95","v":0}]
["C01","C_01_00_880",{"$f":"'COVER SHEET'!$C$17","v":""},{"$f":"'COVER SHEET'!$C$24","v":"00:00:00"},1,{"$f":"'Own Funds Calculation'!E96","v":0}]
["C01","C_01_00_890",{"$f":"'COVER SHEET'!$C$17","v":""},{"$f":"'COVER SHEET'!$C$24","v":"00:00:00"},1,{"$f":"'Own Funds Calculation'!E97","v":0}]
["C01","C_01_00_900",{"$f":"'COVER SHEET'!$C$17","v":""},{"$f":"'COVER SHEET'!$C$24","v":"00:00:00"},1,{"$f":"'Own Funds Calculation'!E98","v":0}]
["C01","C_01_00_910",{"$f":"'COVER SHEET'!$C$17","v":""},{"$f":"'COVER SHEET'!$C$24","v":"00:00:00"},1,{"$f":"'Own Funds Calculation'!E99","v":0}]
["C01","C_01_00_920",{"$f":"'COVER SHEET'!$C$17","v":""},{"$f":"'COVER SHEET'!$C$24","v":"00:00:00"},1,{"$f":"'Own Funds Calculation'!E100","v":0}]
["C01","C_01_00_930",{"$f":"'COVER SHEET'!$C$17","v":""},{"$f":"'COVER SHEET'!$C$24","v":"00:00:00"},1,{"$f":"'Own Funds Calculation'!E101","v":0}]
["C01","C_01_00_940",{"$f":"'COVER SHEET'!$C$17","v":""},{"$f":"'COVER SHEET'!$C$24","v":"00:00:00"},1,{"$f":"'Own Funds Calculation'!E102","v":"0"}]
["C01","C_01_00_950",{"$f":"'COVER SHEET'!$C$17","v":""},{"$f":"'COVER SHEET'!$C$24","v":"00:00:00"},1,{"$f":"'Own Funds Calculation'!E103","v":0}]
["C01","C_01_00_960",{"$f":"'COVER SHEET'!$C$17","v":""},{"$f":"'COVER SHEET'!$C$24","v":"00:00:00"},1,{"$f":"'Own Funds Calculation'!E104","v":0}]
["C01","C_01_00_970",{"$f":"'COVER SHEET'!$C$17","v":""},{"$f":"'COVER SHEET'!$C$24","v":"00:00:00"},1,{"$f":"'Own Funds Calculation'!E105","v":0}]
["C01","C_01_00_974",{"$f":"'COVER SHEET'!$C$17","v":""},{"$f":"'COVER SHEET'!$C$24","v":"00:00:00"},1,{"$f":"'Own Funds Calculation'!E106","v":0}]
["C01","C_01_00_978",{"$f":"'COVER SHEET'!$C$17","v":""},{"$f":"'COVER SHEET'!$C$24","v":"00:00:00"},1,{"$f":"'Own Funds Calculation'!E107","v":0}]

{"sheet":"Own Funds Calculation","index":34,"n_rows":107,"n_cols":5,"rows_kept":107,"cut":false,"hidden":true,"merged":[[16,0,18,0]]}
[]
[null,"OWN FUNDS CALCULATION"]
[]
[null,null,"Licence Holder:",{"$f":"IF('COVER SHEET'!$C$15=0,\"\",'COVER SHEET'!$C$15)","v":""}]
[null,null,"Period:",{"$f":"IF(OR('COVER SHEET'!C23=0,'COVER SHEET'!C24=0),\" \",(TEXT('COVER SHEET'!C23,\"dd-mm-yyyy\")&\" - \"&(TEXT('COVER SHEET'!C24,\"dd-mm-yyyy\"))))","v":" "},{"$f":"Review!F2","v":" Months"}]
[]
[]
[null,"Rows","Item","Label","Amount"]
[null,"010",1,"OWN FUNDS",{"$f":"SUM(E11+E65+E86)","v":0}]
[null,"015","1.1","TIER 1 CAPITAL",{"$f":"SUM(E11+E65)","v":0}]
[null,"020",{"$f":"C$10&\".1\"","v":"1.1.1"},"COMMON EQUITY TIER 1 CAPITAL",{"$f":"(E12+E21+E26+E27+E28+E29+E30+E31+E32+E38+E42+E45+E46+E47+E51+E52+E53+E54+E55+E56+E57+E58+E59+E60+E61+E62+E63+E64)","v":0}]
[null,"030",{"$f":"C$11&\".1\"","v":"1.1.1.1"},"Capital instruments eligible as CET1 Capital",{"$f":"E13+E15+E16+E20","v":0}]
[null,"040",{"$f":"C$12&\".1\"","v":"1.1.1.1.1"},"Paid up capital instruments ",{"$f":"ABS('Input Sheet'!D357)","v":0}]
[null,"050","1.1.1.1.2*","Memorandum item: Capital instruments not eligible"]
[null,"060",{"$f":"C$12&\".3\"","v":"1.1.1.1.3"},"Share premium",{"$f":"ABS('Input Sheet'!D368)","v":0}]
[null,"070",{"$f":"C$12&\".4\"","v":"1.1.1.1.4"},"(-) Own CET1 instruments",{"$f":"SUM(E17:E19)","v":0}]
[null,"080",{"$f":"C$16&\".1\"","v":"1.1.1.1.4.1"},"(-) Direct holdings of CET1 instruments",{"$f":"IF(AND('Input Sheet'!F399=\"CET 1\",'Input Sheet'!G399=\"Direct\"),-'Input Sheet'!H399,\"0\")","v":"0"}]
[null,"090",{"$f":"C$16&\".2\"","v":"1.1.1.1.4.2"},"(-) Indirect holdings of CET1 instruments",{"$f":"IF(AND('Input Sheet'!F399=\"CET 1\",'Input Sheet'!G399=\"Indirect\"),-'Input Sheet'!H399,\"0\")","v":"0"}]
[null,"091",{"$f":"C$16&\".3\"","v":"1.1.1.1.4.3"},"(-) Synthetic holdings of CET1 instruments",{"$f":"IF(AND('Input Sheet'!F399=\"CET 1\",'Input Sheet'!G399=\"Synthetic\"),-'Input Sheet'!H399,\"0\")","v":"0"}]
[null,"092",{"$f":"C$12&\".5\"","v":"1.1.1.1.5"},"(-) Actual or contingent obligations to purchase own CET1 instruments"]
[null,"130",{"$f":"C$11&\".2\"","v":"1.1.1.2"},"Retained earnings",{"$f":"SUM(E22+E23)","v":0}]
[null,"140",{"$f":"C$21&\".1\"","v":"1.1.1.2.1"},"Previous years retained earnings",{"$f":"-('Input Sheet'!D372)","v":0}]
[null,"150",{"$f":"C$21&\".2\"","v":"1.1.1.2.2"},"Profit or loss eligible",{"$f":"(E24+E25)","v":0}]
[null,"160",{"$f":"C$23&\".1\"","v":"1.1.1.2.2.1"},"Profit or loss attributable to owners of the parent",{"$f":"('Income Statement'!M84)-SUM('Input Sheet'!D77:D78)","v":0}]
[null,"170",{"$f":"C$23&\".2\"","v":"1.1.1.2.2.2"},"(-) Part of interim or year-end profit not eligible",{"$f":"IF('Input Sheet'!D416<0,0,-('Input Sheet'!D416-'Input Sheet'!D418))+IF(OR(SUM('Input Sheet'!D77:D78)<=0,SUM(-'Input Sheet'!D372,'Input Sheet'!D422)<0),0,IF(SUM('Input Sheet'!D77:D78)>SUM('Balance Sheet'!H38+'Input Sheet'!D418),SUM('Input Sheet'!D77:D78)-SUM('Balance Sheet'!H38+'Input Sheet'!D418),0))","v":0}]
[null,"180",{"$f":"C$11&\".3\"","v":"1.1.1.3"},"Accumulated other comprehensive income",{"$f":"SUM('Balance Sheet'!H40:H41)","v":0}]
[null,"200",{"$f":"C$11&\".4\"","v":"1.1.1.4"},"Other reserves",{"$f":"-('Input Sheet'!D374)","v":0}]
[null,"210",{"$f":"C$11&\".5\"","v":"1.1.1.5"},"Funds for general banking risk"]
[null,"220",{"$f":"C$11&\".6\"","v":"1.1.1.6"},"Transitional adjustments due to grandfathered CET1 Capital instruments",{"$f":"'Transitional Provisions'!F15+'Transitional Provisions'!F12","v":0}]
[null,"230",{"$f":"C$11&\".7\"","v":"1.1.1.7"},"Minority interest given recognition in CET1 capital",{"$f":"-'Input Sheet'!D377","v":0}]
[null,"240",{"$f":"C$11&\".8\"","v":"1.1.1.8"},"Transitional adjustments due to additional minority interests",{"$f":"'Transitional Provisions'!F16","v":0}]
[null,"250",{"$f":"C$11&\".9\"","v":"1.1.1.9"},"Adjustments to CET1 due to prudential filters",{"$f":"SUM(E33+E34+E35+E36+E37)","v":0}]
[null,"260",{"$f":"C$32&\".1\"","v":"1.1.1.9.1"},"(-) Increases in equity resulting from securitised assets"]
[null,"270",{"$f":"C$32&\".2\"","v":"1.1.1.9.2"},"Cash flow hedge reserve"]
[null,"280",{"$f":"C$32&\".3\"","v":"1.1.1.9.3"},"Cumulative gains and losses due to changes in own credit risk on fair valued liabilities"]
[null,"285",{"$f":"C$32&\".4\"","v":"1.1.1.9.4"},"Fair value gains and losses arising from the institution's own credit risk related to derivative liabilities"]
[null,"290",{"$f":"C$32&\".5\"","v":"1.1.1.9.5"},"(-) Value adjustments due to the requirements for prudent valuation"]
[null,"300",{"$f":"C$11&\".10\"","v":"1.1.1.10"},"(-) Goodwill",{"$f":"(E39+E40+E41)","v":0}]
[null,"310",{"$f":"C$38&\".1\"","v":"1.1.1.10.1"},"(-) Goodwill accounted for as intangible asset",{"$f":"IF(D39='Input Sheet'!F89,-'Input Sheet'!D89,0)","v":0}]
[null,"320",{"$f":"C$38&\".2\"","v":"1.1.1.10.2"},"(-) Goodwill included in the valuation of significant investments",{"$f":"IF(D40='Input Sheet'!F89,-'Input Sheet'!D89,0)","v":0}]
[null,"330",{"$f":"C$38&\".3\"","v":"1.1.1.10.3"},"Deferred tax liabilities associated to goodwill"]
[null,"340",{"$f":"C$11&\".11\"","v":"1.1.1.11"},"(-) Other intangible assets",{"$f":"SUM(E43+E44)","v":0}]
[null,"350",{"$f":"C$42&\".1\"","v":"1.1.1.11.1"},"(-) Other intangible assets gross amount",{"$f":"(-'Input Sheet'!D90)","v":0}]
[null,"360",{"$f":"C$42&\".2\"","v":"1.1.1.11.2"},"Deferred tax liabilities associated to other intangible assets"]
[null,"370",{"$f":"C$11&\".12\"","v":"1.1.1.12"},"(-) Deferred tax assets that rely on future profitability",{"$f":"-ABS('Memorandum Items'!E12)","v":0}]
[null,"380",{"$f":"C$11&\".13\"","v":"1.1.1.13"},"(-) IRB shortfall of credit risk adjustments to expected losses"]
[null,"390",{"$f":"C$11&\".14\"","v":"1.1.1.14"},"(-)Defined benefit pension fund assets",{"$f":"SUM(E48+E49+E50)","v":0}]
[null,"400",{"$f":"C$47&\".1\"","v":"1.1.1.14.1"},"(-)Defined benefit pension fund assets gross amount"]
[null,"410",{"$f":"C$47&\".2\"","v":"1.1.1.14.2"},"Deferred tax liabilities associated to defined benefit pension fund assets"]
[null,"420",{"$f":"C$47&\".3\"","v":"1.1.1.14.3"},"Defined benefit pension fund assets which the institution has an unrestricted ability to use"]
[null,"430",{"$f":"C$11&\".15\"","v":"1.1.1.15"},"(-) Reciprocal cross holdings in CET1 Capital"]
[null,"440",{"$f":"C$11&\".16\"","v":"1.1.1.16"},"(-) Excess of deduction from AT1 items over AT1 Capital",{"$f":"-E83","v":0}]
[null,"450",{"$f":"C$11&\".17\"","v":"1.1.1.17"},"(-) Qualifying holdings outside the financial sector which can alternatively be subject to a 1.250% risk weight"]
[null,"460",{"$f":"C$11&\".18\"","v":"1.1.1.18"},"(-) Securitisation positions which can alternatively be subject to a 1.250% risk weight"]
[null,"470",{"$f":"C$11&\".19\"","v":"1.1.1.19"},"(-) Free deliveries which can alternatively be subject to a 1.250% risk weight",{"$f":"-(SUM(IF('Input Sheet'!F307='Input Sheet'!N306,'Input Sheet'!D307,\"0\")+IF('Input Sheet'!I314='Input Sheet'!N306,'Input Sheet'!G314,\"0\")))","v":0}]
[null,"471",{"$f":"C$11&\".20\"","v":"1.1.1.20"},"(-) Positions in a basket for which an institution cannot determine the risk weight under the IRB approach, and can alternatively be subject to a 1.250% risk weight"]
[null,"472",{"$f":"C$11&\".21\"","v":"1.1.1.21"},"(-) Equity exposures under an internal models approach which can alternatively be subject to a 1.250% risk weight"]
[null,"480",{"$f":"C$11&\".22\"","v":"1.1.1.22"},"(-) CET1 instruments of financial sector entites where the institution does not have a significant investment",{"$f":"IF('Input Sheet'!F407=\"CET 1\",-'Input Sheet'!D407,\"0\")","v":"0"}]
[null,"490",{"$f":"C$11&\".23\"","v":"1.1.1.23"},"(-) Deductible deferred tax assets that rely on future profitability and arise from temporary differences",{"$f":"IF('Memorandum Items'!E10>0,IF('Memorandum Items'!E13>'Memorandum Items'!E34,-('Memorandum Items'!E13-'Memorandum Items'!E34),\"0\"),0)","v":0}]
[null,"500",{"$f":"C$11&\".24\"","v":"1.1.1.24"},"(-) CET1 instruments of financial sector entities where the institution has a significant investment"]
[null,"510",{"$f":"C$11&\".25\"","v":"1.1.1.25"},"(-) Amount exceeding the 17.65% threshold",{"$f":"IF('Memorandum Items'!E10>0,IF('Memorandum Items'!E34>'Memorandum Items'!E35,-('Memorandum Items'!E34-'Memorandum Items'!E35),0),0)","v":0}]
[null,"520",{"$f":"C$11&\".26\"","v":"1.1.1.26"},"Other transitional adjustments to CET1 Capital",{"$f":"'Transitional Provisions'!F21","v":0}]
[null,"524",{"$f":"C$11&\".27\"","v":"1.1.1.27"},"Additional deductions of CET1 Capital due to Article 3 CRR"]
[null,"529",{"$f":"C$11&\".28\"","v":"1.1.1.28"},"CET1 capital elements or deductions - other"]
[null,"530",{"$f":"C$10&\".2\"","v":"1.1.2"},"ADDITIONAL TIER 1 CAPITAL",{"$f":"E66+E75+E76+E77+E78+E79+E80+E81+E82+E83+E84+E85","v":0}]
[null,"540",{"$f":"C$65&\".1\"","v":"1.1.2.1"},"Capital instruments eligible as AT1 Capital",{"$f":"(E67+E69+E70+E74)","v":0}]
[null,"550",{"$f":"C$66&\".1\"","v":"1.1.2.1.1"},"Paid up capital instruments"]
[null,"560","1.2.1.2*","Memorandum item: Capital instruments not eligible"]
[null,"570",{"$f":"C$66&\".3\"","v":"1.1.2.1.3"},"Share premium",{"$f":"ABS('Input Sheet'!D369)","v":0}]
[null,"580",{"$f":"C$66&\".4\"","v":"1.1.2.1.4"},"(-) Own AT1 instruments",{"$f":"SUM(E71:E73)","v":0}]
[null,"590",{"$f":"C$70&\".1\"","v":"1.1.2.1.4.1"},"(-) Direct holdings of AT1 instruments",{"$f":"IF(AND('Input Sheet'!F399=\"AT 1\",'Input Sheet'!G399=\"Direct\"),-'Input Sheet'!H399,\"0\")","v":"0"}]
[null,"620",{"$f":"C$70&\".2\"","v":"1.1.2.1.4.2"},"(-) Indirect holdings of AT1 instruments",{"$f":"IF(AND('Input Sheet'!F399=\"AT 1\",'Input Sheet'!G399=\"Indirect\"),-'Input Sheet'!H399,\"0\")","v":"0"}]
[null,"621",{"$f":"C$70&\".3\"","v":"1.1.2.1.4.3"},"(-) Synthetic holdings of AT1 instruments",{"$f":"IF(AND('Input Sheet'!F399=\"AT 1\",'Input Sheet'!G399=\"Synthetic\"),-'Input Sheet'!H399,\"0\")","v":"0"}]
[null,"622",{"$f":"C$66&\".5\"","v":"1.1.2.1.5"},"(-) Actual or contingent obligations to purchase own AT1 instruments"]
[null,"660",{"$f":"C$65&\".2\"","v":"1.1.2.2"},"Transitional adjustments due to grandfathered AT1 Capital instruments",{"$f":"'Transitional Provisions'!G12+'Transitional Provisions'!G15","v":0}]
[null,"670",{"$f":"C$65&\".3\"","v":"1.1.2.3"},"Instruments issued by subsidiaries that are given recognition in AT1 Capital"]
[null,"680",{"$f":"C$65&\".4\"","v":"1.1.2.4"},"Transitional adjustments due to additional recognition in AT1 Capital of instruments issued by subsidiaries",{"$f":"'Transitional Provisions'!G16","v":0}]
[null,"690",{"$f":"C$65&\".5\"","v":"1.1.2.5"},"(-) Reciprocal cross holdings in AT1 Capital"]
[null,"700",{"$f":"C$65&\".6\"","v":"1.1.2.6"},"(-) AT1 instruments of financial sector entities where the institution does not have a significant investment",{"$f":"IF('Input Sheet'!F407=\"AT 1\",-'Input Sheet'!D407,\"0\")","v":"0"}]
[null,"710",{"$f":"C$65&\".7\"","v":"1.1.2.7"},"(-) AT1 instruments of financial sector entities where the institution has a significant investment"]
[null,"720",{"$f":"C$65&\".8\"","v":"1.1.2.8"},"(-) Excess of deduction from T2 items over T2 Capital ",{"$f":"-E105","v":0}]
[null,"730",{"$f":"C$65&\".9\"","v":"1.1.2.9"},"Other transitional adjustments to AT1 Capital",{"$f":"'Transitional Provisions'!G21","v":0}]
[null,"740",{"$f":"C$65&\".10\"","v":"1.1.2.10"},"Excess of deduction from AT1 items over AT1 Capital (deducted in CET1)",{"$f":"-MIN(E67+E69+E70+E74+E75+E76+E77+E78+E79+E80+E81+E82,0)","v":0}]
[null,"744",{"$f":"C$65&\".11\"","v":"1.1.2.11"},"Additional deductions of AT1 Capital due to Article 3 CRR"]
[null,"748",{"$f":"C$65&\".12\"","v":"1.1.2.12"}," AT1 capital elements or deductions - other "]
[null,"750",{"$f":"C$9&\".2\"","v":"1.2"},"TIER 2 CAPITAL",{"$f":"E87+E96+E97+E98+E99+E100+E101+E102+E103+E104+E105+E106+E107","v":0}]
[null,"760",{"$f":"C$86&\".1\"","v":"1.2.1"},"Capital instruments and subordinated loans eligible as T2 Capital",{"$f":"E88+E91+E90+E95","v":0}]
[null,"770",{"$f":"C87&\".1\"","v":"1.2.1.1"},"Paid up capital instruments  and subordinated loans ",{"$f":"SUM(ABS('Input Sheet'!D361)+ABS('Input Sheet'!D363))+IF('Subordinated Loan Working'!I31=0,'Subordinated Loan Working'!I10,'Subordinated Loan Working'!I31)+IF('Subordinated Loan Working'!I63=0,'Subordinated Loan Working'!I42,'Subordinated Loan Working'!I63)+IF('Subordinated Loan Working'!I95=0,'Subordinated Loan Working'!I74,'Subordinated Loan Working'!I95)+ABS('Input Sheet'!D359)+ABS('Input Sheet'!D360)","v":0}]
[null,"780","1.3.1.2*","Memorandum item: Capital instruments and subordinated loans not eligible"]
[null,"790",{"$f":"C$87&\".3\"","v":"1.2.1.3"},"Share premium",{"$f":"ABS('Input Sheet'!D370)","v":0}]
[null,"800",{"$f":"C$87&\".4\"","v":"1.2.1.4"},"(-) Own T2 instruments",{"$f":"SUM(E92+E93+E94)","v":0}]
[null,"810",{"$f":"C$91&\".1\"","v":"1.2.1.4.1"},"(-) Direct holdings of T2 instruments",{"$f":"IF(AND('Input Sheet'!F399=\"T2\",'Input Sheet'!G399=\"Direct\"),-'Input Sheet'!H399,\"0\")","v":"0"}]
[null,"840",{"$f":"C$91&\".2\"","v":"1.2.1.4.2"},"(-) Indirect holdings of T2 instruments",{"$f":"IF(AND('Input Sheet'!F399=\"T2\",'Input Sheet'!G399=\"Indirect\"),-'Input Sheet'!H399,\"0\")","v":"0"}]
[null,"841",{"$f":"C$91&\".3\"","v":"1.2.1.4.3"},"(-) Synthetic holdings of T2 instruments",{"$f":"IF(AND('Input Sheet'!F399=\"T2\",'Input Sheet'!G399=\"Synthetic\"),-'Input Sheet'!H399,\"0\")","v":"0"}]
[null,"842",{"$f":"C$87&\".5\"","v":"1.2.1.5"},"(-) Actual or contingent obligations to purchase own T2 instruments"]
[null,"880",{"$f":"C$86&\".2\"","v":"1.2.2"},"Transitional adjustments due to grandfathered T2 Capital instruments and subordinated loans ",{"$f":"'Transitional Provisions'!H15+'Transitional Provisions'!H12","v":0}]
[null,"890",{"$f":"C$86&\".3\"","v":"1.2.3"},"Instruments issued by subsidiaries that are given recognition in T2 Capital"]
[null,"900",{"$f":"C$86&\".4\"","v":"1.2.4"},"Transitional adjustments due to additional recognition in T2 Capital of instruments issued by subsidiaries",{"$f":"'Transitional Provisions'!H16","v":0}]
[null,"910",{"$f":"C$86&\".5\"","v":"1.2.5"},"IRB Excess of provisions over expected losses eligible"]
[null,"920",{"$f":"C$86&\".6\"","v":"1.2.6"},"SA General credit risk adjustments"]
[null,"930",{"$f":"C$86&\".7\"","v":"1.2.7"},"(-) Reciprocal cross holdings in T2 Capital"]
[null,"940",{"$f":"C$86&\".8\"","v":"1.2.8"},"(-) T2 instruments of financial sector entities where the institution does not have a significant investment",{"$f":"IF('Input Sheet'!F407=\"T2\",-'Input Sheet'!D407,\"0\")","v":"0"}]
[null,"950",{"$f":"C$86&\".9\"","v":"1.2.9"},"(-) T2 instruments of financial sector entities where the institution has a significant investment"]
[null,"960",{"$f":"C$86&\".10\"","v":"1.2.10"},"Other transitional adjustments to T2 Capital",{"$f":"'Transitional Provisions'!H21","v":0}]
[null,"970",{"$f":"C$86&\".11\"","v":"1.2.11"},"Excess of deduction from T2 items over T2 Capital (deducted in AT1)",{"$f":"-MIN(E88+E90+E96+E97+E98+E99+E100+E101+E102+E103+E104+E91+E95,0)","v":0}]
[null,"974",{"$f":"C$86&\".12\"","v":"1.2.12"},"Additional deductions of T2 Capital due to Article 3 CRR"]
[null,"978",{"$f":"C$86&\".13\"","v":"1.2.13"},"T2 capital elements or deductions - other"]

{"sheet":"Memorandum Items","index":35,"n_rows":131,"n_cols":5,"rows_kept":131,"cut":false,"hidden":true,"merged":[]}
[]
[null,"MEMORANDUM ITEMS (CA4)"]
[]
[null,null,"Licence Holder:",{"$f":"IF('COVER SHEET'!$C$15=0,\"\",'COVER SHEET'!$C$15)","v":""}]
[null,null,"Period:",{"$f":"IF(OR('COVER SHEET'!$C$23=0,'COVER SHEET'!$C$24=0),\" \",(TEXT('COVER SHEET'!$C$23,\"dd-mm-yyyy\")&\" - \"&(TEXT('COVER SHEET'!$C$24,\"dd-mm-yyyy\"))))","v":" "},{"$f":"Review!F2","v":" Months"}]
[]
[]
[null,"Row","ID","Item","Amount"]
[null,"Deferred tax assets and liabilities"]
[null,"010",1,"Total deferred tax assets",{"$f":"'Input Sheet'!D93","v":0}]
[null,"020",{"$f":"C$10&\".1\"","v":"1.1"},"Deferred tax assets that do not rely on future profitability"]
[null,"030",{"$f":"C$10&\".2\"","v":"1.2"},"Deferred tax assets that rely on future profitability and do not arise from temporary differences"]
[null,"040",{"$f":"C$10&\".3\"","v":"1.3"},"Deferred tax assets that rely on future profitability and arise from temporary differences"]
[null,"050",2,"Total deferred tax liabilities",{"$f":"-'Input Sheet'!D352","v":0}]
[null,"060",{"$f":"C$14&\".1\"","v":"2.1"},"Deferred tax liabilities non deductible from deferred tax assets that rely on future profitability",{"$f":"SUM('Own Funds Calculation'!E41+'Own Funds Calculation'!E44+'Own Funds Calculation'!E49)","v":0}]
[null,"070",{"$f":"C$14&\".2\"","v":"2.2"},"Deferred tax liabilities deductible from deferred tax assets that rely on future profitability",{"$f":"SUM(E17:E18)","v":0}]
[null,"080",{"$f":"C$16&\".1\"","v":"2.2.1"},"Deductible deferred tax liabilities associated with deferred tax assets that rely on future profitability and do not arise from temporary differences"]
[null,"090",{"$f":"C$16&\".2\"","v":"2.2.2"},"Deductible deferred tax liabilities associated with deferred tax assets that rely on future profitability and arise from temporary differences"]
[null,"Credit risk adjustments and expected losses"]
[null,"100",3,"IRB excess (+) or shortfall (-) of credit risk adjustments, additional value adjustments and other own funds reductions to expected losses for non defaulted exposures",{"$f":"SUM(E21+E25)","v":0}]
[null,"110",{"$f":"C$20&\".1\"","v":"3.1"},"Total credit risk adjustments, additional value adjustments and other own funds reductions eligible for inclusion in the calculation of the expected loss amount",{"$f":"SUM(E22+E23+E24)","v":0}]
[null,"120",{"$f":"C$21&\".1\"","v":"3.1.1"},"General credit risk adjustments"]
[null,"130",{"$f":"C$21&\".2\"","v":"3.1.2"},"Specific credit risk adjustments"]
[null,"131",{"$f":"C$21&\".3\"","v":"3.1.3"},"Additional value adjustments and other own funds reductions"]
[null,"140",{"$f":"C$20&\".2\"","v":"3.2"},"Total expected losses eligible "]
[null,"145",4,"IRB excess (+) or shortfall (-) of specific credit risk adjustments to expected losses for defaulted exposures"]
[null,"150",{"$f":"C$26&\".1\"","v":"4.1"},"Specific credit risk adjustments and positions treated similarily"]
[null,"155",{"$f":"C$26&\".2\"","v":"4.2"},"Total expected losses eligible "]
[null,"160",5,"Risk weighted exposure amounts for calculating the cap to the excess of provision eligible as T2"]
[null,"170",6,"Total gross provisions eligible for inclusion in T2 capital"]
[null,"180",7,"Risk weighted exposure amounts for calculating the cap to the provision eligible as T2"]
[null,"Thresholds for Common Equity Tier 1 deductions"]
[null,190,8,"Threshold non deductible of holdings in relevant entities where an institution does not have a significant investment",{"$f":"10%*('Own Funds Calculation'!E12+'Own Funds Calculation'!E21+'Own Funds Calculation'!E26+'Own Funds Calculation'!E28+'Own Funds Calculation'!E30+'Own Funds Calculation'!E32-'Own Funds Calculation'!E38-'Own Funds Calculation'!E42-'Own Funds Calculation'!E45-'Own Funds Calculation'!E46-'Own Funds Calculation'!E47-'Own Funds Calculation'!E51-'Own Funds Calculation'!E53-'Own Funds Calculation'!E54-'Own Funds Calculation'!E55)","v":0}]
[null,200,9,"10% CET1 threshold",{"$f":"10%*('Own Funds Calculation'!E12+'Own Funds Calculation'!E21+'Own Funds Calculation'!E26+'Own Funds Calculation'!E27+'Own Funds Calculation'!E28+'Own Funds Calculation'!E29+'Own Funds Calculation'!E30+'Own Funds Calculation'!E32+'Own Funds Calculation'!E38+'Own Funds Calculation'!E42+'Own Funds Calculation'!E45+'Own Funds Calculation'!E46+'Own Funds Calculation'!E47+'Own Funds Calculation'!E51+'Own Funds Calculation'!E54+'Own Funds Calculation'!E55+'Own Funds Calculation'!E56+'Own Funds Calculation'!E57+'Own Funds Calculation'!E58)","v":0}]
[null,210,10,"17.65% CET1 threshold",{"$f":"17.65%*('Own Funds Calculation'!E12+'Own Funds Calculation'!E21+'Own Funds Calculation'!E26+'Own Funds Calculation'!E27+'Own Funds Calculation'!E28+'Own Funds Calculation'!E29+'Own Funds Calculation'!E30+'Own Funds Calculation'!E31+'Own Funds Calculation'!E32+'Own Funds Calculation'!E38+'Own Funds Calculation'!E42+'Own Funds Calculation'!E45+'Own Funds Calculation'!E46+'Own Funds Calculation'!E47+'Own Funds Calculation'!E51+'Own Funds Calculation'!E54+'Own Funds Calculation'!E55+'Own Funds Calculation'!E56+'Own Funds Calculation'!E57+'Own Funds Calculation'!E58+'Own Funds Calculation'!E52+'Own Funds Calculation'!E53+'Own Funds Calculation'!E60-SUM(E12:E13))","v":0}]
[null,220,11,"Eligible capital for the purposes of qualifying holdings outside the financial sector and large exposures",{"$f":"SUM('Own Funds Calculation'!E11+'Own Funds Calculation'!E65+IF('Own Funds Calculation'!E86>1/3*('Own Funds Calculation'!E11+'Own Funds Calculation'!E65),1/3*('Own Funds Calculation'!E11+'Own Funds Calculation'!E65),'Own Funds Calculation'!E86))","v":0}]
[null,"Investments in the capital of financial sector entities where the institution does not have a significant investment"]
[null,230,12,"Holdings of CET1 capital of financial sector entities where the institution does not have a significant investment, net of short positions",{"$f":"SUM(E39+E42+E45)","v":0}]
[null,240,{"$f":"C38&\".1\"","v":"12.1"},"Direct holdings of CET1 capital of financial sector entities where the institution does not have a significant investment",{"$f":"SUM(E40:E41)","v":0}]
[null,250,{"$f":"C39&\".1\"","v":"12.1.1"},"Gross direct holdings of CET1 capital of financial sector entities where the institution does not have a significant investment"]
[null,260,{"$f":"C39&\".2\"","v":"12.1.2"},"(-) Permitted offsetting short positions in relation to the direct gross holdings included above"]
[null,270,{"$f":"C38&\".2\"","v":"12.2"},"Indirect holdings of CET1 capital of financial sector entities where the institution does not have a significant investment",{"$f":"SUM(E43+E44)","v":0}]
[null,280,{"$f":"C42&\".1\"","v":"12.2.1"},"Gross indirect holdings of CET1 capital of financial sector entities where the institution does not have a significant investment"]
[null,290,{"$f":"C42&\".2\"","v":"12.2.2"},"(-) Permitted offsetting short positions in relation to the indirect gross holdings included above"]
[null,"291",{"$f":"C38&\".3\"","v":"12.3"},"Synthetic holdings of CET1 capital of financial sector entities where the institution does not have a significant investment",{"$f":"SUM(E46+E47)","v":0}]
[null,"292",{"$f":"C45&\".1\"","v":"12.3.1"},"Gross synthetic holdings of CET1 capital of financial sector entities where the institution does not have a significant investment"]
[null,"293",{"$f":"C45&\".2\"","v":"12.3.2"},"(-) Permitted offsetting short positions in relation to the synthetic gross holdings included above"]
[null,300,13,"Holdings of AT1 capital of financial sector entities where the institution does not have a significant investment, net of short positions ",{"$f":"SUM(E49+E52+E55)","v":0}]
[null,310,{"$f":"C48&\".1\"","v":"13.1"},"Direct holdings of AT1 capital of financial sector entities where the institution does not have a significant investment",{"$f":"SUM(E50+E51)","v":0}]
[null,320,{"$f":"C49&\".1\"","v":"13.1.1"},"Gross direct holdings of AT1 capital of financial sector entities where the institution does not have a significant investment"]
[null,330,{"$f":"C49&\".2\"","v":"13.1.2"},"(-) Permitted offsetting short positions in relation to the direct gross holdings included above"]
[null,340,{"$f":"C48&\".2\"","v":"13.2"},"Indirect holdings of AT1 capital of financial sector entities where the institution does not have a significant investment",{"$f":"SUM(E53+E54)","v":0}]
[null,350,{"$f":"C52&\".1\"","v":"13.2.1"},"Gross indirect holdings of AT1 capital of financial sector entities where the institution does not have a significant investment"]
[null,360,{"$f":"C52&\".2\"","v":"13.2.2"},"(-) Permitted offsetting short positions in relation to the indirect gross holdings included above"]
[null,"361",{"$f":"C48&\".3\"","v":"13.3"},"Synthetic holdings of AT1 capital of financial sector entities where the institution does not have a significant investment",{"$f":"SUM(E56+E57)","v":0}]
[null,"362",{"$f":"C55&\".1\"","v":"13.3.1"},"Gross synthetic holdings of AT1 capital of financial sector entities where the institution does not have a significant investment"]
[null,"363",{"$f":"C55&\".2\"","v":"13.3.2"},"(-) Permitted offsetting short positions in relation to the synthetic gross holdings included above"]
[null,370,14,"Holdings of T2 capital of financial sector entities where the institution does not have a significant investment, net of short positions",{"$f":"SUM(E59+E62+E65)","v":0}]
[null,380,{"$f":"C58&\".1\"","v":"14.1"},"Direct holdings of T2 capital of financial sector entities where the institution does not have a significant investment",{"$f":"SUM(E60+E61)","v":0}]
[null,390,{"$f":"C59&\".1\"","v":"14.1.1"},"Gross direct holdings of T2 capital of financial sector entities where the institution does not have a significant investment"]
[null,400,{"$f":"C59&\".2\"","v":"14.1.2"},"(-) Permitted offsetting short positions in relation to the direct gross holdings included above"]
[null,410,{"$f":"C58&\".2\"","v":"14.2"},"Indirect holdings of T2 capital of financial sector entities where the institution does not have a significant investment",{"$f":"SUM(E63+E64)","v":0}]
[null,420,{"$f":"C62&\".1\"","v":"14.2.1"},"Gross indirect holdings of T2 capital of financial sector entities where the institution does not have a significant investment"]
[null,430,{"$f":"C62&\".2\"","v":"14.2.2"},"(-) Permitted offsetting short positions in relation to the indirect gross holdings included above"]
[null,"431",{"$f":"C58&\".3\"","v":"14.3"},"Synthetic holdings of T2 capital of financial sector entities where the institution does not have a significant investment",{"$f":"SUM(E66+E67)","v":0}]
[null,"432",{"$f":"C65&\".1\"","v":"14.3.1"},"Gross synthetic holdings of T2 capital of financial sector entities where the institution does not have a significant investment"]
[null,"433",{"$f":"C65&\".2\"","v":"14.3.2"},"(-) Permitted offsetting short positions in relation to the synthetic gross holdings included above"]
[null,"Investments in the capital of financial sector entities where the institution has a significant investment   "]
[null,440,15,"Holdings of CET1 capital of financial sector entities where the institution has a significant investment, net of short positions",{"$f":"SUM(E70+E73+E76)","v":0}]
[null,450,{"$f":"C69&\".1\"","v":"15.1"},"Direct holdings of CET1 capital of financial sector entities where the institution has a significant investment",{"$f":"SUM(E71+E72)","v":0}]
[null,460,{"$f":"C70&\".1\"","v":"15.1.1"},"Gross direct holdings of CET1 capital of financial sector entities where the institution has a significant investment"]
[null,470,{"$f":"C70&\".2\"","v":"15.1.2"},"(-) Permitted offsetting short positions in relation to the direct gross holdings included above"]
[null,480,{"$f":"C69&\".2\"","v":"15.2"},"Indirect holdings of CET1 capital of financial sector entities where the institution has a significant investment",{"$f":"SUM(E74+E75)","v":0}]
[null,490,{"$f":"C73&\".1\"","v":"15.2.1"},"Gross indirect holdings of CET1 capital of financial sector entities where the institution has a significant investment"]
[null,500,{"$f":"C73&\".2\"","v":"15.2.2"},"(-) Permitted offsetting short positions in relation to the indirect gross holdings included above"]
[null,"501",{"$f":"C69&\".3\"","v":"15.3"},"Synthetic holdings of CET1 capital of financial sector entities where the institution has a significant investment",{"$f":"SUM(E77+E78)","v":0}]
[null,"502",{"$f":"C76&\".1\"","v":"15.3.1"},"Gross synthetic holdings of CET1 capital of financial sector entities where the institution has a significant investment"]
[null,"503",{"$f":"C76&\".2\"","v":"15.3.2"},"(-) Permitted offsetting short positions in relation to the synthetic gross holdings included above"]
[null,510,16,"Holdings of AT1 capital of financial sector entities where the institution has a significant investment, net of short positions ",{"$f":"SUM(E80+E83+E86)","v":0}]
[null,520,{"$f":"C79&\".1\"","v":"16.1"},"Direct holdings of AT1 capital of financial sector entities where the institution has a significant investment",{"$f":"SUM(E81+E82)","v":0}]
[null,530,{"$f":"C80&\".1\"","v":"16.1.1"},"Gross direct holdings of AT1 capital of financial sector entities where the institution has a significant investment"]
[null,540,{"$f":"C80&\".2\"","v":"16.1.2"},"(-) Permitted offsetting short positions in relation to the direct gross holdings included above"]
[null,550,{"$f":"C79&\".2\"","v":"16.2"},"Indirect holdings of AT1 capital of financial sector entities where the institution has a significant investment",{"$f":"SUM(E84+E85)","v":0}]
[null,560,{"$f":"C83&\".1\"","v":"16.2.1"},"Gross indirect holdings of AT1 capital of financial sector entities where the institution has a significant investment"]
[null,570,{"$f":"C83&\".2\"","v":"16.2.2"},"(-) Permitted offsetting short positions in relation to the indirect gross holdings included above"]
[null,"571",{"$f":"C79&\".3\"","v":"16.3"},"Synthetic holdings of AT1 capital of financial sector entities where the institution has a significant investment",{"$f":"SUM(E87+E88)","v":0}]
[null,"572",{"$f":"C86&\".1\"","v":"16.3.1"},"Gross synthetic holdings of AT1 capital of financial sector entities where the institution has a significant investment"]
[null,"573",{"$f":"C86&\".2\"","v":"16.3.2"},"(-) Permitted offsetting short positions in relation to the synthetic gross holdings included above"]
[null,580,17,"Holdings of T2 capital of financial sector entities where the institution has a significant investment, net of short positions",{"$f":"SUM(E90+E93+E96)","v":0}]
[null,590,{"$f":"C89&\".1\"","v":"17.1"},"Direct holdings of T2 capital of financial sector entities where the institution has a significant investment",{"$f":"E91+E92","v":0}]
[null,600,{"$f":"C90&\".1\"","v":"17.1.1"},"Gross direct holdings of T2 capital of financial sector entities where the institution has a significant investment"]
[null,610,{"$f":"C90&\".2\"","v":"17.1.2"},"(-) Permitted offsetting short positions in relation to the direct gross holdings included above"]
[null,620,{"$f":"C89&\".2\"","v":"17.2"},"Indirect holdings of T2 capital of financial sector entities where the institution has a significant investment",{"$f":"SUM(E94:E95)","v":0}]
[null,630,{"$f":"C93&\".1\"","v":"17.2.1"},"Gross indirect holdings of T2 capital of financial sector entities where the institution has a significant investment"]
[null,640,{"$f":"C93&\".2\"","v":"17.2.2"},"(-) Permitted offsetting short positions in relation to the indirect gross holdings included above"]
[null,"641",{"$f":"C89&\".3\"","v":"17.3"},"Synthetic holdings of T2 capital of financial sector entities where the institution has a significant investment",{"$f":"SUM(E97+E98)","v":0}]
[null,"642",{"$f":"C96&\".1\"","v":"17.3.1"},"Gross synthetic holdings of T2 capital of financial sector entities where the institution has a significant investment"]
[null,"643",{"$f":"C96&\".2\"","v":"17.3.2"},"(-) Permitted offsetting short positions in relation to the synthetic gross holdings included above"]
[null,"Total risk exposure amounts of holdings not deducted from the corresponding capital category:"]
[null,650,18,"Risk weighted exposures of CET1 holdings in financial sector entities which are not deducted from the institution's CET1 capital"]
[null,660,19,"Risk weighted exposures of AT1 holdings in financial sector entities which are not deducted from the institution's AT1 capital"]
[null,670,20,"Risk weighted exposures of T2 holdings in financial sector entities which are not deducted from the institution's T2 capital"]
[null,"Temporary waiver from deduction from own funds"]
[null,680,21,"Holdings on CET1 Capital Instruments of financial sector entities where the institution does not have a significant investment temporary waived"]
[null,690,22,"Holdings on CET1 Capital Instruments of financial sector entities where the institution has a significant investment  temporary waived"]
[null,700,23,"Holdings on AT1 Capital Instruments of financial sector entities where the institution does not have a significant investment temporary waived"]
[null,710,24,"Holdings on AT1 Capital Instruments of financial sector entities where the institution has a significant investment  temporary waived"]
[null,720,25,"Holdings on T2 Capital Instruments of financial sector entities where the institution does not have a significant investment  temporary waived"]
[null,730,26,"Holdings on T2 Capital Instruments of financial sector entities where the institution has a significant investment temporary waived"]
[null,"Capital buffers"]
[null,740,27,"Combined Buffer Requirement",{"$f":"SUM(E112+E115)","v":0}]
[null,"750",null,"Total capital conservation buffer",{"$f":"SUM(E113:E114)","v":0}]
[null,"760",null,"Conservation buffer due to macro-prudential or systemic risk identified at the level of a Member State"]
[null,"770",null,"Institution specific countercyclical capital buffer"]
[null,"780",null,"Systemic risk buffer"]
[null,"790",null,"Systemical important institution buffer"]
[null,800,null,"Global Systemically Important Institution buffer"]
[null,810,null,"Other Systemically Important Institution buffer"]
[null,"Pillar II requirements"]
[null,820,28,"Own funds requirements related to Pillar II adjustments"]
[null,"Additional information for investment firms"]
[null,830,29,"Initial capital"]
[null,840,30,"Own funds based on Fixed Overheads"]
[null,"Additional information for calculating of reporting thresholds"]
[null,850,31,"Non-domestic original exposures"]
[null,860,32,"Total original exposures"]
[null,"Basel I floor"]
[null,870,null,"Adjustments to total own funds"]
[null,880,null,"Own funds fully adjusted for Basel I floor"]
[null,890,null,"Own funds requirements for Basel I floor"]
[null,900,null,"Own funds requirements for Basel I floor - SA alternative"]

{"sheet":"Transitional Provisions","index":36,"n_rows":66,"n_cols":11,"rows_kept":66,"cut":false,"hidden":true,"merged":[[6,8,7,8],[6,9,6,10],[6,1,7,3],[6,4,8,4],[6,5,7,5],[6,6,7,6],[6,7,7,7]]}
[]
[null,"TRANSITIONAL PROVISIONS (CA5.1)"]
[]
[null,null,"Licence Holder:",{"$f":"IF('COVER SHEET'!$C$15=0,\"\",'COVER SHEET'!$C$15)","v":""}]
[null,null,"Period:",{"$f":"IF(OR('COVER SHEET'!C23=0,'COVER SHEET'!C24=0),\" \",(TEXT('COVER SHEET'!C23,\"dd-mm-yyyy\")&\" - \"&(TEXT('COVER SHEET'!C24,\"dd-mm-yyyy\"))))","v":" "},null,{"$f":"Review!F2","v":" Months"}]
[]
[null,"CA 5.1",null,null,"Legal references","Adjustments to CET1","Adjustments to AT1","Adjustments to T2","Adjustments included in RWAs","Memorandum items"]
[null,null,null,null,null,null,null,null,null,"Applicable percentage","Eligible amount without transitional provisions"]
[null,"Code","ID","Item",null,"010","020","030","040","050","060"]
[null,"010","1","TOTAL ADJUSTMENTS",null,{"$f":"SUM(F11+F16+F21)","v":0},{"$f":"SUM(G11+G16+G21)","v":0},{"$f":"SUM(H11+H16+H21)","v":0},0,null,0]
[null,"020","1.1","GRANDFATHERED INSTRUMENTS",null,{"$f":"SUM(F12+F15)","v":0},{"$f":"SUM(G12+G15)","v":0},{"$f":"SUM(H12+H15)","v":0},0,null,0]
[null,"030","1.1.1","Grandfathered instruments: Instruments constituting state aid","Article 462 of CRR",{"$f":"SUM(F13+F14)","v":0},{"$f":"SUM(G13+G14)","v":0},{"$f":"SUM(H13+H14)","v":0}]
[null,"040","1.1.1.1","Instruments that qualified as own funds according to 2006/48/EC","Article 462 (2), (3) and (4) of CRR",0,0,0]
[null,"050","1.1.1.2","Instruments issued by institutions that are incorporated in a Member State that is subject to an Economic Adjustment Programme","Article 462(1), (2a), (3a), (5) and (6) of CRR",0,0,0]
[null,"060","1.1.2","Instruments not constituting state aid",null,0,0,0]
[null,"070","1.2","MINORITY INTERESTS AND EQUIVALENTS",null,{"$f":"SUM(F17:F18)","v":0},{"$f":"SUM(G19)","v":0},{"$f":"SUM(H20)","v":0}]
[null,"080","1.2.1","Capital instruments and items that do not qualify as minority interests","Articles 459 of CRR",0,null,null,null,0]
[null,"090","1.2.2","Transitional recognition in consolidated own funds of minority interests","Articles 79 and 460 of CRR",0,null,null,null,1,{"$f":"'Own Funds Calculation'!E30","v":0}]
[null,"091","1.2.3","Transitional recognition in consolidated own funds of qualifying Additional Tier 1 capital","Article 80 and 460 of CRR",null,0,null,null,1,{"$f":"'Own Funds Calculation'!E76","v":0}]
[null,"092","1.2.4","Transitional recognition in consolidated own funds of qualifying Tier 2 capital","Article 82 and 460 of CRR",null,null,0,null,1,{"$f":"'Own Funds Calculation'!E97","v":0}]
[null,"100","1.3","OTHER TRANSITIONAL ADJUSTMENTS","(sum, no link to CA1)",{"$f":"SUM(F22+F28+F66)","v":0},{"$f":"SUM(G28+G66)","v":0},{"$f":"SUM(H28+H66)","v":0}]
[null,"110","1.3.1","Unrealised gains and losses",null,{"$f":"SUM(F23:F27)","v":0}]
[null,"120","1.3.1.1","Unrealised gains","Article 450 of CRR",{"$f":"-(J23*K23)","v":0},null,null,null,{"$f":"SUMIF('Applicable Percentages'!A32:A36,'COVER SHEET'!B1,'Applicable Percentages'!B32:B36)","v":0},{"$f":"SUM('Income Statement'!P96+ABS('Input Sheet'!G373))-K25","v":0}]
[null,"130","1.3.1.2","Unrealised losses","Article 449 of CRR",{"$f":"0","v":0},null,null,null,{"$f":"SUMIF('Applicable Percentages'!A32:A36,'COVER SHEET'!B1,'Applicable Percentages'!C32:C36)","v":0},{"$f":"'Income Statement'!Q96-'Input Sheet'!F373-K26","v":0}]
[null,"133","1.3.1.3.","Unrealised gains on exposures to central governments classified in the \"Available for sale\" category of EU-endorsed IAS39","Article 449 of CRR",{"$f":"-(J25*K25)","v":0},null,null,null,{"$f":"SUMIF('Applicable Percentages'!A32:A36,'COVER SHEET'!B1,'Applicable Percentages'!B32:B36)","v":0},{"$f":"IF('Input Sheet'!L82<0,ABS('Input Sheet'!L82),0)","v":0}]
[null,"136","1.3.1.4.","Unrealised loss on exposures to central governments classified in the \"Available for sale\" category of EU-endorsed IAS39","Article 449 of CRR",0,null,null,null,{"$f":"SUMIF('Applicable Percentages'!A32:A36,'COVER SHEET'!B1,'Applicable Percentages'!C32:C36)","v":0},{"$f":"IF('Input Sheet'!L82>0,-'Input Sheet'!L82,0)","v":0}]
[null,"138","1.3.1.5.","Fair value gains and losses arising from the institution's own credit risk related to derivative liabilities","Article 450 of CRR",0,null,null,null,1,{"$f":"'Own Funds Calculation'!E36","v":0}]
[null,"140","1.3.2","Deductions","(sum, no link to CA1)",{"$f":"SUM(F29+F30+F31+F32+F33+F36+F46+F56+F61+F60+F65)","v":0},{"$f":"SUM(G29+G30+G32+G36+G46+G56+G61)","v":0},{"$f":"SUM(H32+H36+H46+H56+H61)","v":0},{"$f":"SUM(I31+I36+I46+I56+I61+I60)","v":0},null,{"$f":"K29+K30+K31+K32+K33+K36+K46+K56+K61","v":0}]
[null,"150","1.3.2.1","Losses for the current financial year","Articles 33 (1) point (a), 451 (1), 453 (2) and 458 of CRR",0,0,null,null,{"$f":"SUMIF('Applicable Percentages'!A39:A43,'COVER SHEET'!B1,'Applicable Percentages'!B39:B43)","v":0},{"$f":"IF('Own Funds Calculation'!E22<0,'Own Funds Calculation'!E22,0)","v":0}]
[null,"160","1.3.2.2","Intangible assets","Articles 33 (1) point (b), 451 (1), 453 (3) and 458 of CRR",0,0,null,null,{"$f":"SUMIF('Applicable Percentages'!A39:A43,'COVER SHEET'!B1,'Applicable Percentages'!B39:B43)","v":0},{"$f":"'Own Funds Calculation'!E42","v":0}]
[null,"170","1.3.2.3","Deferred tax assets that rely on future profitability and do not arise from temporary differences","Articles 33 (1) point (c), 451 (1), 453 (4) and 458 of CRR",0,null,null,0,{"$f":"SUMIF('Applicable Percentages'!A39:A43,'COVER SHEET'!B1,'Applicable Percentages'!B39:B43)","v":0},{"$f":"'Own Funds Calculation'!E45","v":0}]
[null,"180","1.3.2.4","IRB shortfall of provisions to expected losses","Articles 33 (1) point (d), 451 (1), 453 (5) and 458 of CRR",0,0,0,null,{"$f":"SUMIF('Applicable Percentages'!A39:A43,'COVER SHEET'!B1,'Applicable Percentages'!B39:B43)","v":0},{"$f":"'Own Funds Calculation'!E46","v":0}]
[null,"190","1.3.2.5","Defined benefit pension fund assets","Articles 33 (1) point (e), 451 (1), 453 (6) and 458 of CRR",0,null,null,null,{"$f":"SUMIF('Applicable Percentages'!A39:A43,'COVER SHEET'!B1,'Applicable Percentages'!B39:B43)","v":0},{"$f":"'Own Funds Calculation'!E47","v":0}]
[null,"194","1.3.2.5*","of which: Introduction of amendments to IAS 19 - positive item","Article 473 of CRR"]
[null,"198","1.3.2.5**","of which: Introduction of amendments to IAS 19 - negative item","Article 473 of CRR"]
[null,"200","1.3.2.6","Own instruments",null,{"$f":"SUM(F37+F40+F43)","v":0},{"$f":"SUM(G37+G40+G43)","v":0},{"$f":"SUM(H37+H40+H43)","v":0},{"$f":"SUM(I37+I40+I43)","v":0},null,{"$f":"SUM(K37+K40+K43)","v":0}]
[null,"210","1.3.2.6.1","Own CET1 instruments","Articles 33 (1) point (f), 451 (1), 453 (7) and 458 of CRR",0,0,null,0,{"$f":"SUMIF('Applicable Percentages'!A39:A43,'COVER SHEET'!B1,'Applicable Percentages'!B39:B43)","v":0},{"$f":"'Own Funds Calculation'!E16","v":0}]
[null,"211","1.3.2.6.1**","of which: Direct holdings",null,0,0,null,null,{"$f":"SUMIF('Applicable Percentages'!A39:A43,'COVER SHEET'!B1,'Applicable Percentages'!B39:B43)","v":0},{"$f":"'Own Funds Calculation'!E17","v":"0"}]
[null,"212","1.3.2.6.1*","of which: Indirect holdings",null,0,null,null,0,{"$f":"SUMIF('Applicable Percentages'!A39:A43,'COVER SHEET'!B1,'Applicable Percentages'!B39:B43)","v":0},{"$f":"'Own Funds Calculation'!E18","v":"0"}]
[null,"220","1.3.2.6.2","Own AT1 instruments","Articles 53 point (a), 454, 455(2) and 458 of CRR",0,0,null,0,{"$f":"SUMIF('Applicable Percentages'!A39:A43,'COVER SHEET'!B1,'Applicable Percentages'!B39:B43)","v":0},{"$f":"'Own Funds Calculation'!E70","v":0}]
[null,"221","1.3.2.6.2**","of which: Direct holdings",null,0,0,null,null,{"$f":"SUMIF('Applicable Percentages'!A39:A43,'COVER SHEET'!B1,'Applicable Percentages'!B39:B43)","v":0},{"$f":"'Own Funds Calculation'!E71","v":"0"}]
[null,"222","1.3.2.6.2*","of which: Indirect holdings",null,null,null,null,0,{"$f":"SUMIF('Applicable Percentages'!A39:A43,'COVER SHEET'!B1,'Applicable Percentages'!B39:B43)","v":0},{"$f":"'Own Funds Calculation'!E72","v":"0"}]
[null,"230","1.3.2.6.3","Own T2 instruments","Articles 63 point (a), 456, 457(2) and 458 of CRR",null,null,0,0,{"$f":"SUMIF('Applicable Percentages'!A39:A43,'COVER SHEET'!B1,'Applicable Percentages'!B39:B43)","v":0},{"$f":"'Own Funds Calculation'!E91","v":0}]
[null,"231","1.3.2.6.3*","of which: Direct holdings",null,null,null,0,null,{"$f":"SUMIF('Applicable Percentages'!A39:A43,'COVER SHEET'!B1,'Applicable Percentages'!B39:B43)","v":0},{"$f":"'Own Funds Calculation'!E92","v":"0"}]
[null,"232","1.3.2.6.3**","of which: Indirect holdings",null,null,null,null,0,{"$f":"SUMIF('Applicable Percentages'!A39:A43,'COVER SHEET'!B1,'Applicable Percentages'!B39:B43)","v":0},{"$f":"'Own Funds Calculation'!E93","v":"0"}]
[null,"240","1.3.2.7","Reciprocal cross holdings",null,{"$f":"SUM(F47+F48+F49+F51+F52+F54+F55)","v":0},{"$f":"SUM(G48+G49+G50+G51+G52+G54+G55)","v":0},{"$f":"SUM(H48+H49+H51+H52+H53+H54+H55)","v":0},{"$f":"SUM(I48+I49+I51+I52+I54+I55)","v":0},null,{"$f":"SUM(K47+K50+K53)","v":0}]
[null,"250","1.3.2.7.1","Reciprocal cross holdings in CET1 Capital","Articles 33(1) point (g), 451 (1), 453(8) and 458 of CRR",0,null,null,null,{"$f":"SUMIF('Applicable Percentages'!A39:A43,'COVER SHEET'!B1,'Applicable Percentages'!B39:B43)","v":0},{"$f":"'Own Funds Calculation'!E51","v":0}]
[null,"260","1.3.2.7.1.1","Reciprocal cross holdings in CET1 Capital of financial sector entities where the institution does not have a significant investment","Articles 33(1) point (g), 451 (1), 453(8) point (a) and 458 of CRR",0,0,0,0]
[null,"270","1.3.2.7.1.2","Reciprocal cross holdings in CET1 Capital of financial sector entities where the institution has a significant investment","Articles 33(1) point (g), 451 (1), 453(8) point (b) and 458 of CRR",0,0,0,0]
[null,"280","1.3.2.7.2","Reciprocal cross holdings in AT1 Capital","Articles 53 point (b), 454, 455(3) and 458 of CRR",null,0,null,null,{"$f":"SUMIF('Applicable Percentages'!A39:A43,'COVER SHEET'!B1,'Applicable Percentages'!B39:B43)","v":0},{"$f":"'Own Funds Calculation'!E78","v":0}]
[null,"290","1.3.2.7.2.1","Reciprocal cross holdings in AT1 Capital of financial sector entities where the institution does not have a significant investment","Articles 53 point (b), 454, 455(3) point (a) and 458 of CRR",0,0,0]
[null,"300","1.3.2.7.2.2","Reciprocal cross holdings in AT1 Capital of financial sector entities where the institution has a significant investment","Articles 53 point (b), 454, 455(3) point (b) and 458 of CRR",0,0,0]
[null,"310","1.3.2.7.3","Reciprocal cross holdings in T2 Capital","Articles 63 point (b), 456, 457(3) and 458 of CRR",null,null,0,null,{"$f":"SUMIF('Applicable Percentages'!A39:A43,'COVER SHEET'!B1,'Applicable Percentages'!B39:B43)","v":0},{"$f":"'Own Funds Calculation'!E101","v":0}]
[null,"320","1.3.2.7.3.1","Reciprocal cross holdings in T2 Capital of financial sector entities where the institution does not have a significant investment","Articles 63 point (b), 456, 457(3) point (a) and 458 of CRR",0,0,0,0]
[null,"330","1.3.2.7.3.2","Reciprocal cross holdings in T2 Capital of financial sector entities where the institution has a significant investment","Articles 63 point (b), 456, 457(3) point (b) and 458 of CRR",0,0,0,0]
[null,"340","1.3.2.8","Own funds instruments of financial sector entities where the institution does not have a significant investment",null,{"$f":"SUM(F57+F58+F59)","v":0},{"$f":"SUM(G57+G58+G59)","v":0},{"$f":"SUM(H57+H58+H59)","v":0},{"$f":"SUM(I57+I58+I59)","v":0},null,{"$f":"SUM(K57:K59)","v":0}]
[null,"350","1.3.2.8.1","CET1 instruments of financial sector entities where the institution does not have a significant investment","Articles 33(1) point (h), 451 (1), 453(9) and 458 of CRR",0,0,0,0,1,{"$f":"'Own Funds Calculation'!E58","v":"0"}]
[null,"360","1.3.2.8.2","AT1 instruments of financial sector entities where the institution does not have a significant investment","Articles 53 point (c), 454, 455(4) and 458 of CRR",0,0,0,0,1,{"$f":"'Own Funds Calculation'!E79","v":"0"}]
[null,"370","1.3.2.8.3","T2 instruments of financial sector entities where the institution does not have a significant investment","Articles 63 point (c), 456, 457(4) and 458 of CRR",0,0,0,0,1,{"$f":"'Own Funds Calculation'!D410","v":0}]
[null,"380","1.3.2.9","Deferred tax assets that are dependent on future profitability and arise from temporary differences and CET1 instruments of financial sector entities where the institution has a significant investment","Article 452(2) and (3) of CRR",{"$f":"I60","v":0},null,null,{"$f":"IF(AND(OR('COVER SHEET'!B1=2014,'COVER SHEET'!B1=2015,'COVER SHEET'!B1=2016,'COVER SHEET'!B1=2017),'Memorandum Items'!E34>'Memorandum Items'!E35),'Memorandum Items'!E34-'Memorandum Items'!E35,0)","v":0},null,{"$f":"IF('Memorandum Items'!E13>0,-MIN('Memorandum Items'!E13,'Memorandum Items'!E34),0)","v":0}]
[null,"390","1.3.2.10","Own funds instruments of financial sector entities where the institution has a significant investment",null,{"$f":"SUM(F62+F63+F64)","v":0},{"$f":"SUM(G62+G63+G64)","v":0},{"$f":"SUM(H62+H63+H64)","v":0},{"$f":"SUM(I62+I63+I64)","v":0},null,{"$f":"SUM(K62:K64)","v":0}]
[null,"400","1.3.2.10.1","CET1 instruments of financial sector entities where the institution has a significant investment","Articles 33(1) point (i), 451 (1), 453(10) and 458 of CRR",0,0,0,0,1,{"$f":"'Own Funds Calculation'!E60","v":0}]
[null,"410","1.3.2.10.2","AT1 instruments of financial sector entities where the institution has a significant investment","Articles 53 point (d), 454, 455(4) and 458 of CRR",0,0,0,0,1,{"$f":"'Own Funds Calculation'!E80","v":0}]
[null,"420","1.3.2.10.3","T2 instruments of financial sector entities where the institution has a significant investment","Articles 63 point (d), 456, 457(4) and 458 of CRR",0,0,0,0,1,{"$f":"'Own Funds Calculation'!E103","v":0}]
[null,"425","1.3.2.11","Exemption Deduction of Equity Holdings in Insurance Companies from Common Equity Tier 1 Items","Article 452(2a) of CRR"]
[null,"430","1.3.3","Additional filters and deductions","Article 461 of CRR",0,0,0,null,0]

{"sheet":"Fixed Overhead Requirement","index":37,"n_rows":42,"n_cols":13,"rows_kept":42,"cut":false,"hidden":false,"merged":[[18,1,18,5]]}
[]
[null,"FIXED OVERHEAD REQUIREMENT"]
[]
[null,null,"Licence Holder:",{"$f":"IF('COVER SHEET'!$C$15=0,\"\",'COVER SHEET'!$C$15)","v":""}]
[null,null,"Period:",{"$f":"IF(OR('COVER SHEET'!C23=0,'COVER SHEET'!C24=0),\" \",(TEXT('COVER SHEET'!C23,\"dd-mm-yyyy\")&\" - \"&(TEXT('COVER SHEET'!C24,\"dd-mm-yyyy\"))))","v":" "},null,{"$f":"Review!F2","v":" Months"}]
[]
[]
[1,"How many months are represented in the recent Audited Financial Statements"]
[null,null,null,null,null,null,null,null,null,null,null,null,"Yes"]
[2,"Total Expenditure as per latest Audit Financial Statements",null,null,null,null,null,null,null,null,null,null,"No"]
[]
[]
[3,"Less:",null,null,null,null,null,null,null,null,null,null,1]
[null,"a) fully discretionary staff bonuses",null,null,null,null,null,null,null,null,null,null,2]
[null,"b) employees', directors' and partners' shares in profits, ",null,null,null,null,null,null,null,null,null,null,3]
[null,"to the extent that they are fully discretionary",null,null,null,null,null,null,null,null,null,null,4]
[null,"c) other appropriations of profits and other variable remuneration,",null,null,null,null,null,null,null,null,null,null,5]
[null," to the extent that they are fully discretionary",null,null,null,null,null,null,null,null,null,null,6]
[null,"d)Commissions that are directly related to the acquisition of gross revenue (derived from investment services activities), paid or payable to third parties and/ or \nshared commission and fees which are directly related to ",null,null,null,null,null,null,null,null,null,null,7]
[null,"commission and fees receivable, which are included within",null,null,null,null,null,null,null,null,null,null,8]
[null,"total revenue, and where the payment of the commission",null,null,null,null,null,null,null,null,null,null,9]
[null,"and fees payable is contingent upon the actual receipt",null,null,null,null,null,null,null,null,null,null,10]
[null,"of the commission and fees receivable",null,null,null,null,null,null,null,null,null,null,11]
[null,"e) fees, brokerage and other charges paid to clearing",null,null,null,null,null,null,null,null,null,null,12]
[null,"houses, exchanges and intermediate brokers for",null,null,null,null,null,null,null,null,null,null,13]
[null,"the purposes of executing, registering or clearing",null,null,null,null,null,null,null,null,null,null,14]
[null,"transactions",null,null,null,null,null,null,null,null,null,null,15]
[null,"f) fees to tied agents",null,null,null,null,null,null,null,null,null,null,16]
[null,"g) interest paid to customers on clients' money",null,null,null,null,null,null,null,null,null,null,17]
[null,"h) non-recurring expenses from non-ordinary activities",null,null,null,null,null,null,{"$f":"SUM(G14:G30)","v":0},null,null,null,18]
[]
[]
[4,"Relevant Fixed Expenditure ",null,null,null,null,null,null,{"$f":"+I10-I30","v":0}]
[]
[5,"Other Additions"]
[]
[6,"Does the licence holder make use of tied agents?"]
[null,null,null,null,null,null,{"$f":"IF(G37=\"yes\",\"Input 35% of all the fees related to tied agents\",\"\")","v":""}]
[]
[7,"(One quarter of the annual relevant fixed expenditure)",null,null,null,null,null,null,{"$f":"((I33*13/52)+(I37*13/52)+(I35*13/52))","v":0}]
[]
[8,"Fixed Overhead Requirement",null,null,null,null,null,null,{"$f":"IF(H8=0,0,((I40)/H8)*12)","v":0}]

{"sheet":"Financial Resources Requirement","index":38,"n_rows":26,"n_cols":10,"rows_kept":26,"cut":false,"hidden":true,"merged":[[18,3,18,6],[13,3,13,6],[14,3,14,6],[15,3,15,6],[16,3,16,6],[17,3,17,6]]}
[]
[null,"FINANCIAL RESOURCES REQUIREMENT"]
[]
[null,null,"Licence Holder:",{"$f":"IF('COVER SHEET'!$C$15=0,\"\",'COVER SHEET'!$C$15)","v":""}]
[null,null,"Period:",{"$f":"IF(OR('COVER SHEET'!$C$23=0,'COVER SHEET'!$C24=0),\" \",(TEXT('COVER SHEET'!$C$23,\"dd-mm-yyyy\")&\" - \"&(TEXT('COVER SHEET'!$C$24,\"dd-mm-yyyy\"))))","v":" "},null,{"$f":"Review!F2","v":" Months"}]
[]
[]
[null,"1.0","Total Own Funds",null,null,null,null,null,null,{"$f":"'Own Funds Calculation'!E9","v":0}]
[]
[null,9,"Fixed Overhead Requirement",null,null,null,null,null,null,{"$f":"'Fixed Overhead Requirement'!I42","v":0}]
[]
[]
[null,10,"Initial Capital",null,null,null,null,""]
[null,null,"either ","Category 1a licence holder",null,null,null,{"$f":"IF('COVER SHEET'!$C$30>0,50000*1/'COVER SHEET'!$C$30,0)","v":0},null,{"$f":"IF('COVER SHEET'!C21=\"Category 1a\",H14,0)","v":0}]
[null,null,"or","Category 1a & registered under the Insurance Mediation Directive",null,null,null,{"$f":"IF('COVER SHEET'!$C$30>0,25000*1/'COVER SHEET'!$C$30,0)","v":0},null,{"$f":"IF('COVER SHEET'!C21=\"Category 1 a & registered under Insurance Mediation Directive\",H15,0)","v":0}]
[null,null,"or","Category 1b licence holder",null,null,null,{"$f":"IF('COVER SHEET'!$C$30>0,20000*1/'COVER SHEET'!$C$30,0)","v":0},null,{"$f":"IF('COVER SHEET'!C21=\"Category 1b\",H16,0)","v":0}]
[null,null,"or","Category 1b licence holder - PII Exemption",null,null,null,{"$f":"IF('COVER SHEET'!$C$30>0,50000*1/'COVER SHEET'!$C$30,0)","v":0},null,{"$f":"IF('COVER SHEET'!C21=\"Category 1b - PII Exemption\",H17,0)","v":0}]
[null,null,"or","Category 4a licence holder only",null,null,null,{"$f":"IF('COVER SHEET'!$C$30>0,125000*1/'COVER SHEET'!$C$30,0)","v":0},null,{"$f":"IF('COVER SHEET'!C21=\"Category 4a\",H18,0)","v":0}]
[null,null,"or","Category 4b licence holder only",null,null,null,{"$f":"IF('COVER SHEET'!$C$30>0,125000*1/'COVER SHEET'!$C$30,0)","v":0},null,{"$f":"IF('COVER SHEET'!C21=\"Category 4b\",H19,0)","v":0}]
[]
[null,12,"Total Initial Capital",null,null,null,null,null,null,{"$f":"SUM(J14:J19)","v":0}]
[]
[]
[null,13,"CAPITAL RESOURCES REQUIREMENT",null,null,null,null,null,null,{"$f":"IF(J21>J10,J21,J10)","v":0}]
[]
[null,14,"Financial Resources Requirement ",null,null,null,null,null,null,{"$f":"J8-J24","v":0}]

{"sheet":"Supervisory Fee Calculator","index":39,"n_rows":66,"n_cols":18,"rows_kept":66,"cut":false,"hidden":false,"merged":[[63,1,63,7],[42,2,42,3],[45,2,45,3],[51,2,51,3],[53,2,53,3],[58,1,59,7],[61,1,62,7],[40,2,40,3],[9,2,9,5],[11,3,11,4],[12,3,12,4],[20,3,21,3],[37,2,37,3]]}
[]
[]
[]
[]
[]
[]
[]
[]
[null,null,null,null,null,null,null,null,null,null,null,null,null,"Fixed (€)","Variable/tranche (€)","Variable","Total","Currency"]
[null,null,"ANNUAL SUPERVISORY FEE CALCULATOR",null,null,null,null,null,null,null,null,"Category 1A",null,2000,350,{"$f":"IF($E$30<50000,0,IF($E$30<=1000000,(ROUNDUP((($E$30-50000)/50000),0)*$O$10),(19*$O$10)))","v":0},{"$f":"N10+P10","v":2000},"EUR"]
[null,null,null,null,null,null,null,null,null,null,null,"Category 1B",null,2750,350,{"$f":"IF($E$30<50000,0,IF($E$30<=1000000,(ROUNDUP((($E$30-50000)/50000),0)*$O$11),(19*$O$11)))","v":0},{"$f":"N11+P11","v":2750},"GBP"]
[null,null,null,"(To be compiled and submitted in hard copy on an Annual basis together with the Audited Annual Financial Return)",null,null,null,null,null,null,null,"Category 2",null,4500,400,{"$f":"IF($E$30<250000,0,IF($E$30<=5000000,(ROUNDUP((($E$30-250000)/250000),0)*$O$12),(19*$O$12)))","v":0},{"$f":"N12+P12","v":4500},"USD"]
[null,null,null,null,null,null,null,null,null,null,null,"Category 3",null,6000,400,{"$f":"IF($E$30<250000,0,IF($E$30<=50000000,(ROUNDUP((($E$30-250000)/250000),0)*$O$13),(199*$O$13)))","v":0},{"$f":"N13+P13","v":6000}]
[null,null,null,null,null,null,null,null,null,null,null,"Category 4A",null,15000,"N/A","N/A",{"$f":"N14","v":15000}]
[null,null,1,"Name of Licence Holder",null,null,null,null,null,null,null,"Category 4B",null,5000,"N/A","N/A",{"$f":"N15","v":5000}]
[]
[null,null,2,"Licence Category",null,""]
[]
[null,null,3,"Gross revenue indicated in the Annual Audited Financial Statements and that is derived from activities for which an investment services licence was issued in terms of Article 3 of the Investment Services Act",null,{"$f":"IF(E19=('Income Statement'!M46-'Income Statement'!M43),1,0)","v":1}]
[]
[null,null,4,"Commission that are directly related to the acquisition of the said gross revenue, paid or payable to third parties"]
[null,null,null,null,0,{"$f":"IF(E22='Input Sheet'!G41,1,0)","v":1}]
[]
[null,null,5,"Currency in which accounts are reported"]
[]
[null,null,6,"Revenue in reported currency (as defined in Subsidiary Legislation 370.03 Investment Services Act (Fees) Regulations)",{"$f":"E19-E22","v":0}]
[]
[null,null,7,"Exchange rate as at end of reporting period converting the reporting currency to EURO"]
[]
[null,null,8,"Revenue in EURO",{"$f":"E26*E28","v":0}]
[]
[null,null,9,"Annual Supervisory Fee due in EURO",{"$f":"IF(E17=L10,Q10,IF(E17=L11,Q11,IF(E17=L12,Q12,IF(E17=L13,Q13,IF(E17=L14,Q14,IF(E17=L15,Q15,0))))))","v":0}]
[]
[null,"Signed on behalf of licence holder by :"]
[]
[null,"We confirm that the above computation is in line with the provision set out in the Subsidiary Legislation 370.03 Investment Services Act (Fees) Regulations."]
[]
[null,"Signed:",null,null,null,"Date:",null,{"$f":"IF(G38=\"\",0,1)","v":0}]
[null,null,"(Director/ Authorised Signatory)"]
[]
[null,"Name:",null,null,{"$f":"IF(C41=\"\",0,1)","v":0}]
[]
[null,"Signed:",null,null,null,"Date:",null,{"$f":"IF(G43=\"\",0,1)","v":0}]
[null,null,"(Director/ Authorised Signatory)"]
[]
[null,"Name:",null,null,{"$f":"IF(C46=\"\",0,1)","v":0}]
[]
[null,"This Section must be filled only if the return is an Annual COREP Return.  It should be completed by the Audit Partner/ Manager in charge "]
[]
[null,"We confirm that we have checked the above fee computation ad endorsed the Licence Holder's declarations set out above. "]
[]
[null,"Signed:",null,null,null,"Date:"]
[]
[null,"Name:"]
[]
[]
[null,"Notes:"]
[]
[null,"1. Please ensure that the figures reported above are consistent with figures reported in audited financial statements and other data/ information submitted to the Malta Financial Services Authority."]
[]
[]
[null,"2. Please ensure that you send your remittance to the Malta Financial Services Authority as soon as possible. Cheques are to be sent payable to the 'Malta Financial Services Authority' and are to be sent to the:"]
[]
[null,"Malta Financial Services Authority\nFinance Department\nTriq L- Imdina, Zone 1\nCentral Business District\nBirkirkara  CBD 1010"]
[]
[null,"3. The Authroity reserves the right to carry out random or full checks of data / information and fee computation submitted."]

{"sheet":"Representations","index":40,"n_rows":113,"n_cols":15,"rows_kept":113,"cut":false,"hidden":false,"merged":[[108,2,108,5],[111,1,111,10],[100,1,100,10],[102,1,102,10],[104,1,105,1],[104,2,105,5],[77,1,77,8],[83,2,84,5],[91,2,92,5],[95,2,95,5],[83,1,84,1],[91,1,92,1],[72,1,72,11],[73,1,73,10],[64,2,64,10],[68,2,68,10],[66,2,66,10],[70,2,70,10],[32,1,32,6],[33,1,33,6],[34,1,34,6],[62,1,62,8],[54,3,54,9],[56,3,56,9],[58,3,58,9],[43,1,43,6],[44,1,44,6],[35,1,35,6],[10,2,10,8],[12,2,12,8],[14,2,14,8],[87,2,87,5],[36,1,36,6],[37,1,37,6],[38,1,38,6],[39,1,39,6],[40,1,40,6],[41,1,41,6],[16,2,16,8],[21,1,21,10],[49,1,49,8],[51,2,51,8],[42,1,42,6],[31,1,31,6],[29,1,29,6],[30,1,30,6],[23,1,23,6],[25,1,25,6],[26,1,26,6],[27,1,27,6],[28,1,28,6]]}
[]
[null,{"$f":"'COVER SHEET'!B13:C13&\" - Representations\"","v":" - Representations"},null,null,null,null,null,null,null,null,{"$f":"'COVER SHEET'!B40","v":"Version 4/2021"}]
[]
[null,null,"Licence Holder:",{"$f":"IF('COVER SHEET'!C15=0,\" \",'COVER SHEET'!C15)","v":" "}]
[null,null,"Period:",{"$f":"IF(OR('COVER SHEET'!C23=0,'COVER SHEET'!C24=0),\" \",(TEXT('COVER SHEET'!C23,\"dd-mm-yyyy\")&\" - \"&(TEXT('COVER SHEET'!C24,\"dd-mm-yyyy\"))))","v":" "},null,null,{"$f":"Review!F2","v":" Months"}]
[]
[1,"Prudential Confirmations"]
[]
[null,"We the undersigned authorised signatories confirm that: "]
[null,null,null,null,null,null,null,null,null,null,null,null,null,null,"YES"]
[null,"i.","the licence holder's Financial Resources have been in excess of or equal to its Financial Resources Surplus throughout the period ending on the Accounting Reference Date.",null,null,null,null,null,null,null,null,{"$f":"IF(ISBLANK(K11),0,IF(K11=\"NO\",0.9,1))","v":0},null,null,"NO"]
[]
[null,"ii.","the licence holder was and will be able for the forseeable future, to meet all of its liabilities as they fall due for payment.",null,null,null,null,null,null,null,null,{"$f":"IF(ISBLANK(K13),0,IF(K13=\"NO\",0.9,1))","v":0}]
[]
[null,"iii.","The licence holder's financial resources have been properly calculated in accordance with the MFSA's requirements.",null,null,null,null,null,null,null,null,{"$f":"IF(ISBLANK(K15),0,IF(K15=\"NO\",0.9,1))","v":0}]
[]
[null,"iv.","All matters (including contingent liabilities, claims and litigation) which might reasonably be expected to have a material effect on the licence holder's financial position at the date of submission of these statements, have been declared herewith or notified in writing to MFSA.",null,null,null,null,null,null,null,null,{"$f":"IF(ISBLANK(K17),0,IF(K17=\"NO\",0.9,1))","v":0}]
[]
[]
[2,"Qualified Shareholding"]
[]
[null,"Names of Shareholders and members having direct or indirect holding greater than or equal to ten per cent of the capital issued by the Licence Holder:",null,null,null,null,null,null,null,null,null,{"$f":"IF(SUM(I26:I45)>=99%,1,0)","v":0}]
[]
[null,"Name of Member / Shareholder",null,null,null,null,null,null,"Percentage held:",null,"Number of shares held:"]
[]
[]
[]
[]
[]
[]
[]
[]
[]
[]
[]
[]
[]
[]
[]
[]
[]
[]
[]
[]
[]
[]
[]
[3,"Complaints Confirmations"]
[]
[null,"We the undersigned authorised signatories further confirm that during the reporting period:"]
[]
[null,"i.","the licence holder has a number of outstanding complaints from clients in relations to its Investment Services Activities, as specified below:"]
[null,null,null,null,null,null,null,null,null,null,"Total"]
[]
[null,null,null,"Number of complaints during the most recent quarter: ",null,null,null,null,null,null,null,{"$f":"IF(NOT(ISBLANK(K55)),1,0)","v":0}]
[]
[null,null,null,"Number of resolved complaints during reporting period",null,null,null,null,null,null,null,{"$f":"IF(NOT(ISBLANK(K57)),1,0)","v":0}]
[]
[null,null,null,"Number of Total Outstanding complaints: ",null,null,null,null,null,null,null,{"$f":"IF(NOT(ISBLANK(K59)),1,0)","v":0}]
[]
[4,"Compliance to the ISA Confirmations"]
[]
[null,"We the undersigned authorised signatories further confirm that during the reporting period:"]
[]
[null,"i. ","the EU Regulations applicable to Investment Services Licence Holders and their respective Regulatory and/ or Implementing Technical Standards and Guidelines issued by the respective European Supervisor Authorities (ESAs); "]
[]
[null,"ii. ","the Investment Services Act and any Subsidiary Legislation, Rules, Circulars and Guidelines issued thereunder; and "]
[]
[null,"iii. ","any recommendations or directives issued to the licence holder by the Authority; and "]
[]
[null,"iv. ","we have notified the Malta Financial Services Authority of any breaches/notifications, approvals or other regulatory requirements as applicable to the Rules, and all matters which may influence its decision to allow the licence to continue. "]
[]
[null,"Except for the following:"]
[]
[]
[5,"Audit Reporting Requirements"]
[]
[null,"This Return is accompanied by the Audited Financial Statements, the report of the auditor to the MFSA as per Rule \nR4-4.3.7 and a copy of the Management Letter as required by the MFSA.",null,null,null,null,null,null,null,null,null,{"$f":"IF(NOT(ISBLANK(K78)),1,0)","v":0}]
[]
[6,"Signatures"]
[]
[null,"Signed on behalf of Licence Holder by authorised signatories:"]
[]
[null,1]
[]
[null,null,"Original Signature",null,null,null,null,null,"Date"]
[]
[null,null,null,null,null,null,{"$f":"IF(NOT(ISBLANK(C88)),1,0)","v":0},null,null,{"$f":"IF(NOT(ISBLANK(I88)),1,0)","v":0}]
[null,null,"Name & Surname",null,null,null,null,null,"Capacity"]
[]
[]
[null,2]
[]
[null,null,"Original Signature",null,null,null,null,null,"Date"]
[]
[null,null,null,null,null,null,{"$f":"IF(NOT(ISBLANK(C96)),1,0)","v":0},null,null,{"$f":"IF(NOT(ISBLANK(I96)),1,0)","v":0}]
[null,null,"Name & Surname",null,null,null,null,null,"Capacity",null,null,null,null,null,{"$f":"IF(G96+J96+J93+G88+J88+J85+L78+L59+L57+L55+L22+L17+L15+L13+L11>=12.6,\"OK\",\"ERROR\")","v":"ERROR"}]
[]
[7,"Auditor's Confirmation"]
[]
[null,"This Section must be filled only if the return is an Audited Return. It should be completed by the Audit Partner/ Manager in charge. "]
[]
[null,"We the undersigned Auditors confirm that this Financial Return for Category 1 / 4b, is in accordance with the same original signed Audited Financial Statmetns presented to the MFSA in accordance with R4-4.3.1 of Part BI of the Rules."]
[]
[null,null,null,null,null,null,null,null,null,{"$f":"IF(NOT(ISBLANK(K80)),0,1)","v":1}]
[]
[null,null,"Original Signature",null,null,null,null,null,"Date"]
[]
[null,null,null,null,null,null,{"$f":"IF(OR('COVER SHEET'!B13=\"Interim Financial Return\",'COVER SHEET'!B14=\"Unaudited\"),-0.0001,IF(NOT(ISBLANK(C109)),1,0))","v":0},null,null,{"$f":"IF(OR('COVER SHEET'!B13=\"Interim Financial Return\",'COVER SHEET'!B14=\"Unaudited\"),-0.0001,IF(NOT(ISBLANK(I109)),1,0))","v":0},null,null,null,null,"Manager"]
[null,null,"Name & Surname",null,null,null,null,null,"Capacity",null,null,null,null,null,"Partner"]
[]
[null,"All cells highlighted in blue require input, if NOT applicable enter \"0\".  This sheet will not be validated unless all red indicators turn green."]
[null,null,null,null,null,null,null,null,null,null,null,null,null,null,{"$f":"IF(J109+J106+G109+G96+J96+J93+G88+J88+J85+L78+L59+L57+L55+L22+L17+L15+L13+L11>=14.6,\"OK\",\"ERROR\")","v":"ERROR"}]

{"sheet":"VALIDATION SHEET","index":41,"n_rows":48,"n_cols":8,"rows_kept":48,"cut":false,"hidden":false,"merged":[[27,3,28,3],[46,3,47,3],[30,3,32,3],[42,3,44,3],[39,3,40,3],[36,3,37,3]]}
[]
[]
[null,"Validation Sheet"]
[]
[]
[null,null,null,"Sheet Title",null,"Description of Error"]
[null,null,null,"Cover Sheet",{"$f":"IF(E29=\"OK\",1,0)","v":0},{"$f":"IF(E29=\"OK\",\"\",F29)","v":"Input all required fields."}]
[]
[null,1,null,"Input Sheet - (Mandatory)",{"$f":"IF(AND(E31=\"OK\",E32=\"OK\",E33=\"OK\"),1,0)","v":0},{"$f":"IF(E31=\"OK\",\"\",F31)","v":""},{"$f":"IF(E32=\"OK\",\"\",F32)","v":"Check Validated entries within the Input Sheet.  "},{"$f":"IF(E33=\"OK\",\"\",F33)","v":""}]
[]
[null,2,null,"Income Statement",{"$f":"IF(E35=\"OK\",1,0)","v":1},{"$f":"IF(E35=\"OK\",\"\",F35)","v":""}]
[]
[null,3,null,"Balance Sheet",{"$f":"IF(AND(E37=\"OK\",E38=\"OK\"),1,0)","v":1},{"$f":"IF(E37=\"OK\",\"\",F37)","v":""},{"$f":"IF(E38=\"OK\",\"\",F38)","v":""}]
[]
[null,4,null,"Own Funds Calculation",{"$f":"IF(AND(E40=\"OK\",E41=\"OK\"),1,0)","v":1},{"$f":"IF(E40=\"OK\",\"\",F40)","v":""},{"$f":"IF(E41=\"OK\",\"\",F41)","v":""}]
[]
[null,5,null,"Fixed Overhead Requirement",{"$f":"IF(AND(E43=\"OK\",E44=\"OK\",E45=\"OK\"),1,0)","v":0},{"$f":"IF(E43=\"OK\",\"\",F43)","v":"Check number of months that are represented in the recent Audited Financial Statements."},{"$f":"IF(E44=\"OK\",\"\",F44)","v":"Answer question about Tied Agents."},{"$f":"IF(E45=\"OK\",\"\",F45)","v":"Specify the applicable fees for Tied Agents."}]
[]
[null,7,null,"Representations - (Manadatory)",{"$f":"IF(OR(E47= \"OK\",E48=\"OK\"),1,0)","v":0},{"$f":"IF(OR(E47= \"OK\",E48=\"OK\"),\"\",F47)","v":"Input all required fields."}]
[]
[null,8,null,"Annual Supervisory Fee Calcutor (AAFR only)",{"$f":"IF(SUM(G22:G23)=2,1,0)","v":1}]
[null,null,null,null,null,{"$f":"IF('Supervisory Fee Calculator'!F19=1,\"OK\",\"ERROR\")","v":"OK"},{"$f":"IF(F22=\"OK\",1,0)","v":1}]
[null,null,null,null,null,{"$f":"IF('Supervisory Fee Calculator'!F22=1,\"OK\",\"ERROR\")","v":"OK"},{"$f":"IF(F23=\"OK\",1,0)","v":1}]
[]
[]
[]
[]
[null,null,null,"Cover Sheet"]
[null,null,null,null,{"$f":"IF('COVER SHEET'!D41=12,\"OK\",0)","v":0},"Input all required fields."]
[]
[null,null,null,"Input Sheet",{"$f":"IF('Input Sheet'!D378>0,\"ERROR\",IF('Input Sheet'!D378<0,\"ERROR\",\"OK\"))","v":"OK"},"Trial Balance should have a nil balance.  "]
[null,null,null,null,{"$f":"IF('Input Sheet'!O437=\"1\",\"OK\",\"ERROR\")","v":"ERROR"},"Check Validated entries within the Input Sheet.  "]
[null,null,null,null,{"$f":"+IF('Input Sheet'!D387>'Input Sheet'!D385,\"ERROR\",IF('Input Sheet'!D392>'Input Sheet'!D390,\"ERROR\",\"OK\"))","v":"OK"},"Check Section '6a' of the Input Sheet. "]
[]
[null,null,null,"Income Statement","OK"]
[]
[null,null,null,"Balance Sheet",{"$f":"IF('Balance Sheet'!K29='Balance Sheet'!K69,\"OK\",\"ERROR\")","v":"OK"},"Balance Sheet does not equate.  Check Input Sheet entries."]
[null,null,null,null,"OK"]
[]
[null,null,null,"Own Funds Calculation",{"$f":"IF('Memorandum Items'!F17>='Fixed Overhead Requirement'!J23,\"OK\",\"ERROR\")","v":"OK"},"Eligible Capital must be at least equal to Fixed Overhead Requirement."]
[null,null,null,null,{"$f":"IF('Own Funds Calculation'!E9<'Financial Resources Requirement'!J24,\"ERROR\",\"OK\")","v":"OK"},"Own Funds cannot be less than Capital Resources Requirement."]
[]
[null,null,null,"Fixed Overhead Requirement",{"$f":"IF('Fixed Overhead Requirement'!H8>1,\"OK\",\"ERROR\")","v":"ERROR"},"Check number of months that are represented in the recent Audited Financial Statements.","Ensures that all months are represented in the recent AFS."]
[null,null,null,null,{"$f":"IF('Fixed Overhead Requirement'!G37=\"\",\"ERROR\",\"OK\")","v":"ERROR"},"Answer question about Tied Agents."]
[null,null,null,null,{"$f":"IF(OR('Fixed Overhead Requirement'!G37=\"NO\",AND('Fixed Overhead Requirement'!G37=\"YES\",'Fixed Overhead Requirement'!I37>0)),\"OK\",\"ERROR\")","v":"ERROR"},"Specify the applicable fees for Tied Agents."]
[]
[null,null,null,"Representations",{"$f":"IF(OR('COVER SHEET'!B14=\"Unaudited\",'COVER SHEET'!B13=\"Interim Financial Return\"),(IF(Representations!O97=\"OK\",\"OK\",\"ERROR\")),E48)","v":"ERROR"},"Input all required fields.",null,"Interim Validation count."]
[null,null,null,null,{"$f":"IF(AND('COVER SHEET'!B14=\"Audited\",Representations!O113=\"OK\"),\"OK\",\"ERROR\")","v":"ERROR"},null,null,"Annual Audit Validation count."]

{"sheet":"Applicable Percentages","index":42,"n_rows":43,"n_cols":7,"rows_kept":43,"cut":false,"hidden":true,"merged":[[0,0,0,1],[13,0,13,1],[29,0,29,2],[37,0,37,2]]}
["GrandFathering Instruments",null,"464(5)"]
[2013,0.9]
[{"$f":"A2+1","v":2014},{"$f":"B2-10%","v":0.8}]
[{"$f":"A3+1","v":2015},{"$f":"B3-10%","v":0.70000000000000007}]
[2016,0.60000000000000009]
[2017,0.50000000000000011]
[2018,0.40000000000000013]
[2019,0.30000000000000016]
[2020,0.20000000000000015]
[2021,0.10000000000000014]
[null,null,null,null,100,{"$f":"IF((E11+E12-E13)>0,C1,C14)","v":"459(3)"}]
[null,null,null,null,2000]
[null,null,null,null,3000]
[" Capital instruments and items that do not qualify as minority interests",null,"459(3)"]
[2013,1]
[{"$f":"A15+1","v":2014},0.8]
[{"$f":"A16+1","v":2015},0.6]
[{"$f":"A17+1","v":2016},0.4,null,null,null,null,1]
[{"$f":"A18+1","v":2017},0.2,null,null,null,null,2]
[null,null,null,null,null,null,3]
[null,null,null,null,null,null,4]
["Transitional recognition in consolidated own funds of minority interests",null,"460(2)",null,null,null,5]
[2013,0]
[2014,0.2]
[2015,0.4]
[2016,0.6]
[2017,0.8]
[]
[]
["Unrealised Gains and Losses"]
[null,"Gains (468)","Losses (467)"]
[2013,0,1]
[2014,1,1]
[2015,0.6,1]
[2016,0.4,1]
[2017,0.2,1]
[]
["Article 458 of CRR"]
[2013,1]
[2014,1]
[2015,1]
[2016,1]
[2017,1]

{"sheet":"Subordinated Loan Working","index":43,"n_rows":95,"n_cols":9,"rows_kept":95,"cut":false,"hidden":true,"merged":[[3,1,3,7],[35,1,35,7],[67,1,67,7]]}
[]
[]
[]
[null,"SUBORDINATED LOAN 1 - Perpetual"]
[]
[null,"As at ",{"$f":"'COVER SHEET'!C24","v":"00:00:00"}]
[]
[null,"Subordinated Loan General Information"]
[]
[null,"Nominal Amount",null,null,null,null,null,null,{"$f":"ABS('Input Sheet'!D344)","v":0}]
[]
[]
[]
[]
[]
[]
[]
[]
[]
[]
[]
[]
[]
[]
[]
[]
[]
[]
[]
[]
[null,"Subordianted Loan Capital",null,null,null,null,null,null,{"$f":"I10","v":0}]
[]
[]
[]
[]
[null,"SUBORDINATED LOAN 2 - Fixed Term"]
[]
[null,"As at ",{"$f":"'COVER SHEET'!C24","v":"00:00:00"}]
[]
[null,"Subordinated Loan General Information"]
[]
[null,"Nominal Amount",null,null,null,null,null,null,{"$f":"ABS('Input Sheet'!D345)","v":0}]
[]
[]
[null,"Subordinated Loan Period Calculation"]
[null,"Date Issued",null,null,null,null,{"$f":"IF('Input Sheet'!D345<0,'Input Sheet'!F345,\"\")","v":""}]
[null,"Maturity Date",null,null,null,null,{"$f":"IF('Input Sheet'!D345<0,'Input Sheet'!G345,\"\")","v":""}]
[null,"No. of days",null,null,null,null,{"$f":"IF('Input Sheet'!D345<0,G47-G46,\"\")","v":""}]
[]
[]
[null,"No. of Days to maturity as at reporting period",{"$f":"C38","v":"00:00:00"},null,null,null,{"$f":"IF('Input Sheet'!D345<0,G47-C38,\"\")","v":""}]
[null,"No. of Years to maturity as at reporting Period",{"$f":"C38","v":"00:00:00"},null,null,null,{"$f":"IF('Input Sheet'!D345<0,G51/365,\"\")","v":""}]
[]
[]
[null,"Subordinated Loan General Information"]
[]
[null,"Nominal amount of Subordinated Loan  for the final five year period",null,null,null,null,null,null,{"$f":"IF(G52<5,I42,\"\")","v":""}]
[]
[null,"Number of Calendar days in a 5 year period",null,null,null,null,{"$f":"IF(G52<5,(365*5),\"\")","v":""}]
[]
[null,"No. of Days to maturity as at reporting Period",{"$f":"C38","v":"00:00:00"},null,null,null,{"$f":"IF(G52<5,G51,\"\")","v":""}]
[]
[null,"Amortisation of Subordianted Loan Capital",null,null,null,null,null,null,{"$f":"IF(I57=\"\",0,(IF('Input Sheet'!D345<0,(I57/G59)*G61,0)))","v":0}]
[]
[]
[]
[]
[null,"SUBORDINATED LOAN 3 - Fixed Term"]
[]
[null,"As at ",{"$f":"'COVER SHEET'!C24","v":"00:00:00"}]
[]
[null,"Subordinated Loan General Information"]
[]
[null,"Nominal Amount",null,null,null,null,null,null,{"$f":"ABS('Input Sheet'!D346)","v":0}]
[]
[]
[null,"Subordinated Loan Period Calculation"]
[null,"Date Issued",null,null,null,null,{"$f":"IF('Input Sheet'!D346<0,'Input Sheet'!F346,\"\")","v":""}]
[null,"Maturity Date",null,null,null,null,{"$f":"IF('Input Sheet'!D346<0,'Input Sheet'!G346,\"\")","v":""}]
[null,"No. of days",null,null,null,null,{"$f":"IF('Input Sheet'!D346<0,G79-G78,\"\")","v":""}]
[]
[]
[null,"No. of Days to maturity as at reporting period",{"$f":"C70","v":"00:00:00"},null,null,null,{"$f":"IF('Input Sheet'!D346<0,G79-C70,\"\")","v":""}]
[null,"No. of Years to maturity as at reporting Period",{"$f":"C70","v":"00:00:00"},null,null,null,{"$f":"IF('Input Sheet'!D346<0,G83/365,\"\")","v":""}]
[]
[]
[null,"Subordinated Loan General Information"]
[]
[null,"Nominal amount of Subordinated Loan  for the final five year period",null,null,null,null,null,null,{"$f":"IF(G84<5,I74,\"\")","v":""}]
[]
[null,"Number of Calendar days in a 5 year period",null,null,null,null,{"$f":"IF(G84<5,(365*5),\"\")","v":""}]
[]
[null,"No. of Days to maturity as at reporting Period",{"$f":"C70","v":"00:00:00"},null,null,null,{"$f":"IF(G84<5,G83,\"\")","v":""}]
[]
[null,"Amortisation of Subordianted Loan Capital",null,null,null,null,null,null,{"$f":"IF(I89=\"\",0,IF('Input Sheet'!D346<0,(I89/G91)*G93,0))","v":0}]